Workbook
Name B: #REF!
Name CELLNOTE4: [1]노무비!#REF!
Name CELLNOTE4: [1]노무비!#REF!
Name CELLNOTE5: [2]노무비!#REF!
Name CELLNOTE5: [2]노무비!#REF!
Name CELLNOTE6: [1]노무비!#REF!
Name CELLNOTE6: [1]노무비!#REF!
Name CR: #REF!
Name CRa: #REF!
Name CRb: #REF!
Name GONGJONG: #REF!
Name Main: #REF!
Name MAINPART: #REF!
Name MAINPART: #REF!
Name mf: #REF!
Name mf: #REF!
Name PRINT_AREA_MI: #REF!
Name SChonsei: #REF!
Name SubDic: #REF!
Name TChonsei: #REF!
Name TDeposit: #REF!
Name TRent: #REF!
Name ㄹㄴㅇㄹㄴㅇㄹ: '[3]인원계획-미화'!#REF!
Name ㄹㄴㅇㄹㄴㅇㄹ: '[3]인원계획-미화'!#REF!
Name 반대탭: [4]시설장비!#REF!
Name 반대탭: [4]시설장비!#REF!
Name 연봉: '[3]인원계획-미화'!#REF!
Name 연봉: '[3]인원계획-미화'!#REF!

Sheet 원가계산
A1: 공 사 원 가 계 산 서
A2: 공 사 명 : | C2: 양평우체국 임시청사 영업과 조성공사
A3: 비 목 | D3: 금 액 | E3: 구 성 비 | H3: 비 고 | I3: 공사기간:1개월 이하
B4: 재 료 비 | C4: 직 접 재 료 비 | D4: =공종별집계표!F5 -> 25106990
A5: 순 | C5: 간 접 재 료 비
C6: 작업설,부산물(△)
C7: [ 소 계 ] | D7: =SUM(D4-D6) -> 25106990
A8: 공 | B8: 노 | C8: 직 접 노 무 비 | D8: =공종별집계표!H5 -> 11830907
B9: 무 | C9: 간 접 노 무 비 | D9: =INT(D8*F9) -> 946472 | E9: 직접노무비 * | F9: 0.08
B10: 비 | C10: [ 소 계 ] | D10: =INT((D8+D9)*1) -> 12777379
C11: 운 반 비
A12: 사 | B12: 경 | C12: 기 계 경 비 | D12: =공종별집계표!J5 -> 957836
C13: 산 재 보 험 료 | D13: =INT(D10*F13) -> 479151 | E13: 노무비 * | F13: 0.0375
C14: 고 용 보 험 료 | D14: =INT(D10*F14) -> 111163 | E14: 노무비 * | F14: 0.0087
C15: 퇴직 공제 부금비 | D15: =INT(D8*F15) -> 0 | E15: 직접노무비 * | F15: 0 | H15: 3억이상공사적용
C16: 건강보험료 | D16: =INT(D8*F16) -> 0 | E16: 직접노무비 * | F16: 0 | H16: 1개월이상공사적용함
A17: 원 | C17: 연금보험료 | D17: =INT(D8*F17) -> 0 | E17: 직접노무비 * | F17: 0 | H17: 1개월이상공사적용함
C18: 노인장기용양보험료 | D18: =INT(D16*F18) -> 0 | E18: 건강보험료 * | F18: 0 | H18: 1개얼이상공사적용함
C19: 공사이행보증수수료
C20: 건설하도급대금 지급보증서발급수수료 | E20: (재료비+직접노무비+산출경비) * | F20: 0.00081 | H20: 50억미만(추정가격)
C21: 건설기계대여대금 지급보증서발급수수료 | E21: (재료비+직접노무비+산출경비) * | F21: 0.001
C22: 산업안전보건관리비 | D22: =MIN(D24:D25) -> 1082280 | E22: ※도급자관급포함시: ⓑ와 ⓒ 비교후 적은금액 적용(총괄기준)
C23: ⓐ. 일 반 경 우 | D23: =INT((D4+D8)*F23) -> 1082280 | E23: (재료비+직접노무비) * | F23: 0.0293
C24: ⓑ. ⓐ 의 1.2배 | D24: =INT(D23*1.2) -> 1298736 | E24: ⓐ x 1.2
C25: ⓒ.[직재+직노+도급자관급] | D25: =INT((D7+D8+D40/1.1)*$F$23) -> 1082280 | E25: (재료비+직접노무비+도급자관급) * | F25: =+F23 -> 0.0293 | H25: 도급자관급 : 부가세 및 수수료제외
A26: 가 | B26: 비 | C26: 기 타 경 비 | D26: =INT((D7+D10)*F26) -> 1072127 | E26: (재료비+노무비) * | F26: 0.0283
C27: 환경보전비 | D27: =INT(SUM(D7+D8+D11+D12)*F27) -> 113687 | E27: (재료비+직접노무비+산출경비) * | F27: 0.003
C28: [ 소 계 ] | D28: =SUM(D11:D27)-D23-D24-D25 -> 3816244
A29: 계 | D29: =INT((D7+D10+D28)*1) -> 41700613
A30: 일 반 관 리 비 | D30: =INT(D29*F30) -> 2502036 | E30: 계 * | F30: 0.06
A31: 이 윤 | D31: =INT(((D10+D28+D30)*F31)*1)-3259 -> 2494453 | E31: (노무비+경비+일반관리비) * | F31: 0.1308 | H31: 단수정리
A32: 실내공기측정비 | D32: 0
A33: 폐기물처리비/100톤미만 | D33: 0
D34: 0
A35: 폐기물처리비/100톤미만
A36: 공 급 가 액 | D36: =ROUNDDOWN(SUM(D29:D35),0) -> 46697102
A37: 부 가 가 치 세 | D37: =INT(SUM(+D36*F37)) -> 4669710 | E37: 공급가액 * | F37: 0.1
A38: 친환경본인증 수수료
A39: 설 계 금 액 | D39: =ROUNDDOWN(SUM(D36:D38),-3) -> 51366000 | H39: 천단위 조정
C41: 순공사비계 | D41: =+D4+D8+D12 -> 37895733
...

Sheet 공종별집계표
A1: 공 종 별 집 계 표
A2: [ 양평우체국임시청사영업과조성공사 ]
A3: 품 명 | B3: 규 격 | C3: 단위 | D3: 수량 | E3: 재 료 비 | G3: 노 무 비 | I3: 경 비 | K3: 합 계 | M3: 비 고 | N3: 공종코드 | O3: 변수 | P3: 상위공종 | Q3: 공종구분 | R3: 공종레벨 | S3: 공종소계 | T3: 원가계산서 연결금액
E4: 단 가 | F4: 금 액 | G4: 단 가 | H4: 금 액 | I4: 단 가 | J4: 금 액 | K4: 단 가 | L4: 금 액
A5: 01 양평우체국임시청사영업과조성공사 | D5: 1 | E5: =F6+F16 -> 25106990 | F5: =E5*D5 -> 25106990 | G5: =H6+H16 -> 11830907 | H5: =G5*D5 -> 11830907 | I5: =J6+J16 -> 957836 | J5: =I5*D5 -> 957836 | K5: =E5+G5+I5 -> 37895733 | L5: =F5+H5+J5 -> 37895733 | N5: 01 | R5: 1
A6: 0101 01.내부공사 | D6: 1 | E6: =F7+F8+F9+F10+F11+F12+F13+F14+F15 -> 17454592 | F6: =E6*D6 -> 17454592 | G6: =H7+H8+H9+H10+H11+H12+H13+H14+H15 -> 8807969 | H6: =G6*D6 -> 8807969 | I6: =J7+J8+J9+J10+J11+J12+J13+J14+J15 -> 134902 | J6: =I6*D6 -> 134902 | K6: =E6+G6+I6 -> 26397463 | L6: =F6+H6+J6 -> 26397463 | N6: 0101 | P6: 01 | R6: 2
A7: 010101 가 설 공 사 | D7: 1 | E7: =공종별내역서!F27 -> 0 | F7: =E7*D7 -> 0 | G7: =공종별내역서!H27 -> 728574 | H7: =G7*D7 -> 728574 | I7: =공종별내역서!J27 -> 0 | J7: =I7*D7 -> 0 | K7: =E7+G7+I7 -> 728574 | L7: =F7+H7+J7 -> 728574 | N7: 010101 | P7: 0101 | R7: 3
A8: 010103 목공사및수장공사 | D8: 1 | E8: =공종별내역서!F52 -> 6906455 | F8: =E8*D8 -> 6906455 | G8: =공종별내역서!H52 -> 2100726 | H8: =G8*D8 -> 2100726 | I8: =공종별내역서!J52 -> 81657 | J8: =I8*D8 -> 81657 | K8: =E8+G8+I8 -> 9088838 | L8: =F8+H8+J8 -> 9088838 | N8: 010103 | P8: 0101 | R8: 3
A9: 010104 방 수 공 사 | D9: 1 | E9: =공종별내역서!F76 -> 7910 | F9: =E9*D9 -> 7910 | G9: =공종별내역서!H76 -> 58758 | H9: =G9*D9 -> 58758 | I9: =공종별내역서!J76 -> 0 | J9: =I9*D9 -> 0 | K9: =E9+G9+I9 -> 66668 | L9: =F9+H9+J9 -> 66668 | N9: 010104 | P9: 0101 | R9: 3
A10: 010105 금 속 공 사 | D10: 1 | E10: =공종별내역서!F100 -> 10168 | F10: =E10*D10 -> 10168 | G10: =공종별내역서!H100 -> 35822 | H10: =G10*D10 -> 35822 | I10: =공종별내역서!J100 -> 1164 | J10: =I10*D10 -> 1164 | K10: =E10+G10+I10 -> 47154 | L10: =F10+H10+J10 -> 47154 | N10: 010105 | P10: 0101 | R10: 3
A11: 010106 미 장 공 사 | D11: 1 | E11: =공종별내역서!F123 -> 20150 | F11: =E11*D11 -> 20150 | G11: =공종별내역서!H123 -> 77430 | H11: =G11*D11 -> 77430 | I11: =공종별내역서!J123 -> 0 | J11: =I11*D11 -> 0 | K11: =E11+G11+I11 -> 97580 | L11: =F11+H11+J11 -> 97580 | N11: 010106 | P11: 0101 | R11: 3
A12: 010107 창호 및 유리공사 | D12: 1 | E12: =공종별내역서!F147 -> 3749096 | F12: =E12*D12 -> 3749096 | G12: =공종별내역서!H147 -> 353879 | H12: =G12*D12 -> 353879 | I12: =공종별내역서!J147 -> 3574 | J12: =I12*D12 -> 3574 | K12: =E12+G12+I12 -> 4106549 | L12: =F12+H12+J12 -> 4106549 | N12: 010107 | P12: 0101 | R12: 3
A13: 010108 칠 공 사 | D13: 1 | E13: =공종별내역서!F171 -> 376004 | F13: =E13*D13 -> 376004 | G13: =공종별내역서!H171 -> 2083220 | H13: =G13*D13 -> 2083220 | I13: =공종별내역서!J171 -> 24178 | J13: =I13*D13 -> 24178 | K13: =E13+G13+I13 -> 2483402 | L13: =F13+H13+J13 -> 2483402 | N13: 010108 | P13: 0101 | R13: 3
A14: 010109 철 거 공 사 | D14: 1 | E14: =공종별내역서!F195 -> 0 | F14: =E14*D14 -> 0 | G14: =공종별내역서!H195 -> 178710 | H14: =G14*D14 -> 178710 | I14: =공종별내역서!J195 -> 3573 | J14: =I14*D14 -> 3573 | K14: =E14+G14+I14 -> 182283 | L14: =F14+H14+J14 -> 182283 | N14: 010109 | P14: 0101 | R14: 3
A15: 010112 365코너 공사 | D15: 1 | E15: =공종별내역서!F219 -> 6384809 | F15: =E15*D15 -> 6384809 | G15: =공종별내역서!H219 -> 3190850 | H15: =G15*D15 -> 3190850 | I15: =공종별내역서!J219 -> 20756 | J15: =I15*D15 -> 20756 | K15: =E15+G15+I15 -> 9596415 | L15: =F15+H15+J15 -> 9596415 | N15: 010112 | P15: 0101 | R15: 3
A16: 0103 02.외부공사 | D16: 1 | E16: =F17+F18+F19+F20+F21+F22+F23+F24 -> 7652398 | F16: =E16*D16 -> 7652398 | G16: =H17+H18+H19+H20+H21+H22+H23+H24 -> 3022938 | H16: =G16*D16 -> 3022938 | I16: =J17+J18+J19+J20+J21+J22+J23+J24 -> 822934 | J16: =I16*D16 -> 822934 | K16: =E16+G16+I16 -> 11498270 | L16: =F16+H16+J16 -> 11498270 | N16: 0103 | P16: 01 | R16: 2
A17: 010301 가 설 공 사 | D17: 1 | E17: =공종별내역서!F243 -> 0 | F17: =E17*D17 -> 0 | G17: =공종별내역서!H243 -> 79002 | H17: =G17*D17 -> 79002 | I17: =공종별내역서!J243 -> 0 | J17: =I17*D17 -> 0 | K17: =E17+G17+I17 -> 79002 | L17: =F17+H17+J17 -> 79002 | N17: 010301 | P17: 0103 | R17: 3
A18: 010302 토 및 지정공사 | D18: 1 | E18: =공종별내역서!F267 -> 3893 | F18: =E18*D18 -> 3893 | G18: =공종별내역서!H267 -> 11549 | H18: =G18*D18 -> 11549 | I18: =공종별내역서!J267 -> 2940 | J18: =I18*D18 -> 2940 | K18: =E18+G18+I18 -> 18382 | L18: =F18+H18+J18 -> 18382 | N18: 010302 | P18: 0103 | R18: 3
A19: 010303 철근콘크리트공사 | D19: 1 | E19: =공종별내역서!F291 -> 128430 | F19: =E19*D19 -> 128430 | G19: =공종별내역서!H291 -> 170492 | H19: =G19*D19 -> 170492 | I19: =공종별내역서!J291 -> 3297 | J19: =I19*D19 -> 3297 | K19: =E19+G19+I19 -> 302219 | L19: =F19+H19+J19 -> 302219 | N19: 010303 | P19: 0103 | R19: 3
A20: 010304 철 골 공 사 | D20: 1 | E20: =공종별내역서!F314 -> 877010 | F20: =E20*D20 -> 877010 | G20: =공종별내역서!H314 -> 1498081 | H20: =G20*D20 -> 1498081 | I20: =공종별내역서!J314 -> 491270 | J20: =I20*D20 -> 491270 | K20: =E20+G20+I20 -> 2866361 | L20: =F20+H20+J20 -> 2866361 | N20: 010304 | P20: 0103 | R20: 3
A21: 010305 지붕 및 홈통공사 | D21: 1 | E21: =공종별내역서!F338 -> 921600 | F21: =E21*D21 -> 921600 | G21: =공종별내역서!H338 -> 631456 | H21: =G21*D21 -> 631456 | I21: =공종별내역서!J338 -> 18912 | J21: =I21*D21 -> 18912 | K21: =E21+G21+I21 -> 1571968 | L21: =F21+H21+J21 -> 1571968 | N21: 010305 | P21: 0103 | R21: 3
A22: 010307 외부경사로 | D22: 1 | E22: =공종별내역서!F362 -> 445465 | F22: =E22*D22 -> 445465 | G22: =공종별내역서!H362 -> 632358 | H22: =G22*D22 -> 632358 | I22: =공종별내역서!J362 -> 6515 | J22: =I22*D22 -> 6515 | K22: =E22+G22+I22 -> 1084338 | L22: =F22+H22+J22 -> 1084338 | N22: 010307 | P22: 0103 | R22: 3
A23: 010308 외부 간판공사 | D23: 1 | E23: =공종별내역서!F386 -> 3446000 | F23: =E23*D23 -> 3446000 | G23: =공종별내역서!H386 -> 0 | H23: =G23*D23 -> 0 | I23: =공종별내역서!J386 -> 300000 | J23: =I23*D23 -> 300000 | K23: =E23+G23+I23 -> 3746000 | L23: =F23+H23+J23 -> 3746000 | N23: 010308 | P23: 0103 | R23: 3
A24: 010309 외부 전동어닝공사 | D24: 1 | E24: =공종별내역서!F410 -> 1830000 | F24: =E24*D24 -> 1830000 | G24: =공종별내역서!H410 -> 0 | H24: =G24*D24 -> 0 | I24: =공종별내역서!J410 -> 0 | J24: =I24*D24 -> 0 | K24: =E24+G24+I24 -> 1830000 | L24: =F24+H24+J24 -> 1830000 | N24: 010309 | P24: 0103 | R24: 3
A27: [ 합 계 ] | F27: =F5 -> 25106990 | H27: =H5 -> 11830907 | J27: =J5 -> 957836 | L27: =L5 -> 37895733

Sheet 공종별내역서
A1: [ 양평우체국임시청사영업과조성공사 ]
A2: 품 명 | B2: 규 격 | C2: 단위 | D2: 수량 | E2: 재 료 비 | G2: 노 무 비 | I2: 경 비 | K2: 합 계 | M2: 비 고 | N2: 품목코드 | O2: 변수 | P2: 설정 | Q2: 공종코드 | R2: 일위 | S2: 단산 | T2: 자재 | U2: 손료적용 | V2: 손료저장 | W2: 적용율 | X2: JUK1 | Y2: JUK2 | Z2: JUK3 | AA2: JUK4 | AB2: JUK5 | AC2: JUK6 | AD2: JUK7 | AE2: JUK8 | AF2: JUK9 | AG2: JUK10 | AH2: JUK11 | AI2: JUK12 | AJ2: JUK13 | AK2: JUK14 | AL2: JUK15 | AM2: JUK16 | AN2: JUK17 | AO2: JUK18 | AP2: JUK19 | AQ2: JUK20 | AR2: 자재구분 | AS2: 공종구분 | AT2: 공종레벨 | AU2: 공종+자재 | AV2: 고유번호
E3: 단 가 | F3: 금 액 | G3: 단 가 | H3: 금 액 | I3: 단 가 | J3: 금 액 | K3: 단 가 | L3: 금 액
A4: 010101 가 설 공 사 | Q4: 010101
A5: 건축물 현장정리 | B5: 보수 | C5: M2 | D5: 166 | E5: =TRUNC(일위대가목록!E4,0) -> 0 | F5: =TRUNC(E5*D5, 0) -> 0 | G5: =TRUNC(일위대가목록!F4,0) -> 4389 | H5: =TRUNC(G5*D5, 0) -> 728574 | I5: =TRUNC(일위대가목록!G4,0) -> 0 | J5: =TRUNC(I5*D5, 0) -> 0 | K5: =TRUNC(E5+G5+I5, 0) -> 4389 | L5: =TRUNC(F5+H5+J5, 0) -> 728574 | M5: 호표 1 | N5: 5B00560B3E219A7C4FFFE39659FF89 | Q5: 010101 | R5: T | S5: F | T5: F | AU5: 0101015B00560B3E219A7C4FFFE39659FF89 | AV5: 4
A27: [ 합 계 ] | F27: =SUM(F5:F26) -> 0 | H27: =SUM(H5:H26) -> 728574 | J27: =SUM(J5:J26) -> 0 | L27: =SUM(L5:L26) -> 728574 | N27: TOTAL
A28: 010102 목공사및수장공사 | Q28: 010103
A29: 조립식패널 | B29: 조립식패널, SGP칸막이, A형 | C29: M2 | D29: 9 | E29: =TRUNC(단가대비표!O46,0) -> 62000 | F29: =TRUNC(E29*D29, 0) -> 558000 | G29: =TRUNC(단가대비표!P46,0) -> 0 | H29: =TRUNC(G29*D29, 0) -> 0 | I29: =TRUNC(단가대비표!V46,0) -> 0 | J29: =TRUNC(I29*D29, 0) -> 0 | K29: =TRUNC(E29+G29+I29, 0) -> 62000 | L29: =TRUNC(F29+H29+J29, 0) -> 558000 | M29: 시공도 | N29: 5C24D6D36341971083CA235A52801690415C70 | Q29: 010103 | R29: F | S29: F | T29: T | AU29: 0101035C24D6D36341971083CA235A52801690415C70 | AV29: 11
A30: 전기온돌판넬설치 | C30: M2 | D30: 9 | E30: 59250 | F30: =TRUNC(E30*D30, 0) -> 533250 | G30: 13975 | H30: =TRUNC(G30*D30, 0) -> 125775 | I30: =TRUNC(일위대가목록!G6,0) -> 0 | J30: =TRUNC(I30*D30, 0) -> 0 | K30: =TRUNC(E30+G30+I30, 0) -> 73225 | L30: =TRUNC(F30+H30+J30, 0) -> 659025 | M30: 호표 3 | N30: 5B0036C3513191BE5DB1E3025ACACC | Q30: 010103 | R30: T | S30: F | T30: F | AU30: 0101035B0036C3513191BE5DB1E3025ACACC | AV30: 132
A31: 온도조절기 | C31: EA | D31: 1 | E31: 40000 | F31: =TRUNC(E31*D31, 0) -> 40000 | G31: =TRUNC(일위대가목록!F7,0) -> 0 | H31: =TRUNC(G31*D31, 0) -> 0 | I31: =TRUNC(일위대가목록!G7,0) -> 0 | J31: =TRUNC(I31*D31, 0) -> 0 | K31: =TRUNC(E31+G31+I31, 0) -> 40000 | L31: =TRUNC(F31+H31+J31, 0) -> 40000 | M31: 호표 4 | N31: 5B0036C3513191BE5DB1E3025ACACF | Q31: 010103 | R31: T | S31: F | T31: F | AU31: 0101035B0036C3513191BE5DB1E3025ACACF | AV31: 133
A32: 장판지 깔기 | B32: 3.0mm, 지정용 | C32: M2 | D32: 9 | E32: 19362 | F32: =TRUNC(E32*D32, 0) -> 174258 | G32: 3529 | H32: =TRUNC(G32*D32, 0) -> 31761 | I32: =TRUNC(일위대가목록!G8,0) -> 0 | J32: =TRUNC(I32*D32, 0) -> 0 | K32: =TRUNC(E32+G32+I32, 0) -> 22891 | L32: =TRUNC(F32+H32+J32, 0) -> 206019 | M32: 호표 5 | N32: 5B00B6F915219507CB28739C5D4AA6 | Q32: 010103 | R32: T | S32: F | T32: F | AU32: 0101035B00B6F915219507CB28739C5D4AA6 | AV32: 134
A33: 재료분리대 설치 | B33: 코너목재,ㄱ,20t100*82 | C33: M | D33: 3 | E33: =TRUNC(일위대가목록!E9,0) -> 13640 | F33: =TRUNC(E33*D33, 0) -> 40920 | G33: =TRUNC(일위대가목록!F9,0) -> 1931 | H33: =TRUNC(G33*D33, 0) -> 5793 | I33: =TRUNC(일위대가목록!G9,0) -> 38 | J33: =TRUNC(I33*D33, 0) -> 114 | K33: =TRUNC(E33+G33+I33, 0) -> 15609 | L33: =TRUNC(F33+H33+J33, 0) -> 46827 | M33: 호표 6 | N33: 5B00D6C4D78190781AB8334D544155 | Q33: 010103 | R33: T | S33: F | T33: F | AU33: 0101035B00D6C4D78190781AB8334D544155 | AV33: 135
A34: 건식벽 설치(C-STUD) | B34: 벽,100t,9.5t*2겹,양면 | C34: M2 | D34: 77 | E34: =TRUNC(일위대가목록!E10,0) -> 18351 | F34: =TRUNC(E34*D34, 0) -> 1413027 | G34: =TRUNC(일위대가목록!F10,0) -> 25161 | H34: =TRUNC(G34*D34, 0) -> 1937397 | I34: =TRUNC(일위대가목록!G10,0) -> 1059 | J34: =TRUNC(I34*D34, 0) -> 81543 | K34: =TRUNC(E34+G34+I34, 0) -> 44571 | L34: =TRUNC(F34+H34+J34, 0) -> 3431967 | M34: 호표 7 | N34: 5B00B6FBC3519EE104C8738458E7DD | Q34: 010103 | R34: T | S34: F | T34: F | AU34: 0101035B00B6FBC3519EE104C8738458E7DD | AV34: 16
A35: 롤블라인드설치 | B35: 방염 | C35: M2 | D35: 67 | E35: 26000 | F35: =TRUNC(E35*D35, 0) -> 1742000 | H35: =TRUNC(G35*D35, 0) -> 0 | I35: =TRUNC(일위대가목록!G11,0) -> 0 | J35: =TRUNC(I35*D35, 0) -> 0 | K35: =TRUNC(E35+G35+I35, 0) -> 26000 | L35: =TRUNC(F35+H35+J35, 0) -> 1742000 | N35: 5B0156FA9551939137CD23DF5BEE6D | Q35: 010103 | R35: T | S35: F | T35: F | AU35: 0101035B0156FA9551939137CD23DF5BEE6D | AV35: 17
A36: 롤스크린 설치 | B36: 900*2100 금융카운터 상부 | C36: M2 | D36: 2 | E36: 30000 | F36: =TRUNC(E36*D36, 0) -> 60000 | H36: =TRUNC(G36*D36, 0) -> 0 | K36: =TRUNC(E36+G36+I36, 0) -> 30000 | L36: =TRUNC(F36+H36+J36, 0) -> 60000
A37: 전면유리 방범필름 붙이기 | B37: 0.14 4mil 투명 UV99%차단 내후성 안전우선 | C37: M2 | D37: =D35 -> 67 | E37: 35000 | F37: =TRUNC(E37*D37, 0) -> 2345000 | H37: =TRUNC(G37*D37, 0) -> 0 | I37: =TRUNC(일위대가목록!G14,0) -> 0 | J37: =TRUNC(I37*D37, 0) -> 0 | K37: =TRUNC(E37+G37+I37, 0) -> 35000 | L37: =TRUNC(F37+H37+J37, 0) -> 2345000 | N37: 5B0156FA9551939137CD23DF5BEF09 | Q37: 010103 | R37: T | S37: F | T37: F | AU37: 0101035B0156FA9551939137CD23DF5BEF09 | AV37: 20
N38: 5B0156FA9551939137CD23DF5BEF0E | Q38: 010103 | R38: T | S38: F | T38: F | AU38: 0101035B0156FA9551939137CD23DF5BEF0E | AV38: 21
N39: 5B0156FA9551939137CD23DF5BEF0F | Q39: 010103 | R39: T | S39: F | T39: F | AU39: 0101035B0156FA9551939137CD23DF5BEF0F | AV39: 22
A52: [ 합 계 ] | F52: =SUM(F29:F51) -> 6906455 | H52: =SUM(H29:H51) -> 2100726 | J52: =SUM(J29:J51) -> 81657 | L52: =SUM(L29:L51) -> 9088838 | N52: TOTAL
A53: 010104 방 수 공 사 | Q53: 010104
A54: 수밀코킹(실리콘) | B54: 삼각, 10mm, 창호주위 | C54: M | D54: 14 | E54: =TRUNC(일위대가목록!E17,0) -> 565 | F54: =TRUNC(E54*D54, 0) -> 7910 | G54: =TRUNC(일위대가목록!F17,0) -> 4197 | H54: =TRUNC(G54*D54, 0) -> 58758 | I54: =TRUNC(일위대가목록!G17,0) -> 0 | J54: =TRUNC(I54*D54, 0) -> 0 | K54: =TRUNC(E54+G54+I54, 0) -> 4762 | L54: =TRUNC(F54+H54+J54, 0) -> 66668 | M54: 호표 14 | N54: 5B00C6D81B519D46D54313F8587DCF | Q54: 010104 | R54: T | S54: F | T54: F | AU54: 0101045B00C6D81B519D46D54313F8587DCF | AV54: 24
A76: [ 합 계 ] | F76: =SUM(F54:F75) -> 7910 | H76: =SUM(H54:H75) -> 58758 | J76: =SUM(J54:J75) -> 0 | L76: =SUM(L54:L75) -> 66668 | N76: TOTAL
A77: 010105 금 속 공 사 | Q77: 010105
A78: 스테인리스재료분리대 | B78: 바닥, W45*H20*1.5t | C78: M | D78: 2 | E78: =TRUNC(일위대가목록!E19,0) -> 5084 | F78: =TRUNC(E78*D78, 0) -> 10168 | G78: =TRUNC(일위대가목록!F19,0) -> 17911 | H78: =TRUNC(G78*D78, 0) -> 35822 | I78: =TRUNC(일위대가목록!G19,0) -> 582 | J78: =TRUNC(I78*D78, 0) -> 1164 | K78: =TRUNC(E78+G78+I78, 0) -> 23577 | L78: =TRUNC(F78+H78+J78, 0) -> 47154 | M78: 호표 16 | N78: 5B00B6FFBD21920E5A26F3275E3A5B | Q78: 010105 | R78: T | S78: F | T78: F | AU78: 0101055B00B6FFBD21920E5A26F3275E3A5B | AV78: 27
A100: [ 합 계 ] | F100: =SUM(F78:F99) -> 10168 | H100: =SUM(H78:H99) -> 35822 | J100: =SUM(J78:J99) -> 1164 | L100: =SUM(L78:L99) -> 47154 | N100: TOTAL
A101: 010106 미 장 공 사 | Q101: 010106
A102: 창호주위 모르타르 충전 | C102: M | D102: 7 | E102: =TRUNC(일위대가목록!E21,0) -> 0 | F102: =TRUNC(E102*D102, 0) -> 0 | G102: =TRUNC(일위대가목록!F21,0) -> 3436 | H102: =TRUNC(G102*D102, 0) -> 24052 | I102: =TRUNC(일위대가목록!G21,0) -> 0 | J102: =TRUNC(I102*D102, 0) -> 0 | K102: =TRUNC(E102+G102+I102, 0) -> 3436 | L102: =TRUNC(F102+H102+J102, 0) -> 24052 | M102: 호표 18 | N102: 5B008645AAA192F952E2E3675819B6 | Q102: 010106 | R102: T | S102: F | T102: F | AU102: 0101065B008645AAA192F952E2E3675819B6 | AV102: 30
A103: 창호주위 발포우레탄 충전 | C103: M | D103: 26 | E103: =TRUNC(일위대가목록!E22,0) -> 775 | F103: =TRUNC(E103*D103, 0) -> 20150 | G103: =TRUNC(일위대가목록!F22,0) -> 2053 | H103: =TRUNC(G103*D103, 0) -> 53378 | I103: =TRUNC(일위대가목록!G22,0) -> 0 | J103: =TRUNC(I103*D103, 0) -> 0 | K103: =TRUNC(E103+G103+I103, 0) -> 2828 | L103: =TRUNC(F103+H103+J103, 0) -> 73528 | M103: 호표 19 | N103: 5B008645AAA192F84C9793815161E5 | Q103: 010106 | R103: T | S103: F | T103: F | AU103: 0101065B008645AAA192F84C9793815161E5 | AV103: 31
A123: [ 합 계 ] | F123: =SUM(F102:F122) -> 20150 | H123: =SUM(H102:H122) -> 77430 | J123: =SUM(J102:J122) -> 0 | L123: =SUM(L102:L122) -> 97580 | N123: TOTAL
A124: 010107 창호 및 유리공사 | Q124: 010107
A125: FSD01[150*45*1.6T] | B125: 0.900 x 2.100 = 1.890 | C125: EA | D125: 1 | E125: =TRUNC(일위대가목록!E23,0) -> 175014 | F125: =TRUNC(E125*D125, 0) -> 175014 | G125: =TRUNC(일위대가목록!F23,0) -> 102512 | H125: =TRUNC(G125*D125, 0) -> 102512 | I125: =TRUNC(일위대가목록!G23,0) -> 2050 | J125: =TRUNC(I125*D125, 0) -> 2050 | K125: =TRUNC(E125+G125+I125, 0) -> 279576 | L125: =TRUNC(F125+H125+J125, 0) -> 279576 | M125: 호표 20 | N125: 5B008642DAB19E417C92037055EF93 | Q125: 010107 | R125: T | S125: F | T125: F | AU125: 0101075B008642DAB19E417C92037055EF93 | AV125: 42
A126: SSD01[100*45*1.5T,기밀성] | B126: 2.600 x 3.160 = 8.216 | C126: EA | D126: 1 | E126: =TRUNC(일위대가목록!E24,0) -> 1154440 | F126: =TRUNC(E126*D126, 0) -> 1154440 | G126: =TRUNC(일위대가목록!F24,0) -> 0 | H126: =TRUNC(G126*D126, 0) -> 0 | I126: =TRUNC(일위대가목록!G24,0) -> 0 | J126: =TRUNC(I126*D126, 0) -> 0 | K126: =TRUNC(E126+G126+I126, 0) -> 1154440 | L126: =TRUNC(F126+H126+J126, 0) -> 1154440 | M126: 호표 21 | N126: 5B008642DAB19E417C92037055EF95 | Q126: 010107 | R126: T | S126: F | T126: F | AU126: 0101075B008642DAB19E417C92037055EF95 | AV126: 43
A127: WD01[150*45] | B127: 0.900 x 2.100 = 1.890 | C127: EA | D127: 3 | E127: =TRUNC(일위대가목록!E25,0) -> 226800 | F127: =TRUNC(E127*D127, 0) -> 680400 | G127: =TRUNC(일위대가목록!F25,0) -> 0 | H127: =TRUNC(G127*D127, 0) -> 0 | I127: =TRUNC(일위대가목록!G25,0) -> 0 | J127: =TRUNC(I127*D127, 0) -> 0 | K127: =TRUNC(E127+G127+I127, 0) -> 226800 | L127: =TRUNC(F127+H127+J127, 0) -> 680400 | M127: 호표 22 | N127: 5B008642DAB19E417C92037055EF97 | Q127: 010107 | R127: T | S127: F | T127: F | AU127: 0101075B008642DAB19E417C92037055EF97 | AV127: 44
A128: 도어핸들 | B128: 스테인리스 | C128: 조 | D128: 4 | E128: =TRUNC(단가대비표!O75,0) -> 15000 | F128: =TRUNC(E128*D128, 0) -> 60000 | G128: =TRUNC(단가대비표!P75,0) -> 0 | H128: =TRUNC(G128*D128, 0) -> 0 | I128: =TRUNC(단가대비표!V75,0) -> 0 | J128: =TRUNC(I128*D128, 0) -> 0 | K128: =TRUNC(E128+G128+I128, 0) -> 15000 | L128: =TRUNC(F128+H128+J128, 0) -> 60000 | N128: 5C24C6CA40319DA6DB0913BC541161440D6F5B | Q128: 010107 | R128: F | S128: F | T128: T | AU128: 0101075C24C6CA40319DA6DB0913BC541161440D6F5B | AV128: 39
A129: 도어록 설치 | B129: 목재문, 재료비 별도 | C129: 개소 | D129: 3 | E129: =TRUNC(일위대가목록!E26,0) -> 0 | F129: =TRUNC(E129*D129, 0) -> 0 | G129: =TRUNC(일위대가목록!F26,0) -> 3563 | H129: =TRUNC(G129*D129, 0) -> 10689 | I129: =TRUNC(일위대가목록!G26,0) -> 71 | J129: =TRUNC(I129*D129, 0) -> 213 | K129: =TRUNC(E129+G129+I129, 0) -> 3634 | L129: =TRUNC(F129+H129+J129, 0) -> 10902 | M129: 호표 23 | N129: 5B008645AF2197892046132657E0A8 | Q129: 010107 | R129: T | S129: F | T129: F | AU129: 0101075B008645AF2197892046132657E0A8 | AV129: 45
A130: 도어록 설치 | B130: 강재문, 재료비 별도 | C130: 개소 | D130: 1 | E130: =TRUNC(일위대가목록!E27,0) -> 0 | F130: =TRUNC(E130*D130, 0) -> 0 | G130: =TRUNC(일위대가목록!F27,0) -> 2062 | H130: =TRUNC(G130*D130, 0) -> 2062 | I130: =TRUNC(일위대가목록!G27,0) -> 41 | J130: =TRUNC(I130*D130, 0) -> 41 | K130: =TRUNC(E130+G130+I130, 0) -> 2103 | L130: =TRUNC(F130+H130+J130, 0) -> 2103 | M130: 호표 24 | N130: 5B008645AF219789204503B755284F | Q130: 010107 | R130: T | S130: F | T130: F | AU130: 0101075B008645AF219789204503B755284F | AV130: 46
A131: 도어클로저 | B131: 도어클로저, K-2840, KS4호, 고급방화, 60∼85kg | C131: 조 | D131: 1 | E131: =TRUNC(단가대비표!O55,0) -> 80800 | F131: =TRUNC(E131*D131, 0) -> 80800 | G131: =TRUNC(단가대비표!P55,0) -> 0 | H131: =TRUNC(G131*D131, 0) -> 0 | I131: =TRUNC(단가대비표!V55,0) -> 0 | J131: =TRUNC(I131*D131, 0) -> 0 | K131: =TRUNC(E131+G131+I131, 0) -> 80800 | L131: =TRUNC(F131+H131+J131, 0) -> 80800 | N131: 5C24D6D362B19E904872F31354BB8E5983D0A5 | Q131: 010107 | R131: F | S131: F | T131: T | AU131: 0101075C24D6D362B19E904872F31354BB8E5983D0A5 | AV131: 34
A132: 도어체크 설치 | B132: 재료비 별도 | C132: 개소 | D132: 1 | E132: =TRUNC(일위대가목록!E28,0) -> 0 | F132: =TRUNC(E132*D132, 0) -> 0 | G132: =TRUNC(일위대가목록!F28,0) -> 15515 | H132: =TRUNC(G132*D132, 0) -> 15515 | I132: =TRUNC(일위대가목록!G28,0) -> 310 | J132: =TRUNC(I132*D132, 0) -> 310 | K132: =TRUNC(E132+G132+I132, 0) -> 15825 | L132: =TRUNC(F132+H132+J132, 0) -> 15825 | M132: 호표 25 | N132: 5B008645AF21920602FF231853F3E4 | Q132: 010107 | R132: T | S132: F | T132: F | AU132: 0101075B008645AF21920602FF231853F3E4 | AV132: 47
A133: 도어힌지 | B133: 도어힌지, 냉연분체 | C133: 개 | D133: 15 | E133: =TRUNC(단가대비표!O72,0) -> 2300 | F133: =TRUNC(E133*D133, 0) -> 34500 | G133: =TRUNC(단가대비표!P72,0) -> 0 | H133: =TRUNC(G133*D133, 0) -> 0 | I133: =TRUNC(단가대비표!V72,0) -> 0 | J133: =TRUNC(I133*D133, 0) -> 0 | K133: =TRUNC(E133+G133+I133, 0) -> 2300 | L133: =TRUNC(F133+H133+J133, 0) -> 34500 | N133: 5C24C6CA40319DAAB6DB534659C2F68E0718A0 | Q133: 010107 | R133: F | S133: F | T133: T | AU133: 0101075C24C6CA40319DAAB6DB534659C2F68E0718A0 | AV133: 36
A134: 피벗힌지 | B134: 피벗힌지, 100kg이하, 방화문용 | C134: 조 | D134: 1 | E134: =TRUNC(단가대비표!O73,0) -> 64300 | F134: =TRUNC(E134*D134, 0) -> 64300 | G134: =TRUNC(단가대비표!P73,0) -> 0 | H134: =TRUNC(G134*D134, 0) -> 0 | I134: =TRUNC(단가대비표!V73,0) -> 0 | J134: =TRUNC(I134*D134, 0) -> 0 | K134: =TRUNC(E134+G134+I134, 0) -> 64300 | L134: =TRUNC(F134+H134+J134, 0) -> 64300 | N134: 5C24C6CA40319DAAB6DB534659C2F0740FB636 | Q134: 010107 | R134: F | S134: F | T134: T | AU134: 0101075C24C6CA40319DAAB6DB534659C2F0740FB636 | AV134: 37
...

Sheet 일위대가목록
A1: 일 위 대 가 목 록
A2: [ 양평우체국임시청사영업과조성공사 ]
A3: 코 드 | B3: 품 명 | C3: 규 격 | D3: 단위 | E3: 재 료 비 | F3: 노 무 비 | G3: 경 비 | H3: 합 계 | I3: 번 호 | J3: 비 고 | K3: 노임계수 | L3: 할증 | M3: 품셈개요 | N3: 장비일위
A4: 5B00560B3E219A7C4FFFE39659FF89 | B4: 건축물 현장정리 | C4: 보수 | D4: M2 | E4: =일위대가!F6 -> 0 | F4: =일위대가!H6 -> 4389 | G4: =일위대가!J6 -> 0 | H4: =E4+F4+G4 -> 4389 | I4: 호표 1
A5: 5B00068B92C19E0728E8237656540F | B5: 레디믹스트콘크리트 인력운반 타설 | C5: 무근구조물 | D5: M3 | E5: =일위대가!F12 -> 0 | F5: =일위대가!H12 -> 42603 | G5: =일위대가!J12 -> 852 | H5: =E5+F5+G5 -> 43455 | I5: 호표 2
A6: 5B0036C3513191BE5DB1E3025ACACC | B6: 난방필름 설치 | C6: 0.3t | D6: M2 | E6: =일위대가!F16 -> 43071 | F6: =일위대가!H16 -> 0 | G6: =일위대가!J16 -> 0 | H6: =E6+F6+G6 -> 43071 | I6: 호표 3
A7: 5B0036C3513191BE5DB1E3025ACACF | B7: 온도조절기 | D7: EA | E7: =일위대가!F20 -> 58000 | F7: =일위대가!H20 -> 0 | G7: =일위대가!J20 -> 0 | H7: =E7+F7+G7 -> 58000 | I7: 호표 4
A8: 5B00B6F915219507CB28739C5D4AA6 | B8: 장판지 깔기 | C8: 3.0mm, 지정용 | D8: M2 | E8: =일위대가!F25 -> 19950 | F8: =일위대가!H25 -> 5046 | G8: =일위대가!J25 -> 0 | H8: =E8+F8+G8 -> 24996 | I8: 호표 5
A9: 5B00D6C4D78190781AB8334D544155 | B9: 재료분리대 설치 | C9: 코너목재,ㄱ,20t100*82 | D9: M | E9: =일위대가!F30 -> 13640 | F9: =일위대가!H30 -> 1931 | G9: =일위대가!J30 -> 38 | H9: =E9+F9+G9 -> 15609 | I9: 호표 6
A10: 5B00B6FBC3519EE104C8738458E7DD | B10: 건식벽 설치(C-STUD) | C10: 벽,100t,9.5t*2겹,양면 | D10: M2 | E10: =일위대가!F36 -> 18351 | F10: =일위대가!H36 -> 25161 | G10: =일위대가!J36 -> 1059 | H10: =E10+F10+G10 -> 44571 | I10: 호표 7
A11: 5B0156FA9551939137CD23DF5BEE6D | B11: 롤블라인드설치 | C11: 2400*1550,지정용 | D11: EA | E11: =일위대가!F40 -> 93000 | G11: =일위대가!J40 -> 0 | H11: =E11+F11+G11 -> 93000 | I11: 호표 8
A12: 5B0156FA9551939137CD23DF5BEF0A | B12: 롤블라인드설치 | C12: 4350*3160,지정용 | D12: EA | E12: =일위대가!F44 -> 343650 | G12: =일위대가!J44 -> 0 | H12: =E12+F12+G12 -> 343650 | I12: 호표 9
A13: 5B0156FA9551939137CD23DF5BEF0B | B13: 롤블라인드설치 | C13: 4400*3160,지정용 | D13: EA | E13: =일위대가!F48 -> 347600 | G13: =일위대가!J48 -> 0 | H13: =E13+F13+G13 -> 347600 | I13: 호표 10
A14: 5B0156FA9551939137CD23DF5BEF09 | B14: 전면유리 안전필름 설치 | C14: 4350*3160 | D14: 개소 | E14: =일위대가!F52 -> 481110 | G14: =일위대가!J52 -> 0 | H14: =E14+F14+G14 -> 481110 | I14: 호표 11
A15: 5B0156FA9551939137CD23DF5BEF0E | B15: 전면유리 안전필름 설치 | C15: 4400*3160 | D15: 개소 | E15: =일위대가!F56 -> 486640 | G15: =일위대가!J56 -> 0 | H15: =E15+F15+G15 -> 486640 | I15: 호표 12
A16: 5B0156FA9551939137CD23DF5BEF0F | B16: 전면유리 안전필름 설치 | C16: 2400*1550 | D16: 개소 | E16: =일위대가!F60 -> 130200 | G16: =일위대가!J60 -> 0 | H16: =E16+F16+G16 -> 130200 | I16: 호표 13
A17: 5B00C6D81B519D46D54313F8587DCF | B17: 수밀코킹(실리콘) | C17: 삼각, 10mm, 창호주위 | D17: M | E17: =일위대가!F65 -> 565 | F17: =일위대가!H65 -> 4197 | G17: =일위대가!J65 -> 0 | H17: =E17+F17+G17 -> 4762 | I17: 호표 14
A18: 5B00E62839F1994C9798130559EB96 | B18: 와이어메시 바닥깔기 | C18: #8-150*150 | D18: M2 | E18: =일위대가!F71 -> 2485 | F18: =일위대가!H71 -> 912 | G18: =일위대가!J71 -> 0 | H18: =E18+F18+G18 -> 3397 | I18: 호표 15
A19: 5B00B6FFBD21920E5A26F3275E3A5B | B19: 스테인리스재료분리대 | C19: 바닥, W45*H20*1.5t | D19: M | E19: =일위대가!F81 -> 5084 | F19: =일위대가!H81 -> 17911 | G19: =일위대가!J81 -> 582 | H19: =E19+F19+G19 -> 23577 | I19: 호표 16
A20: 5B0036C357519BC84225D3195D1D47 | B20: CONC'기계미장 | C20: 바닥 | D20: M2 | E20: =일위대가!F85 -> 0 | F20: =일위대가!H85 -> 4610 | G20: =일위대가!J85 -> 410 | H20: =E20+F20+G20 -> 5020 | I20: 호표 17
A21: 5B008645AAA192F952E2E3675819B6 | B21: 창호주위 모르타르 충전 | D21: M | E21: =일위대가!F92 -> 0 | F21: =일위대가!H92 -> 3436 | G21: =일위대가!J92 -> 0 | H21: =E21+F21+G21 -> 3436 | I21: 호표 18
A22: 5B008645AAA192F84C9793815161E5 | B22: 창호주위 발포우레탄 충전 | D22: M | E22: =일위대가!F98 -> 775 | F22: =일위대가!H98 -> 2053 | G22: =일위대가!J98 -> 0 | H22: =E22+F22+G22 -> 2828 | I22: 호표 19
A23: 5B008642DAB19E417C92037055EF93 | B23: FSD01[150*45*1.6T] | C23: 0.900 x 2.100 = 1.890 | D23: EA | E23: =일위대가!F103 -> 175014 | F23: =일위대가!H103 -> 102512 | G23: =일위대가!J103 -> 2050 | H23: =E23+F23+G23 -> 279576 | I23: 호표 20
A24: 5B008642DAB19E417C92037055EF95 | B24: SSD01[100*45*1.5T,기밀성] | C24: 2.600 x 3.160 = 8.216 | D24: EA | E24: =일위대가!F111 -> 1154440 | F24: =일위대가!H111 -> 0 | G24: =일위대가!J111 -> 0 | H24: =E24+F24+G24 -> 1154440 | I24: 호표 21
A25: 5B008642DAB19E417C92037055EF97 | B25: WD01[150*45] | C25: 0.900 x 2.100 = 1.890 | D25: EA | E25: =일위대가!F115 -> 226800 | F25: =일위대가!H115 -> 0 | G25: =일위대가!J115 -> 0 | H25: =E25+F25+G25 -> 226800 | I25: 호표 22
A26: 5B008645AF2197892046132657E0A8 | B26: 도어록 설치 | C26: 목재문, 재료비 별도 | D26: 개소 | E26: =일위대가!F120 -> 0 | F26: =일위대가!H120 -> 3563 | G26: =일위대가!J120 -> 71 | H26: =E26+F26+G26 -> 3634 | I26: 호표 23
A27: 5B008645AF219789204503B755284F | B27: 도어록 설치 | C27: 강재문, 재료비 별도 | D27: 개소 | E27: =일위대가!F125 -> 0 | F27: =일위대가!H125 -> 2062 | G27: =일위대가!J125 -> 41 | H27: =E27+F27+G27 -> 2103 | I27: 호표 24
A28: 5B008645AF21920602FF231853F3E4 | B28: 도어체크 설치 | C28: 재료비 별도 | D28: 개소 | E28: =일위대가!F131 -> 0 | F28: =일위대가!H131 -> 15515 | G28: =일위대가!J131 -> 310 | H28: =E28+F28+G28 -> 15825 | I28: 호표 25
A29: 5B008645AC51917B7EC1E3C35516BB | B29: 플로어힌지 설치 | C29: 재료비 별도 | D29: 개소 | E29: =일위대가!F137 -> 0 | F29: =일위대가!H137 -> 24023 | G29: =일위대가!J137 -> 480 | H29: =E29+F29+G29 -> 24503 | I29: 호표 26
A30: 5B008642DAB19E417C92037055EF98 | B30: 강화 유리문 | C30: 유리문, 28*900*2100mm 투명 | D30: 개 | E30: =일위대가!F141 -> 460000 | F30: =일위대가!H141 -> 25000 | G30: =일위대가!J141 -> 0 | H30: =E30+F30+G30 -> 485000 | I30: 호표 27
A31: 5B00864B36A19397B137D397553C35 | B31: 복층유리 끼우기 | C31: 24mm(6+12A+6), 일반창호 | D31: M2 | E31: =일위대가!F145 -> 0 | F31: =일위대가!H145 -> 25011 | G31: =일위대가!J145 -> 0 | H31: =E31+F31+G31 -> 25011 | I31: 호표 28
A32: 5B00864B3F9196F5B11963C65E554D | B32: 복층유리주위 코킹 | C32: 5*5, 실리콘 | D32: M | E32: =일위대가!F149 -> 282 | F32: =일위대가!H149 -> 0 | G32: =일위대가!J149 -> 0 | H32: =E32+F32+G32 -> 282 | I32: 호표 29
A33: 5B00A6908D4193D84710138056FC0E | B33: 녹막이페인트 붓칠 | C33: 철재면, 1회, 1종 | D33: M2 | E33: =일위대가!F154 -> 793 | F33: =일위대가!H154 -> 3143 | G33: =일위대가!J154 -> 0 | H33: =E33+F33+G33 -> 3936 | I33: 호표 30
A34: 5B00A692BB519D606907B33A52238A | B34: 바탕만들기+비닐페인트 롤러칠 | C34: 내부, 2회, 2급, 석고보드면 줄퍼티 | D34: M2 | E34: =일위대가!F160 -> 2312 | F34: =일위대가!H160 -> 12640 | G34: =일위대가!J160 -> 154 | H34: =E34+F34+G34 -> 15106 | I34: 호표 31
A35: 5B00A69342119383421EA34B52BF2E | B35: 세라민페인트칠 | C35: 2회 | D35: M2 | E35: =일위대가!F169 -> 1811 | F35: =일위대가!H169 -> 16605 | G35: =일위대가!J169 -> 0 | H35: =E35+F35+G35 -> 18416 | I35: 호표 32
A36: 5B0156FA9C819159AC3CC361579F35 | B36: 기존 유리 일부 철거 | C36: 2600*3160 | D36: 개소 | E36: =일위대가!F173 -> 0 | F36: =일위대가!H173 -> 178710 | G36: =일위대가!J173 -> 3573 | H36: =E36+F36+G36 -> 182283 | I36: 호표 33
A37: 5B008642DAB19E417C92037055EF91 | B37: AD01[갤러리문] | C37: 1.200 x 2.100 = 2.520 | D37: EA | E37: =일위대가!F177 -> 655200 | F37: =일위대가!H177 -> 0 | G37: =일위대가!J177 -> 0 | H37: =E37+F37+G37 -> 655200 | I37: 호표 34
A38: 5B008645AF219789204503B755284E | B38: 기존출입문 전기정락 설치 | C38: 시스템경비,타공비포함 | D38: 개소 | E38: =일위대가!F182 -> 130753 | F38: =일위대가!H182 -> 16917 | G38: =일위대가!J182 -> 546 | H38: =E38+F38+G38 -> 148216 | I38: 호표 35
A39: 5B0096A8AF619158381BE3705D300D | B39: 화강석붙임(습식, 버너) | C39: 바닥, 포천석 30mm, 모르타르 30mm | D39: M2 | E39: =일위대가!F188 -> 52635 | F39: =일위대가!H188 -> 83469 | G39: =일위대가!J188 -> 809 | H39: =E39+F39+G39 -> 136913 | I39: 호표 36
A40: 5B00068B92C19E0728EBF3B854BE59 | B40: 레디믹스트콘크리트 인력운반 타설 | C40: 철근구조물 | D40: M3 | E40: =일위대가!F194 -> 0 | F40: =일위대가!H194 -> 47822 | G40: =일위대가!J194 -> 956 | H40: =E40+F40+G40 -> 48778 | I40: 호표 37
...

Sheet 일위대가
A1: [ 양평우체국임시청사영업과조성공사 ]
A2: 품 명 | B2: 규 격 | C2: 단위 | D2: 수량 | E2: 재 료 비 | G2: 노 무 비 | I2: 경 비 | K2: 합 계 | M2: 비 고 | N2: 일위대가 | O2: 품목코드 | P2: 일위 | Q2: 단산 | R2: 자재 | S2: 손료적용 | T2: 손료저장 | U2: 적용율 | V2: JUK1 | W2: JUK2 | X2: JUK3 | Y2: JUK4 | Z2: JUK5 | AA2: JUK6 | AB2: JUK7 | AC2: JUK8 | AD2: JUK9 | AE2: JUK10 | AF2: JUK11 | AG2: JUK12 | AH2: JUK13 | AI2: JUK14 | AJ2: JUK15 | AK2: JUK16 | AL2: JUK17 | AM2: JUK18 | AN2: JUK19 | AO2: JUK20 | AP2: 할증적용 | AQ2: 할증저장 | AR2: 할증율 | AS2: HAL1 | AT2: HAL2 | AU2: HAL3 | AV2: 자재구분 | AW2: 일위대가+자재 | AX2: 장비일위 | AY2: 설정
E3: 단 가 | F3: 금 액 | G3: 단 가 | H3: 금 액 | I3: 단 가 | J3: 금 액 | K3: 단 가 | L3: 금 액
A4: 건축물 현장정리 보수 M2 ( 호표 1 ) | N4: 5B00560B3E219A7C4FFFE39659FF89
A5: 보통인부 | B5: 일반공사 즤종 | C5: 인 | D5: 0.035 | E5: =단가대비표!O99 -> 0 | F5: =TRUNC(E5*D5,1) -> 0 | G5: =단가대비표!P99 -> 125427 | H5: =TRUNC(G5*D5,1) -> 4389.9 | I5: =단가대비표!V99 -> 0 | J5: =TRUNC(I5*D5,1) -> 0 | K5: =TRUNC(E5+G5+I5,1) -> 125427 | L5: =TRUNC(F5+H5+J5,1) -> 4389.9 | N5: 5B00560B3E219A7C4FFFE39659FF89 | O5: 5BDCB697D6F195D8EFCAC3375963246FA22860 | P5: F | Q5: F | R5: T | AW5: 5B00560B3E219A7C4FFFE39659FF895BDCB697D6F195D8EFCAC3375963246FA22860
A6: [ 합 계 ] | F6: =TRUNC(SUMIF(N5:N5, N4, F5:F5),0) -> 0 | H6: =TRUNC(SUMIF(N5:N5, N4, H5:H5),0) -> 4389 | J6: =TRUNC(SUMIF(N5:N5, N4, J5:J5),0) -> 0 | L6: =F6+H6+J6 -> 4389 | N6: TOTAL | O6: TOTAL
A8: 레디믹스트콘크리트 인력운반 타설 무근구조물 M3 ( 호표 2 ) | N8: 5B00068B92C19E0728E8237656540F
A9: 콘크리트공 | B9: 일반공사 즤종 | C9: 인 | D9: 0.12 | E9: =단가대비표!O108 -> 0 | F9: =TRUNC(E9*D9,1) -> 0 | G9: =단가대비표!P108 -> 198242 | H9: =TRUNC(G9*D9,1) -> 23789 | I9: =단가대비표!V108 -> 0 | J9: =TRUNC(I9*D9,1) -> 0 | K9: =TRUNC(E9+G9+I9,1) -> 198242 | L9: =TRUNC(F9+H9+J9,1) -> 23789 | N9: 5B00068B92C19E0728E8237656540F | O9: 5BDCB697D6F195D8EFCAC3375963246FA2290A | P9: F | Q9: F | R9: T | V9: 1 | AW9: 5B00068B92C19E0728E8237656540F5BDCB697D6F195D8EFCAC3375963246FA2290A
A10: 보통인부 | B10: 일반공사 즤종 | C10: 인 | D10: 0.15 | E10: =단가대비표!O99 -> 0 | F10: =TRUNC(E10*D10,1) -> 0 | G10: =단가대비표!P99 -> 125427 | H10: =TRUNC(G10*D10,1) -> 18814 | I10: =단가대비표!V99 -> 0 | J10: =TRUNC(I10*D10,1) -> 0 | K10: =TRUNC(E10+G10+I10,1) -> 125427 | L10: =TRUNC(F10+H10+J10,1) -> 18814 | N10: 5B00068B92C19E0728E8237656540F | O10: 5BDCB697D6F195D8EFCAC3375963246FA22860 | P10: F | Q10: F | R10: T | V10: 1 | AW10: 5B00068B92C19E0728E8237656540F5BDCB697D6F195D8EFCAC3375963246FA22860
A11: 공구손료 | B11: 인력품의 2% | C11: 식 | D11: 1 | E11: 0 | F11: =TRUNC(E11*D11,1) -> 0 | G11: 0 | H11: =TRUNC(G11*D11,1) -> 0 | I11: =TRUNC(SUMIF(V9:V11, RIGHTB(O11, 1), H9:H11)*U11, 2) -> 852.06 | J11: =TRUNC(I11*D11,1) -> 852 | K11: =TRUNC(E11+G11+I11,1) -> 852 | L11: =TRUNC(F11+H11+J11,1) -> 852 | N11: 5B00068B92C19E0728E8237656540F | O11: 5A1EF6876ED19C2C8B8F632058FA001 | P11: F | Q11: F | R11: F | S11: 1 | T11: 2 | U11: 0.02 | AW11: 5B00068B92C19E0728E8237656540F5A1EF6876ED19C2C8B8F632058FA001
A12: [ 합 계 ] | F12: =TRUNC(SUMIF(N9:N11, N8, F9:F11),0) -> 0 | H12: =TRUNC(SUMIF(N9:N11, N8, H9:H11),0) -> 42603 | J12: =TRUNC(SUMIF(N9:N11, N8, J9:J11),0) -> 852 | L12: =F12+H12+J12 -> 43455 | N12: TOTAL | O12: TOTAL
A14: 난방필름 설치 0.3t M2 ( 호표 3 ) | N14: 5B0036C3513191BE5DB1E3025ACACC
A15: 필름난방 | B15: 0.3T | C15: M2 | D15: 1.05 | E15: =단가대비표!O93 -> 41020 | F15: =TRUNC(E15*D15,1) -> 43071 | G15: =단가대비표!P93 -> 0 | H15: =TRUNC(G15*D15,1) -> 0 | I15: =단가대비표!V93 -> 0 | J15: =TRUNC(I15*D15,1) -> 0 | K15: =TRUNC(E15+G15+I15,1) -> 41020 | L15: =TRUNC(F15+H15+J15,1) -> 43071 | N15: 5B0036C3513191BE5DB1E3025ACACC | O15: 5C50661BA721940D59F103DB5CE58BF54204C1 | P15: F | Q15: F | R15: T | AW15: 5B0036C3513191BE5DB1E3025ACACC5C50661BA721940D59F103DB5CE58BF54204C1
A16: [ 합 계 ] | F16: =TRUNC(SUMIF(N15:N15, N14, F15:F15),0) -> 43071 | H16: =TRUNC(SUMIF(N15:N15, N14, H15:H15),0) -> 0 | J16: =TRUNC(SUMIF(N15:N15, N14, J15:J15),0) -> 0 | L16: =F16+H16+J16 -> 43071 | N16: TOTAL | O16: TOTAL
A18: 온도조절기 EA ( 호표 4 ) | N18: 5B0036C3513191BE5DB1E3025ACACF
A19: 온도조절기 | C19: EA | D19: 1 | E19: =단가대비표!O92 -> 58000 | F19: =TRUNC(E19*D19,1) -> 58000 | G19: =단가대비표!P92 -> 0 | H19: =TRUNC(G19*D19,1) -> 0 | I19: =단가대비표!V92 -> 0 | J19: =TRUNC(I19*D19,1) -> 0 | K19: =TRUNC(E19+G19+I19,1) -> 58000 | L19: =TRUNC(F19+H19+J19,1) -> 58000 | N19: 5B0036C3513191BE5DB1E3025ACACF | O19: 5C50661BA721940D59F103DB5CE58BF54204C6 | P19: F | Q19: F | R19: T | AW19: 5B0036C3513191BE5DB1E3025ACACF5C50661BA721940D59F103DB5CE58BF54204C6
A20: [ 합 계 ] | F20: =TRUNC(SUMIF(N19:N19, N18, F19:F19),0) -> 58000 | H20: =TRUNC(SUMIF(N19:N19, N18, H19:H19),0) -> 0 | J20: =TRUNC(SUMIF(N19:N19, N18, J19:J19),0) -> 0 | L20: =F20+H20+J20 -> 58000 | N20: TOTAL | O20: TOTAL
A22: 장판지 깔기 3.0mm, 지정용 M2 ( 호표 5 ) | N22: 5B00B6F915219507CB28739C5D4AA6
A23: 비닐시트 | B23: 비닐시트, 3.0t*1830, 퓨전 | C23: M2 | D23: 1.05 | E23: =단가대비표!O51 -> 18200 | F23: =TRUNC(E23*D23,1) -> 19110 | G23: =단가대비표!P51 -> 0 | H23: =TRUNC(G23*D23,1) -> 0 | I23: =단가대비표!V51 -> 0 | J23: =TRUNC(I23*D23,1) -> 0 | K23: =TRUNC(E23+G23+I23,1) -> 18200 | L23: =TRUNC(F23+H23+J23,1) -> 19110 | N23: 5B00B6F915219507CB28739C5D4AA6 | O23: 5C24D6D363419712B1C8737751C647EB6F5441 | P23: F | Q23: F | R23: T | AW23: 5B00B6F915219507CB28739C5D4AA65C24D6D363419712B1C8737751C647EB6F5441
A24: PVC계 바닥재 설치 - 시트 | B24: 주재료 제외, 전면접합 | C24: M2 | D24: 1 | E24: =일위대가목록!E51 -> 840 | F24: =TRUNC(E24*D24,1) -> 840 | G24: =일위대가목록!F51 -> 5046 | H24: =TRUNC(G24*D24,1) -> 5046 | I24: =일위대가목록!G51 -> 0 | J24: =TRUNC(I24*D24,1) -> 0 | K24: =TRUNC(E24+G24+I24,1) -> 5886 | L24: =TRUNC(F24+H24+J24,1) -> 5886 | M24: 호표 48 | N24: 5B00B6F915219507CB28739C5D4AA6 | O24: 5B00B6F91521950623D91395524374 | P24: T | Q24: F | R24: F | AW24: 5B00B6F915219507CB28739C5D4AA65B00B6F91521950623D91395524374
A25: [ 합 계 ] | F25: =TRUNC(SUMIF(N23:N24, N22, F23:F24),0) -> 19950 | H25: =TRUNC(SUMIF(N23:N24, N22, H23:H24),0) -> 5046 | J25: =TRUNC(SUMIF(N23:N24, N22, J23:J24),0) -> 0 | L25: =F25+H25+J25 -> 24996 | N25: TOTAL | O25: TOTAL
A27: 재료분리대 설치 코너목재,ㄱ,20t100*82 M ( 호표 6 ) | N27: 5B00D6C4D78190781AB8334D544155
A28: 플로어링보드 | B28: 플로어링보드, 22mm, 경질단풍나무(MAPLE), 비도장제품 | C28: M2 | D28: 0.22 | E28: =단가대비표!O50 -> 62000 | F28: =TRUNC(E28*D28,1) -> 13640 | G28: =단가대비표!P50 -> 0 | H28: =TRUNC(G28*D28,1) -> 0 | I28: =단가대비표!V50 -> 0 | J28: =TRUNC(I28*D28,1) -> 0 | K28: =TRUNC(E28+G28+I28,1) -> 62000 | L28: =TRUNC(F28+H28+J28,1) -> 13640 | N28: 5B00D6C4D78190781AB8334D544155 | O28: 5C24D6D363419712B1C913EF5E475C3E668035 | P28: F | Q28: F | R28: T | AW28: 5B00D6C4D78190781AB8334D5441555C24D6D363419712B1C913EF5E475C3E668035
A29: 플로어링 마루 설치 | C29: M2 | D29: 0.2 | E29: =일위대가목록!E52 -> 0 | F29: =TRUNC(E29*D29,1) -> 0 | G29: =일위대가목록!F52 -> 9655 | H29: =TRUNC(G29*D29,1) -> 1931 | I29: =일위대가목록!G52 -> 193 | J29: =TRUNC(I29*D29,1) -> 38.6 | K29: =TRUNC(E29+G29+I29,1) -> 9848 | L29: =TRUNC(F29+H29+J29,1) -> 1969.6 | M29: 호표 49 | N29: 5B00D6C4D78190781AB8334D544155 | O29: 5B00D6C4D78190781B40A3CD56029A | P29: T | Q29: F | R29: F | AW29: 5B00D6C4D78190781AB8334D5441555B00D6C4D78190781B40A3CD56029A
A30: [ 합 계 ] | F30: =TRUNC(SUMIF(N28:N29, N27, F28:F29),0) -> 13640 | H30: =TRUNC(SUMIF(N28:N29, N27, H28:H29),0) -> 1931 | J30: =TRUNC(SUMIF(N28:N29, N27, J28:J29),0) -> 38 | L30: =F30+H30+J30 -> 15609 | N30: TOTAL | O30: TOTAL
A32: 건식벽 설치(C-STUD) 벽,100t,9.5t*2겹,양면 M2 ( 호표 7 ) | N32: 5B00B6FBC3519EE104C8738458E7DD
A33: 석고보드 | B33: 석고보드, 평보드, 9.5*900*2400mm(㎡) | C33: M2 | D33: 4.2 | E33: =단가대비표!O47 -> 1820 | F33: =TRUNC(E33*D33,1) -> 7644 | G33: =단가대비표!P47 -> 0 | H33: =TRUNC(G33*D33,1) -> 0 | I33: =단가대비표!V47 -> 0 | J33: =TRUNC(I33*D33,1) -> 0 | K33: =TRUNC(E33+G33+I33,1) -> 1820 | L33: =TRUNC(F33+H33+J33,1) -> 7644 | N33: 5B00B6FBC3519EE104C8738458E7DD | O33: 5C24D6D36341971083C643DA56AF1225C78D9E | P33: F | Q33: F | R33: T | AW33: 5B00B6FBC3519EE104C8738458E7DD5C24D6D36341971083C643DA56AF1225C78D9E
A34: 석고판(나사고정) 설치 - 바탕용 | B34: 벽, 2겹 붙임 | C34: M2 | D34: 2 | E34: =일위대가목록!E53 -> 0 | F34: =TRUNC(E34*D34,1) -> 0 | G34: =일위대가목록!F53 -> 11606 | H34: =TRUNC(G34*D34,1) -> 23212 | I34: =일위대가목록!G53 -> 116 | J34: =TRUNC(I34*D34,1) -> 232 | K34: =TRUNC(E34+G34+I34,1) -> 11722 | L34: =TRUNC(F34+H34+J34,1) -> 23444 | M34: 호표 50 | N34: 5B00B6FBC3519EE104C8738458E7DD | O34: 5B00B6FBC3519EE104C8738458E636 | P34: T | Q34: F | R34: F | AW34: 5B00B6FBC3519EE104C8738458E7DD5B00B6FBC3519EE104C8738458E636
A35: 스터드설치 | B35: C-STUD 65*45@450 | C35: M2 | D35: 1 | E35: =일위대가목록!E54 -> 10707 | F35: =TRUNC(E35*D35,1) -> 10707 | G35: =일위대가목록!F54 -> 1949 | H35: =TRUNC(G35*D35,1) -> 1949 | I35: =일위대가목록!G54 -> 827 | J35: =TRUNC(I35*D35,1) -> 827 | K35: =TRUNC(E35+G35+I35,1) -> 13483 | L35: =TRUNC(F35+H35+J35,1) -> 13483 | M35: 호표 51 | N35: 5B00B6FBC3519EE104C8738458E7DD | O35: 5B00B6FBC3519EE104C8738458E7AE | P35: T | Q35: F | R35: F | AW35: 5B00B6FBC3519EE104C8738458E7DD5B00B6FBC3519EE104C8738458E7AE
A36: [ 합 계 ] | F36: =TRUNC(SUMIF(N33:N35, N32, F33:F35),0) -> 18351 | H36: =TRUNC(SUMIF(N33:N35, N32, H33:H35),0) -> 25161 | J36: =TRUNC(SUMIF(N33:N35, N32, J33:J35),0) -> 1059 | L36: =F36+H36+J36 -> 44571 | N36: TOTAL | O36: TOTAL
A38: 롤블라인드설치 2400*1550,지정용 EA ( 호표 8 ) | N38: 5B0156FA9551939137CD23DF5BEE6D
A39: 롤브라인드 | B39: 방염 | C39: M2 | D39: 3.72 | E39: =단가대비표!O95 -> 25000 | F39: =TRUNC(E39*D39,1) -> 93000 | G39: =단가대비표!P95 -> 0 | H39: =TRUNC(G39*D39,1) -> 0 | I39: =단가대비표!V95 -> 0 | J39: =TRUNC(I39*D39,1) -> 0 | K39: =TRUNC(E39+G39+I39,1) -> 25000 | L39: =TRUNC(F39+H39+J39,1) -> 93000 | N39: 5B0156FA9551939137CD23DF5BEE6D | O39: 5C47962168C19E7AF74E03D5523FF7B19CFDD8 | P39: F | Q39: F | R39: T | AW39: 5B0156FA9551939137CD23DF5BEE6D5C47962168C19E7AF74E03D5523FF7B19CFDD8
A40: [ 합 계 ] | F40: =TRUNC(SUMIF(N39:N39, N38, F39:F39),0) -> 93000 | H40: =TRUNC(SUMIF(N39:N39, N38, H39:H39),0) -> 0 | J40: =TRUNC(SUMIF(N39:N39, N38, J39:J39),0) -> 0 | L40: =F40+H40+J40 -> 93000 | N40: TOTAL | O40: TOTAL
A42: 롤블라인드설치 4350*3160,지정용 EA ( 호표 9 ) | N42: 5B0156FA9551939137CD23DF5BEF0A
A43: 롤브라인드 | B43: 방염 | C43: M2 | D43: 13.746 | E43: =단가대비표!O95 -> 25000 | F43: =TRUNC(E43*D43,1) -> 343650 | G43: =단가대비표!P95 -> 0 | H43: =TRUNC(G43*D43,1) -> 0 | I43: =단가대비표!V95 -> 0 | J43: =TRUNC(I43*D43,1) -> 0 | K43: =TRUNC(E43+G43+I43,1) -> 25000 | L43: =TRUNC(F43+H43+J43,1) -> 343650 | N43: 5B0156FA9551939137CD23DF5BEF0A | O43: 5C47962168C19E7AF74E03D5523FF7B19CFDD8 | P43: F | Q43: F | R43: T | AW43: 5B0156FA9551939137CD23DF5BEF0A5C47962168C19E7AF74E03D5523FF7B19CFDD8
A44: [ 합 계 ] | F44: =TRUNC(SUMIF(N43:N43, N42, F43:F43),0) -> 343650 | H44: =TRUNC(SUMIF(N43:N43, N42, H43:H43),0) -> 0 | J44: =TRUNC(SUMIF(N43:N43, N42, J43:J43),0) -> 0 | L44: =F44+H44+J44 -> 343650 | N44: TOTAL | O44: TOTAL
A46: 롤블라인드설치 4400*3160,지정용 EA ( 호표 10 ) | N46: 5B0156FA9551939137CD23DF5BEF0B
A47: 롤브라인드 | B47: 방염 | C47: M2 | D47: 13.904 | E47: =단가대비표!O95 -> 25000 | F47: =TRUNC(E47*D47,1) -> 347600 | G47: =단가대비표!P95 -> 0 | H47: =TRUNC(G47*D47,1) -> 0 | I47: =단가대비표!V95 -> 0 | J47: =TRUNC(I47*D47,1) -> 0 | K47: =TRUNC(E47+G47+I47,1) -> 25000 | L47: =TRUNC(F47+H47+J47,1) -> 347600 | N47: 5B0156FA9551939137CD23DF5BEF0B | O47: 5C47962168C19E7AF74E03D5523FF7B19CFDD8 | P47: F | Q47: F | R47: T | AW47: 5B0156FA9551939137CD23DF5BEF0B5C47962168C19E7AF74E03D5523FF7B19CFDD8
A48: [ 합 계 ] | F48: =TRUNC(SUMIF(N47:N47, N46, F47:F47),0) -> 347600 | H48: =TRUNC(SUMIF(N47:N47, N46, H47:H47),0) -> 0 | J48: =TRUNC(SUMIF(N47:N47, N46, J47:J47),0) -> 0 | L48: =F48+H48+J48 -> 347600 | N48: TOTAL | O48: TOTAL
A50: 전면유리 안전필름 설치 4350*3160 개소 ( 호표 11 ) | N50: 5B0156FA9551939137CD23DF5BEF09
...

Sheet 중기단가목록
A1: 중 기 단 가 목 록
A2: [ 양평우체국임시청사영업과조성공사 ]
A3: 코 드 | B3: 품 명 | C3: 규 격 | D3: 단위 | E3: 재 료 비 | F3: 노 무 비 | G3: 경 비 | H3: 합 계 | I3: 번 호 | J3: 비 고 | K3: START
A4: 5B2556B52A219C3D7F2803605C9CF0 | B4: 터파기/토사 | C4: 보통, 굴삭기 0.7m3 | D4: M3 | E4: 308 | F4: 660 | G4: 359 | H4: 1327 | I4: 산근 1 | K4: 5B2556B52A219C3D7F2803605C9CF0
A5: 5B2556B8FE419C34640F93CC58D5DC | B5: 되메우기/토사, 두께 15cm | C5: 보통, 굴삭기 0.7m3+래머 80kg | D5: M3 | E5: 470 | F5: 6349 | G5: 362 | H5: 7181 | I5: 산근 2 | K5: 5B2556B8FE419C34640F93CC58D5DC
A6: 5B2556B631119EF44E31B3E75A3AFE | B6: 토사 운반/단지외 10km | C6: 보통, 덤프 15ton+굴삭기 0.7m3(고르기 별도) | D6: M3 | E6: 2807 | F6: 3880 | G6: 1860 | H6: 8547 | I6: 산근 3 | K6: 5B2556B631119EF44E31B3E75A3AFE
A7: 5B0106789E9193164DA133745E0ABC | B7: 운반비(트레일러 20ton+크레인 10ton) | C7: 철골, L:30km | D7: TON | E7: 0 | F7: 0 | G7: 11514 | H7: 11514 | I7: 산근 4 | K7: 5B0106789E9193164DA133745E0ABC
A8: 5B0106789E9193164DA133595F878A | B8: 운반비(트레일러 20ton+크레인 10ton) | C8: 철근, L:30km | D8: TON | E8: 0 | F8: 0 | G8: 11514 | H8: 11514 | I8: 산근 5 | K8: 5B0106789E9193164DA133595F878A

Sheet 중기단가산출서
A1: 중 기 단 가 산 출 서
A2: [ 양평우체국임시청사영업과조성공사 ]
A3: 산 출 내 역 | B3: 재 료 비 | C3: 노 무 비 | D3: 경 비 | E3: 합 계 | F3: 비 고 | G3: START | H3: 코드 | I3: 품명 | J3: 규격 | K3: 단위 | L3: 수량
A4: 터파기/토사 보통, 굴삭기 0.7m3 M3 ( 산근 1 ) | G4: 5B2556B52A219C3D7F2803605C9CF0 | I4: 터파기/토사 | J4: 보통, 굴삭기 0.7m3 | K4: M3
G5: 5B2556B52A219C3D7F2803605C9CF0 | H5: C | L5: 1
A6: 굴삭기(무한궤도),0.7㎥ M3 | B6: 0 | C6: 0 | D6: 0 | E6: 0 | G6: 5B2556B52A219C3D7F2803605C9CF0 | H6: C! | I6: '굴삭기(무한궤도),0.7㎥ M3'
B7: 0 | C7: 0 | D7: 0 | E7: 0 | G7: 5B2556B52A219C3D7F2803605C9CF0 | H7: C!
A8: Q1 바켓용량(M3) =0.70 | B8: 0 | C8: 0 | D8: 0 | E8: 0 | G8: 5B2556B52A219C3D7F2803605C9CF0 | H8: C! | I8: q1 '바켓용량(M3)' =0.70
A9: K 바켓계수(양호1.1,보통0.90,불량0.70,파쇄암0.55) = 0.90 | B9: 0 | C9: 0 | D9: 0 | E9: 0 | G9: 5B2556B52A219C3D7F2803605C9CF0 | H9: C! | I9: k '바켓계수(양호1.1,보통0.90,불량0.70,파쇄암0.55)'= 0.90
A10: F 토량환산계수(1/L) = 1/1.25= 0.8 | B10: 0 | C10: 0 | D10: 0 | E10: 0 | G10: 5B2556B52A219C3D7F2803605C9CF0 | H10: C! | I10: f '토량환산계수(1/L)'= 1/1.25=?
A11: E1 터파기에 대하여 -0.05 =0.05 | B11: 0 | C11: 0 | D11: 0 | E11: 0 | G11: 5B2556B52A219C3D7F2803605C9CF0 | H11: C! | I11: E1 '터파기에 대하여 -0.05'=0.05
A12: E 작업효율사질토(양호0.85,보통0.70,불량0.55) = 0.70-E1= 0.65 | B12: 0 | C12: 0 | D12: 0 | E12: 0 | G12: 5B2556B52A219C3D7F2803605C9CF0 | H12: C! | I12: E '작업효율사질토(양호0.85,보통0.70,불량0.55)'= 0.70-E1=?
A13: CM 1회 싸이클시간(135˚SEC) =20 | B13: 0 | C13: 0 | D13: 0 | E13: 0 | G13: 5B2556B52A219C3D7F2803605C9CF0 | H13: C! | I13: Cm '1회 싸이클시간(135˚SEC)'=20
A14: Q 시간당 작업량 (M3/HR) = 3600*Q1*K*F*E/CM= 58.968 | B14: 0 | C14: 0 | D14: 0 | E14: 0 | G14: 5B2556B52A219C3D7F2803605C9CF0 | H14: C! | I14: Q '시간당 작업량 (M3/Hr)'= 3600*q1*k*f*E/Cm=?
B15: 0 | C15: 0 | D15: 0 | E15: 0 | G15: 5B2556B52A219C3D7F2803605C9CF0 | H15: C!
A16: 재료비: 18185 / 58.968 = 308.3 | B16: 308.3 | C16: 0 | D16: 0 | E16: 308.3 | G16: 5B2556B52A219C3D7F2803605C9CF0 | H16: C! | I16: '재료비:' ~00000201007000000.M~ / {Q} =?MA+
A17: 노무비: 38972 / 58.968 = 660.9 | B17: 0 | C17: 660.9 | D17: 0 | E17: 660.9 | G17: 5B2556B52A219C3D7F2803605C9CF0 | H17: C! | I17: '노무비:' ~00000201007000000.L~ / {Q} =?LA+
A18: 경 비: 21214 / 58.968 = 359.7 | B18: 0 | C18: 0 | D18: 359.7 | E18: 359.7 | G18: 5B2556B52A219C3D7F2803605C9CF0 | H18: C! | I18: '경 비:' ~00000201007000000.E~ / {Q} =?EQ+
A19: 소 계 | B19: 308.3 | C19: 660.9 | D19: 359.7 | E19: 1328.9 | G19: 5B2556B52A219C3D7F2803605C9CF0 | H19: C! | I19: >'소 계'
A20: 총 계 | B20: 308 | C20: 660 | D20: 359 | E20: 1327
A22: 되메우기/토사, 두께 15cm 보통, 굴삭기 0.7m3+래머 80kg M3 ( 산근 2 ) | G22: 5B2556B8FE419C34640F93CC58D5DC | I22: 되메우기/토사, 두께 15cm | J22: 보통, 굴삭기 0.7m3+래머 80kg | K22: M3
G23: 5B2556B8FE419C34640F93CC58D5DC | H23: C | K23: M3 | L23: 1
A24: 1.굴삭기 (무한궤도)0.7㎥M3 | B24: 0 | C24: 0 | D24: 0 | E24: 0 | G24: 5B2556B8FE419C34640F93CC58D5DC | H24: C! | I24: '1.굴삭기 (무한궤도)0.7㎥M3 '
A25: Q1 바켓용량(M3) = 0.7 | B25: 0 | C25: 0 | D25: 0 | E25: 0 | G25: 5B2556B8FE419C34640F93CC58D5DC | H25: C! | I25: q1 '바켓용량(M3)'= 0.7
A26: k 바켓계수 = 1.1 | B26: 0 | C26: 0 | D26: 0 | E26: 0 | G26: 5B2556B8FE419C34640F93CC58D5DC | H26: C! | I26: k '바켓계수'= 1.1
A27: L1 흐트러진상태 =1.25 | B27: 0 | C27: 0 | D27: 0 | E27: 0 | G27: 5B2556B8FE419C34640F93CC58D5DC | H27: C! | I27: L1 '흐트러진상태' =1.25
A28: C 다져진상태 =0.875 | B28: 0 | C28: 0 | D28: 0 | E28: 0 | G28: 5B2556B8FE419C34640F93CC58D5DC | H28: C! | I28: C '다져진상태'=0.875
A29: F 토량환산계(C/L) =C/L1= 0.7 | B29: 0 | C29: 0 | D29: 0 | E29: 0 | G29: 5B2556B8FE419C34640F93CC58D5DC | H29: C! | I29: f '토량환산계(C/L)'=C/L1=?
A30: E 작업효율(양호0.9,보통0.75,불량0.6) = 0.75 | B30: 0 | C30: 0 | D30: 0 | E30: 0 | G30: 5B2556B8FE419C34640F93CC58D5DC | H30: C! | I30: E '작업효율(양호0.9,보통0.75,불량0.6)'= 0.75
A31: CM 1회 싸이클시간(90˚SEC) =18 | B31: 0 | C31: 0 | D31: 0 | E31: 0 | G31: 5B2556B8FE419C34640F93CC58D5DC | H31: C! | I31: Cm '1회 싸이클시간(90˚sec)'=18
A32: Q 시간당 작업량 (M3/HR) = 3600*Q1*K*F*E/CM= 80.85 | B32: 0 | C32: 0 | D32: 0 | E32: 0 | G32: 5B2556B8FE419C34640F93CC58D5DC | H32: C! | I32: Q '시간당 작업량 (M3/Hr)'= 3600*q1*k*f*E/Cm=?
A33: 재료비: 18185 / 80.85 = 224.9 | B33: 224.9 | C33: 0 | D33: 0 | E33: 224.9 | G33: 5B2556B8FE419C34640F93CC58D5DC | H33: C! | I33: '재료비:' ~00000201007000000.M~ / {Q} =?MA+
A34: 노무비: 38972 / 80.85 = 482 | B34: 0 | C34: 482 | D34: 0 | E34: 482 | G34: 5B2556B8FE419C34640F93CC58D5DC | H34: C! | I34: '노무비:' ~00000201007000000.L~ / {Q} =?LA+
A35: 경 비: 21214 / 80.85 = 262.3 | B35: 0 | C35: 0 | D35: 262.3 | E35: 262.3 | G35: 5B2556B8FE419C34640F93CC58D5DC | H35: C! | I35: '경 비:' ~00000201007000000.E~ / {Q} =?EQ+
A36: 소 계 | B36: 224.9 | C36: 482 | D36: 262.3 | E36: 969.2 | G36: 5B2556B8FE419C34640F93CC58D5DC | H36: C! | I36: >'소 계'
B37: 0 | C37: 0 | D37: 0 | E37: 0 | G37: 5B2556B8FE419C34640F93CC58D5DC | H37: C!
A38: 2.래머,80kg | B38: 0 | C38: 0 | D38: 0 | E38: 0 | G38: 5B2556B8FE419C34640F93CC58D5DC | H38: C! | I38: '2.래머,80kg'
A39: A 1회당 유호 다짐면적(M2) =0.28*0.33= 0.0924 | B39: 0 | C39: 0 | D39: 0 | E39: 0 | G39: 5B2556B8FE419C34640F93CC58D5DC | H39: C! | I39: A '1회당 유호 다짐면적(M2)' =0.28*0.33=?
A40: N 1시간당 타격회수(회/HR) =36000 | B40: 0 | C40: 0 | D40: 0 | E40: 0 | G40: 5B2556B8FE419C34640F93CC58D5DC | H40: C! | I40: N '1시간당 타격회수(회/HR)' =36000
A41: H 다짐두께(M) =0.15 | B41: 0 | C41: 0 | D41: 0 | E41: 0 | G41: 5B2556B8FE419C34640F93CC58D5DC | H41: C! | I41: H '다짐두께(M)' =0.15
...

Sheet 단가대비표
A1: 단 가 대 비 표
A2: [ 양평우체국임시청사영업과조성공사 ]
A3: 코 드 | B3: 품 명 | C3: 규격 | D3: 단위 | E3: 재 료 비 | P3: 노 무 비 | Q3: 경 비 | W3: 번 호 | X3: 비 고 | Y3: 품목구분 | Z3: 노임구분 | AA3: 소수점처리 | AB3: 자재구분
E4: 조달청가격 | F4: PAGE | G4: 거래가격 | H4: PAGE | I4: 유통물가 | J4: PAGE | K4: 물가자료 | L4: PAGE | M4: 조사가격 | N4: PAGE | O4: 적용단가 | Q4: 조달청가격 | R4: 거래가격 | S4: 유통물가 | T4: 물가자료 | U4: 조사가격 | V4: 적용단가
A5: 5C1A66684EC191CE5A34E3145D65CEA587E3B6 | B5: 굴삭기(무한궤도) | C5: 0.7㎥ | D5: 대 | E5: 0 | G5: 0 | I5: 0 | K5: 0 | M5: 0 | O5: 0 | P5: 0 | Q5: 0 | R5: 0 | S5: 0 | T5: 0 | U5: 101750 | V5: =SMALL(Q5:U5,COUNTIF(Q5:U5,0)+1) -> 101750 | W5: 자재 1 | X5: 천원
A6: 5C1A66684EC191CAFF8633705998C70B44EE6C | B6: 덤프트럭 | C6: 15ton | D6: 대 | E6: 0 | G6: 0 | I6: 0 | K6: 0 | M6: 0 | O6: 0 | P6: 0 | Q6: 0 | R6: 0 | S6: 0 | T6: 0 | U6: 80295 | V6: =SMALL(Q6:U6,COUNTIF(Q6:U6,0)+1) -> 80295 | W6: 자재 2 | X6: 천원
A7: 5C1A66684EC191CAFEFDB37C5CD05A1CE1D65C | B7: 덤프트럭 자동덮개시설 | C7: 15ton | D7: 대 | E7: 0 | G7: 0 | I7: 0 | K7: 0 | M7: 0 | O7: 0 | P7: 0 | Q7: 0 | R7: 0 | S7: 0 | T7: 0 | U7: 1439 | V7: =SMALL(Q7:U7,COUNTIF(Q7:U7,0)+1) -> 1439 | W7: 자재 3 | X7: 천원
A8: 5C1A66684EC19020E14C63DA5F6F463D24560C | B8: 래머 | C8: 80kg | D8: 대 | E8: 0 | G8: 0 | I8: 0 | K8: 0 | M8: 0 | O8: 0 | P8: 0 | Q8: 0 | R8: 0 | S8: 0 | T8: 0 | U8: 1188 | V8: =SMALL(Q8:U8,COUNTIF(Q8:U8,0)+1) -> 1188 | W8: 자재 4 | X8: 천원
A9: 5C1A66684EC193FB4E59636D5E9DFDC709BBC7 | B9: 크레인(타이어) | C9: 20ton | D9: 대 | E9: 0 | G9: 0 | I9: 0 | K9: 0 | M9: 0 | O9: 0 | P9: 0 | Q9: 0 | R9: 0 | S9: 0 | T9: 0 | U9: 209358 | V9: =SMALL(Q9:U9,COUNTIF(Q9:U9,0)+1) -> 209358 | W9: 자재 5 | X9: 천원
A10: 5C1A66684EC193FB4E59636D5E9A29AAC5132B | B10: 크레인(타이어) | C10: 50ton | D10: 대 | E10: 0 | G10: 0 | I10: 0 | K10: 0 | M10: 0 | O10: 0 | P10: 0 | Q10: 0 | R10: 0 | S10: 0 | T10: 0 | U10: 476148 | V10: =SMALL(Q10:U10,COUNTIF(Q10:U10,0)+1) -> 476148 | W10: 자재 6 | X10: 천원
A11: 5C1A66684EC193FB4E5853FE5CC9068AD0C8CB | B11: 트럭탑재형 크레인 | C11: 10ton | D11: 대 | E11: 0 | G11: 0 | I11: 0 | K11: 0 | M11: 0 | O11: 0 | P11: 0 | Q11: 0 | R11: 0 | S11: 0 | T11: 0 | U11: 68667 | V11: =SMALL(Q11:U11,COUNTIF(Q11:U11,0)+1) -> 68667 | W11: 자재 7 | X11: 천원
A12: 5C1A66684EC193FD7C5B23F15D1063ACB586DD | B12: 트럭 트랙터 및 평판트레일러 | C12: 20ton | D12: 대 | E12: 0 | G12: 0 | I12: 0 | K12: 0 | M12: 0 | O12: 0 | P12: 0 | Q12: 0 | R12: 0 | S12: 0 | T12: 0 | U12: 59916 | V12: =SMALL(Q12:U12,COUNTIF(Q12:U12,0)+1) -> 59916 | W12: 자재 8 | X12: 천원
A13: 5C1A66684EC196485FFCB3365E748310DE1371 | B13: 용접기(교류) | C13: 500Amp | D13: 대 | E13: 0 | G13: 0 | I13: 0 | K13: 0 | M13: 0 | O13: 0 | P13: 0 | Q13: 0 | R13: 0 | S13: 0 | T13: 0 | U13: 583 | V13: =SMALL(Q13:U13,COUNTIF(Q13:U13,0)+1) -> 583 | W13: 자재 9 | X13: 천원
A14: 5C08160D66319C4DFD6C035B5DB05F42CD0F3D | B14: 모래 | C14: (별도) | D14: M3 | E14: 0 | G14: 0 | I14: 0 | K14: 0 | M14: 0 | O14: 0 | P14: 0 | Q14: 0 | R14: 0 | S14: 0 | T14: 0 | U14: 0 | V14: 0 | W14: 자재 10 | X14: 별도
A15: 5C08160D66319C4DFD6C035B5CA23C0AD3EAF6 | B15: 모래 | C15: 모래, 도착도 | D15: M3 | E15: 0 | G15: 29000 | H15: 90 | I15: 0 | K15: 0 | M15: 0 | O15: =SMALL(E15:M15,COUNTIF(E15:M15,0)+1) -> 29000 | P15: 0 | Q15: 0 | R15: 0 | S15: 0 | T15: 0 | U15: 0 | V15: 0 | W15: 자재 11
A16: 5C08160D6E71920C502B835B50230682A66886 | B16: 철강설 | C16: 철강설, 고철, 작업설부산물 | D16: TON | E16: 340000 | G16: 0 | I16: 0 | K16: 0 | M16: 0 | O16: =SMALL(E16:M16,COUNTIF(E16:M16,0)+1) -> 340000 | P16: 0 | Q16: 0 | R16: 0 | S16: 0 | T16: 0 | U16: 0 | V16: 0 | W16: 자재 12 | X16: 수집상차도
A17: 5C08160D6E71920C502B835B50230682A66885 | B17: 철강설 | C17: 철강설, 고철, 작업설부산물 | D17: kg | E17: 340 | G17: 330 | H17: 1456 | I17: 288 | J17: 1246 | K17: 0 | M17: 0 | O17: =SMALL(E17:M17,COUNTIF(E17:M17,0)+1) -> 288 | P17: 0 | Q17: 0 | R17: 0 | S17: 0 | T17: 0 | U17: 0 | V17: 0 | W17: 자재 13 | X17: 수집상차도
A18: 5C08160D6E71920C502B835B50230682A669AF | B18: 철강설 | C18: 철강설, 스텐레스, 작업설부산물 | D18: kg | E18: 1200 | G18: 1400 | H18: 1456 | I18: 1200 | J18: 1246 | K18: 0 | M18: 0 | O18: =SMALL(E18:M18,COUNTIF(E18:M18,0)+1) -> 1200 | P18: 0 | Q18: 0 | R18: 0 | S18: 0 | T18: 0 | U18: 0 | V18: 0 | W18: 자재 14 | X18: 수집상차도
A19: 5C082613B6819D1A03B5F346579B031F3FF06B | B19: 산소가스 | C19: 산소가스, 기체(㎥) | D19: M3 | E19: 0 | G19: 2708.33 | H19: 1435 | I19: 2500 | J19: 1238 | K19: 0 | M19: 0 | O19: =SMALL(E19:M19,COUNTIF(E19:M19,0)+1) -> 2500 | P19: 0 | Q19: 0 | R19: 0 | S19: 0 | T19: 0 | U19: 0 | V19: 0 | W19: 자재 15 | X19: 대기압상태기준
A20: 5C082613B6819D1A03B5F346579B031F3FF065 | B20: 산소가스 | C20: 기체 | D20: L | E20: 2.22 | G20: 2.7 | H20: 1435 | I20: 2.5 | J20: 1238 | K20: 0 | M20: 0 | O20: =SMALL(E20:M20,COUNTIF(E20:M20,0)+1) -> 2.22 | P20: 0 | Q20: 0 | R20: 0 | S20: 0 | T20: 0 | U20: 0 | V20: 0 | W20: 자재 16 | X20: 대기압상태기준
A21: 5C082613B6819E3AFE27F3B55ED8C506D538FB | B21: 탄산가스 | D21: kg | E21: 0 | G21: 0 | I21: 290 | J21: 1238 | K21: 0 | M21: 0 | O21: =SMALL(E21:M21,COUNTIF(E21:M21,0)+1) -> 290 | P21: 0 | Q21: 0 | R21: 0 | S21: 0 | T21: 0 | U21: 0 | V21: 0 | W21: 자재 17
A22: 5C0856E6C90198B47B0B6387525B3053DC6F56 | B22: 경유 | C22: 경유, 저유황 | D22: L | E22: 0 | G22: 1296.36 | H22: 1435 | I22: 1285 | J22: 1237 | K22: 0 | M22: 0 | O22: =SMALL(E22:M22,COUNTIF(E22:M22,0)+1) -> 1285 | P22: 0 | Q22: 0 | R22: 0 | S22: 0 | T22: 0 | U22: 0 | V22: 0 | W22: 자재 18
A23: 5C0856E6C90198B47B08934953BB364FA6B21C | B23: 공업용휘발유 | C23: 공업용휘발유, 무연 | D23: L | E23: 0 | G23: 1399.09 | H23: 1435 | I23: 1448 | J23: 1237 | K23: 0 | M23: 0 | O23: =SMALL(E23:M23,COUNTIF(E23:M23,0)+1) -> 1399.09 | P23: 0 | Q23: 0 | R23: 0 | S23: 0 | T23: 0 | U23: 0 | V23: 0 | W23: 자재 19
A24: 5C0856E6C86192E8B7B823F95B2B8C43115883 | B24: 아세틸렌가스 | C24: 아세틸렌가스, kg | D24: kg | E24: 10652 | G24: 13200 | H24: 1435 | I24: 13000 | J24: 1238 | K24: 0 | M24: 0 | O24: =SMALL(E24:M24,COUNTIF(E24:M24,0)+1) -> 10652 | P24: 0 | Q24: 0 | R24: 0 | S24: 0 | T24: 0 | U24: 0 | V24: 0 | W24: 자재 20
A25: 5C35769AA5A1959E009D83965D60E979312996 | B25: 용접봉(연강용) | C25: 3.2(KSE4301) | D25: kg | E25: 0 | G25: 2290 | H25: 1310 | I25: 2390 | J25: 1180 | K25: 0 | M25: 0 | O25: =SMALL(E25:M25,COUNTIF(E25:M25,0)+1) -> 2290 | P25: 0 | Q25: 0 | R25: 0 | S25: 0 | T25: 0 | U25: 0 | V25: 0 | W25: 자재 21
A26: 5C35769AA5A1959E009D83965D60E97932C15A | B26: 스테인리스강용피복아크용접봉 | C26: 스테인리스강용피복아크용접봉, ∮3.2mm, AWSE309 | D26: kg | E26: 0 | G26: 11270 | H26: 1310 | I26: 11350 | J26: 1180 | K26: 0 | M26: 0 | O26: =SMALL(E26:M26,COUNTIF(E26:M26,0)+1) -> 11270 | P26: 0 | Q26: 0 | R26: 0 | S26: 0 | T26: 0 | U26: 0 | V26: 0 | W26: 자재 22
A27: 5C35769AA5A1959E009CE3655E4061E31ACB63 | B27: CO2와이어 | C27: JIS VGW-12,D0.9 | D27: kg | E27: 0 | G27: 0 | I27: 0 | K27: 0 | M27: 2300 | O27: =SMALL(E27:M27,COUNTIF(E27:M27,0)+1) -> 2300 | P27: 0 | Q27: 0 | R27: 0 | S27: 0 | T27: 0 | U27: 0 | V27: 0 | W27: 자재 23
A28: 5C24D6D365719259040AA3985870C76DFBD777 | B28: ㄱ형강 | C28: ㄱ형강, 등변, 50*50*6mm | D28: kg | E28: 728 | G28: 810 | H28: 37 | I28: 772 | J28: 22 | K28: 0 | M28: 0 | O28: =SMALL(E28:M28,COUNTIF(E28:M28,0)+1) -> 728 | P28: 0 | Q28: 0 | R28: 0 | S28: 0 | T28: 0 | U28: 0 | V28: 0 | W28: 자재 24
A29: 5C24D6D36571925A2A78936A517F55516DFC2C | B29: 이형철근 | C29: HD-10 | D29: 톤 | E29: 0 | G29: 0 | I29: 0 | K29: 710000 | L29: 42 | M29: 0 | O29: =SMALL(E29:M29,COUNTIF(E29:M29,0)+1) -> 710000 | P29: 0 | Q29: 0 | R29: 0 | S29: 0 | T29: 0 | U29: 0 | V29: 0 | W29: 자재 25
A30: 5C24D6D36571925A2A78936A517F55516DFC29 | B30: 이형철근 | C30: HD-19 | D30: 톤 | E30: 0 | G30: 0 | I30: 0 | K30: 695000 | L30: 42 | M30: 0 | O30: =SMALL(E30:M30,COUNTIF(E30:M30,0)+1) -> 695000 | P30: 0 | Q30: 0 | R30: 0 | S30: 0 | T30: 0 | U30: 0 | V30: 0 | W30: 자재 26
A31: 5C24D6D36571925B3166F31F5D66AA53E513BA | B31: 보조강재 | C31: 대강 | D31: kg | E31: 0 | G31: 1045 | H31: 40 | I31: 0 | K31: 0 | M31: 0 | O31: =SMALL(E31:M31,COUNTIF(E31:M31,0)+1) -> 1045 | P31: 0 | Q31: 0 | R31: 0 | S31: 0 | T31: 0 | U31: 0 | V31: 0 | W31: 자재 27
A32: 5C24D6D3657191B71C73737758D9D92589E3E4 | B32: 일반구조용압연강판 | C32: 일반구조용압연강판, 6.0mm | D32: TON | E32: 797000 | G32: 901600 | H32: 45 | I32: 999500 | J32: 26 | K32: 0 | M32: 0 | O32: =SMALL(E32:M32,COUNTIF(E32:M32,0)+1) -> 797000 | P32: 0 | Q32: 0 | R32: 0 | S32: 0 | T32: 0 | U32: 0 | V32: 0 | W32: 자재 28
A33: 5C24D6D3657191B71C73737758D9D92588C537 | B33: 일반구조용압연강판 | C33: 일반구조용압연강판, 1.6mm | D33: kg | E33: 711 | G33: 800.9 | H33: 45 | I33: 868.34 | J33: 26 | K33: 0 | M33: 0 | O33: =SMALL(E33:M33,COUNTIF(E33:M33,0)+1) -> 711 | P33: 0 | Q33: 0 | R33: 0 | S33: 0 | T33: 0 | U33: 0 | V33: 0 | W33: 자재 29
A34: 5C24D6D3657191B71C73737758D9D92588C530 | B34: 일반구조용압연강판 | C34: 일반구조용압연강판, 2.3mm | D34: kg | E34: 0 | G34: 789 | H34: 45 | I34: 842.34 | J34: 26 | K34: 0 | M34: 0 | O34: =SMALL(E34:M34,COUNTIF(E34:M34,0)+1) -> 789 | P34: 0 | Q34: 0 | R34: 0 | S34: 0 | T34: 0 | U34: 0 | V34: 0 | W34: 자재 30
A35: 5C24D6D3657191B71C73737759EAC040144FF1 | B35: 일반구조용압연강판 | C35: 일반구조용압연강판, 9.0mm | D35: TON | E35: 745000 | G35: 790600 | H35: 45 | I35: 862600 | J35: 26 | K35: 0 | M35: 0 | O35: =SMALL(E35:M35,COUNTIF(E35:M35,0)+1) -> 745000 | P35: 0 | Q35: 0 | R35: 0 | S35: 0 | T35: 0 | U35: 0 | V35: 0 | W35: 자재 31
A36: 5C24D6D3657191B71C7263CA5BB1A72A226FE2 | B36: 스테인리스강판 | C36: 스테인리스강판, STS304, 1.5mm | D36: kg | E36: 2450 | G36: 2802 | H36: 59 | I36: 2690 | J36: 36 | K36: 0 | M36: 0 | O36: =SMALL(E36:M36,COUNTIF(E36:M36,0)+1) -> 2450 | P36: 0 | Q36: 0 | R36: 0 | S36: 0 | T36: 0 | U36: 0 | V36: 0 | W36: 자재 32
A37: 5C24D6D3657191B71D1B83415942CF08FCB4AA | B37: 폴리카보네이트시트 | C37: 10mm | D37: M2 | E37: 0 | G37: 0 | I37: 31500 | J37: 436 | K37: 32300 | L37: 537 | M37: 0 | O37: =SMALL(E37:M37,COUNTIF(E37:M37,0)+1) -> 31500 | P37: 0 | Q37: 0 | R37: 0 | S37: 0 | T37: 0 | U37: 0 | V37: 0 | W37: 자재 33
A38: 5C24D6D364619C74C79303015CCBE4AA0DF4DC | B38: 무수축모르타르 | C38: GP600 | D38: kg | E38: 0 | G38: 400 | H38: 94 | I38: 0 | K38: 0 | M38: 0 | O38: =SMALL(E38:M38,COUNTIF(E38:M38,0)+1) -> 400 | P38: 0 | Q38: 0 | R38: 0 | S38: 0 | T38: 0 | U38: 0 | V38: 0 | W38: 자재 34
A39: 5C24D6D364619C74C79273A550B690E3CDB447 | B39: 레미콘/무근 | C39: 레미콘,25-18-12 | D39: M3 | E39: 62110 | G39: 0 | I39: 0 | K39: 0 | M39: 0 | O39: =SMALL(E39:M39,COUNTIF(E39:M39,0)+1) -> 62110 | P39: 0 | Q39: 0 | R39: 0 | S39: 0 | T39: 0 | U39: 0 | V39: 0 | W39: 자재 35
A40: 5C24D6D364619C74C79273A550B690E3CDB701 | B40: 레미콘/구조체 | C40: 레미콘 25-21-15 | D40: M3 | E40: 66170 | G40: 0 | I40: 0 | K40: 0 | M40: 0 | O40: =SMALL(E40:M40,COUNTIF(E40:M40,0)+1) -> 66170 | P40: 0 | Q40: 0 | R40: 0 | S40: 0 | T40: 0 | U40: 0 | V40: 0 | W40: 자재 36
...
