Workbook
Name B: #REF!
Name CELLNOTE4: [1]노무비!#REF!
Name CELLNOTE4: [1]노무비!#REF!
Name CELLNOTE5: [2]노무비!#REF!
Name CELLNOTE5: [2]노무비!#REF!
Name CELLNOTE6: [1]노무비!#REF!
Name CELLNOTE6: [1]노무비!#REF!
Name CR: #REF!
Name CRa: #REF!
Name CRb: #REF!
Name GONGJONG: #REF!
Name Main: #REF!
Name MAINPART: #REF!
Name MAINPART: #REF!
Name mf: #REF!
Name mf: #REF!
Name PRINT_AREA_MI: #REF!
Name SChonsei: #REF!
Name SubDic: #REF!
Name TChonsei: #REF!
Name TDeposit: #REF!
Name TRent: #REF!
Name ㄹㄴㅇㄹㄴㅇㄹ: '[3]인원계획-미화'!#REF!
Name ㄹㄴㅇㄹㄴㅇㄹ: '[3]인원계획-미화'!#REF!
Name 반대탭: [4]시설장비!#REF!
Name 반대탭: [4]시설장비!#REF!
Name 연봉: '[3]인원계획-미화'!#REF!
Name 연봉: '[3]인원계획-미화'!#REF!

Sheet 원가계산
A1: 공 사 원 가 계 산 서
A2: 공 사 명 : | C2: 양평우체국 임시청사 영업과 조성공사
A3: 비 목 | D3: 금 액 | E3: 구 성 비 | H3: 비 고 | I3: 공사기간:1개월 이하
B4: 재 료 비 | C4: 직 접 재 료 비 | D4: =공종별집계표!F5 -> 25106990
A5: 순 | C5: 간 접 재 료 비
C6: 작업설,부산물(△)
C7: [ 소 계 ] | D7: =SUM(D4-D6) -> 25106990
A8: 공 | B8: 노 | C8: 직 접 노 무 비 | D8: =공종별집계표!H5 -> 11830907
B9: 무 | C9: 간 접 노 무 비 | D9: =INT(D8*F9) -> 946472 | E9: 직접노무비 * | F9: 0.08
B10: 비 | C10: [ 소 계 ] | D10: =INT((D8+D9)*1) -> 12777379
C11: 운 반 비
A12: 사 | B12: 경 | C12: 기 계 경 비 | D12: =공종별집계표!J5 -> 957836
C13: 산 재 보 험 료 | D13: =INT(D10*F13) -> 479151 | E13: 노무비 * | F13: 0.0375
C14: 고 용 보 험 료 | D14: =INT(D10*F14) -> 111163 | E14: 노무비 * | F14: 0.0087
C15: 퇴직 공제 부금비 | D15: =INT(D8*F15) -> 0 | E15: 직접노무비 * | F15: 0 | H15: 3억이상공사적용
C16: 건강보험료 | D16: =INT(D8*F16) -> 0 | E16: 직접노무비 * | F16: 0 | H16: 1개월이상공사적용함
A17: 원 | C17: 연금보험료 | D17: =INT(D8*F17) -> 0 | E17: 직접노무비 * | F17: 0 | H17: 1개월이상공사적용함
C18: 노인장기용양보험료 | D18: =INT(D16*F18) -> 0 | E18: 건강보험료 * | F18: 0 | H18: 1개얼이상공사적용함
C19: 공사이행보증수수료
C20: 건설하도급대금 지급보증서발급수수료 | E20: (재료비+직접노무비+산출경비) * | F20: 0.00081 | H20: 50억미만(추정가격)
C21: 건설기계대여대금 지급보증서발급수수료 | E21: (재료비+직접노무비+산출경비) * | F21: 0.001
C22: 산업안전보건관리비 | D22: =MIN(D24:D25) -> 1082280 | E22: ※도급자관급포함시: ⓑ와 ⓒ 비교후 적은금액 적용(총괄기준)
C23: ⓐ. 일 반 경 우 | D23: =INT((D4+D8)*F23) -> 1082280 | E23: (재료비+직접노무비) * | F23: 0.0293
C24: ⓑ. ⓐ 의 1.2배 | D24: =INT(D23*1.2) -> 1298736 | E24: ⓐ x 1.2
C25: ⓒ.[직재+직노+도급자관급] | D25: =INT((D7+D8+D40/1.1)*$F$23) -> 1082280 | E25: (재료비+직접노무비+도급자관급) * | F25: =+F23 -> 0.0293 | H25: 도급자관급 : 부가세 및 수수료제외
A26: 가 | B26: 비 | C26: 기 타 경 비 | D26: =INT((D7+D10)*F26) -> 1072127 | E26: (재료비+노무비) * | F26: 0.0283
C27: 환경보전비 | D27: =INT(SUM(D7+D8+D11+D12)*F27) -> 113687 | E27: (재료비+직접노무비+산출경비) * | F27: 0.003
C28: [ 소 계 ] | D28: =SUM(D11:D27)-D23-D24-D25 -> 3816244
A29: 계 | D29: =INT((D7+D10+D28)*1) -> 41700613
A30: 일 반 관 리 비 | D30: =INT(D29*F30) -> 2502036 | E30: 계 * | F30: 0.06
A31: 이 윤 | D31: =INT(((D10+D28+D30)*F31)*1)-3259 -> 2494453 | E31: (노무비+경비+일반관리비) * | F31: 0.1308 | H31: 단수정리
A32: 실내공기측정비 | D32: 0
A33: 폐기물처리비/100톤미만 | D33: 0
D34: 0
A35: 폐기물처리비/100톤미만
A36: 공 급 가 액 | D36: =ROUNDDOWN(SUM(D29:D35),0) -> 46697102
A37: 부 가 가 치 세 | D37: =INT(SUM(+D36*F37)) -> 4669710 | E37: 공급가액 * | F37: 0.1
A38: 친환경본인증 수수료
A39: 설 계 금 액 | D39: =ROUNDDOWN(SUM(D36:D38),-3) -> 51366000 | H39: 천단위 조정
C41: 순공사비계 | D41: =+D4+D8+D12 -> 37895733
D43: =#REF!/D41 -> #REF!
C46: 평당금액 | D46: =#REF!/247.48 -> #REF!
D47: =D41/#REF! -> #REF!
H49: =34.74*23.55 -> 818.127

Sheet 공종별집계표
A1: 공 종 별 집 계 표
A2: [ 양평우체국임시청사영업과조성공사 ]
A3: 품 명 | B3: 규 격 | C3: 단위 | D3: 수량 | E3: 재 료 비 | G3: 노 무 비 | I3: 경 비 | K3: 합 계 | M3: 비 고 | N3: 공종코드 | O3: 변수 | P3: 상위공종 | Q3: 공종구분 | R3: 공종레벨 | S3: 공종소계 | T3: 원가계산서 연결금액
E4: 단 가 | F4: 금 액 | G4: 단 가 | H4: 금 액 | I4: 단 가 | J4: 금 액 | K4: 단 가 | L4: 금 액
A5: 01 양평우체국임시청사영업과조성공사 | D5: 1 | E5: =F6+F16 -> 25106990 | F5: =E5*D5 -> 25106990 | G5: =H6+H16 -> 11830907 | H5: =G5*D5 -> 11830907 | I5: =J6+J16 -> 957836 | J5: =I5*D5 -> 957836 | K5: =E5+G5+I5 -> 37895733 | L5: =F5+H5+J5 -> 37895733 | N5: 01 | R5: 1
A6: 0101 01.내부공사 | D6: 1 | E6: =F7+F8+F9+F10+F11+F12+F13+F14+F15 -> 17454592 | F6: =E6*D6 -> 17454592 | G6: =H7+H8+H9+H10+H11+H12+H13+H14+H15 -> 8807969 | H6: =G6*D6 -> 8807969 | I6: =J7+J8+J9+J10+J11+J12+J13+J14+J15 -> 134902 | J6: =I6*D6 -> 134902 | K6: =E6+G6+I6 -> 26397463 | L6: =F6+H6+J6 -> 26397463 | N6: 0101 | P6: 01 | R6: 2
A7: 010101 가 설 공 사 | D7: 1 | E7: =공종별내역서!F27 -> 0 | F7: =E7*D7 -> 0 | G7: =공종별내역서!H27 -> 728574 | H7: =G7*D7 -> 728574 | I7: =공종별내역서!J27 -> 0 | J7: =I7*D7 -> 0 | K7: =E7+G7+I7 -> 728574 | L7: =F7+H7+J7 -> 728574 | N7: 010101 | P7: 0101 | R7: 3
A8: 010103 목공사및수장공사 | D8: 1 | E8: =공종별내역서!F52 -> 6906455 | F8: =E8*D8 -> 6906455 | G8: =공종별내역서!H52 -> 2100726 | H8: =G8*D8 -> 2100726 | I8: =공종별내역서!J52 -> 81657 | J8: =I8*D8 -> 81657 | K8: =E8+G8+I8 -> 9088838 | L8: =F8+H8+J8 -> 9088838 | N8: 010103 | P8: 0101 | R8: 3
A9: 010104 방 수 공 사 | D9: 1 | E9: =공종별내역서!F76 -> 7910 | F9: =E9*D9 -> 7910 | G9: =공종별내역서!H76 -> 58758 | H9: =G9*D9 -> 58758 | I9: =공종별내역서!J76 -> 0 | J9: =I9*D9 -> 0 | K9: =E9+G9+I9 -> 66668 | L9: =F9+H9+J9 -> 66668 | N9: 010104 | P9: 0101 | R9: 3
A10: 010105 금 속 공 사 | D10: 1 | E10: =공종별내역서!F100 -> 10168 | F10: =E10*D10 -> 10168 | G10: =공종별내역서!H100 -> 35822 | H10: =G10*D10 -> 35822 | I10: =공종별내역서!J100 -> 1164 | J10: =I10*D10 -> 1164 | K10: =E10+G10+I10 -> 47154 | L10: =F10+H10+J10 -> 47154 | N10: 010105 | P10: 0101 | R10: 3
A11: 010106 미 장 공 사 | D11: 1 | E11: =공종별내역서!F123 -> 20150 | F11: =E11*D11 -> 20150 | G11: =공종별내역서!H123 -> 77430 | H11: =G11*D11 -> 77430 | I11: =공종별내역서!J123 -> 0 | J11: =I11*D11 -> 0 | K11: =E11+G11+I11 -> 97580 | L11: =F11+H11+J11 -> 97580 | N11: 010106 | P11: 0101 | R11: 3
A12: 010107 창호 및 유리공사 | D12: 1 | E12: =공종별내역서!F147 -> 3749096 | F12: =E12*D12 -> 3749096 | G12: =공종별내역서!H147 -> 353879 | H12: =G12*D12 -> 353879 | I12: =공종별내역서!J147 -> 3574 | J12: =I12*D12 -> 3574 | K12: =E12+G12+I12 -> 4106549 | L12: =F12+H12+J12 -> 4106549 | N12: 010107 | P12: 0101 | R12: 3
A13: 010108 칠 공 사 | D13: 1 | E13: =공종별내역서!F171 -> 376004 | F13: =E13*D13 -> 376004 | G13: =공종별내역서!H171 -> 2083220 | H13: =G13*D13 -> 2083220 | I13: =공종별내역서!J171 -> 24178 | J13: =I13*D13 -> 24178 | K13: =E13+G13+I13 -> 2483402 | L13: =F13+H13+J13 -> 2483402 | N13: 010108 | P13: 0101 | R13: 3
A14: 010109 철 거 공 사 | D14: 1 | E14: =공종별내역서!F195 -> 0 | F14: =E14*D14 -> 0 | G14: =공종별내역서!H195 -> 178710 | H14: =G14*D14 -> 178710 | I14: =공종별내역서!J195 -> 3573 | J14: =I14*D14 -> 3573 | K14: =E14+G14+I14 -> 182283 | L14: =F14+H14+J14 -> 182283 | N14: 010109 | P14: 0101 | R14: 3
A15: 010112 365코너 공사 | D15: 1 | E15: =공종별내역서!F219 -> 6384809 | F15: =E15*D15 -> 6384809 | G15: =공종별내역서!H219 -> 3190850 | H15: =G15*D15 -> 3190850 | I15: =공종별내역서!J219 -> 20756 | J15: =I15*D15 -> 20756 | K15: =E15+G15+I15 -> 9596415 | L15: =F15+H15+J15 -> 9596415 | N15: 010112 | P15: 0101 | R15: 3
A16: 0103 02.외부공사 | D16: 1 | E16: =F17+F18+F19+F20+F21+F22+F23+F24 -> 7652398 | F16: =E16*D16 -> 7652398 | G16: =H17+H18+H19+H20+H21+H22+H23+H24 -> 3022938 | H16: =G16*D16 -> 3022938 | I16: =J17+J18+J19+J20+J21+J22+J23+J24 -> 822934 | J16: =I16*D16 -> 822934 | K16: =E16+G16+I16 -> 11498270 | L16: =F16+H16+J16 -> 11498270 | N16: 0103 | P16: 01 | R16: 2
A17: 010301 가 설 공 사 | D17: 1 | E17: =공종별내역서!F243 -> 0 | F17: =E17*D17 -> 0 | G17: =공종별내역서!H243 -> 79002 | H17: =G17*D17 -> 79002 | I17: =공종별내역서!J243 -> 0 | J17: =I17*D17 -> 0 | K17: =E17+G17+I17 -> 79002 | L17: =F17+H17+J17 -> 79002 | N17: 010301 | P17: 0103 | R17: 3
A18: 010302 토 및 지정공사 | D18: 1 | E18: =공종별내역서!F267 -> 3893 | F18: =E18*D18 -> 3893 | G18: =공종별내역서!H267 -> 11549 | H18: =G18*D18 -> 11549 | I18: =공종별내역서!J267 -> 2940 | J18: =I18*D18 -> 2940 | K18: =E18+G18+I18 -> 18382 | L18: =F18+H18+J18 -> 18382 | N18: 010302 | P18: 0103 | R18: 3
A19: 010303 철근콘크리트공사 | D19: 1 | E19: =공종별내역서!F291 -> 128430 | F19: =E19*D19 -> 128430 | G19: =공종별내역서!H291 -> 170492 | H19: =G19*D19 -> 170492 | I19: =공종별내역서!J291 -> 3297 | J19: =I19*D19 -> 3297 | K19: =E19+G19+I19 -> 302219 | L19: =F19+H19+J19 -> 302219 | N19: 010303 | P19: 0103 | R19: 3
A20: 010304 철 골 공 사 | D20: 1 | E20: =공종별내역서!F314 -> 877010 | F20: =E20*D20 -> 877010 | G20: =공종별내역서!H314 -> 1498081 | H20: =G20*D20 -> 1498081 | I20: =공종별내역서!J314 -> 491270 | J20: =I20*D20 -> 491270 | K20: =E20+G20+I20 -> 2866361 | L20: =F20+H20+J20 -> 2866361 | N20: 010304 | P20: 0103 | R20: 3
A21: 010305 지붕 및 홈통공사 | D21: 1 | E21: =공종별내역서!F338 -> 921600 | F21: =E21*D21 -> 921600 | G21: =공종별내역서!H338 -> 631456 | H21: =G21*D21 -> 631456 | I21: =공종별내역서!J338 -> 18912 | J21: =I21*D21 -> 18912 | K21: =E21+G21+I21 -> 1571968 | L21: =F21+H21+J21 -> 1571968 | N21: 010305 | P21: 0103 | R21: 3
A22: 010307 외부경사로 | D22: 1 | E22: =공종별내역서!F362 -> 445465 | F22: =E22*D22 -> 445465 | G22: =공종별내역서!H362 -> 632358 | H22: =G22*D22 -> 632358 | I22: =공종별내역서!J362 -> 6515 | J22: =I22*D22 -> 6515 | K22: =E22+G22+I22 -> 1084338 | L22: =F22+H22+J22 -> 1084338 | N22: 010307 | P22: 0103 | R22: 3
A23: 010308 외부 간판공사 | D23: 1 | E23: =공종별내역서!F386 -> 3446000 | F23: =E23*D23 -> 3446000 | G23: =공종별내역서!H386 -> 0 | H23: =G23*D23 -> 0 | I23: =공종별내역서!J386 -> 300000 | J23: =I23*D23 -> 300000 | K23: =E23+G23+I23 -> 3746000 | L23: =F23+H23+J23 -> 3746000 | N23: 010308 | P23: 0103 | R23: 3
A24: 010309 외부 전동어닝공사 | D24: 1 | E24: =공종별내역서!F410 -> 1830000 | F24: =E24*D24 -> 1830000 | G24: =공종별내역서!H410 -> 0 | H24: =G24*D24 -> 0 | I24: =공종별내역서!J410 -> 0 | J24: =I24*D24 -> 0 | K24: =E24+G24+I24 -> 1830000 | L24: =F24+H24+J24 -> 1830000 | N24: 010309 | P24: 0103 | R24: 3
A27: [ 합 계 ] | F27: =F5 -> 25106990 | H27: =H5 -> 11830907 | J27: =J5 -> 957836 | L27: =L5 -> 37895733

Sheet 공종별내역서
A1: [ 양평우체국임시청사영업과조성공사 ]
A2: 품 명 | B2: 규 격 | C2: 단위 | D2: 수량 | E2: 재 료 비 | G2: 노 무 비 | I2: 경 비 | K2: 합 계 | M2: 비 고 | N2: 품목코드 | O2: 변수 | P2: 설정 | Q2: 공종코드 | R2: 일위 | S2: 단산 | T2: 자재 | U2: 손료적용 | V2: 손료저장 | W2: 적용율 | X2: JUK1 | Y2: JUK2 | Z2: JUK3 | AA2: JUK4 | AB2: JUK5 | AC2: JUK6 | AD2: JUK7 | AE2: JUK8 | AF2: JUK9 | AG2: JUK10 | AH2: JUK11 | AI2: JUK12 | AJ2: JUK13 | AK2: JUK14 | AL2: JUK15 | AM2: JUK16 | AN2: JUK17 | AO2: JUK18 | AP2: JUK19 | AQ2: JUK20 | AR2: 자재구분 | AS2: 공종구분 | AT2: 공종레벨 | AU2: 공종+자재 | AV2: 고유번호
E3: 단 가 | F3: 금 액 | G3: 단 가 | H3: 금 액 | I3: 단 가 | J3: 금 액 | K3: 단 가 | L3: 금 액
A4: 010101 가 설 공 사 | Q4: 010101
A5: 건축물 현장정리 | B5: 보수 | C5: M2 | D5: 166 | E5: =TRUNC(일위대가목록!E4,0) -> 0 | F5: =TRUNC(E5*D5, 0) -> 0 | G5: =TRUNC(일위대가목록!F4,0) -> 4389 | H5: =TRUNC(G5*D5, 0) -> 728574 | I5: =TRUNC(일위대가목록!G4,0) -> 0 | J5: =TRUNC(I5*D5, 0) -> 0 | K5: =TRUNC(E5+G5+I5, 0) -> 4389 | L5: =TRUNC(F5+H5+J5, 0) -> 728574 | M5: 호표 1 | N5: 5B00560B3E219A7C4FFFE39659FF89 | Q5: 010101 | R5: T | S5: F | T5: F | AU5: 0101015B00560B3E219A7C4FFFE39659FF89 | AV5: 4
A27: [ 합 계 ] | F27: =SUM(F5:F26) -> 0 | H27: =SUM(H5:H26) -> 728574 | J27: =SUM(J5:J26) -> 0 | L27: =SUM(L5:L26) -> 728574 | N27: TOTAL
A28: 010102 목공사및수장공사 | Q28: 010103
A29: 조립식패널 | B29: 조립식패널, SGP칸막이, A형 | C29: M2 | D29: 9 | E29: =TRUNC(단가대비표!O46,0) -> 62000 | F29: =TRUNC(E29*D29, 0) -> 558000 | G29: =TRUNC(단가대비표!P46,0) -> 0 | H29: =TRUNC(G29*D29, 0) -> 0 | I29: =TRUNC(단가대비표!V46,0) -> 0 | J29: =TRUNC(I29*D29, 0) -> 0 | K29: =TRUNC(E29+G29+I29, 0) -> 62000 | L29: =TRUNC(F29+H29+J29, 0) -> 558000 | M29: 시공도 | N29: 5C24D6D36341971083CA235A52801690415C70 | Q29: 010103 | R29: F | S29: F | T29: T | AU29: 0101035C24D6D36341971083CA235A52801690415C70 | AV29: 11
A30: 전기온돌판넬설치 | C30: M2 | D30: 9 | E30: 59250 | F30: =TRUNC(E30*D30, 0) -> 533250 | G30: 13975 | H30: =TRUNC(G30*D30, 0) -> 125775 | I30: =TRUNC(일위대가목록!G6,0) -> 0 | J30: =TRUNC(I30*D30, 0) -> 0 | K30: =TRUNC(E30+G30+I30, 0) -> 73225 | L30: =TRUNC(F30+H30+J30, 0) -> 659025 | M30: 호표 3 | N30: 5B0036C3513191BE5DB1E3025ACACC | Q30: 010103 | R30: T | S30: F | T30: F | AU30: 0101035B0036C3513191BE5DB1E3025ACACC | AV30: 132
A31: 온도조절기 | C31: EA | D31: 1 | E31: 40000 | F31: =TRUNC(E31*D31, 0) -> 40000 | G31: =TRUNC(일위대가목록!F7,0) -> 0 | H31: =TRUNC(G31*D31, 0) -> 0 | I31: =TRUNC(일위대가목록!G7,0) -> 0 | J31: =TRUNC(I31*D31, 0) -> 0 | K31: =TRUNC(E31+G31+I31, 0) -> 40000 | L31: =TRUNC(F31+H31+J31, 0) -> 40000 | M31: 호표 4 | N31: 5B0036C3513191BE5DB1E3025ACACF | Q31: 010103 | R31: T | S31: F | T31: F | AU31: 0101035B0036C3513191BE5DB1E3025ACACF | AV31: 133
A32: 장판지 깔기 | B32: 3.0mm, 지정용 | C32: M2 | D32: 9 | E32: 19362 | F32: =TRUNC(E32*D32, 0) -> 174258 | G32: 3529 | H32: =TRUNC(G32*D32, 0) -> 31761 | I32: =TRUNC(일위대가목록!G8,0) -> 0 | J32: =TRUNC(I32*D32, 0) -> 0 | K32: =TRUNC(E32+G32+I32, 0) -> 22891 | L32: =TRUNC(F32+H32+J32, 0) -> 206019 | M32: 호표 5 | N32: 5B00B6F915219507CB28739C5D4AA6 | Q32: 010103 | R32: T | S32: F | T32: F | AU32: 0101035B00B6F915219507CB28739C5D4AA6 | AV32: 134
A33: 재료분리대 설치 | B33: 코너목재,ㄱ,20t100*82 | C33: M | D33: 3 | E33: =TRUNC(일위대가목록!E9,0) -> 13640 | F33: =TRUNC(E33*D33, 0) -> 40920 | G33: =TRUNC(일위대가목록!F9,0) -> 1931 | H33: =TRUNC(G33*D33, 0) -> 5793 | I33: =TRUNC(일위대가목록!G9,0) -> 38 | J33: =TRUNC(I33*D33, 0) -> 114 | K33: =TRUNC(E33+G33+I33, 0) -> 15609 | L33: =TRUNC(F33+H33+J33, 0) -> 46827 | M33: 호표 6 | N33: 5B00D6C4D78190781AB8334D544155 | Q33: 010103 | R33: T | S33: F | T33: F | AU33: 0101035B00D6C4D78190781AB8334D544155 | AV33: 135
A34: 건식벽 설치(C-STUD) | B34: 벽,100t,9.5t*2겹,양면 | C34: M2 | D34: 77 | E34: =TRUNC(일위대가목록!E10,0) -> 18351 | F34: =TRUNC(E34*D34, 0) -> 1413027 | G34: =TRUNC(일위대가목록!F10,0) -> 25161 | H34: =TRUNC(G34*D34, 0) -> 1937397 | I34: =TRUNC(일위대가목록!G10,0) -> 1059 | J34: =TRUNC(I34*D34, 0) -> 81543 | K34: =TRUNC(E34+G34+I34, 0) -> 44571 | L34: =TRUNC(F34+H34+J34, 0) -> 3431967 | M34: 호표 7 | N34: 5B00B6FBC3519EE104C8738458E7DD | Q34: 010103 | R34: T | S34: F | T34: F | AU34: 0101035B00B6FBC3519EE104C8738458E7DD | AV34: 16
A35: 롤블라인드설치 | B35: 방염 | C35: M2 | D35: 67 | E35: 26000 | F35: =TRUNC(E35*D35, 0) -> 1742000 | H35: =TRUNC(G35*D35, 0) -> 0 | I35: =TRUNC(일위대가목록!G11,0) -> 0 | J35: =TRUNC(I35*D35, 0) -> 0 | K35: =TRUNC(E35+G35+I35, 0) -> 26000 | L35: =TRUNC(F35+H35+J35, 0) -> 1742000 | N35: 5B0156FA9551939137CD23DF5BEE6D | Q35: 010103 | R35: T | S35: F | T35: F | AU35: 0101035B0156FA9551939137CD23DF5BEE6D | AV35: 17
A36: 롤스크린 설치 | B36: 900*2100 금융카운터 상부 | C36: M2 | D36: 2 | E36: 30000 | F36: =TRUNC(E36*D36, 0) -> 60000 | H36: =TRUNC(G36*D36, 0) -> 0 | K36: =TRUNC(E36+G36+I36, 0) -> 30000 | L36: =TRUNC(F36+H36+J36, 0) -> 60000
A37: 전면유리 방범필름 붙이기 | B37: 0.14 4mil 투명 UV99%차단 내후성 안전우선 | C37: M2 | D37: =D35 -> 67 | E37: 35000 | F37: =TRUNC(E37*D37, 0) -> 2345000 | H37: =TRUNC(G37*D37, 0) -> 0 | I37: =TRUNC(일위대가목록!G14,0) -> 0 | J37: =TRUNC(I37*D37, 0) -> 0 | K37: =TRUNC(E37+G37+I37, 0) -> 35000 | L37: =TRUNC(F37+H37+J37, 0) -> 2345000 | N37: 5B0156FA9551939137CD23DF5BEF09 | Q37: 010103 | R37: T | S37: F | T37: F | AU37: 0101035B0156FA9551939137CD23DF5BEF09 | AV37: 20
N38: 5B0156FA9551939137CD23DF5BEF0E | Q38: 010103 | R38: T | S38: F | T38: F | AU38: 0101035B0156FA9551939137CD23DF5BEF0E | AV38: 21
N39: 5B0156FA9551939137CD23DF5BEF0F | Q39: 010103 | R39: T | S39: F | T39: F | AU39: 0101035B0156FA9551939137CD23DF5BEF0F | AV39: 22
A52: [ 합 계 ] | F52: =SUM(F29:F51) -> 6906455 | H52: =SUM(H29:H51) -> 2100726 | J52: =SUM(J29:J51) -> 81657 | L52: =SUM(L29:L51) -> 9088838 | N52: TOTAL
A53: 010104 방 수 공 사 | Q53: 010104
A54: 수밀코킹(실리콘) | B54: 삼각, 10mm, 창호주위 | C54: M | D54: 14 | E54: =TRUNC(일위대가목록!E17,0) -> 565 | F54: =TRUNC(E54*D54, 0) -> 7910 | G54: =TRUNC(일위대가목록!F17,0) -> 4197 | H54: =TRUNC(G54*D54, 0) -> 58758 | I54: =TRUNC(일위대가목록!G17,0) -> 0 | J54: =TRUNC(I54*D54, 0) -> 0 | K54: =TRUNC(E54+G54+I54, 0) -> 4762 | L54: =TRUNC(F54+H54+J54, 0) -> 66668 | M54: 호표 14 | N54: 5B00C6D81B519D46D54313F8587DCF | Q54: 010104 | R54: T | S54: F | T54: F | AU54: 0101045B00C6D81B519D46D54313F8587DCF | AV54: 24
A76: [ 합 계 ] | F76: =SUM(F54:F75) -> 7910 | H76: =SUM(H54:H75) -> 58758 | J76: =SUM(J54:J75) -> 0 | L76: =SUM(L54:L75) -> 66668 | N76: TOTAL
A77: 010105 금 속 공 사 | Q77: 010105
A78: 스테인리스재료분리대 | B78: 바닥, W45*H20*1.5t | C78: M | D78: 2 | E78: =TRUNC(일위대가목록!E19,0) -> 5084 | F78: =TRUNC(E78*D78, 0) -> 10168 | G78: =TRUNC(일위대가목록!F19,0) -> 17911 | H78: =TRUNC(G78*D78, 0) -> 35822 | I78: =TRUNC(일위대가목록!G19,0) -> 582 | J78: =TRUNC(I78*D78, 0) -> 1164 | K78: =TRUNC(E78+G78+I78, 0) -> 23577 | L78: =TRUNC(F78+H78+J78, 0) -> 47154 | M78: 호표 16 | N78: 5B00B6FFBD21920E5A26F3275E3A5B | Q78: 010105 | R78: T | S78: F | T78: F | AU78: 0101055B00B6FFBD21920E5A26F3275E3A5B | AV78: 27
A100: [ 합 계 ] | F100: =SUM(F78:F99) -> 10168 | H100: =SUM(H78:H99) -> 35822 | J100: =SUM(J78:J99) -> 1164 | L100: =SUM(L78:L99) -> 47154 | N100: TOTAL
A101: 010106 미 장 공 사 | Q101: 010106
A102: 창호주위 모르타르 충전 | C102: M | D102: 7 | E102: =TRUNC(일위대가목록!E21,0) -> 0 | F102: =TRUNC(E102*D102, 0) -> 0 | G102: =TRUNC(일위대가목록!F21,0) -> 3436 | H102: =TRUNC(G102*D102, 0) -> 24052 | I102: =TRUNC(일위대가목록!G21,0) -> 0 | J102: =TRUNC(I102*D102, 0) -> 0 | K102: =TRUNC(E102+G102+I102, 0) -> 3436 | L102: =TRUNC(F102+H102+J102, 0) -> 24052 | M102: 호표 18 | N102: 5B008645AAA192F952E2E3675819B6 | Q102: 010106 | R102: T | S102: F | T102: F | AU102: 0101065B008645AAA192F952E2E3675819B6 | AV102: 30
A103: 창호주위 발포우레탄 충전 | C103: M | D103: 26 | E103: =TRUNC(일위대가목록!E22,0) -> 775 | F103: =TRUNC(E103*D103, 0) -> 20150 | G103: =TRUNC(일위대가목록!F22,0) -> 2053 | H103: =TRUNC(G103*D103, 0) -> 53378 | I103: =TRUNC(일위대가목록!G22,0) -> 0 | J103: =TRUNC(I103*D103, 0) -> 0 | K103: =TRUNC(E103+G103+I103, 0) -> 2828 | L103: =TRUNC(F103+H103+J103, 0) -> 73528 | M103: 호표 19 | N103: 5B008645AAA192F84C9793815161E5 | Q103: 010106 | R103: T | S103: F | T103: F | AU103: 0101065B008645AAA192F84C9793815161E5 | AV103: 31
A123: [ 합 계 ] | F123: =SUM(F102:F122) -> 20150 | H123: =SUM(H102:H122) -> 77430 | J123: =SUM(J102:J122) -> 0 | L123: =SUM(L102:L122) -> 97580 | N123: TOTAL
A124: 010107 창호 및 유리공사 | Q124: 010107
A125: FSD01[150*45*1.6T] | B125: 0.900 x 2.100 = 1.890 | C125: EA | D125: 1 | E125: =TRUNC(일위대가목록!E23,0) -> 175014 | F125: =TRUNC(E125*D125, 0) -> 175014 | G125: =TRUNC(일위대가목록!F23,0) -> 102512 | H125: =TRUNC(G125*D125, 0) -> 102512 | I125: =TRUNC(일위대가목록!G23,0) -> 2050 | J125: =TRUNC(I125*D125, 0) -> 2050 | K125: =TRUNC(E125+G125+I125, 0) -> 279576 | L125: =TRUNC(F125+H125+J125, 0) -> 279576 | M125: 호표 20 | N125: 5B008642DAB19E417C92037055EF93 | Q125: 010107 | R125: T | S125: F | T125: F | AU125: 0101075B008642DAB19E417C92037055EF93 | AV125: 42
A126: SSD01[100*45*1.5T,기밀성] | B126: 2.600 x 3.160 = 8.216 | C126: EA | D126: 1 | E126: =TRUNC(일위대가목록!E24,0) -> 1154440 | F126: =TRUNC(E126*D126, 0) -> 1154440 | G126: =TRUNC(일위대가목록!F24,0) -> 0 | H126: =TRUNC(G126*D126, 0) -> 0 | I126: =TRUNC(일위대가목록!G24,0) -> 0 | J126: =TRUNC(I126*D126, 0) -> 0 | K126: =TRUNC(E126+G126+I126, 0) -> 1154440 | L126: =TRUNC(F126+H126+J126, 0) -> 1154440 | M126: 호표 21 | N126: 5B008642DAB19E417C92037055EF95 | Q126: 010107 | R126: T | S126: F | T126: F | AU126: 0101075B008642DAB19E417C92037055EF95 | AV126: 43
A127: WD01[150*45] | B127: 0.900 x 2.100 = 1.890 | C127: EA | D127: 3 | E127: =TRUNC(일위대가목록!E25,0) -> 226800 | F127: =TRUNC(E127*D127, 0) -> 680400 | G127: =TRUNC(일위대가목록!F25,0) -> 0 | H127: =TRUNC(G127*D127, 0) -> 0 | I127: =TRUNC(일위대가목록!G25,0) -> 0 | J127: =TRUNC(I127*D127, 0) -> 0 | K127: =TRUNC(E127+G127+I127, 0) -> 226800 | L127: =TRUNC(F127+H127+J127, 0) -> 680400 | M127: 호표 22 | N127: 5B008642DAB19E417C92037055EF97 | Q127: 010107 | R127: T | S127: F | T127: F | AU127: 0101075B008642DAB19E417C92037055EF97 | AV127: 44
A128: 도어핸들 | B128: 스테인리스 | C128: 조 | D128: 4 | E128: =TRUNC(단가대비표!O75,0) -> 15000 | F128: =TRUNC(E128*D128, 0) -> 60000 | G128: =TRUNC(단가대비표!P75,0) -> 0 | H128: =TRUNC(G128*D128, 0) -> 0 | I128: =TRUNC(단가대비표!V75,0) -> 0 | J128: =TRUNC(I128*D128, 0) -> 0 | K128: =TRUNC(E128+G128+I128, 0) -> 15000 | L128: =TRUNC(F128+H128+J128, 0) -> 60000 | N128: 5C24C6CA40319DA6DB0913BC541161440D6F5B | Q128: 010107 | R128: F | S128: F | T128: T | AU128: 0101075C24C6CA40319DA6DB0913BC541161440D6F5B | AV128: 39
A129: 도어록 설치 | B129: 목재문, 재료비 별도 | C129: 개소 | D129: 3 | E129: =TRUNC(일위대가목록!E26,0) -> 0 | F129: =TRUNC(E129*D129, 0) -> 0 | G129: =TRUNC(일위대가목록!F26,0) -> 3563 | H129: =TRUNC(G129*D129, 0) -> 10689 | I129: =TRUNC(일위대가목록!G26,0) -> 71 | J129: =TRUNC(I129*D129, 0) -> 213 | K129: =TRUNC(E129+G129+I129, 0) -> 3634 | L129: =TRUNC(F129+H129+J129, 0) -> 10902 | M129: 호표 23 | N129: 5B008645AF2197892046132657E0A8 | Q129: 010107 | R129: T | S129: F | T129: F | AU129: 0101075B008645AF2197892046132657E0A8 | AV129: 45
A130: 도어록 설치 | B130: 강재문, 재료비 별도 | C130: 개소 | D130: 1 | E130: =TRUNC(일위대가목록!E27,0) -> 0 | F130: =TRUNC(E130*D130, 0) -> 0 | G130: =TRUNC(일위대가목록!F27,0) -> 2062 | H130: =TRUNC(G130*D130, 0) -> 2062 | I130: =TRUNC(일위대가목록!G27,0) -> 41 | J130: =TRUNC(I130*D130, 0) -> 41 | K130: =TRUNC(E130+G130+I130, 0) -> 2103 | L130: =TRUNC(F130+H130+J130, 0) -> 2103 | M130: 호표 24 | N130: 5B008645AF219789204503B755284F | Q130: 010107 | R130: T | S130: F | T130: F | AU130: 0101075B008645AF219789204503B755284F | AV130: 46
A131: 도어클로저 | B131: 도어클로저, K-2840, KS4호, 고급방화, 60∼85kg | C131: 조 | D131: 1 | E131: =TRUNC(단가대비표!O55,0) -> 80800 | F131: =TRUNC(E131*D131, 0) -> 80800 | G131: =TRUNC(단가대비표!P55,0) -> 0 | H131: =TRUNC(G131*D131, 0) -> 0 | I131: =TRUNC(단가대비표!V55,0) -> 0 | J131: =TRUNC(I131*D131, 0) -> 0 | K131: =TRUNC(E131+G131+I131, 0) -> 80800 | L131: =TRUNC(F131+H131+J131, 0) -> 80800 | N131: 5C24D6D362B19E904872F31354BB8E5983D0A5 | Q131: 010107 | R131: F | S131: F | T131: T | AU131: 0101075C24D6D362B19E904872F31354BB8E5983D0A5 | AV131: 34
A132: 도어체크 설치 | B132: 재료비 별도 | C132: 개소 | D132: 1 | E132: =TRUNC(일위대가목록!E28,0) -> 0 | F132: =TRUNC(E132*D132, 0) -> 0 | G132: =TRUNC(일위대가목록!F28,0) -> 15515 | H132: =TRUNC(G132*D132, 0) -> 15515 | I132: =TRUNC(일위대가목록!G28,0) -> 310 | J132: =TRUNC(I132*D132, 0) -> 310 | K132: =TRUNC(E132+G132+I132, 0) -> 15825 | L132: =TRUNC(F132+H132+J132, 0) -> 15825 | M132: 호표 25 | N132: 5B008645AF21920602FF231853F3E4 | Q132: 010107 | R132: T | S132: F | T132: F | AU132: 0101075B008645AF21920602FF231853F3E4 | AV132: 47
A133: 도어힌지 | B133: 도어힌지, 냉연분체 | C133: 개 | D133: 15 | E133: =TRUNC(단가대비표!O72,0) -> 2300 | F133: =TRUNC(E133*D133, 0) -> 34500 | G133: =TRUNC(단가대비표!P72,0) -> 0 | H133: =TRUNC(G133*D133, 0) -> 0 | I133: =TRUNC(단가대비표!V72,0) -> 0 | J133: =TRUNC(I133*D133, 0) -> 0 | K133: =TRUNC(E133+G133+I133, 0) -> 2300 | L133: =TRUNC(F133+H133+J133, 0) -> 34500 | N133: 5C24C6CA40319DAAB6DB534659C2F68E0718A0 | Q133: 010107 | R133: F | S133: F | T133: T | AU133: 0101075C24C6CA40319DAAB6DB534659C2F68E0718A0 | AV133: 36
A134: 피벗힌지 | B134: 피벗힌지, 100kg이하, 방화문용 | C134: 조 | D134: 1 | E134: =TRUNC(단가대비표!O73,0) -> 64300 | F134: =TRUNC(E134*D134, 0) -> 64300 | G134: =TRUNC(단가대비표!P73,0) -> 0 | H134: =TRUNC(G134*D134, 0) -> 0 | I134: =TRUNC(단가대비표!V73,0) -> 0 | J134: =TRUNC(I134*D134, 0) -> 0 | K134: =TRUNC(E134+G134+I134, 0) -> 64300 | L134: =TRUNC(F134+H134+J134, 0) -> 64300 | N134: 5C24C6CA40319DAAB6DB534659C2F0740FB636 | Q134: 010107 | R134: F | S134: F | T134: T | AU134: 0101075C24C6CA40319DAAB6DB534659C2F0740FB636 | AV134: 37
A135: 플로어힌지 | B135: 플로어힌지, KS2호, 85kg, 강화유리문(K-8200) | C135: 조 | D135: 2 | E135: =TRUNC(단가대비표!O74,0) -> 62200 | F135: =TRUNC(E135*D135, 0) -> 124400 | G135: =TRUNC(단가대비표!P74,0) -> 0 | H135: =TRUNC(G135*D135, 0) -> 0 | I135: =TRUNC(단가대비표!V74,0) -> 0 | J135: =TRUNC(I135*D135, 0) -> 0 | K135: =TRUNC(E135+G135+I135, 0) -> 62200 | L135: =TRUNC(F135+H135+J135, 0) -> 124400 | N135: 5C24C6CA40319DAAB6DB534659C2F0740FBA90 | Q135: 010107 | R135: F | S135: F | T135: T | AU135: 0101075C24C6CA40319DAAB6DB534659C2F0740FBA90 | AV135: 38
A136: 플로어힌지 설치 | B136: 재료비 별도 | C136: 개소 | D136: 2 | E136: =TRUNC(일위대가목록!E29,0) -> 0 | F136: =TRUNC(E136*D136, 0) -> 0 | G136: =TRUNC(일위대가목록!F29,0) -> 24023 | H136: =TRUNC(G136*D136, 0) -> 48046 | I136: =TRUNC(일위대가목록!G29,0) -> 480 | J136: =TRUNC(I136*D136, 0) -> 960 | K136: =TRUNC(E136+G136+I136, 0) -> 24503 | L136: =TRUNC(F136+H136+J136, 0) -> 49006 | M136: 호표 26 | N136: 5B008645AC51917B7EC1E3C35516BB | Q136: 010107 | R136: T | S136: F | T136: F | AU136: 0101075B008645AC51917B7EC1E3C35516BB | AV136: 48
A137: 강화유리문 손잡이 | C137: 개 | D137: 2 | E137: =TRUNC(단가대비표!O76,0) -> 45000 | F137: =TRUNC(E137*D137, 0) -> 90000 | G137: =TRUNC(단가대비표!P76,0) -> 0 | H137: =TRUNC(G137*D137, 0) -> 0 | I137: =TRUNC(단가대비표!V76,0) -> 0 | J137: =TRUNC(I137*D137, 0) -> 0 | K137: =TRUNC(E137+G137+I137, 0) -> 45000 | L137: =TRUNC(F137+H137+J137, 0) -> 90000 | N137: 5C24C6CA40319DA6DB0913BC541162534E695E | Q137: 010107 | R137: F | S137: F | T137: T | AU137: 0101075C24C6CA40319DA6DB0913BC541162534E695E | AV137: 40
A138: 강화 유리문 | B138: 유리문, 28*900*2100mm 투명 | C138: 개 | D138: 2 | E138: =TRUNC(일위대가목록!E30,0) -> 460000 | F138: =TRUNC(E138*D138, 0) -> 920000 | G138: =TRUNC(일위대가목록!F30,0) -> 25000 | H138: =TRUNC(G138*D138, 0) -> 50000 | I138: =TRUNC(일위대가목록!G30,0) -> 0 | J138: =TRUNC(I138*D138, 0) -> 0 | K138: =TRUNC(E138+G138+I138, 0) -> 485000 | L138: =TRUNC(F138+H138+J138, 0) -> 970000 | M138: 호표 27 | N138: 5B008642DAB19E417C92037055EF98 | Q138: 010107 | R138: T | S138: F | T138: F | AU138: 0101075B008642DAB19E417C92037055EF98 | AV138: 138
A139: 로이 복층유리 | B139: 복층유리, 6LE+12Ar+6LE, 24mm | C139: M2 | D139: 5 | E139: =TRUNC(단가대비표!O56,0) -> 71300 | F139: =TRUNC(E139*D139, 0) -> 356500 | G139: =TRUNC(단가대비표!P56,0) -> 0 | H139: =TRUNC(G139*D139, 0) -> 0 | I139: =TRUNC(단가대비표!V56,0) -> 0 | J139: =TRUNC(I139*D139, 0) -> 0 | K139: =TRUNC(E139+G139+I139, 0) -> 71300 | L139: =TRUNC(F139+H139+J139, 0) -> 356500 | N139: 5C24D6D362B19E927F6943B3508782D8D2D3E9 | Q139: 010107 | R139: F | S139: F | T139: T | AU139: 0101075C24D6D362B19E927F6943B3508782D8D2D3E9 | AV139: 35
A140: 복층유리 끼우기 | B140: 24mm(6+12A+6), 일반창호 | C140: M2 | D140: 5 | E140: =TRUNC(일위대가목록!E31,0) -> 0 | F140: =TRUNC(E140*D140, 0) -> 0 | G140: =TRUNC(일위대가목록!F31,0) -> 25011 | H140: =TRUNC(G140*D140, 0) -> 125055 | I140: =TRUNC(일위대가목록!G31,0) -> 0 | J140: =TRUNC(I140*D140, 0) -> 0 | K140: =TRUNC(E140+G140+I140, 0) -> 25011 | L140: =TRUNC(F140+H140+J140, 0) -> 125055 | M140: 호표 28 | N140: 5B00864B36A19397B137D397553C35 | Q140: 010107 | R140: T | S140: F | T140: F | AU140: 0101075B00864B36A19397B137D397553C35 | AV140: 49
A141: 복층유리주위 코킹 | B141: 5*5, 실리콘 | C141: M | D141: 31 | E141: =TRUNC(일위대가목록!E32,0) -> 282 | F141: =TRUNC(E141*D141, 0) -> 8742 | G141: =TRUNC(일위대가목록!F32,0) -> 0 | H141: =TRUNC(G141*D141, 0) -> 0 | I141: =TRUNC(일위대가목록!G32,0) -> 0 | J141: =TRUNC(I141*D141, 0) -> 0 | K141: =TRUNC(E141+G141+I141, 0) -> 282 | L141: =TRUNC(F141+H141+J141, 0) -> 8742 | M141: 호표 29 | N141: 5B00864B3F9196F5B11963C65E554D | Q141: 010107 | R141: T | S141: F | T141: F | AU141: 0101075B00864B3F9196F5B11963C65E554D | AV141: 50
A147: [ 합 계 ] | F147: =SUM(F125:F146) -> 3749096 | H147: =SUM(H125:H146) -> 353879 | J147: =SUM(J125:J146) -> 3574 | L147: =SUM(L125:L146) -> 4106549 | N147: TOTAL
A148: 010108 칠 공 사 | Q148: 010108
A149: 녹막이페인트 붓칠 | B149: 철재면, 1회, 1종 | C149: M2 | D149: 5 | E149: =TRUNC(일위대가목록!E33,0) -> 793 | F149: =TRUNC(E149*D149, 0) -> 3965 | G149: =TRUNC(일위대가목록!F33,0) -> 3143 | H149: =TRUNC(G149*D149, 0) -> 15715 | I149: =TRUNC(일위대가목록!G33,0) -> 0 | J149: =TRUNC(I149*D149, 0) -> 0 | K149: =TRUNC(E149+G149+I149, 0) -> 3936 | L149: =TRUNC(F149+H149+J149, 0) -> 19680 | M149: 호표 30 | N149: 5B00A6908D4193D84710138056FC0E | Q149: 010108 | R149: T | S149: F | T149: F | AU149: 0101085B00A6908D4193D84710138056FC0E | AV149: 52
A150: 바탕만들기+비닐페인트 롤러칠 | B150: 내부, 2회, 2급, 석고보드면 줄퍼티 | C150: M2 | D150: 157 | E150: =TRUNC(일위대가목록!E34,0) -> 2312 | F150: =TRUNC(E150*D150, 0) -> 362984 | G150: =TRUNC(일위대가목록!F34,0) -> 12640 | H150: =TRUNC(G150*D150, 0) -> 1984480 | I150: =TRUNC(일위대가목록!G34,0) -> 154 | J150: =TRUNC(I150*D150, 0) -> 24178 | K150: =TRUNC(E150+G150+I150, 0) -> 15106 | L150: =TRUNC(F150+H150+J150, 0) -> 2371642 | M150: 호표 31 | N150: 5B00A692BB519D606907B33A52238A | Q150: 010108 | R150: T | S150: F | T150: F | AU150: 0101085B00A692BB519D606907B33A52238A | AV150: 53
A151: 세라민페인트칠 | B151: 2회 | C151: M2 | D151: 5 | E151: =TRUNC(일위대가목록!E35,0) -> 1811 | F151: =TRUNC(E151*D151, 0) -> 9055 | G151: =TRUNC(일위대가목록!F35,0) -> 16605 | H151: =TRUNC(G151*D151, 0) -> 83025 | I151: =TRUNC(일위대가목록!G35,0) -> 0 | J151: =TRUNC(I151*D151, 0) -> 0 | K151: =TRUNC(E151+G151+I151, 0) -> 18416 | L151: =TRUNC(F151+H151+J151, 0) -> 92080 | M151: 호표 32 | N151: 5B00A69342119383421EA34B52BF2E | Q151: 010108 | R151: T | S151: F | T151: F | AU151: 0101085B00A69342119383421EA34B52BF2E | AV151: 140
A171: [ 합 계 ] | F171: =SUM(F149:F170) -> 376004 | H171: =SUM(H149:H170) -> 2083220 | J171: =SUM(J149:J170) -> 24178 | L171: =SUM(L149:L170) -> 2483402 | N171: TOTAL
A172: 010109 철 거 공 사 | Q172: 010109
A173: 기존 유리 일부 철거 | B173: 2600*3160 | C173: 개소 | D173: 1 | E173: =TRUNC(일위대가목록!E36,0) -> 0 | F173: =TRUNC(E173*D173, 0) -> 0 | G173: =TRUNC(일위대가목록!F36,0) -> 178710 | H173: =TRUNC(G173*D173, 0) -> 178710 | I173: =TRUNC(일위대가목록!G36,0) -> 3573 | J173: =TRUNC(I173*D173, 0) -> 3573 | K173: =TRUNC(E173+G173+I173, 0) -> 182283 | L173: =TRUNC(F173+H173+J173, 0) -> 182283 | M173: 호표 33 | N173: 5B0156FA9C819159AC3CC361579F35 | Q173: 010109 | R173: T | S173: F | T173: F | AU173: 0101095B0156FA9C819159AC3CC361579F35 | AV173: 57
A195: [ 합 계 ] | F195: =SUM(F173:F194) -> 0 | H195: =SUM(H173:H194) -> 178710 | J195: =SUM(J173:J194) -> 3573 | L195: =SUM(L173:L194) -> 182283 | N195: TOTAL
A196: 010112 365코너 공사 | Q196: 010112
A197: AD01[갤러리문] | B197: 1.200 x 2.100 = 2.520 | C197: EA | D197: 1 | E197: =TRUNC(일위대가목록!E37,0) -> 655200 | F197: =TRUNC(E197*D197, 0) -> 655200 | G197: =TRUNC(일위대가목록!F37,0) -> 0 | H197: =TRUNC(G197*D197, 0) -> 0 | I197: =TRUNC(일위대가목록!G37,0) -> 0 | J197: =TRUNC(I197*D197, 0) -> 0 | K197: =TRUNC(E197+G197+I197, 0) -> 655200 | L197: =TRUNC(F197+H197+J197, 0) -> 655200 | M197: 호표 34 | N197: 5B008642DAB19E417C92037055EF91 | Q197: 010112 | R197: T | S197: F | T197: F | AU197: 0101125B008642DAB19E417C92037055EF91 | AV197: 41
A198: 도어핸들 | B198: 스테인리스 | C198: 조 | D198: 2 | E198: =TRUNC(단가대비표!O75,0) -> 15000 | F198: =TRUNC(E198*D198, 0) -> 30000 | G198: =TRUNC(단가대비표!P75,0) -> 0 | H198: =TRUNC(G198*D198, 0) -> 0 | I198: =TRUNC(단가대비표!V75,0) -> 0 | J198: =TRUNC(I198*D198, 0) -> 0 | K198: =TRUNC(E198+G198+I198, 0) -> 15000 | L198: =TRUNC(F198+H198+J198, 0) -> 30000 | N198: 5C24C6CA40319DA6DB0913BC541161440D6F5B | Q198: 010112 | R198: F | S198: F | T198: T | AU198: 0101125C24C6CA40319DA6DB0913BC541161440D6F5B | AV198: 189
A199: 도어록 설치 | B199: 강재문, 재료비 별도 | C199: 개소 | D199: 2 | E199: =TRUNC(일위대가목록!E27,0) -> 0 | F199: =TRUNC(E199*D199, 0) -> 0 | G199: =TRUNC(일위대가목록!F27,0) -> 2062 | H199: =TRUNC(G199*D199, 0) -> 4124 | I199: =TRUNC(일위대가목록!G27,0) -> 41 | J199: =TRUNC(I199*D199, 0) -> 82 | K199: =TRUNC(E199+G199+I199, 0) -> 2103 | L199: =TRUNC(F199+H199+J199, 0) -> 4206 | M199: 호표 24 | N199: 5B008645AF219789204503B755284F | Q199: 010112 | R199: T | S199: F | T199: F | AU199: 0101125B008645AF219789204503B755284F | AV199: 190
A200: 기존출입문 전기정락 설치 | B200: 시스템경비,타공비포함 | C200: 개소 | D200: 1 | E200: =TRUNC(일위대가목록!E38,0) -> 130753 | F200: =TRUNC(E200*D200, 0) -> 130753 | G200: =TRUNC(일위대가목록!F38,0) -> 16917 | H200: =TRUNC(G200*D200, 0) -> 16917 | I200: =TRUNC(일위대가목록!G38,0) -> 546 | J200: =TRUNC(I200*D200, 0) -> 546 | K200: =TRUNC(E200+G200+I200, 0) -> 148216 | L200: =TRUNC(F200+H200+J200, 0) -> 148216 | M200: 호표 35 | N200: 5B008645AF219789204503B755284E | Q200: 010112 | R200: T | S200: F | T200: F | AU200: 0101125B008645AF219789204503B755284E | AV200: 193
A201: 건식벽 설치(C-STUD) | B201: 벽,100t,9.5t*2겹,양면 | C201: M2 | D201: 9 | E201: =TRUNC(일위대가목록!E10,0) -> 18351 | F201: =TRUNC(E201*D201, 0) -> 165159 | G201: =TRUNC(일위대가목록!F10,0) -> 25161 | H201: =TRUNC(G201*D201, 0) -> 226449 | I201: =TRUNC(일위대가목록!G10,0) -> 1059 | J201: =TRUNC(I201*D201, 0) -> 9531 | K201: =TRUNC(E201+G201+I201, 0) -> 44571 | L201: =TRUNC(F201+H201+J201, 0) -> 401139 | M201: 호표 7 | N201: 5B00B6FBC3519EE104C8738458E7DD | Q201: 010112 | R201: T | S201: F | T201: F | AU201: 0101125B00B6FBC3519EE104C8738458E7DD | AV201: 194
A202: 바탕만들기+비닐페인트 롤러칠 | B202: 내부, 2회, 2급, 석고보드면 줄퍼티 | C202: M2 | D202: 16 | E202: =TRUNC(일위대가목록!E34,0) -> 2312 | F202: =TRUNC(E202*D202, 0) -> 36992 | G202: =TRUNC(일위대가목록!F34,0) -> 12640 | H202: =TRUNC(G202*D202, 0) -> 202240 | I202: =TRUNC(일위대가목록!G34,0) -> 154 | J202: =TRUNC(I202*D202, 0) -> 2464 | K202: =TRUNC(E202+G202+I202, 0) -> 15106 | L202: =TRUNC(F202+H202+J202, 0) -> 241696 | M202: 호표 31 | N202: 5B00A692BB519D606907B33A52238A | Q202: 010112 | R202: T | S202: F | T202: F | AU202: 0101125B00A692BB519D606907B33A52238A | AV202: 195
A203: 소 계 | E203: 0 | F203: =SUM(F197:F202) -> 1018104 | G203: 0 | H203: =SUM(H197:H202) -> 449730 | I203: 0 | J203: =SUM(J197:J202) -> 12623 | L203: =SUM(L197:L202) -> 1480457 | N203: 5AB9865609D19989484483275C10 | R203: F | S203: F | T203: F | AU203: 0101125AB9865609D19989484483275C10 | AV203: 208
A204: [경사로] | E204: =TRUNC(단가대비표!O137,0) -> 0 | F204: =TRUNC(E204*D204, 0) -> 0 | G204: =TRUNC(단가대비표!P137,0) -> 0 | H204: =TRUNC(G204*D204, 0) -> 0 | I204: =TRUNC(단가대비표!V137,0) -> 0 | J204: =TRUNC(I204*D204, 0) -> 0 | K204: =TRUNC(E204+G204+I204, 0) -> 0 | L204: =TRUNC(F204+H204+J204, 0) -> 0 | N204: 5AB836251511962A98BEB33258009F2ABF4AAA | Q204: 010112 | R204: F | S204: F | T204: T | AU204: 0101125AB836251511962A98BEB33258009F2ABF4AAA | AV204: 200
A205: 레미콘/무근 | B205: 레미콘,25-18-12 | C205: M3 | D205: 1 | E205: =TRUNC(단가대비표!O39,0) -> 62110 | F205: =TRUNC(E205*D205, 0) -> 62110 | G205: =TRUNC(단가대비표!P39,0) -> 0 | H205: =TRUNC(G205*D205, 0) -> 0 | I205: =TRUNC(단가대비표!V39,0) -> 0 | J205: =TRUNC(I205*D205, 0) -> 0 | K205: =TRUNC(E205+G205+I205, 0) -> 62110 | L205: =TRUNC(F205+H205+J205, 0) -> 62110 | N205: 5C24D6D364619C74C79273A550B690E3CDB447 | Q205: 010112 | R205: F | S205: F | T205: T | AU205: 0101125C24D6D364619C74C79273A550B690E3CDB447 | AV205: 196
A206: 레디믹스트콘크리트 인력운반 타설 | B206: 무근구조물 | C206: M3 | D206: 1 | E206: =TRUNC(일위대가목록!E5,0) -> 0 | F206: =TRUNC(E206*D206, 0) -> 0 | G206: =TRUNC(일위대가목록!F5,0) -> 42603 | H206: =TRUNC(G206*D206, 0) -> 42603 | I206: =TRUNC(일위대가목록!G5,0) -> 852 | J206: =TRUNC(I206*D206, 0) -> 852 | K206: =TRUNC(E206+G206+I206, 0) -> 43455 | L206: =TRUNC(F206+H206+J206, 0) -> 43455 | M206: 호표 2 | N206: 5B00068B92C19E0728E8237656540F | Q206: 010112 | R206: T | S206: F | T206: F | AU206: 0101125B00068B92C19E0728E8237656540F | AV206: 197
A207: 화강석붙임(습식, 버너) | B207: 바닥, 포천석 30mm, 모르타르 30mm | C207: M2 | D207: 9 | E207: =TRUNC(일위대가목록!E39,0) -> 52635 | F207: =TRUNC(E207*D207, 0) -> 473715 | G207: =TRUNC(일위대가목록!F39,0) -> 83469 | H207: =TRUNC(G207*D207, 0) -> 751221 | I207: =TRUNC(일위대가목록!G39,0) -> 809 | J207: =TRUNC(I207*D207, 0) -> 7281 | K207: =TRUNC(E207+G207+I207, 0) -> 136913 | L207: =TRUNC(F207+H207+J207, 0) -> 1232217 | M207: 호표 36 | N207: 5B0096A8AF619158381BE3705D300D | Q207: 010112 | R207: T | S207: F | T207: F | AU207: 0101125B0096A8AF619158381BE3705D300D | AV207: 198
A208: 와이어메시 바닥깔기 | B208: #8-150*150 | C208: M2 | D208: 8 | E208: =TRUNC(일위대가목록!E18,0) -> 2485 | F208: =TRUNC(E208*D208, 0) -> 19880 | G208: =TRUNC(일위대가목록!F18,0) -> 912 | H208: =TRUNC(G208*D208, 0) -> 7296 | I208: =TRUNC(일위대가목록!G18,0) -> 0 | J208: =TRUNC(I208*D208, 0) -> 0 | K208: =TRUNC(E208+G208+I208, 0) -> 3397 | L208: =TRUNC(F208+H208+J208, 0) -> 27176 | M208: 호표 15 | N208: 5B00E62839F1994C9798130559EB96 | Q208: 010112 | R208: T | S208: F | T208: F | AU208: 0101125B00E62839F1994C9798130559EB96 | AV208: 199
A209: 소 계 | E209: 0 | F209: =SUM(F204:F208) -> 555705 | G209: 0 | H209: =SUM(H204:H208) -> 801120 | I209: 0 | J209: =SUM(J204:J208) -> 8133 | L209: =SUM(L204:L208) -> 1364958 | N209: 5AB9865609D19989484483275C10 | R209: F | S209: F | T209: F | AU209: 0101125AB9865609D19989484483275C10 | AV209: 209
A210: [외부 간판] | E210: =TRUNC(단가대비표!O138,0) -> 0 | F210: =TRUNC(E210*D210, 0) -> 0 | G210: =TRUNC(단가대비표!P138,0) -> 0 | H210: =TRUNC(G210*D210, 0) -> 0 | I210: =TRUNC(단가대비표!V138,0) -> 0 | J210: =TRUNC(I210*D210, 0) -> 0 | K210: =TRUNC(E210+G210+I210, 0) -> 0 | L210: =TRUNC(F210+H210+J210, 0) -> 0 | N210: 5AB836251511962A98BEB33258009F2ABF4AA9 | Q210: 010112 | R210: F | S210: F | T210: T | AU210: 0101125AB836251511962A98BEB33258009F2ABF4AA9 | AV210: 201
A211: 365간판 설치(비조명) | B211: 1510*550 | C211: EA | D211: 1 | E211: =TRUNC(단가대비표!O129,0) -> 1003000 | F211: =TRUNC(E211*D211, 0) -> 1003000 | G211: =TRUNC(단가대비표!P129,0) -> 0 | H211: =TRUNC(G211*D211, 0) -> 0 | I211: =TRUNC(단가대비표!V129,0) -> 0 | J211: =TRUNC(I211*D211, 0) -> 0 | K211: =TRUNC(E211+G211+I211, 0) -> 1003000 | L211: =TRUNC(F211+H211+J211, 0) -> 1003000 | M211: " | N211: 5AB836251511962A98BEB33258009F2ABF4987 | Q211: 010112 | R211: F | S211: F | T211: T | AU211: 0101125AB836251511962A98BEB33258009F2ABF4987 | AV211: 157
A212: 365코너 부스설치 | B212: 2구형, 간판 및 조명 등 부스 일체포함 | C212: 개소 | D212: 1 | E212: =TRUNC(단가대비표!O120,0) -> 3808000 | F212: =TRUNC(E212*D212, 0) -> 3808000 | G212: =TRUNC(단가대비표!P120,0) -> 1940000 | H212: =TRUNC(G212*D212, 0) -> 1940000 | I212: =TRUNC(단가대비표!V120,0) -> 0 | J212: =TRUNC(I212*D212, 0) -> 0 | K212: =TRUNC(E212+G212+I212, 0) -> 5748000 | L212: =TRUNC(F212+H212+J212, 0) -> 5748000 | N212: 5AB836251511962A98BEB33258009F2ABF48FC | Q212: 010112 | R212: F | S212: F | T212: T | AU212: 0101125AB836251511962A98BEB33258009F2ABF48FC | AV212: 145
A213: 소 계 | E213: 0 | F213: =SUM(F210:F212) -> 4811000 | G213: 0 | H213: =SUM(H210:H212) -> 1940000 | I213: 0 | J213: =SUM(J210:J212) -> 0 | L213: =SUM(L210:L212) -> 6751000 | N213: 5AB9865609D19989484483275C10 | R213: F | S213: F | T213: F | AU213: 0101125AB9865609D19989484483275C10 | AV213: 210
A219: [ 합 계 ] | F219: =SUM(F197:F218) -F203-F209-F213-F217 -> 6384809 | H219: =SUM(H197:H218) -H203-H209-H213-H217 -> 3190850 | J219: =SUM(J197:J218) -J203-J209-J213-J217 -> 20756 | L219: =SUM(L197:L218) -L203-L209-L213-L217 -> 9596415 | N219: TOTAL
A220: 010301 가 설 공 사 | Q220: 010301
A221: 건축물 현장정리 | B221: 보수 | C221: M2 | D221: 18 | E221: =TRUNC(일위대가목록!E4,0) -> 0 | F221: =TRUNC(E221*D221, 0) -> 0 | G221: =TRUNC(일위대가목록!F4,0) -> 4389 | H221: =TRUNC(G221*D221, 0) -> 79002 | I221: =TRUNC(일위대가목록!G4,0) -> 0 | J221: =TRUNC(I221*D221, 0) -> 0 | K221: =TRUNC(E221+G221+I221, 0) -> 4389 | L221: =TRUNC(F221+H221+J221, 0) -> 79002 | M221: 호표 1 | N221: 5B00560B3E219A7C4FFFE39659FF89 | Q221: 010301 | R221: T | S221: F | T221: F | AU221: 0103015B00560B3E219A7C4FFFE39659FF89 | AV221: 192
A243: [ 합 계 ] | F243: =SUM(F221:F242) -> 0 | H243: =SUM(H221:H242) -> 79002 | J243: =SUM(J221:J242) -> 0 | L243: =SUM(L221:L242) -> 79002 | N243: TOTAL
A244: 010302 토 및 지정공사 | Q244: 010302
A245: 터파기/토사 | B245: 보통, 굴삭기 0.7m3 | C245: M3 | D245: 2 | E245: =TRUNC(중기단가목록!E4,0) -> 308 | F245: =TRUNC(E245*D245, 0) -> 616 | G245: =TRUNC(중기단가목록!F4,0) -> 660 | H245: =TRUNC(G245*D245, 0) -> 1320 | I245: =TRUNC(중기단가목록!G4,0) -> 359 | J245: =TRUNC(I245*D245, 0) -> 718 | K245: =TRUNC(E245+G245+I245, 0) -> 1327 | L245: =TRUNC(F245+H245+J245, 0) -> 2654 | M245: 산근 1 | N245: 5B2556B52A219C3D7F2803605C9CF0 | Q245: 010302 | R245: F | S245: T | T245: F | AU245: 0103025B2556B52A219C3D7F2803605C9CF0 | AV245: 141
A246: 되메우기/토사, 두께 15cm | B246: 보통, 굴삭기 0.7m3+래머 80kg | C246: M3 | D246: 1 | E246: =TRUNC(중기단가목록!E5,0) -> 470 | F246: =TRUNC(E246*D246, 0) -> 470 | G246: =TRUNC(중기단가목록!F5,0) -> 6349 | H246: =TRUNC(G246*D246, 0) -> 6349 | I246: =TRUNC(중기단가목록!G5,0) -> 362 | J246: =TRUNC(I246*D246, 0) -> 362 | K246: =TRUNC(E246+G246+I246, 0) -> 7181 | L246: =TRUNC(F246+H246+J246, 0) -> 7181 | M246: 산근 2 | N246: 5B2556B8FE419C34640F93CC58D5DC | Q246: 010302 | R246: F | S246: T | T246: F | AU246: 0103025B2556B8FE419C34640F93CC58D5DC | AV246: 142
A247: 토사 운반/단지외 10km | B247: 보통, 덤프 15ton+굴삭기 0.7m3(고르기 별도) | C247: M3 | D247: 1 | E247: =TRUNC(중기단가목록!E6,0) -> 2807 | F247: =TRUNC(E247*D247, 0) -> 2807 | G247: =TRUNC(중기단가목록!F6,0) -> 3880 | H247: =TRUNC(G247*D247, 0) -> 3880 | I247: =TRUNC(중기단가목록!G6,0) -> 1860 | J247: =TRUNC(I247*D247, 0) -> 1860 | K247: =TRUNC(E247+G247+I247, 0) -> 8547 | L247: =TRUNC(F247+H247+J247, 0) -> 8547 | M247: 산근 3 | N247: 5B2556B631119EF44E31B3E75A3AFE | Q247: 010302 | R247: F | S247: T | T247: F | AU247: 0103025B2556B631119EF44E31B3E75A3AFE | AV247: 143
A267: [ 합 계 ] | F267: =SUM(F245:F266) -> 3893 | H267: =SUM(H245:H266) -> 11549 | J267: =SUM(J245:J266) -> 2940 | L267: =SUM(L245:L266) -> 18382 | N267: TOTAL
A268: 010303 철근콘크리트공사 | Q268: 010303
A269: 레미콘/구조체 | B269: 레미콘 25-21-15 | C269: M3 | D269: 1 | E269: =TRUNC(단가대비표!O40,0) -> 66170 | F269: =TRUNC(E269*D269, 0) -> 66170 | G269: =TRUNC(단가대비표!P40,0) -> 0 | H269: =TRUNC(G269*D269, 0) -> 0 | I269: =TRUNC(단가대비표!V40,0) -> 0 | J269: =TRUNC(I269*D269, 0) -> 0 | K269: =TRUNC(E269+G269+I269, 0) -> 66170 | L269: =TRUNC(F269+H269+J269, 0) -> 66170 | N269: 5C24D6D364619C74C79273A550B690E3CDB701 | Q269: 010303 | R269: F | S269: F | T269: T | AU269: 0103035C24D6D364619C74C79273A550B690E3CDB701 | AV269: 127
A270: 레디믹스트콘크리트 인력운반 타설 | B270: 철근구조물 | C270: M3 | D270: 1 | E270: =TRUNC(일위대가목록!E40,0) -> 0 | F270: =TRUNC(E270*D270, 0) -> 0 | G270: =TRUNC(일위대가목록!F40,0) -> 47822 | H270: =TRUNC(G270*D270, 0) -> 47822 | I270: =TRUNC(일위대가목록!G40,0) -> 956 | J270: =TRUNC(I270*D270, 0) -> 956 | K270: =TRUNC(E270+G270+I270, 0) -> 48778 | L270: =TRUNC(F270+H270+J270, 0) -> 48778 | M270: 호표 37 | N270: 5B00068B92C19E0728EBF3B854BE59 | Q270: 010303 | R270: T | S270: F | T270: F | AU270: 0103035B00068B92C19E0728EBF3B854BE59 | AV270: 174
A271: 이형철근 | B271: HD-10 | C271: 톤 | D271: 0.012 | E271: =TRUNC(단가대비표!O29,0) -> 710000 | F271: =TRUNC(E271*D271, 0) -> 8520 | G271: =TRUNC(단가대비표!P29,0) -> 0 | H271: =TRUNC(G271*D271, 0) -> 0 | I271: =TRUNC(단가대비표!V29,0) -> 0 | J271: =TRUNC(I271*D271, 0) -> 0 | K271: =TRUNC(E271+G271+I271, 0) -> 710000 | L271: =TRUNC(F271+H271+J271, 0) -> 8520 | N271: 5C24D6D36571925A2A78936A517F55516DFC2C | Q271: 010303 | R271: F | S271: F | T271: T | AU271: 0103035C24D6D36571925A2A78936A517F55516DFC2C | AV271: 89
A272: 이형철근 | B272: HD-19 | C272: 톤 | D272: 0.065 | E272: =TRUNC(단가대비표!O30,0) -> 695000 | F272: =TRUNC(E272*D272, 0) -> 45175 | G272: =TRUNC(단가대비표!P30,0) -> 0 | H272: =TRUNC(G272*D272, 0) -> 0 | I272: =TRUNC(단가대비표!V30,0) -> 0 | J272: =TRUNC(I272*D272, 0) -> 0 | K272: =TRUNC(E272+G272+I272, 0) -> 695000 | L272: =TRUNC(F272+H272+J272, 0) -> 45175 | N272: 5C24D6D36571925A2A78936A517F55516DFC29 | Q272: 010303 | R272: F | S272: F | T272: T | AU272: 0103035C24D6D36571925A2A78936A517F55516DFC29 | AV272: 91
A273: 철근, 현장 - 보통 가공 및 조립 | B273: 수직고 7m 미만 | C273: TON | D273: 0.076 | E273: =TRUNC(일위대가목록!E41,0) -> 9126 | F273: =TRUNC(E273*D273, 0) -> 693 | G273: =TRUNC(일위대가목록!F41,0) -> 797607 | H273: =TRUNC(G273*D273, 0) -> 60618 | I273: =TRUNC(일위대가목록!G41,0) -> 6339 | J273: =TRUNC(I273*D273, 0) -> 481 | K273: =TRUNC(E273+G273+I273, 0) -> 813072 | L273: =TRUNC(F273+H273+J273, 0) -> 61792 | M273: 호표 38 | N273: 5B00068F0D119651D090D31757AC01 | Q273: 010303 | R273: T | S273: F | T273: F | AU273: 0103035B00068F0D119651D090D31757AC01 | AV273: 128
A274: 유로폼 설치 및 해체 | B274: 간단, 수직고 7m까지 | C274: M2 | D274: 3 | E274: =TRUNC(일위대가목록!E42,0) -> 2624 | F274: =TRUNC(E274*D274, 0) -> 7872 | G274: =TRUNC(일위대가목록!F42,0) -> 20684 | H274: =TRUNC(G274*D274, 0) -> 62052 | I274: =TRUNC(일위대가목록!G42,0) -> 620 | J274: =TRUNC(I274*D274, 0) -> 1860 | K274: =TRUNC(E274+G274+I274, 0) -> 23928 | L274: =TRUNC(F274+H274+J274, 0) -> 71784 | M274: 호표 39 | N274: 5B00068CBDB1929B875F93315177E0 | Q274: 010303 | R274: T | S274: F | T274: F | AU274: 0103035B00068CBDB1929B875F93315177E0 | AV274: 93
A291: [ 합 계 ] | F291: =SUM(F269:F290) -> 128430 | H291: =SUM(H269:H290) -> 170492 | J291: =SUM(J269:J290) -> 3297 | L291: =SUM(L269:L290) -> 302219 | N291: TOTAL
A292: 010304 철 골 공 사 | Q292: 010304
A293: 일반구조용압연강판 | B293: 일반구조용압연강판, 6.0mm | C293: TON | D293: 0.03 | E293: =TRUNC(단가대비표!O32,0) -> 797000 | F293: =TRUNC(E293*D293, 0) -> 23910 | G293: =TRUNC(단가대비표!P32,0) -> 0 | H293: =TRUNC(G293*D293, 0) -> 0 | I293: =TRUNC(단가대비표!V32,0) -> 0 | J293: =TRUNC(I293*D293, 0) -> 0 | K293: =TRUNC(E293+G293+I293, 0) -> 797000 | L293: =TRUNC(F293+H293+J293, 0) -> 23910 | N293: 5C24D6D3657191B71C73737758D9D92589E3E4 | Q293: 010304 | R293: F | S293: F | T293: T | AU293: 0103045C24D6D3657191B71C73737758D9D92589E3E4 | AV293: 99
A294: 일반구조용압연강판 | B294: 일반구조용압연강판, 9.0mm | C294: TON | D294: 0.018 | E294: =TRUNC(단가대비표!O35,0) -> 745000 | F294: =TRUNC(E294*D294, 0) -> 13410 | G294: =TRUNC(단가대비표!P35,0) -> 0 | H294: =TRUNC(G294*D294, 0) -> 0 | I294: =TRUNC(단가대비표!V35,0) -> 0 | J294: =TRUNC(I294*D294, 0) -> 0 | K294: =TRUNC(E294+G294+I294, 0) -> 745000 | L294: =TRUNC(F294+H294+J294, 0) -> 13410 | N294: 5C24D6D3657191B71C73737759EAC040144FF1 | Q294: 010304 | R294: F | S294: F | T294: T | AU294: 0103045C24D6D3657191B71C73737759EAC040144FF1 | AV294: 129
A295: ㄱ형강 | B295: ㄱ형강, 등변, 50*50*6mm | C295: kg | D295: 149 | E295: =TRUNC(단가대비표!O28,0) -> 728 | F295: =TRUNC(E295*D295, 0) -> 108472 | G295: =TRUNC(단가대비표!P28,0) -> 0 | H295: =TRUNC(G295*D295, 0) -> 0 | I295: =TRUNC(단가대비표!V28,0) -> 0 | J295: =TRUNC(I295*D295, 0) -> 0 | K295: =TRUNC(E295+G295+I295, 0) -> 728 | L295: =TRUNC(F295+H295+J295, 0) -> 108472 | N295: 5C24D6D365719259040AA3985870C76DFBD777 | Q295: 010304 | R295: F | S295: F | T295: T | AU295: 0103045C24D6D365719259040AA3985870C76DFBD777 | AV295: 170
A296: 일반구조용각형강관 | B296: 일반구조용각형강관, 각형강관, 100*100*2.3mm | C296: M | D296: 12 | E296: 5149 | F296: =TRUNC(E296*D296, 0) -> 61788 | G296: =TRUNC(단가대비표!P89,0) -> 0 | H296: =TRUNC(G296*D296, 0) -> 0 | I296: =TRUNC(단가대비표!V89,0) -> 0 | J296: =TRUNC(I296*D296, 0) -> 0 | K296: =TRUNC(E296+G296+I296, 0) -> 5149 | L296: =TRUNC(F296+H296+J296, 0) -> 61788 | N296: 5C50169842C1922F0FD7E39E553AB26652CE81 | Q296: 010304 | R296: F | S296: F | T296: T | AU296: 0103045C50169842C1922F0FD7E39E553AB26652CE81 | AV296: 101
A297: 일반구조용각형강관 | B297: 일반구조용각형강관, 각형강관, 200*100*4.5mm | C297: M | D297: =21+12 -> 33 | E297: 14934 | F297: =TRUNC(E297*D297, 0) -> 492822 | G297: =TRUNC(단가대비표!P90,0) -> 0 | H297: =TRUNC(G297*D297, 0) -> 0 | I297: =TRUNC(단가대비표!V90,0) -> 0 | J297: =TRUNC(I297*D297, 0) -> 0 | K297: =TRUNC(E297+G297+I297, 0) -> 14934 | L297: =TRUNC(F297+H297+J297, 0) -> 492822 | N297: 5C50169842C1922F0FD7E39E553AB26653D695 | Q297: 010304 | R297: F | S297: F | T297: T | AU297: 0103045C50169842C1922F0FD7E39E553AB26653D695 | AV297: 103
A298: 트럭크레인(20톤) | B298: 공장 - 일 처리능력 15톤 | C298: 일 | D298: 1 | E298: =TRUNC(일위대가목록!E43,0) -> 57870 | F298: =TRUNC(E298*D298, 0) -> 57870 | G298: =TRUNC(일위대가목록!F43,0) -> 233832 | H298: =TRUNC(G298*D298, 0) -> 233832 | I298: =TRUNC(일위대가목록!G43,0) -> 288660 | J298: =TRUNC(I298*D298, 0) -> 288660 | K298: =TRUNC(E298+G298+I298, 0) -> 580362 | L298: =TRUNC(F298+H298+J298, 0) -> 580362 | M298: 호표 40 | N298: 5B00560CC491976E999C93EB575EBE | Q298: 010304 | R298: T | S298: F | T298: F | AU298: 0103045B00560CC491976E999C93EB575EBE | AV298: 104
A299: 기초 앵커 볼트 설치 | B299: M20*L500 | C299: 개 | D299: 16 | E299: =TRUNC(일위대가목록!E44,0) -> 2425 | F299: =TRUNC(E299*D299, 0) -> 38800 | G299: =TRUNC(일위대가목록!F44,0) -> 20186 | H299: =TRUNC(G299*D299, 0) -> 322976 | I299: =TRUNC(일위대가목록!G44,0) -> 403 | J299: =TRUNC(I299*D299, 0) -> 6448 | K299: =TRUNC(E299+G299+I299, 0) -> 23014 | L299: =TRUNC(F299+H299+J299, 0) -> 368224 | M299: 호표 41 | N299: 5B0016F6E7D19B3F27B213D3592FA9 | Q299: 010304 | R299: T | S299: F | T299: F | AU299: 0103045B0016F6E7D19B3F27B213D3592FA9 | AV299: 105
A300: 철골 가공 조립(표준 라멘구조) | B300: Rolled shape, 60ton 미만 | C300: TON | D300: 0.903 | E300: =TRUNC(일위대가목록!E45,0) -> 29479 | F300: =TRUNC(E300*D300, 0) -> 26619 | G300: =TRUNC(일위대가목록!F45,0) -> 343921 | H300: =TRUNC(G300*D300, 0) -> 310560 | I300: =TRUNC(일위대가목록!G45,0) -> 206352 | J300: =TRUNC(I300*D300, 0) -> 186335 | K300: =TRUNC(E300+G300+I300, 0) -> 579752 | L300: =TRUNC(F300+H300+J300, 0) -> 523514 | M300: 호표 42 | N300: 5B0016F78C919943FE2A333E531A0E | Q300: 010304 | R300: T | S300: F | T300: F | AU300: 0103045B0016F78C919943FE2A333E531A0E | AV300: 106
...

Sheet 일위대가목록
A1: 일 위 대 가 목 록
A2: [ 양평우체국임시청사영업과조성공사 ]
A3: 코 드 | B3: 품 명 | C3: 규 격 | D3: 단위 | E3: 재 료 비 | F3: 노 무 비 | G3: 경 비 | H3: 합 계 | I3: 번 호 | J3: 비 고 | K3: 노임계수 | L3: 할증 | M3: 품셈개요 | N3: 장비일위
A4: 5B00560B3E219A7C4FFFE39659FF89 | B4: 건축물 현장정리 | C4: 보수 | D4: M2 | E4: =일위대가!F6 -> 0 | F4: =일위대가!H6 -> 4389 | G4: =일위대가!J6 -> 0 | H4: =E4+F4+G4 -> 4389 | I4: 호표 1
A5: 5B00068B92C19E0728E8237656540F | B5: 레디믹스트콘크리트 인력운반 타설 | C5: 무근구조물 | D5: M3 | E5: =일위대가!F12 -> 0 | F5: =일위대가!H12 -> 42603 | G5: =일위대가!J12 -> 852 | H5: =E5+F5+G5 -> 43455 | I5: 호표 2
A6: 5B0036C3513191BE5DB1E3025ACACC | B6: 난방필름 설치 | C6: 0.3t | D6: M2 | E6: =일위대가!F16 -> 43071 | F6: =일위대가!H16 -> 0 | G6: =일위대가!J16 -> 0 | H6: =E6+F6+G6 -> 43071 | I6: 호표 3
A7: 5B0036C3513191BE5DB1E3025ACACF | B7: 온도조절기 | D7: EA | E7: =일위대가!F20 -> 58000 | F7: =일위대가!H20 -> 0 | G7: =일위대가!J20 -> 0 | H7: =E7+F7+G7 -> 58000 | I7: 호표 4
A8: 5B00B6F915219507CB28739C5D4AA6 | B8: 장판지 깔기 | C8: 3.0mm, 지정용 | D8: M2 | E8: =일위대가!F25 -> 19950 | F8: =일위대가!H25 -> 5046 | G8: =일위대가!J25 -> 0 | H8: =E8+F8+G8 -> 24996 | I8: 호표 5
A9: 5B00D6C4D78190781AB8334D544155 | B9: 재료분리대 설치 | C9: 코너목재,ㄱ,20t100*82 | D9: M | E9: =일위대가!F30 -> 13640 | F9: =일위대가!H30 -> 1931 | G9: =일위대가!J30 -> 38 | H9: =E9+F9+G9 -> 15609 | I9: 호표 6
A10: 5B00B6FBC3519EE104C8738458E7DD | B10: 건식벽 설치(C-STUD) | C10: 벽,100t,9.5t*2겹,양면 | D10: M2 | E10: =일위대가!F36 -> 18351 | F10: =일위대가!H36 -> 25161 | G10: =일위대가!J36 -> 1059 | H10: =E10+F10+G10 -> 44571 | I10: 호표 7
A11: 5B0156FA9551939137CD23DF5BEE6D | B11: 롤블라인드설치 | C11: 2400*1550,지정용 | D11: EA | E11: =일위대가!F40 -> 93000 | G11: =일위대가!J40 -> 0 | H11: =E11+F11+G11 -> 93000 | I11: 호표 8
A12: 5B0156FA9551939137CD23DF5BEF0A | B12: 롤블라인드설치 | C12: 4350*3160,지정용 | D12: EA | E12: =일위대가!F44 -> 343650 | G12: =일위대가!J44 -> 0 | H12: =E12+F12+G12 -> 343650 | I12: 호표 9
A13: 5B0156FA9551939137CD23DF5BEF0B | B13: 롤블라인드설치 | C13: 4400*3160,지정용 | D13: EA | E13: =일위대가!F48 -> 347600 | G13: =일위대가!J48 -> 0 | H13: =E13+F13+G13 -> 347600 | I13: 호표 10
A14: 5B0156FA9551939137CD23DF5BEF09 | B14: 전면유리 안전필름 설치 | C14: 4350*3160 | D14: 개소 | E14: =일위대가!F52 -> 481110 | G14: =일위대가!J52 -> 0 | H14: =E14+F14+G14 -> 481110 | I14: 호표 11
A15: 5B0156FA9551939137CD23DF5BEF0E | B15: 전면유리 안전필름 설치 | C15: 4400*3160 | D15: 개소 | E15: =일위대가!F56 -> 486640 | G15: =일위대가!J56 -> 0 | H15: =E15+F15+G15 -> 486640 | I15: 호표 12
A16: 5B0156FA9551939137CD23DF5BEF0F | B16: 전면유리 안전필름 설치 | C16: 2400*1550 | D16: 개소 | E16: =일위대가!F60 -> 130200 | G16: =일위대가!J60 -> 0 | H16: =E16+F16+G16 -> 130200 | I16: 호표 13
A17: 5B00C6D81B519D46D54313F8587DCF | B17: 수밀코킹(실리콘) | C17: 삼각, 10mm, 창호주위 | D17: M | E17: =일위대가!F65 -> 565 | F17: =일위대가!H65 -> 4197 | G17: =일위대가!J65 -> 0 | H17: =E17+F17+G17 -> 4762 | I17: 호표 14
A18: 5B00E62839F1994C9798130559EB96 | B18: 와이어메시 바닥깔기 | C18: #8-150*150 | D18: M2 | E18: =일위대가!F71 -> 2485 | F18: =일위대가!H71 -> 912 | G18: =일위대가!J71 -> 0 | H18: =E18+F18+G18 -> 3397 | I18: 호표 15
A19: 5B00B6FFBD21920E5A26F3275E3A5B | B19: 스테인리스재료분리대 | C19: 바닥, W45*H20*1.5t | D19: M | E19: =일위대가!F81 -> 5084 | F19: =일위대가!H81 -> 17911 | G19: =일위대가!J81 -> 582 | H19: =E19+F19+G19 -> 23577 | I19: 호표 16
A20: 5B0036C357519BC84225D3195D1D47 | B20: CONC'기계미장 | C20: 바닥 | D20: M2 | E20: =일위대가!F85 -> 0 | F20: =일위대가!H85 -> 4610 | G20: =일위대가!J85 -> 410 | H20: =E20+F20+G20 -> 5020 | I20: 호표 17
A21: 5B008645AAA192F952E2E3675819B6 | B21: 창호주위 모르타르 충전 | D21: M | E21: =일위대가!F92 -> 0 | F21: =일위대가!H92 -> 3436 | G21: =일위대가!J92 -> 0 | H21: =E21+F21+G21 -> 3436 | I21: 호표 18
A22: 5B008645AAA192F84C9793815161E5 | B22: 창호주위 발포우레탄 충전 | D22: M | E22: =일위대가!F98 -> 775 | F22: =일위대가!H98 -> 2053 | G22: =일위대가!J98 -> 0 | H22: =E22+F22+G22 -> 2828 | I22: 호표 19
A23: 5B008642DAB19E417C92037055EF93 | B23: FSD01[150*45*1.6T] | C23: 0.900 x 2.100 = 1.890 | D23: EA | E23: =일위대가!F103 -> 175014 | F23: =일위대가!H103 -> 102512 | G23: =일위대가!J103 -> 2050 | H23: =E23+F23+G23 -> 279576 | I23: 호표 20
A24: 5B008642DAB19E417C92037055EF95 | B24: SSD01[100*45*1.5T,기밀성] | C24: 2.600 x 3.160 = 8.216 | D24: EA | E24: =일위대가!F111 -> 1154440 | F24: =일위대가!H111 -> 0 | G24: =일위대가!J111 -> 0 | H24: =E24+F24+G24 -> 1154440 | I24: 호표 21
A25: 5B008642DAB19E417C92037055EF97 | B25: WD01[150*45] | C25: 0.900 x 2.100 = 1.890 | D25: EA | E25: =일위대가!F115 -> 226800 | F25: =일위대가!H115 -> 0 | G25: =일위대가!J115 -> 0 | H25: =E25+F25+G25 -> 226800 | I25: 호표 22
A26: 5B008645AF2197892046132657E0A8 | B26: 도어록 설치 | C26: 목재문, 재료비 별도 | D26: 개소 | E26: =일위대가!F120 -> 0 | F26: =일위대가!H120 -> 3563 | G26: =일위대가!J120 -> 71 | H26: =E26+F26+G26 -> 3634 | I26: 호표 23
A27: 5B008645AF219789204503B755284F | B27: 도어록 설치 | C27: 강재문, 재료비 별도 | D27: 개소 | E27: =일위대가!F125 -> 0 | F27: =일위대가!H125 -> 2062 | G27: =일위대가!J125 -> 41 | H27: =E27+F27+G27 -> 2103 | I27: 호표 24
A28: 5B008645AF21920602FF231853F3E4 | B28: 도어체크 설치 | C28: 재료비 별도 | D28: 개소 | E28: =일위대가!F131 -> 0 | F28: =일위대가!H131 -> 15515 | G28: =일위대가!J131 -> 310 | H28: =E28+F28+G28 -> 15825 | I28: 호표 25
A29: 5B008645AC51917B7EC1E3C35516BB | B29: 플로어힌지 설치 | C29: 재료비 별도 | D29: 개소 | E29: =일위대가!F137 -> 0 | F29: =일위대가!H137 -> 24023 | G29: =일위대가!J137 -> 480 | H29: =E29+F29+G29 -> 24503 | I29: 호표 26
A30: 5B008642DAB19E417C92037055EF98 | B30: 강화 유리문 | C30: 유리문, 28*900*2100mm 투명 | D30: 개 | E30: =일위대가!F141 -> 460000 | F30: =일위대가!H141 -> 25000 | G30: =일위대가!J141 -> 0 | H30: =E30+F30+G30 -> 485000 | I30: 호표 27
A31: 5B00864B36A19397B137D397553C35 | B31: 복층유리 끼우기 | C31: 24mm(6+12A+6), 일반창호 | D31: M2 | E31: =일위대가!F145 -> 0 | F31: =일위대가!H145 -> 25011 | G31: =일위대가!J145 -> 0 | H31: =E31+F31+G31 -> 25011 | I31: 호표 28
A32: 5B00864B3F9196F5B11963C65E554D | B32: 복층유리주위 코킹 | C32: 5*5, 실리콘 | D32: M | E32: =일위대가!F149 -> 282 | F32: =일위대가!H149 -> 0 | G32: =일위대가!J149 -> 0 | H32: =E32+F32+G32 -> 282 | I32: 호표 29
A33: 5B00A6908D4193D84710138056FC0E | B33: 녹막이페인트 붓칠 | C33: 철재면, 1회, 1종 | D33: M2 | E33: =일위대가!F154 -> 793 | F33: =일위대가!H154 -> 3143 | G33: =일위대가!J154 -> 0 | H33: =E33+F33+G33 -> 3936 | I33: 호표 30
A34: 5B00A692BB519D606907B33A52238A | B34: 바탕만들기+비닐페인트 롤러칠 | C34: 내부, 2회, 2급, 석고보드면 줄퍼티 | D34: M2 | E34: =일위대가!F160 -> 2312 | F34: =일위대가!H160 -> 12640 | G34: =일위대가!J160 -> 154 | H34: =E34+F34+G34 -> 15106 | I34: 호표 31
A35: 5B00A69342119383421EA34B52BF2E | B35: 세라민페인트칠 | C35: 2회 | D35: M2 | E35: =일위대가!F169 -> 1811 | F35: =일위대가!H169 -> 16605 | G35: =일위대가!J169 -> 0 | H35: =E35+F35+G35 -> 18416 | I35: 호표 32
A36: 5B0156FA9C819159AC3CC361579F35 | B36: 기존 유리 일부 철거 | C36: 2600*3160 | D36: 개소 | E36: =일위대가!F173 -> 0 | F36: =일위대가!H173 -> 178710 | G36: =일위대가!J173 -> 3573 | H36: =E36+F36+G36 -> 182283 | I36: 호표 33
A37: 5B008642DAB19E417C92037055EF91 | B37: AD01[갤러리문] | C37: 1.200 x 2.100 = 2.520 | D37: EA | E37: =일위대가!F177 -> 655200 | F37: =일위대가!H177 -> 0 | G37: =일위대가!J177 -> 0 | H37: =E37+F37+G37 -> 655200 | I37: 호표 34
A38: 5B008645AF219789204503B755284E | B38: 기존출입문 전기정락 설치 | C38: 시스템경비,타공비포함 | D38: 개소 | E38: =일위대가!F182 -> 130753 | F38: =일위대가!H182 -> 16917 | G38: =일위대가!J182 -> 546 | H38: =E38+F38+G38 -> 148216 | I38: 호표 35
A39: 5B0096A8AF619158381BE3705D300D | B39: 화강석붙임(습식, 버너) | C39: 바닥, 포천석 30mm, 모르타르 30mm | D39: M2 | E39: =일위대가!F188 -> 52635 | F39: =일위대가!H188 -> 83469 | G39: =일위대가!J188 -> 809 | H39: =E39+F39+G39 -> 136913 | I39: 호표 36
A40: 5B00068B92C19E0728EBF3B854BE59 | B40: 레디믹스트콘크리트 인력운반 타설 | C40: 철근구조물 | D40: M3 | E40: =일위대가!F194 -> 0 | F40: =일위대가!H194 -> 47822 | G40: =일위대가!J194 -> 956 | H40: =E40+F40+G40 -> 48778 | I40: 호표 37
A41: 5B00068F0D119651D090D31757AC01 | B41: 철근, 현장 - 보통 가공 및 조립 | C41: 수직고 7m 미만 | D41: TON | E41: =일위대가!F203 -> 9126 | F41: =일위대가!H203 -> 797607 | G41: =일위대가!J203 -> 6339 | H41: =E41+F41+G41 -> 813072 | I41: 호표 38
A42: 5B00068CBDB1929B875F93315177E0 | B42: 유로폼 설치 및 해체 | C42: 간단, 수직고 7m까지 | D42: M2 | E42: =일위대가!F208 -> 2624 | F42: =일위대가!H208 -> 20684 | G42: =일위대가!J208 -> 620 | H42: =E42+F42+G42 -> 23928 | I42: 호표 39
A43: 5B00560CC491976E999C93EB575EBE | B43: 트럭크레인(20톤) | C43: 공장 - 일 처리능력 15톤 | D43: 일 | E43: =일위대가!F212 -> 57870 | F43: =일위대가!H212 -> 233832 | G43: =일위대가!J212 -> 288660 | H43: =E43+F43+G43 -> 580362 | I43: 호표 40
A44: 5B0016F6E7D19B3F27B213D3592FA9 | B44: 기초 앵커 볼트 설치 | C44: M20*L500 | D44: 개 | E44: =일위대가!F217 -> 2425 | F44: =일위대가!H217 -> 20186 | G44: =일위대가!J217 -> 403 | H44: =E44+F44+G44 -> 23014 | I44: 호표 41
A45: 5B0016F78C919943FE2A333E531A0E | B45: 철골 가공 조립(표준 라멘구조) | C45: Rolled shape, 60ton 미만 | D45: TON | E45: =일위대가!F223 -> 29479 | F45: =일위대가!H223 -> 343921 | G45: =일위대가!J223 -> 206352 | H45: =E45+F45+G45 -> 579752 | I45: 호표 42
A46: 5B0016F167819E606CA7C37653A542 | B46: 철골세우기 - 표준단가 | C46: 6층 미만 | D46: TON | E46: =일위대가!F229 -> 0 | F46: =일위대가!H229 -> 106507 | G46: =일위대가!J229 -> 0 | H46: =E46+F46+G46 -> 106507 | I46: 호표 43
A47: 5B0016F16C7191C81E9AF3D55F2CF8 | B47: 현장용접 - 반자동 용접 기준 | C47: 각장 6mm 환산용접 길이 | D47: M | E47: =일위대가!F236 -> 684 | F47: =일위대가!H236 -> 7948 | G47: =일위대가!J236 -> 317 | H47: =E47+F47+G47 -> 8949 | I47: 호표 44
A48: 5B0016F16C719024A12F535F5C6E94 | B48: 주각부 무수축 모르타르 충전 | C48: 무수축모르타르, GP600 | D48: M3 | E48: =일위대가!F240 -> 780000 | F48: =일위대가!H240 -> 0 | G48: =일위대가!J240 -> 0 | H48: =E48+F48+G48 -> 780000 | I48: 호표 45
A49: 5B00A69340619257F4C5932E5D6508 | B49: 유성페인트 붓칠 | C49: 철재면, 2회. 1급 | D49: M2 | E49: =일위대가!F245 -> 846 | F49: =일위대가!H245 -> 8383 | G49: =일위대가!J245 -> 0 | H49: =E49+F49+G49 -> 9229 | I49: 호표 46
A50: 5B00B6FD8E119B0018D9E36254CB63 | B50: 폴리카보네이트 설치 | C50: 10mm,투명 | D50: M2 | E50: =일위대가!F251 -> 28800 | F50: =일위대가!H251 -> 19733 | G50: =일위대가!J251 -> 591 | H50: =E50+F50+G50 -> 49124 | I50: 호표 47
A51: 5B00B6F91521950623D91395524374 | B51: PVC계 바닥재 설치 - 시트 | C51: 주재료 제외, 전면접합 | D51: M2 | E51: =일위대가!F257 -> 840 | F51: =일위대가!H257 -> 5046 | G51: =일위대가!J257 -> 0 | H51: =E51+F51+G51 -> 5886 | I51: 호표 48
A52: 5B00D6C4D78190781B40A3CD56029A | B52: 플로어링 마루 설치 | D52: M2 | E52: =일위대가!F263 -> 0 | F52: =일위대가!H263 -> 9655 | G52: =일위대가!J263 -> 193 | H52: =E52+F52+G52 -> 9848 | I52: 호표 49
A53: 5B00B6FBC3519EE104C8738458E636 | B53: 석고판(나사고정) 설치 - 바탕용 | C53: 벽, 2겹 붙임 | D53: M2 | E53: =일위대가!F269 -> 0 | F53: =일위대가!H269 -> 11606 | G53: =일위대가!J269 -> 116 | H53: =E53+F53+G53 -> 11722 | I53: 호표 50
A54: 5B00B6FBC3519EE104C8738458E7AE | B54: 스터드설치 | C54: C-STUD 65*45@450 | D54: M2 | E54: =일위대가!F275 -> 10707 | F54: =일위대가!H275 -> 1949 | G54: =일위대가!J275 -> 827 | H54: =E54+F54+G54 -> 13483 | I54: 호표 51
A55: 5B0016F05ED190C48826431554F449 | B55: 부대철골 설치 | D55: TON | E55: =일위대가!F281 -> 50435 | F55: =일위대가!H281 -> 487463 | G55: =일위대가!J281 -> 206765 | H55: =E55+F55+G55 -> 744663 | I55: 호표 52
A56: 5C1A66684EC193FB4E59636D5E9A29AAC5132B50 | B56: 크레인(타이어) | C56: 50ton | D56: HR | E56: =일위대가!F288 -> 20174 | F56: =일위대가!H288 -> 38972 | G56: =일위대가!J288 -> 82706 | H56: =E56+F56+G56 -> 141852 | I56: 호표 53 | K56: A | N56: T
A57: 5B00C6D818819A8D3909B3A352CA73 | B57: 수밀코킹 | C57: 재료비 별도 | D57: M | E57: =일위대가!F292 -> 0 | F57: =일위대가!H292 -> 4197 | G57: =일위대가!J292 -> 0 | H57: =E57+F57+G57 -> 4197 | I57: 호표 54
A58: 5B00E62839F1994C9798130559ED43 | B58: 와이어메시 바닥깔기 | C58: 1800*1800 기준 | D58: M2 | E58: =일위대가!F296 -> 0 | F58: =일위대가!H296 -> 912 | G58: =일위대가!J296 -> 0 | H58: =E58+F58+G58 -> 912 | I58: 호표 55
A59: 5B00E6218B519065F38563E65DEEB3 | B59: 각종 잡철물 제작 설치 | C59: 스테인리스, 간단(강판의 가공설치) | D59: kg | E59: =일위대가!F301 -> 251 | F59: =일위대가!H301 -> 5261 | G59: =일위대가!J301 -> 171 | H59: =E59+F59+G59 -> 5683 | I59: 호표 56
A60: 5B00E6218B5190669A0F5377553A84 | B60: 각종 잡철물 제작 설치 | C60: 철재, 간단(강판의 가공설치) | D60: kg | E60: =일위대가!F306 -> 85 | F60: =일위대가!H306 -> 5261 | G60: =일위대가!J306 -> 171 | H60: =E60+F60+G60 -> 5517 | I60: 호표 57
A61: 5B00E6218B519065F03043955284F8 | B61: 각종 잡철물 제작 | C61: 스테인리스, 간단(강판의 가공설치) | D61: kg | E61: =일위대가!F319 -> 214 | F61: =일위대가!H319 -> 4192 | G61: =일위대가!J319 -> 137 | H61: =E61+F61+G61 -> 4543 | I61: 호표 58
A62: 5B00E6218B519065F03043845B9221 | B62: 각종 잡철물 설치 | C62: 스테인리스, 간단(강판의 가공설치) | D62: kg | E62: =일위대가!F332 -> 37 | F62: =일위대가!H332 -> 1069 | G62: =일위대가!J332 -> 34 | H62: =E62+F62+G62 -> 1140 | I62: 호표 59
A63: 5B00E6218B5190669967C3615A3B15 | B63: 각종 잡철물 제작 | C63: 철재, 간단(강판의 가공설치) | D63: kg | E63: =일위대가!F345 -> 73 | F63: =일위대가!H345 -> 4192 | G63: =일위대가!J345 -> 137 | H63: =E63+F63+G63 -> 4402 | I63: 호표 60
A64: 5B00E6218B5190669967C372512CC6 | B64: 각종 잡철물 설치 | C64: 철재, 간단(강판의 가공설치) | D64: kg | E64: =일위대가!F358 -> 12 | F64: =일위대가!H358 -> 1069 | G64: =일위대가!J358 -> 34 | H64: =E64+F64+G64 -> 1115 | I64: 호표 61
A65: 5C1A66684EC196485FFCB3365E748310DE13713C | B65: 용접기(교류) | C65: 500Amp | D65: HR | E65: =일위대가!F362 -> 0 | F65: =일위대가!H362 -> 0 | G65: =일위대가!J362 -> 137 | H65: =E65+F65+G65 -> 137 | I65: 호표 62 | K65: A | N65: T
A66: 5B0036C357519BC84225D3195D1D36 | B66: 표면 마무리 | C66: 기계마감 | D66: M2 | E66: =일위대가!F367 -> 0 | F66: =일위대가!H367 -> 461 | G66: =일위대가!J367 -> 41 | H66: =E66+F66+G66 -> 502 | I66: 호표 63
A67: 5B008642DB419513DB23B31A5B62D1 | B67: 강재창호 설치 | C67: 1.5~2.5m2 미만 | D67: 개소 | E67: =일위대가!F373 -> 0 | F67: =일위대가!H373 -> 102512 | G67: =일위대가!J373 -> 2050 | H67: =E67+F67+G67 -> 104562 | I67: 호표 64
A68: 5B00A6908D4193D8460D8324545701 | B68: 녹막이 페인트칠 | C68: 철재면, 1회, 1종 | D68: M2 | E68: =일위대가!F379 -> 793 | F68: =일위대가!H379 -> 0 | G68: =일위대가!J379 -> 0 | H68: =E68+F68+G68 -> 793 | I68: 호표 65
A69: 5B00A6908D4193D8460CF3BF533C3E | B69: 녹막이 페인트칠 | C69: 철재면, 1회 | D69: M2 | E69: =일위대가!F384 -> 0 | F69: =일위대가!H384 -> 3143 | G69: =일위대가!J384 -> 0 | H69: =E69+F69+G69 -> 3143 | I69: 호표 66
A70: 5B00A6822F21962DC75D63C95BFBD5 | B70: 석고보드면 바탕만들기 | C70: 줄퍼티 | D70: M2 | E70: =일위대가!F394 -> 1478 | F70: =일위대가!H394 -> 7711 | G70: =일위대가!J394 -> 154 | H70: =E70+F70+G70 -> 9343 | I70: 호표 67
A71: 5B00A692BB519D606903D3A95D101E | B71: 비닐페인트 롤러칠 | C71: 내부, 2회, 2급, 합성수지에멀션페인트 | D71: M2 | E71: =일위대가!F399 -> 834 | F71: =일위대가!H399 -> 0 | G71: =일위대가!J399 -> 0 | H71: =E71+F71+G71 -> 834 | I71: 호표 68
A72: 5B00A692BB519D606903D3A95FC265 | B72: 수성페인트 롤러칠 | C72: 2회 | D72: M2 | E72: =일위대가!F406 -> 0 | F72: =일위대가!H406 -> 4929 | G72: =일위대가!J406 -> 0 | H72: =E72+F72+G72 -> 4929 | I72: 호표 69
A73: 5B008642DB419513DB23B31A5B664C | B73: 강재창호 설치 | C73: 5.5~6.5m2 미만 | D73: 개소 | E73: =일위대가!F412 -> 0 | F73: =일위대가!H412 -> 145293 | G73: =일위대가!J412 -> 2905 | H73: =E73+F73+G73 -> 148198 | I73: 호표 70
A74: 5B00E6218B519067BDBEF3045DC3D6 | B74: 걱종 잡철물 제작 설치 | C74: 스테인리스, 간단 | D74: kg | E74: =일위대가!F417 -> 251 | F74: =일위대가!H417 -> 5639 | G74: =일위대가!J417 -> 182 | H74: =E74+F74+G74 -> 6072 | I74: 호표 71
A75: 5B00E6218B519067BE46639956C547 | B75: 각종 잡철물 제작 | C75: 스테인리스, 간단 | D75: kg | E75: =일위대가!F430 -> 214 | F75: =일위대가!H430 -> 4490 | G75: =일위대가!J430 -> 146 | H75: =E75+F75+G75 -> 4850 | I75: 호표 72
A76: 5B00E6218B519067BE46638F5062A8 | B76: 각종 잡철물 설치 | C76: 스테인리스, 간단 | D76: kg | E76: =일위대가!F443 -> 37 | F76: =일위대가!H443 -> 1149 | G76: =일위대가!J443 -> 36 | H76: =E76+F76+G76 -> 1222 | I76: 호표 73
A77: 5B0096A8ACA19C8BDF6F637F50C316 | B77: 모르타르비빔 - 돌붙임(바닥) | C77: 배합용적비 1:3, 시멘트, 모래 별도 | D77: M3 | E77: =일위대가!F449 -> 0 | F77: =일위대가!H449 -> 82781 | G77: =일위대가!J449 -> 0 | H77: =E77+F77+G77 -> 82781 | I77: 호표 74
A78: 5B0096A8AF61927FC17BE3DF51B222 | B78: 습식공법 - 화강석 | C78: 바닥, 자재 별도 | D78: M2 | E78: =일위대가!F455 -> 0 | F78: =일위대가!H455 -> 80986 | G78: =일위대가!J455 -> 809 | H78: =E78+F78+G78 -> 81795 | I78: 호표 75
A79: 5B0036C352D197C06FF6638A5ED8C9 | B79: 모르타르 배합 | C79: 모래채가름 포함 | D79: M3 | E79: =일위대가!F459 -> 0 | F79: =일위대가!H459 -> 82781 | G79: =일위대가!J459 -> 0 | H79: =E79+F79+G79 -> 82781 | I79: 호표 76
A80: 5C1A66684EC191CE5A34E3145D65CEA587E3B624 | B80: 굴삭기(무한궤도). | C80: 0.7㎥ | D80: HR | E80: =일위대가!F466 -> 18185 | F80: =일위대가!H466 -> 38972 | G80: =일위대가!J466 -> 21214 | H80: =E80+F80+G80 -> 78371 | I80: 호표 77 | K80: A | N80: T
A81: 5C1A66684EC19020E14C63DA5F6F463D24560C0A | B81: 래머 | C81: 80kg | D81: HR | E81: =일위대가!F473 -> 1077 | F81: =일위대가!H473 -> 25683 | G81: =일위대가!J473 -> 440 | H81: =E81+F81+G81 -> 27200 | I81: 호표 78 | K81: A | N81: T
A82: 5C1A66684EC191CAFF8633705998C70B44EE6C29 | B82: 덤프트럭. | C82: 15ton | D82: HR | E82: =일위대가!F480 -> 28195 | F82: =일위대가!H480 -> 38972 | G82: =일위대가!J480 -> 18299 | H82: =E82+F82+G82 -> 85466 | I82: 호표 79 | K82: A | N82: T
A83: 5C1A66684EC191CAFEFDB37C5CD05A1CE1D65CD5 | B83: 덤프트럭 자동덮개시설 | C83: 15ton | D83: HR | E83: =일위대가!F484 -> 0 | F83: =일위대가!H484 -> 0 | G83: =일위대가!J484 -> 386 | H83: =E83+F83+G83 -> 386 | I83: 호표 80 | K83: A | N83: T
A84: 5B00068CBDB1929B86B9330752054E | B84: 유로폼 - 자재비 | D84: M2 | E84: =일위대가!F494 -> 2624 | F84: =일위대가!H494 -> 0 | G84: =일위대가!J494 -> 0 | H84: =E84+F84+G84 -> 2624 | I84: 호표 81
A85: 5B00068CBDB1929B86BAD37B5BD424 | B85: 유로폼 - 인력투입 | C85: 간단, 수직고 7m까지 | D85: M2 | E85: =일위대가!F500 -> 0 | F85: =일위대가!H500 -> 20684 | G85: =일위대가!J500 -> 620 | H85: =E85+F85+G85 -> 21304 | I85: 호표 82
A86: 5C1A66684EC193FB4E59636D5E9DFDC709BBC7EC | B86: 크레인(타이어) | C86: 20ton | D86: HR | E86: =일위대가!F507 -> 9645 | F86: =일위대가!H507 -> 38972 | G86: =일위대가!J507 -> 48110 | H86: =E86+F86+G86 -> 96727 | I86: 호표 83 | K86: A | N86: T
A87: 5B0016F6E7D19B3F27B213D35FB893 | B87: 앵커 볼트 설치 | C87: ∮20 이하 | D87: 개 | E87: =일위대가!F513 -> 0 | F87: =일위대가!H513 -> 20186 | G87: =일위대가!J513 -> 403 | H87: =E87+F87+G87 -> 20589 | I87: 호표 84
A88: 5B0016F78C919943FE2923BE5B793C | B88: 철골공수 산정방법<소요 부자재량> | C88: H형강부재(Rolled shape) | D88: TON | E88: =일위대가!F520 -> 29479 | F88: =일위대가!H520 -> 0 | G88: =일위대가!J520 -> 0 | H88: =E88+F88+G88 -> 29479 | I88: 호표 85
A89: 5B00A69340619257F4C593645A45A9 | B89: 유성페인트 붓칠 | C89: 철재면, 2회, 1급 | D89: M2 | E89: =일위대가!F526 -> 846 | F89: =일위대가!H526 -> 0 | G89: =일위대가!J526 -> 0 | H89: =E89+F89+G89 -> 846 | I89: 호표 86
A90: 5B00A69340619257F4C59364589479 | B90: 유성페인트 붓칠 | C90: 철재면, 2회 | D90: M2 | E90: =일위대가!F533 -> 0 | F90: =일위대가!H533 -> 8383 | G90: =일위대가!J533 -> 0 | H90: =E90+F90+G90 -> 8383 | I90: 호표 87
A91: 5B00B6FD8E119B0018D9E347577869 | B91: 폴리카보네이트 설치 | D91: M2 | E91: =일위대가!F539 -> 0 | F91: =일위대가!H539 -> 19733 | G91: =일위대가!J539 -> 591 | H91: =E91+F91+G91 -> 20324 | I91: 호표 88
A92: 5C1A66684EC193FD7C5B23F15D1063ACB586DD59 | B92: 트럭 트랙터 및 평판트레일러 | C92: 20ton | D92: HR | E92: =일위대가!F546 -> 29471 | F92: =일위대가!H546 -> 38972 | G92: =일위대가!J546 -> 15434 | H92: =E92+F92+G92 -> 83877 | I92: 호표 89 | K92: A | N92: T
A93: 5C1A66684EC193FB4E5853FE5CC9068AD0C8CBB1 | B93: 트럭탑재형 크레인 | C93: 10ton | D93: HR | E93: =일위대가!F553 -> 15882 | F93: =일위대가!H553 -> 33064 | G93: =일위대가!J553 -> 17839 | H93: =E93+F93+G93 -> 66785 | I93: 호표 90 | K93: A | N93: T

Sheet 일위대가
A1: [ 양평우체국임시청사영업과조성공사 ]
A2: 품 명 | B2: 규 격 | C2: 단위 | D2: 수량 | E2: 재 료 비 | G2: 노 무 비 | I2: 경 비 | K2: 합 계 | M2: 비 고 | N2: 일위대가 | O2: 품목코드 | P2: 일위 | Q2: 단산 | R2: 자재 | S2: 손료적용 | T2: 손료저장 | U2: 적용율 | V2: JUK1 | W2: JUK2 | X2: JUK3 | Y2: JUK4 | Z2: JUK5 | AA2: JUK6 | AB2: JUK7 | AC2: JUK8 | AD2: JUK9 | AE2: JUK10 | AF2: JUK11 | AG2: JUK12 | AH2: JUK13 | AI2: JUK14 | AJ2: JUK15 | AK2: JUK16 | AL2: JUK17 | AM2: JUK18 | AN2: JUK19 | AO2: JUK20 | AP2: 할증적용 | AQ2: 할증저장 | AR2: 할증율 | AS2: HAL1 | AT2: HAL2 | AU2: HAL3 | AV2: 자재구분 | AW2: 일위대가+자재 | AX2: 장비일위 | AY2: 설정
E3: 단 가 | F3: 금 액 | G3: 단 가 | H3: 금 액 | I3: 단 가 | J3: 금 액 | K3: 단 가 | L3: 금 액
A4: 건축물 현장정리 보수 M2 ( 호표 1 ) | N4: 5B00560B3E219A7C4FFFE39659FF89
A5: 보통인부 | B5: 일반공사 즤종 | C5: 인 | D5: 0.035 | E5: =단가대비표!O99 -> 0 | F5: =TRUNC(E5*D5,1) -> 0 | G5: =단가대비표!P99 -> 125427 | H5: =TRUNC(G5*D5,1) -> 4389.9 | I5: =단가대비표!V99 -> 0 | J5: =TRUNC(I5*D5,1) -> 0 | K5: =TRUNC(E5+G5+I5,1) -> 125427 | L5: =TRUNC(F5+H5+J5,1) -> 4389.9 | N5: 5B00560B3E219A7C4FFFE39659FF89 | O5: 5BDCB697D6F195D8EFCAC3375963246FA22860 | P5: F | Q5: F | R5: T | AW5: 5B00560B3E219A7C4FFFE39659FF895BDCB697D6F195D8EFCAC3375963246FA22860
A6: [ 합 계 ] | F6: =TRUNC(SUMIF(N5:N5, N4, F5:F5),0) -> 0 | H6: =TRUNC(SUMIF(N5:N5, N4, H5:H5),0) -> 4389 | J6: =TRUNC(SUMIF(N5:N5, N4, J5:J5),0) -> 0 | L6: =F6+H6+J6 -> 4389 | N6: TOTAL | O6: TOTAL
A8: 레디믹스트콘크리트 인력운반 타설 무근구조물 M3 ( 호표 2 ) | N8: 5B00068B92C19E0728E8237656540F
A9: 콘크리트공 | B9: 일반공사 즤종 | C9: 인 | D9: 0.12 | E9: =단가대비표!O108 -> 0 | F9: =TRUNC(E9*D9,1) -> 0 | G9: =단가대비표!P108 -> 198242 | H9: =TRUNC(G9*D9,1) -> 23789 | I9: =단가대비표!V108 -> 0 | J9: =TRUNC(I9*D9,1) -> 0 | K9: =TRUNC(E9+G9+I9,1) -> 198242 | L9: =TRUNC(F9+H9+J9,1) -> 23789 | N9: 5B00068B92C19E0728E8237656540F | O9: 5BDCB697D6F195D8EFCAC3375963246FA2290A | P9: F | Q9: F | R9: T | V9: 1 | AW9: 5B00068B92C19E0728E8237656540F5BDCB697D6F195D8EFCAC3375963246FA2290A
A10: 보통인부 | B10: 일반공사 즤종 | C10: 인 | D10: 0.15 | E10: =단가대비표!O99 -> 0 | F10: =TRUNC(E10*D10,1) -> 0 | G10: =단가대비표!P99 -> 125427 | H10: =TRUNC(G10*D10,1) -> 18814 | I10: =단가대비표!V99 -> 0 | J10: =TRUNC(I10*D10,1) -> 0 | K10: =TRUNC(E10+G10+I10,1) -> 125427 | L10: =TRUNC(F10+H10+J10,1) -> 18814 | N10: 5B00068B92C19E0728E8237656540F | O10: 5BDCB697D6F195D8EFCAC3375963246FA22860 | P10: F | Q10: F | R10: T | V10: 1 | AW10: 5B00068B92C19E0728E8237656540F5BDCB697D6F195D8EFCAC3375963246FA22860
A11: 공구손료 | B11: 인력품의 2% | C11: 식 | D11: 1 | E11: 0 | F11: =TRUNC(E11*D11,1) -> 0 | G11: 0 | H11: =TRUNC(G11*D11,1) -> 0 | I11: =TRUNC(SUMIF(V9:V11, RIGHTB(O11, 1), H9:H11)*U11, 2) -> 852.06 | J11: =TRUNC(I11*D11,1) -> 852 | K11: =TRUNC(E11+G11+I11,1) -> 852 | L11: =TRUNC(F11+H11+J11,1) -> 852 | N11: 5B00068B92C19E0728E8237656540F | O11: 5A1EF6876ED19C2C8B8F632058FA001 | P11: F | Q11: F | R11: F | S11: 1 | T11: 2 | U11: 0.02 | AW11: 5B00068B92C19E0728E8237656540F5A1EF6876ED19C2C8B8F632058FA001
A12: [ 합 계 ] | F12: =TRUNC(SUMIF(N9:N11, N8, F9:F11),0) -> 0 | H12: =TRUNC(SUMIF(N9:N11, N8, H9:H11),0) -> 42603 | J12: =TRUNC(SUMIF(N9:N11, N8, J9:J11),0) -> 852 | L12: =F12+H12+J12 -> 43455 | N12: TOTAL | O12: TOTAL
A14: 난방필름 설치 0.3t M2 ( 호표 3 ) | N14: 5B0036C3513191BE5DB1E3025ACACC
A15: 필름난방 | B15: 0.3T | C15: M2 | D15: 1.05 | E15: =단가대비표!O93 -> 41020 | F15: =TRUNC(E15*D15,1) -> 43071 | G15: =단가대비표!P93 -> 0 | H15: =TRUNC(G15*D15,1) -> 0 | I15: =단가대비표!V93 -> 0 | J15: =TRUNC(I15*D15,1) -> 0 | K15: =TRUNC(E15+G15+I15,1) -> 41020 | L15: =TRUNC(F15+H15+J15,1) -> 43071 | N15: 5B0036C3513191BE5DB1E3025ACACC | O15: 5C50661BA721940D59F103DB5CE58BF54204C1 | P15: F | Q15: F | R15: T | AW15: 5B0036C3513191BE5DB1E3025ACACC5C50661BA721940D59F103DB5CE58BF54204C1
A16: [ 합 계 ] | F16: =TRUNC(SUMIF(N15:N15, N14, F15:F15),0) -> 43071 | H16: =TRUNC(SUMIF(N15:N15, N14, H15:H15),0) -> 0 | J16: =TRUNC(SUMIF(N15:N15, N14, J15:J15),0) -> 0 | L16: =F16+H16+J16 -> 43071 | N16: TOTAL | O16: TOTAL
A18: 온도조절기 EA ( 호표 4 ) | N18: 5B0036C3513191BE5DB1E3025ACACF
A19: 온도조절기 | C19: EA | D19: 1 | E19: =단가대비표!O92 -> 58000 | F19: =TRUNC(E19*D19,1) -> 58000 | G19: =단가대비표!P92 -> 0 | H19: =TRUNC(G19*D19,1) -> 0 | I19: =단가대비표!V92 -> 0 | J19: =TRUNC(I19*D19,1) -> 0 | K19: =TRUNC(E19+G19+I19,1) -> 58000 | L19: =TRUNC(F19+H19+J19,1) -> 58000 | N19: 5B0036C3513191BE5DB1E3025ACACF | O19: 5C50661BA721940D59F103DB5CE58BF54204C6 | P19: F | Q19: F | R19: T | AW19: 5B0036C3513191BE5DB1E3025ACACF5C50661BA721940D59F103DB5CE58BF54204C6
A20: [ 합 계 ] | F20: =TRUNC(SUMIF(N19:N19, N18, F19:F19),0) -> 58000 | H20: =TRUNC(SUMIF(N19:N19, N18, H19:H19),0) -> 0 | J20: =TRUNC(SUMIF(N19:N19, N18, J19:J19),0) -> 0 | L20: =F20+H20+J20 -> 58000 | N20: TOTAL | O20: TOTAL
A22: 장판지 깔기 3.0mm, 지정용 M2 ( 호표 5 ) | N22: 5B00B6F915219507CB28739C5D4AA6
A23: 비닐시트 | B23: 비닐시트, 3.0t*1830, 퓨전 | C23: M2 | D23: 1.05 | E23: =단가대비표!O51 -> 18200 | F23: =TRUNC(E23*D23,1) -> 19110 | G23: =단가대비표!P51 -> 0 | H23: =TRUNC(G23*D23,1) -> 0 | I23: =단가대비표!V51 -> 0 | J23: =TRUNC(I23*D23,1) -> 0 | K23: =TRUNC(E23+G23+I23,1) -> 18200 | L23: =TRUNC(F23+H23+J23,1) -> 19110 | N23: 5B00B6F915219507CB28739C5D4AA6 | O23: 5C24D6D363419712B1C8737751C647EB6F5441 | P23: F | Q23: F | R23: T | AW23: 5B00B6F915219507CB28739C5D4AA65C24D6D363419712B1C8737751C647EB6F5441
A24: PVC계 바닥재 설치 - 시트 | B24: 주재료 제외, 전면접합 | C24: M2 | D24: 1 | E24: =일위대가목록!E51 -> 840 | F24: =TRUNC(E24*D24,1) -> 840 | G24: =일위대가목록!F51 -> 5046 | H24: =TRUNC(G24*D24,1) -> 5046 | I24: =일위대가목록!G51 -> 0 | J24: =TRUNC(I24*D24,1) -> 0 | K24: =TRUNC(E24+G24+I24,1) -> 5886 | L24: =TRUNC(F24+H24+J24,1) -> 5886 | M24: 호표 48 | N24: 5B00B6F915219507CB28739C5D4AA6 | O24: 5B00B6F91521950623D91395524374 | P24: T | Q24: F | R24: F | AW24: 5B00B6F915219507CB28739C5D4AA65B00B6F91521950623D91395524374
A25: [ 합 계 ] | F25: =TRUNC(SUMIF(N23:N24, N22, F23:F24),0) -> 19950 | H25: =TRUNC(SUMIF(N23:N24, N22, H23:H24),0) -> 5046 | J25: =TRUNC(SUMIF(N23:N24, N22, J23:J24),0) -> 0 | L25: =F25+H25+J25 -> 24996 | N25: TOTAL | O25: TOTAL
A27: 재료분리대 설치 코너목재,ㄱ,20t100*82 M ( 호표 6 ) | N27: 5B00D6C4D78190781AB8334D544155
A28: 플로어링보드 | B28: 플로어링보드, 22mm, 경질단풍나무(MAPLE), 비도장제품 | C28: M2 | D28: 0.22 | E28: =단가대비표!O50 -> 62000 | F28: =TRUNC(E28*D28,1) -> 13640 | G28: =단가대비표!P50 -> 0 | H28: =TRUNC(G28*D28,1) -> 0 | I28: =단가대비표!V50 -> 0 | J28: =TRUNC(I28*D28,1) -> 0 | K28: =TRUNC(E28+G28+I28,1) -> 62000 | L28: =TRUNC(F28+H28+J28,1) -> 13640 | N28: 5B00D6C4D78190781AB8334D544155 | O28: 5C24D6D363419712B1C913EF5E475C3E668035 | P28: F | Q28: F | R28: T | AW28: 5B00D6C4D78190781AB8334D5441555C24D6D363419712B1C913EF5E475C3E668035
A29: 플로어링 마루 설치 | C29: M2 | D29: 0.2 | E29: =일위대가목록!E52 -> 0 | F29: =TRUNC(E29*D29,1) -> 0 | G29: =일위대가목록!F52 -> 9655 | H29: =TRUNC(G29*D29,1) -> 1931 | I29: =일위대가목록!G52 -> 193 | J29: =TRUNC(I29*D29,1) -> 38.6 | K29: =TRUNC(E29+G29+I29,1) -> 9848 | L29: =TRUNC(F29+H29+J29,1) -> 1969.6 | M29: 호표 49 | N29: 5B00D6C4D78190781AB8334D544155 | O29: 5B00D6C4D78190781B40A3CD56029A | P29: T | Q29: F | R29: F | AW29: 5B00D6C4D78190781AB8334D5441555B00D6C4D78190781B40A3CD56029A
A30: [ 합 계 ] | F30: =TRUNC(SUMIF(N28:N29, N27, F28:F29),0) -> 13640 | H30: =TRUNC(SUMIF(N28:N29, N27, H28:H29),0) -> 1931 | J30: =TRUNC(SUMIF(N28:N29, N27, J28:J29),0) -> 38 | L30: =F30+H30+J30 -> 15609 | N30: TOTAL | O30: TOTAL
A32: 건식벽 설치(C-STUD) 벽,100t,9.5t*2겹,양면 M2 ( 호표 7 ) | N32: 5B00B6FBC3519EE104C8738458E7DD
A33: 석고보드 | B33: 석고보드, 평보드, 9.5*900*2400mm(㎡) | C33: M2 | D33: 4.2 | E33: =단가대비표!O47 -> 1820 | F33: =TRUNC(E33*D33,1) -> 7644 | G33: =단가대비표!P47 -> 0 | H33: =TRUNC(G33*D33,1) -> 0 | I33: =단가대비표!V47 -> 0 | J33: =TRUNC(I33*D33,1) -> 0 | K33: =TRUNC(E33+G33+I33,1) -> 1820 | L33: =TRUNC(F33+H33+J33,1) -> 7644 | N33: 5B00B6FBC3519EE104C8738458E7DD | O33: 5C24D6D36341971083C643DA56AF1225C78D9E | P33: F | Q33: F | R33: T | AW33: 5B00B6FBC3519EE104C8738458E7DD5C24D6D36341971083C643DA56AF1225C78D9E
A34: 석고판(나사고정) 설치 - 바탕용 | B34: 벽, 2겹 붙임 | C34: M2 | D34: 2 | E34: =일위대가목록!E53 -> 0 | F34: =TRUNC(E34*D34,1) -> 0 | G34: =일위대가목록!F53 -> 11606 | H34: =TRUNC(G34*D34,1) -> 23212 | I34: =일위대가목록!G53 -> 116 | J34: =TRUNC(I34*D34,1) -> 232 | K34: =TRUNC(E34+G34+I34,1) -> 11722 | L34: =TRUNC(F34+H34+J34,1) -> 23444 | M34: 호표 50 | N34: 5B00B6FBC3519EE104C8738458E7DD | O34: 5B00B6FBC3519EE104C8738458E636 | P34: T | Q34: F | R34: F | AW34: 5B00B6FBC3519EE104C8738458E7DD5B00B6FBC3519EE104C8738458E636
A35: 스터드설치 | B35: C-STUD 65*45@450 | C35: M2 | D35: 1 | E35: =일위대가목록!E54 -> 10707 | F35: =TRUNC(E35*D35,1) -> 10707 | G35: =일위대가목록!F54 -> 1949 | H35: =TRUNC(G35*D35,1) -> 1949 | I35: =일위대가목록!G54 -> 827 | J35: =TRUNC(I35*D35,1) -> 827 | K35: =TRUNC(E35+G35+I35,1) -> 13483 | L35: =TRUNC(F35+H35+J35,1) -> 13483 | M35: 호표 51 | N35: 5B00B6FBC3519EE104C8738458E7DD | O35: 5B00B6FBC3519EE104C8738458E7AE | P35: T | Q35: F | R35: F | AW35: 5B00B6FBC3519EE104C8738458E7DD5B00B6FBC3519EE104C8738458E7AE
A36: [ 합 계 ] | F36: =TRUNC(SUMIF(N33:N35, N32, F33:F35),0) -> 18351 | H36: =TRUNC(SUMIF(N33:N35, N32, H33:H35),0) -> 25161 | J36: =TRUNC(SUMIF(N33:N35, N32, J33:J35),0) -> 1059 | L36: =F36+H36+J36 -> 44571 | N36: TOTAL | O36: TOTAL
A38: 롤블라인드설치 2400*1550,지정용 EA ( 호표 8 ) | N38: 5B0156FA9551939137CD23DF5BEE6D
A39: 롤브라인드 | B39: 방염 | C39: M2 | D39: 3.72 | E39: =단가대비표!O95 -> 25000 | F39: =TRUNC(E39*D39,1) -> 93000 | G39: =단가대비표!P95 -> 0 | H39: =TRUNC(G39*D39,1) -> 0 | I39: =단가대비표!V95 -> 0 | J39: =TRUNC(I39*D39,1) -> 0 | K39: =TRUNC(E39+G39+I39,1) -> 25000 | L39: =TRUNC(F39+H39+J39,1) -> 93000 | N39: 5B0156FA9551939137CD23DF5BEE6D | O39: 5C47962168C19E7AF74E03D5523FF7B19CFDD8 | P39: F | Q39: F | R39: T | AW39: 5B0156FA9551939137CD23DF5BEE6D5C47962168C19E7AF74E03D5523FF7B19CFDD8
A40: [ 합 계 ] | F40: =TRUNC(SUMIF(N39:N39, N38, F39:F39),0) -> 93000 | H40: =TRUNC(SUMIF(N39:N39, N38, H39:H39),0) -> 0 | J40: =TRUNC(SUMIF(N39:N39, N38, J39:J39),0) -> 0 | L40: =F40+H40+J40 -> 93000 | N40: TOTAL | O40: TOTAL
A42: 롤블라인드설치 4350*3160,지정용 EA ( 호표 9 ) | N42: 5B0156FA9551939137CD23DF5BEF0A
A43: 롤브라인드 | B43: 방염 | C43: M2 | D43: 13.746 | E43: =단가대비표!O95 -> 25000 | F43: =TRUNC(E43*D43,1) -> 343650 | G43: =단가대비표!P95 -> 0 | H43: =TRUNC(G43*D43,1) -> 0 | I43: =단가대비표!V95 -> 0 | J43: =TRUNC(I43*D43,1) -> 0 | K43: =TRUNC(E43+G43+I43,1) -> 25000 | L43: =TRUNC(F43+H43+J43,1) -> 343650 | N43: 5B0156FA9551939137CD23DF5BEF0A | O43: 5C47962168C19E7AF74E03D5523FF7B19CFDD8 | P43: F | Q43: F | R43: T | AW43: 5B0156FA9551939137CD23DF5BEF0A5C47962168C19E7AF74E03D5523FF7B19CFDD8
A44: [ 합 계 ] | F44: =TRUNC(SUMIF(N43:N43, N42, F43:F43),0) -> 343650 | H44: =TRUNC(SUMIF(N43:N43, N42, H43:H43),0) -> 0 | J44: =TRUNC(SUMIF(N43:N43, N42, J43:J43),0) -> 0 | L44: =F44+H44+J44 -> 343650 | N44: TOTAL | O44: TOTAL
A46: 롤블라인드설치 4400*3160,지정용 EA ( 호표 10 ) | N46: 5B0156FA9551939137CD23DF5BEF0B
A47: 롤브라인드 | B47: 방염 | C47: M2 | D47: 13.904 | E47: =단가대비표!O95 -> 25000 | F47: =TRUNC(E47*D47,1) -> 347600 | G47: =단가대비표!P95 -> 0 | H47: =TRUNC(G47*D47,1) -> 0 | I47: =단가대비표!V95 -> 0 | J47: =TRUNC(I47*D47,1) -> 0 | K47: =TRUNC(E47+G47+I47,1) -> 25000 | L47: =TRUNC(F47+H47+J47,1) -> 347600 | N47: 5B0156FA9551939137CD23DF5BEF0B | O47: 5C47962168C19E7AF74E03D5523FF7B19CFDD8 | P47: F | Q47: F | R47: T | AW47: 5B0156FA9551939137CD23DF5BEF0B5C47962168C19E7AF74E03D5523FF7B19CFDD8
A48: [ 합 계 ] | F48: =TRUNC(SUMIF(N47:N47, N46, F47:F47),0) -> 347600 | H48: =TRUNC(SUMIF(N47:N47, N46, H47:H47),0) -> 0 | J48: =TRUNC(SUMIF(N47:N47, N46, J47:J47),0) -> 0 | L48: =F48+H48+J48 -> 347600 | N48: TOTAL | O48: TOTAL
A50: 전면유리 안전필름 설치 4350*3160 개소 ( 호표 11 ) | N50: 5B0156FA9551939137CD23DF5BEF09
A51: 안전방범필름 - GC1 115 | B51: 0.14 4mil 투명 UV99%차단 내후성 안전우선 | C51: M2 | D51: 13.746 | E51: =단가대비표!O45 -> 35000 | F51: =TRUNC(E51*D51,1) -> 481110 | H51: =TRUNC(G51*D51,1) -> 0 | I51: =단가대비표!V45 -> 0 | J51: =TRUNC(I51*D51,1) -> 0 | K51: =TRUNC(E51+G51+I51,1) -> 35000 | L51: =TRUNC(F51+H51+J51,1) -> 481110 | N51: 5B0156FA9551939137CD23DF5BEF09 | O51: 5C24D6D3619199BC31A6B3AF57DD8E6D46CA6F | P51: F | Q51: F | R51: T | AW51: 5B0156FA9551939137CD23DF5BEF095C24D6D3619199BC31A6B3AF57DD8E6D46CA6F
A52: [ 합 계 ] | F52: =TRUNC(SUMIF(N51:N51, N50, F51:F51),0) -> 481110 | H52: =TRUNC(SUMIF(N51:N51, N50, H51:H51),0) -> 0 | J52: =TRUNC(SUMIF(N51:N51, N50, J51:J51),0) -> 0 | L52: =F52+H52+J52 -> 481110 | N52: TOTAL | O52: TOTAL
A54: 전면유리 안전필름 설치 4400*3160 개소 ( 호표 12 ) | N54: 5B0156FA9551939137CD23DF5BEF0E
A55: 안전방범필름 - GC1 115 | B55: 0.14 4mil 투명 UV99%차단 내후성 안전우선 | C55: M2 | D55: 13.904 | E55: =단가대비표!O45 -> 35000 | F55: =TRUNC(E55*D55,1) -> 486640 | H55: =TRUNC(G55*D55,1) -> 0 | I55: =단가대비표!V45 -> 0 | J55: =TRUNC(I55*D55,1) -> 0 | K55: =TRUNC(E55+G55+I55,1) -> 35000 | L55: =TRUNC(F55+H55+J55,1) -> 486640 | N55: 5B0156FA9551939137CD23DF5BEF0E | O55: 5C24D6D3619199BC31A6B3AF57DD8E6D46CA6F | P55: F | Q55: F | R55: T | AW55: 5B0156FA9551939137CD23DF5BEF0E5C24D6D3619199BC31A6B3AF57DD8E6D46CA6F
A56: [ 합 계 ] | F56: =TRUNC(SUMIF(N55:N55, N54, F55:F55),0) -> 486640 | H56: =TRUNC(SUMIF(N55:N55, N54, H55:H55),0) -> 0 | J56: =TRUNC(SUMIF(N55:N55, N54, J55:J55),0) -> 0 | L56: =F56+H56+J56 -> 486640 | N56: TOTAL | O56: TOTAL
A58: 전면유리 안전필름 설치 2400*1550 개소 ( 호표 13 ) | N58: 5B0156FA9551939137CD23DF5BEF0F
A59: 안전방범필름 - GC1 115 | B59: 0.14 4mil 투명 UV99%차단 내후성 안전우선 | C59: M2 | D59: 3.72 | E59: =단가대비표!O45 -> 35000 | F59: =TRUNC(E59*D59,1) -> 130200 | H59: =TRUNC(G59*D59,1) -> 0 | I59: =단가대비표!V45 -> 0 | J59: =TRUNC(I59*D59,1) -> 0 | K59: =TRUNC(E59+G59+I59,1) -> 35000 | L59: =TRUNC(F59+H59+J59,1) -> 130200 | N59: 5B0156FA9551939137CD23DF5BEF0F | O59: 5C24D6D3619199BC31A6B3AF57DD8E6D46CA6F | P59: F | Q59: F | R59: T | AW59: 5B0156FA9551939137CD23DF5BEF0F5C24D6D3619199BC31A6B3AF57DD8E6D46CA6F
A60: [ 합 계 ] | F60: =TRUNC(SUMIF(N59:N59, N58, F59:F59),0) -> 130200 | H60: =TRUNC(SUMIF(N59:N59, N58, H59:H59),0) -> 0 | J60: =TRUNC(SUMIF(N59:N59, N58, J59:J59),0) -> 0 | L60: =F60+H60+J60 -> 130200 | N60: TOTAL | O60: TOTAL
A62: 수밀코킹(실리콘) 삼각, 10mm, 창호주위 M ( 호표 14 ) | N62: 5B00C6D81B519D46D54313F8587DCF
A63: 실링재 | B63: 실링재, 실리콘, 비초산, 유리용, 창호주위 | C63: L | D63: 0.06 | E63: =단가대비표!O87 -> 9433 | F63: =TRUNC(E63*D63,1) -> 565.9 | G63: =단가대비표!P87 -> 0 | H63: =TRUNC(G63*D63,1) -> 0 | I63: =단가대비표!V87 -> 0 | J63: =TRUNC(I63*D63,1) -> 0 | K63: =TRUNC(E63+G63+I63,1) -> 9433 | L63: =TRUNC(F63+H63+J63,1) -> 565.9 | N63: 5B00C6D81B519D46D54313F8587DCF | O63: 5C24C6C9BEE19FF1247ED33B5A499C326C1D24 | P63: F | Q63: F | R63: T | AW63: 5B00C6D81B519D46D54313F8587DCF5C24C6C9BEE19FF1247ED33B5A499C326C1D24
A64: 수밀코킹 | B64: 재료비 별도 | C64: M | D64: 1 | E64: =일위대가목록!E57 -> 0 | F64: =TRUNC(E64*D64,1) -> 0 | G64: =일위대가목록!F57 -> 4197 | H64: =TRUNC(G64*D64,1) -> 4197 | I64: =일위대가목록!G57 -> 0 | J64: =TRUNC(I64*D64,1) -> 0 | K64: =TRUNC(E64+G64+I64,1) -> 4197 | L64: =TRUNC(F64+H64+J64,1) -> 4197 | M64: 호표 54 | N64: 5B00C6D81B519D46D54313F8587DCF | O64: 5B00C6D818819A8D3909B3A352CA73 | P64: T | Q64: F | R64: F | AW64: 5B00C6D81B519D46D54313F8587DCF5B00C6D818819A8D3909B3A352CA73
A65: [ 합 계 ] | F65: =TRUNC(SUMIF(N63:N64, N62, F63:F64),0) -> 565 | H65: =TRUNC(SUMIF(N63:N64, N62, H63:H64),0) -> 4197 | J65: =TRUNC(SUMIF(N63:N64, N62, J63:J64),0) -> 0 | L65: =F65+H65+J65 -> 4762 | N65: TOTAL | O65: TOTAL
A67: 와이어메시 바닥깔기 #8-150*150 M2 ( 호표 15 ) | N67: 5B00E62839F1994C9798130559EB96
A68: 용접철망 | B68: 용접철망, 와이어메시, #8-150*150 | C68: M2 | D68: 1.16 | E68: =단가대비표!O43 -> 2080 | F68: =TRUNC(E68*D68,1) -> 2412.8 | G68: =단가대비표!P43 -> 0 | H68: =TRUNC(G68*D68,1) -> 0 | I68: =단가대비표!V43 -> 0 | J68: =TRUNC(I68*D68,1) -> 0 | K68: =TRUNC(E68+G68+I68,1) -> 2080 | L68: =TRUNC(F68+H68+J68,1) -> 2412.8 | N68: 5B00E62839F1994C9798130559EB96 | O68: 5C24D6D364619C7949D0B36652FFE8BB9D6ECE | P68: F | Q68: F | R68: T | V68: 1 | AW68: 5B00E62839F1994C9798130559EB965C24D6D364619C7949D0B36652FFE8BB9D6ECE
A69: 잡재료 | B69: 주재료비의 3% | C69: 식 | D69: 1 | E69: =TRUNC(SUMIF(V68:V70, RIGHTB(O69, 1), F68:F70)*U69, 2) -> 72.38 | F69: =TRUNC(E69*D69,1) -> 72.3 | G69: 0 | H69: =TRUNC(G69*D69,1) -> 0 | I69: 0 | J69: =TRUNC(I69*D69,1) -> 0 | K69: =TRUNC(E69+G69+I69,1) -> 72.3 | L69: =TRUNC(F69+H69+J69,1) -> 72.3 | N69: 5B00E62839F1994C9798130559EB96 | O69: 5A1EF6876ED19C2C8B8F632058FA001 | P69: F | Q69: F | R69: F | S69: 0 | T69: 0 | U69: 0.03 | AW69: 5B00E62839F1994C9798130559EB965A1EF6876ED19C2C8B8F632058FA001
A70: 와이어메시 바닥깔기 | B70: 1800*1800 기준 | C70: M2 | D70: 1 | E70: =일위대가목록!E58 -> 0 | F70: =TRUNC(E70*D70,1) -> 0 | G70: =일위대가목록!F58 -> 912 | H70: =TRUNC(G70*D70,1) -> 912 | I70: =일위대가목록!G58 -> 0 | J70: =TRUNC(I70*D70,1) -> 0 | K70: =TRUNC(E70+G70+I70,1) -> 912 | L70: =TRUNC(F70+H70+J70,1) -> 912 | M70: 호표 55 | N70: 5B00E62839F1994C9798130559EB96 | O70: 5B00E62839F1994C9798130559ED43 | P70: T | Q70: F | R70: F | AW70: 5B00E62839F1994C9798130559EB965B00E62839F1994C9798130559ED43
A71: [ 합 계 ] | F71: =TRUNC(SUMIF(N68:N70, N67, F68:F70),0) -> 2485 | H71: =TRUNC(SUMIF(N68:N70, N67, H68:H70),0) -> 912 | J71: =TRUNC(SUMIF(N68:N70, N67, J68:J70),0) -> 0 | L71: =F71+H71+J71 -> 3397 | N71: TOTAL | O71: TOTAL
A73: 스테인리스재료분리대 바닥, W45*H20*1.5t M ( 호표 16 ) | N73: 5B00B6FFBD21920E5A26F3275E3A5B
A74: 스테인리스강판 | B74: 스테인리스강판, STS304, 1.5mm | C74: kg | D74: 1.1121 | E74: =단가대비표!O36 -> 2450 | F74: =TRUNC(E74*D74,1) -> 2724.6 | G74: =단가대비표!P36 -> 0 | H74: =TRUNC(G74*D74,1) -> 0 | I74: =단가대비표!V36 -> 0 | J74: =TRUNC(I74*D74,1) -> 0 | K74: =TRUNC(E74+G74+I74,1) -> 2450 | L74: =TRUNC(F74+H74+J74,1) -> 2724.6 | N74: 5B00B6FFBD21920E5A26F3275E3A5B | O74: 5C24D6D3657191B71C7263CA5BB1A72A226FE2 | P74: F | Q74: F | R74: T | AW74: 5B00B6FFBD21920E5A26F3275E3A5B5C24D6D3657191B71C7263CA5BB1A72A226FE2
A75: 일반구조용압연강판 | B75: 일반구조용압연강판, 2.3mm | C75: kg | D75: 2.5818 | E75: =단가대비표!O34 -> 789 | F75: =TRUNC(E75*D75,1) -> 2037 | G75: =단가대비표!P34 -> 0 | H75: =TRUNC(G75*D75,1) -> 0 | I75: =단가대비표!V34 -> 0 | J75: =TRUNC(I75*D75,1) -> 0 | K75: =TRUNC(E75+G75+I75,1) -> 789 | L75: =TRUNC(F75+H75+J75,1) -> 2037 | N75: 5B00B6FFBD21920E5A26F3275E3A5B | O75: 5C24D6D3657191B71C73737758D9D92588C530 | P75: F | Q75: F | R75: T | AW75: 5B00B6FFBD21920E5A26F3275E3A5B5C24D6D3657191B71C73737758D9D92588C530
A76: 일반구조용압연강판 | B76: 일반구조용압연강판, 1.6mm | C76: kg | D76: 0.0511 | E76: =단가대비표!O33 -> 711 | F76: =TRUNC(E76*D76,1) -> 36.3 | G76: =단가대비표!P33 -> 0 | H76: =TRUNC(G76*D76,1) -> 0 | I76: =단가대비표!V33 -> 0 | J76: =TRUNC(I76*D76,1) -> 0 | K76: =TRUNC(E76+G76+I76,1) -> 711 | L76: =TRUNC(F76+H76+J76,1) -> 36.3 | N76: 5B00B6FFBD21920E5A26F3275E3A5B | O76: 5C24D6D3657191B71C73737758D9D92588C537 | P76: F | Q76: F | R76: T | AW76: 5B00B6FFBD21920E5A26F3275E3A5B5C24D6D3657191B71C73737758D9D92588C537
A77: 각종 잡철물 제작 설치 | B77: 스테인리스, 간단(강판의 가공설치) | C77: kg | D77: 1.011 | E77: =일위대가목록!E59 -> 251 | F77: =TRUNC(E77*D77,1) -> 253.7 | G77: =일위대가목록!F59 -> 5261 | H77: =TRUNC(G77*D77,1) -> 5318.8 | I77: =일위대가목록!G59 -> 171 | J77: =TRUNC(I77*D77,1) -> 172.8 | K77: =TRUNC(E77+G77+I77,1) -> 5683 | L77: =TRUNC(F77+H77+J77,1) -> 5745.3 | M77: 호표 56 | N77: 5B00B6FFBD21920E5A26F3275E3A5B | O77: 5B00E6218B519065F38563E65DEEB3 | P77: T | Q77: F | R77: F | AW77: 5B00B6FFBD21920E5A26F3275E3A5B5B00E6218B519065F38563E65DEEB3
A78: 각종 잡철물 제작 설치 | B78: 철재, 간단(강판의 가공설치) | C78: kg | D78: 2.3935 | E78: =일위대가목록!E60 -> 85 | F78: =TRUNC(E78*D78,1) -> 203.4 | G78: =일위대가목록!F60 -> 5261 | H78: =TRUNC(G78*D78,1) -> 12592.2 | I78: =일위대가목록!G60 -> 171 | J78: =TRUNC(I78*D78,1) -> 409.2 | K78: =TRUNC(E78+G78+I78,1) -> 5517 | L78: =TRUNC(F78+H78+J78,1) -> 13204.8 | M78: 호표 57 | N78: 5B00B6FFBD21920E5A26F3275E3A5B | O78: 5B00E6218B5190669A0F5377553A84 | P78: T | Q78: F | R78: F | AW78: 5B00B6FFBD21920E5A26F3275E3A5B5B00E6218B5190669A0F5377553A84
A79: 철강설 | B79: 철강설, 스텐레스, 작업설부산물 | C79: kg | D79: -0.0909 | E79: =단가대비표!O18 -> 1200 | F79: =TRUNC(E79*D79,1) -> -109 | G79: =단가대비표!P18 -> 0 | H79: =TRUNC(G79*D79,1) -> 0 | I79: =단가대비표!V18 -> 0 | J79: =TRUNC(I79*D79,1) -> 0 | K79: =TRUNC(E79+G79+I79,1) -> 1200 | L79: =TRUNC(F79+H79+J79,1) -> -109 | M79: 수집상차도 | N79: 5B00B6FFBD21920E5A26F3275E3A5B | O79: 5C08160D6E71920C502B835B50230682A669AF | P79: F | Q79: F | R79: T | AW79: 5B00B6FFBD21920E5A26F3275E3A5B5C08160D6E71920C502B835B50230682A669AF
A80: 철강설 | B80: 철강설, 고철, 작업설부산물 | C80: kg | D80: -0.2154 | E80: =단가대비표!O17 -> 288 | F80: =TRUNC(E80*D80,1) -> -62 | G80: =단가대비표!P17 -> 0 | H80: =TRUNC(G80*D80,1) -> 0 | I80: =단가대비표!V17 -> 0 | J80: =TRUNC(I80*D80,1) -> 0 | K80: =TRUNC(E80+G80+I80,1) -> 288 | L80: =TRUNC(F80+H80+J80,1) -> -62 | M80: 수집상차도 | N80: 5B00B6FFBD21920E5A26F3275E3A5B | O80: 5C08160D6E71920C502B835B50230682A66885 | P80: F | Q80: F | R80: T | AW80: 5B00B6FFBD21920E5A26F3275E3A5B5C08160D6E71920C502B835B50230682A66885
A81: [ 합 계 ] | F81: =TRUNC(SUMIF(N74:N80, N73, F74:F80),0) -> 5084 | H81: =TRUNC(SUMIF(N74:N80, N73, H74:H80),0) -> 17911 | J81: =TRUNC(SUMIF(N74:N80, N73, J74:J80),0) -> 582 | L81: =F81+H81+J81 -> 23577 | N81: TOTAL | O81: TOTAL
A83: CONC'기계미장 바닥 M2 ( 호표 17 ) | N83: 5B0036C357519BC84225D3195D1D47
A84: 표면 마무리 | B84: 기계마감 | C84: M2 | D84: 10 | E84: =일위대가목록!E66 -> 0 | F84: =TRUNC(E84*D84,1) -> 0 | G84: =일위대가목록!F66 -> 461 | H84: =TRUNC(G84*D84,1) -> 4610 | I84: =일위대가목록!G66 -> 41 | J84: =TRUNC(I84*D84,1) -> 410 | K84: =TRUNC(E84+G84+I84,1) -> 502 | L84: =TRUNC(F84+H84+J84,1) -> 5020 | M84: 호표 63 | N84: 5B0036C357519BC84225D3195D1D47 | O84: 5B0036C357519BC84225D3195D1D36 | P84: T | Q84: F | R84: F | AW84: 5B0036C357519BC84225D3195D1D475B0036C357519BC84225D3195D1D36
A85: [ 합 계 ] | F85: =TRUNC(SUMIF(N84:N84, N83, F84:F84),0) -> 0 | H85: =TRUNC(SUMIF(N84:N84, N83, H84:H84),0) -> 4610 | J85: =TRUNC(SUMIF(N84:N84, N83, J84:J84),0) -> 410 | L85: =F85+H85+J85 -> 5020 | N85: TOTAL | O85: TOTAL
A87: 창호주위 모르타르 충전 M ( 호표 18 ) | N87: 5B008645AAA192F952E2E3675819B6
A88: 미장공 | B88: 일반공사 직종 | C88: 인 | D88: 0.014 | E88: =단가대비표!O111 -> 0 | F88: =TRUNC(E88*D88,1) -> 0 | G88: =단가대비표!P111 -> 209611 | H88: =TRUNC(G88*D88,1) -> 2934.5 | I88: =단가대비표!V111 -> 0 | J88: =TRUNC(I88*D88,1) -> 0 | K88: =TRUNC(E88+G88+I88,1) -> 209611 | L88: =TRUNC(F88+H88+J88,1) -> 2934.5 | N88: 5B008645AAA192F952E2E3675819B6 | O88: 5BDCB697D6F195D8EFCAC3375963246FA22A28 | P88: F | Q88: F | R88: T | AW88: 5B008645AAA192F952E2E3675819B65BDCB697D6F195D8EFCAC3375963246FA22A28
A89: 보통인부 | B89: 일반공사 즤종 | C89: 인 | D89: 0.004 | E89: =단가대비표!O99 -> 0 | F89: =TRUNC(E89*D89,1) -> 0 | G89: =단가대비표!P99 -> 125427 | H89: =TRUNC(G89*D89,1) -> 501.7 | I89: =단가대비표!V99 -> 0 | J89: =TRUNC(I89*D89,1) -> 0 | K89: =TRUNC(E89+G89+I89,1) -> 125427 | L89: =TRUNC(F89+H89+J89,1) -> 501.7 | N89: 5B008645AAA192F952E2E3675819B6 | O89: 5BDCB697D6F195D8EFCAC3375963246FA22860 | P89: F | Q89: F | R89: T | AW89: 5B008645AAA192F952E2E3675819B65BDCB697D6F195D8EFCAC3375963246FA22860
A90: 시멘트 | B90: 시멘트(별도) | C90: kg | D90: 2.73 | E90: =단가대비표!O41 -> 0 | F90: =TRUNC(E90*D90,1) -> 0 | G90: =단가대비표!P41 -> 0 | H90: =TRUNC(G90*D90,1) -> 0 | I90: =단가대비표!V41 -> 0 | J90: =TRUNC(I90*D90,1) -> 0 | K90: =TRUNC(E90+G90+I90,1) -> 0 | L90: =TRUNC(F90+H90+J90,1) -> 0 | M90: 별도 | N90: 5B008645AAA192F952E2E3675819B6 | O90: 5C24D6D364619C779B74E3DE51D3241487E6A8 | P90: F | Q90: F | R90: T | AW90: 5B008645AAA192F952E2E3675819B65C24D6D364619C779B74E3DE51D3241487E6A8
A91: 모래 | B91: (별도) | C91: M3 | D91: 0.006 | E91: =단가대비표!O14 -> 0 | F91: =TRUNC(E91*D91,1) -> 0 | G91: =단가대비표!P14 -> 0 | H91: =TRUNC(G91*D91,1) -> 0 | I91: =단가대비표!V14 -> 0 | J91: =TRUNC(I91*D91,1) -> 0 | K91: =TRUNC(E91+G91+I91,1) -> 0 | L91: =TRUNC(F91+H91+J91,1) -> 0 | M91: 별도 | N91: 5B008645AAA192F952E2E3675819B6 | O91: 5C08160D66319C4DFD6C035B5DB05F42CD0F3D | P91: F | Q91: F | R91: T | AW91: 5B008645AAA192F952E2E3675819B65C08160D66319C4DFD6C035B5DB05F42CD0F3D
A92: [ 합 계 ] | F92: =TRUNC(SUMIF(N88:N91, N87, F88:F91),0) -> 0 | H92: =TRUNC(SUMIF(N88:N91, N87, H88:H91),0) -> 3436 | J92: =TRUNC(SUMIF(N88:N91, N87, J88:J91),0) -> 0 | L92: =F92+H92+J92 -> 3436 | N92: TOTAL | O92: TOTAL
A94: 창호주위 발포우레탄 충전 M ( 호표 19 ) | N94: 5B008645AAA192F84C9793815161E5
A95: 미장공 | B95: 일반공사 직종 | C95: 인 | D95: 0.008 | E95: =단가대비표!O111 -> 0 | F95: =TRUNC(E95*D95,1) -> 0 | G95: =단가대비표!P111 -> 209611 | H95: =TRUNC(G95*D95,1) -> 1676.8 | I95: =단가대비표!V111 -> 0 | J95: =TRUNC(I95*D95,1) -> 0 | K95: =TRUNC(E95+G95+I95,1) -> 209611 | L95: =TRUNC(F95+H95+J95,1) -> 1676.8 | N95: 5B008645AAA192F84C9793815161E5 | O95: 5BDCB697D6F195D8EFCAC3375963246FA22A28 | P95: F | Q95: F | R95: T | AW95: 5B008645AAA192F84C9793815161E55BDCB697D6F195D8EFCAC3375963246FA22A28
A96: 보통인부 | B96: 일반공사 즤종 | C96: 인 | D96: 0.003 | E96: =단가대비표!O99 -> 0 | F96: =TRUNC(E96*D96,1) -> 0 | G96: =단가대비표!P99 -> 125427 | H96: =TRUNC(G96*D96,1) -> 376.2 | I96: =단가대비표!V99 -> 0 | J96: =TRUNC(I96*D96,1) -> 0 | K96: =TRUNC(E96+G96+I96,1) -> 125427 | L96: =TRUNC(F96+H96+J96,1) -> 376.2 | N96: 5B008645AAA192F84C9793815161E5 | O96: 5BDCB697D6F195D8EFCAC3375963246FA22860 | P96: F | Q96: F | R96: T | AW96: 5B008645AAA192F84C9793815161E55BDCB697D6F195D8EFCAC3375963246FA22860
A97: 우레탄폼 충전 | B97: 창호주위(건식벽) | C97: m | D97: 1 | E97: =단가대비표!O96 -> 775 | F97: =TRUNC(E97*D97,1) -> 775 | G97: =단가대비표!P96 -> 0 | H97: =TRUNC(G97*D97,1) -> 0 | I97: =단가대비표!V96 -> 0 | J97: =TRUNC(I97*D97,1) -> 0 | K97: =TRUNC(E97+G97+I97,1) -> 775 | L97: =TRUNC(F97+H97+J97,1) -> 775 | M97: 노무비 75.9% | N97: 5B008645AAA192F84C9793815161E5 | O97: 5B0036CA82419E3A9F2183595D2D84 | P97: F | Q97: F | R97: T | AW97: 5B008645AAA192F84C9793815161E55B0036CA82419E3A9F2183595D2D84
A98: [ 합 계 ] | F98: =TRUNC(SUMIF(N95:N97, N94, F95:F97),0) -> 775 | H98: =TRUNC(SUMIF(N95:N97, N94, H95:H97),0) -> 2053 | J98: =TRUNC(SUMIF(N95:N97, N94, J95:J97),0) -> 0 | L98: =F98+H98+J98 -> 2828 | N98: TOTAL | O98: TOTAL
A100: FSD01[150*45*1.6T] 0.900 x 2.100 = 1.890 EA ( 호표 20 ) | N100: 5B008642DAB19E417C92037055EF93
A101: 철재후라쉬도아(일반분체)문틀包 | B101: 150*45*1.6T 0.9*2.1 편개 | C101: ㎡ | D101: 1.89 | E101: =단가대비표!O97 -> 92600 | F101: =TRUNC(E101*D101,1) -> 175014 | G101: =단가대비표!P97 -> 0 | H101: =TRUNC(G101*D101,1) -> 0 | I101: =단가대비표!V97 -> 0 | J101: =TRUNC(I101*D101,1) -> 0 | K101: =TRUNC(E101+G101+I101,1) -> 92600 | L101: =TRUNC(F101+H101+J101,1) -> 175014 | N101: 5B008642DAB19E417C92037055EF93 | O101: 5B008642DB4197C17448335D5B0083 | P101: F | Q101: F | R101: T | AW101: 5B008642DAB19E417C92037055EF935B008642DB4197C17448335D5B0083
A102: 강재창호 설치 | B102: 1.5~2.5m2 미만 | C102: 개소 | D102: 1 | E102: =일위대가목록!E67 -> 0 | F102: =TRUNC(E102*D102,1) -> 0 | G102: =일위대가목록!F67 -> 102512 | H102: =TRUNC(G102*D102,1) -> 102512 | I102: =일위대가목록!G67 -> 2050 | J102: =TRUNC(I102*D102,1) -> 2050 | K102: =TRUNC(E102+G102+I102,1) -> 104562 | L102: =TRUNC(F102+H102+J102,1) -> 104562 | M102: 호표 64 | N102: 5B008642DAB19E417C92037055EF93 | O102: 5B008642DB419513DB23B31A5B62D1 | P102: T | Q102: F | R102: F | AW102: 5B008642DAB19E417C92037055EF935B008642DB419513DB23B31A5B62D1
A103: [ 합 계 ] | F103: =TRUNC(SUMIF(N101:N102, N100, F101:F102),0) -> 175014 | H103: =TRUNC(SUMIF(N101:N102, N100, H101:H102),0) -> 102512 | J103: =TRUNC(SUMIF(N101:N102, N100, J101:J102),0) -> 2050 | L103: =F103+H103+J103 -> 279576 | N103: TOTAL | O103: TOTAL
A105: SSD01[100*45*1.5T,기밀성] 2.600 x 3.160 = 8.216 EA ( 호표 21 ) | N105: 5B008642DAB19E417C92037055EF95
A106: 금속제문틀 | B106: 스테인리스창호, 헤어라인,문틀,100*45*2.4mm-상바 | C106: M | D106: 2.6 | E106: =단가대비표!O57 -> 53000 | F106: =TRUNC(E106*D106,1) -> 137800 | G106: =단가대비표!P57 -> 0 | H106: =TRUNC(G106*D106,1) -> 0 | I106: =단가대비표!V57 -> 0 | J106: =TRUNC(I106*D106,1) -> 0 | K106: =TRUNC(E106+G106+I106,1) -> 53000 | L106: =TRUNC(F106+H106+J106,1) -> 137800 | N106: 5B008642DAB19E417C92037055EF95 | O106: 5C24D6D362B196562499430E524CBC50A17EF2 | P106: F | Q106: F | R106: T | AW106: 5B008642DAB19E417C92037055EF955C24D6D362B196562499430E524CBC50A17EF2
A107: 금속제문틀 | B107: 스테인리스창호, 헤어라인,문틀,74*71*2.4mm-중바 | C107: M | D107: 2.6 | E107: =단가대비표!O58 -> 67000 | F107: =TRUNC(E107*D107,1) -> 174200 | G107: =단가대비표!P58 -> 0 | H107: =TRUNC(G107*D107,1) -> 0 | I107: =단가대비표!V58 -> 0 | J107: =TRUNC(I107*D107,1) -> 0 | K107: =TRUNC(E107+G107+I107,1) -> 67000 | L107: =TRUNC(F107+H107+J107,1) -> 174200 | N107: 5B008642DAB19E417C92037055EF95 | O107: 5C24D6D362B196562499430E524CBC50A17EF1 | P107: F | Q107: F | R107: T | AW107: 5B008642DAB19E417C92037055EF955C24D6D362B196562499430E524CBC50A17EF1
A108: 금속제문틀 | B108: 스테인리스창호, 헤어라인,문틀,100*45*2.4mm-통바 | C108: M | D108: 6.32 | E108: =단가대비표!O59 -> 77000 | F108: =TRUNC(E108*D108,1) -> 486640 | G108: =단가대비표!P59 -> 0 | H108: =TRUNC(G108*D108,1) -> 0 | I108: =단가대비표!V59 -> 0 | J108: =TRUNC(I108*D108,1) -> 0 | K108: =TRUNC(E108+G108+I108,1) -> 77000 | L108: =TRUNC(F108+H108+J108,1) -> 486640 | N108: 5B008642DAB19E417C92037055EF95 | O108: 5C24D6D362B196562499430E524CBC50A17EF0 | P108: F | Q108: F | R108: T | AW108: 5B008642DAB19E417C92037055EF955C24D6D362B196562499430E524CBC50A17EF0
A109: 금속제문틀 | B109: 스테인리스창호, 헤어라인,문틀,101*71*2.4mm-하바 | C109: M | D109: 2.6 | E109: =단가대비표!O60 -> 70000 | F109: =TRUNC(E109*D109,1) -> 182000 | G109: =단가대비표!P60 -> 0 | H109: =TRUNC(G109*D109,1) -> 0 | I109: =단가대비표!V60 -> 0 | J109: =TRUNC(I109*D109,1) -> 0 | K109: =TRUNC(E109+G109+I109,1) -> 70000 | L109: =TRUNC(F109+H109+J109,1) -> 182000 | N109: 5B008642DAB19E417C92037055EF95 | O109: 5C24D6D362B196562499430E524CBC50A17EF7 | P109: F | Q109: F | R109: T | AW109: 5B008642DAB19E417C92037055EF955C24D6D362B196562499430E524CBC50A17EF7
A110: 금속제문틀 | B110: 스테인리스창호, 헤어라인,문틀,101*71*2.4mm-잔넬바 | C110: M | D110: 3.16 | E110: =단가대비표!O61 -> 55000 | F110: =TRUNC(E110*D110,1) -> 173800 | G110: =단가대비표!P61 -> 0 | H110: =TRUNC(G110*D110,1) -> 0 | I110: =단가대비표!V61 -> 0 | J110: =TRUNC(I110*D110,1) -> 0 | K110: =TRUNC(E110+G110+I110,1) -> 55000 | L110: =TRUNC(F110+H110+J110,1) -> 173800 | N110: 5B008642DAB19E417C92037055EF95 | O110: 5C24D6D362B196562499430E524CBC50A17EF6 | P110: F | Q110: F | R110: T | AW110: 5B008642DAB19E417C92037055EF955C24D6D362B196562499430E524CBC50A17EF6
A111: [ 합 계 ] | F111: =TRUNC(SUMIF(N106:N110, N105, F106:F110),0) -> 1154440 | H111: =TRUNC(SUMIF(N106:N110, N105, H106:H110),0) -> 0 | J111: =TRUNC(SUMIF(N106:N110, N105, J106:J110),0) -> 0 | L111: =F111+H111+J111 -> 1154440 | N111: TOTAL | O111: TOTAL
A113: WD01[150*45] 0.900 x 2.100 = 1.890 EA ( 호표 22 ) | N113: 5B008642DAB19E417C92037055EF97
A114: 목재문 | B114: 150*45 | C114: M2 | D114: 1.89 | E114: =단가대비표!O54 -> 120000 | F114: =TRUNC(E114*D114,1) -> 226800 | G114: =단가대비표!P54 -> 0 | H114: =TRUNC(G114*D114,1) -> 0 | I114: =단가대비표!V54 -> 0 | J114: =TRUNC(I114*D114,1) -> 0 | K114: =TRUNC(E114+G114+I114,1) -> 120000 | L114: =TRUNC(F114+H114+J114,1) -> 226800 | M114: 제작도 | N114: 5B008642DAB19E417C92037055EF97 | O114: 5C24D6D362B19E90491973F9586B2813217E17 | P114: F | Q114: F | R114: T | AW114: 5B008642DAB19E417C92037055EF975C24D6D362B19E90491973F9586B2813217E17
A115: [ 합 계 ] | F115: =TRUNC(SUMIF(N114:N114, N113, F114:F114),0) -> 226800 | H115: =TRUNC(SUMIF(N114:N114, N113, H114:H114),0) -> 0 | J115: =TRUNC(SUMIF(N114:N114, N113, J114:J114),0) -> 0 | L115: =F115+H115+J115 -> 226800 | N115: TOTAL | O115: TOTAL
A117: 도어록 설치 목재문, 재료비 별도 개소 ( 호표 23 ) | N117: 5B008645AF2197892046132657E0A8
A118: 창호공 | B118: 일반공사 직종 | C118: 인 | D118: 0.019 | E118: =단가대비표!O109 -> 0 | F118: =TRUNC(E118*D118,1) -> 0 | G118: =단가대비표!P109 -> 187530 | H118: =TRUNC(G118*D118,1) -> 3563 | I118: =단가대비표!V109 -> 0 | J118: =TRUNC(I118*D118,1) -> 0 | K118: =TRUNC(E118+G118+I118,1) -> 187530 | L118: =TRUNC(F118+H118+J118,1) -> 3563 | N118: 5B008645AF2197892046132657E0A8 | O118: 5BDCB697D6F195D8EFCAC3375963246FA22A2B | P118: F | Q118: F | R118: T | V118: 1 | AW118: 5B008645AF2197892046132657E0A85BDCB697D6F195D8EFCAC3375963246FA22A2B
A119: 공구손료 | B119: 인력품의 2% | C119: 식 | D119: 1 | E119: 0 | F119: =TRUNC(E119*D119,1) -> 0 | G119: 0 | H119: =TRUNC(G119*D119,1) -> 0 | I119: =TRUNC(SUMIF(V118:V119, RIGHTB(O119, 1), H118:H119)*U119, 2) -> 71.26 | J119: =TRUNC(I119*D119,1) -> 71.2 | K119: =TRUNC(E119+G119+I119,1) -> 71.2 | L119: =TRUNC(F119+H119+J119,1) -> 71.2 | N119: 5B008645AF2197892046132657E0A8 | O119: 5A1EF6876ED19C2C8B8F632058FA001 | P119: F | Q119: F | R119: F | S119: 1 | T119: 2 | U119: 0.02 | AW119: 5B008645AF2197892046132657E0A85A1EF6876ED19C2C8B8F632058FA001
A120: [ 합 계 ] | F120: =TRUNC(SUMIF(N118:N119, N117, F118:F119),0) -> 0 | H120: =TRUNC(SUMIF(N118:N119, N117, H118:H119),0) -> 3563 | J120: =TRUNC(SUMIF(N118:N119, N117, J118:J119),0) -> 71 | L120: =F120+H120+J120 -> 3634 | N120: TOTAL | O120: TOTAL
A122: 도어록 설치 강재문, 재료비 별도 개소 ( 호표 24 ) | N122: 5B008645AF219789204503B755284F
A123: 창호공 | B123: 일반공사 직종 | C123: 인 | D123: 0.011 | E123: =단가대비표!O109 -> 0 | F123: =TRUNC(E123*D123,1) -> 0 | G123: =단가대비표!P109 -> 187530 | H123: =TRUNC(G123*D123,1) -> 2062.8 | I123: =단가대비표!V109 -> 0 | J123: =TRUNC(I123*D123,1) -> 0 | K123: =TRUNC(E123+G123+I123,1) -> 187530 | L123: =TRUNC(F123+H123+J123,1) -> 2062.8 | N123: 5B008645AF219789204503B755284F | O123: 5BDCB697D6F195D8EFCAC3375963246FA22A2B | P123: F | Q123: F | R123: T | V123: 1 | AW123: 5B008645AF219789204503B755284F5BDCB697D6F195D8EFCAC3375963246FA22A2B
...

Sheet 중기단가목록
A1: 중 기 단 가 목 록
A2: [ 양평우체국임시청사영업과조성공사 ]
A3: 코 드 | B3: 품 명 | C3: 규 격 | D3: 단위 | E3: 재 료 비 | F3: 노 무 비 | G3: 경 비 | H3: 합 계 | I3: 번 호 | J3: 비 고 | K3: START
A4: 5B2556B52A219C3D7F2803605C9CF0 | B4: 터파기/토사 | C4: 보통, 굴삭기 0.7m3 | D4: M3 | E4: 308 | F4: 660 | G4: 359 | H4: 1327 | I4: 산근 1 | K4: 5B2556B52A219C3D7F2803605C9CF0
A5: 5B2556B8FE419C34640F93CC58D5DC | B5: 되메우기/토사, 두께 15cm | C5: 보통, 굴삭기 0.7m3+래머 80kg | D5: M3 | E5: 470 | F5: 6349 | G5: 362 | H5: 7181 | I5: 산근 2 | K5: 5B2556B8FE419C34640F93CC58D5DC
A6: 5B2556B631119EF44E31B3E75A3AFE | B6: 토사 운반/단지외 10km | C6: 보통, 덤프 15ton+굴삭기 0.7m3(고르기 별도) | D6: M3 | E6: 2807 | F6: 3880 | G6: 1860 | H6: 8547 | I6: 산근 3 | K6: 5B2556B631119EF44E31B3E75A3AFE
A7: 5B0106789E9193164DA133745E0ABC | B7: 운반비(트레일러 20ton+크레인 10ton) | C7: 철골, L:30km | D7: TON | E7: 0 | F7: 0 | G7: 11514 | H7: 11514 | I7: 산근 4 | K7: 5B0106789E9193164DA133745E0ABC
A8: 5B0106789E9193164DA133595F878A | B8: 운반비(트레일러 20ton+크레인 10ton) | C8: 철근, L:30km | D8: TON | E8: 0 | F8: 0 | G8: 11514 | H8: 11514 | I8: 산근 5 | K8: 5B0106789E9193164DA133595F878A

Sheet 중기단가산출서
A1: 중 기 단 가 산 출 서
A2: [ 양평우체국임시청사영업과조성공사 ]
A3: 산 출 내 역 | B3: 재 료 비 | C3: 노 무 비 | D3: 경 비 | E3: 합 계 | F3: 비 고 | G3: START | H3: 코드 | I3: 품명 | J3: 규격 | K3: 단위 | L3: 수량
A4: 터파기/토사 보통, 굴삭기 0.7m3 M3 ( 산근 1 ) | G4: 5B2556B52A219C3D7F2803605C9CF0 | I4: 터파기/토사 | J4: 보통, 굴삭기 0.7m3 | K4: M3
G5: 5B2556B52A219C3D7F2803605C9CF0 | H5: C | L5: 1
A6: 굴삭기(무한궤도),0.7㎥ M3 | B6: 0 | C6: 0 | D6: 0 | E6: 0 | G6: 5B2556B52A219C3D7F2803605C9CF0 | H6: C! | I6: '굴삭기(무한궤도),0.7㎥ M3'
B7: 0 | C7: 0 | D7: 0 | E7: 0 | G7: 5B2556B52A219C3D7F2803605C9CF0 | H7: C!
A8: Q1 바켓용량(M3) =0.70 | B8: 0 | C8: 0 | D8: 0 | E8: 0 | G8: 5B2556B52A219C3D7F2803605C9CF0 | H8: C! | I8: q1 '바켓용량(M3)' =0.70
A9: K 바켓계수(양호1.1,보통0.90,불량0.70,파쇄암0.55) = 0.90 | B9: 0 | C9: 0 | D9: 0 | E9: 0 | G9: 5B2556B52A219C3D7F2803605C9CF0 | H9: C! | I9: k '바켓계수(양호1.1,보통0.90,불량0.70,파쇄암0.55)'= 0.90
A10: F 토량환산계수(1/L) = 1/1.25= 0.8 | B10: 0 | C10: 0 | D10: 0 | E10: 0 | G10: 5B2556B52A219C3D7F2803605C9CF0 | H10: C! | I10: f '토량환산계수(1/L)'= 1/1.25=?
A11: E1 터파기에 대하여 -0.05 =0.05 | B11: 0 | C11: 0 | D11: 0 | E11: 0 | G11: 5B2556B52A219C3D7F2803605C9CF0 | H11: C! | I11: E1 '터파기에 대하여 -0.05'=0.05
A12: E 작업효율사질토(양호0.85,보통0.70,불량0.55) = 0.70-E1= 0.65 | B12: 0 | C12: 0 | D12: 0 | E12: 0 | G12: 5B2556B52A219C3D7F2803605C9CF0 | H12: C! | I12: E '작업효율사질토(양호0.85,보통0.70,불량0.55)'= 0.70-E1=?
A13: CM 1회 싸이클시간(135˚SEC) =20 | B13: 0 | C13: 0 | D13: 0 | E13: 0 | G13: 5B2556B52A219C3D7F2803605C9CF0 | H13: C! | I13: Cm '1회 싸이클시간(135˚SEC)'=20
A14: Q 시간당 작업량 (M3/HR) = 3600*Q1*K*F*E/CM= 58.968 | B14: 0 | C14: 0 | D14: 0 | E14: 0 | G14: 5B2556B52A219C3D7F2803605C9CF0 | H14: C! | I14: Q '시간당 작업량 (M3/Hr)'= 3600*q1*k*f*E/Cm=?
B15: 0 | C15: 0 | D15: 0 | E15: 0 | G15: 5B2556B52A219C3D7F2803605C9CF0 | H15: C!
A16: 재료비: 18185 / 58.968 = 308.3 | B16: 308.3 | C16: 0 | D16: 0 | E16: 308.3 | G16: 5B2556B52A219C3D7F2803605C9CF0 | H16: C! | I16: '재료비:' ~00000201007000000.M~ / {Q} =?MA+
A17: 노무비: 38972 / 58.968 = 660.9 | B17: 0 | C17: 660.9 | D17: 0 | E17: 660.9 | G17: 5B2556B52A219C3D7F2803605C9CF0 | H17: C! | I17: '노무비:' ~00000201007000000.L~ / {Q} =?LA+
A18: 경 비: 21214 / 58.968 = 359.7 | B18: 0 | C18: 0 | D18: 359.7 | E18: 359.7 | G18: 5B2556B52A219C3D7F2803605C9CF0 | H18: C! | I18: '경 비:' ~00000201007000000.E~ / {Q} =?EQ+
A19: 소 계 | B19: 308.3 | C19: 660.9 | D19: 359.7 | E19: 1328.9 | G19: 5B2556B52A219C3D7F2803605C9CF0 | H19: C! | I19: >'소 계'
A20: 총 계 | B20: 308 | C20: 660 | D20: 359 | E20: 1327
A22: 되메우기/토사, 두께 15cm 보통, 굴삭기 0.7m3+래머 80kg M3 ( 산근 2 ) | G22: 5B2556B8FE419C34640F93CC58D5DC | I22: 되메우기/토사, 두께 15cm | J22: 보통, 굴삭기 0.7m3+래머 80kg | K22: M3
G23: 5B2556B8FE419C34640F93CC58D5DC | H23: C | K23: M3 | L23: 1
A24: 1.굴삭기 (무한궤도)0.7㎥M3 | B24: 0 | C24: 0 | D24: 0 | E24: 0 | G24: 5B2556B8FE419C34640F93CC58D5DC | H24: C! | I24: '1.굴삭기 (무한궤도)0.7㎥M3 '
A25: Q1 바켓용량(M3) = 0.7 | B25: 0 | C25: 0 | D25: 0 | E25: 0 | G25: 5B2556B8FE419C34640F93CC58D5DC | H25: C! | I25: q1 '바켓용량(M3)'= 0.7
A26: k 바켓계수 = 1.1 | B26: 0 | C26: 0 | D26: 0 | E26: 0 | G26: 5B2556B8FE419C34640F93CC58D5DC | H26: C! | I26: k '바켓계수'= 1.1
A27: L1 흐트러진상태 =1.25 | B27: 0 | C27: 0 | D27: 0 | E27: 0 | G27: 5B2556B8FE419C34640F93CC58D5DC | H27: C! | I27: L1 '흐트러진상태' =1.25
A28: C 다져진상태 =0.875 | B28: 0 | C28: 0 | D28: 0 | E28: 0 | G28: 5B2556B8FE419C34640F93CC58D5DC | H28: C! | I28: C '다져진상태'=0.875
A29: F 토량환산계(C/L) =C/L1= 0.7 | B29: 0 | C29: 0 | D29: 0 | E29: 0 | G29: 5B2556B8FE419C34640F93CC58D5DC | H29: C! | I29: f '토량환산계(C/L)'=C/L1=?
A30: E 작업효율(양호0.9,보통0.75,불량0.6) = 0.75 | B30: 0 | C30: 0 | D30: 0 | E30: 0 | G30: 5B2556B8FE419C34640F93CC58D5DC | H30: C! | I30: E '작업효율(양호0.9,보통0.75,불량0.6)'= 0.75
A31: CM 1회 싸이클시간(90˚SEC) =18 | B31: 0 | C31: 0 | D31: 0 | E31: 0 | G31: 5B2556B8FE419C34640F93CC58D5DC | H31: C! | I31: Cm '1회 싸이클시간(90˚sec)'=18
A32: Q 시간당 작업량 (M3/HR) = 3600*Q1*K*F*E/CM= 80.85 | B32: 0 | C32: 0 | D32: 0 | E32: 0 | G32: 5B2556B8FE419C34640F93CC58D5DC | H32: C! | I32: Q '시간당 작업량 (M3/Hr)'= 3600*q1*k*f*E/Cm=?
A33: 재료비: 18185 / 80.85 = 224.9 | B33: 224.9 | C33: 0 | D33: 0 | E33: 224.9 | G33: 5B2556B8FE419C34640F93CC58D5DC | H33: C! | I33: '재료비:' ~00000201007000000.M~ / {Q} =?MA+
A34: 노무비: 38972 / 80.85 = 482 | B34: 0 | C34: 482 | D34: 0 | E34: 482 | G34: 5B2556B8FE419C34640F93CC58D5DC | H34: C! | I34: '노무비:' ~00000201007000000.L~ / {Q} =?LA+
A35: 경 비: 21214 / 80.85 = 262.3 | B35: 0 | C35: 0 | D35: 262.3 | E35: 262.3 | G35: 5B2556B8FE419C34640F93CC58D5DC | H35: C! | I35: '경 비:' ~00000201007000000.E~ / {Q} =?EQ+
A36: 소 계 | B36: 224.9 | C36: 482 | D36: 262.3 | E36: 969.2 | G36: 5B2556B8FE419C34640F93CC58D5DC | H36: C! | I36: >'소 계'
B37: 0 | C37: 0 | D37: 0 | E37: 0 | G37: 5B2556B8FE419C34640F93CC58D5DC | H37: C!
A38: 2.래머,80kg | B38: 0 | C38: 0 | D38: 0 | E38: 0 | G38: 5B2556B8FE419C34640F93CC58D5DC | H38: C! | I38: '2.래머,80kg'
A39: A 1회당 유호 다짐면적(M2) =0.28*0.33= 0.0924 | B39: 0 | C39: 0 | D39: 0 | E39: 0 | G39: 5B2556B8FE419C34640F93CC58D5DC | H39: C! | I39: A '1회당 유호 다짐면적(M2)' =0.28*0.33=?
A40: N 1시간당 타격회수(회/HR) =36000 | B40: 0 | C40: 0 | D40: 0 | E40: 0 | G40: 5B2556B8FE419C34640F93CC58D5DC | H40: C! | I40: N '1시간당 타격회수(회/HR)' =36000
A41: H 다짐두께(M) =0.15 | B41: 0 | C41: 0 | D41: 0 | E41: 0 | G41: 5B2556B8FE419C34640F93CC58D5DC | H41: C! | I41: H '다짐두께(M)' =0.15
A42: L1 흐트러진상태 =1.25 | B42: 0 | C42: 0 | D42: 0 | E42: 0 | G42: 5B2556B8FE419C34640F93CC58D5DC | H42: C! | I42: L1 '흐트러진상태' =1.25
A43: F 토량환산계(L1/L1) =L1/L1= 1 | B43: 0 | C43: 0 | D43: 0 | E43: 0 | G43: 5B2556B8FE419C34640F93CC58D5DC | H43: C! | I43: f '토량환산계(L1/L1)'=L1/L1=?
A44: E 작업효율(양호0.7,보통0.5,불량0.3) = 0.5 | B44: 0 | C44: 0 | D44: 0 | E44: 0 | G44: 5B2556B8FE419C34640F93CC58D5DC | H44: C! | I44: E '작업효율(양호0.7,보통0.5,불량0.3)'= 0.5
A45: P 중복 다짐회수(회) =57 | B45: 0 | C45: 0 | D45: 0 | E45: 0 | G45: 5B2556B8FE419C34640F93CC58D5DC | H45: C! | I45: P '중복 다짐회수(회)' =57
A46: Q 시간당 작업량(M3/HR) =A*N*H*F*E/P= 4.377 | B46: 0 | C46: 0 | D46: 0 | E46: 0 | G46: 5B2556B8FE419C34640F93CC58D5DC | H46: C! | I46: Q '시간당 작업량(M3/HR)' =A*N*H*f*E/P=?
A47: 재료비: 1077 / 4.377 = 246 | B47: 246 | C47: 0 | D47: 0 | E47: 246 | G47: 5B2556B8FE419C34640F93CC58D5DC | H47: C! | I47: '재료비:' ~00001630008000000.M~ / {Q} =?MA+
A48: 노무비: 25683 / 4.377 = 5867.7 | B48: 0 | C48: 5867.7 | D48: 0 | E48: 5867.7 | G48: 5B2556B8FE419C34640F93CC58D5DC | H48: C! | I48: '노무비:' ~00001630008000000.L~ / {Q} =?LA+
A49: 경 비: 440 / 4.377 = 100.5 | B49: 0 | C49: 0 | D49: 100.5 | E49: 100.5 | G49: 5B2556B8FE419C34640F93CC58D5DC | H49: C! | I49: '경 비:' ~00001630008000000.E~ / {Q} =?EQ+
A50: 소 계 | B50: 246 | C50: 5867.7 | D50: 100.5 | E50: 6214.2 | G50: 5B2556B8FE419C34640F93CC58D5DC | H50: C! | I50: >'소 계'
B51: 0 | C51: 0 | D51: 0 | E51: 0 | G51: 5B2556B8FE419C34640F93CC58D5DC | H51: C!
A52: 합 계 | B52: 470.9 | C52: 6349.7 | D52: 362.8 | E52: 7183.4 | G52: 5B2556B8FE419C34640F93CC58D5DC | H52: C! | I52: >>'합 계'
A53: 총 계 | B53: 470 | C53: 6349 | D53: 362 | E53: 7181
A55: 토사 운반/단지외 10km 보통, 덤프 15ton+굴삭기 0.7m3(고르기 별도) M3 ( 산근 3 ) | G55: 5B2556B631119EF44E31B3E75A3AFE | I55: 토사 운반/단지외 10km | J55: 보통, 덤프 15ton+굴삭기 0.7m3(고르기 별도) | K55: M3
G56: 5B2556B631119EF44E31B3E75A3AFE | H56: C | K56: M3 | L56: 1
A57: 운반거리 L=10KN,(적재,고르기별도) M3 | B57: 0 | C57: 0 | D57: 0 | E57: 0 | G57: 5B2556B631119EF44E31B3E75A3AFE | H57: C! | I57: '운반거리 L=10KN,(적재,고르기별도) M3'
A58: 차량속도= 30KM/V1,35KM/V2,35KM/V3,35KM/V4,30KM/V5,35KM/V6 | B58: 0 | C58: 0 | D58: 0 | E58: 0 | G58: 5B2556B631119EF44E31B3E75A3AFE | H58: C! | I58: '차량속도= 30KM/V1,35KM/V2,35KM/V3,35KM/V4,30KM/V5,35KM/V6 '
A59: ○------------------0------------0----------------○10KM | B59: 0 | C59: 0 | D59: 0 | E59: 0 | G59: 5B2556B631119EF44E31B3E75A3AFE | H59: C! | I59: ' ○------------------0------------0----------------○10KM '
A60: 운반거리=단지대L1=0.5KM,시내외L2=9.0KM,사토장L3=0.5KM | B60: 0 | C60: 0 | D60: 0 | E60: 0 | G60: 5B2556B631119EF44E31B3E75A3AFE | H60: C! | I60: '운반거리=단지대L1=0.5KM,시내외L2=9.0KM,사토장L3=0.5KM'
B61: 0 | C61: 0 | D61: 0 | E61: 0 | G61: 5B2556B631119EF44E31B3E75A3AFE | H61: C!
A62: 1.덤프트럭,15톤 | B62: 0 | C62: 0 | D62: 0 | E62: 0 | G62: 5B2556B631119EF44E31B3E75A3AFE | H62: C! | I62: '1.덤프트럭,15톤'
A63: T 적재용량(톤) =15 | B63: 0 | C63: 0 | D63: 0 | E63: 0 | G63: 5B2556B631119EF44E31B3E75A3AFE | H63: C! | I63: T '적재용량(톤)' =15
A64: R1 토석의 단위중량(톤) =1.7 | B64: 0 | C64: 0 | D64: 0 | E64: 0 | G64: 5B2556B631119EF44E31B3E75A3AFE | H64: C! | I64: r1 '토석의 단위중량(톤)' =1.7
A65: L 토량 변화율 =1.25 | B65: 0 | C65: 0 | D65: 0 | E65: 0 | G65: 5B2556B631119EF44E31B3E75A3AFE | H65: C! | I65: L '토량 변화율' =1.25
A66: Q1 1회 적재량(M3) =T/R1*L= 11.0294 | B66: 0 | C66: 0 | D66: 0 | E66: 0 | G66: 5B2556B631119EF44E31B3E75A3AFE | H66: C! | I66: q1 '1회 적재량(M3)' =T/r1*L=?
A67: F 토량 환산계수(1/L) =1/L= 0.8 | B67: 0 | C67: 0 | D67: 0 | E67: 0 | G67: 5B2556B631119EF44E31B3E75A3AFE | H67: C! | I67: f '토량 환산계수(1/L)' =1/L=?
A68: E 작업효율 =0.9 | B68: 0 | C68: 0 | D68: 0 | E68: 0 | G68: 5B2556B631119EF44E31B3E75A3AFE | H68: C! | I68: E '작업효율' =0.9
A69: CMS 적재기계 1회 싸이클시간(SEC) =20 | B69: 0 | C69: 0 | D69: 0 | E69: 0 | G69: 5B2556B631119EF44E31B3E75A3AFE | H69: C! | I69: Cms '적재기계 1회 싸이클시간(SEC)' =20
A70: V1 단지내적재운반속도(KM/HR) =15 | B70: 0 | C70: 0 | D70: 0 | E70: 0 | G70: 5B2556B631119EF44E31B3E75A3AFE | H70: C! | I70: V1 '단지내적재운반속도(KM/HR)' =15
A71: V2 단지내공차운반속도(KM/HR) =20 | B71: 0 | C71: 0 | D71: 0 | E71: 0 | G71: 5B2556B631119EF44E31B3E75A3AFE | H71: C! | I71: V2 '단지내공차운반속도(KM/HR)' =20
A72: V3 시내외포장적재운반속도(KM/HR) =35 | B72: 0 | C72: 0 | D72: 0 | E72: 0 | G72: 5B2556B631119EF44E31B3E75A3AFE | H72: C! | I72: V3 '시내외포장적재운반속도(KM/HR)' =35
A73: V4 시내외포장공차운반속도(KM/HR) =35 | B73: 0 | C73: 0 | D73: 0 | E73: 0 | G73: 5B2556B631119EF44E31B3E75A3AFE | H73: C! | I73: V4 '시내외포장공차운반속도(KM/HR)' =35
... A78: L3 사토장비포장(KM) =0.5 | B78: 0 | C78: 0 | D78: 0 | E78: 0 | G78: 5B2556B631119EF44E31B3E75A3AFE | H78: C! | I78: L3 '사토장비포장(KM)' =0.5
B79: 0 | C79: 0 | D79: 0 | E79: 0 | G79: 5B2556B631119EF44E31B3E75A3AFE | H79: C!
A80: T2 왕복시간(MIN) =((L1/V1)+(L1/V2)+(L2/V3)+(L2/V4)+(L3/V5)+(L3/V6))*60= 37.8571 | B80: 0 | C80: 0 | D80: 0 | E80: 0 | G80: 5B2556B631119EF44E31B3E75A3AFE | H80: C! | I80: t2 '왕복시간(MIN)' =((L1/V1)+(L1/V2)+(L2/V3)+(L2/V4)+(L3/V5)+(L3/V6))*60=?
A81: T3 적하시간(MIN)양호0.5,보통0.8,불량1.1 =0.8 | B81: 0 | C81: 0 | D81: 0 | E81: 0 | G81: 5B2556B631119EF44E31B3E75A3AFE | H81: C! | I81: t3 '적하시간(MIN)양호0.5,보통0.8,불량1.1'=0.8
A82: T4 적재대기(MIN)양호0.15,보통0.42,불량0.7 =0.42 | B82: 0 | C82: 0 | D82: 0 | E82: 0 | G82: 5B2556B631119EF44E31B3E75A3AFE | H82: C! | I82: t4 '적재대기(MIN)양호0.15,보통0.42,불량0.7 '=0.42
A83: T5 적재합자동덮개설치및해체(MIN) =0.5 | B83: 0 | C83: 0 | D83: 0 | E83: 0 | G83: 5B2556B631119EF44E31B3E75A3AFE | H83: C! | I83: t5 '적재합자동덮개설치및해체(MIN)' =0.5
A84: T6 세륜시간 (MIN) =1.5 | B84: 0 | C84: 0 | D84: 0 | E84: 0 | G84: 5B2556B631119EF44E31B3E75A3AFE | H84: C! | I84: t6 '세륜시간 (MIN)' =1.5
B85: 0 | C85: 0 | D85: 0 | E85: 0 | G85: 5B2556B631119EF44E31B3E75A3AFE | H85: C!
A86: k 백호바켓계수 =1.1 | B86: 0 | C86: 0 | D86: 0 | E86: 0 | G86: 5B2556B631119EF44E31B3E75A3AFE | H86: C! | I86: k '백호바켓계수' =1.1
A87: ES 작업효율(양호0.9,보통0.75,불량0.6) = 0.75 | B87: 0 | C87: 0 | D87: 0 | E87: 0 | G87: 5B2556B631119EF44E31B3E75A3AFE | H87: C! | I87: Es '작업효율(양호0.9,보통0.75,불량0.6)'= 0.75
A88: N 덤프트럭 소요 백호 적재회수 =Q1/(0.7*K)= 14.32 | B88: 0 | C88: 0 | D88: 0 | E88: 0 | G88: 5B2556B631119EF44E31B3E75A3AFE | H88: C! | I88: n '덤프트럭 소요 백호 적재회수' =q1/(0.7*k)=?
A89: CM 1회 싸이클 시간(MIN) =CMS*N/(60*ES)+T2+T3+T4+T5+T6= 47.442 | B89: 0 | C89: 0 | D89: 0 | E89: 0 | G89: 5B2556B631119EF44E31B3E75A3AFE | H89: C! | I89: Cm '1회 싸이클 시간(MIN)' =Cms*n/(60*Es)+t2+t3+t4+t5+t6=?
A90: Q 시간당 작업량(M3/HR) =60*Q1*F*E/CM= 10.043 | B90: 0 | C90: 0 | D90: 0 | E90: 0 | G90: 5B2556B631119EF44E31B3E75A3AFE | H90: C! | I90: Q '시간당 작업량(M3/HR)' =60*q1*f*E/Cm=?
A91: 재료비: 28195 / 10.043 = 2807.4 | B91: 2807.4 | C91: 0 | D91: 0 | E91: 2807.4 | G91: 5B2556B631119EF44E31B3E75A3AFE | H91: C! | I91: '재료비:' ~00000602015000000.M~ / {Q} =?MA+
A92: 노무비: 38972 / 10.043 = 3880.5 | B92: 0 | C92: 3880.5 | D92: 0 | E92: 3880.5 | G92: 5B2556B631119EF44E31B3E75A3AFE | H92: C! | I92: '노무비:' ~00000602015000000.L~ / {Q} =?LA+
A93: 경 비: 18299 / 10.043 = 1822 | B93: 0 | C93: 0 | D93: 1822 | E93: 1822 | G93: 5B2556B631119EF44E31B3E75A3AFE | H93: C! | I93: '경 비:' ~00000602015000000.E~ / {Q} =?EQ+
A94: 소계 | B94: 2807.4 | C94: 3880.5 | D94: 1822 | E94: 8509.9 | G94: 5B2556B631119EF44E31B3E75A3AFE | H94: C! | I94: >'소계'
B95: 0 | C95: 0 | D95: 0 | E95: 0 | G95: 5B2556B631119EF44E31B3E75A3AFE | H95: C!
A96: 2.자동덮개시설,덤프15톤용 M3 | B96: 0 | C96: 0 | D96: 0 | E96: 0 | G96: 5B2556B631119EF44E31B3E75A3AFE | H96: C! | I96: '2.자동덮개시설,덤프15톤용 M3'
A97: 재료비: 0 / 10.043 = 0 | B97: 0 | C97: 0 | D97: 0 | E97: 0 | G97: 5B2556B631119EF44E31B3E75A3AFE | H97: C! | I97: '재료비:' ~00000610015000000.M~ / {Q} =?MA+
A98: 노무비: 0 / 10.043 = 0 | B98: 0 | C98: 0 | D98: 0 | E98: 0 | G98: 5B2556B631119EF44E31B3E75A3AFE | H98: C! | I98: '노무비:' ~00000610015000000.L~ / {Q} =?LA+
A99: 경 비: 386 / 10.043 = 38.4 | B99: 0 | C99: 0 | D99: 38.4 | E99: 38.4 | G99: 5B2556B631119EF44E31B3E75A3AFE | H99: C! | I99: '경 비:' ~00000610015000000.E~ / {Q} =?EQ+
A100: 소계 | B100: 0 | C100: 0 | D100: 38.4 | E100: 38.4 | G100: 5B2556B631119EF44E31B3E75A3AFE | H100: C! | I100: >'소계'
B101: 0 | C101: 0 | D101: 0 | E101: 0 | G101: 5B2556B631119EF44E31B3E75A3AFE | H101: C!
A102: 총 계 | B102: 2807 | C102: 3880 | D102: 1860 | E102: 8547
A104: 운반비(트레일러 20ton+크레인 10ton) 철골, L:30km TON ( 산근 4 ) | G104: 5B0106789E9193164DA133745E0ABC | I104: 운반비(트레일러 20ton+크레인 10ton) | J104: 철골, L:30km | K104: TON
G105: 5B0106789E9193164DA133745E0ABC | H105: C | L105: 1
A106: 운반거리 L=30KM 트레일러(20톤) 톤당 | B106: 0 | C106: 0 | D106: 0 | E106: 0 | G106: 5B0106789E9193164DA133745E0ABC | H106: C! | I106: '운반거리 L=30KM 트레일러(20톤) 톤당 '
A107: 적용기준:현장에서 가까운 지역공장 상차도 | B107: 0 | C107: 0 | D107: 0 | E107: 0 | G107: 5B0106789E9193164DA133745E0ABC | H107: C! | I107: '적용기준:현장에서 가까운 지역공장 상차도'
...

Sheet 단가대비표
A1: 단 가 대 비 표
A2: [ 양평우체국임시청사영업과조성공사 ]
A3: 코 드 | B3: 품 명 | C3: 규격 | D3: 단위 | E3: 재 료 비 | P3: 노 무 비 | Q3: 경 비 | W3: 번 호 | X3: 비 고 | Y3: 품목구분 | Z3: 노임구분 | AA3: 소수점처리 | AB3: 자재구분
E4: 조달청가격 | F4: PAGE | G4: 거래가격 | H4: PAGE | I4: 유통물가 | J4: PAGE | K4: 물가자료 | L4: PAGE | M4: 조사가격 | N4: PAGE | O4: 적용단가 | Q4: 조달청가격 | R4: 거래가격 | S4: 유통물가 | T4: 물가자료 | U4: 조사가격 | V4: 적용단가
A5: 5C1A66684EC191CE5A34E3145D65CEA587E3B6 | B5: 굴삭기(무한궤도) | C5: 0.7㎥ | D5: 대 | E5: 0 | G5: 0 | I5: 0 | K5: 0 | M5: 0 | O5: 0 | P5: 0 | Q5: 0 | R5: 0 | S5: 0 | T5: 0 | U5: 101750 | V5: =SMALL(Q5:U5,COUNTIF(Q5:U5,0)+1) -> 101750 | W5: 자재 1 | X5: 천원
A6: 5C1A66684EC191CAFF8633705998C70B44EE6C | B6: 덤프트럭 | C6: 15ton | D6: 대 | E6: 0 | G6: 0 | I6: 0 | K6: 0 | M6: 0 | O6: 0 | P6: 0 | Q6: 0 | R6: 0 | S6: 0 | T6: 0 | U6: 80295 | V6: =SMALL(Q6:U6,COUNTIF(Q6:U6,0)+1) -> 80295 | W6: 자재 2 | X6: 천원
A7: 5C1A66684EC191CAFEFDB37C5CD05A1CE1D65C | B7: 덤프트럭 자동덮개시설 | C7: 15ton | D7: 대 | E7: 0 | G7: 0 | I7: 0 | K7: 0 | M7: 0 | O7: 0 | P7: 0 | Q7: 0 | R7: 0 | S7: 0 | T7: 0 | U7: 1439 | V7: =SMALL(Q7:U7,COUNTIF(Q7:U7,0)+1) -> 1439 | W7: 자재 3 | X7: 천원
A8: 5C1A66684EC19020E14C63DA5F6F463D24560C | B8: 래머 | C8: 80kg | D8: 대 | E8: 0 | G8: 0 | I8: 0 | K8: 0 | M8: 0 | O8: 0 | P8: 0 | Q8: 0 | R8: 0 | S8: 0 | T8: 0 | U8: 1188 | V8: =SMALL(Q8:U8,COUNTIF(Q8:U8,0)+1) -> 1188 | W8: 자재 4 | X8: 천원
A9: 5C1A66684EC193FB4E59636D5E9DFDC709BBC7 | B9: 크레인(타이어) | C9: 20ton | D9: 대 | E9: 0 | G9: 0 | I9: 0 | K9: 0 | M9: 0 | O9: 0 | P9: 0 | Q9: 0 | R9: 0 | S9: 0 | T9: 0 | U9: 209358 | V9: =SMALL(Q9:U9,COUNTIF(Q9:U9,0)+1) -> 209358 | W9: 자재 5 | X9: 천원
A10: 5C1A66684EC193FB4E59636D5E9A29AAC5132B | B10: 크레인(타이어) | C10: 50ton | D10: 대 | E10: 0 | G10: 0 | I10: 0 | K10: 0 | M10: 0 | O10: 0 | P10: 0 | Q10: 0 | R10: 0 | S10: 0 | T10: 0 | U10: 476148 | V10: =SMALL(Q10:U10,COUNTIF(Q10:U10,0)+1) -> 476148 | W10: 자재 6 | X10: 천원
A11: 5C1A66684EC193FB4E5853FE5CC9068AD0C8CB | B11: 트럭탑재형 크레인 | C11: 10ton | D11: 대 | E11: 0 | G11: 0 | I11: 0 | K11: 0 | M11: 0 | O11: 0 | P11: 0 | Q11: 0 | R11: 0 | S11: 0 | T11: 0 | U11: 68667 | V11: =SMALL(Q11:U11,COUNTIF(Q11:U11,0)+1) -> 68667 | W11: 자재 7 | X11: 천원
A12: 5C1A66684EC193FD7C5B23F15D1063ACB586DD | B12: 트럭 트랙터 및 평판트레일러 | C12: 20ton | D12: 대 | E12: 0 | G12: 0 | I12: 0 | K12: 0 | M12: 0 | O12: 0 | P12: 0 | Q12: 0 | R12: 0 | S12: 0 | T12: 0 | U12: 59916 | V12: =SMALL(Q12:U12,COUNTIF(Q12:U12,0)+1) -> 59916 | W12: 자재 8 | X12: 천원
A13: 5C1A66684EC196485FFCB3365E748310DE1371 | B13: 용접기(교류) | C13: 500Amp | D13: 대 | E13: 0 | G13: 0 | I13: 0 | K13: 0 | M13: 0 | O13: 0 | P13: 0 | Q13: 0 | R13: 0 | S13: 0 | T13: 0 | U13: 583 | V13: =SMALL(Q13:U13,COUNTIF(Q13:U13,0)+1) -> 583 | W13: 자재 9 | X13: 천원
A14: 5C08160D66319C4DFD6C035B5DB05F42CD0F3D | B14: 모래 | C14: (별도) | D14: M3 | E14: 0 | G14: 0 | I14: 0 | K14: 0 | M14: 0 | O14: 0 | P14: 0 | Q14: 0 | R14: 0 | S14: 0 | T14: 0 | U14: 0 | V14: 0 | W14: 자재 10 | X14: 별도
A15: 5C08160D66319C4DFD6C035B5CA23C0AD3EAF6 | B15: 모래 | C15: 모래, 도착도 | D15: M3 | E15: 0 | G15: 29000 | H15: 90 | I15: 0 | K15: 0 | M15: 0 | O15: =SMALL(E15:M15,COUNTIF(E15:M15,0)+1) -> 29000 | P15: 0 | Q15: 0 | R15: 0 | S15: 0 | T15: 0 | U15: 0 | V15: 0 | W15: 자재 11
A16: 5C08160D6E71920C502B835B50230682A66886 | B16: 철강설 | C16: 철강설, 고철, 작업설부산물 | D16: TON | E16: 340000 | G16: 0 | I16: 0 | K16: 0 | M16: 0 | O16: =SMALL(E16:M16,COUNTIF(E16:M16,0)+1) -> 340000 | P16: 0 | Q16: 0 | R16: 0 | S16: 0 | T16: 0 | U16: 0 | V16: 0 | W16: 자재 12 | X16: 수집상차도
A17: 5C08160D6E71920C502B835B50230682A66885 | B17: 철강설 | C17: 철강설, 고철, 작업설부산물 | D17: kg | E17: 340 | G17: 330 | H17: 1456 | I17: 288 | J17: 1246 | K17: 0 | M17: 0 | O17: =SMALL(E17:M17,COUNTIF(E17:M17,0)+1) -> 288 | P17: 0 | Q17: 0 | R17: 0 | S17: 0 | T17: 0 | U17: 0 | V17: 0 | W17: 자재 13 | X17: 수집상차도
A18: 5C08160D6E71920C502B835B50230682A669AF | B18: 철강설 | C18: 철강설, 스텐레스, 작업설부산물 | D18: kg | E18: 1200 | G18: 1400 | H18: 1456 | I18: 1200 | J18: 1246 | K18: 0 | M18: 0 | O18: =SMALL(E18:M18,COUNTIF(E18:M18,0)+1) -> 1200 | P18: 0 | Q18: 0 | R18: 0 | S18: 0 | T18: 0 | U18: 0 | V18: 0 | W18: 자재 14 | X18: 수집상차도
A19: 5C082613B6819D1A03B5F346579B031F3FF06B | B19: 산소가스 | C19: 산소가스, 기체(㎥) | D19: M3 | E19: 0 | G19: 2708.33 | H19: 1435 | I19: 2500 | J19: 1238 | K19: 0 | M19: 0 | O19: =SMALL(E19:M19,COUNTIF(E19:M19,0)+1) -> 2500 | P19: 0 | Q19: 0 | R19: 0 | S19: 0 | T19: 0 | U19: 0 | V19: 0 | W19: 자재 15 | X19: 대기압상태기준
A20: 5C082613B6819D1A03B5F346579B031F3FF065 | B20: 산소가스 | C20: 기체 | D20: L | E20: 2.22 | G20: 2.7 | H20: 1435 | I20: 2.5 | J20: 1238 | K20: 0 | M20: 0 | O20: =SMALL(E20:M20,COUNTIF(E20:M20,0)+1) -> 2.22 | P20: 0 | Q20: 0 | R20: 0 | S20: 0 | T20: 0 | U20: 0 | V20: 0 | W20: 자재 16 | X20: 대기압상태기준
A21: 5C082613B6819E3AFE27F3B55ED8C506D538FB | B21: 탄산가스 | D21: kg | E21: 0 | G21: 0 | I21: 290 | J21: 1238 | K21: 0 | M21: 0 | O21: =SMALL(E21:M21,COUNTIF(E21:M21,0)+1) -> 290 | P21: 0 | Q21: 0 | R21: 0 | S21: 0 | T21: 0 | U21: 0 | V21: 0 | W21: 자재 17
A22: 5C0856E6C90198B47B0B6387525B3053DC6F56 | B22: 경유 | C22: 경유, 저유황 | D22: L | E22: 0 | G22: 1296.36 | H22: 1435 | I22: 1285 | J22: 1237 | K22: 0 | M22: 0 | O22: =SMALL(E22:M22,COUNTIF(E22:M22,0)+1) -> 1285 | P22: 0 | Q22: 0 | R22: 0 | S22: 0 | T22: 0 | U22: 0 | V22: 0 | W22: 자재 18
A23: 5C0856E6C90198B47B08934953BB364FA6B21C | B23: 공업용휘발유 | C23: 공업용휘발유, 무연 | D23: L | E23: 0 | G23: 1399.09 | H23: 1435 | I23: 1448 | J23: 1237 | K23: 0 | M23: 0 | O23: =SMALL(E23:M23,COUNTIF(E23:M23,0)+1) -> 1399.09 | P23: 0 | Q23: 0 | R23: 0 | S23: 0 | T23: 0 | U23: 0 | V23: 0 | W23: 자재 19
A24: 5C0856E6C86192E8B7B823F95B2B8C43115883 | B24: 아세틸렌가스 | C24: 아세틸렌가스, kg | D24: kg | E24: 10652 | G24: 13200 | H24: 1435 | I24: 13000 | J24: 1238 | K24: 0 | M24: 0 | O24: =SMALL(E24:M24,COUNTIF(E24:M24,0)+1) -> 10652 | P24: 0 | Q24: 0 | R24: 0 | S24: 0 | T24: 0 | U24: 0 | V24: 0 | W24: 자재 20
A25: 5C35769AA5A1959E009D83965D60E979312996 | B25: 용접봉(연강용) | C25: 3.2(KSE4301) | D25: kg | E25: 0 | G25: 2290 | H25: 1310 | I25: 2390 | J25: 1180 | K25: 0 | M25: 0 | O25: =SMALL(E25:M25,COUNTIF(E25:M25,0)+1) -> 2290 | P25: 0 | Q25: 0 | R25: 0 | S25: 0 | T25: 0 | U25: 0 | V25: 0 | W25: 자재 21
A26: 5C35769AA5A1959E009D83965D60E97932C15A | B26: 스테인리스강용피복아크용접봉 | C26: 스테인리스강용피복아크용접봉, ∮3.2mm, AWSE309 | D26: kg | E26: 0 | G26: 11270 | H26: 1310 | I26: 11350 | J26: 1180 | K26: 0 | M26: 0 | O26: =SMALL(E26:M26,COUNTIF(E26:M26,0)+1) -> 11270 | P26: 0 | Q26: 0 | R26: 0 | S26: 0 | T26: 0 | U26: 0 | V26: 0 | W26: 자재 22
A27: 5C35769AA5A1959E009CE3655E4061E31ACB63 | B27: CO2와이어 | C27: JIS VGW-12,D0.9 | D27: kg | E27: 0 | G27: 0 | I27: 0 | K27: 0 | M27: 2300 | O27: =SMALL(E27:M27,COUNTIF(E27:M27,0)+1) -> 2300 | P27: 0 | Q27: 0 | R27: 0 | S27: 0 | T27: 0 | U27: 0 | V27: 0 | W27: 자재 23
A28: 5C24D6D365719259040AA3985870C76DFBD777 | B28: ㄱ형강 | C28: ㄱ형강, 등변, 50*50*6mm | D28: kg | E28: 728 | G28: 810 | H28: 37 | I28: 772 | J28: 22 | K28: 0 | M28: 0 | O28: =SMALL(E28:M28,COUNTIF(E28:M28,0)+1) -> 728 | P28: 0 | Q28: 0 | R28: 0 | S28: 0 | T28: 0 | U28: 0 | V28: 0 | W28: 자재 24
A29: 5C24D6D36571925A2A78936A517F55516DFC2C | B29: 이형철근 | C29: HD-10 | D29: 톤 | E29: 0 | G29: 0 | I29: 0 | K29: 710000 | L29: 42 | M29: 0 | O29: =SMALL(E29:M29,COUNTIF(E29:M29,0)+1) -> 710000 | P29: 0 | Q29: 0 | R29: 0 | S29: 0 | T29: 0 | U29: 0 | V29: 0 | W29: 자재 25
A30: 5C24D6D36571925A2A78936A517F55516DFC29 | B30: 이형철근 | C30: HD-19 | D30: 톤 | E30: 0 | G30: 0 | I30: 0 | K30: 695000 | L30: 42 | M30: 0 | O30: =SMALL(E30:M30,COUNTIF(E30:M30,0)+1) -> 695000 | P30: 0 | Q30: 0 | R30: 0 | S30: 0 | T30: 0 | U30: 0 | V30: 0 | W30: 자재 26
A31: 5C24D6D36571925B3166F31F5D66AA53E513BA | B31: 보조강재 | C31: 대강 | D31: kg | E31: 0 | G31: 1045 | H31: 40 | I31: 0 | K31: 0 | M31: 0 | O31: =SMALL(E31:M31,COUNTIF(E31:M31,0)+1) -> 1045 | P31: 0 | Q31: 0 | R31: 0 | S31: 0 | T31: 0 | U31: 0 | V31: 0 | W31: 자재 27
A32: 5C24D6D3657191B71C73737758D9D92589E3E4 | B32: 일반구조용압연강판 | C32: 일반구조용압연강판, 6.0mm | D32: TON | E32: 797000 | G32: 901600 | H32: 45 | I32: 999500 | J32: 26 | K32: 0 | M32: 0 | O32: =SMALL(E32:M32,COUNTIF(E32:M32,0)+1) -> 797000 | P32: 0 | Q32: 0 | R32: 0 | S32: 0 | T32: 0 | U32: 0 | V32: 0 | W32: 자재 28
A33: 5C24D6D3657191B71C73737758D9D92588C537 | B33: 일반구조용압연강판 | C33: 일반구조용압연강판, 1.6mm | D33: kg | E33: 711 | G33: 800.9 | H33: 45 | I33: 868.34 | J33: 26 | K33: 0 | M33: 0 | O33: =SMALL(E33:M33,COUNTIF(E33:M33,0)+1) -> 711 | P33: 0 | Q33: 0 | R33: 0 | S33: 0 | T33: 0 | U33: 0 | V33: 0 | W33: 자재 29
A34: 5C24D6D3657191B71C73737758D9D92588C530 | B34: 일반구조용압연강판 | C34: 일반구조용압연강판, 2.3mm | D34: kg | E34: 0 | G34: 789 | H34: 45 | I34: 842.34 | J34: 26 | K34: 0 | M34: 0 | O34: =SMALL(E34:M34,COUNTIF(E34:M34,0)+1) -> 789 | P34: 0 | Q34: 0 | R34: 0 | S34: 0 | T34: 0 | U34: 0 | V34: 0 | W34: 자재 30
A35: 5C24D6D3657191B71C73737759EAC040144FF1 | B35: 일반구조용압연강판 | C35: 일반구조용압연강판, 9.0mm | D35: TON | E35: 745000 | G35: 790600 | H35: 45 | I35: 862600 | J35: 26 | K35: 0 | M35: 0 | O35: =SMALL(E35:M35,COUNTIF(E35:M35,0)+1) -> 745000 | P35: 0 | Q35: 0 | R35: 0 | S35: 0 | T35: 0 | U35: 0 | V35: 0 | W35: 자재 31
A36: 5C24D6D3657191B71C7263CA5BB1A72A226FE2 | B36: 스테인리스강판 | C36: 스테인리스강판, STS304, 1.5mm | D36: kg | E36: 2450 | G36: 2802 | H36: 59 | I36: 2690 | J36: 36 | K36: 0 | M36: 0 | O36: =SMALL(E36:M36,COUNTIF(E36:M36,0)+1) -> 2450 | P36: 0 | Q36: 0 | R36: 0 | S36: 0 | T36: 0 | U36: 0 | V36: 0 | W36: 자재 32
A37: 5C24D6D3657191B71D1B83415942CF08FCB4AA | B37: 폴리카보네이트시트 | C37: 10mm | D37: M2 | E37: 0 | G37: 0 | I37: 31500 | J37: 436 | K37: 32300 | L37: 537 | M37: 0 | O37: =SMALL(E37:M37,COUNTIF(E37:M37,0)+1) -> 31500 | P37: 0 | Q37: 0 | R37: 0 | S37: 0 | T37: 0 | U37: 0 | V37: 0 | W37: 자재 33
A38: 5C24D6D364619C74C79303015CCBE4AA0DF4DC | B38: 무수축모르타르 | C38: GP600 | D38: kg | E38: 0 | G38: 400 | H38: 94 | I38: 0 | K38: 0 | M38: 0 | O38: =SMALL(E38:M38,COUNTIF(E38:M38,0)+1) -> 400 | P38: 0 | Q38: 0 | R38: 0 | S38: 0 | T38: 0 | U38: 0 | V38: 0 | W38: 자재 34
A39: 5C24D6D364619C74C79273A550B690E3CDB447 | B39: 레미콘/무근 | C39: 레미콘,25-18-12 | D39: M3 | E39: 62110 | G39: 0 | I39: 0 | K39: 0 | M39: 0 | O39: =SMALL(E39:M39,COUNTIF(E39:M39,0)+1) -> 62110 | P39: 0 | Q39: 0 | R39: 0 | S39: 0 | T39: 0 | U39: 0 | V39: 0 | W39: 자재 35
A40: 5C24D6D364619C74C79273A550B690E3CDB701 | B40: 레미콘/구조체 | C40: 레미콘 25-21-15 | D40: M3 | E40: 66170 | G40: 0 | I40: 0 | K40: 0 | M40: 0 | O40: =SMALL(E40:M40,COUNTIF(E40:M40,0)+1) -> 66170 | P40: 0 | Q40: 0 | R40: 0 | S40: 0 | T40: 0 | U40: 0 | V40: 0 | W40: 자재 36
A41: 5C24D6D364619C779B74E3DE51D3241487E6A8 | B41: 시멘트 | C41: 시멘트(별도) | D41: kg | E41: 0 | G41: 0 | I41: 0 | K41: 0 | M41: 0 | O41: 0 | P41: 0 | Q41: 0 | R41: 0 | S41: 0 | T41: 0 | U41: 0 | V41: 0 | W41: 자재 37 | X41: 별도
A42: 5C24D6D364619C779B74E3DE51D3241487E6AD | B42: 시멘트 | C42: 40KG/포 | D42: 포 | E42: 0 | G42: 0 | I42: 0 | K42: 5500 | L42: 106 | M42: 0 | O42: =SMALL(E42:M42,COUNTIF(E42:M42,0)+1) -> 5500 | P42: 0 | Q42: 0 | R42: 0 | S42: 0 | T42: 0 | U42: 0 | V42: 0 | W42: 자재 38
A43: 5C24D6D364619C7949D0B36652FFE8BB9D6ECE | B43: 용접철망 | C43: 용접철망, 와이어메시, #8-150*150 | D43: M2 | E43: 0 | G43: 2090 | H43: 88 | I43: 2080 | J43: 58 | K43: 0 | M43: 0 | O43: =SMALL(E43:M43,COUNTIF(E43:M43,0)+1) -> 2080 | P43: 0 | Q43: 0 | R43: 0 | S43: 0 | T43: 0 | U43: 0 | V43: 0 | W43: 자재 39
A44: 5C24D6D366119BF4E40FF3C95362670D27B3CC | B44: 자연석판석 | C44: 자연석판석, 버너마감, 30mm, 포천석판재 | D44: M2 | E44: 0 | G44: 47850 | H44: 513 | I44: 47850 | J44: 375 | K44: 0 | M44: 0 | O44: =SMALL(E44:M44,COUNTIF(E44:M44,0)+1) -> 47850 | P44: 0 | Q44: 0 | R44: 0 | S44: 0 | T44: 0 | U44: 0 | V44: 0 | W44: 자재 40
A45: 5C24D6D3619199BC31A6B3AF57DD8E6D46CA6F | B45: 안전방범필름 - GC1 115 | C45: 0.14 4mil 투명 UV99%차단 내후성 안전우선 | D45: M2 | E45: 0 | G45: 35000 | H45: 614 | I45: 0 | K45: 38000 | L45: 620 | M45: 0 | O45: =SMALL(E45:M45,COUNTIF(E45:M45,0)+1) -> 35000 | P45: 10000 | Q45: 0 | R45: 0 | S45: 0 | T45: 0 | U45: 0 | V45: 0 | W45: 자재 41
A46: 5C24D6D36341971083CA235A52801690415C70 | B46: 조립식패널 | C46: 조립식패널, SGP칸막이, A형 | D46: M2 | E46: 0 | G46: 0 | I46: 0 | K46: 62000 | L46: 566 | M46: 0 | O46: =SMALL(E46:M46,COUNTIF(E46:M46,0)+1) -> 62000 | P46: 0 | Q46: 0 | R46: 0 | S46: 0 | T46: 0 | U46: 0 | V46: 0 | W46: 자재 42
A47: 5C24D6D36341971083C643DA56AF1225C78D9E | B47: 석고보드 | C47: 석고보드, 평보드, 9.5*900*2400mm(㎡) | D47: M2 | E47: 1820 | G47: 2569.44 | H47: 624 | I47: 1944.44 | J47: 418 | K47: 0 | M47: 0 | O47: =SMALL(E47:M47,COUNTIF(E47:M47,0)+1) -> 1820 | P47: 0 | Q47: 0 | R47: 0 | S47: 0 | T47: 0 | U47: 0 | V47: 0 | W47: 자재 43
A48: 5C24D6D36341971358B1C3295F5860DA681E06 | B48: C-RUNNER | C48: 65*40*0.8t | D48: M | E48: 0 | G48: 2140 | H48: 688 | I48: 0 | K48: 0 | M48: 0 | O48: =SMALL(E48:M48,COUNTIF(E48:M48,0)+1) -> 2140 | P48: 0 | Q48: 0 | R48: 0 | S48: 0 | T48: 0 | U48: 0 | V48: 0 | W48: 자재 44
A49: 5C24D6D36341971358B1C3295F5860DA681E07 | B49: C-STUD | C49: 65*45*0.8t | D49: M | E49: 0 | G49: 2580 | H49: 688 | I49: 2580 | J49: 430 | K49: 0 | M49: 0 | O49: =SMALL(E49:M49,COUNTIF(E49:M49,0)+1) -> 2580 | P49: 0 | Q49: 0 | R49: 0 | S49: 0 | T49: 0 | U49: 0 | V49: 0 | W49: 자재 45
A50: 5C24D6D363419712B1C913EF5E475C3E668035 | B50: 플로어링보드 | C50: 플로어링보드, 22mm, 경질단풍나무(MAPLE), 비도장제품 | D50: M2 | E50: 0 | G50: 0 | I50: 62000 | J50: 495 | K50: 0 | M50: 0 | O50: =SMALL(E50:M50,COUNTIF(E50:M50,0)+1) -> 62000 | P50: 0 | Q50: 0 | R50: 0 | S50: 0 | T50: 0 | U50: 0 | V50: 0 | W50: 자재 46
A51: 5C24D6D363419712B1C8737751C647EB6F5441 | B51: 비닐시트 | C51: 비닐시트, 3.0t*1830, 퓨전 | D51: M2 | E51: 18200 | G51: 0 | I51: 25000 | J51: 510 | K51: 0 | M51: 0 | O51: =SMALL(E51:M51,COUNTIF(E51:M51,0)+1) -> 18200 | P51: 0 | Q51: 0 | R51: 0 | S51: 0 | T51: 0 | U51: 0 | V51: 0 | W51: 자재 47
A52: 5C24D6D362B19E90491DD3A8581264D37FDFFB | B52: 알루미늄 갤러리 | C52: 불소수지 | D52: M2 | E52: 0 | G52: 0 | I52: 0 | K52: 260000 | L52: 597 | M52: 0 | O52: =SMALL(E52:M52,COUNTIF(E52:M52,0)+1) -> 260000 | P52: 0 | Q52: 0 | R52: 0 | S52: 0 | T52: 0 | U52: 0 | V52: 0 | W52: 자재 48 | X52: 견적
A53: 5C24D6D362B19E90491C33355E59E9AEA4A097 | B53: 유리문 | C53: 유리문, 12*1000*2100mm, 손보호, 투명, 강화유리문 | D53: 개 | E53: 0 | G53: 0 | I53: 0 | K53: 460000 | L53: 598 | M53: 0 | O53: =SMALL(E53:M53,COUNTIF(E53:M53,0)+1) -> 460000 | P53: 25000 | Q53: 0 | R53: 0 | S53: 0 | T53: 0 | U53: 0 | V53: 0 | W53: 자재 49
A54: 5C24D6D362B19E90491973F9586B2813217E17 | B54: 목재문 | C54: 150*45 | D54: M2 | E54: 0 | G54: 0 | I54: 0 | K54: 120000 | L54: 599 | M54: 0 | O54: =SMALL(E54:M54,COUNTIF(E54:M54,0)+1) -> 120000 | P54: 0 | Q54: 0 | R54: 0 | S54: 0 | T54: 0 | U54: 0 | V54: 0 | W54: 자재 50 | X54: 제작도
A55: 5C24D6D362B19E904872F31354BB8E5983D0A5 | B55: 도어클로저 | C55: 도어클로저, K-2840, KS4호, 고급방화, 60∼85kg | D55: 조 | E55: 80800 | G55: 99000 | H55: 610 | I55: 99000 | J55: 464 | K55: 0 | M55: 0 | O55: =SMALL(E55:M55,COUNTIF(E55:M55,0)+1) -> 80800 | P55: 0 | Q55: 0 | R55: 0 | S55: 0 | T55: 0 | U55: 0 | V55: 0 | W55: 자재 51
A56: 5C24D6D362B19E927F6943B3508782D8D2D3E9 | B56: 로이 복층유리 | C56: 복층유리, 6LE+12Ar+6LE, 24mm | D56: M2 | E56: 0 | G56: 0 | I56: 0 | K56: 71300 | L56: 624 | M56: 0 | O56: =SMALL(E56:M56,COUNTIF(E56:M56,0)+1) -> 71300 | P56: 0 | Q56: 0 | R56: 0 | S56: 0 | T56: 0 | U56: 0 | V56: 0 | W56: 자재 52
A57: 5C24D6D362B196562499430E524CBC50A17EF2 | B57: 금속제문틀 | C57: 스테인리스창호, 헤어라인,문틀,100*45*2.4mm-상바 | D57: M | E57: 0 | G57: 0 | I57: 0 | K57: 53000 | L57: 598 | M57: 0 | O57: =SMALL(E57:M57,COUNTIF(E57:M57,0)+1) -> 53000 | P57: 0 | Q57: 0 | R57: 0 | S57: 0 | T57: 0 | U57: 0 | V57: 0 | W57: 자재 53
A58: 5C24D6D362B196562499430E524CBC50A17EF1 | B58: 금속제문틀 | C58: 스테인리스창호, 헤어라인,문틀,74*71*2.4mm-중바 | D58: M | E58: 0 | G58: 0 | I58: 0 | K58: 67000 | L58: 598 | M58: 0 | O58: =SMALL(E58:M58,COUNTIF(E58:M58,0)+1) -> 67000 | P58: 0 | Q58: 0 | R58: 0 | S58: 0 | T58: 0 | U58: 0 | V58: 0 | W58: 자재 54
A59: 5C24D6D362B196562499430E524CBC50A17EF0 | B59: 금속제문틀 | C59: 스테인리스창호, 헤어라인,문틀,100*45*2.4mm-통바 | D59: M | E59: 0 | G59: 0 | I59: 0 | K59: 77000 | L59: 598 | M59: 0 | O59: =SMALL(E59:M59,COUNTIF(E59:M59,0)+1) -> 77000 | P59: 0 | Q59: 0 | R59: 0 | S59: 0 | T59: 0 | U59: 0 | V59: 0 | W59: 자재 55
A60: 5C24D6D362B196562499430E524CBC50A17EF7 | B60: 금속제문틀 | C60: 스테인리스창호, 헤어라인,문틀,101*71*2.4mm-하바 | D60: M | E60: 0 | G60: 0 | I60: 0 | K60: 70000 | L60: 598 | M60: 0 | O60: =SMALL(E60:M60,COUNTIF(E60:M60,0)+1) -> 70000 | P60: 0 | Q60: 0 | R60: 0 | S60: 0 | T60: 0 | U60: 0 | V60: 0 | W60: 자재 56
A61: 5C24D6D362B196562499430E524CBC50A17EF6 | B61: 금속제문틀 | C61: 스테인리스창호, 헤어라인,문틀,101*71*2.4mm-잔넬바 | D61: M | E61: 0 | G61: 0 | I61: 0 | K61: 55000 | L61: 598 | M61: 0 | O61: =SMALL(E61:M61,COUNTIF(E61:M61,0)+1) -> 55000 | P61: 0 | Q61: 0 | R61: 0 | S61: 0 | T61: 0 | U61: 0 | V61: 0 | W61: 자재 57
A62: 5C24D6D36CA19234405723AF5EE4E433DA2536 | B62: 강관비계 | C62: 강관비계, 비계파이프, 48.6*2.3mm | D62: M | E62: 2700 | G62: 2666.66 | H62: 136 | I62: 2833.33 | J62: 82 | K62: 0 | M62: 0 | O62: =SMALL(E62:M62,COUNTIF(E62:M62,0)+1) -> 2666.66 | P62: 0 | Q62: 0 | R62: 0 | S62: 0 | T62: 0 | U62: 0 | V62: 0 | W62: 자재 58
A63: 5C24D6D36CA19A0E7D97935853CF28BD584712 | B63: 건설용거푸집 | C63: 건설용거푸집, 강, 600*1200*63.5mm | D63: 매 | E63: 21160 | G63: 0 | I63: 27300 | J63: 84 | K63: 0 | M63: 0 | O63: =SMALL(E63:M63,COUNTIF(E63:M63,0)+1) -> 21160 | P63: 0 | Q63: 0 | R63: 0 | S63: 0 | T63: 0 | U63: 0 | V63: 0 | W63: 자재 59
A64: 5C24D6D36CA19A0E7D97935853CF28BD5843B3 | B64: 건설용거푸집 | C64: 건설용거푸집, 내벽코너패널, 200+200, 1200mm | D64: 매 | E64: 15920 | G64: 0 | I64: 18600 | J64: 84 | K64: 0 | M64: 0 | O64: =SMALL(E64:M64,COUNTIF(E64:M64,0)+1) -> 15920 | P64: 0 | Q64: 0 | R64: 0 | S64: 0 | T64: 0 | U64: 0 | V64: 0 | W64: 자재 60
A65: 5C24D6D36CA19A0E7D96F32F544C9D3A367982 | B65: 건설용거푸집액세서리 | C65: 건설용거푸집액세서리, 웨지핀, 90mm | D65: 개 | E65: 61 | G65: 72 | H65: 140 | I65: 76 | J65: 86 | K65: 0 | M65: 0 | O65: =SMALL(E65:M65,COUNTIF(E65:M65,0)+1) -> 61 | P65: 0 | Q65: 0 | R65: 0 | S65: 0 | T65: 0 | U65: 0 | V65: 0 | W65: 자재 61
A66: 5C24D6D36CA19A0E7D96F32F544C9D3A3678FD | B66: 건설용거푸집액세서리 | C66: 건설용거푸집액세서리, 플랫타이, 4*19*200mm | D66: 개 | E66: 120 | G66: 210 | H66: 140 | I66: 140 | J66: 86 | K66: 0 | M66: 0 | O66: =SMALL(E66:M66,COUNTIF(E66:M66,0)+1) -> 120 | P66: 0 | Q66: 0 | R66: 0 | S66: 0 | T66: 0 | U66: 0 | V66: 0 | W66: 자재 62
A67: 5C24D6D36CA19A0E7D96F32F544C9D3A3678F9 | B67: 건설용거푸집액세서리 | C67: 건설용거푸집액세서리, 웨일후크, 스틸수직(대), 63.5패널용 | D67: 개 | E67: 127 | G67: 200 | H67: 140 | I67: 190 | J67: 86 | K67: 0 | M67: 0 | O67: =SMALL(E67:M67,COUNTIF(E67:M67,0)+1) -> 127 | P67: 0 | Q67: 0 | R67: 0 | S67: 0 | T67: 0 | U67: 0 | V67: 0 | W67: 자재 63
A68: 5C24C6CA43F1923E8F3723455B8092CA9A556C | B68: 전기정락 | D68: 개 | E68: 0 | G68: 0 | I68: 0 | K68: 0 | M68: 130000 | O68: =SMALL(E68:M68,COUNTIF(E68:M68,0)+1) -> 130000 | P68: 0 | Q68: 0 | R68: 0 | S68: 0 | T68: 0 | U68: 0 | V68: 0 | W68: 자재 64
A69: 5C24C6CA43F19A7823EB536155E4504AFAD8B4 | B69: 철선 | C69: 철선, 어닐링, ∮0.9mm | D69: kg | E69: 1404 | G69: 0 | I69: 1420 | J69: 42 | K69: 0 | M69: 0 | O69: =SMALL(E69:M69,COUNTIF(E69:M69,0)+1) -> 1404 | P69: 0 | Q69: 0 | R69: 0 | S69: 0 | T69: 0 | U69: 0 | V69: 0 | W69: 자재 65
A70: 5C24C6CA40319EB3556463925042D8A9C3CE10 | B70: 기초앵커볼트(L형) | C70: M22 (7/8"), L:500 | D70: 개 | E70: 0 | G70: 2310 | H70: 83 | I70: 2470 | J70: 53 | K70: 0 | M70: 0 | O70: =SMALL(E70:M70,COUNTIF(E70:M70,0)+1) -> 2310 | P70: 0 | Q70: 0 | R70: 0 | S70: 0 | T70: 0 | U70: 0 | V70: 0 | W70: 자재 66
A71: 5C24C6CA40319EB35712C36A5F1F0EAC7067DF | B71: 육각볼트 | C71: 육각볼트, M20*100 | D71: 개 | E71: 531 | G71: 572 | H71: 80 | I71: 590 | J71: 49 | K71: 0 | M71: 0 | O71: =SMALL(E71:M71,COUNTIF(E71:M71,0)+1) -> 531 | P71: 0 | Q71: 0 | R71: 0 | S71: 0 | T71: 0 | U71: 0 | V71: 0 | W71: 자재 67
A72: 5C24C6CA40319DAAB6DB534659C2F68E0718A0 | B72: 도어힌지 | C72: 도어힌지, 냉연분체 | D72: 개 | E72: 0 | G72: 0 | I72: 0 | K72: 2300 | L72: 616 | M72: 0 | O72: =SMALL(E72:M72,COUNTIF(E72:M72,0)+1) -> 2300 | P72: 0 | Q72: 0 | R72: 0 | S72: 0 | T72: 0 | U72: 0 | V72: 0 | W72: 자재 68
A73: 5C24C6CA40319DAAB6DB534659C2F0740FB636 | B73: 피벗힌지 | C73: 피벗힌지, 100kg이하, 방화문용 | D73: 조 | E73: 64300 | G73: 70000 | H73: 611 | I73: 70000 | J73: 464 | K73: 0 | M73: 0 | O73: =SMALL(E73:M73,COUNTIF(E73:M73,0)+1) -> 64300 | P73: 0 | Q73: 0 | R73: 0 | S73: 0 | T73: 0 | U73: 0 | V73: 0 | W73: 자재 69
A74: 5C24C6CA40319DAAB6DB534659C2F0740FBA90 | B74: 플로어힌지 | C74: 플로어힌지, KS2호, 85kg, 강화유리문(K-8200) | D74: 조 | E74: 62200 | G74: 71000 | H74: 611 | I74: 71000 | J74: 465 | K74: 0 | M74: 0 | O74: =SMALL(E74:M74,COUNTIF(E74:M74,0)+1) -> 62200 | P74: 0 | Q74: 0 | R74: 0 | S74: 0 | T74: 0 | U74: 0 | V74: 0 | W74: 자재 70
A75: 5C24C6CA40319DA6DB0913BC541161440D6F5B | B75: 도어핸들 | C75: 스테인리스 | D75: 조 | E75: 0 | G75: 0 | I75: 0 | K75: 15000 | L75: 614 | M75: 0 | O75: =SMALL(E75:M75,COUNTIF(E75:M75,0)+1) -> 15000 | P75: 0 | Q75: 0 | R75: 0 | S75: 0 | T75: 0 | U75: 0 | V75: 0 | W75: 자재 71
A76: 5C24C6CA40319DA6DB0913BC541162534E695E | B76: 강화유리문 손잡이 | D76: 개 | E76: 0 | G76: 0 | I76: 0 | K76: 0 | M76: 45000 | O76: =SMALL(E76:M76,COUNTIF(E76:M76,0)+1) -> 45000 | P76: 0 | Q76: 0 | R76: 0 | S76: 0 | T76: 0 | U76: 0 | V76: 0 | W76: 자재 72
A77: 5C24C6CA4FA195F701B8E3C15AF235C21420D8 | B77: 연마지 | C77: 연마지, #120~180, 230*280mm | D77: 장 | E77: 200 | G77: 230 | H77: 1321 | I77: 319 | J77: 1216 | K77: 0 | M77: 0 | O77: =SMALL(E77:M77,COUNTIF(E77:M77,0)+1) -> 200 | P77: 0 | Q77: 0 | R77: 0 | S77: 0 | T77: 0 | U77: 0 | V77: 0 | W77: 자재 73
A78: 5C24C6C9BFF1943D9738D3A45DF9D4BC04052F | B78: 초산비닐계접착제 | C78: 초산비닐계접착제, 비닐타일용 | D78: kg | E78: 2100 | G78: 0 | I78: 0 | K78: 0 | M78: 0 | O78: =SMALL(E78:M78,COUNTIF(E78:M78,0)+1) -> 2100 | P78: 0 | Q78: 0 | R78: 0 | S78: 0 | T78: 0 | U78: 0 | V78: 0 | W78: 자재 74
A79: 5C24C6C9BFF1943D973CB31A530851F47E8527 | B79: 퍼티 | C79: 퍼티, 319퍼티, 회색 | D79: kg | E79: 1993.54 | G79: 0 | I79: 2473.11 | J79: 479 | K79: 0 | M79: 0 | O79: =SMALL(E79:M79,COUNTIF(E79:M79,0)+1) -> 1993.54 | P79: 0 | Q79: 0 | R79: 0 | S79: 0 | T79: 0 | U79: 0 | V79: 0 | W79: 자재 75 | X79: 1L=1.55kg
A80: 5C24C6C9BFF1943D973CB31A530851F47E841E | B80: 퍼티 | C80: 퍼티, 319퍼티, 백색 | D80: kg | E80: 0 | G80: 2139.78 | H80: 575 | I80: 0 | K80: 0 | M80: 0 | O80: =SMALL(E80:M80,COUNTIF(E80:M80,0)+1) -> 2139.78 | P80: 0 | Q80: 0 | R80: 0 | S80: 0 | T80: 0 | U80: 0 | V80: 0 | W80: 자재 76 | X80: 1L=1.55kg
A81: 5C24C6C9BFF1943D973CB31A530851F47FACCF | B81: F-Tape | C81: W:35~100mm | D81: M | E81: 0 | G81: 0 | I81: 0 | K81: 0 | M81: 73 | O81: =SMALL(E81:M81,COUNTIF(E81:M81,0)+1) -> 73 | P81: 0 | Q81: 0 | R81: 0 | S81: 0 | T81: 0 | U81: 0 | V81: 0 | W81: 자재 77
A82: 5C24C6C9BFF1943D973CB31A530851F47FADD4 | B82: 휠러 | D82: kg | E82: 0 | G82: 0 | I82: 0 | K82: 0 | M82: 1150 | O82: =SMALL(E82:M82,COUNTIF(E82:M82,0)+1) -> 1150 | P82: 0 | Q82: 0 | R82: 0 | S82: 0 | T82: 0 | U82: 0 | V82: 0 | W82: 자재 78
A83: 5C24C6C9BEE19FF3D29683D25ABC81223B62C7 | B83: 수성페인트 | C83: 수성페인트, 하이빌론(내부), 비닐페인트 | D83: L | E83: 0 | G83: 3994.44 | H83: 573 | I83: 3994.44 | J83: 478 | K83: 0 | M83: 0 | O83: =SMALL(E83:M83,COUNTIF(E83:M83,0)+1) -> 3994.44 | P83: 0 | Q83: 0 | R83: 0 | S83: 0 | T83: 0 | U83: 0 | V83: 0 | W83: 자재 79
A84: 5C24C6C9BEE19FF3D29C13A35080D14DCD939A | B84: 아크릴수지페인트 | C84: 아크릴수지페인트, KSM6020-2종1급, 흑색 | D84: L | E84: 4312 | G84: 0 | I84: 0 | K84: 0 | M84: 0 | O84: =SMALL(E84:M84,COUNTIF(E84:M84,0)+1) -> 4312 | P84: 0 | Q84: 0 | R84: 0 | S84: 0 | T84: 0 | U84: 0 | V84: 0 | W84: 자재 80
A85: 5C24C6C9BEE19FF3DBF2B31A58DDB2B3594B1C | B85: 방청페인트 | C85: 방청페인트, KSM6030-1종1류, 광명단페인트 | D85: L | E85: 9492 | G85: 11027.77 | H85: 570 | I85: 11027.77 | J85: 476 | K85: 0 | M85: 0 | O85: =SMALL(E85:M85,COUNTIF(E85:M85,0)+1) -> 9492 | P85: 0 | Q85: 0 | R85: 0 | S85: 0 | T85: 0 | U85: 0 | V85: 0 | W85: 자재 81
A86: 5C24C6C9BEE19FF3DBF623CF518E912C6B7020 | B86: 조합페인트 | C86: 조합페인트, KSM6020-1종1급, 백색 | D86: L | E86: 5060 | G86: 6083.33 | H86: 570 | I86: 4772.22 | J86: 477 | K86: 0 | M86: 0 | O86: =SMALL(E86:M86,COUNTIF(E86:M86,0)+1) -> 4772.22 | P86: 0 | Q86: 0 | R86: 0 | S86: 0 | T86: 0 | U86: 0 | V86: 0 | W86: 자재 82
A87: 5C24C6C9BEE19FF1247ED33B5A499C326C1D24 | B87: 실링재 | C87: 실링재, 실리콘, 비초산, 유리용, 창호주위 | D87: L | E87: 9433 | G87: 11665.5 | H87: 561 | I87: 10332.3 | J87: 395 | K87: 0 | M87: 0 | O87: =SMALL(E87:M87,COUNTIF(E87:M87,0)+1) -> 9433 | P87: 0 | Q87: 0 | R87: 0 | S87: 0 | T87: 0 | U87: 0 | V87: 0 | W87: 자재 83
A88: 5C24C6C9BEE19FFEFCE8F32A5BCA4D8764B13C | B88: 시너 | C88: 시너, KSM6060, 1종 | D88: L | E88: 0 | G88: 3483.33 | H88: 570 | I88: 2766.66 | J88: 476 | K88: 0 | M88: 0 | O88: =SMALL(E88:M88,COUNTIF(E88:M88,0)+1) -> 2766.66 | P88: 0 | Q88: 0 | R88: 0 | S88: 0 | T88: 0 | U88: 0 | V88: 0 | W88: 자재 84
A89: 5C50169842C1922F0FD7E39E553AB26652CE81 | B89: 일반구조용각형강관 | C89: 일반구조용각형강관, 각형강관, 100*100*2.3mm | D89: M | E89: 5149 | G89: 6420 | H89: 56 | I89: 0 | K89: 0 | M89: 0 | O89: =SMALL(E89:M89,COUNTIF(E89:M89,0)+1) -> 5149 | P89: 0 | Q89: 0 | R89: 0 | S89: 0 | T89: 0 | U89: 0 | V89: 0 | W89: 자재 85
A90: 5C50169842C1922F0FD7E39E553AB26653D695 | B90: 일반구조용각형강관 | C90: 일반구조용각형강관, 각형강관, 200*100*9.0mm | D90: M | E90: 30134 | G90: 0 | I90: 0 | K90: 36110 | L90: 65 | M90: 0 | O90: =SMALL(E90:M90,COUNTIF(E90:M90,0)+1) -> 30134 | P90: 0 | Q90: 0 | R90: 0 | S90: 0 | T90: 0 | U90: 0 | V90: 0 | W90: 자재 86
A91: 5C50169842C1922F0FD7E39E553AB26653D5F6 | B91: 일반구조용각형강관 | C91: 일반구조용각형강관, 각형강관, 200*150*6.0mm | D91: M | E91: 0 | G91: 0 | I91: 0 | K91: 37610 | L91: 65 | M91: 0 | O91: =SMALL(E91:M91,COUNTIF(E91:M91,0)+1) -> 37610 | P91: 0 | Q91: 0 | R91: 0 | S91: 0 | T91: 0 | U91: 0 | V91: 0 | W91: 자재 87
A92: 5C50661BA721940D59F103DB5CE58BF54204C6 | B92: 온도조절기 | D92: EA | E92: 0 | G92: 0 | I92: 0 | K92: 58000 | L92: 926 | M92: 0 | O92: =SMALL(E92:M92,COUNTIF(E92:M92,0)+1) -> 58000 | P92: 0 | Q92: 0 | R92: 0 | S92: 0 | T92: 0 | U92: 0 | V92: 0 | W92: 자재 88
A93: 5C50661BA721940D59F103DB5CE58BF54204C1 | B93: 필름난방 | C93: 0.3T | D93: M2 | E93: 0 | G93: 0 | I93: 0 | K93: 41020 | L93: 926 | M93: 0 | O93: =SMALL(E93:M93,COUNTIF(E93:M93,0)+1) -> 41020 | P93: 0 | Q93: 0 | R93: 0 | S93: 0 | T93: 0 | U93: 0 | V93: 0 | W93: 자재 89
A94: 5C50661BA721940D59F103DB5CE58BF54204C0 | B94: 씽크대 및 상.하부장 설치 | C94: 900*600*910 | D94: SET | E94: 0 | G94: 0 | I94: 0 | K94: 0 | M94: 550000 | O94: =SMALL(E94:M94,COUNTIF(E94:M94,0)+1) -> 550000 | P94: 0 | Q94: 0 | R94: 0 | S94: 0 | T94: 0 | U94: 0 | V94: 0 | W94: 자재 90
A95: 5C47962168C19E7AF74E03D5523FF7B19CFDD8 | B95: 롤브라인드 | C95: 방염 | D95: M2 | E95: 0 | G95: 0 | I95: 25000 | J95: 516 | K95: 26000 | L95: 710 | M95: 0 | O95: =SMALL(E95:M95,COUNTIF(E95:M95,0)+1) -> 25000 | P95: 0 | Q95: 0 | R95: 0 | S95: 0 | T95: 0 | U95: 0 | V95: 0 | W95: 자재 91
A96: 5B0036CA82419E3A9F2183595D2D84 | B96: 우레탄폼 충전 | C96: 창호주위(건식벽) | D96: m | E96: 775 | G96: 0 | I96: 0 | K96: 0 | M96: 0 | O96: =SMALL(E96:M96,COUNTIF(E96:M96,0)+1) -> 775 | P96: 0 | Q96: 0 | R96: 0 | S96: 0 | T96: 0 | U96: 0 | V96: 0 | W96: 자재 92 | X96: 노무비 75.9% | Y96: 1
A97: 5B008642DB4197C17448335D5B0083 | B97: 철재후라쉬도아(일반분체)문틀包 | C97: 150*45*1.6T 0.9*2.1 편개 | D97: ㎡ | E97: 92600 | G97: 0 | I97: 0 | K97: 0 | M97: 0 | O97: =SMALL(E97:M97,COUNTIF(E97:M97,0)+1) -> 92600 | P97: 0 | Q97: 0 | R97: 0 | S97: 0 | T97: 0 | U97: 0 | V97: 0 | W97: 자재 93 | Y97: 2
A98: 5B4EF674BF219E702906838C54CDAD8E9B092C | B98: 공통자재 | C98: 일반경비, 전력 | D98: kwh | E98: 0 | G98: 0 | I98: 0 | K98: 0 | M98: 0 | O98: 0 | P98: 0 | Q98: 87 | R98: 0 | S98: 0 | T98: 0 | U98: 0 | V98: =SMALL(Q98:U98,COUNTIF(Q98:U98,0)+1) -> 87 | W98: 자재 94
A99: 5BDCB697D6F195D8EFCAC3375963246FA22860 | B99: 보통인부 | C99: 일반공사 즤종 | D99: 인 | E99: 0 | G99: 0 | I99: 0 | K99: 0 | M99: 0 | O99: 0 | P99: 125427 | Q99: 0 | R99: 0 | S99: 0 | T99: 0 | U99: 0 | V99: 0 | W99: 노임 1 | Y99: B
A100: 5BDCB697D6F195D8EFCAC3375963246FA22861 | B100: 특별인부 | C100: 일반공사 즤종 | D100: 인 | E100: 0 | G100: 0 | I100: 0 | K100: 0 | M100: 0 | O100: 0 | P100: 152019 | Q100: 0 | R100: 0 | S100: 0 | T100: 0 | U100: 0 | V100: 0 | W100: 노임 2 | Y100: B
...
