Workbook
Name _: #REF!
Name _1: #N/A
Name _15A: #REF!
Name _1공장: #REF!
Name _2공장: #REF!
Name _3공장: #REF!
Name _A01: #REF!
Name _A02: #REF!
Name _A03: #REF!
Name _A04: #REF!
Name _A05: #REF!
Name _B02: #REF!
Name _b03: #REF!
Name _b05: #REF!
Name _b06: #REF!
Name _b07: #REF!
Name _b08: #REF!
Name _B10: #REF!
Name _B11: #REF!
Name _b12: #REF!
Name _b13: #REF!
Name _B14: #REF!
Name _b15: #REF!
Name _b17: #REF!
Name _b18: #REF!
Name _b19: #REF!
Name _B20: #REF!
Name _B21: #REF!
Name _B23: #REF!
Name _B24: #REF!
Name _B25: #REF!
Name _B37: #REF!
Name _B38: #REF!
Name _C01: #REF!
Name _c02: #REF!
Name _D01: #REF!
Name _D02: #REF!
Name _DAN1: #REF!
Name _DAN10: #REF!
Name _DAN100: #REF!
Name _DAN101: #REF!
Name _DAN102: #REF!
Name _DAN103: #REF!
Name _DAN104: #REF!
Name _DAN105: #REF!
Name _DAN106: #REF!
Name _DAN107: #REF!
Name _DAN108: #REF!
Name _DAN109: #REF!
Name _DAN11: #REF!
Name _DAN110: #REF!
Name _DAN111: #REF!
Name _DAN112: #REF!
Name _DAN113: #REF!
Name _DAN114: #REF!
Name _DAN115: #REF!
Name _DAN116: #REF!
Name _DAN117: #REF!
Name _DAN118: #REF!
Name _DAN119: #REF!

Sheet 갑지
A1: 견 적 내 역 서
B8: 공사명 | C8: : | D8: 해상특송교환국 설치 소방 공사
B9: 견적금액 | C9: : | D9: ="일금"&NUMBERSTRING(G9,1)&"원정" -> 일금구백육십만원정 | G9: =SUM(G10+G11) -> 9600000 | H9: 원
B10: 공급가액 | C10: : | D10: ="일금"&NUMBERSTRING(G10,1)&"원정" -> 일금팔백칠십이만칠천이백칠십삼원정 | G10: =원가!E23 -> 8727273 | H10: 원
B11: 부가가치세 | C11: : | D11: ="일금"&NUMBERSTRING(G11,1)&"원정" -> 일금팔십칠만이천칠백이십칠원정 | G11: =원가!E24 -> 872727 | H11: 원
B12: 견적일자 | C12: : | D12: 43685
B13: 견적담당자 | C13: : | D13: 박종원이사(010-9244-2843)
F17: 상호 | G17: : ㈜다 산 전 력
F18: 사업자등록증 | G18: : 419-81-00519
F19: 주소 | G19: : 경기도 수원시 권선구 매송고색로 875,비동 103호
G20: (평동,수원공구유통타운)
F21: 연락처 | G21: : 031) 722-6111
F22: 대표자 | G22: : 양 현 철 (인)
A24: 경인지방우정청 귀하

Sheet 원가
B1: 공 사 원 가 계 산 서
B2: 공사명 : 해상특송교환국 설치 소방 공사 | F2: 공사기간: 0000일
B3: 비 목 | E3: 금 액 | F3: 구 성 비 | H3: 비 고
A4: A1 | B4: 순 공 사 원 가 | C4: 재 료 비 | D4: 직 접 재 료 비 | E4: =집계표!E17 -> 1527233
A5: A2 | D5: 간 접 재 료 비 | E5: 0
A6: AS | D6: [ 소 계 ] | E6: =SUM(E4:E5) -> 1527233
A7: B1 | C7: 노 무 비 | D7: 직 접 노 무 비 | E7: =집계표!G17 -> 4918725
A8: B2 | D8: 간 접 노 무 비 | E8: =INT(E7*G8) -> 388579 | F8: 직접노무비 * | G8: 0.079 | H8: '6개월이하
A9: BS | D9: [ 소 계 ] | E9: =SUM(E7:E8) -> 5307304
A10: C2 | C10: 경 비 | D10: 기 계 경 비 | E10: =집계표!I17 -> 0
A11: C4 | D11: 산 재 보 험 료 | E11: =INT(SUM(E9))*G11 -> 199023.9 | F11: 노무비 * | G11: 0.0375
A12: C5 | D12: 고 용 보 험 료 | E12: =INT(SUM(E9))*G12 -> 46173.545 | F12: 노무비 * | G12: 0.0087
D13: 국민 건강 보험료 | F13: 직접노무비 * | G13: 0.017 | H13: 1개월이상
D14: 국민 연금 보험료 | F14: 직접노무비 * | G14: 0.0249 | H14: 1개월이상
D15: 노인장기요양보험료 | F15: 건강보험료 * | G15: 0.0655 | H15: 1개월이상
A16: CA | D16: 산업안전보건관리비 | F16: (재료비+직노) * | G16: 0.0185
A17: CH | D17: 환 경 보 전 비 | F17: (재료비+직노+기계경비) * | G17: 0.003
A18: CG | D18: 기 타 경 비 | E18: =INT((E6+E9)*G18) -> 369064 | F18: (재료비+노무비) * | G18: 0.054 | H18: 6개월이하
A19: CS | D19: [ 소 계 ] | E19: =SUM(E10:E18) -> 614261.44
A20: S1 | B20: 계 | E20: =TRUNC(E6+E9+E19, 0) -> 7448798
A21: D1 | B21: 일 반 관 리 비 | E21: =TRUNC(E20*G21,0) -> 446927 | F21: 계 * | G21: 0.06
A22: D2 | B22: 이 윤 | E22: =TRUNC(SUM(E9+E19+E21)*G22,0)-1595/1.1 -> 831548 | F22: (노무비+경비+일반관리비) * | G22: 0.1308
A23: D9 | B23: 공 급 가 액 | E23: =TRUNC(E20+E21+E22, 0) -> 8727273
A24: DB | B24: 부 가 가 치 세 | E24: =TRUNC(E23*0.1, 0) -> 872727 | F24: 공급가액 * 10% | G24: 0.1
A25: DH | B25: 도 급 액 | E25: =SUM(E23+E24) -> 9600000
A26: S2 | B26: 총 공 사 비

Sheet 집계표
A1: 집 계 표
A2: =원가!B2 -> 공사명 : 해상특송교환국 설치 소방 공사
A3: 공 사 명 | B3: 단위 | C3: 수량 | D3: 자 재 비 | F3: 노 무 비 | H3: 경 비 | J3: 합 계 | K3: 비고
D4: 단가 | E4: 금 액 | F4: 단가 | G4: 금 액 | H4: 단가 | I4: 금 액
A5: 1.전기소방
A6: 1-1.자동화재탐지설비공사 | B6: 식 | C6: 1 | D6: =내역서!F21 -> 81912 | E6: =C6*D6 -> 81912 | F6: =내역서!H21 -> 526097 | G6: =C6*F6 -> 526097 | H6: =내역서!J21 -> 0 | I6: =C6*H6 -> 0 | J6: =SUM(E6,G6,I6) -> 608009
A7: 1-2.유도등설비공사 | B7: 식 | C7: 1 | D7: =내역서!F42 -> 778030 | E7: =C7*D7 -> 778030 | F7: =내역서!H42 -> 2739578 | G7: =C7*F7 -> 2739578 | H7: =내역서!J42 -> 0 | I7: =C7*H7 -> 0 | J7: =SUM(E7,G7,I7) -> 3517608
A8: 소 계 | E8: =SUM(E6:E7) -> 859942 | G8: =SUM(G6:G7) -> 3265675 | I8: =SUM(I6:I7) -> 0 | J8: =SUM(J6:J7) -> 4125617
A10: 2.기계소방
A11: 2-1.스프링클러배관공사 | B11: 식 | C11: 1 | D11: =내역서!F89 -> 667291 | E11: =C11*D11 -> 667291 | F11: =내역서!H89 -> 1653050 | G11: =C11*F11 -> 1653050 | H11: =내역서!J89 -> 0 | I11: =C11*H11 -> 0 | J11: =SUM(E11,G11,I11) -> 2320341
A12: 소 계 | E12: =SUM(E11) -> 667291 | G12: =SUM(G11) -> 1653050 | I12: =SUM(I11) -> 0 | J12: =SUM(J11) -> 2320341
A17: 합 계 | E17: =SUM(E8+E12) -> 1527233 | G17: =SUM(G8+G12) -> 4918725 | I17: =SUM(I8+I12) -> 0 | J17: =SUM(J8+J12) -> 6445958

Sheet 내역서
A1: =원가!B2 -> 공사명 : 해상특송교환국 설치 소방 공사
A2: 명 칭 | B2: 규 격 | C2: 단위 | D2: 내 역 서
D3: 수량 | E3: 재 료 비 | G3: 노 무 비 | I3: 경 비 | K3: 합 계 | L3: 비고
E4: 단가 | F4: 금액 | G4: 단가 | H4: 금액 | I4: 단가 | J4: 금액
A5: 1.전기소방
A6: 1-1.자동화재탐지설비공사
A7: 강제전선관 | B7: 아연도 16 mm | C7: m | D7: 6 | E7: =단가조사!G5 -> 1547 | F7: =INT(D7*E7) -> 9282 | K7: =F7+H7+J7 -> 9282
A8: 강제전선관 | B8: 아연도 22 mm | C8: m | D8: 4 | E8: =단가조사!G6 -> 1989 | F8: =INT(D8*E8) -> 7956 | K8: =F8+H8+J8 -> 7956
A9: 1종금속제가요전선관 | B9: 16 mm 일반-비방수 | C9: m | D9: 6 | E9: =단가조사!G7 -> 360 | F9: =INT(D9*E9) -> 2160 | K9: =F9+H9+J9 -> 2160
A10: [배관부속재] | B10: 전선관의 15 % | C10: 식 | D10: 1 | E10: =INT(SUM(F7:F9)*15%) -> 2909 | F10: =INT(D10*E10) -> 2909 | K10: =F10+H10+J10 -> 2909
A11: 1종금속제가요전선관 | B11: 커넥터, 16 mm 일반-비방수 | C11: 개 | D11: 8 | E11: =단가조사!G8 -> 229 | F11: =INT(D11*E11) -> 1832 | K11: =F11+H11+J11 -> 1832
A12: 아우트렛박스 | B12: 8각 54㎜ | C12: 개 | D12: 4 | E12: =단가조사!G9 -> 547 | F12: =INT(D12*E12) -> 2188 | K12: =F12+H12+J12 -> 2188
A13: 아우트렛박스 커버 | B13: 커버, 8각, 평형 | C13: 개 | D13: 4 | E13: =단가조사!G12 -> 286 | F13: =INT(D13*E13) -> 1144 | K13: =F13+H13+J13 -> 1144
A14: 450/750V 내열비닐절연전선 | B14: HFIX 1.38mm(1.5㎟) | C14: m | D14: 88 | E14: =단가조사!G17 -> 183 | F14: =INT(D14*E14) -> 16104 | K14: =F14+H14+J14 -> 16104
A15: 화재감지기 | B15: 열감지기,차동식스포트형 | C15: 개 | D15: 4 | E15: =단가조사!G19 -> 3500 | F15: =INT(D15*E15) -> 14000 | K15: =F15+H15+J15 -> 14000
A16: 파이프행가 | B16: 16 C | C16: 개소 | D16: 3 | E16: =일대목차!I5 -> 1300 | F16: =INT(D16*E16) -> 3900 | G16: =일대목차!L5 -> 6536 | H16: =INT(D16*G16) -> 19608 | K16: =F16+H16+J16 -> 23508 | L16: 제1호
A17: 파이프행가 | B17: 22 C | C17: 개소 | D17: 3 | E17: =일대목차!I6 -> 1315 | F17: =INT(D17*E17) -> 3945 | G17: =일대목차!L6 -> 6536 | H17: =INT(D17*G17) -> 19608 | K17: =F17+H17+J17 -> 23553 | L17: 제2호
A18: [소모잡자재] | B18: 전선, 전선관의 2 % | C18: 식 | D18: 1 | E18: =INT(SUM(F7:F9,F14)*2%) -> 710 | F18: =INT(D18*E18) -> 710 | K18: =F18+H18+J18 -> 710
A19: 노 무 비 | B19: 내선전공 | C19: 인 | D19: =노임근거!G12 -> 2.16 | F19: =INT(D19*E19) -> 0 | G19: 225408 | H19: =INT(D19*G19) -> 486881 | K19: =F19+H19+J19 -> 486881
A20: [ 공구손료 ] | B20: 노무비의 3% | C20: 식 | D20: 1 | E20: =INT(H21*3%) -> 15782 | F20: =INT(D20*E20) -> 15782 | K20: =F20+H20+J20 -> 15782
A21: 계 | F21: =SUM(F7:F20) -> 81912 | H21: =SUM(H7:H20) -> 526097 | J21: =SUM(J7:J20) -> 0 | K21: =SUM(K7:K20) -> 608009
A30: 1-2.유도등설비공사
A31: 강제전선관 | B31: 아연도 16 mm | C31: m | D31: 155 | E31: =단가조사!G5 -> 1547 | F31: =INT(D31*E31) -> 239785 | K31: =F31+H31+J31 -> 239785
A32: [배관부속재] | B32: 전선관의 15 % | C32: 식 | D32: 1 | E32: =INT(SUM(F31:F31)*15%) -> 35967 | F32: =INT(D32*E32) -> 35967 | K32: =F32+H32+J32 -> 35967
A33: 아우트렛박스-상부연결용 | B33: 8각 54㎜ | C33: 개 | D33: 7 | E33: =단가조사!G10 -> 547 | F33: =INT(D33*E33) -> 3829 | K33: =F33+H33+J33 -> 3829
A34: 스위치박스 | B34: 1 개용 54 mm | C34: 개 | D34: 7 | E34: =단가조사!G11 -> 483 | F34: =INT(D34*E34) -> 3381 | K34: =F34+H34+J34 -> 3381
A35: 아우트렛박스 커버 | B35: 커버, 8각, 평형 | C35: 개 | D35: 7 | E35: =단가조사!G12 -> 286 | F35: =INT(D35*E35) -> 2002 | K35: =F35+H35+J35 -> 2002
A36: 450/750V 내열비닐절연전선 | B36: HFIX 1.78mm(2.5㎟) | C36: m | D36: 311 | E36: =단가조사!G18 -> 272 | F36: =INT(D36*E36) -> 84592 | K36: =F36+H36+J36 -> 84592
A37: 피난유도등(LED) | B37: 중형벽부단면-60분용 | C37: 개 | D37: 7 | E37: =단가조사!G20 -> 39000 | F37: =INT(D37*E37) -> 273000 | K37: =F37+H37+J37 -> 273000
A38: 파이프행가 | B38: 16 C | C38: 개소 | D38: 36 | E38: =일대목차!I5 -> 1300 | F38: =INT(D38*E38) -> 46800 | G38: =일대목차!L5 -> 6536 | H38: =INT(D38*G38) -> 235296 | K38: =F38+H38+J38 -> 282096 | L38: 제1호
A39: [소모잡자재] | B39: 전선, 전선관의 2 % | C39: 식 | D39: 1 | E39: =INT(SUM(F31:F31,F36)*2%) -> 6487 | F39: =INT(D39*E39) -> 6487 | K39: =F39+H39+J39 -> 6487
A40: 노 무 비 | B40: 내선전공 | C40: 인 | D40: =노임근거!G20 -> 11.11 | F40: =INT(D40*E40) -> 0 | G40: 225408 | H40: =INT(D40*G40) -> 2504282 | K40: =F40+H40+J40 -> 2504282
A41: [ 공구손료 ] | B41: 노무비의 3% | C41: 식 | D41: 1 | E41: =INT(H42*3%) -> 82187 | F41: =INT(D41*E41) -> 82187 | K41: =F41+H41+J41 -> 82187
A42: 계 | F42: =SUM(F31:F41) -> 778030 | H42: =SUM(H31:H41) -> 2739578 | J42: =SUM(J31:J41) -> 0 | K42: =SUM(K31:K41) -> 3517608
A55: 2.기계소방
A57: 백관 (SPP) | B57: D25 | C57: m | D57: 6 | E57: =단가조사!G39 -> 2411 | F57: =INT(D57*E57) -> 14466 | K57: =F57+H57+J57 -> 14466
A58: 백관 (SPP) | B58: D32 | C58: m | D58: 4 | E58: =단가조사!G40 -> 3094 | F58: =INT(D58*E58) -> 12376 | K58: =F58+H58+J58 -> 12376
A59: 백관 (SPP) | B59: D40 | C59: m | D59: 4 | E59: =단가조사!G41 -> 3554 | F59: =INT(D59*E59) -> 14216 | K59: =F59+H59+J59 -> 14216
A60: 백관 (SPP) | B60: D50 | C60: m | D60: 48 | E60: =단가조사!G42 -> 5006 | F60: =INT(D60*E60) -> 240288 | K60: =F60+H60+J60 -> 240288
A61: 잡재료비 | B61: 주재료비의 2.00 % | C61: 식 | D61: 1 | E61: =INT(SUM(F57:F60)*2%) -> 5626 | F61: =INT(D61*E61) -> 5626 | K61: =F61+H61+J61 -> 5626
...

Sheet 노임근거
B1: 679 | D1: [ 해상특송교환국 설치 소방 공사 ] - 노임 산출근거
A2: 번호 | B2: 공종코드 | C2: 코드 | D2: 명 칭 | E2: 규 격 | F2: 단위 | G2: 수량 | J2: 공량산출 | N2: 품셈근거 | O2: 비고
G3: 결정수량 | H3: 할증 | I3: 산출수량 | J3: 명칭 | K3: 품셈 | L3: 할증% | M3: 공량
D4: 1.소방공사
D5: 1.전기공사::1-1.자동화재탐지설비공사
D6: 강제전선관 | E6: 아연도 16 mm | F6: m | G6: 6 | H6: =IF(I6<>0, G6-I6, "") -> 0.6 | I6: 5.4 | J6: 내선전공 | K6: 0.08 | L6: 100 | M6: =IF(I6*K6=0, "", I6*K6*(L6/100)) -> 0.432 | N6: 전기5-1 | Q6: =G6*90% -> 5.4
D7: 강제전선관 | E7: 아연도 22 mm | F7: m | G7: 4 | H7: =IF(I7<>0, G7-I7, "") -> 0.4 | I7: 3.6 | J7: 내선전공 | K7: 0.11 | L7: 100 | M7: =IF(I7*K7=0, "", I7*K7*(L7/100)) -> 0.396 | N7: 전기5-1 | Q7: =G7*90% -> 3.6
D8: 1종금속제가요전선관 | E8: 16 mm 일반-비방수 | F8: m | G8: 6 | H8: =IF(I8<>0, G8-I8, "") -> 0 | I8: 6 | J8: 내선전공 | K8: 0.044 | L8: 100 | M8: =IF(I8*K8=0, "", I8*K8*(L8/100)) -> 0.264 | N8: 전기5-1
D9: 아우트렛박스 | E9: 8각 54㎜ | F9: 개 | G9: 4 | H9: =IF(I9<>0, G9-I9, "") -> 0 | I9: 4 | J9: 내선전공 | K9: 0.12 | L9: 100 | M9: =IF(I9*K9=0, "", I9*K9*(L9/100)) -> 0.48 | N9: 전기5-3
D10: 450/750V 내열비닐절연전선 | E10: HFIX 1.38mm(1.5㎟) | F10: m | G10: 88 | H10: =IF(I10<>0,G10-I10,"") -> 8.8 | I10: 79.2 | J10: 내선전공 | K10: 0.01 | L10: 100 | M10: =IF(I10*K10=0, "", I10*K10*(L10/100)) -> 0.792 | N10: 전기5-10 | Q10: =G10*90% -> 79.2
D11: 화재감지기 | E11: 열감지기,차동식스포트형 | F11: 개 | G11: 4 | H11: =IF(I11<>0,G11-I11,"") -> 0 | I11: 4 | J11: 내선전공 | K11: 0.13 | L11: 100 | M11: =IF(I11*K11=0, "", I11*K11*(L11/100)) -> 0.52 | N11: 전기5-30
B12: 0105 | C12: L001010101000075 | D12: 노 무 비 | E12: 내선전공 | F12: 인 | G12: =ROUND(I12*H12%,2) -> 2.16 | H12: 75 | I12: =SUMIF($J$6:$J$11,E12,$M$6:$M$11) -> 2.884
D14: 1.전기공사::1-2.유도등설비공사
D15: 강제전선관 | E15: 아연도 16 mm | F15: m | G15: 155 | H15: =IF(I15<>0, G15-I15, "") -> 15.5 | I15: 139.5 | J15: 내선전공 | K15: 0.08 | L15: 80 | M15: =IF(I15*K15=0, "", I15*K15*(L15/100)) -> 8.928 | N15: 전기5-1 | Q15: =G15*90% -> 139.5
D16: 아우트렛박스-상부연결용 | E16: 8각 54㎜ | F16: 개 | G16: 7 | H16: =IF(I16<>0, G16-I16, "") -> 0 | I16: 7 | J16: 내선전공 | K16: 0.04 | L16: 100 | M16: =IF(I16*K16=0, "", I16*K16*(L16/100)) -> 0.28 | N16: 전기5-3
D17: 스위치박스 | E17: 1 개용 54 mm | F17: 개 | G17: 7 | H17: =IF(I17<>0, G17-I17, "") -> 0 | I17: 7 | J17: 내선전공 | K17: 0.2 | L17: 100 | M17: =IF(I17*K17=0, "", I17*K17*(L17/100)) -> 1.4 | N17: 전기5-3
D18: 450/750V 내열비닐절연전선 | E18: HFIX 1.78mm(2.5㎟) | F18: m | G18: 311 | H18: =IF(I18<>0, G18-I18, "") -> 31.1 | I18: 279.9 | J18: 내선전공 | K18: 0.01 | L18: 100 | M18: =IF(I18*K18=0, "", I18*K18*(L18/100)) -> 2.799 | N18: 전기5-10 | Q18: =G18*90% -> 279.9
D19: 피난유도등(LED) | E19: 중형벽부단면-60분용 | F19: 개 | G19: 7 | H19: =IF(I19<>0,G19-I19,"") -> 0 | I19: 7 | J19: 내선전공 | K19: 0.2 | L19: 100 | M19: =IF(I19*K19=0, "", I19*K19*(L19/100)) -> 1.4 | N19: 전기5-30
B20: 0105 | C20: L001010101000075 | D20: 노 무 비 | E20: 내선전공 | F20: 인 | G20: =ROUND(I20*H20%,2) -> 11.11 | H20: 75 | I20: =SUMIF($J$15:$J$19,E20,$M$15:$M$19) -> 14.807

Sheet 산출서
A2: 1 | B2: =원가!B2 -> 공사명 : 해상특송교환국 설치 소방 공사
A3: NO | B3: 산 출 목 록 / 산 출 수 식 | C3: 단위/계 | D3: 전선관 | E3: 접지전선 | F3: 케이블 | G3: 케이블 | H3: 분전반 | I3: AL덕트
D4: (노출) | E4: F-GV | F4: F-CV | G4: F-CV | H4: 냉난방기
D5: CD 28c | E5: 16_㎟ | F5: 4_㎟/4c | G5: 16_㎟/4c | H5: 전용 | I5: 150*100
B6: 1-1.냉난방기 전원 공사
A8: 1 | B8: ● 한전계량기함 ↔ 분전반
B10: CD 28C(FCV 16-4C-16㎟) | E10: 1*10= | G10: 1*10= | H10: 1*1= | I10: 1*3=
B11: 10 | C11: 10 | E11: =C11 -> 10 | G11: =C11 -> 10 | H11: 1 | I11: 3
A12: 2 | B12: ● 분전반 ↔ 옥상층 실외기
B13: 집배실 작업장
B14: CD 28C(FCV 4-4C-4㎟) | D14: 1*65= | F14: 1*65=
B15: 10+10+45 | C15: =10+10+45 -> 65 | D15: =C15 -> 65 | F15: =C15 -> 65
A16: 3 | B16: ● 분전반 ↔ 지상2층 실외기
B17: 집배실 구분대 작업장
B18: CD 28C(FCV 4-4C-4㎟) | D18: 1*50= | F18: 1*50=
B19: 10+10+30 | C19: =10+10+30 -> 50 | D19: =C19 -> 50 | F19: =C19 -> 50
B20: 소 계 | D20: =D11+D15+D19 -> 115 | E20: =E11+E15+E19 -> 10 | F20: =F11+F15+F19 -> 115 | G20: =G11+G15+G19 -> 10 | H20: =H11+H15+H19 -> 1 | I20: =I11+I15+I19 -> 3
B21: 할 증 | D21: 1.1 | E21: 1.1 | F21: 1.05 | G21: 1.05 | H21: 1 | I21: 1
B22: 총 계 | D22: =D20*D21 -> 126.5 | E22: =E20*E21 -> 11 | F22: =F20*F21 -> 120.75 | G22: =G20*G21 -> 10.5 | H22: =H20*H21 -> 1 | I22: =I20*I21 -> 3

Sheet 일대목차
B1: 29 | C1: [ 해상특송교환국 설치공사 ] - 일위대가목차
A2: 번호 | B2: … | C2: 코드 | D2: 명 칭 | E2: 규 격 | F2: 단위 | G2: 수량 | H2: 재료비 | J2: 노무비 | M2: 경비 | O2: 합 계 | Q2: 비고
H3: 단가 | I3: 금액 | J3: 수량 | K3: 단가 | L3: 금액 | M3: 단가 | N3: 금액 | O3: 단가 | P3: 금액
C4: 1.전기소방
A5: 56950900300 | B5: EAZ800010000 | C5: 제 1호 | D5: 파이프행가 | E5: 16 C | F5: 개소 | G5: 1 | H5: =일위대가!I12 -> 1300 | I5: =G5*H5 -> 1300 | K5: =일위대가!K12 -> 6536 | L5: =G5*K5 -> 6536 | M5: =[9]일위대가!N11 -> 0 | N5: =G5*M5 -> 0 | O5: =IF((H5+K5+M5)=0, "", (H5+K5+M5)) -> 7836 | P5: =SUM(I5,L5,N5) -> 7836
A6: 56950900301 | B6: EAZ800020000 | C6: 제 2호 | D6: 파이프행가 | E6: 22 C | F6: 개소 | G6: 1 | H6: =일위대가!I21 -> 1315 | I6: =G6*H6 -> 1315 | K6: =일위대가!K21 -> 6536 | L6: =G6*K6 -> 6536 | M6: =[9]일위대가!N20 -> 0 | N6: =G6*M6 -> 0 | O6: =IF((H6+K6+M6)=0, "", (H6+K6+M6)) -> 7851 | P6: =SUM(I6,L6,N6) -> 7851
C8: 2.기계소방
C9: 호표 1 | D9: 강관용접 | E9: D100 | F9: 개소 | G9: 1 | H9: =일위대가!I35 -> 1301 | I9: =G9*H9 -> 1301 | K9: =일위대가!K35 -> 24163 | L9: =G9*K9 -> 24163 | M9: =일위대가!M35 -> 0 | N9: =G9*M9 -> 0 | O9: =IF((H9+K9+M9)=0, "", (H9+K9+M9)) -> 25464 | P9: =SUM(I9,L9,N9) -> 25464
C10: 호표 2 | D10: 강관절단 | E10: D100 | F10: 개소 | G10: 1 | H10: =일위대가!I40 -> 84 | I10: =G10*H10 -> 84 | K10: =일위대가!K40 -> 0 | L10: =G10*K10 -> 0 | M10: =일위대가!M40 -> 0 | N10: =G10*M10 -> 0 | O10: =IF((H10+K10+M10)=0, "", (H10+K10+M10)) -> 84 | P10: =SUM(I10,L10,N10) -> 84
C11: 호표 3 | D11: 일반행거(전산볼트) | E11: D25 | F11: 개소 | G11: 1 | H11: =일위대가!I46 -> 927 | I11: =G11*H11 -> 927 | K11: =일위대가!K46 -> 0 | L11: =G11*K11 -> 0 | M11: =일위대가!M46 -> 0 | N11: =G11*M11 -> 0 | O11: =IF((H11+K11+M11)=0, "", (H11+K11+M11)) -> 927 | P11: =SUM(I11,L11,N11) -> 927
C12: 호표 4 | D12: 일반행거(전산볼트) | E12: D32 | F12: 개소 | G12: 1 | H12: =일위대가!I52 -> 947 | I12: =G12*H12 -> 947 | K12: =일위대가!K52 -> 0 | L12: =G12*K12 -> 0 | M12: =일위대가!M52 -> 0 | N12: =G12*M12 -> 0 | O12: =IF((H12+K12+M12)=0, "", (H12+K12+M12)) -> 947 | P12: =SUM(I12,L12,N12) -> 947
C13: 호표 5 | D13: 일반행거(전산볼트) | E13: D40 | F13: 개소 | G13: 1 | H13: =일위대가!I58 -> 977 | I13: =G13*H13 -> 977 | K13: =일위대가!K58 -> 0 | L13: =G13*K13 -> 0 | M13: =일위대가!M58 -> 0 | N13: =G13*M13 -> 0 | O13: =IF((H13+K13+M13)=0, "", (H13+K13+M13)) -> 977 | P13: =SUM(I13,L13,N13) -> 977
C14: 호표 6 | D14: 일반행거(전산볼트) | E14: D50 | F14: 개소 | G14: 1 | H14: =일위대가!I64 -> 1117 | I14: =G14*H14 -> 1117 | K14: =일위대가!K64 -> 0 | L14: =G14*K14 -> 0 | M14: =일위대가!M64 -> 0 | N14: =G14*M14 -> 0 | O14: =IF((H14+K14+M14)=0, "", (H14+K14+M14)) -> 1117 | P14: =SUM(I14,L14,N14) -> 1117
C15: 호표 7 | D15: 관보온(가교발포폴리에틸렌) | E15: 25TxD25(은박난연,매직) | F15: m | G15: 1 | H15: =일위대가!I74 -> 2452 | I15: =G15*H15 -> 2452 | K15: =일위대가!K74 -> 4188 | L15: =G15*K15 -> 4188 | M15: =일위대가!M74 -> 0 | N15: =G15*M15 -> 0 | O15: =IF((H15+K15+M15)=0, "", (H15+K15+M15)) -> 6640 | P15: =SUM(I15,L15,N15) -> 6640
C16: 호표 8 | D16: 관보온(가교발포폴리에틸렌) | E16: 25TxD32(은박난연,매직) | F16: m | G16: 1 | H16: =일위대가!I84 -> 2704 | I16: =G16*H16 -> 2704 | K16: =일위대가!K84 -> 4931 | L16: =G16*K16 -> 4931 | M16: =일위대가!M84 -> 0 | N16: =G16*M16 -> 0 | O16: =IF((H16+K16+M16)=0, "", (H16+K16+M16)) -> 7635 | P16: =SUM(I16,L16,N16) -> 7635
C17: 호표 9 | D17: 관보온(가교발포폴리에틸렌) | E17: 25TxD40(은박난연,매직) | F17: m | G17: 1 | H17: =일위대가!I94 -> 2992 | I17: =G17*H17 -> 2992 | K17: =일위대가!K94 -> 7129 | L17: =G17*K17 -> 7129 | M17: =일위대가!M94 -> 0 | N17: =G17*M17 -> 0 | O17: =IF((H17+K17+M17)=0, "", (H17+K17+M17)) -> 10121 | P17: =SUM(I17,L17,N17) -> 10121
C18: 호표 10 | D18: 관보온(가교발포폴리에틸렌) | E18: 25TxD50(은박난연,매직) | F18: m | G18: 1 | H18: =일위대가!I104 -> 3333 | I18: =G18*H18 -> 3333 | K18: =일위대가!K104 -> 8380 | L18: =G18*K18 -> 8380 | M18: =일위대가!M104 -> 0 | N18: =G18*M18 -> 0 | O18: =IF((H18+K18+M18)=0, "", (H18+K18+M18)) -> 11713 | P18: =SUM(I18,L18,N18) -> 11713

Sheet 일위대가
B1: 29 | D1: [ 해상특송교환국 설치공사 ] - 일위대가표
A2: 번호 | B2: 목차코드 | C2: 코드 | D2: 명 칭 | E2: 규 격 | F2: 단위 | G2: 수량 | H2: 재료비 | L2: 경비 | N2: 합 계 | P2: 비고
H3: 단가 | I3: 금액 | J3: 단가 | K3: 금액 | L3: 단가 | M3: 금액 | N3: 단가 | O3: 금액
D4: 1.전기소방
A5: 56950900300 | B5: 일목줄 | C5: EAZ800010000 | D5: [제 1호] 파이프행가 16 C [개소] | O5: =IF(SUM(I5,K5,M5)<>0,TRUNC(SUM(I5,K5,M5),1),"")
A6: 59759017111 | B6: 제 1호 | C6: 3913170810036357 | D6: 강재전선관용 부품 | E6: 파이프행거, 16 C | F6: 개 | G6: 1 | H6: 294 | I6: =IF(G6*H6<>0, TRUNC(G6*H6, 1), "") -> 294 | J6: =[9]합산자재!I12 -> 0 | K6: =IF(G6*J6<>0, TRUNC(G6*J6, 1), "") | L6: =[9]합산자재!J12 -> 0 | M6: =IF(G6*L6<>0, TRUNC(G6*L6, 1), "") | N6: =IF((H6+J6+L6)=0, "", (H6+J6+L6)) -> 294 | O6: =IF(SUM(I6,K6,M6)<>0,TRUNC(SUM(I6,K6,M6),1),"") -> 294
A7: 53060327011 | B7: 제 1호 | C7: 3116169820135160 | D7: 행거볼트 | E7: ∮9×1000㎜ | F7: 개 | G7: 1 | H7: 798 | I7: =IF(G7*H7<>0, TRUNC(G7*H7, 1), "") -> 798 | J7: =[9]합산자재!I15 -> 0 | K7: =IF(G7*J7<>0, TRUNC(G7*J7, 1), "") | L7: =[9]합산자재!J15 -> 0 | M7: =IF(G7*L7<>0, TRUNC(G7*L7, 1), "") | N7: =IF((H7+J7+L7)=0, "", (H7+J7+L7)) -> 798 | O7: =IF(SUM(I7,K7,M7)<>0,TRUNC(SUM(I7,K7,M7),1),"") -> 798
A8: 53060807001 | B8: 제 1호 | C8: 3116210220135769 | D8: 스트롱앵커 | E8: 3/8 | F8: 개 | G8: 1 | H8: 150 | I8: =IF(G8*H8<>0, TRUNC(G8*H8, 1), "") -> 150 | J8: =[9]합산자재!I14 -> 0 | K8: =IF(G8*J8<>0, TRUNC(G8*J8, 1), "") | L8: =[9]합산자재!J14 -> 0 | M8: =IF(G8*L8<>0, TRUNC(G8*L8, 1), "") | N8: =IF((H8+J8+L8)=0, "", (H8+J8+L8)) -> 150 | O8: =IF(SUM(I8,K8,M8)<>0,TRUNC(SUM(I8,K8,M8),1),"") -> 150
A9: 53100028501 | B9: 제 1호 | C9: 3116172710023970 | D9: 6각너트 | E9: 3/8,M10 | F9: EA | G9: 2 | H9: 22 | I9: =IF(G9*H9<>0, TRUNC(G9*H9, 1), "") -> 44 | J9: =[9]합산자재!I20 -> 0 | K9: =IF(G9*J9<>0, TRUNC(G9*J9, 1), "") | L9: =[9]합산자재!J20 -> 0 | M9: =IF(G9*L9<>0, TRUNC(G9*L9, 1), "") | N9: =IF((H9+J9+L9)=0, "", (H9+J9+L9)) -> 22 | O9: =IF(SUM(I9,K9,M9)<>0,TRUNC(SUM(I9,K9,M9),1),"") -> 44
A10: 52100327001 | B10: 제 1호 | C10: 3116181120136195 | D10: 스프링와샤 | E10: D10 | F10: EA | G10: 2 | H10: 7 | I10: =IF(G10*H10<>0, TRUNC(G10*H10, 1), "") -> 14 | J10: =[9]합산자재!I21 -> 0 | K10: =IF(G10*J10<>0, TRUNC(G10*J10, 1), "") | L10: =[9]합산자재!J21 -> 0 | M10: =IF(G10*L10<>0, TRUNC(G10*L10, 1), "") | N10: =IF((H10+J10+L10)=0, "", (H10+J10+L10)) -> 7 | O10: =IF(SUM(I10,K10,M10)<>0,TRUNC(SUM(I10,K10,M10),1),"") -> 14
A11: 56900017016 | B11: 제 1호 | C11: L001010101000075 | D11: 노 무 비 | E11: 내선전공 | F11: 인 | G11: =일위노임!G6 -> 0.029 | H11: 0 | I11: =IF(G11*H11<>0, TRUNC(G11*H11, 1), "") | J11: 225408 | K11: =IF(G11*J11<>0, TRUNC(G11*J11, 1), "") -> 6536.8 | L11: =[9]합산자재!J22 -> 0 | M11: =IF(G11*L11<>0, TRUNC(G11*L11, 1), "") | N11: =IF((H11+J11+L11)=0, "", (H11+J11+L11)) -> 225408 | O11: =IF(SUM(I11,K11,M11)<>0,TRUNC(SUM(I11,K11,M11),1),"") -> 6536.8
B12: 합계줄 | D12: ( 합 계 ) | I12: =TRUNC(SUM(I6:I11)) -> 1300 | K12: =TRUNC(SUM(K6:K11)) -> 6536 | M12: =TRUNC(SUM(M6:M11)) -> 0 | N12: =IF((H12+J12+L12)=0, "", (H12+J12+L12)) | O12: =TRUNC(SUM(O6:O11)) -> 7836
O13: =IF(SUM(I13,K13,M13)<>0,TRUNC(SUM(I13,K13,M13),1),"")
A14: 56950900301 | B14: 일목줄 | C14: EAZ800020000 | D14: [제 2호] 파이프행가 22 C [개소] | O14: =IF(SUM(I14,K14,M14)<>0,TRUNC(SUM(I14,K14,M14),1),"")
A15: 59759017112 | B15: 제 2호 | C15: 3913170810036358 | D15: 강재전선관용 부품 | E15: 파이프행거, 22 C | F15: 개 | G15: 1 | H15: 309 | I15: =IF(G15*H15<>0, TRUNC(G15*H15, 1), "") -> 309 | J15: =[9]합산자재!I13 -> 0 | K15: =IF(G15*J15<>0, TRUNC(G15*J15, 1), "") | L15: =[9]합산자재!J13 -> 0 | M15: =IF(G15*L15<>0, TRUNC(G15*L15, 1), "") | N15: =IF((H15+J15+L15)=0, "", (H15+J15+L15)) -> 309 | O15: =IF(SUM(I15,K15,M15)<>0,TRUNC(SUM(I15,K15,M15),1),"") -> 309
A16: 53060327011 | B16: 제 2호 | C16: 3116169820135160 | D16: 행거볼트 | E16: ∮9×1000㎜ | F16: 개 | G16: 1 | H16: 798 | I16: =IF(G16*H16<>0, TRUNC(G16*H16, 1), "") -> 798 | J16: =[9]합산자재!I15 -> 0 | K16: =IF(G16*J16<>0, TRUNC(G16*J16, 1), "") | L16: =[9]합산자재!J15 -> 0 | M16: =IF(G16*L16<>0, TRUNC(G16*L16, 1), "") | N16: =IF((H16+J16+L16)=0, "", (H16+J16+L16)) -> 798 | O16: =IF(SUM(I16,K16,M16)<>0,TRUNC(SUM(I16,K16,M16),1),"") -> 798
A17: 53060807001 | B17: 제 2호 | C17: 3116210220135769 | D17: 스트롱앵커 | E17: 3/8 | F17: 개 | G17: 1 | H17: 150 | I17: =IF(G17*H17<>0, TRUNC(G17*H17, 1), "") -> 150 | J17: =[9]합산자재!I14 -> 0 | K17: =IF(G17*J17<>0, TRUNC(G17*J17, 1), "") | L17: =[9]합산자재!J14 -> 0 | M17: =IF(G17*L17<>0, TRUNC(G17*L17, 1), "") | N17: =IF((H17+J17+L17)=0, "", (H17+J17+L17)) -> 150 | O17: =IF(SUM(I17,K17,M17)<>0,TRUNC(SUM(I17,K17,M17),1),"") -> 150
A18: 53100028501 | B18: 제 2호 | C18: 3116172710023970 | D18: 6각너트 | E18: 3/8,M10 | F18: EA | G18: 2 | H18: 22 | I18: =IF(G18*H18<>0, TRUNC(G18*H18, 1), "") -> 44 | J18: =[9]합산자재!I20 -> 0 | K18: =IF(G18*J18<>0, TRUNC(G18*J18, 1), "") | L18: =[9]합산자재!J20 -> 0 | M18: =IF(G18*L18<>0, TRUNC(G18*L18, 1), "") | N18: =IF((H18+J18+L18)=0, "", (H18+J18+L18)) -> 22 | O18: =IF(SUM(I18,K18,M18)<>0,TRUNC(SUM(I18,K18,M18),1),"") -> 44
A19: 52100327001 | B19: 제 2호 | C19: 3116181120136195 | D19: 스프링와샤 | E19: D10 | F19: EA | G19: 2 | H19: 7 | I19: =IF(G19*H19<>0, TRUNC(G19*H19, 1), "") -> 14 | J19: =[9]합산자재!I21 -> 0 | K19: =IF(G19*J19<>0, TRUNC(G19*J19, 1), "") | L19: =[9]합산자재!J21 -> 0 | M19: =IF(G19*L19<>0, TRUNC(G19*L19, 1), "") | N19: =IF((H19+J19+L19)=0, "", (H19+J19+L19)) -> 7 | O19: =IF(SUM(I19,K19,M19)<>0,TRUNC(SUM(I19,K19,M19),1),"") -> 14
A20: 56900017016 | B20: 제 2호 | C20: L001010101000075 | D20: 노 무 비 | E20: 내선전공 | F20: 인 | G20: =일위노임!G9 -> 0.029 | H20: 0 | I20: =IF(G20*H20<>0, TRUNC(G20*H20, 1), "") | J20: 225408 | K20: =IF(G20*J20<>0, TRUNC(G20*J20, 1), "") -> 6536.8 | L20: =[9]합산자재!J22 -> 0 | M20: =IF(G20*L20<>0, TRUNC(G20*L20, 1), "") | N20: =IF((H20+J20+L20)=0, "", (H20+J20+L20)) -> 225408 | O20: =IF(SUM(I20,K20,M20)<>0,TRUNC(SUM(I20,K20,M20),1),"") -> 6536.8
B21: 합계줄 | D21: ( 합 계 ) | I21: =TRUNC(SUM(I15:I20)) -> 1315 | K21: =TRUNC(SUM(K15:K20)) -> 6536 | M21: =TRUNC(SUM(M15:M20)) -> 0 | N21: =IF((H21+J21+L21)=0, "", (H21+J21+L21)) | O21: =TRUNC(SUM(O15:O20)) -> 7851
O28: =IF(SUM(I28,K28,M28)<>0,TRUNC(SUM(I28,K28,M28),1),"")
D29: 2.기계소방
D30: 강관용접 D100 개소 ( 호표 1 ) | Q30: 0.8
D31: 용접봉(연강용) | E31: 3.2φ CS-200 | F31: kg | G31: 0.28 | H31: 1930 | I31: =IF(G31*H31<>0, TRUNC(G31*H31, 1), "") -> 540.4 | J31: 0 | K31: 0 | L31: 0 | M31: =TRUNC(L31*G31,1) -> 0 | N31: =TRUNC(H31+J31+L31,1) -> 1930 | O31: =IF(SUM(I31,K31,M31)<>0,TRUNC(SUM(I31,K31,M31),1),"") -> 540.4
D32: 전력 | F32: KWH | G32: 0.43 | H32: 87 | I32: =IF(G32*H32<>0, TRUNC(G32*H32, 1), "") -> 37.4 | J32: 0 | K32: 0 | L32: 0 | M32: =TRUNC(L32*G32,1) -> 0 | N32: =TRUNC(H32+J32+L32,1) -> 87 | O32: =IF(SUM(I32,K32,M32)<>0,TRUNC(SUM(I32,K32,M32),1),"") -> 37.4
D33: 노무비 | E33: 용접공(일반) | F33: 인 | G33: =0.152*Q30 -> 0.1216 | H33: 0 | I33: =IF(G33*H33<>0, TRUNC(G33*H33, 1), "") | J33: 198711 | K33: =G33*J33 -> 24163.258 | L33: 0 | M33: =TRUNC(L33*G33,1) -> 0 | N33: =TRUNC(H33+J33+L33,1) -> 198711 | O33: =IF(SUM(I33,K33,M33)<>0,TRUNC(SUM(I33,K33,M33),1),"") -> 24163.2
D34: 공구손료 | E34: 노무비의3.00 % | F34: 식 | G34: 1 | H34: =INT(K35*3%) -> 724 | I34: =IF(G34*H34<>0, TRUNC(G34*H34, 1), "") -> 724 | J34: 0 | K34: 0 | L34: 0 | M34: =TRUNC(L34*G34,1) -> 0 | N34: =TRUNC(H34+J34+L34,1) -> 724 | O34: =IF(SUM(I34,K34,M34)<>0,TRUNC(SUM(I34,K34,M34),1),"") -> 724
D35: [ 합 계 ] | I35: =TRUNC(SUM(I29:I34)) -> 1301 | K35: =TRUNC(SUM(K29:K34)) -> 24163 | L35: 0 | M35: =TRUNC(SUM(M29:M34)) -> 0 | O35: =TRUNC(SUM(O29:O34)) -> 25465
D37: 강관절단 D100 개소 ( 호표 2 )
D38: 산소 | E38: (기체) | F38: ℓ | G38: 12 | H38: 2 | I38: =IF(G38*H38<>0, TRUNC(G38*H38, 1), "") -> 24 | J38: 0 | K38: =G38*J38 -> 0 | L38: 0 | M38: =TRUNC(L38*G38,1) -> 0 | N38: =TRUNC(H38+J38+L38,1) -> 2 | O38: =IF(SUM(I38,K38,M38)<>0,TRUNC(SUM(I38,K38,M38),1),"") -> 24
D39: 아세틸렌 | F39: ℓ | G39: 6 | H39: 10 | I39: =IF(G39*H39<>0, TRUNC(G39*H39, 1), "") -> 60 | J39: 0 | K39: =G39*J39 -> 0 | L39: 0 | M39: =TRUNC(L39*G39,1) -> 0 | N39: =TRUNC(H39+J39+L39,1) -> 10 | O39: =IF(SUM(I39,K39,M39)<>0,TRUNC(SUM(I39,K39,M39),1),"") -> 60
D40: [ 합 계 ] | I40: =TRUNC(SUM(I38:I39)) -> 84 | K40: =TRUNC(SUM(K38:K39)) -> 0 | M40: =TRUNC(SUM(M38:M39)) -> 0 | O40: =TRUNC(SUM(O38:O39)) -> 84
D42: 일반행거(전산볼트) D25 개소 ( 호표 3 )
D43: 파이프행거(일반) | E43: D25 | F43: EA | G43: 1 | H43: 270 | I43: =IF(G43*H43<>0, TRUNC(G43*H43, 1), "") -> 270 | J43: 0 | K43: =G43*J43 -> 0 | L43: 0 | M43: =TRUNC(L43*G43,1) -> 0 | N43: =TRUNC(H43+J43+L43,1) -> 270 | O43: =IF(SUM(I43,K43,M43)<>0,TRUNC(SUM(I43,K43,M43),1),"") -> 270
D44: 전산볼트(철) | E44: M10 L1000 | F44: 개 | G44: 1 | H44: 520 | I44: =IF(G44*H44<>0, TRUNC(G44*H44, 1), "") -> 520 | J44: 0 | K44: =G44*J44 -> 0 | L44: 0 | M44: =TRUNC(L44*G44,1) -> 0 | N44: =TRUNC(H44+J44+L44,1) -> 520 | O44: =IF(SUM(I44,K44,M44)<>0,TRUNC(SUM(I44,K44,M44),1),"") -> 520
D45: 스트롱앵커 | E45: 3/8" (M10) | F45: 개 | G45: 1 | H45: 137 | I45: =IF(G45*H45<>0, TRUNC(G45*H45, 1), "") -> 137 | J45: 0 | K45: =G45*J45 -> 0 | L45: 0 | M45: =TRUNC(L45*G45,1) -> 0 | N45: =TRUNC(H45+J45+L45,1) -> 137 | O45: =IF(SUM(I45,K45,M45)<>0,TRUNC(SUM(I45,K45,M45),1),"") -> 137
D46: [ 합 계 ] | I46: =TRUNC(SUM(I43:I45)) -> 927 | K46: =TRUNC(SUM(K43:K45)) -> 0 | M46: =TRUNC(SUM(M43:M45)) -> 0 | O46: =TRUNC(SUM(O43:O45)) -> 927
D48: 일반행거(전산볼트) D32 개소 ( 호표 4 )
D49: 파이프행거(일반) | E49: D32 | F49: EA | G49: 1 | H49: 290 | I49: =IF(G49*H49<>0, TRUNC(G49*H49, 1), "") -> 290 | J49: 0 | K49: =G49*J49 -> 0 | L49: 0 | M49: =TRUNC(L49*G49,1) -> 0 | N49: =TRUNC(H49+J49+L49,1) -> 290 | O49: =IF(SUM(I49,K49,M49)<>0,TRUNC(SUM(I49,K49,M49),1),"") -> 290
...

Sheet 일위노임
B1: 29 | D1: [ 해상특송교환국 설치공사 ] - 일위노임 산출근거(2019년 상반기 노임) | AA1: 내선전공
A2: 번호 | B2: 공종코드 | C2: 코드 | D2: 명 칭 | E2: 규 격 | F2: 단위 | G2: 수량 | K2: 코드 | L2: 공량산출 | P2: 단 위 단 가 산 출 | S2: 품셈근거 | T2: 비고
G3: 결정수량 | H3: 할증 | I3: 산출수량 | J3: 재할% | L3: 명칭 | M3: 품셈 | N3: 할증% | O3: 공량 | P3: 단가 | Q3: 단위단가 | R3: 단위계
B4: 공종줄 | D4: [ 제 1호 ] 파이프행가 16 C [개소]
B5: 800 | C5: 3116210220135769 | D5: 스트롱앵커 | E5: 3/8 | F5: 개 | G5: 1 | H5: =IF(I5<>0, G5-I5, "") -> 0 | I5: 1 | K5: 56900017016 | L5: 내선전공 | M5: 0.036 | N5: 100 | O5: =IF(I5*M5=0, "", I5*M5*(N5/100)) -> 0.036 | Q5: =TRUNC(P5*M5*N5/100) -> 0 | S5: 전기5-29 | AA5: =O5 -> 0.036
B6: 800 | C6: L001010101000075 | D6: 노 무 비 | E6: 내선전공 | F6: 인 | G6: =ROUND(I6*H6%,3) -> 0.029 | H6: 80 | I6: =SUM(O5) -> 0.036 | O6: =IF(I6*M6=0, "", I6*M6*(N6/100)) | Q6: =TRUNC(P6*M6*N6/100) -> 0 | Z6: 노임계 | AA6: =SUM(AA5:AA5) -> 0.036
B7: 공종줄 | D7: [ 제 2호 ] 파이프행가 22 C [개소]
B8: 800 | C8: 3116210220135769 | D8: 스트롱앵커 | E8: 3/8 | F8: 개 | G8: 1 | H8: =IF(I8<>0, G8-I8, "") -> 0 | I8: 1 | K8: 56900017016 | L8: 내선전공 | M8: 0.036 | N8: 100 | O8: =IF(I8*M8=0, "", I8*M8*(N8/100)) -> 0.036 | Q8: =TRUNC(P8*M8*N8/100) -> 0 | S8: 전기5-29 | AA8: =O8 -> 0.036
B9: 800 | C9: L001010101000075 | D9: 노 무 비 | E9: 내선전공 | F9: 인 | G9: =ROUND(I9*H9%,3) -> 0.029 | H9: 80 | I9: =SUM(O8) -> 0.036 | O9: =IF(I9*M9=0, "", I9*M9*(N9/100)) | Q9: =TRUNC(P9*M9*N9/100) -> 0 | Z9: 노임계 | AA9: =SUM(AA8:AA8) -> 0.036

Sheet 단가조사
B1: 63 | D1: [해상특송교환국 설치 소방 공사] - 단가조사서(물가정보:2019년07월)
A2: 번호 | B2: 공종코드 | C2: 코드 | D2: 명 칭 | E2: 규 격 | F2: 단위 | G2: 적용단가 | H2: 시설단가 | J2: 거래가격 | L2: 물가정보 | N2: 물가자료 | P2: 가격정보 | R2: 비고
H3: 단가 | I3: 코드번호 | J3: 단가 | K3: PAGE | L3: 단가 | M3: PAGE | N3: 단가 | O3: PAGE | P3: 단가 | Q3: PAGE
D4: 1.전기소방
D5: 강제전선관 | E5: 아연도 16 mm | F5: m | G5: =INT(SMALL(H5:Q5,1)*R5) -> 1547 | H5: 1547 | J5: 1852 | K5: 996 | L5: 2171 | M5: 2-308 | R5: 100%
D6: 강제전선관 | E6: 아연도 22 mm | F6: m | G6: =SMALL(H6:Q6,1)*R6 -> 1989 | H6: 1989 | J6: 2355 | K6: 996 | L6: 2811 | M6: 2-304 | R6: 100%
D7: 1종금속제가요전선관 | E7: 16 mm 일반-비방수 | F7: m | G7: =INT(SMALL(H7:Q7,1)*R7) -> 360 | H7: 360 | J7: 1200 | K7: 993 | R7: 100%
D8: 1종금속제가요전선관 | E8: 커넥터, 16 mm 일반-비방수 | F8: 개 | G8: =SMALL(H8:Q8,1)*R8 -> 229 | H8: 229 | J8: 990 | K8: 993 | R8: 100%
D9: 아우트렛박스 | E9: 8각 54㎜ | F9: 개 | G9: =SMALL(H9:Q9,1)*R9 -> 547 | H9: 547 | J9: 796 | K9: 999 | L9: 704 | M9: 2-312 | R9: 100%
D10: 아우트렛박스-상부연결용 | E10: 8각 54㎜ | F10: 개 | G10: =INT(SMALL(H10:Q10,1)*R10) -> 547 | H10: 547 | J10: 796 | K10: 999 | L10: 704 | M10: 2-312 | R10: 100%
D11: 스위치박스 | E11: 1 개용 54 mm | F11: 개 | G11: =SMALL(H11:Q11,1)*R11 -> 483 | H11: 483 | J11: 697 | K11: 999 | L11: 583 | M11: 2-312 | R11: 100%
D12: 아우트렛박스 커버 | E12: 커버, 8각, 평형 | F12: 개 | G12: =SMALL(H12:Q12,1)*R12 -> 286 | J12: 328 | K12: 999 | L12: 286 | M12: 2-312 | R12: 100%
D13: 강재전선관용 부품 | E13: 파이프행거, 16 C | F13: 개 | G13: =SMALL(H13:Q13,1)*R13 -> 294 | H13: 294 | J13: 606 | K13: 997 | L13: 606 | M13: 2-306 | R13: 100%
D14: 강재전선관용 부품 | E14: 파이프행거, 22 C | F14: 개 | G14: =SMALL(H14:Q14,1)*R14 -> 309 | H14: 309 | J14: 621 | K14: 997 | L14: 621 | M14: 2-306 | R14: 100%
D15: 스트롱앵커 | E15: 3/8 | F15: 개 | G15: =SMALL(H15:Q15,1)*R15 -> 150 | J15: 350 | K15: 84 | L15: 150 | M15: 115 | R15: 100%
D16: 행거볼트 | E16: ∮9×1000㎜ | F16: 개 | G16: =INT(SMALL(H16:Q16,1)*R16) -> 798 | J16: 1068 | K16: 81 | L16: 798 | M16: 115 | R16: 100%
D17: 450/750V 내열비닐절연전선 | E17: HFIX 1.38mm(1.5㎟) | F17: m | G17: =SMALL(H17:Q17,1)*R17 -> 183 | H17: 183 | J17: 223 | K17: 961 | L17: 262 | M17: 2-267 | R17: 100%
D18: 450/750V 내열비닐절연전선 | E18: HFIX 1.78mm(2.5㎟) | F18: m | G18: =INT(SMALL(H18:Q18,1)*R18) -> 272 | H18: 272 | J18: 329 | K18: 961 | L18: 431 | M18: 2-267 | R18: 100%
D19: 화재감지기 | E19: 열감지기,차동식스포트형 | F19: 개 | G19: =SMALL(H19:Q19,1)*R19 -> 3500 | H19: 3500 | J19: 5000 | K19: 1175 | L19: 4800 | M19: 2-513 | R19: 100%
D20: 피난유도등(LED) | E20: 중형벽부단면-60분용 | F20: 개 | G20: =SMALL(H20:Q20,1)*R20 -> 39000 | H20: 39000 | J20: 160000 | K20: 1175 | L20: 160000 | M20: 2-517 | R20: 100%
D21: 6각너트 | E21: 3/8,M10 | F21: EA | G21: =INT(SMALL(H21:Q21,1)*R21) -> 22 | J21: 25 | K21: 85 | L21: 22 | M21: 97 | R21: 100%
D22: 스프링와샤 | E22: D10 | F22: EA | G22: =SMALL(H22:Q22,1)*R22 -> 7 | J22: 21 | K22: 85 | L22: 7 | M22: 99 | R22: 100%
D38: 2.기계소방
D39: 백관 (SPP) | E39: D25 | F39: m | G39: =SMALL(H39:Q39,1)*R39 -> 2411 | L39: 3304 | M39: 504 | N39: 3220 | O39: 714 | P39: 2411 | R39: 100%
D40: 백관 (SPP) | E40: D32 | F40: m | G40: =SMALL(H40:Q40,1)*R40 -> 3094 | L40: 4243 | M40: 504 | N40: 4130 | O40: 714 | P40: 3094 | R40: 100%
D41: 백관 (SPP) | E41: D40 | F41: m | G41: =SMALL(H41:Q41,1)*R41 -> 3554 | L41: 4875 | M41: 504 | N41: 4740 | O41: 714 | P41: 3554 | R41: 1
D42: 백관 (SPP) | E42: D50 | F42: m | G42: =SMALL(H42:Q42,1)*R42 -> 5006 | L42: 6864 | M42: 504 | N42: 6680 | O42: 714 | P42: 5006 | R42: 100%
D43: 백티이 (용접) | E43: D100 | F43: EA | G43: =SMALL(H43:Q43,1)*R43 -> 10217 | L43: 14590 | M43: 514 | N43: 14190 | O43: 722 | P43: 10217 | R43: 100%
D44: 백엘보 (나사) | E44: D25 | F44: EA | G44: =SMALL(H44:Q44,1)*R44 -> 1001 | L44: 1220 | M44: 516 | N44: 1220 | O44: 725 | P44: 1001 | R44: 1
D45: 백엘보 (나사) | E45: D50 | F45: EA | G45: =SMALL(H45:Q45,1)*R45 -> 2801 | L45: 3420 | M45: 516 | N45: 3410 | O45: 725 | P45: 2801 | R45: 100%
D46: 백티이 (나사) | E46: D25 | F46: EA | G46: =SMALL(H46:Q46,1)*R46 -> 1382 | L46: 1690 | M46: 514 | N46: 1690 | O46: 725 | P46: 1382 | R46: 100%
D47: 백티이 (나사) | E47: D32 | F47: EA | G47: =SMALL(H47:Q47,1)*R47 -> 1865 | L47: 2280 | M47: 514 | N47: 2280 | O47: 725 | P47: 1865 | R47: 1
D48: 백티이 (나사) | E48: D40 | F48: EA | G48: =SMALL(H48:Q48,1)*R48 -> 2491 | L48: 3050 | M48: 514 | N48: 3040 | O48: 725 | P48: 2491 | R48: 100%
D49: 백티이 (나사) | E49: D50 | F49: EA | G49: =SMALL(H49:Q49,1)*R49 -> 3636 | L49: 4460 | M49: 514 | N49: 4440 | O49: 725 | P49: 3636 | R49: 100%
D50: 백레듀샤 (나사) | E50: D32 | F50: EA | G50: =SMALL(H50:Q50,1)*R50 -> 1400 | L50: 1400 | M50: 516 | N50: 1400 | O50: 725 | R50: 1
D51: 백레듀샤 (나사) | E51: D40 | F51: EA | G51: =SMALL(H51:Q51,1)*R51 -> 1660 | L51: 1670 | M51: 516 | N51: 1660 | O51: 725 | R51: 100%
D52: 백레듀샤 (나사) | E52: D50 | F52: EA | G52: =SMALL(H52:Q52,1)*R52 -> 2650 | L52: 2670 | M52: 516 | N52: 2650 | O52: 725 | R52: 100%
D53: 백소켓 (나사) | E53: D50 | F53: EA | G53: =SMALL(H53:Q53,1)*R53 -> 2182 | L53: 2670 | M53: 516 | N53: 2650 | O53: 725 | P53: 2182 | R53: 1
D54: 백캡 (나사) | E54: D25 | F54: EA | G54: =SMALL(H54:Q54,1)*R54 -> 662 | L54: 810 | M54: 516 | N54: 810 | O54: 725 | P54: 662 | R54: 100%
D55: 전산볼트(철) | E55: M10 L1000 | F55: 개 | G55: =SMALL(H55:Q55,1)*R55 -> 520 | L55: 921 | M55: 99 | N55: 1017 | O55: 86 | P55: 520 | R55: 100%
...
