Workbook

Sheet 원가
A1: 원 가 계 산 서
A3: 공사명: | C3: 해상특송교환국 설치공사
A4: 비 목 | C4: 구 분 | D4: 금 액 | E4: 구 성 비 | I4: 요율 | J4: 수량 | K4: 금액 | L4: 이윤 | M4: 끝자리 맞추기
B5: 재 료 비 | C5: 직 접 재 료 비 | D5: =옵션!$B$2 -> 11673811 | J5: 1 | K5: =D5*J5 -> 11673811
C6: 간 접 재 료 비 | K6: =D6*J6 -> 0
C7: ( 소 계 ) | D7: =SUM(D5:D6) -> 11673811 | K7: =D7*J7 -> 0
A8: 순 | B8: 노 무 비 | C8: 직 접 노 무 비 | D8: =옵션!$C$2 -> 40622975 | J8: 1 | K8: =D8*J8 -> 40622975
C9: 간 접 노 무 비 | D9: =TRUNC((D8)*I9/100) -> 3209215 | E9: (직접 노무비) * 7.9 % | I9: 7.9 | J9: 1 | K9: =D9*J9 -> 3209215
C10: ( 소 계 ) | D10: =SUM(D8:D9) -> 43832190 | K10: =D10*J10 -> 0
C11: 산 재 보 험 료 | D11: =TRUNC((D10)*I11/100) -> 1643707 | E11: (노무비) * 3.75 % | I11: 3.75 | J11: 1 | K11: =D11*J11 -> 1643707
C12: 고 용 보 험 료 | D12: =TRUNC((D10)*I12/100) -> 381340 | E12: (노무비) * 0.87 % | I12: 0.87 | J12: 1 | K12: =D12*J12 -> 381340
C13: 안 전 관 리 비 | D13: =TRUNC((D7+D8+D33)*I13/100) -> 1045759 | E13: (재료+직노+관급자재) * 1.85 % | I13: 1.85 | J13: 1 | K13: =D13*J13 -> 1045759
A14: 공 | C14: 기 타 경 비 | D14: =TRUNC((D7+D10)*I14/100) -> 1570819 | E14: (재료+노무) * 2.83 % | I14: 2.83 | J14: 1 | K14: =D14*J14 -> 1570819
B15: 경 | C15: 건 강 보 험 료 | E15: (직접 노무비) * 3.23 % | I15: 3.23 | J15: 1 | K15: =D15*J15 -> 0
C16: 연 금 보 험 료 | E16: (직접 노무비) * 4.5 % | I16: 4.5 | J16: 1 | K16: =D16*J16 -> 0
C17: 노인장기요양보험 | D17: =TRUNC((D15)*I17/100) -> 0 | E17: (건강 보험료) * 8.51 % | I17: 8.51 | J17: 1 | K17: =D17*J17 -> 0
K18: =D18*J18 -> 0
A19: 사 | K19: =D19*J19 -> 0
K20: =D20*J20 -> 0
K21: =D21*J21 -> 0
K22: =D22*J22 -> 0
B23: 비 | K23: =D23*J23 -> 0
A24: 비 | K24: =D24*J24 -> 0
K25: =D25*J25 -> 0
K26: =D26*J26 -> 0
C27: ( 소 계 ) | D27: =SUM(D11:D26) -> 4641625 | K27: =D27*J27 -> 0
A28: 일 반 관 리 비 | D28: =TRUNC((D7+D10+D27)*I28/100) -> 3608857 | E28: (재료+노무+경비) * 6 % | I28: 6 | J28: 1 | K28: =D28*J28 -> 3608857
A29: 이 윤 | D29: =L29-((SUM(K5:K28)+L29-TRUNC((SUM(K5:K28)+L29)/M29)*M29)) -> 6803517 | E29: (노무+경비+일반관리비) * 13.08 % | I29: 13.08 | J29: 1 | K29: =D29*J29 -> 6803517 | L29: =TRUNC((D10+D27+D28)*I29/100) -> 6812413 | M29: 10000
A30: ( 총 원 가 ) | D30: =SUM(K5:K29) -> 70560000 | E30: 단위절삭 | K30: =D30*J30 -> 0
A31: 부 가 가 치 세 | D31: =TRUNC((D30)*I31/100) -> 7056000 | I31: 10 | J31: 1 | K31: =D31*J31 -> 7056000
A32: 도 급 공 사 비 | D32: =D31+D30 -> 77616000 | J32: 1 | K32: =D32*J32 -> 77616000
A33: 도 급 자 관 급 | D33: =총괄표!P31 -> 4230730 | J33: 1 | K33: =D33*J33 -> 4230730
K34: =D34*J34 -> 0
K35: =D35*J35 -> 0
A36: ( 총 계 ) | D36: =SUM(D32:D35) -> 81846730 | K36: =SUM(K5:K35) -> 159462730

Sheet 총괄표
B1: 107 | D1: [ 해상특송교환국 설치공사 ]
A2: 번호 | B2: 공종코드 | C2: … | D2: 공 종 명 | E2: 규격 | F2: 단위 | G2: 수량 | H2: 재료비 | J2: 노무비 | M2: 경비 | O2: 합 계 | Q2: 비고
H3: 단가 | I3: 금액 | J3: 수량 | K3: 단가 | L3: 금액 | M3: 단가 | N3: 금액 | O3: 단가 | P3: 금액
B4: 공종줄 | D4: 해상특송교환국 설치공사
B5: 01 | D5: 1.전기공사 | F5: 식 | G5: 1 | H5: =총괄표!I81 -> 11673811 | I5: =G5*H5 -> 11673811 | K5: =총괄표!L81 -> 40622975 | L5: =G5*K5 -> 40622975 | M5: =총괄표!N81 -> 0 | N5: =G5*M5 -> 0 | O5: =IF((H5+K5+M5)=0, "", (H5+K5+M5)) -> 52296786 | P5: =SUM(I5,L5,N5) -> 52296786
C29: Total | D29: ( 합 계 ) | I29: =TRUNC(SUM(I4:I28)) -> 11673811 | L29: =TRUNC(SUM(L4:L28)) -> 40622975 | N29: =TRUNC(SUM(N4:N28)) -> 0 | O29: =IF((H29+K29+M29)=0, "", (H29+K29+M29)) | P29: =TRUNC(SUM(P4:P28)) -> 52296786
B30: 공종줄 | D30: 해상특송교환국 설치공사
B31: 02 | D31: 2.도급자관급 | F31: 식 | G31: 1 | H31: =총괄표!I107 -> 4230730 | I31: =G31*H31 -> 4230730 | K31: =총괄표!L107 -> 0 | L31: =G31*K31 -> 0 | M31: =총괄표!N107 -> 0 | N31: =G31*M31 -> 0 | O31: =IF((H31+K31+M31)=0, "", (H31+K31+M31)) -> 4230730 | P31: =SUM(I31,L31,N31) -> 4230730
C55: Total | D55: ( 합 계 ) | I55: =TRUNC(SUM(I30:I54)) -> 4230730 | L55: =TRUNC(SUM(L30:L54)) -> 0 | N55: =TRUNC(SUM(N30:N54)) -> 0 | O55: =IF((H55+K55+M55)=0, "", (H55+K55+M55)) | P55: =TRUNC(SUM(P30:P54)) -> 4230730
B56: 공종줄 | D56: 1.전기공사
B57: 0101 | D57: 1-1.전력간선설비공사 | F57: 식 | G57: 1 | H57: =내역서!I29 -> 8471642 | I57: =G57*H57 -> 8471642 | K57: =내역서!L29 -> 9813632 | L57: =G57*K57 -> 9813632 | M57: =내역서!N29 -> 0 | N57: =G57*M57 -> 0 | O57: =IF((H57+K57+M57)=0, "", (H57+K57+M57)) -> 18285274 | P57: =SUM(I57,L57,N57) -> 18285274
B58: 0102 | D58: 1-2.전등설비공사 | F58: 식 | G58: 1 | H58: =내역서!I81 -> 1577393 | I58: =G58*H58 -> 1577393 | K58: =내역서!L81 -> 19127248 | L58: =G58*K58 -> 19127248 | M58: =내역서!N81 -> 0 | N58: =G58*M58 -> 0 | O58: =IF((H58+K58+M58)=0, "", (H58+K58+M58)) -> 20704641 | P58: =SUM(I58,L58,N58) -> 20704641
B59: 0103 | D59: 1-3.전열설비공사 | F59: 식 | G59: 1 | H59: =내역서!I107 -> 1624776 | I59: =G59*H59 -> 1624776 | K59: =내역서!L107 -> 11682095 | L59: =G59*K59 -> 11682095 | M59: =내역서!N107 -> 0 | N59: =G59*M59 -> 0 | O59: =IF((H59+K59+M59)=0, "", (H59+K59+M59)) -> 13306871 | P59: =SUM(I59,L59,N59) -> 13306871
B81: 01 | C81: Total | D81: ( 합 계 ) | I81: =TRUNC(SUM(I56:I80)) -> 11673811 | L81: =TRUNC(SUM(L56:L80)) -> 40622975 | N81: =TRUNC(SUM(N56:N80)) -> 0 | O81: =IF((H81+K81+M81)=0, "", (H81+K81+M81)) | P81: =TRUNC(SUM(P56:P80)) -> 52296786
B82: 공종줄 | D82: 2.도급자관급
B83: 0201 | D83: 2-1.조명기구 | F83: 식 | G83: 1 | H83: =내역서!I133 -> 4230730 | I83: =G83*H83 -> 4230730 | K83: =내역서!L133 -> 0 | L83: =G83*K83 -> 0 | M83: =내역서!N133 -> 0 | N83: =G83*M83 -> 0 | O83: =IF((H83+K83+M83)=0, "", (H83+K83+M83)) -> 4230730 | P83: =SUM(I83,L83,N83) -> 4230730
B107: 02 | C107: Total | D107: ( 합 계 ) | I107: =TRUNC(SUM(I82:I106)) -> 4230730 | L107: =TRUNC(SUM(L82:L106)) -> 0 | N107: =TRUNC(SUM(N82:N106)) -> 0 | O107: =IF((H107+K107+M107)=0, "", (H107+K107+M107)) | P107: =TRUNC(SUM(P82:P106)) -> 4230730

Sheet 내역서
B1: 133 | D1: [ 해상특송교환국 설치공사 ] | W1: 노임 계산 정보 | AA1: 부속재 및 손료
A2: 번호 | B2: 공종코드 | C2: 코드 | D2: 명 칭 | E2: 규 격 | F2: 단위 | G2: 수량 | H2: 재료비 | J2: 노무비 | M2: 경비 | O2: 합 계 | Q2: 비고 | W2: 노임계 | X2: 전체(%) | Y2: 공종별(%) | Z2: 노임 소수 | AA2: CD배관재 | AB2: 일반배관재 | AC2: 소모재 | AD2: 자재계 | AE2: 노임계
H3: 단가 | I3: 금액 | J3: 수량 | K3: 단가 | L3: 금액 | M3: 단가 | N3: 금액 | O3: 단가 | P3: 금액 | AD3: =IF(옵션!$C$11 =0, "1", 옵션!$C$11) -> 1 | AE3: =IF(옵션!$C$12 =0, "1", 옵션!$C$12) -> 1
B4: 공종줄 | D4: 1.전기공사::1-1.전력간선설비공사
A5: 59750337010 | B5: 0101 | C5: 3913170610034841 | D5: 경질비닐전선관 | E5: HI 104 mm | F5: m | G5: 26 | H5: =합산자재!H4 -> 3702 | I5: =TRUNC(G5*H5) -> 96252 | J5: 24 | K5: =합산자재!I4 -> 0 | L5: =TRUNC(G5*K5) -> 0 | M5: =합산자재!J4 -> 0 | N5: =TRUNC(G5*M5) -> 0 | O5: =IF((H5+K5+M5)=0, "", (H5+K5+M5)) -> 3702 | P5: =SUM(I5,L5,N5) -> 96252 | AB5: =J5*H5 -> 88848 | AC5: =J5*H5 -> 88848
A6: E1450927243 | B6: 0101 | C6: 40000ZZ450927243 | D6: 접지용비닐절연전선(F-GV) | E6: 95㎟(옥내) | F6: m | G6: 96 | H6: =합산자재!H33 -> 7616 | I6: =TRUNC(G6*H6) -> 731136 | J6: 88 | K6: =합산자재!I33 -> 0 | L6: =TRUNC(G6*K6) -> 0 | M6: =합산자재!J33 -> 0 | N6: =TRUNC(G6*M6) -> 0 | O6: =IF((H6+K6+M6)=0, "", (H6+K6+M6)) -> 7616 | P6: =SUM(I6,L6,N6) -> 731136 | AC6: =J6*H6 -> 670208
A7: E7450287564 | B7: 0101 | C7: 3612162920683944 | D7: 폴리에틸렌 난연케이블-옥내 | E7: 0.6/1kv F-CV 1C×240㎟-4열동시 | F7: m | G7: 369 | H7: =합산자재!H34 -> 18554 | I7: =TRUNC(G7*H7) -> 6846426 | J7: 352 | K7: =합산자재!I34 -> 0 | L7: =TRUNC(G7*K7) -> 0 | M7: =합산자재!J34 -> 0 | N7: =TRUNC(G7*M7) -> 0 | O7: =IF((H7+K7+M7)=0, "", (H7+K7+M7)) -> 18554 | P7: =SUM(I7,L7,N7) -> 6846426 | AC7: =J7*H7 -> 6531008
A8: MM300016104 | B8: 0101 | C8: 3912161620167078 | D8: 배선용차단기 | E8: 4P 400AF 400AT | F8: EA | G8: 1 | H8: =합산자재!H40 -> 440300 | I8: =TRUNC(G8*H8) -> 440300 | J8: 1 | K8: =합산자재!I40 -> 0 | L8: =TRUNC(G8*K8) -> 0 | M8: =합산자재!J40 -> 0 | N8: =TRUNC(G8*M8) -> 0 | O8: =IF((H8+K8+M8)=0, "", (H8+K8+M8)) -> 440300 | P8: =SUM(I8,L8,N8) -> 440300
A9: E9400177007 | B9: 0101 | C9: 3912143210033792 | D9: 러그단자 | E9: 동관단자 1 HOLE 95 ㎟ | F9: 개 | G9: 2 | H9: =합산자재!H42 -> 1403 | I9: =TRUNC(G9*H9) -> 2806 | J9: 2 | K9: =합산자재!I42 -> 0 | L9: =TRUNC(G9*K9) -> 0 | M9: =합산자재!J42 -> 0 | N9: =TRUNC(G9*M9) -> 0 | O9: =IF((H9+K9+M9)=0, "", (H9+K9+M9)) -> 1403 | P9: =SUM(I9,L9,N9) -> 2806
A10: E9400177030 | B10: 0101 | C10: 3912143210033803 | D10: 러그단자 | E10: 동관단자 2 HOLE 240 ㎟ | F10: 개 | G10: 8 | H10: =합산자재!H43 -> 4860 | I10: =TRUNC(G10*H10) -> 38880 | J10: 8 | K10: =합산자재!I43 -> 0 | L10: =TRUNC(G10*K10) -> 0 | M10: =합산자재!J43 -> 0 | N10: =TRUNC(G10*M10) -> 0 | O10: =IF((H10+K10+M10)=0, "", (H10+K10+M10)) -> 4860 | P10: =SUM(I10,L10,N10) -> 38880
A11: 56950900308 | B11: 0101 | C11: EAZ800030000 | D11: 파이프행가 | E11: 104 C | F11: 개소 | G11: 13 | H11: =일대목차!I6 -> 2178 | I11: =TRUNC(G11*H11) -> 28314 | J11: 13 | K11: =일대목차!L6 -> 5680 | L11: =TRUNC(G11*K11) -> 73840 | M11: =일대목차!N6 -> 0 | N11: =TRUNC(G11*M11) -> 0 | O11: =IF((H11+K11+M11)=0, "", (H11+K11+M11)) -> 7858 | P11: =SUM(I11,L11,N11) -> 102154 | Q11: 제 3호 | AE11: =L11 -> 73840
A12: 56959000002 | B12: 0101 | C12: EAZ800050000 | D12: 분전반 내부보수 | E12: LP-1A | F12: 면 | G12: 1 | H12: =일대목차!I8 -> 42800 | I12: =TRUNC(G12*H12) -> 42800 | J12: 1 | K12: =일대목차!L8 -> 137273 | L12: =TRUNC(G12*K12) -> 137273 | M12: =일대목차!N8 -> 0 | N12: =TRUNC(G12*M12) -> 0 | O12: =IF((H12+K12+M12)=0, "", (H12+K12+M12)) -> 180073 | P12: =SUM(I12,L12,N12) -> 180073 | Q12: 제 5호 | AE12: =L12 -> 137273
A13: 56959000003 | B13: 0101 | C13: EAZ800060000 | D13: 분전반 내부보수 | E13: LP-1B | F13: 면 | G13: 1 | H13: =일대목차!I9 -> 64200 | I13: =TRUNC(G13*H13) -> 64200 | J13: 1 | K13: =일대목차!L9 -> 179244 | L13: =TRUNC(G13*K13) -> 179244 | M13: =일대목차!N9 -> 0 | N13: =TRUNC(G13*M13) -> 0 | O13: =IF((H13+K13+M13)=0, "", (H13+K13+M13)) -> 243444 | P13: =SUM(I13,L13,N13) -> 243444 | Q13: 제 6호 | AE13: =L13 -> 179244
A14: 56959000004 | B14: 0101 | C14: EAZ800070000 | D14: 분전반 내부보수 | E14: LP-2A | F14: 면 | G14: 1 | H14: =일대목차!I10 -> 21400 | I14: =TRUNC(G14*H14) -> 21400 | J14: 1 | K14: =일대목차!L10 -> 41970 | L14: =TRUNC(G14*K14) -> 41970 | M14: =일대목차!N10 -> 0 | N14: =TRUNC(G14*M14) -> 0 | O14: =IF((H14+K14+M14)=0, "", (H14+K14+M14)) -> 63370 | P14: =SUM(I14,L14,N14) -> 63370 | Q14: 제 7호 | AE14: =L14 -> 41970
A15: A0500000000 | B15: 0101 | C15: RENT000000000002 | D15: [ 배관 부속재 ] | E15: 전선관의 15 % | F15: 식 | G15: 1 | H15: =TRUNC(AB15*옵션!$B$31/100) -> 13327 | I15: =TRUNC(G15*H15) -> 13327 | J15: 1 | L15: =TRUNC(G15*K15) -> 0 | N15: =TRUNC(G15*M15) -> 0 | O15: =IF((H15+K15+M15)=0, "", (H15+K15+M15)) -> 13327 | P15: =SUM(I15,L15,N15) -> 13327 | AB15: =TRUNC(SUM(AB4:AB14), 1) -> 88848
A16: A0100000000 | B16: 0101 | C16: RENT000000000003 | D16: [ 소모 잡자재 ] | E16: 전선, 전선관의 2 % | F16: 식 | G16: 1 | H16: =IF(TRUNC((AD16+AC16)/$AD$3)*$AD$3-AD16 <0, AC16, TRUNC((AD16+AC16)/$AD$3)*$AD$3-AD16) -> 145801 | I16: =H16 -> 145801 | J16: 1 | L16: =TRUNC(G16*K16) -> 0 | N16: =TRUNC(G16*M16) -> 0 | O16: =IF((H16+K16+M16)=0, "", (H16+K16+M16)) -> 145801 | P16: =SUM(I16,L16,N16) -> 145801 | AC16: =TRUNC(TRUNC(SUM(AC4:AC15))*옵션!$B$33/100) -> 145801 | AD16: =TRUNC(SUM(I4:I15))+TRUNC(SUM(N4:N15)) -> 8325841
A17: 56900017016 | B17: 0101 | C17: L001010101000075 | D17: 노 무 비 | E17: 내선전공 | F17: 인 | G17: =노임근거!G11 -> 9 | H17: =합산자재!H50 -> 0 | I17: =TRUNC(G17*H17) -> 0 | J17: =노임근거!G11 -> 9 | K17: =합산자재!I50 -> 225408 | L17: =TRUNC(G17*K17) -> 2028672 | M17: =합산자재!J50 -> 0 | N17: =TRUNC(G17*M17) -> 0 | O17: =IF((H17+K17+M17)=0, "", (H17+K17+M17)) -> 225408 | P17: =SUM(I17,L17,N17) -> 2028672 | AE17: =L17 -> 2028672
A18: 56900017076 | B18: 0101 | C18: L001010101000078 | D18: 노 무 비 | E18: 저압케이블전공 | F18: 인 | G18: =노임근거!G12 -> 30 | H18: =합산자재!H51 -> 0 | I18: =TRUNC(G18*H18) -> 0 | J18: =노임근거!G12 -> 30 | K18: =합산자재!I51 -> 235560 | L18: =TRUNC(G18*K18) -> 7066800 | M18: =합산자재!J51 -> 0 | N18: =TRUNC(G18*M18) -> 0 | O18: =IF((H18+K18+M18)=0, "", (H18+K18+M18)) -> 235560 | P18: =SUM(I18,L18,N18) -> 7066800 | AE18: =L18 -> 7066800
A19: A0300000000 | B19: 0101 | C19: RENT000000000006 | D19: [ 공 구 손 료 ] | E19: 노무비의 3 % | F19: 식 | G19: 1 | I19: =TRUNC(G19*H19) -> 0 | J19: 1 | K19: =IF(TRUNC((AD20+AC20)/$AE$3)*$AE$3-AD20 <0, AC20, TRUNC((AD20+AC20)/$AE$3)*$AE$3-AD20) -> 285833 | L19: =K19 -> 285833 | N19: =TRUNC(G19*M19) -> 0 | O19: =IF((H19+K19+M19)=0, "", (H19+K19+M19)) -> 285833 | P19: =SUM(I19,L19,N19) -> 285833
AC20: =TRUNC(AE20*옵션!$B$36/100) -> 285833 | AD20: =TRUNC(SUM(L4:L18)) -> 9527799 | AE20: =TRUNC(SUM(AE4:AE19)) -> 9527799
B29: 합계줄 | D29: ( 합 계 ) | I29: =TRUNC(SUM(I4:I28)) -> 8471642 | L29: =TRUNC(SUM(L4:L28)) -> 9813632 | N29: =TRUNC(SUM(N4:N28)) -> 0 | O29: =IF((H29+K29+M29)=0, "", (H29+K29+M29)) | P29: =TRUNC(SUM(P4:P28)) -> 18285274
B30: 공종줄 | D30: 1.전기공사::1-2.전등설비공사
A31: 59753097002 | B31: 0102 | C31: 3913170610035664 | D31: 합성수지제 가요전선관 | E31: CD-난연성 16㎜ | F31: m | G31: 173 | H31: =합산자재!H5 -> 142 | I31: =TRUNC(G31*H31) -> 24566 | J31: 157.7 | K31: =합산자재!I5 -> 0 | L31: =TRUNC(G31*K31) -> 0 | M31: =합산자재!J5 -> 0 | N31: =TRUNC(G31*M31) -> 0 | O31: =IF((H31+K31+M31)=0, "", (H31+K31+M31)) -> 142 | P31: =SUM(I31,L31,N31) -> 24566 | AA31: =J31*H31 -> 22393.4 | AC31: =J31*H31 -> 22393.4
A32: 59753097003 | B32: 0102 | C32: 3913170610035665 | D32: 합성수지제 가요전선관 | E32: CD-난연성 22㎜ | F32: m | G32: 25 | H32: =합산자재!H6 -> 218 | I32: =TRUNC(G32*H32) -> 5450 | J32: 23.1 | K32: =합산자재!I6 -> 0 | L32: =TRUNC(G32*K32) -> 0 | M32: =합산자재!J6 -> 0 | N32: =TRUNC(G32*M32) -> 0 | O32: =IF((H32+K32+M32)=0, "", (H32+K32+M32)) -> 218 | P32: =SUM(I32,L32,N32) -> 5450 | AA32: =J32*H32 -> 5035.8 | AC32: =J32*H32 -> 5035.8
A33: 59753017003 | B33: 0102 | C33: 3913170620174410 | D33: 1종금속제가요전선관 | E33: 16 mm 일반-비방수 | F33: m | G33: 44 | H33: =합산자재!H7 -> 360 | I33: =TRUNC(G33*H33) -> 15840 | J33: 40 | K33: =합산자재!I7 -> 0 | L33: =TRUNC(G33*K33) -> 0 | M33: =합산자재!J7 -> 0 | N33: =TRUNC(G33*M33) -> 0 | O33: =IF((H33+K33+M33)=0, "", (H33+K33+M33)) -> 360 | P33: =SUM(I33,L33,N33) -> 15840 | AB33: =J33*H33 -> 14400 | AC33: =J33*H33 -> 14400
A34: 59753017043 | B34: 0102 | C34: 3913170620174434 | D34: 1종금속제가요전선관 | E34: 커넥터, 16 mm 일반-비방수 | F34: 개 | G34: 20 | H34: =합산자재!H8 -> 229 | I34: =TRUNC(G34*H34) -> 4580 | J34: 20 | K34: =합산자재!I8 -> 0 | L34: =TRUNC(G34*K34) -> 0 | M34: =합산자재!J8 -> 0 | N34: =TRUNC(G34*M34) -> 0 | O34: =IF((H34+K34+M34)=0, "", (H34+K34+M34)) -> 229 | P34: =SUM(I34,L34,N34) -> 4580
A35: 59753767041 | B35: 0102 | C35: 3912130810035753 | D35: 아우트렛박스 | E35: 중형4각 54㎜ | F35: 개 | G35: 17 | H35: =합산자재!H10 -> 730 | I35: =TRUNC(G35*H35) -> 12410 | J35: 17 | K35: =합산자재!I10 -> 0 | L35: =TRUNC(G35*K35) -> 0 | M35: =합산자재!J10 -> 0 | N35: =TRUNC(G35*M35) -> 0 | O35: =IF((H35+K35+M35)=0, "", (H35+K35+M35)) -> 730 | P35: =SUM(I35,L35,N35) -> 12410
A36: 59753777102 | B36: 0102 | C36: 3912130610035778 | D36: 스위치박스 | E36: 1 개용 54 mm | F36: 개 | G36: 5 | H36: =합산자재!H11 -> 483 | I36: =TRUNC(G36*H36) -> 2415 | J36: 5 | K36: =합산자재!I11 -> 0 | L36: =TRUNC(G36*K36) -> 0 | M36: =합산자재!J11 -> 0 | N36: =TRUNC(G36*M36) -> 0 | O36: =IF((H36+K36+M36)=0, "", (H36+K36+M36)) -> 483 | P36: =SUM(I36,L36,N36) -> 2415
A37: 59753777111 | B37: 0102 | C37: 3912130610035781 | D37: 스위치박스 | E37: 2 개용 54 mm | F37: 개 | G37: 1 | H37: =합산자재!H12 -> 605 | I37: =TRUNC(G37*H37) -> 605 | J37: 1 | K37: =합산자재!I12 -> 0 | L37: =TRUNC(G37*K37) -> 0 | M37: =합산자재!J12 -> 0 | N37: =TRUNC(G37*M37) -> 0 | O37: =IF((H37+K37+M37)=0, "", (H37+K37+M37)) -> 605 | P37: =SUM(I37,L37,N37) -> 605
A38: 59753767231 | B38: 0102 | C38: 3912130820174713 | D38: 아우트렛박스 커버 | E38: 커버, 4각, 평형 | F38: 개 | G38: 17 | H38: =합산자재!H14 -> 286 | I38: =TRUNC(G38*H38) -> 4862 | J38: 17 | K38: =합산자재!I14 -> 0 | L38: =TRUNC(G38*K38) -> 0 | M38: =합산자재!J14 -> 0 | N38: =TRUNC(G38*M38) -> 0 | O38: =IF((H38+K38+M38)=0, "", (H38+K38+M38)) -> 286 | P38: =SUM(I38,L38,N38) -> 4862
A39: 59750897011 | B39: 0102 | C39: 3913170910034920 | D39: 레이스웨이 | E39: BODY, 70 x 40 | F39: m | G39: 173 | H39: =합산자재!H16 -> 2880 | I39: =TRUNC(G39*H39) -> 498240 | J39: 165 | K39: =합산자재!I16 -> 0 | L39: =TRUNC(G39*K39) -> 0 | M39: =합산자재!J16 -> 0 | N39: =TRUNC(G39*M39) -> 0 | O39: =IF((H39+K39+M39)=0, "", (H39+K39+M39)) -> 2880 | P39: =SUM(I39,L39,N39) -> 498240
A40: 59750897041 | B40: 0102 | C40: 3913170910034923 | D40: 레이스웨이 | E40: COVER, 70 x 40 | F40: m | G40: 173 | H40: =합산자재!H17 -> 1144 | I40: =TRUNC(G40*H40) -> 197912 | J40: 165 | K40: =합산자재!I17 -> 0 | L40: =TRUNC(G40*K40) -> 0 | M40: =합산자재!J17 -> 0 | N40: =TRUNC(G40*M40) -> 0 | O40: =IF((H40+K40+M40)=0, "", (H40+K40+M40)) -> 1144 | P40: =SUM(I40,L40,N40) -> 197912
A41: MM404608489 | B41: 0102 | C41: 3913170910035124 | D41: 레이스웨이 | E41: COVER CLAMP, 70 x 40 | F41: 개 | G41: 115 | H41: =합산자재!H18 -> 410 | I41: =TRUNC(G41*H41) -> 47150 | J41: 110 | K41: =합산자재!I18 -> 0 | L41: =TRUNC(G41*K41) -> 0 | M41: =합산자재!J18 -> 0 | N41: =TRUNC(G41*M41) -> 0 | O41: =IF((H41+K41+M41)=0, "", (H41+K41+M41)) -> 410 | P41: =SUM(I41,L41,N41) -> 47150
A42: 59750897071 | B42: 0102 | C42: 3913170910034926 | D42: 레이스웨이 | E42: JOINER, 70 x 40 | F42: 개 | G42: 55 | H42: =합산자재!H19 -> 882 | I42: =TRUNC(G42*H42) -> 48510 | J42: 55 | K42: =합산자재!I19 -> 0 | L42: =TRUNC(G42*K42) -> 0 | M42: =합산자재!J19 -> 0 | N42: =TRUNC(G42*M42) -> 0 | O42: =IF((H42+K42+M42)=0, "", (H42+K42+M42)) -> 882 | P42: =SUM(I42,L42,N42) -> 48510
A43: 59750897101 | B43: 0102 | C43: 3913170910034929 | D43: 레이스웨이 | E43: END CAP, 70 x 40 | F43: 개 | G43: 9 | H43: =합산자재!H20 -> 485 | I43: =TRUNC(G43*H43) -> 4365 | J43: 9 | K43: =합산자재!I20 -> 0 | L43: =TRUNC(G43*K43) -> 0 | M43: =합산자재!J20 -> 0 | N43: =TRUNC(G43*M43) -> 0 | O43: =IF((H43+K43+M43)=0, "", (H43+K43+M43)) -> 485 | P43: =SUM(I43,L43,N43) -> 4365
A44: 59750897131 | B44: 0102 | C44: 3913170910034932 | D44: 레이스웨이 | E44: ELBOW, 70 x 40 | F44: 개 | G44: 6 | H44: =합산자재!H21 -> 1910 | I44: =TRUNC(G44*H44) -> 11460 | J44: 6 | K44: =합산자재!I21 -> 0 | L44: =TRUNC(G44*K44) -> 0 | M44: =합산자재!J21 -> 0 | N44: =TRUNC(G44*M44) -> 0 | O44: =IF((H44+K44+M44)=0, "", (H44+K44+M44)) -> 1910 | P44: =SUM(I44,L44,N44) -> 11460
A45: 59750897291 | B45: 0102 | C45: 3913170910034945 | D45: 레이스웨이 | E45: JOINT BOX, 70 x 40 | F45: 개 | G45: 7 | H45: =합산자재!H23 -> 1358 | I45: =TRUNC(G45*H45) -> 9506 | J45: 7 | K45: =합산자재!I23 -> 0 | L45: =TRUNC(G45*K45) -> 0 | M45: =합산자재!J23 -> 0 | N45: =TRUNC(G45*M45) -> 0 | O45: =IF((H45+K45+M45)=0, "", (H45+K45+M45)) -> 1358 | P45: =SUM(I45,L45,N45) -> 9506
A46: 59750897151 | B46: 0102 | C46: 3913170910034934 | D46: 레이스웨이 | E46: 기구용금구, 70 x 40 | F46: 개 | G46: 102 | H46: =합산자재!H24 -> 407 | I46: =TRUNC(G46*H46) -> 41514 | J46: 102 | K46: =합산자재!I24 -> 0 | L46: =TRUNC(G46*K46) -> 0 | M46: =합산자재!J24 -> 0 | N46: =TRUNC(G46*M46) -> 0 | O46: =IF((H46+K46+M46)=0, "", (H46+K46+M46)) -> 407 | P46: =SUM(I46,L46,N46) -> 41514
A47: 59750897341 | B47: 0102 | C47: 3913170910034948 | D47: 레이스웨이 | E47: JUNC.BOX - 3 방, 70x 40 | F47: 개 | G47: 1 | H47: =합산자재!H25 -> 2880 | I47: =TRUNC(G47*H47) -> 2880 | J47: 1 | K47: =합산자재!I25 -> 0 | L47: =TRUNC(G47*K47) -> 0 | M47: =합산자재!J25 -> 0 | N47: =TRUNC(G47*M47) -> 0 | O47: =IF((H47+K47+M47)=0, "", (H47+K47+M47)) -> 2880 | P47: =SUM(I47,L47,N47) -> 2880
A48: MM481669624 | B48: 0102 | C48: 2612162922076727 | D48: 450/750V 내열비닐절연전선 | E48: HFIX 1.78mm(2.5㎟) | F48: m | G48: 1338 | H48: =합산자재!H31 -> 272 | I48: =TRUNC(G48*H48) -> 363936 | J48: 1216.6 | K48: =합산자재!I31 -> 0 | L48: =TRUNC(G48*K48) -> 0 | M48: =합산자재!J31 -> 0 | N48: =TRUNC(G48*M48) -> 0 | O48: =IF((H48+K48+M48)=0, "", (H48+K48+M48)) -> 272 | P48: =SUM(I48,L48,N48) -> 363936 | AC48: =J48*H48 -> 330915.2
...

Sheet 노임근거
B1: 81 | D1: [ 해상특송교환국 설치공사 ] - 노임 산출근거(2019년 상반기 노임) | AA1: 내선전공 | AB1: 저압케이블전공
A2: 번호 | B2: 공종코드 | C2: 코드 | D2: 명 칭 | E2: 규 격 | F2: 단위 | G2: 수량 | K2: 코드 | L2: 공량산출 | P2: 단 위 단 가 산 출 | S2: 품셈근거 | T2: 비고
G3: 결정수량 | H3: 할증 | I3: 산출수량 | J3: 재할% | L3: 명칭 | M3: 품셈 | N3: 할증% | O3: 공량 | P3: 단가 | Q3: 단위단가 | R3: 단위계
B4: 공종줄 | D4: 1.전기공사::1-1.전력간선설비공사
B5: 0101 | C5: 3913170610034841 | D5: 강제전선관 | E5: 아연도 104 mm | F5: m | G5: =내역서!G5 -> 26 | H5: =IF(I5<>0, G5-I5, "") -> 2 | I5: =내역서!J5 -> 24 | J5: 10 | K5: 56900017016 | L5: 내선전공 | M5: 0.46 | N5: 100 | O5: =IF(I5*M5=0, "", I5*M5*(N5/100)) -> 11.04 | Q5: =TRUNC(P5*M5*N5/100) -> 0 | S5: 전기5-1 | AA5: =O5 -> 11.04
B6: 0101 | C6: 40000ZZ450927243 | D6: 접지용비닐절연전선(F-GV) | E6: 95㎟(옥내) | F6: m | G6: =내역서!G6 -> 96 | H6: =IF(I6<>0, G6-I6, "") -> 8 | I6: =내역서!J6 -> 88 | J6: 10 | K6: 56900017016 | L6: 내선전공 | M6: 0.011 | N6: 150 | O6: =IF(I6*M6=0, "", I6*M6*(N6/100)) -> 1.452 | Q6: =TRUNC(P6*M6*N6/100) -> 0 | S6: 전기3-38 | AA6: =O6 -> 1.452
B7: 0101 | C7: 3612162920683944 | D7: 폴리에틸렌 난연케이블-옥내 | E7: 0.6/1kv F-CV 1C×240㎟-4열동시 | F7: m | G7: =내역서!G7 -> 369 | H7: =IF(I7<>0, G7-I7, "") -> 17 | I7: =내역서!J7 -> 352 | J7: 5 | K7: 56900017076 | L7: 저압케이블전공 | M7: 0.136 | N7: 85 | O7: =IF(I7*M7=0, "", I7*M7*(N7/100)) -> 40.6912 | Q7: =TRUNC(P7*M7*N7/100) -> 0 | S7: 전기5-11 | AB7: =O7 -> 40.6912
B8: 0101 | C8: 3912161620167078 | D8: 배선용차단기 | E8: 4P 400AF 400AT | F8: EA | G8: =내역서!G8 -> 1 | H8: =IF(I8<>0, G8-I8, "") -> 0 | I8: =내역서!J8 -> 1 | K8: 56900017016 | L8: 내선전공 | M8: 0.884 | N8: 100 | O8: =IF(I8*M8=0, "", I8*M8*(N8/100)) -> 0.884 | Q8: =TRUNC(P8*M8*N8/100) -> 0 | S8: 전기5-19 | AA8: =O8 -> 0.884
B9: 0101 | C9: 3912143210033792 | D9: 러그단자 | E9: 동관단자 1 HOLE 95 ㎟ | F9: 개 | G9: =내역서!G9 -> 2 | H9: =IF(I9<>0, G9-I9, "") -> 0 | I9: =내역서!J9 -> 2 | K9: 56900017076 | L9: 저압케이블전공 | M9: 0.15 | N9: 120 | O9: =IF(I9*M9=0, "", I9*M9*(N9/100)) -> 0.36 | Q9: =TRUNC(P9*M9*N9/100) -> 0 | S9: 전기4-37 | AB9: =O9 -> 0.36
B10: 0101 | C10: 3912143210033803 | D10: 러그단자 | E10: 동관단자 2 HOLE 240 ㎟ | F10: 개 | G10: =내역서!G10 -> 8 | H10: =IF(I10<>0, G10-I10, "") -> 0 | I10: =내역서!J10 -> 8 | K10: 56900017076 | L10: 저압케이블전공 | M10: 0.231 | N10: 120 | O10: =IF(I10*M10=0, "", I10*M10*(N10/100)) -> 2.2176 | Q10: =TRUNC(P10*M10*N10/100) -> 0 | S10: 전기4-37 | AB10: =O10 -> 2.2176
B11: 0101 | C11: L001010101000075 | D11: 노 무 비 | E11: 내선전공 | F11: 인 | G11: =IF(H11*I11/100+0.5 <1, TRUNC(H11*I11/100, 3), TRUNC(H11*I11/100+0.5, J11)) -> 9 | H11: =(옵션!$B$12*옵션!$B$41)/100 -> 70 | I11: =SUM(AA5:AA10) -> 13.376 | J11: =옵션!$C$41 -> 0 | O11: =IF(I11*M11=0, "", I11*M11*(N11/100)) | Q11: =TRUNC(P11*M11*N11/100) -> 0 | Z11: 노임계 | AA11: =SUM(AA5:AA10) -> 13.376 | AB11: =SUM(AB5:AB10) -> 43.2688
B12: 0101 | C12: L001010101000078 | D12: 노 무 비 | E12: 저압케이블전공 | F12: 인 | G12: =IF(H12*I12/100+0.5 <1, TRUNC(H12*I12/100, 3), TRUNC(H12*I12/100+0.5, J12)) -> 30 | H12: =(옵션!$B$12*옵션!$B$41)/100 -> 70 | I12: =SUM(AB5:AB10) -> 43.2688 | J12: =옵션!$C$41 -> 0 | O12: =IF(I12*M12=0, "", I12*M12*(N12/100)) | Q12: =TRUNC(P12*M12*N12/100) -> 0
B30: 공종줄 | D30: 1.전기공사::1-2.전등설비공사
B31: 0102 | C31: 3913170610035664 | D31: 합성수지제 가요전선관 | E31: CD-난연성 16㎜ | F31: m | G31: =내역서!G31 -> 173 | H31: =IF(I31<>0, G31-I31, "") -> 15.3 | I31: =내역서!J31 -> 157.7 | J31: 10 | K31: 56900017016 | L31: 내선전공 | M31: 0.04 | N31: 100 | O31: =IF(I31*M31=0, "", I31*M31*(N31/100)) -> 6.308 | Q31: =TRUNC(P31*M31*N31/100) -> 0 | S31: 전기5-1 | AA31: =O31 -> 6.308
B32: 0102 | C32: 3913170610035665 | D32: 합성수지제 가요전선관 | E32: CD-난연성 22㎜ | F32: m | G32: =내역서!G32 -> 25 | H32: =IF(I32<>0, G32-I32, "") -> 1.9 | I32: =내역서!J32 -> 23.1 | J32: 10 | K32: 56900017016 | L32: 내선전공 | M32: 0.048 | N32: 100 | O32: =IF(I32*M32=0, "", I32*M32*(N32/100)) -> 1.1088 | Q32: =TRUNC(P32*M32*N32/100) -> 0 | S32: 전기5-1 | AA32: =O32 -> 1.1088
B33: 0102 | C33: 3913170620174410 | D33: 1종금속제가요전선관 | E33: 16 mm 일반-비방수 | F33: m | G33: =내역서!G33 -> 44 | H33: =IF(I33<>0, G33-I33, "") -> 4 | I33: =내역서!J33 -> 40 | J33: 10 | K33: 56900017016 | L33: 내선전공 | M33: 0.044 | N33: 100 | O33: =IF(I33*M33=0, "", I33*M33*(N33/100)) -> 1.76 | Q33: =TRUNC(P33*M33*N33/100) -> 0 | S33: 전기5-1 | AA33: =O33 -> 1.76
B34: 0102 | C34: 3912130810035753 | D34: 아우트렛박스 | E34: 중형4각 54㎜ | F34: 개 | G34: =내역서!G35 -> 17 | H34: =IF(I34<>0, G34-I34, "") -> 0 | I34: =내역서!J35 -> 17 | K34: 56900017016 | L34: 내선전공 | M34: 0.12 | N34: 100 | O34: =IF(I34*M34=0, "", I34*M34*(N34/100)) -> 2.04 | Q34: =TRUNC(P34*M34*N34/100) -> 0 | S34: 전기5-3 | AA34: =O34 -> 2.04
B35: 0102 | C35: 3912130610035778 | D35: 스위치박스 | E35: 1 개용 54 mm | F35: 개 | G35: =내역서!G36 -> 5 | H35: =IF(I35<>0, G35-I35, "") -> 0 | I35: =내역서!J36 -> 5 | K35: 56900017016 | L35: 내선전공 | M35: 0.2 | N35: 100 | O35: =IF(I35*M35=0, "", I35*M35*(N35/100)) -> 1 | Q35: =TRUNC(P35*M35*N35/100) -> 0 | S35: 전기5-3 | AA35: =O35 -> 1
B36: 0102 | C36: 3912130610035781 | D36: 스위치박스 | E36: 2 개용 54 mm | F36: 개 | G36: =내역서!G37 -> 1 | H36: =IF(I36<>0, G36-I36, "") -> 0 | I36: =내역서!J37 -> 1 | K36: 56900017016 | L36: 내선전공 | M36: 0.2 | N36: 100 | O36: =IF(I36*M36=0, "", I36*M36*(N36/100)) -> 0.2 | Q36: =TRUNC(P36*M36*N36/100) -> 0 | S36: 전기5-3 | AA36: =O36 -> 0.2
B37: 0102 | C37: 3913170910034920 | D37: 레이스웨이 | E37: BODY, 70 x 40 | F37: m | G37: =내역서!G39 -> 173 | H37: =IF(I37<>0, G37-I37, "") -> 8 | I37: =내역서!J39 -> 165 | J37: 5 | K37: 56900017016 | L37: 내선전공 | M37: 0.44 | N37: 100 | O37: =IF(I37*M37=0, "", I37*M37*(N37/100)) -> 72.6 | Q37: =TRUNC(P37*M37*N37/100) -> 0 | S37: 전기5-9 | AA37: =O37 -> 72.6
B38: 0102 | C38: 3913170910034945 | D38: 레이스웨이 | E38: JOINT BOX, 70 x 40 | F38: 개 | G38: =내역서!G45 -> 7 | H38: =IF(I38<>0, G38-I38, "") -> 0 | I38: =내역서!J45 -> 7 | K38: 56900017016 | L38: 내선전공 | M38: 0.04 | N38: 100 | O38: =IF(I38*M38=0, "", I38*M38*(N38/100)) -> 0.28 | Q38: =TRUNC(P38*M38*N38/100) -> 0 | S38: 전기5-3 | AA38: =O38 -> 0.28
B39: 0102 | C39: 3913170910034948 | D39: 레이스웨이 | E39: JUNC.BOX - 3 방, 70x 40 | F39: 개 | G39: =내역서!G47 -> 1 | H39: =IF(I39<>0, G39-I39, "") -> 0 | I39: =내역서!J47 -> 1 | K39: 56900017016 | L39: 내선전공 | M39: 0.04 | N39: 100 | O39: =IF(I39*M39=0, "", I39*M39*(N39/100)) -> 0.04 | Q39: =TRUNC(P39*M39*N39/100) -> 0 | S39: 전기5-3 | AA39: =O39 -> 0.04
B40: 0102 | C40: 2612162922076727 | D40: 450/750V 내열비닐절연전선 | E40: HFIX 1.78mm(2.5㎟) | F40: m | G40: =내역서!G48 -> 1338 | H40: =IF(I40<>0, G40-I40, "") -> 121.4 | I40: =내역서!J48 -> 1216.6 | J40: 10 | K40: 56900017016 | L40: 내선전공 | M40: 0.01 | N40: 100 | O40: =IF(I40*M40=0, "", I40*M40*(N40/100)) -> 12.166 | Q40: =TRUNC(P40*M40*N40/100) -> 0 | S40: 전기5-10 | AA40: =O40 -> 12.166
B41: 0102 | C41: 3912998720170517 | D41: 매입스위치 | E41: 250V 1로1구 | F41: 개 | G41: =내역서!G49 -> 2 | H41: =IF(I41<>0, G41-I41, "") -> 0 | I41: =내역서!J49 -> 2 | K41: 56900017016 | L41: 내선전공 | M41: 0.085 | N41: 100 | O41: =IF(I41*M41=0, "", I41*M41*(N41/100)) -> 0.17 | Q41: =TRUNC(P41*M41*N41/100) -> 0 | S41: 전기5-23-2 | AA41: =O41 -> 0.17
B42: 0102 | C42: 3912998720170518 | D42: 매입스위치 | E42: 250V 1로2구 | F42: 개 | G42: =내역서!G50 -> 2 | H42: =IF(I42<>0, G42-I42, "") -> 0 | I42: =내역서!J50 -> 2 | K42: 56900017016 | L42: 내선전공 | M42: 0.085 | N42: 100 | O42: =IF(I42*M42=0, "", I42*M42*(N42/100)) -> 0.17 | Q42: =TRUNC(P42*M42*N42/100) -> 0 | S42: 전기5-23-2 | AA42: =O42 -> 0.17
B43: 0102 | C43: 3912998720170519 | D43: 매입스위치 | E43: 250V 1로3구 | F43: 개 | G43: =내역서!G51 -> 1 | H43: =IF(I43<>0, G43-I43, "") -> 0 | I43: =내역서!J51 -> 1 | K43: 56900017016 | L43: 내선전공 | M43: 0.085 | N43: 100 | O43: =IF(I43*M43=0, "", I43*M43*(N43/100)) -> 0.085 | Q43: =TRUNC(P43*M43*N43/100) -> 0 | S43: 전기5-23-2 | AA43: =O43 -> 0.085
B44: 0102 | C44: 3912998720170520 | D44: 매입스위치 | E44: 250V 1로4구 | F44: 개 | G44: =내역서!G52 -> 1 | H44: =IF(I44<>0, G44-I44, "") -> 0 | I44: =내역서!J52 -> 1 | K44: 56900017016 | L44: 내선전공 | M44: 0.085 | N44: 100 | O44: =IF(I44*M44=0, "", I44*M44*(N44/100)) -> 0.085 | Q44: =TRUNC(P44*M44*N44/100) -> 0 | S44: 전기5-23-2 | AA44: =O44 -> 0.085
B45: 0102 | C45: 391115ZZ701Z0002 | D45: 조명기구 A | E45: 직부레이스웨이 LED 40W | F45: 개 | G45: =내역서!G56 -> 51 | H45: =IF(I45<>0, G45-I45, "") -> 0 | I45: =내역서!J56 -> 51 | K45: 56900017016 | L45: 내선전공 | M45: 0.221 | N45: 100 | O45: =IF(I45*M45=0, "", I45*M45*(N45/100)) -> 11.271 | Q45: =TRUNC(P45*M45*N45/100) -> 0 | S45: 전기5-25-3 | T45: @관급자재 | AA45: =O45 -> 11.271
B46: 0102 | C46: 391115ZZ701Z0003 | D46: 조명기구 B | E46: 매입평판등 LED 40W | F46: 개 | G46: =내역서!G57 -> 10 | H46: =IF(I46<>0, G46-I46, "") -> 0 | I46: =내역서!J57 -> 10 | K46: 56900017016 | L46: 내선전공 | M46: 0.263 | N46: 100 | O46: =IF(I46*M46=0, "", I46*M46*(N46/100)) -> 2.63 | Q46: =TRUNC(P46*M46*N46/100) -> 0 | S46: 전기5-25-3 | T46: @관급자재 | AA46: =O46 -> 2.63
B47: 0102 | C47: L001010101000075 | D47: 노 무 비 | E47: 내선전공 | F47: 인 | G47: =IF(H47*I47/100+0.5 <1, TRUNC(H47*I47/100, 3), TRUNC(H47*I47/100+0.5, J47)) -> 78 | H47: =(옵션!$B$12*옵션!$B$42)/100 -> 70 | I47: =SUM(AA31:AA46) -> 111.9138 | J47: =옵션!$C$42 -> 0 | O47: =IF(I47*M47=0, "", I47*M47*(N47/100)) | Q47: =TRUNC(P47*M47*N47/100) -> 0 | Z47: 노임계 | AA47: =SUM(AA31:AA46) -> 111.9138
B56: 공종줄 | D56: 1.전기공사::1-3.전열설비공사
B57: 0103 | C57: 3913170610035664 | D57: 합성수지제 가요전선관 | E57: CD-난연성 16㎜ | F57: m | G57: =내역서!G83 -> 853 | H57: =IF(I57<>0, G57-I57, "") -> 76.9 | I57: =내역서!J83 -> 776.1 | J57: 10 | K57: 56900017016 | L57: 내선전공 | M57: 0.04 | N57: 100 | O57: =IF(I57*M57=0, "", I57*M57*(N57/100)) -> 31.044 | Q57: =TRUNC(P57*M57*N57/100) -> 0 | S57: 전기5-1 | AA57: =O57 -> 31.044
B58: 0103 | C58: 3912130810035748 | D58: 아우트렛박스-상부연결용 | E58: 8각 54㎜ | F58: 개 | G58: =내역서!G84 -> 29 | H58: =IF(I58<>0, G58-I58, "") -> 0 | I58: =내역서!J84 -> 29 | K58: 56900017016 | L58: 내선전공 | M58: 0.04 | N58: 100 | O58: =IF(I58*M58=0, "", I58*M58*(N58/100)) -> 1.16 | Q58: =TRUNC(P58*M58*N58/100) -> 0 | S58: 전기5-3 | AA58: =O58 -> 1.16
B59: 0103 | C59: 3912130610035778 | D59: 스위치박스 | E59: 1 개용 54 mm | F59: 개 | G59: =내역서!G85 -> 31 | H59: =IF(I59<>0, G59-I59, "") -> 0 | I59: =내역서!J85 -> 31 | K59: 56900017016 | L59: 내선전공 | M59: 0.2 | N59: 100 | O59: =IF(I59*M59=0, "", I59*M59*(N59/100)) -> 6.2 | Q59: =TRUNC(P59*M59*N59/100) -> 0 | S59: 전기5-3 | AA59: =O59 -> 6.2
B60: 0103 | C60: 2612162922076728 | D60: 450/750V 내열비닐절연전선 | E60: HFIX 2.25mm(4㎟) | F60: m | G60: =내역서!G88 -> 2561 | H60: =IF(I60<>0, G60-I60, "") -> 232.7 | I60: =내역서!J88 -> 2328.3 | J60: 10 | K60: 56900017016 | L60: 내선전공 | M60: 0.01 | N60: 100 | O60: =IF(I60*M60=0, "", I60*M60*(N60/100)) -> 23.283 | Q60: =TRUNC(P60*M60*N60/100) -> 0 | S60: 전기5-10 | AA60: =O60 -> 23.283
B61: 0103 | C61: 3912140620170850 | D61: 콘센트 | E61: 매입-접지형, 250V 2구 | F61: 개 | G61: =내역서!G89 -> 29 | H61: =IF(I61<>0, G61-I61, "") -> 0 | I61: =내역서!J89 -> 29 | K61: 56900017016 | L61: 내선전공 | M61: 0.08 | N61: 100 | O61: =IF(I61*M61=0, "", I61*M61*(N61/100)) -> 2.32 | Q61: =TRUNC(P61*M61*N61/100) -> 0 | S61: 전기5-23-1 | AA61: =O61 -> 2.32
B62: 0103 | C62: L001010101000075 | D62: 노 무 비 | E62: 내선전공 | F62: 인 | G62: =IF(H62*I62/100+0.5 <1, TRUNC(H62*I62/100, 3), TRUNC(H62*I62/100+0.5, J62)) -> 45 | H62: =(옵션!$B$12*옵션!$B$43)/100 -> 70 | I62: =SUM(AA57:AA61) -> 64.007 | J62: =옵션!$C$43 -> 0 | O62: =IF(I62*M62=0, "", I62*M62*(N62/100)) | Q62: =TRUNC(P62*M62*N62/100) -> 0 | Z62: 노임계 | AA62: =SUM(AA57:AA61) -> 64.007

Sheet 일대목차
B1: 29 | C1: [ 해상특송교환국 설치공사 ] - 일위대가목차
A2: 번호 | B2: … | C2: 코드 | D2: 명 칭 | E2: 규 격 | F2: 단위 | G2: 수량 | H2: 재료비 | J2: 노무비 | M2: 경비 | O2: 합 계 | Q2: 비고
H3: 단가 | I3: 금액 | J3: 수량 | K3: 단가 | L3: 금액 | M3: 단가 | N3: 금액 | O3: 단가 | P3: 금액
A4: 56950900300 | B4: EAZ800010000 | C4: 제 1호 | D4: 파이프행가 | E4: 16 C | F4: 개소 | H4: =일위대가!I11 -> 1298 | I4: =H4 -> 1298 | K4: =일위대가!L11 -> 5680 | L4: =K4 -> 5680 | M4: =일위대가!N11 -> 0 | N4: =M4 -> 0 | O4: =IF((H4+K4+M4)=0, "", (H4+K4+M4)) -> 6978 | P4: =SUM(I4,L4,N4) -> 6978
A5: 56950900301 | B5: EAZ800020000 | C5: 제 2호 | D5: 파이프행가 | E5: 22 C | F5: 개소 | H5: =일위대가!I20 -> 1313 | I5: =H5 -> 1313 | K5: =일위대가!L20 -> 5680 | L5: =K5 -> 5680 | M5: =일위대가!N20 -> 0 | N5: =M5 -> 0 | O5: =IF((H5+K5+M5)=0, "", (H5+K5+M5)) -> 6993 | P5: =SUM(I5,L5,N5) -> 6993
A6: 56950900308 | B6: EAZ800030000 | C6: 제 3호 | D6: 파이프행가 | E6: 104 C | F6: 개소 | H6: =일위대가!I29 -> 2178 | I6: =H6 -> 2178 | K6: =일위대가!L29 -> 5680 | L6: =K6 -> 5680 | M6: =일위대가!N29 -> 0 | N6: =M6 -> 0 | O6: =IF((H6+K6+M6)=0, "", (H6+K6+M6)) -> 7858 | P6: =SUM(I6,L6,N6) -> 7858
A7: 56959000001 | B7: EAZ800040000 | C7: 제 4호 | D7: 레이스웨이 행가 | E7: 70 x 40 | F7: 개소 | H7: =일위대가!I38 -> 1518 | I7: =H7 -> 1518 | K7: =일위대가!L38 -> 5680 | L7: =K7 -> 5680 | M7: =일위대가!N38 -> 0 | N7: =M7 -> 0 | O7: =IF((H7+K7+M7)=0, "", (H7+K7+M7)) -> 7198 | P7: =SUM(I7,L7,N7) -> 7198
A8: 56959000002 | B8: EAZ800050000 | C8: 제 5호 | D8: 분전반 내부보수 | E8: LP-1A | F8: 면 | H8: =일위대가!I44 -> 42800 | I8: =H8 -> 42800 | K8: =일위대가!L44 -> 137273 | L8: =K8 -> 137273 | M8: =일위대가!N44 -> 0 | N8: =M8 -> 0 | O8: =IF((H8+K8+M8)=0, "", (H8+K8+M8)) -> 180073 | P8: =SUM(I8,L8,N8) -> 180073
A9: 56959000003 | B9: EAZ800060000 | C9: 제 6호 | D9: 분전반 내부보수 | E9: LP-1B | F9: 면 | H9: =일위대가!I50 -> 64200 | I9: =H9 -> 64200 | K9: =일위대가!L50 -> 179244 | L9: =K9 -> 179244 | M9: =일위대가!N50 -> 0 | N9: =M9 -> 0 | O9: =IF((H9+K9+M9)=0, "", (H9+K9+M9)) -> 243444 | P9: =SUM(I9,L9,N9) -> 243444
A10: 56959000004 | B10: EAZ800070000 | C10: 제 7호 | D10: 분전반 내부보수 | E10: LP-2A | F10: 면 | H10: =일위대가!I55 -> 21400 | I10: =H10 -> 21400 | K10: =일위대가!L55 -> 41970 | L10: =K10 -> 41970 | M10: =일위대가!N55 -> 0 | N10: =M10 -> 0 | O10: =IF((H10+K10+M10)=0, "", (H10+K10+M10)) -> 63370 | P10: =SUM(I10,L10,N10) -> 63370

Sheet 일위대가
B1: 81 | D1: [ 해상특송교환국 설치공사 ] - 일위대가표 | W1: 노임 계산 정보 | AA1: 부속재 및 손료
A2: 번호 | B2: 목차코드 | C2: 코드 | D2: 명 칭 | E2: 규 격 | F2: 단위 | G2: 수량 | H2: 재료비 | J2: 노무비 | M2: 경비 | O2: 합 계 | Q2: 비고 | W2: 노임계 | X2: 전체(%) | Y2: 공종별(%) | Z2: 노임 소수 | AA2: CD배관재 | AB2: 일반배관재 | AC2: 소모재 | AD2: 자재계 | AE2: 노임계
H3: 단가 | I3: 금액 | J3: 수량 | K3: 단가 | L3: 금액 | M3: 단가 | N3: 금액 | O3: 단가 | P3: 금액 | AD3: 1 | AE3: 1
A4: 56950900300 | B4: 일목줄 | C4: EAZ800010000 | D4: [제 1호] 파이프행가 16 C [개소]
A5: 59759017111 | B5: 제 1호 | C5: 3913170810036357 | D5: 강재전선관용 부품 | E5: 파이프행거, 16 C | F5: 개 | G5: 1 | H5: =합산자재!H26 -> 294 | I5: =IF(G5*H5<>0, TRUNC(G5*H5, 1), "") -> 294 | J5: 1 | K5: =합산자재!I26 -> 0 | L5: =IF(G5*K5<>0, TRUNC(G5*K5, 1), "") | M5: =합산자재!J26 -> 0 | N5: =IF(G5*M5<>0, TRUNC(G5*M5, 1), "") | O5: =IF((H5+K5+M5)=0, "", (H5+K5+M5)) -> 294 | P5: =IF(SUM(I5,L5,N5)<>0,SUM(I5,L5,N5),"") -> 294
A6: 53060327011 | B6: 제 1호 | C6: 3116169820135160 | D6: 행거볼트 | E6: ∮9×1000㎜ | F6: 개 | G6: 1 | H6: =합산자재!H30 -> 798 | I6: =IF(G6*H6<>0, TRUNC(G6*H6, 1), "") -> 798 | J6: 1 | K6: =합산자재!I30 -> 0 | L6: =IF(G6*K6<>0, TRUNC(G6*K6, 1), "") | M6: =합산자재!J30 -> 0 | N6: =IF(G6*M6<>0, TRUNC(G6*M6, 1), "") | O6: =IF((H6+K6+M6)=0, "", (H6+K6+M6)) -> 798 | P6: =IF(SUM(I6,L6,N6)<>0,SUM(I6,L6,N6),"") -> 798
A7: 53060807001 | B7: 제 1호 | C7: 3116210220135769 | D7: 스트롱앵커 | E7: 3/8 | F7: 개 | G7: 1 | H7: =합산자재!H29 -> 150 | I7: =IF(G7*H7<>0, TRUNC(G7*H7, 1), "") -> 150 | J7: 1 | K7: =합산자재!I29 -> 0 | L7: =IF(G7*K7<>0, TRUNC(G7*K7, 1), "") | M7: =합산자재!J29 -> 0 | N7: =IF(G7*M7<>0, TRUNC(G7*M7, 1), "") | O7: =IF((H7+K7+M7)=0, "", (H7+K7+M7)) -> 150 | P7: =IF(SUM(I7,L7,N7)<>0,SUM(I7,L7,N7),"") -> 150
A8: 53100028501 | B8: 제 1호 | C8: 3116172710023970 | D8: 6각너트 | E8: 3/8,M10 | F8: EA | G8: 2 | H8: =합산자재!H44 -> 21 | I8: =IF(G8*H8<>0, TRUNC(G8*H8, 1), "") -> 42 | J8: 2 | K8: =합산자재!I44 -> 0 | L8: =IF(G8*K8<>0, TRUNC(G8*K8, 1), "") | M8: =합산자재!J44 -> 0 | N8: =IF(G8*M8<>0, TRUNC(G8*M8, 1), "") | O8: =IF((H8+K8+M8)=0, "", (H8+K8+M8)) -> 21 | P8: =IF(SUM(I8,L8,N8)<>0,SUM(I8,L8,N8),"") -> 42
A9: 52100327001 | B9: 제 1호 | C9: 3116181120136195 | D9: 스프링와샤 | E9: D10 | F9: EA | G9: 2 | H9: =합산자재!H45 -> 7 | I9: =IF(G9*H9<>0, TRUNC(G9*H9, 1), "") -> 14 | J9: 2 | K9: =합산자재!I45 -> 0 | L9: =IF(G9*K9<>0, TRUNC(G9*K9, 1), "") | M9: =합산자재!J45 -> 0 | N9: =IF(G9*M9<>0, TRUNC(G9*M9, 1), "") | O9: =IF((H9+K9+M9)=0, "", (H9+K9+M9)) -> 7 | P9: =IF(SUM(I9,L9,N9)<>0,SUM(I9,L9,N9),"") -> 14
A10: 56900017016 | B10: 제 1호 | C10: L001010101000075 | D10: 노 무 비 | E10: 내선전공 | F10: 인 | G10: =일위노임!G6 -> 0.0252 | H10: =합산자재!H50 -> 0 | I10: =IF(G10*H10<>0, TRUNC(G10*H10, 1), "") | J10: 0.036 | K10: =합산자재!I50 -> 225408 | L10: =IF(G10*K10<>0, TRUNC(G10*K10, 1), "") -> 5680.2 | M10: =합산자재!J50 -> 0 | N10: =IF(G10*M10<>0, TRUNC(G10*M10, 1), "") | O10: =IF((H10+K10+M10)=0, "", (H10+K10+M10)) -> 225408 | P10: =IF(SUM(I10,L10,N10)<>0,SUM(I10,L10,N10),"") -> 5680.2 | AE10: =L10 -> 5680.2
B11: 합계줄 | D11: ( 합 계 ) | I11: =TRUNC(SUM(I4:I10)) -> 1298 | L11: =TRUNC(SUM(L4:L10)) -> 5680 | N11: =TRUNC(SUM(N4:N10)) -> 0 | O11: =IF((H11+K11+M11)=0, "", (H11+K11+M11)) | P11: =IF(SUM(I11,L11,N11)<>0,SUM(I11,L11,N11),"") -> 6978 | AE11: =TRUNC(SUM(AE4:AE10)) -> 5680
A13: 56950900301 | B13: 일목줄 | C13: EAZ800020000 | D13: [제 2호] 파이프행가 22 C [개소]
A14: 59759017112 | B14: 제 2호 | C14: 3913170810036358 | D14: 강재전선관용 부품 | E14: 파이프행거, 22 C | F14: 개 | G14: 1 | H14: =합산자재!H27 -> 309 | I14: =IF(G14*H14<>0, TRUNC(G14*H14, 1), "") -> 309 | J14: 1 | K14: =합산자재!I27 -> 0 | L14: =IF(G14*K14<>0, TRUNC(G14*K14, 1), "") | M14: =합산자재!J27 -> 0 | N14: =IF(G14*M14<>0, TRUNC(G14*M14, 1), "") | O14: =IF((H14+K14+M14)=0, "", (H14+K14+M14)) -> 309 | P14: =IF(SUM(I14,L14,N14)<>0,SUM(I14,L14,N14),"") -> 309
A15: 53060327011 | B15: 제 2호 | C15: 3116169820135160 | D15: 행거볼트 | E15: ∮9×1000㎜ | F15: 개 | G15: 1 | H15: =합산자재!H30 -> 798 | I15: =IF(G15*H15<>0, TRUNC(G15*H15, 1), "") -> 798 | J15: 1 | K15: =합산자재!I30 -> 0 | L15: =IF(G15*K15<>0, TRUNC(G15*K15, 1), "") | M15: =합산자재!J30 -> 0 | N15: =IF(G15*M15<>0, TRUNC(G15*M15, 1), "") | O15: =IF((H15+K15+M15)=0, "", (H15+K15+M15)) -> 798 | P15: =IF(SUM(I15,L15,N15)<>0,SUM(I15,L15,N15),"") -> 798
A16: 53060807001 | B16: 제 2호 | C16: 3116210220135769 | D16: 스트롱앵커 | E16: 3/8 | F16: 개 | G16: 1 | H16: =합산자재!H29 -> 150 | I16: =IF(G16*H16<>0, TRUNC(G16*H16, 1), "") -> 150 | J16: 1 | K16: =합산자재!I29 -> 0 | L16: =IF(G16*K16<>0, TRUNC(G16*K16, 1), "") | M16: =합산자재!J29 -> 0 | N16: =IF(G16*M16<>0, TRUNC(G16*M16, 1), "") | O16: =IF((H16+K16+M16)=0, "", (H16+K16+M16)) -> 150 | P16: =IF(SUM(I16,L16,N16)<>0,SUM(I16,L16,N16),"") -> 150
A17: 53100028501 | B17: 제 2호 | C17: 3116172710023970 | D17: 6각너트 | E17: 3/8,M10 | F17: EA | G17: 2 | H17: =합산자재!H44 -> 21 | I17: =IF(G17*H17<>0, TRUNC(G17*H17, 1), "") -> 42 | J17: 2 | K17: =합산자재!I44 -> 0 | L17: =IF(G17*K17<>0, TRUNC(G17*K17, 1), "") | M17: =합산자재!J44 -> 0 | N17: =IF(G17*M17<>0, TRUNC(G17*M17, 1), "") | O17: =IF((H17+K17+M17)=0, "", (H17+K17+M17)) -> 21 | P17: =IF(SUM(I17,L17,N17)<>0,SUM(I17,L17,N17),"") -> 42
A18: 52100327001 | B18: 제 2호 | C18: 3116181120136195 | D18: 스프링와샤 | E18: D10 | F18: EA | G18: 2 | H18: =합산자재!H45 -> 7 | I18: =IF(G18*H18<>0, TRUNC(G18*H18, 1), "") -> 14 | J18: 2 | K18: =합산자재!I45 -> 0 | L18: =IF(G18*K18<>0, TRUNC(G18*K18, 1), "") | M18: =합산자재!J45 -> 0 | N18: =IF(G18*M18<>0, TRUNC(G18*M18, 1), "") | O18: =IF((H18+K18+M18)=0, "", (H18+K18+M18)) -> 7 | P18: =IF(SUM(I18,L18,N18)<>0,SUM(I18,L18,N18),"") -> 14
A19: 56900017016 | B19: 제 2호 | C19: L001010101000075 | D19: 노 무 비 | E19: 내선전공 | F19: 인 | G19: =일위노임!G9 -> 0.0252 | H19: =합산자재!H50 -> 0 | I19: =IF(G19*H19<>0, TRUNC(G19*H19, 1), "") | J19: 0.036 | K19: =합산자재!I50 -> 225408 | L19: =IF(G19*K19<>0, TRUNC(G19*K19, 1), "") -> 5680.2 | M19: =합산자재!J50 -> 0 | N19: =IF(G19*M19<>0, TRUNC(G19*M19, 1), "") | O19: =IF((H19+K19+M19)=0, "", (H19+K19+M19)) -> 225408 | P19: =IF(SUM(I19,L19,N19)<>0,SUM(I19,L19,N19),"") -> 5680.2 | AE19: =L19 -> 5680.2
B20: 합계줄 | D20: ( 합 계 ) | I20: =TRUNC(SUM(I13:I19)) -> 1313 | L20: =TRUNC(SUM(L13:L19)) -> 5680 | N20: =TRUNC(SUM(N13:N19)) -> 0 | O20: =IF((H20+K20+M20)=0, "", (H20+K20+M20)) | P20: =IF(SUM(I20,L20,N20)<>0,SUM(I20,L20,N20),"") -> 6993 | AE20: =TRUNC(SUM(AE13:AE19)) -> 5680
A22: 56950900308 | B22: 일목줄 | C22: EAZ800030000 | D22: [제 3호] 파이프행가 104 C [개소]
A23: 59759017119 | B23: 제 3호 | C23: 3913170810036365 | D23: 강재전선관용 부품 | E23: 파이프행거, 104 C | F23: 개 | G23: 1 | H23: =합산자재!H28 -> 1174 | I23: =IF(G23*H23<>0, TRUNC(G23*H23, 1), "") -> 1174 | J23: 1 | K23: =합산자재!I28 -> 0 | L23: =IF(G23*K23<>0, TRUNC(G23*K23, 1), "") | M23: =합산자재!J28 -> 0 | N23: =IF(G23*M23<>0, TRUNC(G23*M23, 1), "") | O23: =IF((H23+K23+M23)=0, "", (H23+K23+M23)) -> 1174 | P23: =IF(SUM(I23,L23,N23)<>0,SUM(I23,L23,N23),"") -> 1174
A24: 53060327011 | B24: 제 3호 | C24: 3116169820135160 | D24: 행거볼트 | E24: ∮9×1000㎜ | F24: 개 | G24: 1 | H24: =합산자재!H30 -> 798 | I24: =IF(G24*H24<>0, TRUNC(G24*H24, 1), "") -> 798 | J24: 1 | K24: =합산자재!I30 -> 0 | L24: =IF(G24*K24<>0, TRUNC(G24*K24, 1), "") | M24: =합산자재!J30 -> 0 | N24: =IF(G24*M24<>0, TRUNC(G24*M24, 1), "") | O24: =IF((H24+K24+M24)=0, "", (H24+K24+M24)) -> 798 | P24: =IF(SUM(I24,L24,N24)<>0,SUM(I24,L24,N24),"") -> 798
A25: 53060807001 | B25: 제 3호 | C25: 3116210220135769 | D25: 스트롱앵커 | E25: 3/8 | F25: 개 | G25: 1 | H25: =합산자재!H29 -> 150 | I25: =IF(G25*H25<>0, TRUNC(G25*H25, 1), "") -> 150 | J25: 1 | K25: =합산자재!I29 -> 0 | L25: =IF(G25*K25<>0, TRUNC(G25*K25, 1), "") | M25: =합산자재!J29 -> 0 | N25: =IF(G25*M25<>0, TRUNC(G25*M25, 1), "") | O25: =IF((H25+K25+M25)=0, "", (H25+K25+M25)) -> 150 | P25: =IF(SUM(I25,L25,N25)<>0,SUM(I25,L25,N25),"") -> 150
A26: 53100028501 | B26: 제 3호 | C26: 3116172710023970 | D26: 6각너트 | E26: 3/8,M10 | F26: EA | G26: 2 | H26: =합산자재!H44 -> 21 | I26: =IF(G26*H26<>0, TRUNC(G26*H26, 1), "") -> 42 | J26: 2 | K26: =합산자재!I44 -> 0 | L26: =IF(G26*K26<>0, TRUNC(G26*K26, 1), "") | M26: =합산자재!J44 -> 0 | N26: =IF(G26*M26<>0, TRUNC(G26*M26, 1), "") | O26: =IF((H26+K26+M26)=0, "", (H26+K26+M26)) -> 21 | P26: =IF(SUM(I26,L26,N26)<>0,SUM(I26,L26,N26),"") -> 42
A27: 52100327001 | B27: 제 3호 | C27: 3116181120136195 | D27: 스프링와샤 | E27: D10 | F27: EA | G27: 2 | H27: =합산자재!H45 -> 7 | I27: =IF(G27*H27<>0, TRUNC(G27*H27, 1), "") -> 14 | J27: 2 | K27: =합산자재!I45 -> 0 | L27: =IF(G27*K27<>0, TRUNC(G27*K27, 1), "") | M27: =합산자재!J45 -> 0 | N27: =IF(G27*M27<>0, TRUNC(G27*M27, 1), "") | O27: =IF((H27+K27+M27)=0, "", (H27+K27+M27)) -> 7 | P27: =IF(SUM(I27,L27,N27)<>0,SUM(I27,L27,N27),"") -> 14
A28: 56900017016 | B28: 제 3호 | C28: L001010101000075 | D28: 노 무 비 | E28: 내선전공 | F28: 인 | G28: =일위노임!G12 -> 0.0252 | H28: =합산자재!H50 -> 0 | I28: =IF(G28*H28<>0, TRUNC(G28*H28, 1), "") | J28: 0.036 | K28: =합산자재!I50 -> 225408 | L28: =IF(G28*K28<>0, TRUNC(G28*K28, 1), "") -> 5680.2 | M28: =합산자재!J50 -> 0 | N28: =IF(G28*M28<>0, TRUNC(G28*M28, 1), "") | O28: =IF((H28+K28+M28)=0, "", (H28+K28+M28)) -> 225408 | P28: =IF(SUM(I28,L28,N28)<>0,SUM(I28,L28,N28),"") -> 5680.2 | AE28: =L28 -> 5680.2
B29: 합계줄 | D29: ( 합 계 ) | I29: =TRUNC(SUM(I22:I28)) -> 2178 | L29: =TRUNC(SUM(L22:L28)) -> 5680 | N29: =TRUNC(SUM(N22:N28)) -> 0 | O29: =IF((H29+K29+M29)=0, "", (H29+K29+M29)) | P29: =IF(SUM(I29,L29,N29)<>0,SUM(I29,L29,N29),"") -> 7858 | AE29: =TRUNC(SUM(AE22:AE28)) -> 5680
A31: 56959000001 | B31: 일목줄 | C31: EAZ800040000 | D31: [제 4호] 레이스웨이 행가 70 x 40 [개소]
A32: 59750897181 | B32: 제 4호 | C32: 3913170910034937 | D32: 레이스웨이 | E32: A형 HANGER, 70 x 40 | F32: 개 | G32: 1 | H32: =합산자재!H22 -> 514 | I32: =IF(G32*H32<>0, TRUNC(G32*H32, 1), "") -> 514 | J32: 1 | K32: =합산자재!I22 -> 0 | L32: =IF(G32*K32<>0, TRUNC(G32*K32, 1), "") | M32: =합산자재!J22 -> 0 | N32: =IF(G32*M32<>0, TRUNC(G32*M32, 1), "") | O32: =IF((H32+K32+M32)=0, "", (H32+K32+M32)) -> 514 | P32: =IF(SUM(I32,L32,N32)<>0,SUM(I32,L32,N32),"") -> 514
A33: 53060327011 | B33: 제 4호 | C33: 3116169820135160 | D33: 행거볼트 | E33: ∮9×1000㎜ | F33: 개 | G33: 1 | H33: =합산자재!H30 -> 798 | I33: =IF(G33*H33<>0, TRUNC(G33*H33, 1), "") -> 798 | J33: 1 | K33: =합산자재!I30 -> 0 | L33: =IF(G33*K33<>0, TRUNC(G33*K33, 1), "") | M33: =합산자재!J30 -> 0 | N33: =IF(G33*M33<>0, TRUNC(G33*M33, 1), "") | O33: =IF((H33+K33+M33)=0, "", (H33+K33+M33)) -> 798 | P33: =IF(SUM(I33,L33,N33)<>0,SUM(I33,L33,N33),"") -> 798
A34: 53060807001 | B34: 제 4호 | C34: 3116210220135769 | D34: 스트롱앵커 | E34: 3/8 | F34: 개 | G34: 1 | H34: =합산자재!H29 -> 150 | I34: =IF(G34*H34<>0, TRUNC(G34*H34, 1), "") -> 150 | J34: 1 | K34: =합산자재!I29 -> 0 | L34: =IF(G34*K34<>0, TRUNC(G34*K34, 1), "") | M34: =합산자재!J29 -> 0 | N34: =IF(G34*M34<>0, TRUNC(G34*M34, 1), "") | O34: =IF((H34+K34+M34)=0, "", (H34+K34+M34)) -> 150 | P34: =IF(SUM(I34,L34,N34)<>0,SUM(I34,L34,N34),"") -> 150
A35: 53100028501 | B35: 제 4호 | C35: 3116172710023970 | D35: 6각너트 | E35: 3/8,M10 | F35: EA | G35: 2 | H35: =합산자재!H44 -> 21 | I35: =IF(G35*H35<>0, TRUNC(G35*H35, 1), "") -> 42 | J35: 2 | K35: =합산자재!I44 -> 0 | L35: =IF(G35*K35<>0, TRUNC(G35*K35, 1), "") | M35: =합산자재!J44 -> 0 | N35: =IF(G35*M35<>0, TRUNC(G35*M35, 1), "") | O35: =IF((H35+K35+M35)=0, "", (H35+K35+M35)) -> 21 | P35: =IF(SUM(I35,L35,N35)<>0,SUM(I35,L35,N35),"") -> 42
A36: 52100327001 | B36: 제 4호 | C36: 3116181120136195 | D36: 스프링와샤 | E36: D10 | F36: EA | G36: 2 | H36: =합산자재!H45 -> 7 | I36: =IF(G36*H36<>0, TRUNC(G36*H36, 1), "") -> 14 | J36: 2 | K36: =합산자재!I45 -> 0 | L36: =IF(G36*K36<>0, TRUNC(G36*K36, 1), "") | M36: =합산자재!J45 -> 0 | N36: =IF(G36*M36<>0, TRUNC(G36*M36, 1), "") | O36: =IF((H36+K36+M36)=0, "", (H36+K36+M36)) -> 7 | P36: =IF(SUM(I36,L36,N36)<>0,SUM(I36,L36,N36),"") -> 14
A37: 56900017016 | B37: 제 4호 | C37: L001010101000075 | D37: 노 무 비 | E37: 내선전공 | F37: 인 | G37: =일위노임!G15 -> 0.0252 | H37: =합산자재!H50 -> 0 | I37: =IF(G37*H37<>0, TRUNC(G37*H37, 1), "") | J37: 0.036 | K37: =합산자재!I50 -> 225408 | L37: =IF(G37*K37<>0, TRUNC(G37*K37, 1), "") -> 5680.2 | M37: =합산자재!J50 -> 0 | N37: =IF(G37*M37<>0, TRUNC(G37*M37, 1), "") | O37: =IF((H37+K37+M37)=0, "", (H37+K37+M37)) -> 225408 | P37: =IF(SUM(I37,L37,N37)<>0,SUM(I37,L37,N37),"") -> 5680.2 | AE37: =L37 -> 5680.2
B38: 합계줄 | D38: ( 합 계 ) | I38: =TRUNC(SUM(I31:I37)) -> 1518 | L38: =TRUNC(SUM(L31:L37)) -> 5680 | N38: =TRUNC(SUM(N31:N37)) -> 0 | O38: =IF((H38+K38+M38)=0, "", (H38+K38+M38)) | P38: =IF(SUM(I38,L38,N38)<>0,SUM(I38,L38,N38),"") -> 7198 | AE38: =TRUNC(SUM(AE31:AE37)) -> 5680
A40: 56959000002 | B40: 일목줄 | C40: EAZ800050000 | D40: [제 5호] 분전반 내부보수 LP-1A [면]
A41: MM844958386 | B41: 제 5호 | C41: 391115ZZ701Z0004 | D41: 철거-배선용차단기 | E41: 4P 50AF 30AT | F41: EA | G41: 2 | H41: =합산자재!H49 -> 0 | I41: =IF(G41*H41<>0, TRUNC(G41*H41, 1), "") | J41: 2 | K41: =합산자재!I49 -> 0 | L41: =IF(G41*K41<>0, TRUNC(G41*K41, 1), "") | M41: =합산자재!J49 -> 0 | N41: =IF(G41*M41<>0, TRUNC(G41*M41, 1), "") | O41: =IF((H41+K41+M41)=0, "", (H41+K41+M41)) | P41: =IF(SUM(I41,L41,N41)<>0,SUM(I41,L41,N41),"")
A42: MM300020704 | B42: 제 5호 | C42: 3912161420167119 | D42: 누전차단기 | E42: 2P 30AF 20AT | F42: EA | G42: 4 | H42: =합산자재!H41 -> 10700 | I42: =IF(G42*H42<>0, TRUNC(G42*H42, 1), "") -> 42800 | J42: 4 | K42: =합산자재!I41 -> 0 | L42: =IF(G42*K42<>0, TRUNC(G42*K42, 1), "") | M42: =합산자재!J41 -> 0 | N42: =IF(G42*M42<>0, TRUNC(G42*M42, 1), "") | O42: =IF((H42+K42+M42)=0, "", (H42+K42+M42)) -> 10700 | P42: =IF(SUM(I42,L42,N42)<>0,SUM(I42,L42,N42),"") -> 42800 | R42: NFB
A43: 56900017016 | B43: 제 5호 | C43: L001010101000075 | D43: 노 무 비 | E43: 내선전공 | F43: 인 | G43: =일위노임!G19 -> 0.609 | H43: =합산자재!H50 -> 0 | I43: =IF(G43*H43<>0, TRUNC(G43*H43, 1), "") | J43: 0.87 | K43: =합산자재!I50 -> 225408 | L43: =IF(G43*K43<>0, TRUNC(G43*K43, 1), "") -> 137273.4 | M43: =합산자재!J50 -> 0 | N43: =IF(G43*M43<>0, TRUNC(G43*M43, 1), "") | O43: =IF((H43+K43+M43)=0, "", (H43+K43+M43)) -> 225408 | P43: =IF(SUM(I43,L43,N43)<>0,SUM(I43,L43,N43),"") -> 137273.4 | AE43: =L43 -> 137273.4
B44: 합계줄 | D44: ( 합 계 ) | I44: =TRUNC(SUM(I40:I43)) -> 42800 | L44: =TRUNC(SUM(L40:L43)) -> 137273 | N44: =TRUNC(SUM(N40:N43)) -> 0 | O44: =IF((H44+K44+M44)=0, "", (H44+K44+M44)) | P44: =IF(SUM(I44,L44,N44)<>0,SUM(I44,L44,N44),"") -> 180073 | AE44: =TRUNC(SUM(AE40:AE43)) -> 137273
...

Sheet 일위노임
B1: 29 | D1: [ 해상특송교환국 설치공사 ] - 일위노임 산출근거(2019년 상반기 노임) | AA1: 내선전공
A2: 번호 | B2: 공종코드 | C2: 코드 | D2: 명 칭 | E2: 규 격 | F2: 단위 | G2: 수량 | K2: 코드 | L2: 공량산출 | P2: 단 위 단 가 산 출 | S2: 품셈근거 | T2: 비고
G3: 결정수량 | H3: 할증 | I3: 산출수량 | J3: 재할% | L3: 명칭 | M3: 품셈 | N3: 할증% | O3: 공량 | P3: 단가 | Q3: 단위단가 | R3: 단위계
B4: 공종줄 | D4: [ 제 1호 ] 파이프행가 16 C [개소]
B5: 800 | C5: 3116210220135769 | D5: 스트롱앵커 | E5: 3/8 | F5: 개 | G5: 1 | H5: =IF(I5<>0, G5-I5, "") -> 0 | I5: 1 | K5: 56900017016 | L5: 내선전공 | M5: 0.036 | N5: 100 | O5: =IF(I5*M5=0, "", I5*M5*(N5/100)) -> 0.036 | Q5: =TRUNC(P5*M5*N5/100) -> 0 | S5: 전기5-29 | AA5: =O5 -> 0.036
B6: 800 | C6: L001010101000075 | D6: 노 무 비 | E6: 내선전공 | F6: 인 | G6: =IF(H6*I6/100 <1, TRUNC(H6*I6/100, 옵션!$E$13), TRUNC(H6*I6/100, 옵션!$E$13)) -> 0.0252 | H6: =옵션!$B$13 -> 70 | I6: =SUM(AA5:AA5) -> 0.036 | O6: =IF(I6*M6=0, "", I6*M6*(N6/100)) | Q6: =TRUNC(P6*M6*N6/100) -> 0 | Z6: 노임계 | AA6: =SUM(AA5:AA5) -> 0.036
B7: 공종줄 | D7: [ 제 2호 ] 파이프행가 22 C [개소]
B8: 800 | C8: 3116210220135769 | D8: 스트롱앵커 | E8: 3/8 | F8: 개 | G8: 1 | H8: =IF(I8<>0, G8-I8, "") -> 0 | I8: 1 | K8: 56900017016 | L8: 내선전공 | M8: 0.036 | N8: 100 | O8: =IF(I8*M8=0, "", I8*M8*(N8/100)) -> 0.036 | Q8: =TRUNC(P8*M8*N8/100) -> 0 | S8: 전기5-29 | AA8: =O8 -> 0.036
B9: 800 | C9: L001010101000075 | D9: 노 무 비 | E9: 내선전공 | F9: 인 | G9: =IF(H9*I9/100 <1, TRUNC(H9*I9/100, 옵션!$E$13), TRUNC(H9*I9/100, 옵션!$E$13)) -> 0.0252 | H9: =옵션!$B$13 -> 70 | I9: =SUM(AA8:AA8) -> 0.036 | O9: =IF(I9*M9=0, "", I9*M9*(N9/100)) | Q9: =TRUNC(P9*M9*N9/100) -> 0 | Z9: 노임계 | AA9: =SUM(AA8:AA8) -> 0.036
B10: 공종줄 | D10: [ 제 3호 ] 파이프행가 104 C [개소]
B11: 800 | C11: 3116210220135769 | D11: 스트롱앵커 | E11: 3/8 | F11: 개 | G11: 1 | H11: =IF(I11<>0, G11-I11, "") -> 0 | I11: 1 | K11: 56900017016 | L11: 내선전공 | M11: 0.036 | N11: 100 | O11: =IF(I11*M11=0, "", I11*M11*(N11/100)) -> 0.036 | Q11: =TRUNC(P11*M11*N11/100) -> 0 | S11: 전기5-29 | AA11: =O11 -> 0.036
B12: 800 | C12: L001010101000075 | D12: 노 무 비 | E12: 내선전공 | F12: 인 | G12: =IF(H12*I12/100 <1, TRUNC(H12*I12/100, 옵션!$E$13), TRUNC(H12*I12/100, 옵션!$E$13)) -> 0.0252 | H12: =옵션!$B$13 -> 70 | I12: =SUM(AA11:AA11) -> 0.036 | O12: =IF(I12*M12=0, "", I12*M12*(N12/100)) | Q12: =TRUNC(P12*M12*N12/100) -> 0 | Z12: 노임계 | AA12: =SUM(AA11:AA11) -> 0.036
B13: 공종줄 | D13: [ 제 4호 ] 레이스웨이 행가 70 x 40 [개소]
B14: 800 | C14: 3116210220135769 | D14: 스트롱앵커 | E14: 3/8 | F14: 개 | G14: 1 | H14: =IF(I14<>0, G14-I14, "") -> 0 | I14: 1 | K14: 56900017016 | L14: 내선전공 | M14: 0.036 | N14: 100 | O14: =IF(I14*M14=0, "", I14*M14*(N14/100)) -> 0.036 | Q14: =TRUNC(P14*M14*N14/100) -> 0 | S14: 전기5-29 | AA14: =O14 -> 0.036
B15: 800 | C15: L001010101000075 | D15: 노 무 비 | E15: 내선전공 | F15: 인 | G15: =IF(H15*I15/100 <1, TRUNC(H15*I15/100, 옵션!$E$13), TRUNC(H15*I15/100, 옵션!$E$13)) -> 0.0252 | H15: =옵션!$B$13 -> 70 | I15: =SUM(AA14:AA14) -> 0.036 | O15: =IF(I15*M15=0, "", I15*M15*(N15/100)) | Q15: =TRUNC(P15*M15*N15/100) -> 0 | Z15: 노임계 | AA15: =SUM(AA14:AA14) -> 0.036
B16: 공종줄 | D16: [ 제 5호 ] 분전반 내부보수 LP-1A [면]
B17: 800 | C17: 391115ZZ701Z0004 | D17: 철거-배선용차단기 | E17: 4P 50AF 30AT | F17: EA | G17: 2 | H17: =IF(I17<>0, G17-I17, "") -> 0 | I17: 2 | K17: 56900017016 | L17: 내선전공 | M17: 0.338 | N17: 50 | O17: =IF(I17*M17=0, "", I17*M17*(N17/100)) -> 0.338 | Q17: =TRUNC(P17*M17*N17/100) -> 0 | S17: 전기5-19 | AA17: =O17 -> 0.338
B18: 800 | C18: 3912161420167119 | D18: 누전차단기 | E18: 2P 30AF 20AT | F18: EA | G18: 4 | H18: =IF(I18<>0, G18-I18, "") -> 0 | I18: 4 | K18: 56900017016 | L18: 내선전공 | M18: 0.133 | N18: 100 | O18: =IF(I18*M18=0, "", I18*M18*(N18/100)) -> 0.532 | Q18: =TRUNC(P18*M18*N18/100) -> 0 | S18: 전기5-19 | AA18: =O18 -> 0.532
B19: 800 | C19: L001010101000075 | D19: 노 무 비 | E19: 내선전공 | F19: 인 | G19: =IF(H19*I19/100 <1, TRUNC(H19*I19/100, 옵션!$E$13), TRUNC(H19*I19/100, 옵션!$E$13)) -> 0.609 | H19: =옵션!$B$13 -> 70 | I19: =SUM(AA17:AA18) -> 0.87 | O19: =IF(I19*M19=0, "", I19*M19*(N19/100)) | Q19: =TRUNC(P19*M19*N19/100) -> 0 | Z19: 노임계 | AA19: =SUM(AA17:AA18) -> 0.87
B20: 공종줄 | D20: [ 제 6호 ] 분전반 내부보수 LP-1B [면]
B21: 800 | C21: 391115ZZ701Z0004 | D21: 철거-배선용차단기 | E21: 4P 50AF 30AT | F21: EA | G21: 2 | H21: =IF(I21<>0, G21-I21, "") -> 0 | I21: 2 | K21: 56900017016 | L21: 내선전공 | M21: 0.338 | N21: 50 | O21: =IF(I21*M21=0, "", I21*M21*(N21/100)) -> 0.338 | Q21: =TRUNC(P21*M21*N21/100) -> 0 | S21: 전기5-19 | AA21: =O21 -> 0.338
B22: 800 | C22: 3912161420167119 | D22: 누전차단기 | E22: 2P 30AF 20AT | F22: EA | G22: 6 | H22: =IF(I22<>0, G22-I22, "") -> 0 | I22: 6 | K22: 56900017016 | L22: 내선전공 | M22: 0.133 | N22: 100 | O22: =IF(I22*M22=0, "", I22*M22*(N22/100)) -> 0.798 | Q22: =TRUNC(P22*M22*N22/100) -> 0 | S22: 전기5-19 | AA22: =O22 -> 0.798
B23: 800 | C23: L001010101000075 | D23: 노 무 비 | E23: 내선전공 | F23: 인 | G23: =IF(H23*I23/100 <1, TRUNC(H23*I23/100, 옵션!$E$13), TRUNC(H23*I23/100, 옵션!$E$13)) -> 0.7952 | H23: =옵션!$B$13 -> 70 | I23: =SUM(AA21:AA22) -> 1.136 | O23: =IF(I23*M23=0, "", I23*M23*(N23/100)) | Q23: =TRUNC(P23*M23*N23/100) -> 0 | Z23: 노임계 | AA23: =SUM(AA21:AA22) -> 1.136
B24: 공종줄 | D24: [ 제 7호 ] 분전반 내부보수 LP-2A [면]
B25: 800 | C25: 3912161420167119 | D25: 누전차단기 | E25: 2P 30AF 20AT | F25: EA | G25: 2 | H25: =IF(I25<>0, G25-I25, "") -> 0 | I25: 2 | K25: 56900017016 | L25: 내선전공 | M25: 0.133 | N25: 100 | O25: =IF(I25*M25=0, "", I25*M25*(N25/100)) -> 0.266 | Q25: =TRUNC(P25*M25*N25/100) -> 0 | S25: 전기5-19 | AA25: =O25 -> 0.266
B26: 800 | C26: L001010101000075 | D26: 노 무 비 | E26: 내선전공 | F26: 인 | G26: =IF(H26*I26/100 <1, TRUNC(H26*I26/100, 옵션!$E$13), TRUNC(H26*I26/100, 옵션!$E$13)) -> 0.1862 | H26: =옵션!$B$13 -> 70 | I26: =SUM(AA25:AA25) -> 0.266 | O26: =IF(I26*M26=0, "", I26*M26*(N26/100)) | Q26: =TRUNC(P26*M26*N26/100) -> 0 | Z26: 노임계 | AA26: =SUM(AA25:AA25) -> 0.266

Sheet 합산자재
B1: 55 | C1: [ 해상특송교환국 설치공사 ] - 합산자재목록
A2: 번호 | B2: … | C2: 코드 | D2: 명 칭 | E2: 규 격 | F2: 단위 | G2: 수량 | H2: 재료비 | I2: 노무비 | J2: 경비 | K2: 지급비 | L2: 계 | M2: 비고
B4: 59750337010 | C4: 3913170610034841 | D4: 강제전선관 | E4: 아연도 104 mm | F4: m | G4: 26 | H4: =ROUNDDOWN(단가조사!G4*옵션!$D$11, 0) -> 3702 | L4: =SUM(H4,I4,J4) -> 3702
B5: 59753097002 | C5: 3913170610035664 | D5: 합성수지제 가요전선관 | E5: CD-난연성 16㎜ | F5: m | G5: 1026 | H5: =ROUNDDOWN(단가조사!G5*옵션!$D$11, 0) -> 142 | L5: =SUM(H5,I5,J5) -> 142
B6: 59753097003 | C6: 3913170610035665 | D6: 합성수지제 가요전선관 | E6: CD-난연성 22㎜ | F6: m | G6: 25 | H6: =ROUNDDOWN(단가조사!G6*옵션!$D$11, 0) -> 218 | L6: =SUM(H6,I6,J6) -> 218
B7: 59753017003 | C7: 3913170620174410 | D7: 1종금속제가요전선관 | E7: 16 mm 일반-비방수 | F7: m | G7: 44 | H7: =ROUNDDOWN(단가조사!G7*옵션!$D$11, 0) -> 360 | L7: =SUM(H7,I7,J7) -> 360
B8: 59753017043 | C8: 3913170620174434 | D8: 1종금속제가요전선관 | E8: 커넥터, 16 mm 일반-비방수 | F8: 개 | G8: 20 | H8: =ROUNDDOWN(단가조사!G8*옵션!$D$11, 0) -> 229 | L8: =SUM(H8,I8,J8) -> 229
B9: MM832096345 | C9: 3912130810035748 | D9: 아우트렛박스-상부연결용 | E9: 8각 54㎜ | F9: 개 | G9: 29 | H9: =ROUNDDOWN(단가조사!G9*옵션!$D$11, 0) -> 547 | L9: =SUM(H9,I9,J9) -> 547
B10: 59753767041 | C10: 3912130810035753 | D10: 아우트렛박스 | E10: 중형4각 54㎜ | F10: 개 | G10: 17 | H10: =ROUNDDOWN(단가조사!G10*옵션!$D$11, 0) -> 730 | L10: =SUM(H10,I10,J10) -> 730
B11: 59753777102 | C11: 3912130610035778 | D11: 스위치박스 | E11: 1 개용 54 mm | F11: 개 | G11: 36 | H11: =ROUNDDOWN(단가조사!G11*옵션!$D$11, 0) -> 483 | L11: =SUM(H11,I11,J11) -> 483
B12: 59753777111 | C12: 3912130610035781 | D12: 스위치박스 | E12: 2 개용 54 mm | F12: 개 | G12: 1 | H12: =ROUNDDOWN(단가조사!G12*옵션!$D$11, 0) -> 605 | L12: =SUM(H12,I12,J12) -> 605
B13: 59753767201 | C13: 3912130820174710 | D13: 아우트렛박스 커버 | E13: 커버, 8각, 평형 | F13: 개 | G13: 29 | H13: =ROUNDDOWN(단가조사!G13*옵션!$D$11, 0) -> 286 | L13: =SUM(H13,I13,J13) -> 286
B14: 59753767231 | C14: 3912130820174713 | D14: 아우트렛박스 커버 | E14: 커버, 4각, 평형 | F14: 개 | G14: 17 | H14: =ROUNDDOWN(단가조사!G14*옵션!$D$11, 0) -> 286 | L14: =SUM(H14,I14,J14) -> 286
B15: 59753767261 | C15: 3912130820174716 | D15: 아우트렛박스 커버 | E15: 커버, 4각,1개용S/W (오목) | F15: 개 | G15: 29 | H15: =ROUNDDOWN(단가조사!G15*옵션!$D$11, 0) -> 286 | L15: =SUM(H15,I15,J15) -> 286
... B32: E1450667003 | C32: 2612162922076728 | D32: 450/750V 내열비닐절연전선 | E32: HFIX 2.25mm(4㎟) | F32: m | G32: 2561 | H32: =ROUNDDOWN(단가조사!G32*옵션!$D$11, 0) -> 422 | L32: =SUM(H32,I32,J32) -> 422
B33: E1450927243 | C33: 40000ZZ450927243 | D33: 접지용비닐절연전선(F-GV) | E33: 95㎟(옥내) | F33: m | G33: 96 | H33: =ROUNDDOWN(단가조사!G33*옵션!$D$22, 0) -> 7616 | L33: =SUM(H33,I33,J33) -> 7616
B34: E7450287564 | C34: 3612162920683944 | D34: 폴리에틸렌 난연케이블-옥내 | E34: 0.6/1kv F-CV 1C×240㎟-4열동시 | F34: m | G34: 369 | H34: =ROUNDDOWN(단가조사!G34*옵션!$D$11, 0) -> 18554 | L34: =SUM(H34,I34,J34) -> 18554
B35: 59301517001 | C35: 3912998720170517 | D35: 매입스위치 | E35: 250V 1로1구 | F35: 개 | G35: 2 | H35: =ROUNDDOWN(단가조사!G35*옵션!$D$11, 0) -> 1150 | L35: =SUM(H35,I35,J35) -> 1150
B36: 59301517002 | C36: 3912998720170518 | D36: 매입스위치 | E36: 250V 1로2구 | F36: 개 | G36: 2 | H36: =ROUNDDOWN(단가조사!G36*옵션!$D$11, 0) -> 1610 | L36: =SUM(H36,I36,J36) -> 1610
B37: 59301517003 | C37: 3912998720170519 | D37: 매입스위치 | E37: 250V 1로3구 | F37: 개 | G37: 1 | H37: =ROUNDDOWN(단가조사!G37*옵션!$D$11, 0) -> 2080 | L37: =SUM(H37,I37,J37) -> 2080
B38: 59301517004 | C38: 3912998720170520 | D38: 매입스위치 | E38: 250V 1로4구 | F38: 개 | G38: 1 | H38: =ROUNDDOWN(단가조사!G38*옵션!$D$11, 0) -> 2910 | L38: =SUM(H38,I38,J38) -> 2910
B39: 59350317206 | C39: 3912140620170850 | D39: 콘센트 | E39: 매입-접지형, 250V 2구 | F39: 개 | G39: 29 | H39: =ROUNDDOWN(단가조사!G39*옵션!$D$11, 0) -> 1230 | L39: =SUM(H39,I39,J39) -> 1230
B40: MM300016104 | C40: 3912161620167078 | D40: 배선용차단기 | E40: 4P 400AF 400AT | F40: EA | G40: 1 | H40: =ROUNDDOWN(단가조사!G40*옵션!$D$11, 0) -> 440300 | L40: =SUM(H40,I40,J40) -> 440300
B41: MM300020704 | C41: 3912161420167119 | D41: 누전차단기 | E41: 2P 30AF 20AT | F41: EA | G41: 12 | H41: =ROUNDDOWN(단가조사!G41*옵션!$D$11, 0) -> 10700 | L41: =SUM(H41,I41,J41) -> 10700
B42: E9400177007 | C42: 3912143210033792 | D42: 러그단자 | E42: 동관단자 1 HOLE 95 ㎟ | F42: 개 | G42: 2 | H42: =ROUNDDOWN(단가조사!G42*옵션!$D$11, 0) -> 1403 | L42: =SUM(H42,I42,J42) -> 1403
B43: E9400177030 | C43: 3912143210033803 | D43: 러그단자 | E43: 동관단자 2 HOLE 240 ㎟ | F43: 개 | G43: 8 | H43: =ROUNDDOWN(단가조사!G43*옵션!$D$11, 0) -> 4860 | L43: =SUM(H43,I43,J43) -> 4860
B44: 53100028501 | C44: 3116172710023970 | D44: 6각너트 | E44: 3/8,M10 | F44: EA | G44: 796 | H44: =ROUNDDOWN(단가조사!G44*옵션!$D$11, 0) -> 21 | L44: =SUM(H44,I44,J44) -> 21
B45: 52100327001 | C45: 3116181120136195 | D45: 스프링와샤 | E45: D10 | F45: EA | G45: 796 | H45: =ROUNDDOWN(단가조사!G45*옵션!$D$11, 0) -> 7 | L45: =SUM(H45,I45,J45) -> 7
... B49: MM844958386 | C49: 391115ZZ701Z0004 | D49: 철거-배선용차단기 | E49: 4P 50AF 30AT | F49: EA | G49: 4 | H49: =ROUNDDOWN(단가조사!G49*옵션!$D$11, 0) -> 0 | L49: =SUM(H49,I49,J49) -> 0
B50: 56900017016 | C50: L001010101000075 | D50: 노 무 비 | E50: 내선전공 | F50: 인 | G50: 211.6 | I50: =ROUNDDOWN(단가조사!G50, 0) -> 225408 | L50: =SUM(H50,I50,J50) -> 225408
B51: 56900017076 | C51: L001010101000078 | D51: 노 무 비 | E51: 저압케이블전공 | F51: 인 | G51: 43 | I51: =ROUNDDOWN(단가조사!G51, 0) -> 235560 | L51: =SUM(H51,I51,J51) -> 235560

Sheet 단가조사
B1: 63 | D1: [ 해상특송교환국 설치공사 ] - 단가조사서
A2: 번호 | B2: 공종코드 | C2: 코드 | D2: 명 칭 | E2: 규 격 | F2: 단위 | G2: 적용단가 | H2: 시설단가 | J2: 거래가격 | L2: 물가정보 | N2: 조사단가1 | P2: 조사단가2 | R2: 조사단가2 | T2: 비고
H3: 단가 | I3: 코드 | J3: 단가 | K3: PAGE | L3: 단가 | M3: PAGE | N3: 단가 | O3: PAGE | P3: 단가 | Q3: PAGE | R3: 단가 | S3: PAGE
C4: 3913170610034841 | D4: 경질비닐전선관 | E4: HI 104 mm | F4: m | G4: 3702 | H4: 3702 | J4: 6058 | K4: 991 | L4: 4674 | M4: 2-307
C5: 3913170610035664 | D5: 합성수지제 가요전선관 | E5: CD-난연성 16㎜ | F5: m | G5: 142 | H5: 142 | J5: 275 | K5: 992 | L5: 176 | M5: 2-308
C6: 3913170610035665 | D6: 합성수지제 가요전선관 | E6: CD-난연성 22㎜ | F6: m | G6: 218 | H6: 218 | J6: 413 | K6: 992 | L6: 280 | M6: 2-308
C7: 3913170620174410 | D7: 1종금속제가요전선관 | E7: 16 mm 일반-비방수 | F7: m | G7: 360 | H7: 360 | J7: 1200 | K7: 993
C8: 3913170620174434 | D8: 1종금속제가요전선관 | E8: 커넥터, 16 mm 일반-비방수 | F8: 개 | G8: 229 | H8: 229 | J8: 990 | K8: 993
C9: 3912130810035748 | D9: 아우트렛박스-상부연결용 | E9: 8각 54㎜ | F9: 개 | G9: 547 | H9: 547 | J9: 796 | K9: 999 | L9: 704 | M9: 2-312
C10: 3912130810035753 | D10: 아우트렛박스 | E10: 중형4각 54㎜ | F10: 개 | G10: 730 | H10: 730 | J10: 946 | K10: 999 | L10: 811 | M10: 2-312
C11: 3912130610035778 | D11: 스위치박스 | E11: 1 개용 54 mm | F11: 개 | G11: 483 | H11: 483 | J11: 697 | K11: 999 | L11: 583 | M11: 2-312
C12: 3912130610035781 | D12: 스위치박스 | E12: 2 개용 54 mm | F12: 개 | G12: 605 | H12: 695 | J12: 946 | K12: 999 | L12: 605 | M12: 2-312
C13: 3912130820174710 | D13: 아우트렛박스 커버 | E13: 커버, 8각, 평형 | F13: 개 | G13: 286 | J13: 328 | K13: 999 | L13: 286 | M13: 2-312
C14: 3912130820174713 | D14: 아우트렛박스 커버 | E14: 커버, 4각, 평형 | F14: 개 | G14: 286 | J14: 328 | K14: 999 | L14: 286 | M14: 2-312
C15: 3912130820174716 | D15: 아우트렛박스 커버 | E15: 커버, 4각,1개용S/W (오목) | F15: 개 | G15: 286 | J15: 448 | K15: 999 | L15: 286 | M15: 2-312
C16: 3913170910034920 | D16: 레이스웨이 | E16: BODY, 70 x 40 | F16: m | G16: 2880 | H16: 2880 | J16: 2970 | K16: 1008 | L16: 3150 | M16: 2-311
C17: 3913170910034923 | D17: 레이스웨이 | E17: COVER, 70 x 40 | F17: m | G17: 1144 | H17: 1144 | J17: 1310 | K17: 1008 | L17: 1280 | M17: 2-311
C18: 3913170910035124 | D18: 레이스웨이 | E18: COVER CLAMP, 70 x 40 | F18: 개 | G18: 410 | L18: 410 | M18: 2-311
C19: 3913170910034926 | D19: 레이스웨이 | E19: JOINER, 70 x 40 | F19: 개 | G19: 882 | H19: 882 | J19: 1070 | K19: 1008 | L19: 1100 | M19: 2-311
C20: 3913170910034929 | D20: 레이스웨이 | E20: END CAP, 70 x 40 | F20: 개 | G20: 485 | H20: 485 | J20: 630 | K20: 1008 | L20: 700 | M20: 2-311
C21: 3913170910034932 | D21: 레이스웨이 | E21: ELBOW, 70 x 40 | F21: 개 | G21: 1910 | H21: 1910 | J21: 4290 | K21: 1008 | L21: 4290 | M21: 2-311
C22: 3913170910034937 | D22: 레이스웨이 | E22: A형 HANGER, 70 x 40 | F22: 개 | G22: 514 | H22: 514 | J22: 1070 | K22: 1007 | L22: 1050 | M22: 740
C23: 3913170910034945 | D23: 레이스웨이 | E23: JOINT BOX, 70 x 40 | F23: 개 | G23: 1358 | H23: 1358 | J23: 1400 | K23: 1008 | L23: 2000 | M23: 2-311
C24: 3913170910034934 | D24: 레이스웨이 | E24: 기구용금구, 70 x 40 | F24: 개 | G24: 407 | H24: 407 | J24: 460 | K24: 1008 | L24: 580 | M24: 2-311
