Workbook
Name A: #REF!
Name A: #REF!
Name A: #REF!
Name 배정: #REF!
Name 배정: #REF!
Name 배정: #REF!
Name 씨발: #REF!
Name 씨발: #REF!

Sheet 배정내역
A1: 2019년 하반기 대수선예산 배정내역
M3: (단위 : 천원)
A4: 구 분 | C4: 배정관서 | N4: 합계
C5: 서울청 | D5: 경인청 | E5: 부산청 | F5: 충청청 | G5: 전남청 | H5: 경북청 | I5: 전북청 | J5: 강원청 | K5: 제주청 | L5: 교육원 | M5: 조달센터
A6: 우체국보수 (5143-417) | B6: 실시설계비 | C6: - | D6: - | E6: ='직청별배정 세부내역'!I48 -> 11000 | F6: - | G6: - | H6: ='직청별배정 세부내역'!I89 -> 30000 | I6: ='직청별배정 세부내역'!I98 -> 13000 | J6: - | K6: - | L6: - | M6: - | N6: =SUM(C6:M6) -> 54000
B7: (420-02) | N7: =SUM(C7:M7) -> 0
B8: 공사비 | C8: ='직청별배정 세부내역'!J16 -> 447900 | D8: ='직청별배정 세부내역'!J35 -> 798500 | E8: ='직청별배정 세부내역'!J48 -> 633800 | F8: ='직청별배정 세부내역'!J65 -> 472900 | G8: ='직청별배정 세부내역'!J75 -> 391900 | H8: ='직청별배정 세부내역'!J89 -> 402700 | I8: ='직청별배정 세부내역'!J98 -> 468200 | J8: ='직청별배정 세부내역'!J103 -> 317000 | K8: ='직청별배정 세부내역'!J111 -> 124000 | L8: ='직청별배정 세부내역'!J116 -> 106400 | M8: ='직청별배정 세부내역'!J118 -> 280000 | N8: =SUM(C8:M8) -> 4443300
B9: (420-03) | N9: =SUM(C9:M9) -> 0
B10: 부대비 | C10: - | D10: - | E10: - | F10: - | G10: - | H10: - | I10: ='직청별배정 세부내역'!M98 -> 5000 | J10: - | K10: - | L10: - | M10: - | N10: =SUM(C10:M10) -> 5000
B11: (420-05) | N11: =SUM(C11:M11) -> 0
B12: 자산취득비 | C12: ='직청별배정 세부내역'!N16 -> 40000 | D12: ='직청별배정 세부내역'!N35 -> 86200 | E12: ='직청별배정 세부내역'!N48 -> 47900 | F12: ='직청별배정 세부내역'!N65 -> 28100 | G12: ='직청별배정 세부내역'!N75 -> 15100 | H12: ='직청별배정 세부내역'!N89 -> 19800 | I12: ='직청별배정 세부내역'!N98 -> 30000 | J12: ='직청별배정 세부내역'!N103 -> 9700 | K12: ='직청별배정 세부내역'!N111 -> 2500 | L12: ='직청별배정 세부내역'!N116 -> 2300 | M12: - | N12: =SUM(C12:M12) -> 281600
B13: (430-01)
A14: 우체국시설유지관리 (5142-409) | B14: 일반수용비 | C14: - | D14: - | E14: - | F14: 30000 | G14: - | H14: - | I14: - | J14: - | K14: - | L14: - | M14: - | N14: =SUM(C14:M14) -> 30000
B15: (210-01)
A16: 소속기관 기본경비 (7218-280) | B16: 일반수용비 | C16: ='직청별배정 세부내역'!Q16 -> 6600 | D16: ='직청별배정 세부내역'!Q35 -> 20000 | E16: ='직청별배정 세부내역'!Q48 -> 5700 | F16: ='직청별배정 세부내역'!Q65 -> 60600 | G16: ='직청별배정 세부내역'!Q75 -> 12900 | H16: ='직청별배정 세부내역'!Q89 -> 6100 | I16: ='직청별배정 세부내역'!Q98 -> 5700 | J16: ='직청별배정 세부내역'!Q103 -> 6400 | K16: ='직청별배정 세부내역'!Q111 -> 1500 | L16: - | M16: - | N16: =SUM(C16:M16) -> 125500
B17: (210-01)
A18: 계 | C18: =SUM(C6:C17) -> 494500 | D18: =SUM(D6:D17) -> 904700 | E18: =SUM(E6:E17) -> 698400 | F18: =SUM(F6:F17) -> 591600 | G18: =SUM(G6:G17) -> 419900 | H18: =SUM(H6:H17) -> 458600 | I18: =SUM(I6:I17) -> 521900 | J18: =SUM(J6:J17) -> 333100 | ... N18: =SUM(N6:N17) -> 4939400

Sheet 직청별배정 세부내역
B1: 2019년도 대수선사업 예산 배정 내역
AF2: (단위 : 천원)
B3: 지방청명 | C3: 관서명 | D3: 배정내역 | E3: 금회배정액(B) | T3: 배정총액(A+B) | AF3: 비고
E4: 5142-409(우체국시설유지관리) | H4: 5143-417(우체국보수) | P4: 5142-409 (우체국시설유지관리) | Q4: 7218-280 (소속기관 기본경비) | R4: 5231-361 (예금사업운영) | S4: 계 | T4: 5412-409(우체국시설유지관리) | W4: 5143-417(우체국보수) | AD4: 7218-280 (소속기관 기본경비) | AE4: 5231-361 (예금사업운영)
E5: 210-01 | F5: 210-09 | G5: 210-16 | H5: 420-01 | I5: 420-02 | J5: 420-03 | K5: 420-04 | L5: 420-05 | M5: 420-05 | N5: 430-01 | O5: 440-00 | P5: 210-01 | Q5: 210-01 | R5: 430-01 | T5: 210-01 | U5: 210-09 | V5: 210-16 | W5: 420-01 | X5: 420-02 | Y5: 420-03 | Z5: 420-04 | AA5: 420-05 | AB5: 430-01 | AC5: 440-00 | AD5: 210-01 | AE5: 430-01
E6: 일반수용비 | F6: 시설장비유지비 | G6: 기타운영비 | H6: 기본설계비 | I6: 실시설계비 | J6: 공사비 | K6: 감리비 | L6: 시설부대경비 | M6: 부대비 | N6: 자산취득비 | O6: 무형자산 | P6: 일반수용비 | Q6: 일반수용비 | R6: 자산취득비 | T6: 일반수용비 | U6: 시설장비유지비 | V6: 기타운영비 | W6: 기본설계비 | X6: 실시설계비 | Y6: 공사비 | Z6: 감리비 | AA6: 시설부대경비 | AB6: 자산취득비 | AC6: 무형자산 | AD6: 일반수용비 | AE6: 자산취득비
B7: 서울청 | C7: 서울강서 | D7: 순로구분기 철거 및 집진기 설치 | E7: - | F7: 0 | G7: 0 | H7: 0 | I7: 0 | J7: 5000 | K7: 0 | L7: 0 | M7: 0 | N7: 0 | O7: 0 | Q7: 0 | R7: 0 | S7: =SUM(E7:R7) -> 5000 | T7: =E7 -> - | U7: =F7 -> 0 | V7: =G7 -> 0 | W7: =SUM(#REF!,H7) -> #REF! | X7: =SUM(#REF!,I7) -> #REF! | Y7: =SUM(#REF!,J7) -> #REF! | Z7: =SUM(#REF!,K7) -> #REF! | AA7: =SUM(#REF!,L7) -> #REF! | AB7: =SUM(#REF!,N7) -> #REF! | AC7: =SUM(#REF!,O7) -> #REF! | AD7: =Q7 -> 0 | AE7: =R7 -> 0 | AF7: 물류설비 교체
C8: 동대문 | D8: 보일러 철거 및 냉난방공사 | E8: 0 | F8: 0 | G8: 0 | H8: 0 | I8: 0 | J8: 40000 | K8: 0 | L8: 0 | M8: 0 | N8: 40000 | O8: 0 | Q8: 0 | R8: 0 | S8: =SUM(E8:R8) -> 80000 | T8: =E8 -> 0 | U8: =F8 -> 0 | V8: =G8 -> 0 | W8: =SUM(#REF!,H8) -> #REF! | X8: =SUM(#REF!,I8) -> #REF! | Y8: =SUM(#REF!,J8) -> #REF! | Z8: =SUM(#REF!,K8) -> #REF! | AA8: =SUM(#REF!,L8) -> #REF! | AB8: =SUM(#REF!,N8) -> #REF! | AC8: =SUM(#REF!,O8) -> #REF! | AD8: =Q8 -> 0 | AE8: =R8 -> 0 | AF8: 시설물통합
C9: 서울광진 | D9: 보일러 이전설치 및 냉난방공사 (저녹스버너 교체 포함) | E9: 0 | F9: 0 | G9: 0 | H9: 0 | I9: 0 | J9: 70000 | K9: 0 | L9: 0 | M9: 0 | N9: 0 | O9: 0 | Q9: 0 | R9: 0 | S9: =SUM(E9:R9) -> 70000 | T9: =E9 -> 0 | U9: =F9 -> 0 | V9: =G9 -> 0 | W9: =SUM(#REF!,H9) -> #REF! | X9: =SUM(#REF!,I9) -> #REF! | Y9: =SUM(#REF!,J9) -> #REF! | Z9: =SUM(#REF!,K9) -> #REF! | AA9: =SUM(#REF!,L9) -> #REF! | AB9: =SUM(#REF!,N9) -> #REF! | AC9: =SUM(#REF!,O9) -> #REF! | AD9: =Q9 -> 0 | AE9: =R9 -> 0 | AF9: 법적의무사항
C10: 서울관악 | D10: 화물용엘리베이터 보수공사 | E10: 0 | F10: 0 | G10: 0 | H10: 0 | I10: 0 | J10: 41000 | K10: 0 | L10: 0 | M10: 0 | N10: 0 | O10: 0 | Q10: 0 | R10: 0 | S10: =SUM(E10:R10) -> 41000 | T10: =E10 -> 0 | U10: =F10 -> 0 | V10: =G10 -> 0 | W10: =SUM(#REF!,H10) -> #REF! | X10: =SUM(#REF!,I10) -> #REF! | Y10: =SUM(#REF!,J10) -> #REF! | Z10: =SUM(#REF!,K10) -> #REF! | AA10: =SUM(#REF!,L10) -> #REF! | AB10: =SUM(#REF!,N10) -> #REF! | AC10: =SUM(#REF!,O10) -> #REF! | AD10: =Q10 -> 0 | AE10: =R10 -> 0 | AF10: 물류설비 보수
C11: 서울동작 | D11: 발착장 확장 및 이륜차 지붕교체 | J11: 50000 | S11: =SUM(E11:R11) -> 50000 | AF11: 물류환경 개선
C12: 서울중앙 | D12: 주차장 출입램프 안전시설 설치 | E12: 0 | F12: 0 | G12: 0 | H12: 0 | I12: 0 | J12: 147600 | K12: 0 | L12: 0 | M12: 0 | N12: 0 | O12: 0 | Q12: 0 | R12: 0 | S12: =SUM(E12:R12) -> 147600 | T12: =E12 -> 0 | U12: =F12 -> 0 | V12: =G12 -> 0 | W12: =SUM(#REF!,H12) -> #REF! | X12: =SUM(#REF!,I12) -> #REF! | Y12: =SUM(#REF!,J12) -> #REF! | Z12: =SUM(#REF!,K12) -> #REF! | AA12: =SUM(#REF!,L12) -> #REF! | AB12: =SUM(#REF!,N12) -> #REF! | AC12: =SUM(#REF!,O12) -> #REF! | AD12: =Q12 -> 0 | AE12: =R12 -> 0 | AF12: 안전점검후속조치
C13: 서울청 | D13: 초소형 전기차 충전시설(12기) 설치 | J13: 12300 | S13: =SUM(E13:R13) -> 12300 | AF13: 전기차 충전시설
C14: 서울청 | D14: 대기전력 차단용 타이머설치(437개) | I14: 0 | J14: 0 | M14: 0 | N14: 0 | Q14: 6600 | S14: =SUM(E14:R14) -> 6600 | AF14: 공공요금 절감
C15: 서울청 | D15: 창구국사(41국) 전원일괄차단장치 설치 | E15: 0 | F15: 0 | G15: 0 | H15: 0 | I15: 0 | J15: 82000 | K15: 0 | L15: 0 | M15: 0 | N15: 0 | O15: 0 | Q15: 0 | R15: 0 | S15: =SUM(E15:R15) -> 82000 | T15: =E15 -> 0 | U15: =F15 -> 0 | V15: =G15 -> 0 | W15: =SUM(#REF!,H15) -> #REF! | X15: =SUM(#REF!,I15) -> #REF! | Y15: =SUM(#REF!,J15) -> #REF! | Z15: =SUM(#REF!,K15) -> #REF! | AA15: =SUM(#REF!,L15) -> #REF! | AB15: =SUM(#REF!,N15) -> #REF! | AC15: =SUM(#REF!,O15) -> #REF! | AD15: =Q15 -> 0 | AE15: =R15 -> 0 | AF15: 전기화재예방
C16: 소계 | E16: =SUM(E7:E15) -> 0 | F16: =SUM(F7:F15) -> 0 | G16: =SUM(G7:G15) -> 0 | H16: =SUM(H7:H15) -> 0 | I16: =SUM(I7:I15) -> 0 | J16: =SUM(J7:J15) -> 447900 | K16: =SUM(K7:K15) -> 0 | L16: =SUM(L7:L15) -> 0 | ... O16: =SUM(O7:O15) -> 0 | Q16: =SUM(Q7:Q15) -> 6600 | R16: =SUM(R7:R15) -> 0 | S16: =SUM(E16:R16) -> 494500 | T16: =SUM(T7:T15) -> 0 | U16: =SUM(U7:U15) -> 0 | V16: =SUM(V7:V15) -> 0 | W16: =SUM(W7:W15) -> #REF! | X16: =SUM(X7:X15) -> #REF! | Y16: =SUM(Y7:Y15) -> #REF! | Z16: =SUM(Z7:Z15) -> #REF! | AA16: =SUM(AA7:AA15) -> #REF! | ... AE16: =SUM(AE7:AE15) -> 0
B17: 경인청 | C17: 남인천 | D17: 순로구분기 철거 및 집진기 설치 | E17: - | F17: - | G17: - | I17: - | J17: 16500 | K17: - | M17: - | N17: - | O17: - | Q17: - | R17: - | S17: =SUM(E17:R17) -> 16500 | T17: =E17 -> - | U17: =F17 -> - | V17: =G17 -> - | W17: =SUM(#REF!,H17) -> #REF! | X17: =SUM(#REF!,I17) -> #REF! | Y17: =SUM(#REF!,J17) -> #REF! | Z17: =SUM(#REF!,K17) -> #REF! | AA17: =SUM(#REF!,L17) -> #REF! | AB17: =SUM(#REF!,N17) -> #REF! | AC17: =SUM(#REF!,O17) -> #REF! | AD17: =Q17 -> - | AE17: =R17 -> - | AF17: 물류설비 교체
C18: 백령 | D18: 직원숙사 노후수도관 교체 | E18: 0 | F18: 0 | G18: 0 | I18: 0 | J18: 60000 | K18: 0 | M18: 0 | N18: 0 | O18: 0 | Q18: 0 | R18: 0 | S18: =SUM(E18:R18) -> 60000 | T18: =E18 -> 0 | U18: =F18 -> 0 | V18: =G18 -> 0 | W18: =SUM(#REF!,H18) -> #REF! | X18: =SUM(#REF!,I18) -> #REF! | Y18: =SUM(#REF!,J18) -> #REF! | Z18: =SUM(#REF!,K18) -> #REF! | AA18: =SUM(#REF!,L18) -> #REF! | AB18: =SUM(#REF!,N18) -> #REF! | AC18: =SUM(#REF!,O18) -> #REF! | AD18: =Q18 -> 0 | AE18: =R18 -> 0 | AF18: 노후시설 개선
C19: 부천(집) | D19: 저녹스버너 3대 교체 | E19: - | F19: - | G19: - | I19: - | J19: 30000 | K19: - | M19: - | N19: - | O19: - | Q19: - | R19: - | S19: =SUM(E19:R19) -> 30000 | T19: =E19 -> - | U19: =F19 -> - | V19: =G19 -> - | W19: =SUM(#REF!,H19) -> #REF! | X19: =SUM(#REF!,I19) -> #REF! | Y19: =SUM(#REF!,J19) -> #REF! | Z19: =SUM(#REF!,K19) -> #REF! | AA19: =SUM(#REF!,L19) -> #REF! | AB19: =SUM(#REF!,N19) -> #REF! | AC19: =SUM(#REF!,O19) -> #REF! | AD19: =Q19 -> - | AE19: =R19 -> - | AF19: 법적의무사항
C20: 용인중앙동 | D20: 용인중앙동우체국 화재복구 공사 | E20: 0 | F20: 0 | G20: 0 | I20: 0 | J20: 200000 | K20: 0 | M20: 0 | N20: 0 | O20: 0 | Q20: 0 | R20: 0 | S20: =SUM(E20:R20) -> 200000 | T20: =E20 -> 0 | U20: =F20 -> 0 | V20: =G20 -> 0 | W20: =SUM(#REF!,H20) -> #REF! | X20: =SUM(#REF!,I20) -> #REF! | Y20: =SUM(#REF!,J20) -> #REF! | Z20: =SUM(#REF!,K20) -> #REF! | AA20: =SUM(#REF!,L20) -> #REF! | AB20: =SUM(#REF!,N20) -> #REF! | AC20: =SUM(#REF!,O20) -> #REF! | AD20: =Q20 -> 0 | AE20: =R20 -> 0 | AF20: 안전점검 후속조치
C21: 안성 | D21: 노후 보일러철거 및 급탕보일러 설치 | E21: 0 | F21: 0 | G21: 0 | I21: 0 | J21: 20000 | K21: 0 | M21: 0 | N21: 0 | O21: 0 | Q21: 0 | R21: 0 | S21: =SUM(E21:R21) -> 20000 | T21: =E21 -> 0 | U21: =F21 -> 0 | V21: =G21 -> 0 | W21: =SUM(#REF!,H21) -> #REF! | X21: =SUM(#REF!,I21) -> #REF! | Y21: =SUM(#REF!,J21) -> #REF! | Z21: =SUM(#REF!,K21) -> #REF! | AA21: =SUM(#REF!,L21) -> #REF! | AB21: =SUM(#REF!,N21) -> #REF! | AC21: =SUM(#REF!,O21) -> #REF! | AD21: =Q21 -> 0 | AE21: =R21 -> 0 | AF21: 시설물통합
C22: 오산 | D22: 보일러 자동제어시스템 설치 | I22: - | J22: 10000 | M22: - | N22: - | S22: =SUM(E22:R22) -> 10000 | Y22: =SUM(#REF!,J22) -> #REF! | AF22: 시설물통합
C23: 구리 | D23: 노후 보일러철거 및 전기급탕보일러 설치 | E23: 0 | F23: 0 | G23: 0 | I23: 0 | J23: 22000 | K23: 0 | M23: 0 | N23: 0 | O23: 0 | Q23: 0 | R23: 0 | S23: =SUM(E23:R23) -> 22000 | T23: =E23 -> 0 | U23: =F23 -> 0 | V23: =G23 -> 0 | W23: =SUM(#REF!,H23) -> #REF! | X23: =SUM(#REF!,I23) -> #REF! | Y23: =SUM(#REF!,J23) -> #REF! | Z23: =SUM(#REF!,K23) -> #REF! | AA23: =SUM(#REF!,L23) -> #REF! | AB23: =SUM(#REF!,N23) -> #REF! | AC23: =SUM(#REF!,O23) -> #REF! | AD23: =Q23 -> 0 | AE23: =R23 -> 0 | AF23: 시설물통합
C24: 구리 | D24: 발착장 경사조절기 및 승강기 보수 | E24: - | F24: - | G24: - | I24: 0 | J24: 13000 | K24: - | L24: - | M24: - | N24: 0 | O24: - | Q24: 0 | R24: - | S24: =SUM(E24:R24) -> 13000 | Y24: =SUM(#REF!,J24) -> #REF! | AF24: 물류설비 보수
C25: 의정부(집) | D25: 승강기 노후부품 교체 | E25: 0 | F25: 0 | G25: 0 | I25: 0 | J25: 15000 | K25: 0 | L25: 0 | M25: 0 | N25: 0 | O25: 0 | Q25: 0 | R25: 0 | S25: =SUM(E25:R25) -> 15000 | Y25: =SUM(#REF!,J25) -> #REF! | AF25: 물류설비 보수
C26: 고양주교동 | D26: 옥상방수 및 화장실 보수공사 | I26: 0 | J26: 60000 | M26: 0 | N26: 0 | O26: 0 | Q26: 0 | S26: =SUM(E26:R26) -> 60000 | AF26: 안전점검 후속조치
C27: 성남 | D27: 영업과 이전에 따른 임시청사 원상복구 공사 | I27: 0 | J27: 20000 | N27: 0 | Q27: 0 | S27: =SUM(E27:R27) -> 20000 | Y27: =SUM(#REF!,J27) -> #REF! | AF27: 안전점검 후속조치
C28: 오산 | D28: 노후 레벨러 교체 | E28: - | F28: - | G28: - | I28: 0 | J28: 13000 | K28: - | L28: - | M28: - | N28: 0 | O28: - | Q28: 0 | R28: - | S28: =SUM(E28:R28) -> 13000 | Y28: =SUM(#REF!,J28) -> #REF! | AF28: 물류설비 교체
C29: 화성동탄 | D29: 흡수식냉온수기 제어시스템 설치 | E29: 0 | F29: 0 | G29: 0 | I29: 0 | J29: 10000 | K29: 0 | L29: 0 | M29: 0 | N29: 0 | O29: 0 | Q29: 0 | R29: 0 | S29: =SUM(E29:R29) -> 10000 | Y29: =SUM(#REF!,J29) -> #REF! | AF29: 시설물통합
C30: 안산상록수 | D30: 채권보전 | I30: 0 | J30: 0 | M30: 0 | N30: 0 | Q30: 8000 | S30: =SUM(E30:R30) -> 8000 | AF30: 채권보전
C31: 경인청 | D31: 창구국사(40국) 전원일괄차단장치 설치 | E31: 0 | F31: 0 | G31: 0 | I31: 0 | J31: 80000 | K31: 0 | L31: 0 | M31: 0 | N31: 0 | O31: 0 | Q31: 0 | R31: 0 | S31: =SUM(E31:R31) -> 80000 | Y31: =SUM(#REF!,J31) -> #REF! | AF31: 전기화재예방
C32: 경인청 | D32: 초소형 전기차 충전시설(143기) 설치 | I32: 0 | J32: 229000 | N32: 0 | O32: 0 | Q32: 0 | S32: =SUM(E32:R32) -> 229000 | AF32: 전기차 충전시설
C33: 경인청 | D33: 대기전력 차단용 타이머설치(770개) | I33: 0 | J33: 0 | M33: 0 | N33: 0 | Q33: 12000 | S33: =SUM(E33:R33) -> 12000 | AF33: 공공요금 절감
C34: 경인청 | D34: (부평 등)노후 냉난방기 교체 | E34: 0 | F34: 0 | G34: 0 | I34: 0 | J34: 0 | K34: 0 | L34: 0 | M34: 0 | N34: 86200 | O34: 0 | Q34: 0 | R34: 0 | S34: =SUM(E34:R34) -> 86200 | T34: =E34 -> 0 | U34: =F34 -> 0 | V34: =G34 -> 0 | W34: =SUM(#REF!,H34) -> #REF! | X34: =SUM(#REF!,I34) -> #REF! | Y34: =SUM(#REF!,J34) -> #REF! | Z34: =SUM(#REF!,K34) -> #REF! | AA34: =SUM(#REF!,L34) -> #REF! | AB34: =SUM(#REF!,N34) -> #REF! | AC34: =SUM(#REF!,O34) -> #REF! | AD34: =Q34 -> 0 | AE34: =R34 -> 0 | AF34: 노후 냉난방기 교체
C35: 소계 | J35: =SUM(J17:J34) -> 798500 | N35: =SUM(N17:N34) -> 86200 | Q35: =SUM(Q17:Q34) -> 20000 | S35: =SUM(E35:R35) -> 904700 | T35: =SUM(T17:T34) -> 0 | U35: =SUM(U17:U34) -> 0 | V35: =SUM(V17:V34) -> 0 | W35: =SUM(W17:W34) -> #REF! | X35: =SUM(X17:X34) -> #REF! | Y35: =SUM(Y17:Y34) -> #REF! | Z35: =SUM(Z17:Z34) -> #REF! | AA35: =SUM(AA17:AA34) -> #REF! | ... AE35: =SUM(AE17:AE34) -> 0
B36: 부산청 | C36: 부산(집), 울산(집) | D36: 저녹스버너 교체 | E36: 0 | F36: 0 | G36: 0 | I36: 11000 | J36: 130000 | K36: 0 | M36: 0 | N36: 0 | O36: 0 | Q36: 0 | R36: 0 | S36: =SUM(E36:R36) -> 141000 | T36: =E36 -> 0 | U36: =F36 -> 0 | V36: =G36 -> 0 | W36: =SUM(#REF!,H36) -> #REF! | X36: =SUM(#REF!,I36) -> #REF! | Y36: =SUM(#REF!,J36) -> #REF! | Z36: =SUM(#REF!,K36) -> #REF! | AA36: =SUM(#REF!,L36) -> #REF! | AB36: =SUM(#REF!,N36) -> #REF! | AC36: =SUM(#REF!,O36) -> #REF! | AD36: =Q36 -> 0 | AE36: =R36 -> 0 | AF36: 법적의무사항
C37: 진주 | D37: 노후 보일러 철거 및 냉난방기 설치 | E37: - | F37: - | G37: - | I37: - | J37: 110000 | K37: - | M37: - | N37: - | O37: - | Q37: - | R37: - | S37: =SUM(E37:R37) -> 110000 | T37: =E37 -> - | U37: =F37 -> - | V37: =G37 -> - | W37: =SUM(#REF!,H37) -> #REF! | X37: =SUM(#REF!,I37) -> #REF! | Y37: =SUM(#REF!,J37) -> #REF! | Z37: =SUM(#REF!,K37) -> #REF! | AA37: =SUM(#REF!,L37) -> #REF! | AB37: =SUM(#REF!,N37) -> #REF! | AC37: =SUM(#REF!,O37) -> #REF! | AD37: =Q37 -> - | AE37: =R37 -> - | AF37: 시설물통합
C38: 북부산 | D38: 순로구분기 철거 및 집진기 설치 | E38: 0 | F38: 0 | G38: 0 | I38: 0 | J38: 20000 | K38: 0 | M38: 0 | N38: 0 | O38: 0 | Q38: 0 | R38: 0 | S38: =SUM(E38:R38) -> 20000 | T38: =E38 -> 0 | U38: =F38 -> 0 | V38: =G38 -> 0 | W38: =SUM(#REF!,H38) -> #REF! | X38: =SUM(#REF!,I38) -> #REF! | Y38: =SUM(#REF!,J38) -> #REF! | Z38: =SUM(#REF!,K38) -> #REF! | AA38: =SUM(#REF!,L38) -> #REF! | AB38: =SUM(#REF!,N38) -> #REF! | AC38: =SUM(#REF!,O38) -> #REF! | AD38: =Q38 -> 0 | AE38: =R38 -> 0 | AF38: 물류설비 교체
C39: 거제 | D39: 발착시설(수평조절기) 설치공사 | I39: 0 | J39: 12000 | M39: 0 | N39: 0 | Q39: 0 | S39: =SUM(E39:R39) -> 12000 | AF39: 물류설비 교체
C40: 창원우편집중국 | D40: 발착장 수평조절기 중심축 교체 | I40: 0 | J40: 9000 | M40: 0 | N40: 0 | Q40: 0 | S40: =SUM(E40:R40) -> 9000 | AF40: 뮬류설비 보수
C41: 진해웅동2동 | D41: 물류환경 개선(작업장 확장공사) | I41: 0 | J41: 200000 | M41: 0 | N41: 0 | Q41: 0 | S41: =SUM(E41:R41) -> 200000 | AF41: 물류환경 개선
C42: 남해 | D42: 노후보일러 철거 및 냉난방기 설치 | I42: 0 | J42: 100000 | M42: 0 | N42: 0 | Q42: 0 | S42: =SUM(E42:R42) -> 100000 | AF42: 노후 냉난방기 교체
C43: 부산진 | D43: 임시청사 공기청정기 설치 | I43: 0 | J43: 0 | M43: 0 | N43: 20000 | Q43: 0 | S43: =SUM(E43:R43) -> 20000 | AF43: 임시청사 설치(임시청사 설치)
C44: 부산청 | D44: 창구국사(11국) 전원일괄차단장치 설치 | E44: 0 | F44: 0 | G44: 0 | I44: 0 | J44: 22000 | K44: 0 | M44: 0 | N44: 0 | O44: 0 | Q44: 0 | R44: 0 | S44: =SUM(E44:R44) -> 22000 | T44: =E44 -> 0 | U44: =F44 -> 0 | V44: =G44 -> 0 | W44: =SUM(#REF!,H44) -> #REF! | X44: =SUM(#REF!,I44) -> #REF! | Y44: =SUM(#REF!,J44) -> #REF! | Z44: =SUM(#REF!,K44) -> #REF! | AA44: =SUM(#REF!,L44) -> #REF! | AB44: =SUM(#REF!,N44) -> #REF! | AC44: =SUM(#REF!,O44) -> #REF! | AD44: =Q44 -> 0 | AE44: =R44 -> 0 | AF44: 전기화재예방
C45: 부산청 | D45: 초소형 전기차 충전시설(13기) 설치 | J45: 30800 | M45: 0 | N45: 0 | O45: 0 | Q45: 0 | S45: =SUM(E45:R45) -> 30800 | AF45: 전기차 충전시설
C46: 부산청 | D46: 대기전력 차단용 타이머설치(378개소) | I46: 0 | J46: 0 | M46: 0 | N46: 0 | Q46: 5700 | S46: =SUM(E46:R46) -> 5700 | AF46: 공공요금 절감
C47: 부산청 | D47: 노후 냉난방기 교체 | E47: 0 | F47: 0 | G47: 0 | I47: 0 | J47: 0 | K47: 0 | M47: 0 | N47: 27900 | O47: 0 | Q47: 0 | R47: 0 | S47: =SUM(E47:R47) -> 27900 | T47: =E47 -> 0 | U47: =F47 -> 0 | V47: =G47 -> 0 | W47: =SUM(#REF!,H47) -> #REF! | X47: =SUM(#REF!,I47) -> #REF! | Y47: =SUM(#REF!,J47) -> #REF! | Z47: =SUM(#REF!,K47) -> #REF! | AA47: =SUM(#REF!,L47) -> #REF! | AB47: =SUM(#REF!,N47) -> #REF! | AC47: =SUM(#REF!,O47) -> #REF! | AD47: =Q47 -> 0 | AE47: =R47 -> 0 | AF47: 노후 냉난방기 교체
C48: 소계 | E48: =SUM(E36:E47) -> 0 | F48: =SUM(F36:F47) -> 0 | G48: =SUM(G36:G47) -> 0 | H48: =SUM(H36:H47) -> 0 | I48: =SUM(I36:I47) -> 11000 | J48: =SUM(J36:J47) -> 633800 | K48: =SUM(K36:K47) -> 0 | L48: =SUM(L36:L47) -> 0 | ... O48: =SUM(O36:O47) -> 0 | Q48: =SUM(Q36:Q47) -> 5700 | R48: =SUM(R36:R47) -> 0 | S48: =SUM(E48:R48) -> 698400 | T48: =SUM(T36:T47) -> 0 | U48: =SUM(U36:U47) -> 0 | V48: =SUM(V36:V47) -> 0 | W48: =SUM(W36:W47) -> #REF! | X48: =SUM(X36:X47) -> #REF! | Y48: =SUM(Y36:Y47) -> #REF! | Z48: =SUM(Z36:Z47) -> #REF! | AA48: =SUM(AA36:AA47) -> #REF! | ... AE48: =SUM(AE36:AE47) -> 0
B49: 충청청 | C49: 조치원 | D49: 노후 화물용엘리베이터 교체 | E49: 0 | F49: 0 | G49: 0 | I49: 0 | J49: 71900 | K49: 0 | M49: 0 | N49: 0 | O49: 0 | Q49: 0 | R49: 0 | S49: =SUM(E49:R49) -> 71900 | T49: =E49 -> 0 | U49: =F49 -> 0 | V49: =G49 -> 0 | W49: =SUM(#REF!,H49) -> #REF! | X49: =SUM(#REF!,I49) -> #REF! | Y49: =SUM(#REF!,J49) -> #REF! | Z49: =SUM(#REF!,K49) -> #REF! | AA49: =SUM(#REF!,L49) -> #REF! | AB49: =SUM(#REF!,N49) -> #REF! | AC49: =SUM(#REF!,O49) -> #REF! | AD49: =Q49 -> 0 | AE49: =R49 -> 0 | AF49: 물류설비 교체
C50: 대전(집) | D50: 가감차로 확장공사 (물류센터 건축물대장 생성 조건_지자체) | E50: 0 | F50: 0 | G50: 0 | I50: 0 | J50: 130000 | K50: 0 | M50: 0 | N50: 0 | O50: 0 | Q50: 0 | R50: 0 | S50: =SUM(E50:R50) -> 130000 | T50: =E50 -> 0 | U50: =F50 -> 0 | V50: =G50 -> 0 | W50: =SUM(#REF!,H50) -> #REF! | X50: =SUM(#REF!,I50) -> #REF! | Y50: =SUM(#REF!,J50) -> #REF! | Z50: =SUM(#REF!,K50) -> #REF! | AA50: =SUM(#REF!,L50) -> #REF! | AB50: =SUM(#REF!,N50) -> #REF! | AC50: =SUM(#REF!,O50) -> #REF! | AD50: =Q50 -> 0 | AE50: =R50 -> 0 | AF50: 법적의무사항
C51: 홍성 | D51: 노후 급탕보일러 교체 | E51: 0 | F51: 0 | G51: 0 | I51: 0 | J51: 55000 | K51: 0 | M51: 0 | N51: 0 | O51: 0 | Q51: 0 | R51: 0 | S51: =SUM(E51:R51) -> 55000 | T51: =E51 -> 0 | U51: =F51 -> 0 | V51: =G51 -> 0 | W51: =SUM(#REF!,H51) -> #REF! | X51: =SUM(#REF!,I51) -> #REF! | Y51: =SUM(#REF!,J51) -> #REF! | Z51: =SUM(#REF!,K51) -> #REF! | AA51: =SUM(#REF!,L51) -> #REF! | AB51: =SUM(#REF!,N51) -> #REF! | AC51: =SUM(#REF!,O51) -> #REF! | AD51: =Q51 -> 0 | AE51: =R51 -> 0 | AF51: 시설물통합
C52: 공주 | D52: 순로구분기 이전설치 | I52: 0 | J52: 10000 | M52: 0 | N52: 0 | Q52: 0 | S52: =SUM(E52:R52) -> 10000 | AF52: 물류설비 교체
C53: 서산 | D53: 순로구분기 이전설치 | I53: 0 | J53: 10000 | K53: 0 | M53: 0 | N53: 0 | O53: 0 | Q53: 0 | R53: 0 | S53: =SUM(E53:R53) -> 10000 | T53: =E53 -> 0 | U53: =F53 -> 0 | V53: =G53 -> 0 | W53: =SUM(#REF!,H53) -> #REF! | X53: =SUM(#REF!,I53) -> #REF! | Y53: =SUM(#REF!,J53) -> #REF! | Z53: =SUM(#REF!,K53) -> #REF! | AA53: =SUM(#REF!,L53) -> #REF! | AB53: =SUM(#REF!,N53) -> #REF! | AC53: =SUM(#REF!,O53) -> #REF! | AD53: =Q53 -> 0 | AE53: =R53 -> 0 | AF53: 물류설비 교체
C54: 장항 | D54: 건물 균열보수 공사(해빙기 후속조치) | I54: 0 | J54: 40000 | M54: 0 | N54: 0 | Q54: 0 | S54: =SUM(E54:R54) -> 40000 | AF54: 안전점검 후속조치
C55: 홍성 | D55: 갈산우체국 관사 보수 | I55: 0 | J55: 20000 | M55: 0 | N55: 0 | Q55: 0 | S55: =SUM(E55:R55) -> 20000 | AF55: 숙사
C56: 동천안 | D56: 순로구분기 집진기 설치(2대) | I56: 0 | J56: 20000 | M56: 0 | N56: 0 | Q56: 0 | S56: =SUM(E56:R56) -> 20000 | AF56: 물류설비 교체
C57: 서대전 | D57: 계단슬로프 설치 | I57: 0 | J57: 10000 | M57: 0 | N57: 0 | Q57: 0 | S57: =SUM(E57:R57) -> 10000 | AF57: 물류환경 개선
C58: 예산 | D58: 벽체균열 및 담장보수공사 | I58: 0 | J58: 20000 | M58: 0 | N58: 0 | Q58: 0 | S58: =SUM(E58:R58) -> 20000 | AF58: 안전점검 후속조치
C59: 대천수련원 | D59: 노후 집기류 교체(리모델링 관련) | N59: 6500 | S59: =SUM(E59:R59) -> 6500 | AF59: 노후 집기류 교체
C60: 충청청 | D60: 법적점검 수수료(IMC 등) | I60: 0 | J60: 0 | M60: 0 | N60: 0 | P60: 30000 | Q60: 52000 | S60: =SUM(E60:R60) -> 82000 | AF60: 법적의무사항
C61: 충청청 | D61: 창구국사(26국) 전원일괄차단장치 설치 | E61: 0 | F61: 0 | G61: 0 | I61: 0 | J61: 52000 | K61: 0 | M61: 0 | N61: 0 | O61: 0 | Q61: 0 | R61: 0 | S61: =SUM(E61:R61) -> 52000 | T61: =E61 -> 0 | U61: =F61 -> 0 | V61: =G61 -> 0 | W61: =SUM(#REF!,H61) -> #REF! | X61: =SUM(#REF!,I61) -> #REF! | Y61: =SUM(#REF!,J61) -> #REF! | Z61: =SUM(#REF!,K61) -> #REF! | AA61: =SUM(#REF!,L61) -> #REF! | AB61: =SUM(#REF!,N61) -> #REF! | AC61: =SUM(#REF!,O61) -> #REF! | AD61: =Q61 -> 0 | AE61: =R61 -> 0 | AF61: 전기화재예방
C62: 충청청 | D62: 초소형 전기차 충전시설(17기) 설치 | I62: 0 | J62: 34000 | M62: 0 | N62: 0 | O62: 0 | Q62: 0 | S62: =SUM(E62:R62) -> 34000 | AF62: 전기차 충전시설
C63: 충청청 | D63: 대기전력 차단용 타이머설치(569개소) | I63: 0 | J63: 0 | M63: 0 | N63: 0 | Q63: 8600 | S63: =SUM(E63:R63) -> 8600 | AF63: 공공요금 절감
C64: 충청청 | D64: 노후 냉난방기 교체 | I64: 0 | J64: 0 | M64: 0 | N64: 21600 | Q64: 0 | S64: =SUM(E64:R64) -> 21600 | AF64: 노후 냉난방기 교체
C65: 소계 | E65: =SUM(E49:E64) -> 0 | F65: =SUM(F49:F64) -> 0 | G65: =SUM(G49:G64) -> 0 | H65: =SUM(H49:H64) -> 0 | I65: =SUM(I49:I64) -> 0 | J65: =SUM(J49:J64) -> 472900 | K65: =SUM(K49:K64) -> 0 | L65: =SUM(L49:L64) -> 0 | ... R65: =SUM(R49:R64) -> 0 | S65: =SUM(E65:R65) -> 591600 | T65: =SUM(T49:T64) -> 0 | U65: =SUM(U49:U64) -> 0 | V65: =SUM(V49:V64) -> 0 | W65: =SUM(W49:W64) -> #REF! | X65: =SUM(X49:X64) -> #REF! | Y65: =SUM(Y49:Y64) -> #REF! | Z65: =SUM(Z49:Z64) -> #REF! | AA65: =SUM(AA49:AA64) -> #REF! | ... AE65: =SUM(AE49:AE64) -> 0
B66: 전남청 | C66: 하의 | D66: 1층 천정, 옥상 보수공사 | E66: - | F66: - | G66: - | I66: - | J66: 50000 | K66: - | L66: - | M66: - | N66: - | O66: - | Q66: 0 | R66: - | S66: =SUM(E66:R66) -> 50000 | T66: =E66 -> - | U66: =F66 -> - | V66: =G66 -> - | W66: =SUM(#REF!,H66) -> #REF! | X66: =SUM(#REF!,I66) -> #REF! | Y66: =SUM(#REF!,J66) -> #REF! | Z66: =SUM(#REF!,K66) -> #REF! | AA66: =SUM(#REF!,L66) -> #REF! | AB66: =SUM(#REF!,N66) -> #REF! | AC66: =SUM(#REF!,O66) -> #REF! | AD66: =Q66 -> 0 | AE66: =R66 -> - | AF66: 안전점검 후속조치
C67: 보성 | D67: 화물용엘리베이터 보수공사 | E67: 0 | F67: 0 | G67: 0 | I67: 0 | J67: 35000 | K67: 0 | L67: 0 | M67: 0 | N67: 0 | O67: 0 | Q67: 0 | R67: 0 | S67: =SUM(E67:R67) -> 35000 | T67: =E67 -> 0 | U67: =F67 -> 0 | V67: =G67 -> 0 | W67: =SUM(#REF!,H67) -> #REF! | X67: =SUM(#REF!,I67) -> #REF! | Y67: =SUM(#REF!,J67) -> #REF! | Z67: =SUM(#REF!,K67) -> #REF! | AA67: =SUM(#REF!,L67) -> #REF! | AB67: =SUM(#REF!,N67) -> #REF! | AC67: =SUM(#REF!,O67) -> #REF! | AD67: =Q67 -> 0 | AE67: =R67 -> 0 | AF67: 물류설비 보수
C68: 고흥 | D68: 화물용엘리베이터 보수공사 | E68: - | F68: - | G68: - | I68: - | J68: 39000 | K68: - | L68: - | M68: 0 | N68: 0 | O68: - | Q68: 0 | R68: - | S68: =SUM(E68:R68) -> 39000 | T68: =E68 -> - | U68: =F68 -> - | V68: =G68 -> - | W68: =SUM(#REF!,H68) -> #REF! | X68: =SUM(#REF!,I68) -> #REF! | Y68: =SUM(#REF!,J68) -> #REF! | Z68: =SUM(#REF!,K68) -> #REF! | AA68: =SUM(#REF!,L68) -> #REF! | AB68: =SUM(#REF!,N68) -> #REF! | AC68: =SUM(#REF!,O68) -> #REF! | AD68: =Q68 -> 0 | AE68: =R68 -> - | AF68: 물류설비 보수
C69: 고흥 | D69: 옥상방수, 계단실균열, 담장보수공사 | E69: 0 | F69: 0 | G69: 0 | I69: - | J69: 89900 | K69: 0 | L69: 0 | M69: 0 | N69: 0 | O69: - | Q69: 0 | R69: 0 | S69: =SUM(E69:R69) -> 89900 | T69: 0 | U69: 0 | V69: 0 | W69: #REF! | X69: #REF! | Y69: #REF! | Z69: #REF! | AA69: #REF! | AB69: #REF! | AC69: #REF! | AD69: 0 | AE69: 0 | AF69: 안전점검 후속조치
C70: 여수 | D70: 옥상방수, 계단균열 보수공사 | I70: - | J70: 90000 | M70: 0 | N70: 0 | O70: - | Q70: 0 | S70: =SUM(E70:R70) -> 90000 | Y70: #REF! | AF70: 안전점검 후속조치
C71: 전남청 | D71: 창구국사(14국) 전원일괄차단장치 설치 | E71: 0 | F71: 0 | G71: 0 | I71: - | J71: 28000 | K71: 0 | L71: 0 | M71: 0 | N71: 0 | O71: 0 | Q71: 0 | R71: 0 | S71: =SUM(E71:R71) -> 28000 | T71: 0 | U71: 0 | V71: 0 | W71: #REF! | X71: #REF! | Y71: #REF! | Z71: #REF! | AA71: #REF! | AB71: #REF! | AC71: #REF! | AD71: 0 | AE71: 0 | AF71: 전기화재예방
C72: 전남청 | D72: 초소형 전기차 충전시설(35기) 설치 | I72: - | J72: 60000 | M72: 0 | N72: 0 | O72: - | Q72: 0 | S72: =SUM(E72:R72) -> 60000 | AF72: 전기차 충전시설
C73: 전남청 | D73: 대기전력 차단용 타이머설치(855개소) | I73: 0 | J73: 0 | M73: 0 | N73: 0 | Q73: 12900 | S73: =SUM(E73:R73) -> 12900 | AF73: 공공요금 절감
C74: 전남청 | D74: 노후 냉난방기 교체 | E74: 0 | F74: 0 | G74: 0 | I74: 0 | J74: 0 | K74: 0 | L74: 0 | M74: 0 | N74: 15100 | O74: 0 | Q74: 0 | R74: 0 | S74: 15100 | T74: 0 | U74: 0 | V74: 0 | W74: #REF! | X74: #REF! | Y74: #REF! | Z74: #REF! | AA74: #REF! | AB74: #REF! | AC74: #REF! | AD74: 0 | AE74: 0 | AF74: 노후 냉난방기 교체
C75: 소계 | E75: =SUM(E66:E74) -> 0 | F75: =SUM(F66:F74) -> 0 | G75: =SUM(G66:G74) -> 0 | H75: =SUM(H66:H74) -> 0 | I75: =SUM(I66:I74) -> 0 | J75: =SUM(J66:J74) -> 391900 | K75: =SUM(K66:K74) -> 0 | L75: =SUM(L66:L74) -> 0 | ... O75: =SUM(O66:O74) -> 0 | Q75: =SUM(Q66:Q74) -> 12900 | R75: =SUM(R66:R74) -> 0 | S75: =SUM(E75:R75) -> 419900 | T75: =SUM(T66:T74) -> 0 | U75: =SUM(U66:U74) -> 0 | V75: =SUM(V66:V74) -> 0 | W75: =SUM(W66:W74) -> #REF! | X75: =SUM(X66:X74) -> #REF! | Y75: =SUM(Y66:Y74) -> #REF! | Z75: =SUM(Z66:Z74) -> #REF! | AA75: =SUM(AA66:AA74) -> #REF! | ... AE75: =SUM(AE66:AE74) -> 0
B76: 경북청 | C76: 청도 | D76: 화물용엘리베이터 보수공사 | E76: - | F76: - | G76: - | I76: - | J76: 66000 | K76: - | L76: - | M76: - | N76: - | O76: - | Q76: 0 | R76: - | S76: =SUM(E76:R76) -> 66000 | T76: =E76 -> - | U76: =F76 -> - | V76: =G76 -> - | W76: =SUM(#REF!,H76) -> #REF! | X76: =SUM(#REF!,I76) -> #REF! | Y76: =SUM(#REF!,J76) -> #REF! | Z76: =SUM(#REF!,K76) -> #REF! | AA76: =SUM(#REF!,L76) -> #REF! | AB76: =SUM(#REF!,N76) -> #REF! | AC76: =SUM(#REF!,O76) -> #REF! | AD76: =Q76 -> 0 | AE76: =R76 -> - | AF76: 물류설비 보수
C77: 경산 | D77: 물류작업장 확장공사 | E77: 0 | F77: 0 | G77: 0 | I77: 0 | J77: 43700 | K77: 0 | L77: 0 | M77: 0 | N77: 0 | O77: 0 | Q77: 0 | R77: 0 | S77: =SUM(E77:R77) -> 43700 | T77: =E77 -> 0 | U77: =F77 -> 0 | V77: =G77 -> 0 | W77: =SUM(#REF!,H77) -> #REF! | X77: =SUM(#REF!,I77) -> #REF! | Y77: =SUM(#REF!,J77) -> #REF! | Z77: =SUM(#REF!,K77) -> #REF! | AA77: =SUM(#REF!,L77) -> #REF! | AB77: =SUM(#REF!,N77) -> #REF! | AC77: =SUM(#REF!,O77) -> #REF! | AD77: =Q77 -> 0 | AE77: =R77 -> 0 | AF77: 물류시설 확장
C78: 대구달서 | D78: 동력용 변압기 증설 (200kw -> 300kw) | E78: 0 | F78: 0 | G78: 0 | I78: 0 | J78: 30000 | K78: 0 | L78: 0 | M78: 0 | N78: 0 | O78: 0 | Q78: 0 | R78: 0 | S78: =SUM(E78:R78) -> 30000 | T78: =E78 -> 0 | U78: =F78 -> 0 | V78: =G78 -> 0 | W78: =SUM(#REF!,H78) -> #REF! | X78: =SUM(#REF!,I78) -> #REF! | Y78: =SUM(#REF!,J78) -> #REF! | Z78: =SUM(#REF!,K78) -> #REF! | AA78: =SUM(#REF!,L78) -> #REF! | AB78: =SUM(#REF!,N78) -> #REF! | AC78: =SUM(#REF!,O78) -> #REF! | AD78: =Q78 -> 0 | AE78: =R78 -> 0 | AF78: 안전점검 후속조치
C79: 울릉도 | D79: 발착장 신축(연면적 180㎡) | I79: 30000 | J79: - | M79: - | N79: - | Q79: 0 | S79: =SUM(E79:R79) -> 30000 | AF79: 물류시설 확장(숙사 증축 제외)
C80: 대구안지랑 | D80: 창호코킹 등 방수공사 | I80: 0 | J80: 20000 | M80: 0 | N80: 0 | Q80: 0 | S80: =SUM(E80:R80) -> 20000 | AF80: 안전점검 후속조치
C81: 북포항 | D81: 변압기 큐비클 교체 | I81: 0 | J81: 25000 | M81: 0 | N81: 0 | Q81: 0 | S81: =SUM(E81:R81) -> 25000 | AF81: 안전점검 후속조치
C82: 구미상모동 | D82: 옥상방수공사 | I82: 0 | J82: 34000 | M82: 0 | N82: 0 | Q82: 0 | S82: =SUM(E82:R82) -> 34000 | AF82: 안전점검 후속조치
C83: 달성 | D83: 옥상방수공사 | I83: 0 | J83: 32000 | M83: 0 | N83: 0 | Q83: 0 | S83: =SUM(E83:R83) -> 32000 | AF83: 안전점검 후속조치
C84: 울진 | D84: 외벽타일 보수공사 | I84: 0 | J84: 25000 | M84: 0 | N84: 0 | Q84: 0 | S84: =SUM(E84:R84) -> 25000 | AF84: 안전점검 후속조치
C85: 경북청 | D85: 창구국사(10국) 전원일괄차단장치 설치 | E85: - | F85: - | G85: - | I85: - | J85: 20000 | K85: - | L85: - | M85: - | N85: - | O85: - | Q85: 0 | R85: - | S85: =SUM(E85:R85) -> 20000 | T85: =E85 -> - | U85: =F85 -> - | V85: =G85 -> - | W85: =SUM(#REF!,H85) -> #REF! | X85: =SUM(#REF!,I85) -> #REF! | Y85: =SUM(#REF!,J85) -> #REF! | Z85: =SUM(#REF!,K85) -> #REF! | AA85: =SUM(#REF!,L85) -> #REF! | AB85: =SUM(#REF!,N85) -> #REF! | AC85: =SUM(#REF!,O85) -> #REF! | AD85: =Q85 -> 0 | AE85: =R85 -> - | AF85: 전기화재예방
C86: 경북청 | D86: 초소형 전기차 충전시설(34기) 설치 | I86: - | J86: 107000 | M86: - | N86: - | O86: - | Q86: 0 | S86: =SUM(E86:R86) -> 107000 | AF86: 전기차 충전시설
C87: 경북청 | D87: 대기전력 차단용 타이머설치(406개소) | I87: 0 | J87: 0 | M87: 0 | N87: 0 | Q87: 6100 | S87: =SUM(E87:R87) -> 6100 | AF87: 공공요금 절감
C88: 경북청 | D88: 노후 냉난방기 교체 | E88: 0 | F88: 0 | G88: 0 | I88: 0 | J88: 0 | K88: 0 | L88: 0 | M88: 0 | N88: 19800 | O88: 0 | Q88: 0 | R88: 0 | S88: =SUM(E88:R88) -> 19800 | T88: =E88 -> 0 | U88: =F88 -> 0 | V88: =G88 -> 0 | W88: =SUM(#REF!,H88) -> #REF! | X88: =SUM(#REF!,I88) -> #REF! | Y88: =SUM(#REF!,J88) -> #REF! | Z88: =SUM(#REF!,K88) -> #REF! | AA88: =SUM(#REF!,L88) -> #REF! | AB88: =SUM(#REF!,N88) -> #REF! | AC88: =SUM(#REF!,O88) -> #REF! | AD88: =Q88 -> 0 | AE88: =R88 -> 0 | AF88: 노후 냉난방기 교체
C89: 소계 | E89: =SUM(E76:E88) -> 0 | F89: =SUM(F76:F88) -> 0 | G89: =SUM(G76:G88) -> 0 | H89: =SUM(H76:H88) -> 0 | I89: =SUM(I76:I88) -> 30000 | J89: =SUM(J76:J88) -> 402700 | K89: =SUM(K76:K88) -> 0 | L89: =SUM(L76:L88) -> 0 | ... O89: =SUM(O76:O88) -> 0 | Q89: =SUM(Q76:Q88) -> 6100 | R89: =SUM(R76:R88) -> 0 | S89: =SUM(E89:R89) -> 458600 | T89: =SUM(T76:T88) -> 0 | U89: =SUM(U76:U88) -> 0 | V89: =SUM(V76:V88) -> 0 | W89: =SUM(W76:W88) -> #REF! | X89: =SUM(X76:X88) -> #REF! | Y89: =SUM(Y76:Y88) -> #REF! | Z89: =SUM(Z76:Z88) -> #REF! | AA89: =SUM(AA76:AA88) -> #REF! | ... AE89: =SUM(AE76:AE88) -> 0
B90: 전북청 | C90: 진안 | D90: 노후 수배전설비 교체(고압 -> 저압) | E90: - | F90: - | G90: - | I90: - | J90: 50000 | K90: - | M90: - | N90: - | O90: - | Q90: - | R90: - | S90: =SUM(E90:R90) -> 50000 | T90: =E90 -> - | U90: =F90 -> - | V90: =G90 -> - | W90: =SUM(#REF!,H90) -> #REF! | X90: =SUM(#REF!,I90) -> #REF! | Y90: =SUM(#REF!,J90) -> #REF! | Z90: =SUM(#REF!,K90) -> #REF! | AA90: =SUM(#REF!,L90) -> #REF! | AB90: =SUM(#REF!,N90) -> #REF! | AC90: =SUM(#REF!,O90) -> #REF! | AD90: =Q90 -> - | AE90: =R90 -> - | AF90: 안전점검 후속조치
C91: 전주법원 | D91: 전주법원 이전에 따른 이설공사 | E91: 0 | F91: 0 | G91: 0 | I91: 5000 | J91: 70000 | K91: 0 | M91: 0 | N91: 0 | O91: 0 | Q91: 2000 | R91: 0 | S91: =SUM(E91:R91) -> 77000 | T91: =E91 -> 0 | U91: =F91 -> 0 | V91: =G91 -> 0 | W91: =SUM(#REF!,H91) -> #REF! | X91: =SUM(#REF!,I91) -> #REF! | Y91: =SUM(#REF!,J91) -> #REF! | Z91: =SUM(#REF!,K91) -> #REF! | AA91: =SUM(#REF!,L91) -> #REF! | AB91: =SUM(#REF!,N91) -> #REF! | AC91: =SUM(#REF!,O91) -> #REF! | AD91: =Q91 -> 2000 | AE91: =R91 -> 0 | AF91: 우체국 이전
C92: 전북청 | D92: 체신연립주택 대체숙사 설치공사(4세대) | E92: 0 | F92: 0 | G92: 0 | I92: 8000 | J92: 150000 | K92: 0 | M92: 5000 | N92: 0 | O92: 0 | Q92: 0 | R92: 0 | S92: =SUM(E92:R92) -> 163000 | AF92: 숙사
C93: 군산 | D93: 노후 보일러철거 및 냉난방기 설치 | E93: - | F93: - | G93: - | I93: - | J93: 140000 | K93: - | M93: - | N93: 30000 | O93: - | Q93: - | R93: - | S93: =SUM(E93:R93) -> 170000 | AF93: 시설물통합
C94: 김제 | D94: 노후 급탕보일러 교체 | E94: 0 | F94: 0 | G94: 0 | I94: 0 | J94: 40000 | K94: 0 | M94: 0 | N94: 0 | O94: 0 | Q94: 0 | R94: 0 | S94: =SUM(E94:R94) -> 40000 | T94: =E94 -> 0 | U94: =F94 -> 0 | V94: =G94 -> 0 | W94: =SUM(#REF!,H94) -> #REF! | X94: =SUM(#REF!,I94) -> #REF! | Y94: =SUM(#REF!,J94) -> #REF! | Z94: =SUM(#REF!,K94) -> #REF! | AA94: =SUM(#REF!,L94) -> #REF! | AB94: =SUM(#REF!,N94) -> #REF! | AC94: =SUM(#REF!,O94) -> #REF! | AD94: =Q94 -> 0 | AE94: =R94 -> 0 | AF94: 시설물통합
C95: 전북청 | D95: 초소형 전기차 충전시설(4기) 설치 | I95: 0 | J95: 8200 | M95: 0 | N95: 0 | O95: 0 | Q95: 0 | S95: =SUM(E95:R95) -> 8200 | AF95: 전기차 충전시설
C96: 전북청 | D96: 대기전력 차단용 타이머설치(245개소) | I96: 0 | J96: 0 | M96: 0 | N96: 0 | Q96: 3700 | S96: =SUM(E96:R96) -> 3700 | AF96: 공공요금 절감
C97: 전북청 | D97: 창구국사(5국) 전원일괄차단장치 설치 | E97: 0 | F97: 0 | G97: 0 | I97: 0 | J97: 10000 | K97: 0 | M97: 0 | N97: 0 | O97: 0 | Q97: 0 | R97: 0 | S97: =SUM(E97:R97) -> 10000 | T97: =E97 -> 0 | U97: =F97 -> 0 | V97: =G97 -> 0 | W97: =SUM(#REF!,H97) -> #REF! | X97: =SUM(#REF!,I97) -> #REF! | Y97: =SUM(#REF!,J97) -> #REF! | Z97: =SUM(#REF!,K97) -> #REF! | AA97: =SUM(#REF!,L97) -> #REF! | AB97: =SUM(#REF!,N97) -> #REF! | AC97: =SUM(#REF!,O97) -> #REF! | AD97: =Q97 -> 0 | AE97: =R97 -> 0 | AF97: 전기화재예방
C98: 소계 | E98: =SUM(E90:E97) -> 0 | F98: =SUM(F90:F97) -> 0 | G98: =SUM(G90:G97) -> 0 | H98: =SUM(H90:H97) -> 0 | I98: =SUM(I90:I97) -> 13000 | J98: =SUM(J90:J97) -> 468200 | K98: =SUM(K90:K97) -> 0 | L98: =SUM(L90:L97) -> 0 | ... O98: =SUM(O90:O97) -> 0 | Q98: =SUM(Q90:Q97) -> 5700 | R98: =SUM(R90:R97) -> 0 | S98: =SUM(E98:R98) -> 521900 | T98: =SUM(T90:T97) -> 0 | U98: =SUM(U90:U97) -> 0 | V98: =SUM(V90:V97) -> 0 | W98: =SUM(W90:W97) -> #REF! | X98: =SUM(X90:X97) -> #REF! | Y98: =SUM(Y90:Y97) -> #REF! | Z98: =SUM(Z90:Z97) -> #REF! | AA98: =SUM(AA90:AA97) -> #REF! | ... AE98: =SUM(AE90:AE97) -> 0
B99: 강원청 | C99: 속초 | D99: 물류작업장 확충 | E99: 0 | F99: 0 | G99: 0 | I99: 0 | J99: 287000 | K99: 0 | L99: 0 | M99: 0 | N99: 0 | O99: 0 | Q99: 0 | R99: 0 | S99: =SUM(E99:R99) -> 287000 | T99: =E99 -> 0 | U99: =F99 -> 0 | V99: =G99 -> 0 | W99: =SUM(#REF!,H99) -> #REF! | X99: =SUM(#REF!,I99) -> #REF! | Y99: =SUM(#REF!,J99) -> #REF! | Z99: =SUM(#REF!,K99) -> #REF! | AA99: =SUM(#REF!,L99) -> #REF! | AB99: =SUM(#REF!,N99) -> #REF! | AC99: =SUM(#REF!,O99) -> #REF! | AD99: =Q99 -> 0 | AE99: =R99 -> 0 | AF99: 물류시설 확장
C100: 강원청 | D100: 창구국사(15국) 전원일괄차단장치 설치 | E100: 0 | F100: 0 | G100: 0 | I100: 0 | J100: 30000 | K100: 0 | L100: 0 | M100: 0 | N100: 0 | O100: 0 | Q100: 0 | R100: 0 | S100: =SUM(E100:R100) -> 30000 | T100: =E100 -> 0 | U100: =F100 -> 0 | V100: =G100 -> 0 | W100: =SUM(#REF!,H100) -> #REF! | X100: =SUM(#REF!,I100) -> #REF! | Y100: =SUM(#REF!,J100) -> #REF! | Z100: =SUM(#REF!,K100) -> #REF! | AA100: =SUM(#REF!,L100) -> #REF! | AB100: =SUM(#REF!,N100) -> #REF! | AC100: =SUM(#REF!,O100) -> #REF! | AD100: =Q100 -> 0 | AE100: =R100 -> 0 | AF100: 전기화재예방
...

Sheet 19년도 소요예산(0109)
B1: 2019년도 건립사업 소요예산 내역
AK2: (단위: 천 원) | AL2: (단위: 천 원) | AT2: (단위: 천원)
A3: 구분 | B3: 시행주체 | C3: 유형 | D3: 국사명 | E3: 건립기준 | F3: 건물규모 | G3: 연면적 | H3: 사업기간 | I3: 총건립비 | J3: 2019년도 예산편성액(A) | Q3: 2018년 이월액(B) | X3: 2019년 소요예산(C) | AE3: 2019년 배정총액(B+C) | AL3: 비 고 | AN3: 2019년도 예산편성액 대비 소요예산 차액(A-C)
J4: 410-00 | K4: 420-01 | L4: 420-02 | M4: 420-03 | N4: 420-04 | O4: 420-05 | P4: 계 | Q4: 410-00 | R4: 420-01 | S4: 420-02 | T4: 420-03 | U4: 420-04 | V4: 420-05 | W4: 계 | X4: 410-00 | Y4: 420-01 | Z4: 420-02 | AA4: 420-03 | AB4: 420-04 | AC4: 420-05 | AD4: 계 | AE4: 410-00 | AF4: 420-01 | AG4: 420-02 | AH4: 420-03 | AI4: 420-04 | AJ4: 420-05 | AK4: 계 | AN4: 410-00 | AO4: 420-01 | AP4: 420-02 | AQ4: 420-03 | AR4: 420-04 | AS4: 420-05 | AT4: 계
A5: 부지매입 | B5: 서울청 | C5: 신축 | D5: 강남세곡지구 | E5: 신설수요 | G5: 896 | H5: 2019년 | I5: 2025000 | J5: 2025000 | K5: 0 | L5: 0 | M5: 0 | N5: 0 | O5: 0 | P5: =SUM(J5:O5) -> 2025000 | Q5: 0 | R5: 0 | S5: 0 | T5: 0 | U5: 0 | V5: 0 | W5: =SUM(Q5:V5) -> 0 | X5: 0 | Y5: 0 | Z5: 0 | AA5: 0 | AB5: 0 | AC5: 0 | AD5: =SUM(X5:AC5) -> 0 | AE5: =SUM(Q5,X5) -> 0 | AF5: =SUM(R5,Y5) -> 0 | AG5: =SUM(S5,Z5) -> 0 | AH5: =SUM(T5,AA5) -> 0 | AI5: =SUM(U5,AB5) -> 0 | AJ5: =SUM(V5,AC5) -> 0 | AK5: =SUM(AE5:AJ5) -> 0 | AN5: =SUM(J5-X5) -> 2025000 | AO5: =SUM(K5-Y5) -> 0 | AP5: =SUM(L5-Z5) -> 0 | AQ5: =SUM(M5-AA5) -> 0 | AR5: =SUM(N5-AB5) -> 0 | AS5: =SUM(O5-AC5) -> 0 | AT5: =SUM(AN5:AS5) -> 2025000
B6: 서울청 | C6: 신축 | D6: 양주옥정지구 | E6: 신설수요 | G6: 2562 | H6: 2019년 | I6: 3825000 | J6: 3825000 | K6: 0 | L6: 0 | M6: 0 | N6: 0 | O6: 0 | P6: =SUM(J6:O6) -> 3825000 | Q6: 0 | R6: 0 | S6: 0 | T6: 0 | U6: 0 | V6: 0 | W6: =SUM(Q6:V6) -> 0 | X6: 3825000 | Y6: 0 | Z6: 0 | AA6: 0 | AB6: 0 | AC6: 0 | AD6: =SUM(X6:AC6) -> 3825000 | AE6: =SUM(Q6,X6) -> 3825000 | AF6: =SUM(R6,Y6) -> 0 | AG6: =SUM(S6,Z6) -> 0 | AH6: =SUM(T6,AA6) -> 0 | AI6: =SUM(U6,AB6) -> 0 | AJ6: =SUM(V6,AC6) -> 0 | AK6: =SUM(AE6:AJ6) -> 3825000 | AN6: =SUM(J6-X6) -> 0 | AO6: =SUM(K6-Y6) -> 0 | AP6: =SUM(L6-Z6) -> 0 | AQ6: =SUM(M6-AA6) -> 0 | AR6: =SUM(N6-AB6) -> 0 | AS6: =SUM(O6-AC6) -> 0 | AT6: =SUM(AN6:AS6) -> 0
B7: 부산청 | C7: 신축 | D7: 창원감계지구 | E7: 신설수요 | G7: 1500 | H7: 2019년 | I7: 2400000 | J7: 2400000 | K7: 0 | L7: 0 | M7: 0 | N7: 0 | O7: 0 | P7: =SUM(J7:O7) -> 2400000 | Q7: 0 | R7: 0 | S7: 0 | T7: 0 | U7: 0 | V7: 0 | W7: =SUM(Q7:V7) -> 0 | X7: 2400000 | Y7: 0 | Z7: 0 | AA7: 0 | AB7: 0 | AC7: 0 | AD7: =SUM(X7:AC7) -> 2400000 | AE7: =SUM(Q7,X7) -> 2400000 | AF7: =SUM(R7,Y7) -> 0 | AG7: =SUM(S7,Z7) -> 0 | AH7: =SUM(T7,AA7) -> 0 | AI7: =SUM(U7,AB7) -> 0 | AJ7: =SUM(V7,AC7) -> 0 | AK7: =SUM(AE7:AJ7) -> 2400000 | AN7: =SUM(J7-X7) -> 0 | AO7: =SUM(K7-Y7) -> 0 | AP7: =SUM(L7-Z7) -> 0 | AQ7: =SUM(M7-AA7) -> 0 | AR7: =SUM(N7-AB7) -> 0 | AS7: =SUM(O7-AC7) -> 0 | AT7: =SUM(AN7:AS7) -> 0
B8: 경북청 | C8: 개축 | D8: 포항흥해 | E8: 업무편의성 | G8: 1365 | H8: 2019년 | I8: 725000 | J8: 725000 | K8: 0 | L8: 0 | M8: 0 | N8: 0 | O8: 0 | P8: =SUM(J8:O8) -> 725000 | Q8: 0 | R8: 0 | S8: 0 | T8: 0 | U8: 0 | V8: 0 | W8: =SUM(Q8:V8) -> 0 | X8: 725000 | Y8: 0 | Z8: 0 | AA8: 0 | AB8: 0 | AC8: 0 | AD8: =SUM(X8:AC8) -> 725000 | AE8: =SUM(Q8,X8) -> 725000 | AF8: =SUM(R8,Y8) -> 0 | AG8: =SUM(S8,Z8) -> 0 | AH8: =SUM(T8,AA8) -> 0 | AI8: =SUM(U8,AB8) -> 0 | AJ8: =SUM(V8,AC8) -> 0 | AK8: =SUM(AE8:AJ8) -> 725000 | AN8: =SUM(J8-X8) -> 0 | AO8: =SUM(K8-Y8) -> 0 | AP8: =SUM(L8-Z8) -> 0 | AQ8: =SUM(M8-AA8) -> 0 | AR8: =SUM(N8-AB8) -> 0 | AS8: =SUM(O8-AC8) -> 0 | AT8: =SUM(AN8:AS8) -> 0
B9: 강원청 | C9: 신축 | D9: 원주기업도시 | E9: 신설수요 | G9: 789 | H9: 2019년 | I9: 350000 | J9: 350000 | K9: 0 | L9: 0 | M9: 0 | N9: 0 | O9: 0 | P9: =SUM(J9:O9) -> 350000 | Q9: 0 | R9: 0 | S9: 0 | T9: 0 | U9: 0 | V9: 0 | W9: =SUM(Q9:V9) -> 0 | X9: 0 | Y9: 0 | Z9: 0 | AA9: 0 | AB9: 0 | AC9: 0 | AD9: =SUM(X9:AC9) -> 0 | AE9: =SUM(Q9,X9) -> 0 | AF9: =SUM(R9,Y9) -> 0 | AG9: =SUM(S9,Z9) -> 0 | AH9: =SUM(T9,AA9) -> 0 | AI9: =SUM(U9,AB9) -> 0 | AJ9: =SUM(V9,AC9) -> 0 | AK9: =SUM(AE9:AJ9) -> 0 | AN9: =SUM(J9-X9) -> 350000 | AO9: =SUM(K9-Y9) -> 0 | AP9: =SUM(L9-Z9) -> 0 | AQ9: =SUM(M9-AA9) -> 0 | AR9: =SUM(N9-AB9) -> 0 | AS9: =SUM(O9-AC9) -> 0 | AT9: =SUM(AN9:AS9) -> 350000
B10: 경인청 | C10: 신축 | D10: 시흥배곧 | E10: 신설수요 | G10: 1139 | H10: 2019년 | I10: 2025000 | J10: 0 | K10: 0 | L10: 0 | M10: 0 | N10: 0 | O10: 0 | P10: =SUM(J10:O10) -> 0 | Q10: 0 | R10: 0 | S10: 0 | T10: 0 | U10: 0 | V10: 0 | W10: =SUM(Q10:V10) -> 0 | X10: 983000 | Y10: 0 | Z10: 0 | AA10: 0 | AB10: 0 | AC10: 0 | AD10: =SUM(X10:AC10) -> 983000 | AE10: =SUM(Q10,X10) -> 983000 | AF10: =SUM(R10,Y10) -> 0 | AG10: =SUM(S10,Z10) -> 0 | AH10: =SUM(T10,AA10) -> 0 | AI10: =SUM(U10,AB10) -> 0 | AJ10: =SUM(V10,AC10) -> 0 | AK10: =SUM(AE10:AJ10) -> 983000 | AN10: =SUM(J10-X10) -> -983000 | AO10: =SUM(K10-Y10) -> 0 | AP10: =SUM(L10-Z10) -> 0 | AQ10: =SUM(M10-AA10) -> 0 | AR10: =SUM(N10-AB10) -> 0 | AS10: =SUM(O10-AC10) -> 0 | AT10: =SUM(AN10:AS10) -> -983000
B11: 전북청 | C11: 개축 | D11: 정읍 | E11: 업무편의성 | G11: 3957 | H11: 2019년 | I11: 2350000 | J11: 0 | K11: 0 | L11: 0 | M11: 0 | N11: 0 | O11: 0 | P11: =SUM(J11:O11) -> 0 | X11: 350000 | AD11: =SUM(X11:AC11) -> 350000 | AN11: =SUM(J11-X11) -> -350000 | AT11: =SUM(AN11:AS11) -> -350000
B12: 경인청 | C12: 신축 | D12: 인천용현지구 | E12: 신설수요 | G12: 577.3 | H12: 2019년 | I12: 1775000 | J12: 0 | K12: 0 | L12: 0 | M12: 0 | N12: 0 | O12: 0 | P12: =SUM(J12:O12) -> 0 | X12: 1042000 | Y12: 0 | Z12: 0 | AA12: 0 | AB12: 0 | AC12: 0 | AD12: =SUM(X12:AC12) -> 1042000 | AT12: =SUM(AN12:AS12) -> 0
B13: 소계 | J13: =SUM(J5:J12) -> 9325000 | K13: =SUM(K5:K12) -> 0 | L13: =SUM(L5:L12) -> 0 | M13: =SUM(M5:M12) -> 0 | N13: =SUM(N5:N12) -> 0 | O13: =SUM(O5:O12) -> 0 | P13: =SUM(P5:P12) -> 9325000 | Q13: =SUM(Q5:Q12) -> 0 | ... AT13: =SUM(AT5:AT12) -> 1042000
A14: 신규공사 | B14: 조달 | C14: 신축 | D14: 양주옥정지구 | E14: 신설수요 | F14: 4 | G14: 7000 | H14: 19-22년 | I14: 15006 | J14: 0 | K14: 231000 | L14: 346000 | M14: 0 | N14: 0 | O14: 0 | P14: =SUM(J14:O14) -> 577000 | R14: 0 | S14: 0 | T14: 0 | U14: 0 | V14: 0 | W14: =SUM(Q14:V14) -> 0 | X14: 0 | Y14: 231000 | Z14: 346000 | AA14: 0 | AB14: 0 | AC14: 0 | AD14: =SUM(X14:AC14) -> 577000 | AE14: =SUM(Q14,X14) -> 0 | AF14: =SUM(R14,Y14) -> 231000 | AG14: =SUM(S14,Z14) -> 346000 | AH14: =SUM(T14,AA14) -> 0 | AI14: =SUM(U14,AB14) -> 0 | AJ14: =SUM(V14,AC14) -> 0 | AK14: =SUM(AE14:AJ14) -> 577000 | AN14: =SUM(J14-X14) -> 0 | AO14: =SUM(K14-Y14) -> 0 | AP14: =SUM(L14-Z14) -> 0 | AQ14: =SUM(M14-AA14) -> 0 | AR14: =SUM(N14-AB14) -> 0 | AS14: =SUM(O14-AC14) -> 0 | AT14: =SUM(AN14:AS14) -> 0
B15: 조달 | C15: 리모델링 | D15: 천안 | E15: 업무편의성 | F15: 2 | G15: 9400 | H15: 19-22년 | I15: 19864 | J15: 0 | K15: 305000 | L15: 457000 | M15: 0 | N15: 0 | O15: 0 | P15: =SUM(J15:O15) -> 762000 | R15: 0 | S15: 0 | T15: 0 | U15: 0 | V15: 0 | W15: =SUM(Q15:V15) -> 0 | X15: 0 | Y15: 159000 | Z15: 236000 | AA15: 0 | AB15: 0 | AC15: 0 | AD15: =SUM(X15:AC15) -> 395000 | AE15: =SUM(Q15,X15) -> 0 | AF15: =SUM(R15,Y15) -> 159000 | AG15: =SUM(S15,Z15) -> 236000 | AH15: =SUM(T15,AA15) -> 0 | AI15: =SUM(U15,AB15) -> 0 | AJ15: =SUM(V15,AC15) -> 0 | AK15: =SUM(AE15:AJ15) -> 395000 | AN15: =SUM(J15-X15) -> 0 | AO15: =SUM(K15-Y15) -> 146000 | AP15: =SUM(L15-Z15) -> 221000 | AQ15: =SUM(M15-AA15) -> 0 | AR15: =SUM(N15-AB15) -> 0 | AS15: =SUM(O15-AC15) -> 0 | AT15: =SUM(AN15:AS15) -> 367000
B16: 조달 | C16: 개축 | D16: 대구 | E16: 업무편의성 | F16: 4 | G16: 9400 | H16: 19-22년 | I16: 19864 | J16: 0 | K16: 305000 | L16: 457000 | M16: 0 | N16: 0 | O16: 0 | P16: =SUM(J16:O16) -> 762000 | R16: 0 | S16: 0 | T16: 0 | U16: 0 | V16: 0 | W16: =SUM(Q16:V16) -> 0 | X16: 0 | Y16: 0 | Z16: 0 | AA16: 0 | AB16: 0 | AC16: 0 | AD16: =SUM(X16:AC16) -> 0 | AE16: =SUM(Q16,X16) -> 0 | AF16: =SUM(R16,Y16) -> 0 | AG16: =SUM(S16,Z16) -> 0 | AH16: =SUM(T16,AA16) -> 0 | AI16: =SUM(U16,AB16) -> 0 | AJ16: =SUM(V16,AC16) -> 0 | AK16: =SUM(AE16:AJ16) -> 0 | AN16: =SUM(J16-X16) -> 0 | AO16: =SUM(K16-Y16) -> 305000 | AP16: =SUM(L16-Z16) -> 457000 | AQ16: =SUM(M16-AA16) -> 0 | AR16: =SUM(N16-AB16) -> 0 | AS16: =SUM(O16-AC16) -> 0 | AT16: =SUM(AN16:AS16) -> 762000
B17: 조달 | C17: 증축 | D17: 광명 | E17: 업무편의성 | F17: 4 | G17: 1200 | H17: 19-20년 | I17: 3174 | J17: 0 | K17: 52000 | L17: 78000 | M17: 900000 | N17: 9000 | O17: 3000 | P17: =SUM(J17:O17) -> 1042000 | R17: 0 | S17: 0 | T17: 0 | U17: 0 | V17: 0 | W17: =SUM(Q17:V17) -> 0 | X17: 0 | Y17: 0 | Z17: 0 | AA17: 0 | AB17: 0 | AC17: 0 | AD17: =SUM(X17:AC17) -> 0 | AE17: =SUM(Q17,X17) -> 0 | AF17: =SUM(R17,Y17) -> 0 | AG17: =SUM(S17,Z17) -> 0 | AH17: =SUM(T17,AA17) -> 0 | AI17: =SUM(U17,AB17) -> 0 | AJ17: =SUM(V17,AC17) -> 0 | AK17: =SUM(AE17:AJ17) -> 0 | AN17: =SUM(J17-X17) -> 0 | AO17: =SUM(K17-Y17) -> 52000 | AP17: =SUM(L17-Z17) -> 78000 | AQ17: =SUM(M17-AA17) -> 900000 | AR17: =SUM(N17-AB17) -> 9000 | AS17: =SUM(O17-AC17) -> 3000 | AT17: =SUM(AN17:AS17) -> 1042000
B18: 조달 | C18: 신축 | D18: 화성 | E18: 업무편의성 | F18: 7 | G18: 14500 | H18: 19-22 | I18: 31964 | J18: 0 | K18: 0 | L18: 0 | M18: 0 | N18: 0 | O18: 0 | P18: =SUM(J18:O18) -> 0 | X18: 0 | Y18: 451000 | Z18: 678000 | AA18: 0 | AB18: 0 | AC18: 0 | AD18: =SUM(X18:AC18) -> 1129000 | AN18: 0 | AO18: 0 | AP18: 0 | AQ18: 0 | AR18: 0 | AS18: 0 | AT18: =SUM(AN18:AS18) -> 0
B19: 경인청 | C19: 증축 | D19: IPO | E19: 업무편의성 | F19: 1 | G19: 2250 | H19: 19-20 | I19: 4000 | J19: 0 | K19: 0 | L19: 0 | M19: 0 | N19: 0 | O19: 0 | P19: =SUM(J19:O19) -> 0 | X19: 0 | Y19: 52000 | Z19: 78000 | AA19: 900000 | AB19: 9000 | AC19: 3000 | AD19: =SUM(X19:AC19) -> 1042000 | AN19: 0 | AO19: 0 | AP19: 0 | AQ19: 0 | AR19: 0 | AS19: 0 | AT19: =SUM(AN19:AS19) -> 0
B20: 소계 | J20: =SUM(J14:J19) -> 0 | K20: =SUM(K14:K19) -> 893000 | L20: =SUM(L14:L19) -> 1338000 | M20: =SUM(M14:M19) -> 900000 | N20: =SUM(N14:N19) -> 9000 | O20: =SUM(O14:O19) -> 3000 | P20: =SUM(P14:P19) -> 3143000 | Q20: =SUM(Q14:Q19) -> 0 | ... AT20: =SUM(AT14:AT19) -> 2171000
A21: 계속공사 | B21: 경인청 | C21: 신축 | D21: 하남미사 | E21: 신설수요 | F21: 2 | G21: 395 | H21: 18-19년 | I21: 1102000 | J21: 0 | K21: 0 | L21: 0 | M21: 0 | N21: 0 | O21: 0 | P21: =SUM(J21:O21) -> 0 | R21: 0 | S21: 0 | T21: 917984 | U21: 10500 | V21: 0 | W21: =SUM(Q21:V21) -> 928484 | X21: 0 | Y21: 0 | Z21: 0 | AA21: 55000 | AB21: 0 | AC21: 5000 | AD21: =SUM(X21:AC21) -> 60000 | AE21: =SUM(Q21,X21) -> 0 | AF21: =SUM(R21,Y21) -> 0 | AG21: =SUM(S21,Z21) -> 0 | AH21: =SUM(T21,AA21) -> 972984 | AI21: =SUM(U21,AB21) -> 10500 | AJ21: =SUM(V21,AC21) -> 5000 | AK21: =SUM(AE21:AJ21) -> 988484 | AN21: =SUM(J21-X21) -> 0 | AO21: =SUM(K21-Y21) -> 0 | AP21: =SUM(L21-Z21) -> 0 | AQ21: =SUM(M21-AA21) -> -55000 | AR21: =SUM(N21-AB21) -> 0 | AS21: =SUM(O21-AC21) -> -5000 | AT21: =SUM(AN21:AS21) -> -60000
B22: 경인청 | C22: 개축 | D22: 강화온수 | E22: 업무편의성 | F22: 3 | G22: 550 | H22: 18-19년 | I22: 1174000 | J22: 0 | K22: 0 | L22: 0 | M22: 0 | N22: 0 | O22: 0 | P22: =SUM(J22:O22) -> 0 | R22: 0 | S22: 0 | T22: 273820 | U22: 6700 | V22: 0 | W22: =SUM(Q22:V22) -> 280520 | X22: 0 | Y22: 0 | Z22: 0 | AA22: 753000 | AB22: 5000 | AC22: 5000 | AD22: =SUM(X22:AC22) -> 763000 | AE22: =SUM(Q22,X22) -> 0 | AF22: =SUM(R22,Y22) -> 0 | AG22: =SUM(S22,Z22) -> 0 | AH22: =SUM(T22,AA22) -> 1026820 | AI22: =SUM(U22,AB22) -> 11700 | AJ22: =SUM(V22,AC22) -> 5000 | AK22: =SUM(AE22:AJ22) -> 1043520 | AN22: =SUM(J22-X22) -> 0 | AO22: =SUM(K22-Y22) -> 0 | AP22: =SUM(L22-Z22) -> 0 | AQ22: =SUM(M22-AA22) -> -753000 | AR22: =SUM(N22-AB22) -> -5000 | AS22: =SUM(O22-AC22) -> -5000 | AT22: =SUM(AN22:AS22) -> -763000
B23: 경인청 | C23: 개축 | D23: 양평물류 | E23: 업무편의성 | F23: 1 | H23: 18-19년 | J23: 0 | K23: 0 | L23: 0 | M23: 0 | N23: 0 | O23: 0 | P23: =SUM(J23:O23) -> 0 | R23: 0 | S23: 0 | T23: 0 | U23: 5000 | V23: 0 | W23: =SUM(Q23:V23) -> 5000 | X23: 0 | Y23: 0 | Z23: 0 | AA23: 0 | AB23: 0 | AC23: 0 | AD23: =SUM(X23:AC23) -> 0 | AE23: =SUM(Q23,X23) -> 0 | AF23: =SUM(R23,Y23) -> 0 | AG23: =SUM(S23,Z23) -> 0 | AH23: =SUM(T23,AA23) -> 0 | AI23: =SUM(U23,AB23) -> 5000 | AJ23: =SUM(V23,AC23) -> 0 | AK23: =SUM(AE23:AJ23) -> 5000 | AN23: =SUM(J23-X23) -> 0 | AO23: =SUM(K23-Y23) -> 0 | AP23: =SUM(L23-Z23) -> 0 | AQ23: =SUM(M23-AA23) -> 0 | AR23: =SUM(N23-AB23) -> 0 | AS23: =SUM(O23-AC23) -> 0 | AT23: =SUM(AN23:AS23) -> 0
B24: 전남청 | C24: 신축 | D24: 수완지구 | E24: 신설수요 | F24: 3 | G24: 1000 | H24: 18-19년 | I24: 2267000 | J24: 0 | K24: 0 | L24: 0 | M24: 2000000 | N24: 21000 | O24: 7000 | P24: =SUM(J24:O24) -> 2028000 | R24: 0 | S24: 0 | T24: 0 | U24: 0 | V24: 0 | W24: =SUM(Q24:V24) -> 0 | X24: 0 | Y24: 0 | Z24: 0 | AA24: 2000000 | AB24: 25000 | AC24: 12000 | AD24: =SUM(X24:AC24) -> 2037000 | AE24: =SUM(Q24,X24) -> 0 | AF24: =SUM(R24,Y24) -> 0 | AG24: =SUM(S24,Z24) -> 0 | AH24: =SUM(T24,AA24) -> 2000000 | AI24: =SUM(U24,AB24) -> 25000 | AJ24: =SUM(V24,AC24) -> 12000 | AK24: =SUM(AE24:AJ24) -> 2037000 | AN24: =SUM(J24-X24) -> 0 | AO24: =SUM(K24-Y24) -> 0 | AP24: =SUM(L24-Z24) -> 0 | AQ24: =SUM(M24-AA24) -> 0 | AR24: =SUM(N24-AB24) -> -4000 | AS24: =SUM(O24-AC24) -> -5000 | AT24: =SUM(AN24:AS24) -> -9000
B25: 전남청 | C25: 개축 | D25: 순천행동 | E25: 업무편의성 | F25: 1 | G25: 400 | H25: 18-19년 | I25: 1367000 | J25: 0 | K25: 0 | L25: 0 | M25: 800000 | N25: 10000 | O25: 3000 | P25: =SUM(J25:O25) -> 813000 | R25: 0 | S25: 0 | T25: 0 | U25: 0 | V25: 0 | W25: =SUM(Q25:V25) -> 0 | X25: 0 | Y25: 0 | Z25: 0 | AA25: 800000 | AB25: 10000 | AC25: 5000 | AD25: =SUM(X25:AC25) -> 815000 | AE25: =SUM(Q25,X25) -> 0 | AF25: =SUM(R25,Y25) -> 0 | AG25: =SUM(S25,Z25) -> 0 | AH25: =SUM(T25,AA25) -> 800000 | AI25: =SUM(U25,AB25) -> 10000 | AJ25: =SUM(V25,AC25) -> 5000 | AK25: =SUM(AE25:AJ25) -> 815000 | AN25: =SUM(J25-X25) -> 0 | AO25: =SUM(K25-Y25) -> 0 | AP25: =SUM(L25-Z25) -> 0 | AQ25: =SUM(M25-AA25) -> 0 | AR25: =SUM(N25-AB25) -> 0 | AS25: =SUM(O25-AC25) -> -2000 | AT25: =SUM(AN25:AS25) -> -2000
B26: 조달 | C26: 개축 | D26: 부산진 | E26: 업무편의성 | F26: -1/7 | G26: 12891 | H26: 18-21년 | I26: 28433000 | J26: 0 | K26: 0 | L26: 0 | M26: 5376000 | N26: 345000 | O26: 9000 | P26: =SUM(J26:O26) -> 5730000 | R26: 39478 | S26: 0 | T26: 0 | U26: 0 | V26: 0 | W26: =SUM(Q26:V26) -> 39478 | X26: 0 | Y26: 0 | Z26: 0 | AA26: 3870000 | AB26: 300000 | AC26: 17000 | AD26: =SUM(X26:AC26) -> 4187000 | AE26: =SUM(Q26,X26) -> 0 | AF26: =SUM(R26,Y26) -> 39478 | AG26: =SUM(S26,Z26) -> 0 | AH26: =SUM(T26,AA26) -> 3870000 | AI26: =SUM(U26,AB26) -> 300000 | AJ26: =SUM(V26,AC26) -> 17000 | AK26: =SUM(AE26:AJ26) -> 4226478 | AN26: =SUM(J26-X26) -> 0 | AO26: =SUM(K26-Y26) -> 0 | AP26: =SUM(L26-Z26) -> 0 | AQ26: =SUM(M26-AA26) -> 1506000 | AR26: =SUM(N26-AB26) -> 45000 | AS26: =SUM(O26-AC26) -> -8000 | AT26: =SUM(AN26:AS26) -> 1543000
B27: 조달 | C27: 개축 | D27: 김해진영 | E27: 업무편의성 | F27: -1/2 | G27: 1800 | H27: 18-20년 | I27: 3802744 | J27: 0 | K27: 0 | L27: 0 | M27: 2160000 | N27: 23000 | O27: 7000 | P27: =SUM(J27:O27) -> 2190000 | R27: 0 | S27: 0 | T27: 0 | U27: 0 | V27: 0 | W27: =SUM(Q27:V27) -> 0 | X27: 0 | Y27: 0 | Z27: 0 | AA27: 1738000 | AB27: 45000 | AC27: 6000 | AD27: =SUM(X27:AC27) -> 1789000 | AE27: =SUM(Q27,X27) -> 0 | AF27: =SUM(R27,Y27) -> 0 | AG27: =SUM(S27,Z27) -> 0 | AH27: =SUM(T27,AA27) -> 1738000 | AI27: =SUM(U27,AB27) -> 45000 | AJ27: =SUM(V27,AC27) -> 6000 | AK27: =SUM(AE27:AJ27) -> 1789000 | AN27: =SUM(J27-X27) -> 0 | AO27: =SUM(K27-Y27) -> 0 | AP27: =SUM(L27-Z27) -> 0 | AQ27: =SUM(M27-AA27) -> 422000 | AR27: =SUM(N27-AB27) -> -22000 | AS27: =SUM(O27-AC27) -> 1000 | AT27: =SUM(AN27:AS27) -> 401000
B28: 조달 | C28: 개축 | D28: 제주하귀 | E28: 업무편의성 | F28: -1/3 | G28: 1100 | H28: 18-20년 | I28: 2328604 | J28: 0 | K28: 0 | L28: 0 | M28: 2200000 | N28: 25000 | O28: 8000 | P28: =SUM(J28:O28) -> 2233000 | R28: 0 | S28: 0 | T28: 0 | U28: 0 | V28: 0 | W28: =SUM(Q28:V28) -> 0 | X28: 0 | Y28: 0 | Z28: 0 | AA28: 1366000 | AB28: 37000 | AC28: 6000 | AD28: =SUM(X28:AC28) -> 1409000 | AE28: =SUM(Q28,X28) -> 0 | AF28: =SUM(R28,Y28) -> 0 | AG28: =SUM(S28,Z28) -> 0 | AH28: =SUM(T28,AA28) -> 1366000 | AI28: =SUM(U28,AB28) -> 37000 | AJ28: =SUM(V28,AC28) -> 6000 | AK28: =SUM(AE28:AJ28) -> 1409000 | AN28: =SUM(J28-X28) -> 0 | AO28: =SUM(K28-Y28) -> 0 | AP28: =SUM(L28-Z28) -> 0 | AQ28: =SUM(M28-AA28) -> 834000 | AR28: =SUM(N28-AB28) -> -12000 | AS28: =SUM(O28-AC28) -> 2000 | AT28: =SUM(AN28:AS28) -> 824000
B29: 조달 | C29: 개축 | D29: 인천영종동 | E29: 신설수요 | F29: -1/3 | G29: 7580 | H29: 18-21년 | I29: 16264000 | J29: 0 | K29: 0 | L29: 0 | M29: 3991000 | N29: 330000 | O29: 9000 | P29: =SUM(J29:O29) -> 4330000 | R29: 35174 | S29: 218697 | T29: 0 | U29: 0 | V29: 0 | W29: =SUM(Q29:V29) -> 253871 | X29: 0 | Y29: 0 | Z29: 0 | AA29: 1050000 | AB29: 130000 | AC29: 8000 | AD29: =SUM(X29:AC29) -> 1188000 | AE29: =SUM(Q29,X29) -> 0 | AF29: =SUM(R29,Y29) -> 35174 | AG29: =SUM(S29,Z29) -> 218697 | AH29: =SUM(T29,AA29) -> 1050000 | AI29: =SUM(U29,AB29) -> 130000 | AJ29: =SUM(V29,AC29) -> 8000 | AK29: =SUM(AE29:AJ29) -> 1441871 | AN29: =SUM(J29-X29) -> 0 | AO29: =SUM(K29-Y29) -> 0 | AP29: =SUM(L29-Z29) -> 0 | AQ29: =SUM(M29-AA29) -> 2941000 | AR29: =SUM(N29-AB29) -> 200000 | AS29: =SUM(O29-AC29) -> 1000 | AT29: =SUM(AN29:AS29) -> 3142000
B30: 조달 | C30: 개축 | D30: 정읍 | E30: 업무편의성 | F30: -1/3 | G30: 5640 | H30: 18-21년 | I30: 12384000 | J30: 0 | K30: 0 | L30: 0 | M30: 3991000 | N30: 330000 | O30: 9000 | P30: =SUM(J30:O30) -> 4330000 | R30: 4688 | S30: 303001 | T30: 0 | U30: 0 | V30: 0 | W30: =SUM(Q30:V30) -> 307689 | X30: 0 | Y30: 0 | Z30: 0 | AA30: 0 | AB30: 0 | AC30: 0 | AD30: =SUM(X30:AC30) -> 0 | AE30: =SUM(Q30,X30) -> 0 | AF30: =SUM(R30,Y30) -> 4688 | AG30: =SUM(S30,Z30) -> 303001 | AH30: =SUM(T30,AA30) -> 0 | AI30: =SUM(U30,AB30) -> 0 | AJ30: =SUM(V30,AC30) -> 0 | AK30: =SUM(AE30:AJ30) -> 307689 | AN30: =SUM(J30-X30) -> 0 | AO30: =SUM(K30-Y30) -> 0 | AP30: =SUM(L30-Z30) -> 0 | AQ30: =SUM(M30-AA30) -> 3991000 | AR30: =SUM(N30-AB30) -> 330000 | AS30: =SUM(O30-AC30) -> 9000 | AT30: =SUM(AN30:AS30) -> 4330000
B31: 조달 | C31: 개축 | D31: 여의도 | E31: 전략적수익성 | F31: -4/33 | G31: 68487 | H31: 16-20년 | I31: 163108000 | J31: 0 | K31: 0 | L31: 0 | M31: 48973000 | N31: 1500000 | O31: 82000 | P31: =SUM(J31:O31) -> 50555000 | R31: 0 | S31: 0 | T31: 4163923 | U31: 215192 | V31: 0 | W31: =SUM(Q31:V31) -> 4379115 | X31: 0 | Y31: 0 | Z31: 0 | AA31: 49000000 | AB31: 2000000 | AC31: 82000 | AD31: =SUM(X31:AC31) -> 51082000 | AE31: =SUM(Q31,X31) -> 0 | AF31: =SUM(R31,Y31) -> 0 | AG31: =SUM(S31,Z31) -> 0 | AH31: =SUM(T31,AA31) -> 53163923 | AI31: =SUM(U31,AB31) -> 2215192 | AJ31: =SUM(V31,AC31) -> 82000 | AK31: =SUM(AE31:AJ31) -> 55461115 | AN31: =SUM(J31-X31) -> 0 | AO31: =SUM(K31-Y31) -> 0 | AP31: =SUM(L31-Z31) -> 0 | AQ31: =SUM(M31-AA31) -> -27000 | AR31: =SUM(N31-AB31) -> -500000 | AS31: =SUM(O31-AC31) -> 0 | AT31: =SUM(AN31:AS31) -> -527000
B32: 조달 | C32: 개축 | D32: 성남 | E32: 업무편의성 | F32: -2/7 | G32: 20981 | H32: 15-19 | I32: 45774678 | J32: 0 | K32: 0 | L32: 0 | M32: 13670000 | N32: 66000 | O32: 36000 | P32: =SUM(J32:O32) -> 13772000 | R32: 0 | S32: 0 | T32: 1730164 | U32: 338074 | V32: 0 | W32: =SUM(Q32:V32) -> 2068238 | X32: 0 | Y32: 0 | Z32: 0 | AA32: 14217000 | AB32: 210000 | AC32: 35000 | AD32: =SUM(X32:AC32) -> 14462000 | AE32: =SUM(Q32,X32) -> 0 | AF32: =SUM(R32,Y32) -> 0 | AG32: =SUM(S32,Z32) -> 0 | AH32: =SUM(T32,AA32) -> 15947164 | AI32: =SUM(U32,AB32) -> 548074 | AJ32: =SUM(V32,AC32) -> 35000 | AK32: =SUM(AE32:AJ32) -> 16530238 | AN32: =SUM(J32-X32) -> 0 | AO32: =SUM(K32-Y32) -> 0 | AP32: =SUM(L32-Z32) -> 0 | AQ32: =SUM(M32-AA32) -> -547000 | AR32: =SUM(N32-AB32) -> -144000 | AS32: =SUM(O32-AC32) -> 1000 | AT32: =SUM(AN32:AS32) -> -690000
B33: 조달 | C33: 개축 | D33: 부산사하 | E33: 업무편의성 | F33: -1/4 | G33: 8363 | H33: 17-20년 | I33: 21424216 | J33: 0 | K33: 0 | L33: 0 | M33: 6710000 | N33: 420000 | O33: 20000 | P33: =SUM(J33:O33) -> 7150000 | R33: 0 | S33: 0 | T33: 2031981 | U33: 183753 | V33: 2400 | W33: =SUM(Q33:V33) -> 2218134 | X33: 0 | Y33: 0 | Z33: 0 | AA33: 6853000 | AB33: 85000 | AC33: 20000 | AD33: =SUM(X33:AC33) -> 6958000 | AE33: =SUM(Q33,X33) -> 0 | AF33: =SUM(R33,Y33) -> 0 | AG33: =SUM(S33,Z33) -> 0 | AH33: =SUM(T33,AA33) -> 8884981 | AI33: =SUM(U33,AB33) -> 268753 | AJ33: =SUM(V33,AC33) -> 22400 | AK33: =SUM(AE33:AJ33) -> 9176134 | AN33: =SUM(J33-X33) -> 0 | AO33: =SUM(K33-Y33) -> 0 | AP33: =SUM(L33-Z33) -> 0 | AQ33: =SUM(M33-AA33) -> -143000 | AR33: =SUM(N33-AB33) -> 335000 | AS33: =SUM(O33-AC33) -> 0 | AT33: =SUM(AN33:AS33) -> 192000
B34: 조달 | C34: 개축 | D34: 북광주 | E34: 업무편의성 | F34: -1/3 | G34: 9155 | H34: 17-20년 | I34: 19643854 | J34: 0 | K34: 0 | L34: 0 | M34: 4896000 | N34: 457000 | O34: 20000 | P34: =SUM(J34:O34) -> 5373000 | R34: 0 | S34: 0 | T34: 498902 | U34: 111080 | V34: 2300 | W34: =SUM(Q34:V34) -> 612282 | X34: 0 | Y34: 0 | Z34: 0 | AA34: 11812000 | AB34: 300000 | AC34: 20000 | AD34: =SUM(X34:AC34) -> 12132000 | AE34: =SUM(Q34,X34) -> 0 | AF34: =SUM(R34,Y34) -> 0 | AG34: =SUM(S34,Z34) -> 0 | AH34: =SUM(T34,AA34) -> 12310902 | AI34: =SUM(U34,AB34) -> 411080 | AJ34: =SUM(V34,AC34) -> 22300 | AK34: =SUM(AE34:AJ34) -> 12744282 | AN34: =SUM(J34-X34) -> 0 | AO34: =SUM(K34-Y34) -> 0 | AP34: =SUM(L34-Z34) -> 0 | AQ34: =SUM(M34-AA34) -> -6916000 | AR34: =SUM(N34-AB34) -> 157000 | AS34: =SUM(O34-AC34) -> 0 | AT34: =SUM(AN34:AS34) -> -6759000
B35: 조달 | C35: 개축 | D35: 하남 | E35: 업무편의성 | F35: -1/4 | G35: 6960 | H35: 17-20년 | I35: 15056021 | J35: 0 | K35: 0 | L35: 0 | M35: 9224000 | N35: 380000 | O35: 19000 | P35: =SUM(J35:O35) -> 9623000 | T35: 195864 | U35: 107052 | V35: 3000 | W35: =SUM(Q35:V35) -> 305916 | X35: 0 | Y35: 0 | Z35: 0 | AA35: 9477000 | AB35: 260000 | AC35: 8000 | AD35: =SUM(X35:AC35) -> 9745000 | AE35: =SUM(Q35,X35) -> 0 | AF35: =SUM(R35,Y35) -> 0 | AG35: =SUM(S35,Z35) -> 0 | AH35: =SUM(T35,AA35) -> 9672864 | AI35: =SUM(U35,AB35) -> 367052 | AJ35: =SUM(V35,AC35) -> 11000 | AK35: =SUM(AE35:AJ35) -> 10050916 | AN35: =SUM(J35-X35) -> 0 | AO35: =SUM(K35-Y35) -> 0 | AP35: =SUM(L35-Z35) -> 0 | AQ35: =SUM(M35-AA35) -> -253000 | AR35: =SUM(N35-AB35) -> 120000 | AS35: =SUM(O35-AC35) -> 11000 | AT35: =SUM(AN35:AS35) -> -122000
B36: 소계 | J36: =SUM(J21:J35) -> 0 | K36: =SUM(K21:K35) -> 0 | L36: =SUM(L21:L35) -> 0 | M36: =SUM(M21:M35) -> 103991000 | N36: =SUM(N21:N35) -> 3907000 | O36: =SUM(O21:O35) -> 229000 | P36: =SUM(P21:P35) -> 108127000 | R36: =SUM(R21:R35) -> 79340 | S36: =SUM(S21:S35) -> 521698 | T36: =SUM(T21:T35) -> 9812638 | U36: =SUM(U21:U35) -> 977351 | V36: =SUM(V21:V35) -> 7700 | W36: =SUM(Q36:V36) -> 11398727 | X36: =SUM(X21:X35) -> 0 | Y36: =SUM(Y21:Y35) -> 0 | Z36: =SUM(Z21:Z35) -> 0 | AA36: =SUM(AA21:AA35) -> 102991000 | AB36: =SUM(AB21:AB35) -> 3407000 | AC36: =SUM(AC21:AC35) -> 229000 | AD36: =SUM(X36:AC36) -> 106627000 | AE36: =SUM(AE21:AE35) -> 0 | AF36: =SUM(AF21:AF35) -> 79340 | AG36: =SUM(AG21:AG35) -> 521698 | AH36: =SUM(AH21:AH35) -> 112803638 | AI36: =SUM(AI21:AI35) -> 4384351 | AJ36: =SUM(AJ21:AJ35) -> 236700 | AK36: =SUM(AE36:AJ36) -> 118025727 | AN36: =SUM(AN21:AN35) -> 0 | AO36: =SUM(AO21:AO35) -> 0 | AP36: =SUM(AP21:AP35) -> 0 | AQ36: =SUM(AQ21:AQ35) -> 1000000 | AR36: =SUM(AR21:AR35) -> 500000 | AS36: =SUM(AS21:AS35) -> 0 | AT36: =SUM(AN36:AS36) -> 1500000
A37: 건물공사 계 | J37: =SUM(J20,J36) -> 0 | K37: =SUM(K20,K36) -> 893000 | L37: =SUM(L20,L36) -> 1338000 | M37: =SUM(M20,M36) -> 104891000 | N37: =SUM(N20,N36) -> 3916000 | O37: =SUM(O20,O36) -> 232000 | P37: =SUM(P20,P36) -> 111270000 | R37: =SUM(R20,R36) -> 79340 | S37: =SUM(S20,S36) -> 521698 | T37: =SUM(T20,T36) -> 9812638 | U37: =SUM(U20,U36) -> 977351 | V37: =SUM(V20,V36) -> 7700 | W37: =SUM(Q37:V37) -> 11398727 | X37: =SUM(X20,X36) -> 0 | Y37: =SUM(Y20,Y36) -> 893000 | Z37: =SUM(Z20,Z36) -> 1338000 | AA37: =SUM(AA20,AA36) -> 103891000 | AB37: =SUM(AB20,AB36) -> 3416000 | AC37: =SUM(AC20,AC36) -> 232000 | AD37: =SUM(X37:AC37) -> 109770000 | AE37: =SUM(AE20,AE36) -> 0 | AF37: =SUM(AF20,AF36) -> 469340 | AG37: =SUM(AG20,AG36) -> 1103698 | AH37: =SUM(AH20,AH36) -> 112803638 | AI37: =SUM(AI20,AI36) -> 4384351 | AJ37: =SUM(AJ20,AJ36) -> 236700 | AK37: =SUM(AE37:AJ37) -> 118997727 | AO37: =SUM(AO20,AO36) -> 503000 | AP37: =SUM(AP20,AP36) -> 756000 | AQ37: =SUM(AQ20,AQ36) -> 1900000 | AR37: =SUM(AR20,AR36) -> 509000 | AS37: =SUM(AS20,AS36) -> 3000 | AT37: =SUM(AN37:AS37) -> 3671000
A38: 합 계 | J38: =SUM(J13,J37) -> 9325000 | K38: =SUM(K13,K37) -> 893000 | L38: =SUM(L13,L37) -> 1338000 | M38: =SUM(M13,M37) -> 104891000 | N38: =SUM(N13,N37) -> 3916000 | O38: =SUM(O13,O37) -> 232000 | P38: =SUM(P13,P37) -> 120595000 | R38: =SUM(R13,R37) -> 79340 | S38: =SUM(S13,S37) -> 521698 | T38: =SUM(T13,T37) -> 9812638 | U38: =SUM(U13,U37) -> 977351 | V38: =SUM(V13,V37) -> 7700 | W38: =SUM(Q38:V38) -> 11398727 | X38: =SUM(X13,X37) -> 9325000 | Y38: =SUM(Y13,Y37) -> 893000 | Z38: =SUM(Z13,Z37) -> 1338000 | AA38: =SUM(AA13,AA37) -> 103891000 | AB38: =SUM(AB13,AB37) -> 3416000 | AC38: =SUM(AC13,AC37) -> 232000 | AD38: =SUM(X38:AC38) -> 119095000 | AE38: =SUM(AE13,AE37) -> 7933000 | AF38: =SUM(AF13,AF37) -> 469340 | AG38: =SUM(AG13,AG37) -> 1103698 | AH38: =SUM(AH13,AH37) -> 112803638 | AI38: =SUM(AI13,AI37) -> 4384351 | AJ38: =SUM(AJ13,AJ37) -> 236700 | AK38: =SUM(AE38:AJ38) -> 126930727 | AO38: =SUM(AO13,AO37) -> 503000 | AP38: =SUM(AP13,AP37) -> 756000 | AQ38: =SUM(AQ13,AQ37) -> 1900000 | AR38: =SUM(AR13,AR37) -> 509000 | AS38: =SUM(AS13,AS37) -> 3000 | AT38: =SUM(AN38:AS38) -> 3671000
Y40: =K38-Y38 -> 0 | Z40: =L38-Z38 -> 0 | AA40: =M38-AA38 -> 1000000 | AB40: =N38-AB38 -> 500000 | AC40: =O38-AC38 -> 0 | AD40: =P38-AD38 -> 1500000

Sheet 19년도 소요예산(0107)
B1: 2019년도 건립사업 소요예산 내역
AK2: (단위: 천 원) | AL2: (단위: 천 원) | AT2: (단위: 천원)
A3: 구분 | B3: 시행주체 | C3: 유형 | D3: 국사명 | F3: 건물규모 | G3: 연면적 | H3: 사업기간 | I3: 총사업비 | J3: 2019년도 예산편성액(A) | Q3: 2018년 이월액(B) | X3: 2019년 소요예산(C) | AE3: 2019년 배정총액(B+C) | AL3: 비 고 | AN3: 2019년도 예산편성액 대비 소요예산 차액(A-C)
J4: 410-00 | K4: 420-01 | L4: 420-02 | M4: 420-03 | N4: 420-04 | O4: 420-05 | P4: 계 | Q4: 410-00 | R4: 420-01 | S4: 420-02 | T4: 420-03 | U4: 420-04 | V4: 420-05 | W4: 계 | X4: 410-00 | Y4: 420-01 | Z4: 420-02 | AA4: 420-03 | AB4: 420-04 | AC4: 420-05 | AD4: 계 | AE4: 410-00 | AF4: 420-01 | AG4: 420-02 | AH4: 420-03 | AI4: 420-04 | AJ4: 420-05 | AK4: 계 | AN4: 410-00 | AO4: 420-01 | AP4: 420-02 | AQ4: 420-03 | AR4: 420-04 | AS4: 420-05 | AT4: 계
A5: 부지매입 | B5: 서울청 | C5: 신축 | D5: 강남세곡지구 | G5: 896 | H5: 2019년 | I5: 2025000 | J5: 2025000 | K5: 0 | L5: 0 | M5: 0 | N5: 0 | O5: 0 | P5: =SUM(J5:O5) -> 2025000 | Q5: 0 | R5: 0 | S5: 0 | T5: 0 | U5: 0 | V5: 0 | W5: =SUM(Q5:V5) -> 0 | X5: 0 | Y5: 0 | Z5: 0 | AA5: 0 | AB5: 0 | AC5: 0 | AD5: =SUM(X5:AC5) -> 0 | AE5: =SUM(Q5,X5) -> 0 | AF5: =SUM(R5,Y5) -> 0 | AG5: =SUM(S5,Z5) -> 0 | AH5: =SUM(T5,AA5) -> 0 | AI5: =SUM(U5,AB5) -> 0 | AJ5: =SUM(V5,AC5) -> 0 | AK5: =SUM(AE5:AJ5) -> 0 | AN5: =SUM(J5-X5) -> 2025000 | AO5: =SUM(K5-Y5) -> 0 | AP5: =SUM(L5-Z5) -> 0 | AQ5: =SUM(M5-AA5) -> 0 | AR5: =SUM(N5-AB5) -> 0 | AS5: =SUM(O5-AC5) -> 0 | AT5: =SUM(AN5:AS5) -> 2025000
B6: 서울청 | C6: 신축 | D6: 양주옥정지구 | G6: 2562 | H6: 2019년 | I6: 3825000 | J6: 3825000 | K6: 0 | L6: 0 | M6: 0 | N6: 0 | O6: 0 | P6: =SUM(J6:O6) -> 3825000 | Q6: 0 | R6: 0 | S6: 0 | T6: 0 | U6: 0 | V6: 0 | W6: =SUM(Q6:V6) -> 0 | X6: 3825000 | Y6: 0 | Z6: 0 | AA6: 0 | AB6: 0 | AC6: 0 | AD6: =SUM(X6:AC6) -> 3825000 | AE6: =SUM(Q6,X6) -> 3825000 | AF6: =SUM(R6,Y6) -> 0 | AG6: =SUM(S6,Z6) -> 0 | AH6: =SUM(T6,AA6) -> 0 | AI6: =SUM(U6,AB6) -> 0 | AJ6: =SUM(V6,AC6) -> 0 | AK6: =SUM(AE6:AJ6) -> 3825000 | AN6: =SUM(J6-X6) -> 0 | AO6: =SUM(K6-Y6) -> 0 | AP6: =SUM(L6-Z6) -> 0 | AQ6: =SUM(M6-AA6) -> 0 | AR6: =SUM(N6-AB6) -> 0 | AS6: =SUM(O6-AC6) -> 0 | AT6: =SUM(AN6:AS6) -> 0
B7: 부산청 | C7: 신축 | D7: 창원감계지구 | G7: 1500 | H7: 2019년 | I7: 2400000 | J7: 2400000 | K7: 0 | L7: 0 | M7: 0 | N7: 0 | O7: 0 | P7: =SUM(J7:O7) -> 2400000 | Q7: 0 | R7: 0 | S7: 0 | T7: 0 | U7: 0 | V7: 0 | W7: =SUM(Q7:V7) -> 0 | X7: 2400000 | Y7: 0 | Z7: 0 | AA7: 0 | AB7: 0 | AC7: 0 | AD7: =SUM(X7:AC7) -> 2400000 | AE7: =SUM(Q7,X7) -> 2400000 | AF7: =SUM(R7,Y7) -> 0 | AG7: =SUM(S7,Z7) -> 0 | AH7: =SUM(T7,AA7) -> 0 | AI7: =SUM(U7,AB7) -> 0 | AJ7: =SUM(V7,AC7) -> 0 | AK7: =SUM(AE7:AJ7) -> 2400000 | AN7: =SUM(J7-X7) -> 0 | AO7: =SUM(K7-Y7) -> 0 | AP7: =SUM(L7-Z7) -> 0 | AQ7: =SUM(M7-AA7) -> 0 | AR7: =SUM(N7-AB7) -> 0 | AS7: =SUM(O7-AC7) -> 0 | AT7: =SUM(AN7:AS7) -> 0
B8: 경북청 | C8: 개축 | D8: 포항흥해 | G8: 1365 | H8: 2019년 | I8: 725000 | J8: 725000 | K8: 0 | L8: 0 | M8: 0 | N8: 0 | O8: 0 | P8: =SUM(J8:O8) -> 725000 | Q8: 0 | R8: 0 | S8: 0 | T8: 0 | U8: 0 | V8: 0 | W8: =SUM(Q8:V8) -> 0 | X8: 725000 | Y8: 0 | Z8: 0 | AA8: 0 | AB8: 0 | AC8: 0 | AD8: =SUM(X8:AC8) -> 725000 | AE8: =SUM(Q8,X8) -> 725000 | AF8: =SUM(R8,Y8) -> 0 | AG8: =SUM(S8,Z8) -> 0 | AH8: =SUM(T8,AA8) -> 0 | AI8: =SUM(U8,AB8) -> 0 | AJ8: =SUM(V8,AC8) -> 0 | AK8: =SUM(AE8:AJ8) -> 725000 | AN8: =SUM(J8-X8) -> 0 | AO8: =SUM(K8-Y8) -> 0 | AP8: =SUM(L8-Z8) -> 0 | AQ8: =SUM(M8-AA8) -> 0 | AR8: =SUM(N8-AB8) -> 0 | AS8: =SUM(O8-AC8) -> 0 | AT8: =SUM(AN8:AS8) -> 0
B9: 강원청 | C9: 신축 | D9: 원주기업도시 | G9: 789 | H9: 2019년 | I9: 350000 | J9: 350000 | K9: 0 | L9: 0 | M9: 0 | N9: 0 | O9: 0 | P9: =SUM(J9:O9) -> 350000 | Q9: 0 | R9: 0 | S9: 0 | T9: 0 | U9: 0 | V9: 0 | W9: =SUM(Q9:V9) -> 0 | X9: 0 | Y9: 0 | Z9: 0 | AA9: 0 | AB9: 0 | AC9: 0 | AD9: =SUM(X9:AC9) -> 0 | AE9: =SUM(Q9,X9) -> 0 | AF9: =SUM(R9,Y9) -> 0 | AG9: =SUM(S9,Z9) -> 0 | AH9: =SUM(T9,AA9) -> 0 | AI9: =SUM(U9,AB9) -> 0 | AJ9: =SUM(V9,AC9) -> 0 | AK9: =SUM(AE9:AJ9) -> 0 | AN9: =SUM(J9-X9) -> 350000 | AO9: =SUM(K9-Y9) -> 0 | AP9: =SUM(L9-Z9) -> 0 | AQ9: =SUM(M9-AA9) -> 0 | AR9: =SUM(N9-AB9) -> 0 | AS9: =SUM(O9-AC9) -> 0 | AT9: =SUM(AN9:AS9) -> 350000
B10: 경인청 | C10: 신축 | D10: 시흥배곧 | G10: 1139 | H10: 2019년 | I10: 2025000 | J10: 0 | K10: 0 | L10: 0 | M10: 0 | N10: 0 | O10: 0 | P10: =SUM(J10:O10) -> 0 | Q10: 0 | R10: 0 | S10: 0 | T10: 0 | U10: 0 | V10: 0 | W10: =SUM(Q10:V10) -> 0 | X10: 983000 | Y10: 0 | Z10: 0 | AA10: 0 | AB10: 0 | AC10: 0 | AD10: =SUM(X10:AC10) -> 983000 | AE10: =SUM(Q10,X10) -> 983000 | AF10: =SUM(R10,Y10) -> 0 | AG10: =SUM(S10,Z10) -> 0 | AH10: =SUM(T10,AA10) -> 0 | AI10: =SUM(U10,AB10) -> 0 | AJ10: =SUM(V10,AC10) -> 0 | AK10: =SUM(AE10:AJ10) -> 983000 | AN10: =SUM(J10-X10) -> -983000 | AO10: =SUM(K10-Y10) -> 0 | AP10: =SUM(L10-Z10) -> 0 | AQ10: =SUM(M10-AA10) -> 0 | AR10: =SUM(N10-AB10) -> 0 | AS10: =SUM(O10-AC10) -> 0 | AT10: =SUM(AN10:AS10) -> -983000
B11: 전북청 | C11: 개축 | D11: 정읍 | G11: 3957 | H11: 2019년 | I11: 2350000 | J11: 0 | K11: 0 | L11: 0 | M11: 0 | N11: 0 | O11: 0 | P11: =SUM(J11:O11) -> 0 | X11: 350000 | AD11: =SUM(X11:AC11) -> 350000 | AN11: =SUM(J11-X11) -> -350000 | AT11: =SUM(AN11:AS11) -> -350000
B12: 경인청 | C12: 신축 | D12: 인천용현지구 | G12: 577.3 | H12: 2019년 | I12: 1775000 | J12: 0 | K12: 0 | L12: 0 | M12: 0 | N12: 0 | O12: 0 | P12: =SUM(J12:O12) -> 0 | X12: 1042000 | Y12: 0 | Z12: 0 | AA12: 0 | AB12: 0 | AC12: 0 | AD12: =SUM(X12:AC12) -> 1042000 | AT12: =SUM(AN12:AS12) -> 0
B13: 소계 | J13: =SUM(J5:J12) -> 9325000 | K13: =SUM(K5:K12) -> 0 | L13: =SUM(L5:L12) -> 0 | M13: =SUM(M5:M12) -> 0 | N13: =SUM(N5:N12) -> 0 | O13: =SUM(O5:O12) -> 0 | P13: =SUM(P5:P12) -> 9325000 | Q13: =SUM(Q5:Q12) -> 0 | ... AT13: =SUM(AT5:AT12) -> 1042000
A14: 신규공사 | B14: 조달 | C14: 신축 | D14: 양주옥정지구 | G14: 7000 | H14: 19-22년 | I14: 15006 | J14: 0 | K14: 231000 | L14: 346000 | M14: 0 | N14: 0 | O14: 0 | P14: =SUM(J14:O14) -> 577000 | R14: 0 | S14: 0 | T14: 0 | U14: 0 | V14: 0 | W14: =SUM(Q14:V14) -> 0 | X14: 0 | Y14: 231000 | Z14: 346000 | AA14: 0 | AB14: 0 | AC14: 0 | AD14: =SUM(X14:AC14) -> 577000 | AE14: =SUM(Q14,X14) -> 0 | AF14: =SUM(R14,Y14) -> 231000 | AG14: =SUM(S14,Z14) -> 346000 | AH14: =SUM(T14,AA14) -> 0 | AI14: =SUM(U14,AB14) -> 0 | AJ14: =SUM(V14,AC14) -> 0 | AK14: =SUM(AE14:AJ14) -> 577000 | AN14: =SUM(J14-X14) -> 0 | AO14: =SUM(K14-Y14) -> 0 | AP14: =SUM(L14-Z14) -> 0 | AQ14: =SUM(M14-AA14) -> 0 | AR14: =SUM(N14-AB14) -> 0 | AS14: =SUM(O14-AC14) -> 0 | AT14: =SUM(AN14:AS14) -> 0
B15: 조달 | C15: 리모델링 | D15: 천안 | G15: 9400 | H15: 19-22년 | I15: 19864 | J15: 0 | K15: 305000 | L15: 457000 | M15: 0 | N15: 0 | O15: 0 | P15: =SUM(J15:O15) -> 762000 | R15: 0 | S15: 0 | T15: 0 | U15: 0 | V15: 0 | W15: =SUM(Q15:V15) -> 0 | X15: 0 | Y15: 159000 | Z15: 236000 | AA15: 0 | AB15: 0 | AC15: 0 | AD15: =SUM(X15:AC15) -> 395000 | AE15: =SUM(Q15,X15) -> 0 | AF15: =SUM(R15,Y15) -> 159000 | AG15: =SUM(S15,Z15) -> 236000 | AH15: =SUM(T15,AA15) -> 0 | AI15: =SUM(U15,AB15) -> 0 | AJ15: =SUM(V15,AC15) -> 0 | AK15: =SUM(AE15:AJ15) -> 395000 | AN15: =SUM(J15-X15) -> 0 | AO15: =SUM(K15-Y15) -> 146000 | AP15: =SUM(L15-Z15) -> 221000 | AQ15: =SUM(M15-AA15) -> 0 | AR15: =SUM(N15-AB15) -> 0 | AS15: =SUM(O15-AC15) -> 0 | AT15: =SUM(AN15:AS15) -> 367000
B16: 조달 | C16: 개축 | D16: 대구 | G16: 9400 | H16: 19-22년 | I16: 19864 | J16: 0 | K16: 305000 | L16: 457000 | M16: 0 | N16: 0 | O16: 0 | P16: =SUM(J16:O16) -> 762000 | R16: 0 | S16: 0 | T16: 0 | U16: 0 | V16: 0 | W16: =SUM(Q16:V16) -> 0 | X16: 0 | Y16: 0 | Z16: 0 | AA16: 0 | AB16: 0 | AC16: 0 | AD16: =SUM(X16:AC16) -> 0 | AE16: =SUM(Q16,X16) -> 0 | AF16: =SUM(R16,Y16) -> 0 | AG16: =SUM(S16,Z16) -> 0 | AH16: =SUM(T16,AA16) -> 0 | AI16: =SUM(U16,AB16) -> 0 | AJ16: =SUM(V16,AC16) -> 0 | AK16: =SUM(AE16:AJ16) -> 0 | AN16: =SUM(J16-X16) -> 0 | AO16: =SUM(K16-Y16) -> 305000 | AP16: =SUM(L16-Z16) -> 457000 | AQ16: =SUM(M16-AA16) -> 0 | AR16: =SUM(N16-AB16) -> 0 | AS16: =SUM(O16-AC16) -> 0 | AT16: =SUM(AN16:AS16) -> 762000
B17: 조달 | C17: 증축 | D17: 광명 | G17: 1200 | H17: 19-20년 | I17: 3174 | J17: 0 | K17: 52000 | L17: 78000 | M17: 900000 | N17: 9000 | O17: 3000 | P17: =SUM(J17:O17) -> 1042000 | R17: 0 | S17: 0 | T17: 0 | U17: 0 | V17: 0 | W17: =SUM(Q17:V17) -> 0 | X17: 0 | Y17: 0 | Z17: 0 | AA17: 0 | AB17: 0 | AC17: 0 | AD17: =SUM(X17:AC17) -> 0 | AE17: =SUM(Q17,X17) -> 0 | AF17: =SUM(R17,Y17) -> 0 | AG17: =SUM(S17,Z17) -> 0 | AH17: =SUM(T17,AA17) -> 0 | AI17: =SUM(U17,AB17) -> 0 | AJ17: =SUM(V17,AC17) -> 0 | AK17: =SUM(AE17:AJ17) -> 0 | AN17: =SUM(J17-X17) -> 0 | AO17: =SUM(K17-Y17) -> 52000 | AP17: =SUM(L17-Z17) -> 78000 | AQ17: =SUM(M17-AA17) -> 900000 | AR17: =SUM(N17-AB17) -> 9000 | AS17: =SUM(O17-AC17) -> 3000 | AT17: =SUM(AN17:AS17) -> 1042000
B18: 조달 | C18: 신축 | D18: 화성 | J18: 0 | K18: 0 | L18: 0 | M18: 0 | N18: 0 | O18: 0 | P18: =SUM(J18:O18) -> 0 | X18: 0 | Y18: 451000 | Z18: 678000 | AA18: 0 | AB18: 0 | AC18: 0 | AD18: =SUM(X18:AC18) -> 1129000 | AN18: 0 | AO18: 0 | AP18: 0 | AQ18: 0 | AR18: 0 | AS18: 0 | AT18: =SUM(AN18:AS18) -> 0
B19: 경인청 | C19: 증축 | D19: IPO | J19: 0 | K19: 0 | L19: 0 | M19: 0 | N19: 0 | O19: 0 | P19: =SUM(J19:O19) -> 0 | X19: 0 | Y19: 52000 | Z19: 78000 | AA19: 900000 | AB19: 9000 | AC19: 3000 | AD19: =SUM(X19:AC19) -> 1042000 | AN19: 0 | AO19: 0 | AP19: 0 | AQ19: 0 | AR19: 0 | AS19: 0 | AT19: =SUM(AN19:AS19) -> 0
B20: 소계 | J20: =SUM(J14:J19) -> 0 | K20: =SUM(K14:K19) -> 893000 | L20: =SUM(L14:L19) -> 1338000 | M20: =SUM(M14:M19) -> 900000 | N20: =SUM(N14:N19) -> 9000 | O20: =SUM(O14:O19) -> 3000 | P20: =SUM(P14:P19) -> 3143000 | Q20: =SUM(Q14:Q19) -> 0 | ... AT20: =SUM(AT14:AT19) -> 2171000
A21: 계속공사 | B21: 경인청 | C21: 신축 | D21: 하남미사 | E21: 신설수요 | G21: 440 | H21: 18-19년 | I21: 1102000 | J21: 0 | K21: 0 | L21: 0 | M21: 0 | N21: 0 | O21: 0 | P21: =SUM(J21:O21) -> 0 | R21: 0 | S21: 0 | T21: 917984 | U21: 10500 | V21: 0 | W21: =SUM(Q21:V21) -> 928484 | X21: 0 | Y21: 0 | Z21: 0 | AA21: 55000 | AB21: 0 | AC21: 5000 | AD21: =SUM(X21:AC21) -> 60000 | AE21: =SUM(Q21,X21) -> 0 | AF21: =SUM(R21,Y21) -> 0 | AG21: =SUM(S21,Z21) -> 0 | AH21: =SUM(T21,AA21) -> 972984 | AI21: =SUM(U21,AB21) -> 10500 | AJ21: =SUM(V21,AC21) -> 5000 | AK21: =SUM(AE21:AJ21) -> 988484 | AN21: =SUM(J21-X21) -> 0 | AO21: =SUM(K21-Y21) -> 0 | AP21: =SUM(L21-Z21) -> 0 | AQ21: =SUM(M21-AA21) -> -55000 | AR21: =SUM(N21-AB21) -> 0 | AS21: =SUM(O21-AC21) -> -5000 | AT21: =SUM(AN21:AS21) -> -60000
B22: 경인청 | C22: 개축 | D22: 강화온수 | E22: 업무편의성 | G22: 550 | H22: 18-19년 | I22: 1174000 | J22: 0 | K22: 0 | L22: 0 | M22: 0 | N22: 0 | O22: 0 | P22: =SUM(J22:O22) -> 0 | R22: 0 | S22: 0 | T22: 273820 | U22: 6700 | V22: 0 | W22: =SUM(Q22:V22) -> 280520 | X22: 0 | Y22: 0 | Z22: 0 | AA22: 752457 | AB22: 4597 | AC22: 5000 | AD22: =SUM(X22:AC22) -> 762054 | AE22: =SUM(Q22,X22) -> 0 | AF22: =SUM(R22,Y22) -> 0 | AG22: =SUM(S22,Z22) -> 0 | AH22: =SUM(T22,AA22) -> 1026277 | AI22: =SUM(U22,AB22) -> 11297 | AJ22: =SUM(V22,AC22) -> 5000 | AK22: =SUM(AE22:AJ22) -> 1042574 | AN22: =SUM(J22-X22) -> 0 | AO22: =SUM(K22-Y22) -> 0 | AP22: =SUM(L22-Z22) -> 0 | AQ22: =SUM(M22-AA22) -> -752457 | AR22: =SUM(N22-AB22) -> -4597 | AS22: =SUM(O22-AC22) -> -5000 | AT22: =SUM(AN22:AS22) -> -762054
B23: 경인청 | C23: 개축 | D23: 양평물류 | E23: 업무편의성 | H23: 18-19년 | J23: 0 | K23: 0 | L23: 0 | M23: 0 | N23: 0 | O23: 0 | P23: =SUM(J23:O23) -> 0 | R23: 0 | S23: 0 | T23: 0 | U23: 5000 | V23: 0 | W23: =SUM(Q23:V23) -> 5000 | X23: 0 | Y23: 0 | Z23: 0 | AA23: 0 | AB23: 0 | AC23: 0 | AD23: =SUM(X23:AC23) -> 0 | AE23: =SUM(Q23,X23) -> 0 | AF23: =SUM(R23,Y23) -> 0 | AG23: =SUM(S23,Z23) -> 0 | AH23: =SUM(T23,AA23) -> 0 | AI23: =SUM(U23,AB23) -> 5000 | AJ23: =SUM(V23,AC23) -> 0 | AK23: =SUM(AE23:AJ23) -> 5000 | AN23: =SUM(J23-X23) -> 0 | AO23: =SUM(K23-Y23) -> 0 | AP23: =SUM(L23-Z23) -> 0 | AQ23: =SUM(M23-AA23) -> 0 | AR23: =SUM(N23-AB23) -> 0 | AS23: =SUM(O23-AC23) -> 0 | AT23: =SUM(AN23:AS23) -> 0
B24: 전남청 | C24: 신축 | D24: 수완지구 | E24: 신설수요 | F24: 3 | G24: 1000 | H24: 18-19년 | I24: 2267000 | J24: 0 | K24: 0 | L24: 0 | M24: 2000000 | N24: 21000 | O24: 7000 | P24: =SUM(J24:O24) -> 2028000 | R24: 0 | S24: 0 | T24: 0 | U24: 0 | V24: 0 | W24: =SUM(Q24:V24) -> 0 | X24: 0 | Y24: 0 | Z24: 0 | AA24: 2000000 | AB24: 24000 | AC24: 12000 | AD24: =SUM(X24:AC24) -> 2036000 | AE24: =SUM(Q24,X24) -> 0 | AF24: =SUM(R24,Y24) -> 0 | AG24: =SUM(S24,Z24) -> 0 | AH24: =SUM(T24,AA24) -> 2000000 | AI24: =SUM(U24,AB24) -> 24000 | AJ24: =SUM(V24,AC24) -> 12000 | AK24: =SUM(AE24:AJ24) -> 2036000 | AN24: =SUM(J24-X24) -> 0 | AO24: =SUM(K24-Y24) -> 0 | AP24: =SUM(L24-Z24) -> 0 | AQ24: =SUM(M24-AA24) -> 0 | AR24: =SUM(N24-AB24) -> -3000 | AS24: =SUM(O24-AC24) -> -5000 | AT24: =SUM(AN24:AS24) -> -8000
B25: 전남청 | C25: 개축 | D25: 순천행동 | E25: 업무편의성 | F25: 1 | G25: 400 | H25: 18-19년 | I25: 1367000 | J25: 0 | K25: 0 | L25: 0 | M25: 800000 | N25: 10000 | O25: 3000 | P25: =SUM(J25:O25) -> 813000 | R25: 0 | S25: 0 | T25: 0 | U25: 0 | V25: 0 | W25: =SUM(Q25:V25) -> 0 | X25: 0 | Y25: 0 | Z25: 0 | AA25: 800000 | AB25: 10000 | AC25: 4800 | AD25: =SUM(X25:AC25) -> 814800 | AE25: =SUM(Q25,X25) -> 0 | AF25: =SUM(R25,Y25) -> 0 | AG25: =SUM(S25,Z25) -> 0 | AH25: =SUM(T25,AA25) -> 800000 | AI25: =SUM(U25,AB25) -> 10000 | AJ25: =SUM(V25,AC25) -> 4800 | AK25: =SUM(AE25:AJ25) -> 814800 | AN25: =SUM(J25-X25) -> 0 | AO25: =SUM(K25-Y25) -> 0 | AP25: =SUM(L25-Z25) -> 0 | AQ25: =SUM(M25-AA25) -> 0 | AR25: =SUM(N25-AB25) -> 0 | AS25: =SUM(O25-AC25) -> -1800 | AT25: =SUM(AN25:AS25) -> -1800
B26: 조달 | C26: 개축 | D26: 부산진 | E26: 업무편의성 | F26: -1/7 | G26: 12891 | H26: 18-21년 | I26: 28433000 | J26: 0 | K26: 0 | L26: 0 | M26: 5376000 | N26: 345000 | O26: 9000 | P26: =SUM(J26:O26) -> 5730000 | R26: 39478 | S26: 0 | T26: 0 | U26: 0 | V26: 0 | W26: =SUM(Q26:V26) -> 39478 | X26: 0 | Y26: 0 | Z26: 0 | AA26: 3870000 | AB26: 300000 | AC26: 17110 | AD26: =SUM(X26:AC26) -> 4187110 | AE26: =SUM(Q26,X26) -> 0 | AF26: =SUM(R26,Y26) -> 39478 | AG26: =SUM(S26,Z26) -> 0 | AH26: =SUM(T26,AA26) -> 3870000 | AI26: =SUM(U26,AB26) -> 300000 | AJ26: =SUM(V26,AC26) -> 17110 | AK26: =SUM(AE26:AJ26) -> 4226588 | AN26: =SUM(J26-X26) -> 0 | AO26: =SUM(K26-Y26) -> 0 | AP26: =SUM(L26-Z26) -> 0 | AQ26: =SUM(M26-AA26) -> 1506000 | AR26: =SUM(N26-AB26) -> 45000 | AS26: =SUM(O26-AC26) -> -8110 | AT26: =SUM(AN26:AS26) -> 1542890
B27: 조달 | C27: 개축 | D27: 김해진영 | E27: 업무편의성 | F27: -1/2 | G27: 1800 | H27: 18-20년 | I27: 3802744 | J27: 0 | K27: 0 | L27: 0 | M27: 2160000 | N27: 23000 | O27: 7000 | P27: =SUM(J27:O27) -> 2190000 | R27: 0 | S27: 0 | T27: 0 | U27: 0 | V27: 0 | W27: =SUM(Q27:V27) -> 0 | X27: 0 | Y27: 0 | Z27: 0 | AA27: 1738405 | AB27: 43462 | AC27: 6000 | AD27: =SUM(X27:AC27) -> 1787867 | AE27: =SUM(Q27,X27) -> 0 | AF27: =SUM(R27,Y27) -> 0 | AG27: =SUM(S27,Z27) -> 0 | AH27: =SUM(T27,AA27) -> 1738405 | AI27: =SUM(U27,AB27) -> 43462 | AJ27: =SUM(V27,AC27) -> 6000 | AK27: =SUM(AE27:AJ27) -> 1787867 | AN27: =SUM(J27-X27) -> 0 | AO27: =SUM(K27-Y27) -> 0 | AP27: =SUM(L27-Z27) -> 0 | AQ27: =SUM(M27-AA27) -> 421595 | AR27: =SUM(N27-AB27) -> -20462 | AS27: =SUM(O27-AC27) -> 1000 | AT27: =SUM(AN27:AS27) -> 402133
B28: 조달 | C28: 개축 | D28: 제주하귀 | E28: 업무편의성 | F28: -1/3 | G28: 1100 | H28: 18-20년 | I28: 2328604 | J28: 0 | K28: 0 | L28: 0 | M28: 2200000 | N28: 25000 | O28: 8000 | P28: =SUM(J28:O28) -> 2233000 | R28: 0 | S28: 0 | T28: 0 | U28: 0 | V28: 0 | W28: =SUM(Q28:V28) -> 0 | X28: 0 | Y28: 0 | Z28: 0 | AA28: 1365756 | AB28: 36974 | AC28: 6000 | AD28: =SUM(X28:AC28) -> 1408730 | AE28: =SUM(Q28,X28) -> 0 | AF28: =SUM(R28,Y28) -> 0 | AG28: =SUM(S28,Z28) -> 0 | AH28: =SUM(T28,AA28) -> 1365756 | AI28: =SUM(U28,AB28) -> 36974 | AJ28: =SUM(V28,AC28) -> 6000 | AK28: =SUM(AE28:AJ28) -> 1408730 | AN28: =SUM(J28-X28) -> 0 | AO28: =SUM(K28-Y28) -> 0 | AP28: =SUM(L28-Z28) -> 0 | AQ28: =SUM(M28-AA28) -> 834244 | AR28: =SUM(N28-AB28) -> -11974 | AS28: =SUM(O28-AC28) -> 2000 | AT28: =SUM(AN28:AS28) -> 824270
B29: 조달 | C29: 개축 | D29: 인천영종동 | E29: 신설수요 | F29: -1/3 | G29: 7580 | H29: 18-21년 | I29: 16264000 | J29: 0 | K29: 0 | L29: 0 | M29: 3991000 | N29: 330000 | O29: 9000 | P29: =SUM(J29:O29) -> 4330000 | R29: 35174 | S29: 218697 | T29: 0 | U29: 0 | V29: 0 | W29: =SUM(Q29:V29) -> 253871 | X29: 0 | Y29: 0 | Z29: 0 | AA29: 1085000 | AB29: 110000 | AC29: 8500 | AD29: =SUM(X29:AC29) -> 1203500 | AE29: =SUM(Q29,X29) -> 0 | AF29: =SUM(R29,Y29) -> 35174 | AG29: =SUM(S29,Z29) -> 218697 | AH29: =SUM(T29,AA29) -> 1085000 | AI29: =SUM(U29,AB29) -> 110000 | AJ29: =SUM(V29,AC29) -> 8500 | AK29: =SUM(AE29:AJ29) -> 1457371 | AN29: =SUM(J29-X29) -> 0 | AO29: =SUM(K29-Y29) -> 0 | AP29: =SUM(L29-Z29) -> 0 | AQ29: =SUM(M29-AA29) -> 2906000 | AR29: =SUM(N29-AB29) -> 220000 | AS29: =SUM(O29-AC29) -> 500 | AT29: =SUM(AN29:AS29) -> 3126500
B30: 조달 | C30: 개축 | D30: 정읍 | E30: 업무편의성 | F30: -1/3 | G30: 5640 | H30: 18-21년 | I30: 12384000 | J30: 0 | K30: 0 | L30: 0 | M30: 3991000 | N30: 330000 | O30: 9000 | P30: =SUM(J30:O30) -> 4330000 | R30: 4688 | S30: 303001 | T30: 0 | U30: 0 | V30: 0 | W30: =SUM(Q30:V30) -> 307689 | X30: 0 | Y30: 0 | Z30: 0 | AA30: 0 | AB30: 0 | AC30: 0 | AD30: =SUM(X30:AC30) -> 0 | AE30: =SUM(Q30,X30) -> 0 | AF30: =SUM(R30,Y30) -> 4688 | AG30: =SUM(S30,Z30) -> 303001 | AH30: =SUM(T30,AA30) -> 0 | AI30: =SUM(U30,AB30) -> 0 | AJ30: =SUM(V30,AC30) -> 0 | AK30: =SUM(AE30:AJ30) -> 307689 | AN30: =SUM(J30-X30) -> 0 | AO30: =SUM(K30-Y30) -> 0 | AP30: =SUM(L30-Z30) -> 0 | AQ30: =SUM(M30-AA30) -> 3991000 | AR30: =SUM(N30-AB30) -> 330000 | AS30: =SUM(O30-AC30) -> 9000 | AT30: =SUM(AN30:AS30) -> 4330000
B31: 조달 | C31: 개축 | D31: 여의도 | E31: 전략적수익성 | F31: -4/33 | G31: 68487 | H31: 16-20년 | I31: 163108000 | J31: 0 | K31: 0 | L31: 0 | M31: 48973000 | N31: 1500000 | O31: 82000 | P31: =SUM(J31:O31) -> 50555000 | R31: 0 | S31: 0 | T31: 4163923 | U31: 215192 | V31: 0 | W31: =SUM(Q31:V31) -> 4379115 | X31: 0 | Y31: 0 | Z31: 0 | AA31: 49000000 | AB31: 1500000 | AC31: 82000 | AD31: =SUM(X31:AC31) -> 50582000 | AE31: =SUM(Q31,X31) -> 0 | AF31: =SUM(R31,Y31) -> 0 | AG31: =SUM(S31,Z31) -> 0 | AH31: =SUM(T31,AA31) -> 53163923 | AI31: =SUM(U31,AB31) -> 1715192 | AJ31: =SUM(V31,AC31) -> 82000 | AK31: =SUM(AE31:AJ31) -> 54961115 | AN31: =SUM(J31-X31) -> 0 | AO31: =SUM(K31-Y31) -> 0 | AP31: =SUM(L31-Z31) -> 0 | AQ31: =SUM(M31-AA31) -> -27000 | AR31: =SUM(N31-AB31) -> 0 | AS31: =SUM(O31-AC31) -> 0 | AT31: =SUM(AN31:AS31) -> -27000
B32: 조달 | C32: 개축 | D32: 성남 | E32: 업무편의성 | F32: -2/7 | G32: 20981 | H32: 15-19 | I32: 45774678 | J32: 0 | K32: 0 | L32: 0 | M32: 13670000 | N32: 66000 | O32: 36000 | P32: =SUM(J32:O32) -> 13772000 | R32: 0 | S32: 0 | T32: 1730164 | U32: 338074 | V32: 0 | W32: =SUM(Q32:V32) -> 2068238 | X32: 0 | Y32: 0 | Z32: 0 | AA32: 14216779 | AB32: 209111 | AC32: 36100 | AD32: =SUM(X32:AC32) -> 14461990 | AE32: =SUM(Q32,X32) -> 0 | AF32: =SUM(R32,Y32) -> 0 | AG32: =SUM(S32,Z32) -> 0 | AH32: =SUM(T32,AA32) -> 15946943 | AI32: =SUM(U32,AB32) -> 547185 | AJ32: =SUM(V32,AC32) -> 36100 | AK32: =SUM(AE32:AJ32) -> 16530228 | AN32: =SUM(J32-X32) -> 0 | AO32: =SUM(K32-Y32) -> 0 | AP32: =SUM(L32-Z32) -> 0 | AQ32: =SUM(M32-AA32) -> -546779 | AR32: =SUM(N32-AB32) -> -143111 | AS32: =SUM(O32-AC32) -> -100 | AT32: =SUM(AN32:AS32) -> -689990
B33: 조달 | C33: 개축 | D33: 부산사하 | E33: 업무편의성 | F33: -1/4 | G33: 8363 | H33: 17-20년 | I33: 21424216 | J33: 0 | K33: 0 | L33: 0 | M33: 6710000 | N33: 420000 | O33: 20000 | P33: =SUM(J33:O33) -> 7150000 | R33: 0 | S33: 0 | T33: 2031981 | U33: 183753 | V33: 2400 | W33: =SUM(Q33:V33) -> 2218134 | X33: 0 | Y33: 0 | Z33: 0 | AA33: 6852716 | AB33: 83851 | AC33: 20000 | AD33: =SUM(X33:AC33) -> 6956567 | AE33: =SUM(Q33,X33) -> 0 | AF33: =SUM(R33,Y33) -> 0 | AG33: =SUM(S33,Z33) -> 0 | AH33: =SUM(T33,AA33) -> 8884697 | AI33: =SUM(U33,AB33) -> 267604 | AJ33: =SUM(V33,AC33) -> 22400 | AK33: =SUM(AE33:AJ33) -> 9174701 | AN33: =SUM(J33-X33) -> 0 | AO33: =SUM(K33-Y33) -> 0 | AP33: =SUM(L33-Z33) -> 0 | AQ33: =SUM(M33-AA33) -> -142716 | AR33: =SUM(N33-AB33) -> 336149 | AS33: =SUM(O33-AC33) -> 0 | AT33: =SUM(AN33:AS33) -> 193433
B34: 조달 | C34: 개축 | D34: 북광주 | E34: 업무편의성 | F34: -1/3 | G34: 9155 | H34: 17-20년 | I34: 19643854 | J34: 0 | K34: 0 | L34: 0 | M34: 4896000 | N34: 457000 | O34: 20000 | P34: =SUM(J34:O34) -> 5373000 | R34: 0 | S34: 0 | T34: 498902 | U34: 111080 | V34: 2300 | W34: =SUM(Q34:V34) -> 612282 | X34: 0 | Y34: 0 | Z34: 0 | AA34: 11813371 | AB34: 284000 | AC34: 20000 | AD34: =SUM(X34:AC34) -> 12117371 | AE34: =SUM(Q34,X34) -> 0 | AF34: =SUM(R34,Y34) -> 0 | AG34: =SUM(S34,Z34) -> 0 | AH34: =SUM(T34,AA34) -> 12312273 | AI34: =SUM(U34,AB34) -> 395080 | AJ34: =SUM(V34,AC34) -> 22300 | AK34: =SUM(AE34:AJ34) -> 12729653 | AN34: =SUM(J34-X34) -> 0 | AO34: =SUM(K34-Y34) -> 0 | AP34: =SUM(L34-Z34) -> 0 | AQ34: =SUM(M34-AA34) -> -6917371 | AR34: =SUM(N34-AB34) -> 173000 | AS34: =SUM(O34-AC34) -> 0 | AT34: =SUM(AN34:AS34) -> -6744371
B35: 조달 | C35: 개축 | D35: 하남 | E35: 업무편의성 | F35: -1/4 | G35: 6960 | H35: 17-20년 | I35: 15056021 | J35: 0 | K35: 0 | L35: 0 | M35: 9224000 | N35: 380000 | O35: 19000 | P35: =SUM(J35:O35) -> 9623000 | T35: 195864 | U35: 107052 | V35: 3000 | W35: =SUM(Q35:V35) -> 305916 | X35: 0 | Y35: 0 | Z35: 0 | AA35: 9476746 | AB35: 247000 | AC35: 8000 | AD35: =SUM(X35:AC35) -> 9731746 | AE35: =SUM(Q35,X35) -> 0 | AF35: =SUM(R35,Y35) -> 0 | AG35: =SUM(S35,Z35) -> 0 | AH35: =SUM(T35,AA35) -> 9672610 | AI35: =SUM(U35,AB35) -> 354052 | AJ35: =SUM(V35,AC35) -> 11000 | AK35: =SUM(AE35:AJ35) -> 10037662 | AN35: =SUM(J35-X35) -> 0 | AO35: =SUM(K35-Y35) -> 0 | AP35: =SUM(L35-Z35) -> 0 | AQ35: =SUM(M35-AA35) -> -252746 | AR35: =SUM(N35-AB35) -> 133000 | AS35: =SUM(O35-AC35) -> 11000 | AT35: =SUM(AN35:AS35) -> -108746
B36: 소계 | J36: =SUM(J21:J35) -> 0 | K36: =SUM(K21:K35) -> 0 | L36: =SUM(L21:L35) -> 0 | M36: =SUM(M21:M35) -> 103991000 | N36: =SUM(N21:N35) -> 3907000 | O36: =SUM(O21:O35) -> 229000 | P36: =SUM(P21:P35) -> 108127000 | R36: =SUM(R21:R35) -> 79340 | S36: =SUM(S21:S35) -> 521698 | T36: =SUM(T21:T35) -> 9812638 | U36: =SUM(U21:U35) -> 977351 | V36: =SUM(V21:V35) -> 7700 | W36: =SUM(Q36:V36) -> 11398727 | X36: =SUM(X21:X35) -> 0 | Y36: =SUM(Y21:Y35) -> 0 | Z36: =SUM(Z21:Z35) -> 0 | AA36: =SUM(AA21:AA35) -> 103026230 | AB36: =SUM(AB21:AB35) -> 2852995 | AC36: =SUM(AC21:AC35) -> 230510 | AD36: =SUM(X36:AC36) -> 106109735 | AE36: =SUM(AE21:AE35) -> 0 | AF36: =SUM(AF21:AF35) -> 79340 | AG36: =SUM(AG21:AG35) -> 521698 | AH36: =SUM(AH21:AH35) -> 112838868 | AI36: =SUM(AI21:AI35) -> 3830346 | AJ36: =SUM(AJ21:AJ35) -> 238210 | AK36: =SUM(AE36:AJ36) -> 117508462 | AN36: =SUM(AN21:AN35) -> 0 | AO36: =SUM(AO21:AO35) -> 0 | AP36: =SUM(AP21:AP35) -> 0 | AQ36: =SUM(AQ21:AQ35) -> 964770 | AR36: =SUM(AR21:AR35) -> 1054005 | AS36: =SUM(AS21:AS35) -> -1510 | AT36: =SUM(AN36:AS36) -> 2017265
A37: 건물공사 계 | J37: =SUM(J20,J36) -> 0 | K37: =SUM(K20,K36) -> 893000 | L37: =SUM(L20,L36) -> 1338000 | M37: =SUM(M20,M36) -> 104891000 | N37: =SUM(N20,N36) -> 3916000 | O37: =SUM(O20,O36) -> 232000 | P37: =SUM(P20,P36) -> 111270000 | R37: =SUM(R20,R36) -> 79340 | S37: =SUM(S20,S36) -> 521698 | T37: =SUM(T20,T36) -> 9812638 | U37: =SUM(U20,U36) -> 977351 | V37: =SUM(V20,V36) -> 7700 | W37: =SUM(Q37:V37) -> 11398727 | Y37: =SUM(Y20,Y36) -> 893000 | Z37: =SUM(Z20,Z36) -> 1338000 | AA37: =SUM(AA20,AA36) -> 103926230 | AB37: =SUM(AB20,AB36) -> 2861995 | AC37: =SUM(AC20,AC36) -> 233510 | AD37: =SUM(X37:AC37) -> 109252735 | AE37: =SUM(AE20,AE36) -> 0 | AF37: =SUM(AF20,AF36) -> 469340 | AG37: =SUM(AG20,AG36) -> 1103698 | AH37: =SUM(AH20,AH36) -> 112838868 | AI37: =SUM(AI20,AI36) -> 3830346 | AJ37: =SUM(AJ20,AJ36) -> 238210 | AK37: =SUM(AE37:AJ37) -> 118480462 | AO37: =SUM(AO20,AO36) -> 503000 | AP37: =SUM(AP20,AP36) -> 756000 | AQ37: =SUM(AQ20,AQ36) -> 1864770 | AR37: =SUM(AR20,AR36) -> 1063005 | AS37: =SUM(AS20,AS36) -> 1490 | AT37: =SUM(AN37:AS37) -> 4188265
A38: 합 계 | J38: =SUM(J13,J37) -> 9325000 | K38: =SUM(K13,K37) -> 893000 | L38: =SUM(L13,L37) -> 1338000 | M38: =SUM(M13,M37) -> 104891000 | N38: =SUM(N13,N37) -> 3916000 | O38: =SUM(O13,O37) -> 232000 | P38: =SUM(P13,P37) -> 120595000 | R38: =SUM(R13,R37) -> 79340 | S38: =SUM(S13,S37) -> 521698 | T38: =SUM(T13,T37) -> 9812638 | U38: =SUM(U13,U37) -> 977351 | V38: =SUM(V13,V37) -> 7700 | W38: =SUM(Q38:V38) -> 11398727 | Y38: =SUM(Y13,Y37) -> 893000 | Z38: =SUM(Z13,Z37) -> 1338000 | AA38: =SUM(AA13,AA37) -> 103926230 | AB38: =SUM(AB13,AB37) -> 2861995 | AC38: =SUM(AC13,AC37) -> 233510 | AD38: =SUM(X38:AC38) -> 109252735 | AE38: =SUM(AE13,AE37) -> 7933000 | AF38: =SUM(AF13,AF37) -> 469340 | AG38: =SUM(AG13,AG37) -> 1103698 | AH38: =SUM(AH13,AH37) -> 112838868 | AI38: =SUM(AI13,AI37) -> 3830346 | AJ38: =SUM(AJ13,AJ37) -> 238210 | AK38: =SUM(AE38:AJ38) -> 126413462 | AO38: =SUM(AO13,AO37) -> 503000 | AP38: =SUM(AP13,AP37) -> 756000 | AQ38: =SUM(AQ13,AQ37) -> 1864770 | AR38: =SUM(AR13,AR37) -> 1063005 | AS38: =SUM(AS13,AS37) -> 1490 | AT38: =SUM(AN38:AS38) -> 4188265

Sheet 19년도 소요예산(0104)
B1: 2019년도 건립사업 소요예산 내역
AK2: (단위: 천 원) | AL2: (단위: 천 원) | AT2: (단위: 천원)
A3: 구분 | B3: 시행주체 | C3: 유형 | D3: 국사명 | F3: 건물규모 | G3: 연면적 | H3: 사업기간 | I3: 총사업비 | J3: 2019년도 예산편성액(A) | Q3: 2018년 이월액(B) | X3: 2019년 소요예산(C) | AE3: 2019년 배정총액(B+C) | AL3: 비 고 | AN3: 2019년도 예산편성액 대비 소요예산 차액(A-C)
J4: 410-00 | K4: 420-01 | L4: 420-02 | M4: 420-03 | N4: 420-04 | O4: 420-05 | P4: 계 | Q4: 410-00 | R4: 420-01 | S4: 420-02 | T4: 420-03 | U4: 420-04 | V4: 420-05 | W4: 계 | X4: 410-00 | Y4: 420-01 | Z4: 420-02 | AA4: 420-03 | AB4: 420-04 | AC4: 420-05 | AD4: 계 | AE4: 410-00 | AF4: 420-01 | AG4: 420-02 | AH4: 420-03 | AI4: 420-04 | AJ4: 420-05 | AK4: 계 | AN4: 410-00 | AO4: 420-01 | AP4: 420-02 | AQ4: 420-03 | AR4: 420-04 | AS4: 420-05 | AT4: 계
A5: 부지매입 | B5: 서울청 | C5: 신축 | D5: 강남세곡지구 | G5: 896 | H5: 2019년 | I5: 2025000 | J5: 2025000 | K5: 0 | L5: 0 | M5: 0 | N5: 0 | O5: 0 | P5: =SUM(J5:O5) -> 2025000 | Q5: 0 | R5: 0 | S5: 0 | T5: 0 | U5: 0 | V5: 0 | W5: =SUM(Q5:V5) -> 0 | X5: 0 | Y5: 0 | Z5: 0 | AA5: 0 | AB5: 0 | AC5: 0 | AD5: =SUM(X5:AC5) -> 0 | AE5: =SUM(Q5,X5) -> 0 | AF5: =SUM(R5,Y5) -> 0 | AG5: =SUM(S5,Z5) -> 0 | AH5: =SUM(T5,AA5) -> 0 | AI5: =SUM(U5,AB5) -> 0 | AJ5: =SUM(V5,AC5) -> 0 | AK5: =SUM(AE5:AJ5) -> 0 | AN5: =SUM(J5-X5) -> 2025000 | AO5: =SUM(K5-Y5) -> 0 | AP5: =SUM(L5-Z5) -> 0 | AQ5: =SUM(M5-AA5) -> 0 | AR5: =SUM(N5-AB5) -> 0 | AS5: =SUM(O5-AC5) -> 0 | AT5: =SUM(AN5:AS5) -> 2025000
B6: 서울청 | C6: 신축 | D6: 양주옥정지구 | G6: 2562 | H6: 2019년 | I6: 3825000 | J6: 3825000 | K6: 0 | L6: 0 | M6: 0 | N6: 0 | O6: 0 | P6: =SUM(J6:O6) -> 3825000 | Q6: 0 | R6: 0 | S6: 0 | T6: 0 | U6: 0 | V6: 0 | W6: =SUM(Q6:V6) -> 0 | X6: 3825000 | Y6: 0 | Z6: 0 | AA6: 0 | AB6: 0 | AC6: 0 | AD6: =SUM(X6:AC6) -> 3825000 | AE6: =SUM(Q6,X6) -> 3825000 | AF6: =SUM(R6,Y6) -> 0 | AG6: =SUM(S6,Z6) -> 0 | AH6: =SUM(T6,AA6) -> 0 | AI6: =SUM(U6,AB6) -> 0 | AJ6: =SUM(V6,AC6) -> 0 | AK6: =SUM(AE6:AJ6) -> 3825000 | AN6: =SUM(J6-X6) -> 0 | AO6: =SUM(K6-Y6) -> 0 | AP6: =SUM(L6-Z6) -> 0 | AQ6: =SUM(M6-AA6) -> 0 | AR6: =SUM(N6-AB6) -> 0 | AS6: =SUM(O6-AC6) -> 0 | AT6: =SUM(AN6:AS6) -> 0
B7: 부산청 | C7: 신축 | D7: 창원감계지구 | G7: 1500 | H7: 2019년 | I7: 2400000 | J7: 2400000 | K7: 0 | L7: 0 | M7: 0 | N7: 0 | O7: 0 | P7: =SUM(J7:O7) -> 2400000 | Q7: 0 | R7: 0 | S7: 0 | T7: 0 | U7: 0 | V7: 0 | W7: =SUM(Q7:V7) -> 0 | X7: 2400000 | Y7: 0 | Z7: 0 | AA7: 0 | AB7: 0 | AC7: 0 | AD7: =SUM(X7:AC7) -> 2400000 | AE7: =SUM(Q7,X7) -> 2400000 | AF7: =SUM(R7,Y7) -> 0 | AG7: =SUM(S7,Z7) -> 0 | AH7: =SUM(T7,AA7) -> 0 | AI7: =SUM(U7,AB7) -> 0 | AJ7: =SUM(V7,AC7) -> 0 | AK7: =SUM(AE7:AJ7) -> 2400000 | AN7: =SUM(J7-X7) -> 0 | AO7: =SUM(K7-Y7) -> 0 | AP7: =SUM(L7-Z7) -> 0 | AQ7: =SUM(M7-AA7) -> 0 | AR7: =SUM(N7-AB7) -> 0 | AS7: =SUM(O7-AC7) -> 0 | AT7: =SUM(AN7:AS7) -> 0
B8: 경북청 | C8: 개축 | D8: 포항흥해 | G8: 1365 | H8: 2019년 | I8: 725000 | J8: 725000 | K8: 0 | L8: 0 | M8: 0 | N8: 0 | O8: 0 | P8: =SUM(J8:O8) -> 725000 | Q8: 0 | R8: 0 | S8: 0 | T8: 0 | U8: 0 | V8: 0 | W8: =SUM(Q8:V8) -> 0 | X8: 725000 | Y8: 0 | Z8: 0 | AA8: 0 | AB8: 0 | AC8: 0 | AD8: =SUM(X8:AC8) -> 725000 | AE8: =SUM(Q8,X8) -> 725000 | AF8: =SUM(R8,Y8) -> 0 | AG8: =SUM(S8,Z8) -> 0 | AH8: =SUM(T8,AA8) -> 0 | AI8: =SUM(U8,AB8) -> 0 | AJ8: =SUM(V8,AC8) -> 0 | AK8: =SUM(AE8:AJ8) -> 725000 | AN8: =SUM(J8-X8) -> 0 | AO8: =SUM(K8-Y8) -> 0 | AP8: =SUM(L8-Z8) -> 0 | AQ8: =SUM(M8-AA8) -> 0 | AR8: =SUM(N8-AB8) -> 0 | AS8: =SUM(O8-AC8) -> 0 | AT8: =SUM(AN8:AS8) -> 0
B9: 강원청 | C9: 신축 | D9: 원주기업도시 | G9: 789 | H9: 2019년 | I9: 350000 | J9: 350000 | K9: 0 | L9: 0 | M9: 0 | N9: 0 | O9: 0 | P9: =SUM(J9:O9) -> 350000 | Q9: 0 | R9: 0 | S9: 0 | T9: 0 | U9: 0 | V9: 0 | W9: =SUM(Q9:V9) -> 0 | X9: 0 | Y9: 0 | Z9: 0 | AA9: 0 | AB9: 0 | AC9: 0 | AD9: =SUM(X9:AC9) -> 0 | AE9: =SUM(Q9,X9) -> 0 | AF9: =SUM(R9,Y9) -> 0 | AG9: =SUM(S9,Z9) -> 0 | AH9: =SUM(T9,AA9) -> 0 | AI9: =SUM(U9,AB9) -> 0 | AJ9: =SUM(V9,AC9) -> 0 | AK9: =SUM(AE9:AJ9) -> 0 | AN9: =SUM(J9-X9) -> 350000 | AO9: =SUM(K9-Y9) -> 0 | AP9: =SUM(L9-Z9) -> 0 | AQ9: =SUM(M9-AA9) -> 0 | AR9: =SUM(N9-AB9) -> 0 | AS9: =SUM(O9-AC9) -> 0 | AT9: =SUM(AN9:AS9) -> 350000
B10: 경인청 | C10: 신축 | D10: 시흥배곧 | G10: 1139 | H10: 2019년 | I10: 2025000 | J10: 0 | K10: 0 | L10: 0 | M10: 0 | N10: 0 | O10: 0 | P10: =SUM(J10:O10) -> 0 | Q10: 0 | R10: 0 | S10: 0 | T10: 0 | U10: 0 | V10: 0 | W10: =SUM(Q10:V10) -> 0 | X10: 983000 | Y10: 0 | Z10: 0 | AA10: 0 | AB10: 0 | AC10: 0 | AD10: =SUM(X10:AC10) -> 983000 | AE10: =SUM(Q10,X10) -> 983000 | AF10: =SUM(R10,Y10) -> 0 | AG10: =SUM(S10,Z10) -> 0 | AH10: =SUM(T10,AA10) -> 0 | AI10: =SUM(U10,AB10) -> 0 | AJ10: =SUM(V10,AC10) -> 0 | AK10: =SUM(AE10:AJ10) -> 983000 | AN10: =SUM(J10-X10) -> -983000 | AO10: =SUM(K10-Y10) -> 0 | AP10: =SUM(L10-Z10) -> 0 | AQ10: =SUM(M10-AA10) -> 0 | AR10: =SUM(N10-AB10) -> 0 | AS10: =SUM(O10-AC10) -> 0 | AT10: =SUM(AN10:AS10) -> -983000
B11: 전북청 | C11: 개축 | D11: 정읍 | G11: 3957 | H11: 2019년 | I11: 2350000 | J11: 0 | K11: 0 | L11: 0 | M11: 0 | N11: 0 | O11: 0 | P11: =SUM(J11:O11) -> 0 | X11: 350000 | AD11: =SUM(X11:AC11) -> 350000 | AN11: =SUM(J11-X11) -> -350000 | AT11: =SUM(AN11:AS11) -> -350000
B12: 경인청 | C12: 신축 | D12: 인천용현지구 | G12: 577.3 | H12: 2019년 | I12: 1775000 | J12: 0 | K12: 0 | L12: 0 | M12: 0 | N12: 0 | O12: 0 | P12: =SUM(J12:O12) -> 0 | X12: 1042000 | Y12: 0 | Z12: 0 | AA12: 0 | AB12: 0 | AC12: 0 | AD12: =SUM(X12:AC12) -> 1042000 | AT12: =SUM(AN12:AS12) -> 0
B13: 소계 | J13: =SUM(J5:J12) -> 9325000 | K13: =SUM(K5:K12) -> 0 | L13: =SUM(L5:L12) -> 0 | M13: =SUM(M5:M12) -> 0 | N13: =SUM(N5:N12) -> 0 | O13: =SUM(O5:O12) -> 0 | P13: =SUM(P5:P12) -> 9325000 | Q13: =SUM(Q5:Q12) -> 0 | ... AT13: =SUM(AT5:AT12) -> 1042000
A14: 신규공사 | B14: 조달 | C14: 신축 | D14: 양주옥정지구 | G14: 7000 | H14: 19-22년 | I14: 15006 | J14: 0 | K14: 231000 | L14: 346000 | M14: 0 | N14: 0 | O14: 0 | P14: =SUM(J14:O14) -> 577000 | R14: 0 | S14: 0 | T14: 0 | U14: 0 | V14: 0 | W14: =SUM(Q14:V14) -> 0 | X14: 0 | Y14: 231000 | Z14: 346000 | AA14: 0 | AB14: 0 | AC14: 0 | AD14: =SUM(X14:AC14) -> 577000 | AE14: =SUM(Q14,X14) -> 0 | AF14: =SUM(R14,Y14) -> 231000 | AG14: =SUM(S14,Z14) -> 346000 | AH14: =SUM(T14,AA14) -> 0 | AI14: =SUM(U14,AB14) -> 0 | AJ14: =SUM(V14,AC14) -> 0 | AK14: =SUM(AE14:AJ14) -> 577000 | AN14: =SUM(J14-X14) -> 0 | AO14: =SUM(K14-Y14) -> 0 | AP14: =SUM(L14-Z14) -> 0 | AQ14: =SUM(M14-AA14) -> 0 | AR14: =SUM(N14-AB14) -> 0 | AS14: =SUM(O14-AC14) -> 0 | AT14: =SUM(AN14:AS14) -> 0
B15: 조달 | C15: 리모델링 | D15: 천안 | G15: 9400 | H15: 19-22년 | I15: 19864 | J15: 0 | K15: 305000 | L15: 457000 | M15: 0 | N15: 0 | O15: 0 | P15: =SUM(J15:O15) -> 762000 | R15: 0 | S15: 0 | T15: 0 | U15: 0 | V15: 0 | W15: =SUM(Q15:V15) -> 0 | X15: 0 | Y15: 159000 | Z15: 236000 | AA15: 0 | AB15: 0 | AC15: 0 | AD15: =SUM(X15:AC15) -> 395000 | AE15: =SUM(Q15,X15) -> 0 | AF15: =SUM(R15,Y15) -> 159000 | AG15: =SUM(S15,Z15) -> 236000 | AH15: =SUM(T15,AA15) -> 0 | AI15: =SUM(U15,AB15) -> 0 | AJ15: =SUM(V15,AC15) -> 0 | AK15: =SUM(AE15:AJ15) -> 395000 | AN15: =SUM(J15-X15) -> 0 | AO15: =SUM(K15-Y15) -> 146000 | AP15: =SUM(L15-Z15) -> 221000 | AQ15: =SUM(M15-AA15) -> 0 | AR15: =SUM(N15-AB15) -> 0 | AS15: =SUM(O15-AC15) -> 0 | AT15: =SUM(AN15:AS15) -> 367000
B16: 조달 | C16: 개축 | D16: 대구 | G16: 9400 | H16: 19-22년 | I16: 19864 | J16: 0 | K16: 305000 | L16: 457000 | M16: 0 | N16: 0 | O16: 0 | P16: =SUM(J16:O16) -> 762000 | R16: 0 | S16: 0 | T16: 0 | U16: 0 | V16: 0 | W16: =SUM(Q16:V16) -> 0 | X16: 0 | Y16: 0 | Z16: 0 | AA16: 0 | AB16: 0 | AC16: 0 | AD16: =SUM(X16:AC16) -> 0 | AE16: =SUM(Q16,X16) -> 0 | AF16: =SUM(R16,Y16) -> 0 | AG16: =SUM(S16,Z16) -> 0 | AH16: =SUM(T16,AA16) -> 0 | AI16: =SUM(U16,AB16) -> 0 | AJ16: =SUM(V16,AC16) -> 0 | AK16: =SUM(AE16:AJ16) -> 0 | AN16: =SUM(J16-X16) -> 0 | AO16: =SUM(K16-Y16) -> 305000 | AP16: =SUM(L16-Z16) -> 457000 | AQ16: =SUM(M16-AA16) -> 0 | AR16: =SUM(N16-AB16) -> 0 | AS16: =SUM(O16-AC16) -> 0 | AT16: =SUM(AN16:AS16) -> 762000
B17: 조달 | C17: 증축 | D17: 광명 | G17: 1200 | H17: 19-20년 | I17: 3174 | J17: 0 | K17: 52000 | L17: 78000 | M17: 900000 | N17: 9000 | O17: 3000 | P17: =SUM(J17:O17) -> 1042000 | R17: 0 | S17: 0 | T17: 0 | U17: 0 | V17: 0 | W17: =SUM(Q17:V17) -> 0 | X17: 0 | Y17: 0 | Z17: 0 | AA17: 0 | AB17: 0 | AC17: 0 | AD17: =SUM(X17:AC17) -> 0 | AE17: =SUM(Q17,X17) -> 0 | AF17: =SUM(R17,Y17) -> 0 | AG17: =SUM(S17,Z17) -> 0 | AH17: =SUM(T17,AA17) -> 0 | AI17: =SUM(U17,AB17) -> 0 | AJ17: =SUM(V17,AC17) -> 0 | AK17: =SUM(AE17:AJ17) -> 0 | AN17: =SUM(J17-X17) -> 0 | AO17: =SUM(K17-Y17) -> 52000 | AP17: =SUM(L17-Z17) -> 78000 | AQ17: =SUM(M17-AA17) -> 900000 | AR17: =SUM(N17-AB17) -> 9000 | AS17: =SUM(O17-AC17) -> 3000 | AT17: =SUM(AN17:AS17) -> 1042000
B18: 조달 | C18: 신축 | D18: 화성 | J18: 0 | K18: 0 | L18: 0 | M18: 0 | N18: 0 | O18: 0 | P18: =SUM(J18:O18) -> 0 | X18: 0 | Y18: 451000 | Z18: 678000 | AA18: 0 | AB18: 0 | AC18: 0 | AD18: =SUM(X18:AC18) -> 1129000 | AN18: 0 | AO18: 0 | AP18: 0 | AQ18: 0 | AR18: 0 | AS18: 0 | AT18: =SUM(AN18:AS18) -> 0
B19: 경인청 | C19: 증축 | D19: IPO | J19: 0 | K19: 0 | L19: 0 | M19: 0 | N19: 0 | O19: 0 | P19: =SUM(J19:O19) -> 0 | X19: 0 | Y19: 52000 | Z19: 78000 | AA19: 900000 | AB19: 9000 | AC19: 3000 | AD19: =SUM(X19:AC19) -> 1042000 | AN19: 0 | AO19: 0 | AP19: 0 | AQ19: 0 | AR19: 0 | AS19: 0 | AT19: =SUM(AN19:AS19) -> 0
B20: 소계 | J20: =SUM(J14:J19) -> 0 | K20: =SUM(K14:K19) -> 893000 | L20: =SUM(L14:L19) -> 1338000 | M20: =SUM(M14:M19) -> 900000 | N20: =SUM(N14:N19) -> 9000 | O20: =SUM(O14:O19) -> 3000 | P20: =SUM(P14:P19) -> 3143000 | Q20: =SUM(Q14:Q19) -> 0 | ... AT20: =SUM(AT14:AT19) -> 2171000
A21: 계속공사 | B21: 경인청 | C21: 신축 | D21: 하남미사 | E21: 신설수요 | G21: 440 | H21: 18-19년 | I21: 1102000 | J21: 0 | K21: 0 | L21: 0 | M21: 0 | N21: 0 | O21: 0 | P21: =SUM(J21:O21) -> 0 | R21: 0 | S21: 0 | T21: 917984 | U21: 10500 | V21: 0 | W21: =SUM(Q21:V21) -> 928484 | X21: 0 | Y21: 0 | Z21: 0 | AA21: 55000 | AB21: 0 | AC21: 5000 | AD21: =SUM(X21:AC21) -> 60000 | AE21: =SUM(Q21,X21) -> 0 | AF21: =SUM(R21,Y21) -> 0 | AG21: =SUM(S21,Z21) -> 0 | AH21: =SUM(T21,AA21) -> 972984 | AI21: =SUM(U21,AB21) -> 10500 | AJ21: =SUM(V21,AC21) -> 5000 | AK21: =SUM(AE21:AJ21) -> 988484 | AN21: =SUM(J21-X21) -> 0 | AO21: =SUM(K21-Y21) -> 0 | AP21: =SUM(L21-Z21) -> 0 | AQ21: =SUM(M21-AA21) -> -55000 | AR21: =SUM(N21-AB21) -> 0 | AS21: =SUM(O21-AC21) -> -5000 | AT21: =SUM(AN21:AS21) -> -60000
B22: 경인청 | C22: 개축 | D22: 강화온수 | E22: 업무편의성 | G22: 550 | H22: 18-19년 | I22: 1174000 | J22: 0 | K22: 0 | L22: 0 | M22: 0 | N22: 0 | O22: 0 | P22: =SUM(J22:O22) -> 0 | R22: 0 | S22: 0 | T22: 273820 | U22: 6700 | V22: 0 | W22: =SUM(Q22:V22) -> 280520 | X22: 0 | Y22: 0 | Z22: 0 | AA22: 752457 | AB22: 4597 | AC22: 5000 | AD22: =SUM(X22:AC22) -> 762054 | AE22: =SUM(Q22,X22) -> 0 | AF22: =SUM(R22,Y22) -> 0 | AG22: =SUM(S22,Z22) -> 0 | AH22: =SUM(T22,AA22) -> 1026277 | AI22: =SUM(U22,AB22) -> 11297 | AJ22: =SUM(V22,AC22) -> 5000 | AK22: =SUM(AE22:AJ22) -> 1042574 | AN22: =SUM(J22-X22) -> 0 | AO22: =SUM(K22-Y22) -> 0 | AP22: =SUM(L22-Z22) -> 0 | AQ22: =SUM(M22-AA22) -> -752457 | AR22: =SUM(N22-AB22) -> -4597 | AS22: =SUM(O22-AC22) -> -5000 | AT22: =SUM(AN22:AS22) -> -762054
B23: 경인청 | C23: 개축 | D23: 양평물류 | E23: 업무편의성 | H23: 18-19년 | J23: 0 | K23: 0 | L23: 0 | M23: 0 | N23: 0 | O23: 0 | P23: =SUM(J23:O23) -> 0 | R23: 0 | S23: 0 | T23: 0 | U23: 5000 | V23: 0 | W23: =SUM(Q23:V23) -> 5000 | X23: 0 | Y23: 0 | Z23: 0 | AA23: 0 | AB23: 0 | AC23: 0 | AD23: =SUM(X23:AC23) -> 0 | AE23: =SUM(Q23,X23) -> 0 | AF23: =SUM(R23,Y23) -> 0 | AG23: =SUM(S23,Z23) -> 0 | AH23: =SUM(T23,AA23) -> 0 | AI23: =SUM(U23,AB23) -> 5000 | AJ23: =SUM(V23,AC23) -> 0 | AK23: =SUM(AE23:AJ23) -> 5000 | AN23: =SUM(J23-X23) -> 0 | AO23: =SUM(K23-Y23) -> 0 | AP23: =SUM(L23-Z23) -> 0 | AQ23: =SUM(M23-AA23) -> 0 | AR23: =SUM(N23-AB23) -> 0 | AS23: =SUM(O23-AC23) -> 0 | AT23: =SUM(AN23:AS23) -> 0
B24: 전남청 | C24: 신축 | D24: 수완지구 | E24: 신설수요 | F24: 3 | G24: 1000 | H24: 18-19년 | I24: 2267000 | J24: 0 | K24: 0 | L24: 0 | M24: 2000000 | N24: 21000 | O24: 7000 | P24: =SUM(J24:O24) -> 2028000 | R24: 0 | S24: 0 | T24: 0 | U24: 0 | V24: 0 | W24: =SUM(Q24:V24) -> 0 | X24: 0 | Y24: 0 | Z24: 0 | AA24: 2000000 | AB24: 24000 | AC24: 12000 | AD24: =SUM(X24:AC24) -> 2036000 | AE24: =SUM(Q24,X24) -> 0 | AF24: =SUM(R24,Y24) -> 0 | AG24: =SUM(S24,Z24) -> 0 | AH24: =SUM(T24,AA24) -> 2000000 | AI24: =SUM(U24,AB24) -> 24000 | AJ24: =SUM(V24,AC24) -> 12000 | AK24: =SUM(AE24:AJ24) -> 2036000 | AN24: =SUM(J24-X24) -> 0 | AO24: =SUM(K24-Y24) -> 0 | AP24: =SUM(L24-Z24) -> 0 | AQ24: =SUM(M24-AA24) -> 0 | AR24: =SUM(N24-AB24) -> -3000 | AS24: =SUM(O24-AC24) -> -5000 | AT24: =SUM(AN24:AS24) -> -8000
B25: 전남청 | C25: 개축 | D25: 순천행동 | E25: 업무편의성 | F25: 1 | G25: 400 | H25: 18-19년 | I25: 1367000 | J25: 0 | K25: 0 | L25: 0 | M25: 800000 | N25: 10000 | O25: 3000 | P25: =SUM(J25:O25) -> 813000 | R25: 0 | S25: 0 | T25: 0 | U25: 0 | V25: 0 | W25: =SUM(Q25:V25) -> 0 | X25: 0 | Y25: 0 | Z25: 0 | AA25: 800000 | AB25: 10000 | AC25: 4800 | AD25: =SUM(X25:AC25) -> 814800 | AE25: =SUM(Q25,X25) -> 0 | AF25: =SUM(R25,Y25) -> 0 | AG25: =SUM(S25,Z25) -> 0 | AH25: =SUM(T25,AA25) -> 800000 | AI25: =SUM(U25,AB25) -> 10000 | AJ25: =SUM(V25,AC25) -> 4800 | AK25: =SUM(AE25:AJ25) -> 814800 | AN25: =SUM(J25-X25) -> 0 | AO25: =SUM(K25-Y25) -> 0 | AP25: =SUM(L25-Z25) -> 0 | AQ25: =SUM(M25-AA25) -> 0 | AR25: =SUM(N25-AB25) -> 0 | AS25: =SUM(O25-AC25) -> -1800 | AT25: =SUM(AN25:AS25) -> -1800
B26: 조달 | C26: 개축 | D26: 부산진 | E26: 업무편의성 | F26: -1/7 | G26: 12891 | H26: 18-21년 | I26: 28433000 | J26: 0 | K26: 0 | L26: 0 | M26: 5376000 | N26: 345000 | O26: 9000 | P26: =SUM(J26:O26) -> 5730000 | R26: 39478 | S26: 0 | T26: 0 | U26: 0 | V26: 0 | W26: =SUM(Q26:V26) -> 39478 | X26: 0 | Y26: 0 | Z26: 0 | AA26: 3870000 | AB26: 300000 | AC26: 17110 | AD26: =SUM(X26:AC26) -> 4187110 | AE26: =SUM(Q26,X26) -> 0 | AF26: =SUM(R26,Y26) -> 39478 | AG26: =SUM(S26,Z26) -> 0 | AH26: =SUM(T26,AA26) -> 3870000 | AI26: =SUM(U26,AB26) -> 300000 | AJ26: =SUM(V26,AC26) -> 17110 | AK26: =SUM(AE26:AJ26) -> 4226588 | AN26: =SUM(J26-X26) -> 0 | AO26: =SUM(K26-Y26) -> 0 | AP26: =SUM(L26-Z26) -> 0 | AQ26: =SUM(M26-AA26) -> 1506000 | AR26: =SUM(N26-AB26) -> 45000 | AS26: =SUM(O26-AC26) -> -8110 | AT26: =SUM(AN26:AS26) -> 1542890
B27: 조달 | C27: 개축 | D27: 김해진영 | E27: 업무편의성 | F27: -1/2 | G27: 1800 | H27: 18-20년 | I27: 3802744 | J27: 0 | K27: 0 | L27: 0 | M27: 2160000 | N27: 23000 | O27: 7000 | P27: =SUM(J27:O27) -> 2190000 | R27: 0 | S27: 0 | T27: 0 | U27: 0 | V27: 0 | W27: =SUM(Q27:V27) -> 0 | X27: 0 | Y27: 0 | Z27: 0 | AA27: 1638405 | AB27: 40904 | AC27: 6000 | AD27: =SUM(X27:AC27) -> 1685309 | AE27: =SUM(Q27,X27) -> 0 | AF27: =SUM(R27,Y27) -> 0 | AG27: =SUM(S27,Z27) -> 0 | AH27: =SUM(T27,AA27) -> 1638405 | AI27: =SUM(U27,AB27) -> 40904 | AJ27: =SUM(V27,AC27) -> 6000 | AK27: =SUM(AE27:AJ27) -> 1685309 | AN27: =SUM(J27-X27) -> 0 | AO27: =SUM(K27-Y27) -> 0 | AP27: =SUM(L27-Z27) -> 0 | AQ27: =SUM(M27-AA27) -> 521595 | AR27: =SUM(N27-AB27) -> -17904 | AS27: =SUM(O27-AC27) -> 1000 | AT27: =SUM(AN27:AS27) -> 504691
B28: 조달 | C28: 개축 | D28: 제주하귀 | E28: 업무편의성 | F28: -1/3 | G28: 1100 | H28: 18-20년 | I28: 2328604 | J28: 0 | K28: 0 | L28: 0 | M28: 2200000 | N28: 25000 | O28: 8000 | P28: =SUM(J28:O28) -> 2233000 | R28: 0 | S28: 0 | T28: 0 | U28: 0 | V28: 0 | W28: =SUM(Q28:V28) -> 0 | X28: 0 | Y28: 0 | Z28: 0 | AA28: 1265756 | AB28: 32250 | AC28: 6000 | AD28: =SUM(X28:AC28) -> 1304006 | AE28: =SUM(Q28,X28) -> 0 | AF28: =SUM(R28,Y28) -> 0 | AG28: =SUM(S28,Z28) -> 0 | AH28: =SUM(T28,AA28) -> 1265756 | AI28: =SUM(U28,AB28) -> 32250 | AJ28: =SUM(V28,AC28) -> 6000 | AK28: =SUM(AE28:AJ28) -> 1304006 | AN28: =SUM(J28-X28) -> 0 | AO28: =SUM(K28-Y28) -> 0 | AP28: =SUM(L28-Z28) -> 0 | AQ28: =SUM(M28-AA28) -> 934244 | AR28: =SUM(N28-AB28) -> -7250 | AS28: =SUM(O28-AC28) -> 2000 | AT28: =SUM(AN28:AS28) -> 928994
B29: 조달 | C29: 개축 | D29: 인천영종동 | E29: 신설수요 | F29: -1/3 | G29: 7580 | H29: 18-21년 | I29: 16264000 | J29: 0 | K29: 0 | L29: 0 | M29: 3991000 | N29: 330000 | O29: 9000 | P29: =SUM(J29:O29) -> 4330000 | R29: 35174 | S29: 218697 | T29: 0 | U29: 0 | V29: 0 | W29: =SUM(Q29:V29) -> 253871 | X29: 0 | Y29: 0 | Z29: 0 | AA29: 585000 | AB29: 110000 | AC29: 8500 | AD29: =SUM(X29:AC29) -> 703500 | AE29: =SUM(Q29,X29) -> 0 | AF29: =SUM(R29,Y29) -> 35174 | AG29: =SUM(S29,Z29) -> 218697 | AH29: =SUM(T29,AA29) -> 585000 | AI29: =SUM(U29,AB29) -> 110000 | AJ29: =SUM(V29,AC29) -> 8500 | AK29: =SUM(AE29:AJ29) -> 957371 | AN29: =SUM(J29-X29) -> 0 | AO29: =SUM(K29-Y29) -> 0 | AP29: =SUM(L29-Z29) -> 0 | AQ29: =SUM(M29-AA29) -> 3406000 | AR29: =SUM(N29-AB29) -> 220000 | AS29: =SUM(O29-AC29) -> 500 | AT29: =SUM(AN29:AS29) -> 3626500
B30: 조달 | C30: 개축 | D30: 정읍 | E30: 업무편의성 | F30: -1/3 | G30: 5640 | H30: 18-21년 | I30: 12384000 | J30: 0 | K30: 0 | L30: 0 | M30: 3991000 | N30: 330000 | O30: 9000 | P30: =SUM(J30:O30) -> 4330000 | R30: 4688 | S30: 303001 | T30: 0 | U30: 0 | V30: 0 | W30: =SUM(Q30:V30) -> 307689 | X30: 0 | Y30: 0 | Z30: 0 | AA30: 0 | AB30: 0 | AC30: 0 | AD30: =SUM(X30:AC30) -> 0 | AE30: =SUM(Q30,X30) -> 0 | AF30: =SUM(R30,Y30) -> 4688 | AG30: =SUM(S30,Z30) -> 303001 | AH30: =SUM(T30,AA30) -> 0 | AI30: =SUM(U30,AB30) -> 0 | AJ30: =SUM(V30,AC30) -> 0 | AK30: =SUM(AE30:AJ30) -> 307689 | AN30: =SUM(J30-X30) -> 0 | AO30: =SUM(K30-Y30) -> 0 | AP30: =SUM(L30-Z30) -> 0 | AQ30: =SUM(M30-AA30) -> 3991000 | AR30: =SUM(N30-AB30) -> 330000 | AS30: =SUM(O30-AC30) -> 9000 | AT30: =SUM(AN30:AS30) -> 4330000
B31: 조달 | C31: 개축 | D31: 여의도 | E31: 전략적수익성 | F31: -4/33 | G31: 68487 | H31: 16-20년 | I31: 163108000 | J31: 0 | K31: 0 | L31: 0 | M31: 48973000 | N31: 1500000 | O31: 82000 | P31: =SUM(J31:O31) -> 50555000 | R31: 0 | S31: 0 | T31: 4163923 | U31: 215192 | V31: 0 | W31: =SUM(Q31:V31) -> 4379115 | X31: 0 | Y31: 0 | Z31: 0 | AA31: 49000000 | AB31: 1500000 | AC31: 82000 | AD31: =SUM(X31:AC31) -> 50582000 | AE31: =SUM(Q31,X31) -> 0 | AF31: =SUM(R31,Y31) -> 0 | AG31: =SUM(S31,Z31) -> 0 | AH31: =SUM(T31,AA31) -> 53163923 | AI31: =SUM(U31,AB31) -> 1715192 | AJ31: =SUM(V31,AC31) -> 82000 | AK31: =SUM(AE31:AJ31) -> 54961115 | AN31: =SUM(J31-X31) -> 0 | AO31: =SUM(K31-Y31) -> 0 | AP31: =SUM(L31-Z31) -> 0 | AQ31: =SUM(M31-AA31) -> -27000 | AR31: =SUM(N31-AB31) -> 0 | AS31: =SUM(O31-AC31) -> 0 | AT31: =SUM(AN31:AS31) -> -27000
B32: 조달 | C32: 개축 | D32: 성남 | E32: 업무편의성 | F32: -2/7 | G32: 20981 | H32: 15-19 | I32: 45774678 | J32: 0 | K32: 0 | L32: 0 | M32: 13670000 | N32: 66000 | O32: 36000 | P32: =SUM(J32:O32) -> 13772000 | R32: 0 | S32: 0 | T32: 1730164 | U32: 338074 | V32: 0 | W32: =SUM(Q32:V32) -> 2068238 | X32: 0 | Y32: 0 | Z32: 0 | AA32: 14216779 | AB32: 99111 | AC32: 36100 | AD32: =SUM(X32:AC32) -> 14351990 | AE32: =SUM(Q32,X32) -> 0 | AF32: =SUM(R32,Y32) -> 0 | AG32: =SUM(S32,Z32) -> 0 | AH32: =SUM(T32,AA32) -> 15946943 | AI32: =SUM(U32,AB32) -> 437185 | AJ32: =SUM(V32,AC32) -> 36100 | AK32: =SUM(AE32:AJ32) -> 16420228 | AN32: =SUM(J32-X32) -> 0 | AO32: =SUM(K32-Y32) -> 0 | AP32: =SUM(L32-Z32) -> 0 | AQ32: =SUM(M32-AA32) -> -546779 | AR32: =SUM(N32-AB32) -> -33111 | AS32: =SUM(O32-AC32) -> -100 | AT32: =SUM(AN32:AS32) -> -579990
B33: 조달 | C33: 개축 | D33: 부산사하 | E33: 업무편의성 | F33: -1/4 | G33: 8363 | H33: 17-20년 | I33: 21424216 | J33: 0 | K33: 0 | L33: 0 | M33: 6710000 | N33: 420000 | O33: 20000 | P33: =SUM(J33:O33) -> 7150000 | R33: 0 | S33: 0 | T33: 2031981 | U33: 183753 | V33: 2400 | W33: =SUM(Q33:V33) -> 2218134 | X33: 0 | Y33: 0 | Z33: 0 | AA33: 6652716.2 | AB33: 56691 | AC33: 20000 | AD33: =SUM(X33:AC33) -> 6729407.2 | AE33: =SUM(Q33,X33) -> 0 | AF33: =SUM(R33,Y33) -> 0 | AG33: =SUM(S33,Z33) -> 0 | AH33: =SUM(T33,AA33) -> 8684697.2 | AI33: =SUM(U33,AB33) -> 240444 | AJ33: =SUM(V33,AC33) -> 22400 | AK33: =SUM(AE33:AJ33) -> 8947541.2 | AN33: =SUM(J33-X33) -> 0 | AO33: =SUM(K33-Y33) -> 0 | AP33: =SUM(L33-Z33) -> 0 | AQ33: =SUM(M33-AA33) -> 57283.848 | AR33: =SUM(N33-AB33) -> 363309 | AS33: =SUM(O33-AC33) -> 0 | AT33: =SUM(AN33:AS33) -> 420592.85
B34: 조달 | C34: 개축 | D34: 북광주 | E34: 업무편의성 | F34: -1/3 | G34: 9155 | H34: 17-20년 | I34: 19643854 | J34: 0 | K34: 0 | L34: 0 | M34: 4896000 | N34: 457000 | O34: 20000 | P34: =SUM(J34:O34) -> 5373000 | R34: 0 | S34: 0 | T34: 498902 | U34: 111080 | V34: 2300 | W34: =SUM(Q34:V34) -> 612282 | X34: 0 | Y34: 0 | Z34: 0 | AA34: 11013371 | AB34: 284000 | AC34: 20000 | AD34: =SUM(X34:AC34) -> 11317371 | AE34: =SUM(Q34,X34) -> 0 | AF34: =SUM(R34,Y34) -> 0 | AG34: =SUM(S34,Z34) -> 0 | AH34: =SUM(T34,AA34) -> 11512273 | AI34: =SUM(U34,AB34) -> 395080 | AJ34: =SUM(V34,AC34) -> 22300 | AK34: =SUM(AE34:AJ34) -> 11929653 | AN34: =SUM(J34-X34) -> 0 | AO34: =SUM(K34-Y34) -> 0 | AP34: =SUM(L34-Z34) -> 0 | AQ34: =SUM(M34-AA34) -> -6117371 | AR34: =SUM(N34-AB34) -> 173000 | AS34: =SUM(O34-AC34) -> 0 | AT34: =SUM(AN34:AS34) -> -5944371
B35: 조달 | C35: 개축 | D35: 하남 | E35: 업무편의성 | F35: -1/4 | G35: 6960 | H35: 17-20년 | I35: 15056021 | J35: 0 | K35: 0 | L35: 0 | M35: 9224000 | N35: 380000 | O35: 19000 | P35: =SUM(J35:O35) -> 9623000 | T35: 195864 | U35: 107052 | V35: 3000 | W35: =SUM(Q35:V35) -> 305916 | X35: 0 | Y35: 0 | Z35: 0 | AA35: 9176746 | AB35: 247000 | AC35: 8000 | AD35: =SUM(X35:AC35) -> 9431746 | AE35: =SUM(Q35,X35) -> 0 | AF35: =SUM(R35,Y35) -> 0 | AG35: =SUM(S35,Z35) -> 0 | AH35: =SUM(T35,AA35) -> 9372610 | AI35: =SUM(U35,AB35) -> 354052 | AJ35: =SUM(V35,AC35) -> 11000 | AK35: =SUM(AE35:AJ35) -> 9737662 | AN35: =SUM(J35-X35) -> 0 | AO35: =SUM(K35-Y35) -> 0 | AP35: =SUM(L35-Z35) -> 0 | AQ35: =SUM(M35-AA35) -> 47254 | AR35: =SUM(N35-AB35) -> 133000 | AS35: =SUM(O35-AC35) -> 11000 | AT35: =SUM(AN35:AS35) -> 191254
B36: 소계 | J36: =SUM(J21:J35) -> 0 | K36: =SUM(K21:K35) -> 0 | L36: =SUM(L21:L35) -> 0 | M36: =SUM(M21:M35) -> 103991000 | N36: =SUM(N21:N35) -> 3907000 | O36: =SUM(O21:O35) -> 229000 | P36: =SUM(P21:P35) -> 108127000 | R36: =SUM(R21:R35) -> 79340 | S36: =SUM(S21:S35) -> 521698 | T36: =SUM(T21:T35) -> 9812638 | U36: =SUM(U21:U35) -> 977351 | V36: =SUM(V21:V35) -> 7700 | W36: =SUM(Q36:V36) -> 11398727 | X36: =SUM(X21:X35) -> 0 | Y36: =SUM(Y21:Y35) -> 0 | Z36: =SUM(Z21:Z35) -> 0 | AA36: =SUM(AA21:AA35) -> 1.0102623e+08 | AB36: =SUM(AB21:AB35) -> 2708553 | AC36: =SUM(AC21:AC35) -> 230510 | AD36: =SUM(X36:AC36) -> 1.0396529e+08 | AE36: =SUM(AE21:AE35) -> 0 | AF36: =SUM(AF21:AF35) -> 79340 | AG36: =SUM(AG21:AG35) -> 521698 | AH36: =SUM(AH21:AH35) -> 1.1083887e+08 | AI36: =SUM(AI21:AI35) -> 3685904 | AJ36: =SUM(AJ21:AJ35) -> 238210 | AK36: =SUM(AE36:AJ36) -> 1.1536402e+08 | AN36: =SUM(AN21:AN35) -> 0 | AO36: =SUM(AO21:AO35) -> 0 | AP36: =SUM(AP21:AP35) -> 0 | AQ36: =SUM(AQ21:AQ35) -> 2964769.8 | AR36: =SUM(AR21:AR35) -> 1198447 | AS36: =SUM(AS21:AS35) -> -1510 | AT36: =SUM(AN36:AS36) -> 4161706.8
A37: 건물공사 계 | J37: =SUM(J20,J36) -> 0 | K37: =SUM(K20,K36) -> 893000 | L37: =SUM(L20,L36) -> 1338000 | M37: =SUM(M20,M36) -> 104891000 | N37: =SUM(N20,N36) -> 3916000 | O37: =SUM(O20,O36) -> 232000 | P37: =SUM(P20,P36) -> 111270000 | R37: =SUM(R20,R36) -> 79340 | S37: =SUM(S20,S36) -> 521698 | T37: =SUM(T20,T36) -> 9812638 | U37: =SUM(U20,U36) -> 977351 | V37: =SUM(V20,V36) -> 7700 | W37: =SUM(Q37:V37) -> 11398727 | Y37: =SUM(Y20,Y36) -> 893000 | Z37: =SUM(Z20,Z36) -> 1338000 | AA37: =SUM(AA20,AA36) -> 1.0192623e+08 | AB37: =SUM(AB20,AB36) -> 2717553 | AC37: =SUM(AC20,AC36) -> 233510 | AD37: =SUM(X37:AC37) -> 1.0710829e+08 | AE37: =SUM(AE20,AE36) -> 0 | AF37: =SUM(AF20,AF36) -> 469340 | AG37: =SUM(AG20,AG36) -> 1103698 | AH37: =SUM(AH20,AH36) -> 1.1083887e+08 | AI37: =SUM(AI20,AI36) -> 3685904 | AJ37: =SUM(AJ20,AJ36) -> 238210 | AK37: =SUM(AE37:AJ37) -> 1.1633602e+08 | AO37: =SUM(AO20,AO36) -> 503000 | AP37: =SUM(AP20,AP36) -> 756000 | AQ37: =SUM(AQ20,AQ36) -> 3864769.8 | AR37: =SUM(AR20,AR36) -> 1207447 | AS37: =SUM(AS20,AS36) -> 1490 | AT37: =SUM(AN37:AS37) -> 6332706.8
A38: 합 계 | J38: =SUM(J13,J37) -> 9325000 | K38: =SUM(K13,K37) -> 893000 | L38: =SUM(L13,L37) -> 1338000 | M38: =SUM(M13,M37) -> 104891000 | N38: =SUM(N13,N37) -> 3916000 | O38: =SUM(O13,O37) -> 232000 | P38: =SUM(P13,P37) -> 120595000 | R38: =SUM(R13,R37) -> 79340 | S38: =SUM(S13,S37) -> 521698 | T38: =SUM(T13,T37) -> 9812638 | U38: =SUM(U13,U37) -> 977351 | V38: =SUM(V13,V37) -> 7700 | W38: =SUM(Q38:V38) -> 11398727 | Y38: =SUM(Y13,Y37) -> 893000 | Z38: =SUM(Z13,Z37) -> 1338000 | AA38: =SUM(AA13,AA37) -> 1.0192623e+08 | AB38: =SUM(AB13,AB37) -> 2717553 | AC38: =SUM(AC13,AC37) -> 233510 | AD38: =SUM(X38:AC38) -> 1.0710829e+08 | AE38: =SUM(AE13,AE37) -> 7933000 | AF38: =SUM(AF13,AF37) -> 469340 | AG38: =SUM(AG13,AG37) -> 1103698 | AH38: =SUM(AH13,AH37) -> 1.1083887e+08 | AI38: =SUM(AI13,AI37) -> 3685904 | AJ38: =SUM(AJ13,AJ37) -> 238210 | AK38: =SUM(AE38:AJ38) -> 1.2426902e+08 | AO38: =SUM(AO13,AO37) -> 503000 | AP38: =SUM(AP13,AP37) -> 756000 | AQ38: =SUM(AQ13,AQ37) -> 3864769.8 | AR38: =SUM(AR13,AR37) -> 1207447 | AS38: =SUM(AS13,AS37) -> 1490 | AT38: =SUM(AN38:AS38) -> 6332706.8

Sheet 요약
A2: 2018년도 계속사업 소요예산 내역
Z3: (단위: 천 원)
A4: 유형 | B4: 국사명 | C4: 건물규모 | D4: 연면적 | E4: 공사기간 | F4: 총사업비 | G4: (변경)총사업비 | H4: 2018년 소요예산 | N4: 2019년 소요예산 | T4: 2020년 소요예산 | Z4: 비 고
H5: 420-01 | I5: 420-02 | J5: 420-03 | K5: 420-04 | L5: 420-05 | M5: 계 | N5: 420-01 | O5: 420-02 | P5: 420-03 | Q5: 420-04 | R5: 420-05 | S5: 계 | T5: 420-01 | U5: 420-02 | V5: 420-03 | W5: 420-04 | X5: 420-05 | Y5: 계
A6: 개축 | B6: 부산사하 | C6: -1/4 | D6: =#REF! -> #REF! | E6: 17-20년 | F6: =#REF! -> #REF! | G6: =#REF! -> #REF! | H6: =#REF! -> #REF! | I6: =#REF! -> #REF! | J6: =#REF! -> #REF! | K6: =#REF! -> #REF! | L6: =#REF! -> #REF! | M6: =SUM(H6:L6) -> #REF! | P6: =#REF! -> #REF! | Q6: =#REF! -> #REF! | R6: =#REF! -> #REF! | S6: =SUM(N6:R6) -> #REF! | V6: =#REF! -> #REF! | W6: =#REF! -> #REF! | X6: =#REF! -> #REF! | Y6: =SUM(T6:X6) -> #REF! | Z6: 설계공모 중
A7: 개축 | B7: 북광주 | C7: -1/4 | D7: 9160 | E7: 17-19년 | F7: =#REF! -> #REF! | G7: =#REF! -> #REF! | H7: =#REF! -> #REF! | I7: =#REF! -> #REF! | J7: =#REF! -> #REF! | K7: =#REF! -> #REF! | L7: =#REF! -> #REF! | M7: =SUM(H7:L7) -> #REF! | P7: =#REF! -> #REF! | Q7: =#REF! -> #REF! | R7: =#REF! -> #REF! | S7: =SUM(N7:R7) -> #REF! | V7: =#REF! -> #REF! | W7: =#REF! -> #REF! | X7: =#REF! -> #REF! | Y7: =SUM(T7:X7) -> #REF! | Z7: 설계공모 중
A8: 개축 | B8: 하남 | C8: -1/4 | D8: 6960 | E8: 17-19년 | F8: =#REF! -> #REF! | G8: =#REF! -> #REF! | H8: =#REF! -> #REF! | J8: =#REF! -> #REF! | K8: =#REF! -> #REF! | L8: =#REF! -> #REF! | M8: =SUM(H8:L8) -> #REF! | P8: =#REF! -> #REF! | Q8: =#REF! -> #REF! | R8: =#REF! -> #REF! | S8: =SUM(N8:R8) -> #REF! | Y8: =SUM(T8:X8) -> 0 | Z8: 설계공모 중
A9: 개축 | B9: 사직사 | C9: -1/2 | D9: 1500 | E9: 17-18년 | F9: =#REF! -> #REF! | G9: =#REF! -> #REF! | J9: =#REF! -> #REF! | K9: =#REF! -> #REF! | L9: =#REF! -> #REF! | M9: =SUM(H9:L9) -> #REF! | P9: =#REF! -> #REF! | Q9: =#REF! -> #REF! | R9: =#REF! -> #REF! | S9: =SUM(N9:R9) -> #REF! | Y9: =SUM(T9:X9) -> 0 | Z9: 설계공모 중
A10: 개축 | B10: 여의도 | C10: -4/33 | D10: 68431 | E10: 16-20년 | F10: =#REF! -> #REF! | G10: =#REF! -> #REF! | J10: =#REF! -> #REF! | K10: =#REF! -> #REF! | L10: =#REF! -> #REF! | M10: =SUM(H10:L10) -> #REF! | P10: =#REF! -> #REF! | Q10: =#REF! -> #REF! | R10: =#REF! -> #REF! | S10: =SUM(N10:R10) -> #REF! | V10: =#REF! -> #REF! | W10: =#REF! -> #REF! | X10: =#REF! -> #REF! | Y10: =SUM(T10:X10) -> #REF! | Z10: 실시설계 중
A11: 개축 | B11: 서울마포 | C11: -6/16 | D11: 21338 | E11: 15-18년 | F11: =#REF! -> #REF! | G11: =#REF! -> #REF! | J11: =#REF! -> #REF! | K11: =#REF! -> #REF! | L11: =#REF! -> #REF! | M11: =SUM(H11:L11) -> #REF! | P11: =#REF! -> #REF! | Q11: =#REF! -> #REF! | R11: =#REF! -> #REF! | S11: =SUM(N11:R11) -> #REF! | V11: =#REF! -> #REF! | W11: =#REF! -> #REF! | X11: =#REF! -> #REF! | Y11: =SUM(T11:X11) -> #REF! | Z11: 공사 중
A12: 개축 | B12: 서울영동 | C12: -3/8 | D12: 13631 | E12: 15-18년 | F12: =#REF! -> #REF! | G12: =#REF! -> #REF! | J12: =#REF! -> #REF! | K12: =#REF! -> #REF! | L12: =#REF! -> #REF! | M12: =SUM(H12:L12) -> #REF! | P12: =#REF! -> #REF! | Q12: =#REF! -> #REF! | R12: =#REF! -> #REF! | S12: =SUM(N12:R12) -> #REF! | V12: =#REF! -> #REF! | W12: =#REF! -> #REF! | X12: =#REF! -> #REF! | Y12: =SUM(T12:X12) -> #REF! | Z12: 공사 중
A13: 개축 | B13: 성남 | C13: -2/7 | D13: 20981 | E13: 15-19년 | F13: =#REF! -> #REF! | G13: =#REF! -> #REF! | J13: =#REF! -> #REF! | K13: =#REF! -> #REF! | L13: =#REF! -> #REF! | M13: =SUM(H13:L13) -> #REF! | P13: =#REF! -> #REF! | Q13: =#REF! -> #REF! | R13: =#REF! -> #REF! | S13: =SUM(N13:R13) -> #REF! | V13: =#REF! -> #REF! | W13: =#REF! -> #REF! | X13: =#REF! -> #REF! | Y13: =SUM(T13:X13) -> #REF! | Z13: 공사 중
A15: 소계 | F15: =SUM(F6:F14) -> #REF! | G15: =SUM(G6:G14) -> #REF! | H15: =SUM(H6:H14) -> #REF! | I15: =SUM(I6:I14) -> #REF! | J15: =SUM(J6:J14) -> #REF! | K15: =SUM(K6:K14) -> #REF! | L15: =SUM(L6:L14) -> #REF! | M15: =SUM(M6:M14) -> #REF! | ... Y15: =SUM(Y6:Y14) -> #REF!

Sheet Sheet4

Sheet 항목별 세부내역
A1: 2019년 하반기 우체국 대수선 예산 세부배정내역
Q2: (단위 : 천원)
A3: 구분 | B3: 직청 | C3: 총괄국 | D3: 배정관서명 | E3: 배정사유 | F3: 5142-409 (우체국시설유지관리) | J3: 5143-417 (우체국보수) | P3: 5142-490 (우체국시설유지관리) | Q3: 7218-280 (소속기관기본경비) | R3: 합계
F4: 210-07 | G4: 210-09 | H4: 210-16 | I4: 430-01 | J4: 420-01 | K4: 420-02 | L4: 420-03 | M4: 420-05 | N4: 430-01 | O4: 440-00 | P4: 210-01 | Q4: 210-01
F5: 임차료 | G5: 시설장비유지비 | H5: 기타운영비 | I5: 자산취득비 | J5: 기본설계비 | K5: 실시설계비 | L5: 공사비 | M5: 시설부대비 | N5: 자산취득비 | O5: 무형자산 | P5: 일반수용비 | Q5: 일반수용비
A6: 안전점검 후속조치 (15건) | B6: 서울청 | C6: 서울중앙 | D6: 서울중앙 | E6: 주차장 출입램프 안전시설 설치 | K6: - | L6: 147600 | M6: - | N6: - | O6: - | P6: - | Q6: - | R6: =SUM(F6:Q6) -> 147600
B7: 경인청 | C7: 용인중앙동 | D7: 용인중앙동 | E7: 화재복구 공사 | K7: - | L7: 200000 | M7: - | N7: - | O7: - | P7: - | Q7: - | R7: =SUM(F7:Q7) -> 200000
B8: 경인청 | C8: 고양덕양 | D8: 고양주교동 | E8: 옥상방수 및 화장실 보수공사 | K8: - | L8: 60000 | M8: - | N8: - | O8: - | P8: - | Q8: - | R8: =SUM(F8:Q8) -> 60000
B9: 충청청 | C9: 서천 | D9: 장항 | E9: 균열 벽체 철거 및 신설(해빙기 안전점검 후속조치) | K9: - | L9: 40000 | M9: - | N9: - | O9: - | P9: - | Q9: - | R9: =SUM(F9:Q9) -> 40000
B10: 충청청 | C10: 예산 | D10: 예산 | E10: 벽체균열 및 담장보수공사 | K10: - | L10: 20000 | M10: - | N10: - | O10: - | P10: - | Q10: - | R10: =SUM(F10:Q10) -> 20000
B11: 전남청 | C11: 목포 | D11: 하의 | E11: 1층 천정, 옥상 보수공사(해빙기 안전점검 후속조치) | K11: - | L11: 50000 | M11: - | N11: - | O11: - | P11: - | Q11: - | R11: =SUM(F11:Q11) -> 50000
B12: 전남청 | C12: 고흥 | D12: 고흥 | E12: 옥상방수, 계단실균열, 담장보수 공사 | K12: - | L12: 89900 | M12: - | N12: - | O12: - | P12: - | Q12: - | R12: =SUM(F12:Q12) -> 89900
B13: 전남청 | C13: 여수 | D13: 여수 | E13: 옥상방수, 계단실균열 보수공사 | K13: - | L13: 90000 | M13: - | N13: - | O13: - | P13: - | Q13: - | R13: =SUM(F13:Q13) -> 90000
B14: 경북청 | C14: 대구달서 | D14: 대구달서 | E14: 동력용 변압기 증설(해빙기 안전점검 후속조치) (200kw -> 300kw) | K14: - | L14: 30000 | M14: - | N14: - | O14: - | P14: - | Q14: - | R14: =SUM(F14:Q14) -> 30000
B15: 경북청 | C15: 대구 | D15: 대구안지랑 | E15: 창호코킹 등 방수공사 | K15: - | L15: 20000 | M15: - | N15: - | O15: - | P15: - | Q15: - | R15: =SUM(F15:Q15) -> 20000
B16: 경북청 | C16: 구미 | D16: 구미상모동 | E16: 옥상방수공사 | K16: - | L16: 34000 | M16: - | N16: - | O16: - | P16: - | Q16: - | R16: =SUM(F16:Q16) -> 34000
B17: 경북청 | C17: 북포항 | D17: 북포항 | E17: 변압기 큐비클 교체 | K17: - | L17: 25000 | M17: - | N17: - | O17: - | P17: - | Q17: - | R17: =SUM(F17:Q17) -> 25000
B18: 경북청 | C18: 달성 | D18: 달성 | E18: 옥상방수공사 | K18: - | L18: 32000 | M18: - | N18: - | O18: - | P18: - | Q18: - | R18: =SUM(F18:Q18) -> 32000
... B20: 전북청 | C20: 진안 | D20: 진안 | E20: 노후 수배전설비 교체(고압 -> 저압) | K20: - | L20: 50000 | M20: - | N20: - | O20: - | P20: - | Q20: - | R20: =SUM(F20:Q20) -> 50000
A21: 계 | K21: =SUM(K7:K20) -> 0 | L21: =SUM(L6:L20) -> 913500 | M21: =SUM(M7:M20) -> 0 | N21: =SUM(N7:N20) -> 0 | O21: =SUM(O7:O20) -> 0 | P21: =SUM(P7:P20) -> 0 | Q21: =SUM(Q7:Q20) -> 0 | R21: =SUM(R6:R20) -> 913500
A22: 전기화재예방 (8건 162국) | B22: 서울청 | C22: - | D22: - | E22: 창구국사(41국) 전원일괄차단장치 설치 | K22: - | L22: 82000 | M22: - | N22: - | O22: - | P22: - | Q22: - | R22: =SUM(F22:Q22) -> 82000
B23: 경인청 | C23: - | D23: - | E23: 창구국사(40국) 전원일괄차단장치 설치 | K23: - | L23: 80000 | M23: - | N23: - | O23: - | P23: - | Q23: - | R23: =SUM(F23:Q23) -> 80000
B24: 부산청 | C24: - | D24: - | E24: 창구국사(11국) 전원일괄차단장치 설치 | K24: - | L24: 22000 | M24: - | N24: - | O24: - | P24: - | Q24: - | R24: =SUM(F24:Q24) -> 22000
B25: 충청청 | C25: - | D25: - | E25: 창구국사(26국) 전원일괄차단장치 설치 | K25: - | L25: 52000 | M25: - | N25: - | O25: - | P25: - | Q25: - | R25: =SUM(F25:Q25) -> 52000
B26: 전남청 | C26: - | D26: - | E26: 창구국사(14국) 전원일괄차단장치 설치 | K26: - | L26: 28000 | M26: - | N26: - | O26: - | P26: - | Q26: - | R26: =SUM(F26:Q26) -> 28000
B27: 경북청 | C27: - | D27: - | E27: 창구국사(10국) 전원일괄차단장치 설치 | K27: - | L27: 20000 | M27: - | N27: - | O27: - | P27: - | Q27: - | R27: =SUM(F27:Q27) -> 20000
B28: 전북청 | C28: - | D28: - | E28: 창구국사(5국) 전원일괄차단장치 설치 | K28: - | L28: 10000 | M28: - | N28: - | O28: - | P28: - | Q28: - | R28: =SUM(F28:Q28) -> 10000
B29: 강원청 | C29: - | D29: - | E29: 창구국사(15국) 전원일괄차단장치 설치 | K29: - | L29: 30000 | M29: - | N29: - | O29: - | P29: - | Q29: - | R29: =SUM(F29:Q29) -> 30000
A30: 계 | K30: =SUM(K22:K29) -> 0 | L30: =SUM(L22:L29) -> 324000 | M30: =SUM(M22:M29) -> 0 | N30: =SUM(N22:N29) -> 0 | O30: =SUM(O22:O29) -> 0 | P30: =SUM(P22:P29) -> 0 | R30: =SUM(R22:R29) -> 324000
A31: 초소형 전기차 충전시설 설치 (265기) | B31: 서울청 | C31: - | D31: - | E31: 초소형 전기차 충전시설(12기) 설치 | K31: - | L31: 12300 | M31: - | N31: - | O31: - | P31: - | Q31: - | R31: =SUM(F31:Q31) -> 12300
B32: 경인청 | C32: - | D32: - | E32: 초소형 전기차 충전시설(143기) 설치 | K32: - | L32: 229000 | M32: - | N32: - | O32: - | P32: - | Q32: - | R32: =SUM(F32:Q32) -> 229000
B33: 부산청 | C33: - | D33: - | E33: 초소형 전기차 충전시설(13기) 설치 | K33: - | L33: 30800 | M33: - | N33: - | O33: - | P33: - | Q33: - | R33: =SUM(F33:Q33) -> 30800
B34: 충청청 | C34: - | D34: - | E34: 초소형 전기차 충전시설(17기) 설치 | K34: - | L34: 34000 | M34: - | N34: - | O34: - | P34: - | Q34: - | R34: =SUM(F34:Q34) -> 34000
B35: 전남청 | C35: - | D35: - | E35: 초소형 전기차 충전시설(35기) 설치 | K35: - | L35: 60000 | M35: - | N35: - | O35: - | P35: - | Q35: - | R35: =SUM(F35:Q35) -> 60000
B36: 경북청 | C36: - | D36: - | E36: 초소형 전기차 충전시설(34기) 설치 | K36: - | L36: 107000 | M36: - | N36: - | O36: - | P36: - | Q36: - | R36: =SUM(F36:Q36) -> 107000
B37: 전북청 | C37: - | D37: - | E37: 초소형 전기차 충전시설(4기) 설치 | K37: - | L37: 8200 | M37: - | N37: - | O37: - | P37: - | Q37: - | R37: =SUM(F37:Q37) -> 8200
B38: 제주청 | C38: - | D38: - | E38: 초소형 전기차 충전시설(7기) 설치 | K38: - | L38: 9000 | M38: - | N38: - | O38: - | P38: - | Q38: - | R38: =SUM(F38:Q38) -> 9000
B39: 교육원 | C39: - | D39: - | E39: 초소형 전기차 충전시설 비가림 천막 설치 | K39: - | L39: 6400 | M39: - | N39: - | O39: - | P39: - | Q39: - | R39: =SUM(F39:Q39) -> 6400
A40: 계 | K40: =SUM(K31:K39) -> 0 | L40: =SUM(L31:L39) -> 496700 | M40: =SUM(M31:M39) -> 0 | N40: =SUM(N31:N39) -> 0 | O40: =SUM(O31:O39) -> 0 | P40: =SUM(P31:P39) -> 0 | Q40: =SUM(Q31:Q39) -> 0 | R40: =SUM(R31:R39) -> 496700
A41: 법적의무사항 (5건) | B41: 경인청 | C41: 부천(집) | D41: 부천(집) | E41: 저녹스버너 3대 교체 | K41: - | L41: 30000 | M41: - | N41: - | O41: - | P41: - | Q41: - | R41: =SUM(F41:Q41) -> 30000
B42: 부산청 | C42: 부산(집), 울산(집) | D42: 부산(집), 울산(집) | E42: 저녹스버너 교체 | K42: 11000 | L42: 130000 | M42: - | N42: - | O42: - | P42: - | Q42: - | R42: =SUM(F42:Q42) -> 141000
B43: 충청청 | C43: 대전(집) | D43: 대전(집) | E43: 가감차로 확장공사 (물류센터 건축물대장 생성 지자체 협의조건) | K43: - | L43: 130000 | M43: - | N43: - | O43: - | P43: - | Q43: - | R43: =SUM(F43:Q43) -> 130000
B44: 충청청 | C44: - | D44: - | E44: 법적점검수수료 | K44: - | M44: - | N44: - | P44: 30000 | Q44: 52000 | R44: =SUM(F44:Q44) -> 82000
B45: 제주청 | C45: 서귀포 | D45: 서귀포수련원 | E45: 소방시설 및 태양열교환시스템(온수공급) 보수 | K45: - | L45: 20000 | M45: - | N45: - | O45: - | P45: - | Q45: - | R45: =SUM(F45:Q45) -> 20000
A46: 계 | K46: =SUM(K41:K45) -> 11000 | L46: =SUM(L41:L45) -> 310000 | M46: =SUM(M41:M45) -> 0 | N46: =SUM(N41:N45) -> 0 | O46: =SUM(O41:O45) -> 0 | P46: =SUM(P41:P45) -> 30000 | Q46: =SUM(Q41:Q45) -> 52000 | R46: =SUM(R41:R45) -> 403000
A47: 물류환경 개선 (6건) | B47: 서울청 | C47: 서울동작 | D47: 서울동작 | E47: 발착장 확장 및 이륜차 지붕교체 | K47: - | L47: 50000 | M47: - | N47: - | O47: - | P47: - | Q47: - | R47: =SUM(F47:Q47) -> 50000
B48: 부산청 | C48: 진해 | D48: 진해웅동2동 | E48: 작업장 확장공사 | K48: - | L48: 200000 | M48: - | N48: - | O48: - | P48: - | Q48: - | R48: =SUM(F48:Q48) -> 200000
B49: 충청청 | C49: 서대전 | D49: 서대전 | E49: 계단 슬로프 설치 | K49: - | L49: 10000 | M49: - | N49: - | O49: - | P49: - | Q49: - | R49: =SUM(F49:Q49) -> 10000
B50: 경북청 | C50: 경산 | D50: 경산 | E50: 물류작업장 확장공사 | K50: - | L50: 43700 | M50: - | N50: - | O50: - | P50: - | Q50: - | R50: =SUM(F50:Q50) -> 43700
B51: 경북청 | C51: 울릉 | D51: 울릉 | E51: 발착장 신축공사(숙사 증축공사 제외) | K51: 30000 | M51: - | N51: - | O51: - | P51: - | Q51: - | R51: =SUM(F51:Q51) -> 30000
B52: 강원청 | C52: 속초 | D52: 속초 | E52: 물류작업장 확장공사 | K52: - | L52: 287000 | M52: - | N52: - | O52: - | P52: - | Q52: - | R52: =SUM(F52:Q52) -> 287000
A53: 계 | K53: =SUM(K47:K52) -> 30000 | L53: =SUM(L47:L52) -> 590700 | M53: =SUM(M47:M52) -> 0 | N53: =SUM(N47:N52) -> 0 | O53: =SUM(O47:O52) -> 0 | P53: =SUM(P47:P52) -> 0 | Q53: =SUM(Q47:Q52) -> 0 | R53: =SUM(R47:R52) -> 620700
A54: 물류설비 보수 및 교체 (18건) | B54: 서울청 | C54: 서울강서 | D54: 서울강서 | E54: 순로구분기 철거 및 집진기 설치 | K54: - | L54: 5000 | M54: - | N54: - | O54: - | P54: - | Q54: - | R54: =SUM(F54:Q54) -> 5000
B55: 서울청 | C55: 서울관악 | D55: 서울관악 | E55: 화물용엘리베이터 보수공사 | K55: - | L55: 41000 | M55: - | N55: - | O55: - | P55: - | Q55: - | R55: =SUM(F55:Q55) -> 41000
B56: 경인청 | C56: 남인천 | D56: 남인천 | E56: 순로구분기 철거 및 집진기 설치 | K56: - | L56: 16500 | M56: - | N56: - | O56: - | P56: - | Q56: - | R56: =SUM(F56:Q56) -> 16500
B57: 경인청 | C57: 구리 | D57: 구리 | E57: 발착장 경사조졸기 및 승강기 보수 | K57: - | L57: 13000 | M57: - | N57: - | O57: - | P57: - | Q57: - | R57: =SUM(F57:Q57) -> 13000
B58: 경인청 | C58: 의정부(집) | D58: 의정부(집) | E58: 화물용엘리베이터 노후부품 교체 | K58: - | L58: 15000 | M58: - | N58: - | O58: - | P58: - | Q58: - | R58: =SUM(F58:Q58) -> 15000
B59: 경인청 | C59: 오산 | D59: 오산 | E59: 노후 레벨러 교체 | K59: - | L59: 13000 | M59: - | N59: - | O59: - | P59: - | Q59: - | R59: =SUM(F59:Q59) -> 13000
B60: 부산청 | C60: 북부산 | D60: 북부산 | E60: 순로구분기 철거 및 집진기 설치 | K60: - | L60: 20000 | M60: - | N60: - | O60: - | P60: - | Q60: - | R60: =SUM(F60:Q60) -> 20000
B61: 부산청 | C61: 거제 | D61: 거제 | E61: 발착시설(수평조절기) 설치공사 | K61: - | L61: 12000 | M61: - | N61: - | O61: - | P61: - | Q61: - | R61: =SUM(F61:Q61) -> 12000
B62: 부산청 | C62: 창원우편집중국 | D62: 창원우편집중국 | E62: 발착장 수평조절기 중심축 교체 | K62: - | L62: 9000 | M62: - | N62: - | O62: - | P62: - | Q62: - | R62: =SUM(F62:Q62) -> 9000
B63: 충청청 | C63: 세종 | D63: 조치원 | E63: 노후 화물용엘리베이터 교체 | K63: - | L63: 71900 | M63: - | N63: - | O63: - | P63: - | Q63: - | R63: =SUM(F63:Q63) -> 71900
B64: 충청청 | C64: 공주 | D64: 공주 | E64: 순로구분기 이전설치 | K64: - | L64: 10000 | M64: - | N64: - | O64: - | P64: - | Q64: - | R64: =SUM(F64:Q64) -> 10000
B65: 충청청 | C65: 서산 | D65: 서산 | E65: 순로구분기 이전설치 | K65: - | L65: 10000 | M65: - | N65: - | O65: - | P65: - | Q65: - | R65: =SUM(F65:Q65) -> 10000
B66: 충청청 | C66: 동천안 | D66: 동천안 | E66: 순로구분기 집진기 설치(2대) | K66: - | L66: 20000 | M66: - | N66: - | O66: - | P66: - | Q66: - | R66: =SUM(F66:Q66) -> 20000
... B71: 제주청 | C71: 제주 | D71: 제주 | E71: 수평조절기 보수공사 | K71: - | L71: 10000 | M71: - | N71: - | O71: - | P71: - | Q71: - | R71: =SUM(F71:Q71) -> 10000
A72: 계 | K72: - | L72: =SUM(L54:L71) -> 426400 | M72: =SUM(M54:M71) -> 0 | N72: =SUM(N54:N71) -> 0 | O72: =SUM(O54:O71) -> 0 | P72: =SUM(P54:P71) -> 0 | Q72: =SUM(Q54:Q71) -> 0 | R72: =SUM(R54:R71) -> 426400
A73: 노후시설 개선 및 교체 (5건) | B73: 경인청 | C73: 백령 | D73: 백령 | E73: 직원숙사 노후 수도관 교체 | K73: - | L73: 60000 | M73: - | N73: - | O73: - | P73: - | Q73: - | R73: =SUM(F73:Q73) -> 60000
B74: 충청청 | C74: 홍성 | D74: 갈산 | E74: 노후 관사 보수공사 | K74: - | L74: 20000 | M74: - | N74: - | O74: - | P74: - | Q74: - | R74: =SUM(F74:Q74) -> 20000
B75: 제주청 | C75: 서귀포 | D75: 서귀포수련원 | E75: 노후 엘리베이터 교체 | K75: - | L75: 65000 | M75: - | N75: - | O75: - | P75: - | Q75: - | R75: =SUM(F75:Q75) -> 65000
B76: 교육원 | C76: - | D76: - | E76: 노후 객실키(80실) 교체 | K76: - | L76: 40000 | M76: - | N76: - | O76: - | P76: - | Q76: - | R76: =SUM(F76:Q76) -> 40000
B77: 교육원 | C77: - | D77: - | E77: 생활관 냉온수 제어 자동밸브 설치 | K77: - | L77: 60000 | M77: - | N77: - | O77: - | P77: - | Q77: - | R77: =SUM(F77:Q77) -> 60000
A78: 계 | K78: =SUM(K73:K77) -> 0 | L78: =SUM(L73:L77) -> 245000 | M78: =SUM(M73:M77) -> 0 | N78: =SUM(N73:N77) -> 0 | O78: =SUM(O73:O77) -> 0 | P78: =SUM(P73:P77) -> 0 | R78: =SUM(R73:R77) -> 245000
A79: 노후설비 교체 (시설물통합관리 11건) | B79: 서울청 | C79: 동대문 | D79: 동대문 | E79: 노후 보일러 철거 및 냉난방기 설치공사 | K79: - | L79: 40000 | M79: - | N79: 40000 | P79: - | Q79: - | R79: =SUM(F79:Q79) -> 80000
B80: 서울청 | C80: 서울광진 | D80: 서울광진 | E80: 보일러 이전설치 및 냉난방기 설치공사 (저녹스버너 교체공사 포함) | K80: - | L80: 70000 | M80: - | N80: - | O80: - | P80: - | Q80: - | R80: =SUM(F80:Q80) -> 70000
B81: 경인청 | C81: 안성 | D81: 안성 | E81: 노후 보일러 철거 및 급탕보일러 설치 | K81: - | L81: 20000 | M81: - | N81: - | O81: - | P81: - | Q81: - | R81: =SUM(F81:Q81) -> 20000
B82: 경인청 | C82: 구리 | D82: 구리 | E82: 노후 보일러 철거 및 냉난방기 설치공사 | K82: - | L82: 22000 | M82: - | N82: - | O82: - | P82: - | Q82: - | R82: =SUM(F82:Q82) -> 22000
B83: 경인청 | C83: 오산 | D83: 오산 | E83: 보일러 자동제어시스템 설치 | K83: - | L83: 10000 | M83: - | N83: - | O83: - | P83: - | Q83: - | R83: =SUM(F83:Q83) -> 10000
B84: 경인청 | C84: 화성동탄 | D84: 화성동탄 | E84: 흡수식냉온수기 제어시스템 설치 | K84: - | L84: 10000 | M84: - | N84: - | O84: - | P84: - | Q84: - | R84: =SUM(F84:Q84) -> 10000
B85: 부산청 | C85: 진주 | D85: 진주 | E85: 노후 보일러 철거 및 냉난방기 설치 | K85: - | L85: 110000 | M85: - | N85: - | O85: - | P85: - | Q85: - | R85: =SUM(F85:Q85) -> 110000
B86: 부산청 | C86: 남해 | D86: 남해 | E86: 노후보일러 철거 및 냉난방기 설치 | K86: - | L86: 100000 | M86: - | N86: - | O86: - | P86: - | Q86: - | R86: =SUM(F86:Q86) -> 100000
B87: 충청청 | C87: 홍성 | D87: 홍성 | E87: 노후 급탕보일러 교체 | K87: - | L87: 55000 | M87: - | N87: - | O87: - | P87: - | Q87: - | R87: =SUM(F87:Q87) -> 55000
B88: 전북청 | C88: 군산 | D88: 군산 | E88: 노후 보일러철거 및 냉난방기 설치 | K88: - | L88: 140000 | M88: - | N88: 30000 | Q88: - | R88: =SUM(F88:Q88) -> 170000
B89: 전북청 | C89: 김제 | D89: 김제 | E89: 노후 급탕보일러 교체 | K89: - | L89: 40000 | M89: - | N89: - | O89: - | P89: - | Q89: - | R89: =SUM(F89:Q89) -> 40000
A90: 계 | K90: =SUM(K79:K89) -> 0 | L90: =SUM(L79:L89) -> 617000 | M90: =SUM(M79:M89) -> 0 | N90: =SUM(N79:N89) -> 70000 | O90: =SUM(O79:O89) -> 0 | P90: =SUM(P79:P89) -> 0 | Q90: =SUM(Q79:Q89) -> 0 | R90: =SUM(R79:R89) -> 687000
A91: 노후 냉난방기 교체 | B91: 경인청 | C91: - | D91: - | E91: 노후 냉난방기 교체 | K91: - | L91: - | M91: - | N91: 86200 | P91: - | Q91: - | R91: =SUM(F91:Q91) -> 86200
B92: 부산청 | C92: - | D92: - | E92: 노후 냉난방기 교체 | K92: - | L92: - | M92: - | N92: 27900 | P92: - | Q92: - | R92: =SUM(F92:Q92) -> 27900
B93: 충청청 | C93: - | D93: - | E93: 노후 냉난방기 교체 | K93: - | L93: - | M93: - | N93: 21600 | P93: - | Q93: - | R93: =SUM(F93:Q93) -> 21600
B94: 전남청 | C94: - | D94: - | E94: 노후 냉난방기 교체 | K94: - | L94: - | M94: - | N94: 15100 | P94: - | Q94: - | R94: =SUM(F94:Q94) -> 15100
B95: 경북청 | C95: - | D95: - | E95: 노후 냉난방기 교체 | K95: - | L95: - | M95: - | N95: 19800 | P95: - | Q95: - | R95: =SUM(F95:Q95) -> 19800
B96: 강원청 | C96: - | D96: - | E96: 노후 냉난방기 교체 | K96: - | L96: - | M96: - | N96: 9700 | P96: - | Q96: - | R96: =SUM(F96:Q96) -> 9700
B97: 제주청 | C97: - | D97: - | E97: 노후 냉난방기 교체 | K97: - | L97: - | M97: - | N97: 2500 | P97: - | Q97: - | R97: =SUM(F97:Q97) -> 2500
B98: 교육원 | C98: - | D98: - | E98: 노후 냉난방기 교체 | K98: - | L98: - | M98: - | N98: 2300 | P98: - | Q98: - | R98: =SUM(F98:Q98) -> 2300
A99: 계 | K99: =SUM(K91:K98) -> 0 | L99: =SUM(L91:L98) -> 0 | M99: =SUM(M91:M98) -> 0 | N99: =SUM(N91:N98) -> 185100 | O99: =SUM(O91:O98) -> 0 | P99: =SUM(P91:P98) -> 0 | Q99: =SUM(Q91:Q98) -> 0 | R99: =SUM(R91:R98) -> 185100
A100: 공공요금 절감추진 | B100: 서울청 | C100: - | D100: - | E100: 대기전력 차단용 타이머설치(437개) | K100: - | L100: - | M100: - | N100: - | O100: - | P100: - | Q100: 6600 | R100: =SUM(F100:Q100) -> 6600
B101: 경인청 | C101: - | D101: - | E101: 대기전력 차단용 타이머설치(770개) | K101: - | L101: - | M101: - | N101: - | O101: - | P101: - | Q101: 12000 | R101: =SUM(F101:Q101) -> 12000
B102: 부산청 | C102: - | D102: - | E102: 대기전력 차단용 타이머설치(378개소) | K102: - | L102: - | M102: - | N102: - | O102: - | P102: - | Q102: 5700 | R102: =SUM(F102:Q102) -> 5700
B103: 충청청 | C103: - | D103: - | E103: 대기전력 차단용 타이머설치(569개소) | K103: - | L103: - | M103: - | N103: - | O103: - | P103: - | Q103: 8600 | R103: =SUM(F103:Q103) -> 8600
B104: 전남청 | C104: - | D104: - | E104: 대기전력 차단용 타이머설치(855개소) | K104: - | L104: - | M104: - | N104: - | O104: - | P104: - | Q104: 12900 | R104: =SUM(F104:Q104) -> 12900
B105: 경북청 | C105: - | D105: - | E105: 대기전력 차단용 타이머설치(406개소) | K105: - | L105: - | M105: - | N105: - | O105: - | P105: - | Q105: 6100 | R105: =SUM(F105:Q105) -> 6100
...
