Workbook
Name 보급기준: #REF!

Sheet 보급내역(총)
A1: 2019. 금융장비 청구 및 보급내역
R2: (단위 : 대, 원)
A3: 순번 | B3: 구 분 | C3: 청 구 | G3: 반 영 | K3: 수요조사 내역 | M3: 구매(보급) 내역 | P3: 미보급 내역 | R3: 비 고
C4: 내용년수 경과 | D4: 고장 및 상태불량 | E4: 신규 | F4: 합계 | G4: 내용년수 경과 | H4: 고장 및 상태불량 | I4: 추가/신규 | J4: 합계 | K4: 교체 | L4: 신규 | M4: 수량 | N4: 단가 | O4: 소요예산 | P4: 수량 | Q4: 미보급사유
A5: 1 | B5: (대형)지폐계수기 | C5: 6 | F5: =SUM(C5:E5) -> 6 | G5: 6 | J5: =SUM(G5:I5) -> 6 | K5: 6 | M5: 0 | N5: 1650000 | O5: =M5*N5 -> 0 | P5: =K5+L5-M5 -> 6 | Q5: 우선 순위 배제(전량 미보급)
A6: 2 | B6: 지폐결속기(대속) | F6: =SUM(C6:E6) -> 0 | J6: =SUM(G6:I6) -> 0 | K6: 5 | M6: 3 | N6: 990000 | O6: =M6*N6 -> 2970000 | P6: =K6+L6-M6 -> 2 | Q6: 5급 이상 관서 보급
A7: 3 | B7: 지폐결속기(소속) | F7: =SUM(C7:E7) -> 0 | J7: =SUM(G7:I7) -> 0 | K7: 4 | L7: 1 | M7: 2 | N7: 880000 | O7: =M7*N7 -> 1760000 | P7: =K7+L7-M7 -> 3 | Q7: 월 업무량 미달, 내용연수 미경과
A8: 4 | B8: 위조지폐탐지기 | F8: =SUM(C8:E8) -> 0 | J8: =SUM(G8:I8) -> 0 | K8: 12 | M8: 0 | N8: 880000 | O8: =M8*N8 -> 0 | P8: =K8+L8-M8 -> 12 | Q8: 우선 순위 배제(전량 미보급)
A9: 5 | B9: 자동주화포장기 | F9: =SUM(C9:E9) -> 0 | J9: =SUM(G9:I9) -> 0 | K9: 8 | M9: 7 | N9: 3850000 | O9: =M9*N9 -> 26950000 | P9: =K9+L9-M9 -> 1 | Q9: 주화관련 장비 기보급 관서
A10: 6 | B10: 자동주화계수기 | F10: =SUM(C10:E10) -> 0 | J10: =SUM(G10:I10) -> 0 | K10: 12 | L10: 1 | M10: 11 | N10: 990000 | O10: =M10*N10 -> 10890000 | P10: =K10+L10-M10 -> 2 | Q10: 월 업무량 미달 관서
A11: 7 | B11: 수표자동발행기 (수표자동배서기) | F11: =SUM(C11:E11) -> 0 | J11: =SUM(G11:I11) -> 0 | K11: 33 | M11: 10 | N11: 1650000 | O11: =M11*N11 -> 16500000 | P11: =K11+L11-M11 -> 23 | Q11: 우선 순위 보급(월 업무량 순)
A12: 8 | B12: 수표수동발행기 | F12: =SUM(C12:E12) -> 0 | J12: =SUM(G12:I12) -> 0 | K12: 3 | L12: 1 | M12: 3 | N12: 275000 | O12: =M12*N12 -> 825000 | P12: =K12+L12-M12 -> 1 | Q12: 수표자동발행기 보급관서
A13: 9 | B13: 제본천공기 | F13: =SUM(C13:E13) -> 0 | J13: =SUM(G13:I13) -> 0 | K13: 3 | M13: 2 | N13: 700000 | O13: =M13*N13 -> 1400000 | P13: =K13+L13-M13 -> 1 | Q13: 5급 이상 관서 보급
A14: 10 | B14: 천공기 (전동페이드기) | F14: =SUM(C14:E14) -> 0 | J14: =SUM(G14:I14) -> 0 | K14: 11 | M14: 0 | N14: 385000 | O14: =M14*N14 -> 0 | P14: =K14+L14-M14 -> 11 | Q14: 우선 순위 배제(전량 미보급)
A15: 11 | B15: 문서세단기 | F15: =SUM(C15:E15) -> 0 | J15: =SUM(G15:I15) -> 0 | K15: 14 | L15: 1 | M15: 14 | N15: 800000 | O15: =M15*N15 -> 11200000 | P15: =K15+L15-M15 -> 1 | Q15: 내용년수 미경과(수리한계비용 미초과)
A16: 12 | B16: CD명세표세단기 (전표전용세단기) | F16: =SUM(C16:E16) -> 0 | J16: =SUM(G16:I16) -> 0 | K16: 7 | L16: 1 | M16: 8 | N16: 660000 | O16: =M16*N16 -> 5280000 | P16: =K16+L16-M16 -> 0
A17: 합 계 | C17: =SUM(C5:C16) -> 6 | D17: =SUM(D5:D16) -> 0 | E17: =SUM(E5:E16) -> 0 | F17: =SUM(F5:F16) -> 6 | G17: =SUM(G5:G16) -> 6 | H17: =SUM(H5:H16) -> 0 | I17: =SUM(I5:I16) -> 0 | J17: =SUM(J5:J16) -> 6 | ... M17: =SUM(M5:M16) -> 60 | O17: =SUM(O5:O16) -> 77775000 | P17: =SUM(P5:P16) -> 63

Sheet 수요조사
A1: '19. 금융장비 수요 조사
A3: * ( ) 안은 교체대상분 내용년수임
A4: * 소형 지폐계수기 및 지폐분류기는 우정사업조달센터, 프린팅장비(복사기,복합기)는 우정사업정보센터 보급으로 조사대상 제외
A5: 국 명 | C5: 1. (대형)지폐계수기(5년) | G5: 2. 자동 주화포장기(5년) | K5: 3. 자동 주화계수기/분류기(6년) | O5: 4. 지폐결속기(5년) | W5: 5. 수표발행기(5년) | AE5: 6. 위조지폐탐지기(6년) | AI5: 7. 제본천공기(9년) | AM5: 8. 천공기-천공페이드기(5년) | AQ5: 9. 문서세단기(11년) | AY5: 보고자
A6: 총괄국 | B6: 소속국 | O6: 대속 | S6: 소속 | W6: 자동 | AA6: 수동 | AQ6: 문서세단기 | AU6: CD명세표 세단기
C7: 정수 | D7: 교체 | F7: 신규 | G7: 정수 | H7: 교체 | J7: 신규 | K7: 정수 | L7: 교체 | N7: 신규 | O7: 정수 | P7: 교체 | R7: 신규 | S7: 정수 | T7: 교체 | V7: 신규 | W7: 정수 | X7: 교체 | Z7: 신규 | AA7: 정수 | AB7: 교체 | AD7: 신규 | AE7: 정수 | AF7: 교체 | AH7: 신규 | AI7: 정수 | AJ7: 교체 | AL7: 신규 | AM7: 정수 | AN7: 교체 | AP7: 신규 | AQ7: 정수 | AR7: 교체 | AT7: 신규 | AU7: 정수 | AV7: 교체 | AX7: 신규
D8: 수량 | E8: 보급연도 | H8: 수량 | I8: 보급연도 | L8: 수량 | M8: 보급연도 | P8: 수량 | Q8: 보급연도 | T8: 수량 | U8: 보급연도 | X8: 수량 | Y8: 보급연도 | AB8: 수량 | AC8: 보급연도 | AF8: 수량 | AG8: 보급연도 | AJ8: 수량 | AK8: 보급연도 | AN8: 수량 | AO8: 보급연도 | AR8: 수량 | AS8: 보급연도 | AV8: 수량 | AW8: 보급연도
A9: 광주 | B9: 광주 | C9: 2 | E9: 2012 2016 | G9: 2 | I9: 2012 2017 | O9: 1 | P9: 1 | Q9: 2012 | S9: 1 | T9: 1 | U9: 2011 | W9: 1 | X9: 1 | Y9: 2011 | AI9: 1 | AM9: 1 | AN9: 1 | AO9: 2007 | AU9: 1 | AW9: 2010
A10: 광주 | B10: 광주월산동 | K10: 1 | L10: 1 | M10: 2012 | W10: 1 | X10: 1 | Y10: 2013 | AM10: 1 | AN10: 1 | AO10: 2007 | AY10: 박소영
A11: 광주 | B11: 광주대촌동 | K11: 1 | L11: 1 | M11: 2003 | S11: 1 | T11: 1 | U11: 2006 | AQ11: 1 | AR11: 1 | AS11: 2003 | AY11: 김향순
A12: 광주 | B12: 광주방림동 | AU12: 1 | AV12: 1 | AW12: 2005 | AY12: 안소현
A13: 광주 | B13: 광주지원동 | C13: 1 | G13: 1 | O13: 1 | W13: 1 | AA13: 1 | AE13: 1 | AF13: 1 | AG13: 2011 | AI13: 1 | AM13: 1 | AQ13: 1 | AU13: 1 | AY13: 김경아
A14: 광주 | B14: 광주진월동 | C14: 1 | E14: 2013 | G14: 1 | I14: 2017 | K14: 0 | O14: 1 | Q14: 2011 | W14: 1 | Y14: 2015 | AE14: 1 | AG14: 2010 | AI14: 1 | AK14: 2012 | AM14: 1 | AN14: 1 | AO14: 2007 | AQ14: 1 | AS14: 2014 | AU14: 1 | AW14: 2005 | AY14: 최현옥
A15: 북광주 | B15: 본촌동 | AQ15: 1 | AR15: 1 | AS15: 2005 | AY15: 이현영
A16: 북광주 | B16: 운암동 | AU16: 1 | AV16: 1 | AW16: 2005 | AY16: 서창현
A17: 북광주 | B17: 양산동 | AQ17: 1 | AR17: 1 | AS17: 2013 | AY17: 홍영기
A18: 북광주 | B18: 북구청 | AI18: 1 | AJ18: 1 | AK18: 2009 | AY18: 이형일
A19: 북광주 | B19: 우산동 | G19: 1 | I19: 2013 | AY19: 이정미
A20: 북광주 | B20: 문흥동 | AX20: 1 | AY20: 양대승
A21: 서광주 | B21: 서광주 | C21: 2 | D21: 1 | E21: 2012 | W21: 1 | X21: 1 | Y21: 2008 | AY21: 고순애
A22: 서광주 | B22: 광주풍암마재 | O22: 1 | P22: 1 | Q22: 2007 | W22: 1 | X22: 1 | Y22: 2011 | AY22: 박현영
A23: 서광주 | B23: 광주광천동 | W23: 1 | X23: 1 | Y23: 2012 | AY23: 이양희
A24: 서광주 | B24: 광주풍암동 | W24: 1 | X24: 1 | Y24: 2011 | AY24: 김은미
A25: 서광주 | B25: 광주농성동 | R25: 1 | AE25: 1 | AF25: 1 | AG25: 2011 | AM25: 1 | AN25: 1 | AO25: 2007 | AY25: 최경남
A26: 서광주 | B26: 광주유촌동 | W26: 1 | X26: 1 | Y26: 2013 | AY26: 심일호
A27: 광주광산 | B27: 광주임곡동 | W27: 1 | X27: 1 | Y27: 2011.4.30 | AY27: 강우진
A28: 광주광산 | B28: 광주비아동 | G28: 1 | H28: 1 | I28: 2008 | AY28: 정아연
A29: 광주광산 | B29: 광주본량동 | W29: 1 | X29: 1 | Y29: 2008.12.24 | AQ29: 1 | AR29: 1 | AS29: 2003.11.10 | AY29: 강우진
A30: 광주광산 | B30: 광주운남동 | G30: 1 | H30: 1 | I30: 2011 | AY30: 김명수
A31: 광주광산 | B31: 광주월곡동 | W31: 1 | X31: 1 | Y31: 2013.12.31. | AY31: 강진선
A32: 광주광산 | B32: 광주신창동 | G32: 1 | H32: 1 | I32: 2012 | AY32: 문정원
A33: 광주광산 | B33: 광주하남동 | W33: 1 | X33: 1 | Y33: 2013 | AY33: 최은영
A34: 목포 | B34: 목포옥암동 | G34: 1 | I34: 2012 | W34: 1 | X34: 1 | Y34: 2013 | AE34: 1 | AF34: 1 | AG34: 2011 | AY34: 김성은
A35: 목포 | B35: 암태 | AE35: 1 | AF35: 1 | AG35: 2011 | AY35: 김경옥
A36: 목포 | B36: 흑산도 | V36: 1 | AY36: 류정규
A37: 목포 | B37: 하의 | W37: 1 | X37: 1 | Y37: 2012 | AY37: 박정호
A38: 목포 | B38: 압해 | K38: 1 | L38: 1 | M38: 2012 | W38: 1 | X38: 1 | Y38: 2013 | AY38: 이영미
A39: 목포 | B39: 목포하당동 | AU39: 1 | AV39: 1 | AW39: 2012 | AY39: 채희영
A40: 여수 | B40: 여수 | C40: 2 | D40: 1 | E40: 2013 | G40: 1 | O40: 1 | P40: 1 | Q40: 2012 | S40: 2 | T40: 1 | U40: 2012 | AE40: 2 | AF40: 1 | AG40: 2011 | AM40: 1 | AN40: 1 | AO40: 2007 | AY40: 장수영
A41: 여수 | B41: 여수봉산동 | G41: 1 | H41: 1 | I41: 2009 | AY41: 이하나
A42: 여수 | B42: 여수신기동 | G42: 1 | I42: 2012 | AY42: 최영선
A43: 여수 | B43: 여수국동 | G43: 1 | H43: 1 | I43: 2011 | AY43: 신민경
A44: 여수 | B44: 여수개도 | N44: 1 | AY44: 이미영
A45: 여수 | B45: 여수삼일동 | G45: 1 | H45: 1 | I45: 2013 | AY45: 박미자
A46: 순천 | B46: 순천 | S46: 1 | T46: 1 | U46: 2016 | AY46: 강명미
A47: 순천 | B47: 낙안 | W47: 1 | X47: 1 | Y47: 2010 | AY47: 최미영
A48: 순천 | B48: 별량 | K48: 1 | L48: 1 | M48: 2007 | AY48: 강선구
A49: 순천 | B49: 순천황전 | W49: 1 | X49: 1 | Y49: 2012 | AY49: 방춘매
A50: 순천 | B50: 해룡 | W50: 1 | X50: 1 | Y50: 2010 | AY50: 정유진
A51: 광양 | B51: 광양 | AI51: 1 | AJ51: 1 | AK51: 2009 | AY51: 이윤희
A52: 광양 | B52: 광양태인동 | AQ52: 1 | AR52: 1 | AS52: 2003 | AY52: 서은영
A53: 광양 | B53: 옥룡 | K53: 1 | L53: 1 | M53: 2011 | W53: 1 | X53: 1 | Y53: 2013 | AY53: 박경자
A54: 나주 | B54: 나주 | AE54: 1 | AF54: 1 | AG54: 2009 | AY54: 김애선
A55: 나주 | B55: 남평 | C55: 1 | D55: 1 | E55: 1999 | K55: 1 | L55: 1 | M55: 2009 | W55: 1 | X55: 1 | Y55: 2010 | AE55: 1 | AF55: 1 | AG55: 2010 | AY55: 이정희
A56: 나주 | B56: 다시 | AE56: 1 | AF56: 1 | AG56: 2005 | AM56: 1 | AN56: 1 | AO56: 2006 | AY56: 이수민
A57: 나주 | B57: 세지 | C57: 1 | D57: 1 | E57: 2009 | W57: 1 | X57: 1 | Y57: 2011 | AE57: 1 | AF57: 1 | AG57: 2009 | AM57: 1 | AN57: 1 | AO57: 2006 | AU57: 1 | AV57: 1 | AW57: 2005 | AY57: 홍수영
A58: 나주 | B58: 노안 | W58: 1 | X58: 1 | Y58: 2013 | AE58: 1 | AF58: 1 | AG58: 2007 | AY58: 임대필
A59: 강진 | B59: 영업과 | C59: 1 | D59: 1 | E59: 2005 | AY59: 이경철
A60: 고흥 | B60: 영업과 | AQ60: 1 | AR60: 1 | AS60: 2012 | AY60: 이숙영
A61: 고흥 | B61: 포두 | K61: 1 | L61: 1 | M61: 2006 | AY61: 서은열
A62: 담양 | B62: 담양금성 | AL62: 1 | AM62: 1 | AN62: 1 | AO62: 2007 | AQ62: 1 | AT62: 1 | AY62: 안희
A63: 무안 | B63: 무안 | AI63: 1 | AJ63: 1 | AK63: 2005 | AY63: 김현경
A64: 영광 | B64: 영광 | C64: 1 | D64: 1 | E64: 2012 | AY64: 최희정
A65: 영광 | B65: 백수 | W65: 1 | X65: 1 | Y65: 2013 | AY65: 심준오
A66: 영광 | B66: 홍농 | AU66: 1 | AV66: 1 | AW66: 2005 | AY66: 이지연
A67: 영암 | B67: 영암 | W67: 1 | X67: 1 | Y67: 2014
A68: 영암 | B68: 신북 | K68: 1 | L68: 1 | M68: 2011 | AY68: 오인천
A69: 영암 | B69: 도포 | K69: 1 | L69: 1 | M69: 2011 | W69: 1 | X69: 1 | Y69: 2014 | AM69: 1 | AN69: 1 | AO69: 2007 | AQ69: 1 | AR69: 1 | AS69: 2003 | AY69: 신영신
A70: 완도 | B70: 소안 | AA70: 1 | AB70: 1 | AC70: 1989 | AY70: 박경필
A71: 완도 | B71: 청산도 | W71: 1 | X71: 1 | Y71: 2013 | AM71: 1 | AN71: 1 | AO71: 2007 | AY71: 윤태웅
A72: 완도 | B72: 넙도 | W72: 1 | X72: 1 | Y72: 2013 | AY72: 최경환
A73: 장성 | B73: 사가 | AQ73: 1 | AR73: 1 | AS73: 2003 | AY73: 정용기
A74: 장성 | B74: 삼계 | W74: 1 | X74: 1 | Y74: 2013 | AY74: 김석현
A75: 장성 | B75: 신흥 | W75: 1 | X75: 1 | Y75: 2013 | AQ75: 1 | AR75: 1 | AS75: 2003 | AY75: 장인환
A76: 장성 | B76: 약수 | W76: 1 | X76: 1 | Y76: 2012 | AY76: 진영숙
A77: 장성 | B77: 제75군사 | W77: 1 | X77: 1 | Y77: 2009
A78: 장흥 | B78: 회진 | K78: 1 | L78: 1 | M78: 2006 | AQ78: 1 | AR78: 1 | AS78: 2003 | AY78: 진선애
A79: 장흥 | B79: 장흥안양 | AQ79: 1 | AR79: 1 | AS79: 2003 | AU79: 1 | AV79: 1 | AW79: 2005 | AY79: 정정희
A80: 장흥 | B80: 장흥장동 | AA80: 0 | AD80: 1 | AY80: 안혜정
A81: 장흥 | B81: 장흥관산 | AU81: 0 | AX81: 1 | AY81: 이만교
A82: 함평 | B82: 영업과 | W82: 1 | X82: 1 | Y82: 2005 | AY82: 임현석
A83: 함평 | B83: 학교 | K83: 1 | L83: 1 | M83: 2013 | W83: 1 | Y83: 2013 | AB83: 1 | AQ83: 1 | AR83: 1 | AS83: 2005 | AY83: 최상섭
A84: 함평 | B84: 나산 | K84: 1 | L84: 1 | M84: 2009 | AY84: 장수량
A85: 함평 | B85: 함평해보 | W85: 1 | X85: 1 | Y85: 2013 | AY85: 모지연
A86: 함평 | B86: 엄다 | AE86: 1 | AF86: 1 | AG86: 2008 | AM86: 1 | AN86: 1 | AO86: 2010 | AQ86: 1 | AR86: 1 | AS86: 2005 | AY86: 추명희
A87: 화순 | B87: 화순 | O87: 1 | P87: 1 | Q87: 2006 | AY87: 임은정
A88: 화순 | B88: 화순춘양 | W88: 1 | X88: 1 | Y88: 2008 | AQ88: 1 | AR88: 1 | AS88: 2003 | AY88: 조영균
A91: =SUM(D91:AX91) -> 107 | D91: =SUM(D15:D90) -> 6 | F91: =SUM(F15:F90) -> 0 | H91: =SUM(H15:H90) -> 6 | J91: =SUM(J15:J90) -> 0 | L91: =SUM(L15:L90) -> 10 | N91: =SUM(N15:N90) -> 1 | P91: =SUM(P15:P90) -> 3 | R91: =SUM(R15:R90) -> 1 | T91: =SUM(T15:T90) -> 2 | V91: =SUM(V15:V90) -> 1 | X91: =SUM(X15:X90) -> 31 | Z91: =SUM(Z15:Z90) -> 0 | AB91: =SUM(AB15:AB90) -> 2 | AD91: =SUM(AD15:AD90) -> 1 | AF91: =SUM(AF15:AF90) -> 10 | AH91: =SUM(AH15:AH90) -> 0 | AJ91: =SUM(AJ15:AJ90) -> 3 | AL91: =SUM(AL15:AL90) -> 1 | AN91: =SUM(AN15:AN90) -> 8 | AP91: =SUM(AP15:AP90) -> 0 | AR91: =SUM(AR15:AR90) -> 13 | AT91: =SUM(AT15:AT90) -> 1 | AV91: =SUM(AV15:AV90) -> 5 | AX91: =SUM(AX15:AX90) -> 2
C92: 예정단가 | D92: 1650000 | G92: 예정단가 | H92: 3850000 | K92: 예정단가 | L92: 880000 | O92: 예정단가 | P92: 1000000 | S92: 예정단가 | T92: 880000 | W92: 예정단가 | X92: 1620000 | AA92: 예정단가 | AB92: 275000 | AE92: 예정단가 | AF92: 880000 | AI92: 예정단가 | AJ92: 682000 | AM92: 예정단가 | AN92: 385000 | AQ92: 예정단가 | AR92: 790000 | AU92: 예정단가 | AV92: 396000
B93: =D93+H93+L93+P93+T93+X93+AB93+AF93+AJ93+AN93+AR93+AV93 -> 128805000 | C93: 예정금액 | D93: =D92*(D91+F91) -> 9900000 | G93: 예정금액 | H93: =H91*(H92+J91) -> 23100000 | K93: 예정금액 | L93: =(L91+N91)*L92 -> 9680000 | O93: 예정금액 | P93: =P92*(P91+R91) -> 4000000 | S93: 예정금액 | T93: =T92*(T91+V91) -> 2640000 | W93: 예정금액 | X93: =X92*(X91+Z91) -> 50220000 | AA93: 예정금액 | AB93: =AB92*(AB91+AD91) -> 825000 | AE93: 예정금액 | AF93: =AF92*(AF91+AH91) -> 8800000 | AI93: 예정금액 | AJ93: =AJ92*(AJ91+AL91) -> 2728000 | AM93: 예정금액 | AN93: =AN92*(AN91+AP91) -> 3080000 | AQ93: 예정금액 | AR93: =AR92*(AR91+AT91) -> 11060000 | AU93: 예정금액 | AV93: =AV92*(AV91+AX91) -> 2772000

Sheet 대형지폐계수기
A2: 2019년 금융장비 보급내역
A3: □ 장비명 : (대형)지폐계수기(5년)
A4: 총괄국 | B4: 소속국 | C4: 내용년수 경과 교체보급대상 | G4: 추가 소요 대수 (B) | H4: 신규 소요 대수 (C) | I4: 보급수량 (A+B+C) | J4: 비고 ( 추가/신규소요/미반영 사유)
C5: 보급연도 | D5: 교체 반영 | F5: 소계 (A)
D6: 내용년수경과 | E6: 고장 및 상태불량
A7: 서광주 | B7: 서광주 | C7: 2012 | D7: 0 | F7: =SUM(D7:E7) -> 0 | I7: =F7+G7+H7 -> 0
A8: 여수 | B8: 여수 | C8: 2013 | D8: 0 | F8: =SUM(D8:E8) -> 0 | I8: =F8+G8+H8 -> 0
A9: 나주 | B9: 남평 | C9: 1999 | D9: 0 | F9: =SUM(D9:E9) -> 0 | I9: =F9+G9+H9 -> 0 | J9: 수신고 15,330백만원 현금잔류한도 100,437,805원
A10: 나주 | B10: 세지 | C10: 2009 | D10: 0 | F10: =SUM(D10:E10) -> 0 | I10: =F10+G10+H10 -> 0 | J10: 현금잔류한도 7천만 원 미만(47,467,821원)
A11: 강진 | B11: 강진 | C11: 2005 | D11: 0 | F11: =SUM(D11:E11) -> 0 | I11: =F11+G11+H11 -> 0
A12: 영광 | B12: 영광 | C12: 2012 | D12: 0 | F12: =SUM(D12:E12) -> 0 | I12: =F12+G12+H12 -> 0
A13: 계 | D13: =SUM(D7:D12) -> 0 | E13: =SUM(E7:E12) -> 0 | F13: =SUM(F7:F12) -> 0 | G13: =SUM(G7:G12) -> 0 | H13: =SUM(H7:H12) -> 0 | I13: =SUM(I7:I12) -> 0

Sheet 지폐결속기(대속)
A2: 2019년 금융장비 보급내역
A3: □ 장비명 : 지폐결속기(대속)(10년)
A4: 총괄국 | B4: 소속국 | C4: 내용년수 경과 교체보급대상 | G4: 추가 소요 대수 (B) | H4: 신규 소요 대수 (C) | I4: 보급수량 (A+B+C) | J4: 비고 ( 추가/신규소요/미반영 사유)
C5: 보급연도 | D5: 교체 반영 | F5: 소계 (A)
D6: 내용년수경과 | E6: 고장 및 상태불량
A7: 광주 | B7: 광주 | C7: 2012 | D7: 1 | F7: =D7+E7 -> 1 | I7: =F7+G7+H7 -> 1
A8: 서광주 | B8: 광주풍암마재 | C8: 2007 | F8: =D8+E8 -> 0 | I8: =F8+G8+H8 -> 0 | J8: 우선순위 배제(5급 이상관서 우선 보급)
A9: 서광주 | B9: 광주농성동 | C9: 신규 | F9: =D9+E9 -> 0 | I9: =F9+G9+H9 -> 0 | J9: 우선순위 배제(5급 이상관서 우선 보급)
A10: 여수 | B10: 여수 | C10: 2012 | D10: 1 | F10: =D10+E10 -> 1 | I10: =F10+G10+H10 -> 1
A11: 화순 | B11: 화순 | C11: 2006 | D11: 1 | F11: =D11+E11 -> 1 | I11: =F11+G11+H11 -> 1
A12: 계 | D12: =SUM(D1:D11) -> 3 | E12: =SUM(E1:E11) -> 0 | F12: =SUM(F1:F11) -> 3 | G12: =SUM(G1:G11) -> 0 | H12: =SUM(H1:H11) -> 0 | I12: =SUM(I1:I11) -> 3 | J12: =SUM(J1:J11) -> 0

Sheet 지폐결속기(소속)
A2: 2019년 금융장비 보급내역
A3: □ 장비명 : 지폐결속기(소속)(5년)
A4: 총괄국 | B4: 소속국 | C4: 내용년수 경과 교체보급대상 | G4: 추가 소요 대수 (B) | H4: 신규 소요 대수 (C) | I4: 보급수량 (A+B+C) | J4: 비고 ( 추가/신규소요/미반영 사유)
C5: 보급연도 | D5: 교체 반영 | F5: 소계 (A)
D6: 내용년수경과 | E6: 고장 및 상태불량
A7: 광주 | B7: 광주 | C7: 2011 | D7: 1 | F7: =D7+E7 -> 1 | I7: =F7+G7+H7 -> 1
A8: 광주 | B8: 광주대촌동 | C8: 2006 | F8: =D8+E8 -> 0 | I8: =F8+G8+H8 -> 0 | J8: 월업무량 미달(월 1,977건 / 자금잔류한도 51,718,993원)
A9: 목포 | B9: 흑산도 | C9: 신규 | F9: =D9+E9 -> 0 | I9: =F9+G9+H9 -> 0 | J9: 월업무량 미달(월 4,465건 /잔류현금한도 71,168,106)
A10: 여수 | B10: 여수 | C10: 2012 | D10: 1 | F10: =D10+E10 -> 1 | I10: =F10+G10+H10 -> 1
A11: 순천 | B11: 순천 | C11: 2016 | E11: 0 | F11: =D11+E11 -> 0 | I11: =F11+G11+H11 -> 0 | J11: 내용연수 미경과(수리 후 사용중)
A12: 계 | D12: =SUM(D3:D11) -> 2 | E12: =SUM(E3:E11) -> 0 | F12: =SUM(F3:F11) -> 2 | G12: =SUM(G3:G11) -> 0 | H12: =SUM(H3:H11) -> 0 | I12: =SUM(I3:I11) -> 2 | J12: =SUM(J3:J11) -> 0

Sheet 위조지폐탐지기
A2: 2019년 금융장비 보급내역
A3: □ 장비명 : 위조지폐탐지기(5년)
A4: 총괄국 | B4: 소속국 | C4: 내용년수 경과 교체보급대상 | G4: 추가 소요 대수 (B) | H4: 신규 소요 대수 (C) | I4: 보급수량 (A+B+C) | J4: 비고 ( 추가/신규소요/미반영 사유)
C5: 보급연도 | D5: 교체 반영 | F5: 소계 (A)
D6: 내용년수경과 | E6: 고장 및 상태불량
A7: 광주 | B7: 광주지원동 | C7: 2011 | D7: 0
A8: 서광주 | B8: 광주농성동 | C8: 2011 | D8: 0
A9: 목포 | B9: 목포옥암동 | C9: 2011 | D9: 0
A10: 목포 | B10: 암태 | C10: 2011 | D10: 0
A11: 여수 | B11: 여수 | C11: 2011 | D11: 0
A12: 나주 | B12: 나주 | C12: 2009 | D12: 0
A13: 나주 | B13: 남평 | C13: 2010 | D13: 0
A14: 나주 | B14: 다시 | C14: 2005 | D14: 0
A15: 나주 | B15: 세지 | C15: 2009 | D15: 0
A16: 나주 | B16: 노안 | C16: 2007 | D16: 0
A17: 함평 | B17: 엄다 | C17: 2008 | D17: 0
A18: 계 | D18: =SUM(D9:D17) -> 0 | E18: =SUM(E9:E17) -> 0 | F18: =SUM(F9:F17) -> 0 | G18: =SUM(G9:G17) -> 0 | H18: =SUM(H9:H17) -> 0 | I18: =SUM(I9:I17) -> 0 | J18: =SUM(J9:J17) -> 0

Sheet 자동주화포장기
A2: 2019년 금융장비 보급내역
A3: □ 장비명 : 주화포장기(6년)
A4: 총괄국 | B4: 소속국 | C4: 내용년수 경과 교체보급대상 | G4: 추가 소요 대수 (B) | H4: 신규 소요 대수 (C) | I4: 보급수량 (A+B+C) | J4: 비고 ( 추가/신규소요/미반영 사유)
C5: 보급연도 | D5: 교체 반영 | F5: 소계 (A)
D6: 내용년수경과 | E6: 고장 및 상태불량
A7: 북광주 | B7: 우산동 | C7: 2013 | D7: 1 | F7: =D7+E7 -> 1 | I7: =F7+G7+H7 -> 1
A8: 광주광산 | B8: 광주비아동 | C8: 2008 | D8: 0 | F8: =D8+E8 -> 0 | I8: =F8+G8+H8 -> 0 | J8: 2015. 주화계수기 보급
A9: 광주광산 | B9: 광주신창동 | C9: 2012 | D9: 1 | F9: =D9+E9 -> 1 | I9: =F9+G9+H9 -> 1
A10: 광주광산 | B10: 광주운남동 | C10: 2011 | D10: 1 | F10: =D10+E10 -> 1 | I10: =F10+G10+H10 -> 1
A11: 목포 | B11: 목포옥암동 | C11: 2012 | D11: 1 | F11: =D11+E11 -> 1 | I11: =F11+G11+H11 -> 1
A12: 여수 | B12: 여수봉산동 | C12: 2009 | D12: 0 | F12: =D12+E12 -> 0 | I12: =F12+G12+H12 -> 0 | J12: 2014. 주화계수기 보급
A13: 여수 | B13: 여수신기동 | C13: 2012 | D13: 1 | F13: =D13+E13 -> 1 | I13: =F13+G13+H13 -> 1
A14: 여수 | B14: 여수국동 | C14: 2011 | D14: 1 | F14: =D14+E14 -> 1 | I14: =F14+G14+H14 -> 1
A15: 여수 | B15: 여수삼일동 | C15: 2013 | D15: 1 | F15: =D15+E15 -> 1 | I15: =F15+G15+H15 -> 1
A16: 계 | D16: =SUM(D7:D15) -> 7 | E16: =SUM(E7:E15) -> 0 | F16: =SUM(F7:F15) -> 7 | G16: =SUM(G7:G15) -> 0 | H16: =SUM(H7:H15) -> 0 | I16: =SUM(I7:I15) -> 7
A18: * 6급 이하관서 주화 관련 장비 1대만 보유 가능

Sheet 자동주화계수기
A2: 2019년 금융장비 보급내역
A3: □ 장비명 : 주화계수기(6년)
A4: 총괄국 | B4: 소속국 | C4: 내용년수 경과 교체보급대상 | G4: 추가 소요 대수 (B) | H4: 신규 소요 대수 (C) | I4: 보급수량 (A+B+C) | J4: 비고 ( 추가/신규소요/미반영 사유)
C5: 보급연도 | D5: 교체 반영 | F5: 소계 (A)
D6: 내용년수경과 | E6: 고장 및 상태불량
A7: 광주 | B7: 광주월산동 | C7: 2012 | D7: 1 | F7: =D7+E7 -> 1 | I7: =F7+G7+H7 -> 1
A8: 광주 | B8: 광주대촌동 | C8: 2003 | D8: 0 | F8: =D8+E8 -> 0 | I8: =F8+G8+H8 -> 0 | J8: 월업무량 미달(월 1,977건)
A9: 목포 | B9: 압해 | C9: 2012 | D9: 1 | F9: =D9+E9 -> 1 | I9: =F9+G9+H9 -> 1
A10: 순천 | B10: 별량 | C10: 2007 | D10: 1 | F10: =D10+E10 -> 1 | I10: =F10+G10+H10 -> 1
A11: 광양 | B11: 옥룡 | C11: 2011 | D11: 1 | F11: =D11+E11 -> 1 | I11: =F11+G11+H11 -> 1
A12: 나주 | B12: 남평 | C12: 2009 | D12: 1 | F12: =D12+E12 -> 1 | I12: =F12+G12+H12 -> 1
A13: 고흥 | B13: 포두 | C13: 2006 | D13: 1 | F13: =D13+E13 -> 1 | I13: =F13+G13+H13 -> 1
A14: 영암 | B14: 신북 | C14: 2011 | D14: 1 | F14: =D14+E14 -> 1 | I14: =F14+G14+H14 -> 1
A15: 영암 | B15: 도포 | C15: 2011 | D15: 1 | F15: =D15+E15 -> 1 | I15: =F15+G15+H15 -> 1
A16: 장흥 | B16: 회진 | C16: 2006 | D16: 1 | F16: =D16+E16 -> 1 | I16: =F16+G16+H16 -> 1
A17: 함평 | B17: 학교 | C17: 2013 | D17: 1 | F17: =D17+E17 -> 1 | I17: =F17+G17+H17 -> 1
A18: 함평 | B18: 나산 | C18: 2009 | D18: 1 | F18: =D18+E18 -> 1 | I18: =F18+G18+H18 -> 1
A19: 여수 | B19: 여수개도 | C19: 신규 | D19: 0 | F19: =D19+E19 -> 0 | H19: 0 | I19: =F19+G19+H19 -> 0 | J19: 월업무량 미달(1분기 월평균 업무량 751건)
A20: 계 | D20: =SUM(D7:D19) -> 11 | E20: =SUM(E7:E19) -> 0 | F20: =SUM(F7:F19) -> 11 | G20: =SUM(G7:G19) -> 0 | H20: =SUM(H7:H19) -> 0 | I20: =SUM(I7:I19) -> 11 | J20: =SUM(J7:J19) -> 0
A22: * 6급 이하관서 주화 관련 장비 1대만 보유 가능

Sheet 수표발행기(자동)
A1: 2019년 금융장비 보급내역
A2: □ 장비명 : 수표발행기(자동) 5년
A3: 총괄국 | B3: 소속국 | C3: 내용년수 경과 교체보급대상 | G3: 추가 소요 대수 (B) | H3: 신규 소요 대수 (C) | I3: 보급수량 (A+B+C) | J3: 비고 ( 추가/신규소요/미반영 사유) | K3: 업무량 및 수표발행매수(건)
C4: 보급연도 | D4: 교체 반영 | F4: 소계 (A)
D5: 내용년수경과 | E5: 고장 및 상태불량 | K5: 월 업무량 | L5: '19. 1분기 업무량 | M5: '19. 2분기 업무량 | N5: 수표 발행매수(월)
A6: 광주 | B6: 광주 | C6: 2011 | D6: =IF(K6>5000,1,0) -> 1 | F6: =D6+E6 -> 1 | I6: =F6+G6+H6 -> 1 | K6: =(L6+M6)/6 -> 25868.333 | L6: 78731 | M6: 76479 | N6: =VLOOKUP(B6,수표발행매수!$E$6:$N$345,5,0)/6 -> 51.833333
A7: 광주 | B7: 광주월산동 | C7: 2013 | D7: =IF(K7>5000,1,0) -> 1 | F7: =D7+E7 -> 1 | I7: =F7+G7+H7 -> 1 | K7: =(L7+M7)/6 -> 6635 | L7: 19488 | M7: 20322 | N7: =VLOOKUP(B7,수표발행매수!$E$6:$N$345,5,0)/6 -> 60.833333
A8: 서광주 | B8: 서광주 | C8: 2008 | D8: =IF(K8>5000,1,0) -> 1 | F8: =D8+E8 -> 1 | I8: =F8+G8+H8 -> 1 | K8: =(L8+M8)/6 -> 37169.667 | L8: 113415 | M8: 109603 | N8: =VLOOKUP(B8,수표발행매수!$E$6:$N$345,5,0)/6 -> 190.33333
A9: 서광주 | B9: 광주풍암마재 | C9: 2011 | D9: =IF(K9>5000,1,0) -> 1 | F9: =D9+E9 -> 1 | I9: =F9+G9+H9 -> 1 | K9: =(L9+M9)/6 -> 5309 | L9: 16312 | M9: 15542 | N9: =VLOOKUP(B9,수표발행매수!$E$6:$N$345,5,0)/6 -> 76
A10: 서광주 | B10: 광주광천동 | C10: 2012 | D10: =IF(K10>5000,1,0) -> 1 | F10: =D10+E10 -> 1 | I10: =F10+G10+H10 -> 1 | K10: =(L10+M10)/6 -> 6257.3333 | L10: 18983 | M10: 18561 | N10: =VLOOKUP(B10,수표발행매수!$E$6:$N$345,5,0)/6 -> 47.5
A11: 서광주 | B11: 광주풍암동 | C11: 2011 | D11: =IF(K11>5000,1,0) -> 1 | F11: =D11+E11 -> 1 | I11: =F11+G11+H11 -> 1 | K11: =(L11+M11)/6 -> 10836.667 | L11: 33145 | M11: 31875 | N11: =VLOOKUP(B11,수표발행매수!$E$6:$N$345,5,0)/6 -> 68.333333
A12: 서광주 | B12: 광주유촌동 | C12: 2013 | D12: =IF(K12>5000,1,0) -> 1 | F12: =D12+E12 -> 1 | I12: =F12+G12+H12 -> 1 | K12: =(L12+M12)/6 -> 11181.333 | L12: 34125 | M12: 32963 | N12: =VLOOKUP(B12,수표발행매수!$E$6:$N$345,5,0)/6 -> 71.333333
A13: 광주광산 | B13: 광주임곡동 | C13: 2011 | D13: =IF(K13>5000,1,0) -> 0 | F13: =D13+E13 -> 0 | I13: =F13+G13+H13 -> 0 | J13: 우선순위 배제(업무량 등 고려) | K13: =(L13+M13)/6 -> 627.16667 | L13: 1986 | M13: 1777 | N13: =VLOOKUP(B13,수표발행매수!$E$6:$N$345,5,0)/6 -> 4.1666667
A14: 광주광산 | B14: 광주본량동 | C14: 2008 | D14: =IF(K14>5000,1,0) -> 0 | F14: =D14+E14 -> 0 | I14: =F14+G14+H14 -> 0 | J14: 우선순위 배제(업무량 등 고려) | K14: =(L14+M14)/6 -> 546.33333 | L14: 1870 | M14: 1408 | N14: =VLOOKUP(B14,수표발행매수!$E$6:$N$345,5,0)/6 -> 5.6666667
A15: 광주광산 | B15: 광주월곡동 | C15: 2013 | D15: =IF(K15>5000,1,0) -> 1 | F15: =D15+E15 -> 1 | I15: =F15+G15+H15 -> 1 | K15: =(L15+M15)/6 -> 9375.8333 | L15: 29161 | M15: 27094 | N15: =VLOOKUP(B15,수표발행매수!$E$6:$N$345,5,0)/6 -> 85
A16: 광주광산 | B16: 광주하남동 | C16: 2013 | D16: =IF(K16>5000,1,0) -> 1 | F16: =D16+E16 -> 1 | I16: =F16+G16+H16 -> 1 | K16: =(L16+M16)/6 -> 5866.8333 | L16: 17618 | M16: 17583 | N16: =VLOOKUP(B16,수표발행매수!$E$6:$N$345,5,0)/6 -> 28.333333
A17: 목포 | B17: 목포옥암동 | C17: 2013 | D17: =IF(K17>5000,1,0) -> 1 | F17: =D17+E17 -> 1 | I17: =F17+G17+H17 -> 1 | K17: =(L17+M17)/6 -> 11337.333 | L17: 34267 | M17: 33757 | N17: =VLOOKUP(B17,수표발행매수!$E$6:$N$345,5,0)/6 -> 44.166667
A18: 목포 | B18: 하의 | C18: 2012 | D18: =IF(K18>5000,1,0) -> 0 | F18: =D18+E18 -> 0 | I18: =F18+G18+H18 -> 0 | J18: 우선순위 배제(업무량 등 고려) | K18: =(L18+M18)/6 -> 872.83333 | L18: 2770 | M18: 2467 | N18: =VLOOKUP(B18,수표발행매수!$E$6:$N$345,5,0)/6 -> 16
A19: 목포 | B19: 압해 | C19: 2013 | D19: =IF(K19>5000,1,0) -> 0 | F19: =D19+E19 -> 0 | I19: =F19+G19+H19 -> 0 | J19: 우선순위 배제(업무량 등 고려) | K19: =(L19+M19)/6 -> 2482.5 | L19: 7948 | M19: 6947 | N19: =VLOOKUP(B19,수표발행매수!$E$6:$N$345,5,0)/6 -> 21
A20: 순천 | B20: 낙안 | C20: 2010 | D20: =IF(K20>5000,1,0) -> 0 | F20: =D20+E20 -> 0 | I20: =F20+G20+H20 -> 0 | J20: 우선순위 배제(업무량 등 고려) | K20: =(L20+M20)/6 -> 2055 | L20: 6544 | M20: 5786 | N20: =VLOOKUP(B20,수표발행매수!$E$6:$N$345,5,0)/6 -> 5.6666667
A21: 순천 | B21: 순천황전 | C21: 2012 | D21: =IF(K21>5000,1,0) -> 0 | F21: =D21+E21 -> 0 | I21: =F21+G21+H21 -> 0 | J21: 우선순위 배제(업무량 등 고려) | K21: =(L21+M21)/6 -> 2672.6667 | L21: 6900 | M21: 9136 | N21: =VLOOKUP(B21,수표발행매수!$E$6:$N$345,5,0)/6 -> 13.833333
A22: 순천 | B22: 해룡 | C22: 2010 | D22: =IF(K22>5000,1,0) -> 0 | F22: =D22+E22 -> 0 | I22: =F22+G22+H22 -> 0 | J22: 우선순위 배제(업무량 등 고려) | K22: =(L22+M22)/6 -> 2539.5 | L22: 7667 | M22: 7570 | N22: =VLOOKUP(B22,수표발행매수!$E$6:$N$345,5,0)/6 -> 31
A23: 광양 | B23: 옥룡 | C23: 2013 | D23: =IF(K23>5000,1,0) -> 0 | F23: =D23+E23 -> 0 | I23: =F23+G23+H23 -> 0 | J23: 우선순위 배제(업무량 등 고려) | K23: =(L23+M23)/6 -> 2443.8333 | L23: 5233 | M23: 9430 | N23: =VLOOKUP(B23,수표발행매수!$E$6:$N$345,5,0)/6 -> 10.166667
A24: 나주 | B24: 남평 | C24: 2010 | D24: =IF(K24>5000,1,0) -> 0 | F24: =D24+E24 -> 0 | I24: =F24+G24+H24 -> 0 | J24: 우선순위 배제(업무량 등 고려) | K24: =(L24+M24)/6 -> 4694.8333 | L24: 13587 | M24: 14582 | N24: =VLOOKUP(B24,수표발행매수!$E$6:$N$345,5,0)/6 -> 41.833333
A25: 나주 | B25: 세지 | C25: 2011 | D25: =IF(K25>5000,1,0) -> 0 | F25: =D25+E25 -> 0 | I25: =F25+G25+H25 -> 0 | J25: 우선순위 배제(업무량 등 고려) | K25: =(L25+M25)/6 -> 2307.3333 | L25: 7182 | M25: 6662 | N25: =VLOOKUP(B25,수표발행매수!$E$6:$N$345,5,0)/6 -> 43.666667
A26: 나주 | B26: 노안 | C26: 2013 | D26: =IF(K26>5000,1,0) -> 0 | F26: =D26+E26 -> 0 | I26: =F26+G26+H26 -> 0 | J26: 우선순위 배제(업무량 등 고려) | K26: =(L26+M26)/6 -> 1675.5 | L26: 5713 | M26: 4340 | N26: =VLOOKUP(B26,수표발행매수!$E$6:$N$345,5,0)/6 -> 15.333333
A27: 영광 | B27: 백수 | C27: 2013 | D27: =IF(K27>5000,1,0) -> 0 | F27: =D27+E27 -> 0 | I27: =F27+G27+H27 -> 0 | J27: 우선순위 배제(업무량 등 고려) | K27: =(L27+M27)/6 -> 1117.5 | L27: 3418 | M27: 3287 | N27: =VLOOKUP(B27,수표발행매수!$E$6:$N$345,5,0)/6 -> 23
A28: 영암 | B28: 영암 | C28: 2014 | D28: 0 | F28: =D28+E28 -> 0 | I28: =F28+G28+H28 -> 0 | J28: 2018년 기보급 | K28: =(L28+M28)/6 -> 7237.3333 | L28: 21677 | M28: 21747 | N28: =VLOOKUP(B28,수표발행매수!$E$6:$N$345,5,0)/6 -> 59.5
A29: 영암 | B29: 도포 | C29: 2014 | D29: =IF(K29>5000,1,0) -> 0 | F29: =D29+E29 -> 0 | I29: =F29+G29+H29 -> 0 | J29: 우선순위 배제(업무량 등 고려) | K29: =(L29+M29)/6 -> 769.66667 | L29: 2533 | M29: 2085 | N29: =VLOOKUP(B29,수표발행매수!$E$6:$N$345,5,0)/6 -> 2.3333333
A30: 완도 | B30: 청산도 | C30: 2013 | D30: =IF(K30>5000,1,0) -> 0 | F30: =D30+E30 -> 0 | I30: =F30+G30+H30 -> 0 | J30: 우선순위 배제(업무량 등 고려) | K30: =(L30+M30)/6 -> 1941.5 | L30: 6246 | M30: 5403 | N30: =VLOOKUP(B30,수표발행매수!$E$6:$N$345,5,0)/6 -> 12.166667
A31: 완도 | B31: 완도넙도출장소 | C31: 2013 | D31: =IF(K31>5000,1,0) -> 0 | F31: =D31+E31 -> 0 | I31: =F31+G31+H31 -> 0 | J31: 우선순위 배제(업무량 등 고려) | K31: =(L31+M31)/6 -> 2586.6667 | L31: 7746 | M31: 7774 | N31: =VLOOKUP(B31,수표발행매수!$E$6:$N$345,5,0)/6 -> 96.666667
A32: 장성 | B32: 삼계 | C32: 2013 | D32: =IF(K32>5000,1,0) -> 0 | F32: =D32+E32 -> 0 | I32: =F32+G32+H32 -> 0 | J32: 우선순위 배제(업무량 등 고려) | K32: =(L32+M32)/6 -> 2459.1667 | L32: 7408 | M32: 7347 | N32: =VLOOKUP(B32,수표발행매수!$E$6:$N$345,5,0)/6 -> 20.666667
A33: 장성 | B33: 신흥 | C33: 2013 | D33: =IF(K33>5000,1,0) -> 0 | F33: =D33+E33 -> 0 | I33: =F33+G33+H33 -> 0 | J33: 우선순위 배제(업무량 등 고려) | K33: =(L33+M33)/6 -> 702.16667 | L33: 2288 | M33: 1925 | N33: =VLOOKUP(B33,수표발행매수!$E$6:$N$345,5,0)/6 -> 21.666667
A34: 장성 | B34: 약수 | C34: 2012 | D34: =IF(K34>5000,1,0) -> 0 | F34: =D34+E34 -> 0 | I34: =F34+G34+H34 -> 0 | J34: 우선순위 배제(업무량 등 고려) | K34: =(L34+M34)/6 -> 2706.8333 | L34: 5686 | M34: 10555 | N34: =VLOOKUP(B34,수표발행매수!$E$6:$N$345,5,0)/6 -> 70.5
A35: 장성 | B35: 제75군사 | C35: 2009 | D35: =IF(K35>5000,1,0) -> 0 | F35: =D35+E35 -> 0 | I35: =F35+G35+H35 -> 0 | J35: 우선순위 배제(업무량 등 고려) | K35: =(L35+M35)/6 -> 833.16667 | L35: 2485 | M35: 2514 | N35: =VLOOKUP(B35,수표발행매수!$E$6:$N$345,5,0)/6 -> 3
A36: 함평 | B36: 함평 | C36: 2005 | D36: 0 | F36: =D36+E36 -> 0 | I36: =F36+G36+H36 -> 0 | J36: 2018년 기보급 | K36: =(L36+M36)/6 -> 7521.1667 | L36: 23075 | M36: 22052 | N36: =VLOOKUP(B36,수표발행매수!$E$6:$N$345,5,0)/6 -> 91.5
A37: 함평 | B37: 함평해보 | C37: 2013 | D37: =IF(K37>5000,1,0) -> 0 | F37: =D37+E37 -> 0 | I37: =F37+G37+H37 -> 0 | J37: 우선순위 배제(업무량 등 고려) | K37: =(L37+M37)/6 -> 1323.1667 | L37: 4456 | M37: 3483 | N37: =VLOOKUP(B37,수표발행매수!$E$6:$N$345,5,0)/6 -> 6.3333333
A38: 화순 | B38: 화순춘양 | C38: 2008 | D38: =IF(K38>5000,1,0) -> 0 | F38: =D38+E38 -> 0 | I38: =F38+G38+H38 -> 0 | J38: 우선순위 배제(업무량 등 고려) | K38: =(L38+M38)/6 -> 896.33333 | L38: 2659 | M38: 2719 | N38: =VLOOKUP(B38,수표발행매수!$E$6:$N$345,5,0)/6 -> 6.1666667
A39: 계 | D39: =SUM(D6:D38) -> 10 | E39: =SUM(E6:E38) -> 0 | F39: =SUM(F6:F38) -> 10 | G39: =SUM(G6:G38) -> 0 | H39: =SUM(H6:H38) -> 0 | I39: =SUM(I6:I38) -> 10 | J39: =SUM(J6:J38) -> 0

Sheet 수표발행기(수동)
A1: 2019년 금융장비 보급내역
A2: □ 장비명 : 수표발행기(수동) 10년
A3: 총괄국 | B3: 소속국 | C3: 내용년수 경과 교체보급대상 | G3: 추가 소요 대수 (B) | H3: 신규 소요 대수 (C) | I3: 보급수량 (A+B+C) | J3: 비고 ( 추가/신규소요/미반영 사유)
C4: 보급연도 | D4: 교체 반영 | F4: 소계 (A)
D5: 내용년수경과 | E5: 고장 및 상태불량
A6: 완도 | B6: 소안 | C6: 1989 | D6: 1 | F6: =D6+E6 -> 1 | I6: =F6+G6+H6 -> 1
A7: 완도 | B7: 청산도 | C7: 2013 | D7: 1 | F7: =D7+E7 -> 1 | I7: =F7+G7+H7 -> 1 | J7: 자동배서기 수동배서기로 교체
A8: 장흥 | B8: 장흥장동 | C8: 신규 | F8: =D8+E8 -> 0 | G8: 0 | I8: =F8+G8+H8 -> 0
A9: 함평 | B9: 학교 | C9: 2013 | D9: 1 | F9: =D9+E9 -> 1 | I9: =F9+G9+H9 -> 1 | J9: 자동배서기 수동배서기로 교체
A10: 계 | D10: =SUM(D6:D9) -> 3 | E10: =SUM(E6:E9) -> 0 | F10: =SUM(F6:F9) -> 3 | G10: =SUM(G6:G9) -> 0 | H10: =SUM(H6:H9) -> 0 | I10: =SUM(I6:I9) -> 3

Sheet 제본천공기
A1: 2019년 금융장비 보급내역
A2: □ 장비명 : 제본천공기(9년)
A3: 총괄국 | B3: 소속국 | C3: 내용년수 경과 교체보급대상 | G3: 추가 소요 대수 (B) | H3: 신규 소요 대수 (C) | I3: 보급수량 (A+B+C) | J3: 비고 ( 추가/신규소요/미반영 사유)
C4: 보급연도 | D4: 교체 반영 | F4: 소계 (A)
D5: 내용년수경과 | E5: 고장 및 상태불량
A6: 북광주 | B6: 북구청 | F6: =D6+E6 -> 0 | I6: =F6+G6+H6 -> 0 | J6: 보급 대상 아님(5급 이상 관서 보급)
A7: 광양 | B7: 광양 | C7: 2009 | D7: 1 | F7: =D7+E7 -> 1 | I7: =F7+G7+H7 -> 1
A8: 무안 | B8: 무안 | C8: 2005 | D8: 1 | F8: =D8+E8 -> 1 | I8: =F8+G8+H8 -> 1
A9: 계 | D9: =SUM(D6:D8) -> 2 | E9: =SUM(E6:E8) -> 0 | F9: =SUM(F6:F8) -> 2 | G9: =SUM(G6:G8) -> 0 | H9: =SUM(H6:H8) -> 0 | I9: =SUM(I6:I8) -> 2

Sheet 천공기
A1: 2019년 금융장비 보급내역
A2: □ 장비명 : 천공기(전동페이드기)
A3: 총괄국 | B3: 소속국 | C3: 내용년수 경과 교체보급대상 | G3: 추가 소요 대수 (B) | H3: 신규 소요 대수 (C) | I3: 보급수량 (A+B+C) | J3: 비고 ( 추가/신규소요/미반영 사유)
C4: 보급연도 | D4: 교체 반영 | F4: 소계 (A)
D5: 내용년수경과 | E5: 고장 및 상태불량
A6: 광주 | B6: 광주 | C6: 2007 | D6: 0 | F6: =D6+E6 -> 0 | I6: =F6+G6+H6 -> 0
A7: 광주 | B7: 광주월산동 | C7: 2007 | D7: 0 | F7: =D7+E7 -> 0 | I7: =F7+G7+H7 -> 0
A8: 광주 | B8: 광주진월동 | C8: 2007 | D8: 0 | F8: =D8+E8 -> 0 | I8: =F8+G8+H8 -> 0
A9: 서광주 | B9: 광주농성동 | C9: 2007 | D9: 0 | F9: =D9+E9 -> 0 | I9: =F9+G9+H9 -> 0
A10: 여수 | B10: 여수 | C10: 2007 | D10: 0 | F10: =D10+E10 -> 0 | I10: =F10+G10+H10 -> 0
A11: 나주 | B11: 다시 | C11: 2006 | D11: 0 | F11: =D11+E11 -> 0 | I11: =F11+G11+H11 -> 0
A12: 나주 | B12: 세지 | C12: 2006 | D12: 0 | F12: =D12+E12 -> 0 | I12: =F12+G12+H12 -> 0
A13: 담양 | B13: 담양금성 | C13: 2007 | D13: 0 | F13: =D13+E13 -> 0 | I13: =F13+G13+H13 -> 0
A14: 영암 | B14: 도포 | C14: 2007 | D14: 0 | F14: =D14+E14 -> 0 | I14: =F14+G14+H14 -> 0
A15: 완도 | B15: 청산도 | C15: 2007 | D15: 0 | F15: =D15+E15 -> 0 | I15: =F15+G15+H15 -> 0
A16: 함평 | B16: 엄다 | C16: 2010 | D16: 0 | F16: =D16+E16 -> 0 | I16: =F16+G16+H16 -> 0
A17: 계 | D17: =SUM(D6:D16) -> 0 | E17: =SUM(E6:E16) -> 0 | F17: =SUM(F6:F16) -> 0 | G17: =SUM(G6:G16) -> 0 | H17: =SUM(H6:H16) -> 0 | I17: =SUM(I6:I16) -> 0
A21: 광주월산동, 광주진월동, 담양금성 자산현황에 없음 / 내용년수 경과 여부 확인

Sheet 문서세단기
A1: 2019년 금융장비 보급내역
A2: □ 장비명 : 문서세단기(11년)
A3: 총괄국 | B3: 소속국 | C3: 내용년수 경과 교체보급대상 | G3: 추가 소요 대수 (B) | H3: 신규 소요 대수 (C) | I3: 보급수량 (A+B+C) | J3: 비고 ( 추가/신규소요/미반영 사유)
C4: 보급연도 | D4: 교체 반영 | F4: 소계 (A)
D5: 내용년수경과 | E5: 고장 및 상태불량
A6: 광주 | B6: 광주대촌동 | C6: 2003 | D6: 1 | F6: =D6+E6 -> 1 | I6: =F6+G6+H6 -> 1
A7: 북광주 | B7: 본촌동 | C7: 2005 | D7: 1 | F7: =D7+E7 -> 1 | I7: =F7+G7+H7 -> 1
A8: 북광주 | B8: 양산동 | C8: 2013 | E8: 0 | F8: =D8+E8 -> 0 | I8: =F8+G8+H8 -> 0 | J8: 내용년수 미경과, 수리비용한계 초과 아님
A9: 광주광산 | B9: 광주본량동 | C9: 2003 | D9: 1 | F9: =D9+E9 -> 1 | I9: =F9+G9+H9 -> 1
A10: 광양 | B10: 광양태인동 | C10: 2003 | D10: 1 | F10: =D10+E10 -> 1 | I10: =F10+G10+H10 -> 1
A11: 고흥 | B11: 영업과 | C11: 2012 | D11: 1 | F11: =D11+E11 -> 1 | I11: =F11+G11+H11 -> 1
A12: 담양 | B12: 담양금성 | C12: 신규 | D12: 0 | F12: =D12+E12 -> 0 | H12: 1 | I12: =F12+G12+H12 -> 1
A13: 영암 | B13: 도포 | C13: 2003 | D13: 1 | F13: =D13+E13 -> 1 | I13: =F13+G13+H13 -> 1
A14: 장성 | B14: 사가 | C14: 2003 | D14: 1 | F14: =D14+E14 -> 1 | I14: =F14+G14+H14 -> 1
A15: 장성 | B15: 신흥 | C15: 2003 | D15: 1 | F15: =D15+E15 -> 1 | I15: =F15+G15+H15 -> 1
A16: 장흥 | B16: 회진 | C16: 2003 | D16: 1 | F16: =D16+E16 -> 1 | I16: =F16+G16+H16 -> 1
A17: 장흥 | B17: 장흥안양 | C17: 2003 | D17: 1 | F17: =D17+E17 -> 1 | I17: =F17+G17+H17 -> 1
A18: 함평 | B18: 학교 | C18: 2005 | D18: 1 | F18: =D18+E18 -> 1 | I18: =F18+G18+H18 -> 1
A19: 함평 | B19: 엄다 | C19: 2005 | D19: 1 | F19: =D19+E19 -> 1 | I19: =F19+G19+H19 -> 1
A20: 화순 | B20: 화순춘양 | C20: 2003 | D20: 1 | F20: =D20+E20 -> 1 | I20: =F20+G20+H20 -> 1
A21: 계 | D21: =SUM(D6:D20) -> 13 | E21: =SUM(E6:E20) -> 0 | F21: =SUM(F6:F20) -> 13 | G21: =SUM(G6:G20) -> 0 | H21: =SUM(H6:H20) -> 1 | I21: =SUM(I6:I20) -> 14

Sheet cd세단기
A1: 2019년 금융장비 보급내역
A2: □ 장비명 : 문서세단기(11년)
A3: 총괄국 | B3: 소속국 | C3: 내용년수 경과 교체보급대상 | G3: 추가 소요 대수 (B) | H3: 신규 소요 대수 (C) | I3: 보급수량 (A+B+C) | J3: 비고 ( 추가/신규소요/미반영 사유)
C4: 보급연도 | D4: 교체 반영 | F4: 소계 (A)
D5: 내용년수경과 | E5: 고장 및 상태불량
A6: 광주 | B6: 광주방림동 | C6: 2005 | D6: 1 | F6: =D6+E6 -> 1 | I6: =F6+G6+H6 -> 1
A7: 북광주 | B7: 운암동 | C7: 2005 | D7: 1 | F7: =D7+E7 -> 1 | I7: =F7+G7+H7 -> 1
A8: 북광주 | B8: 문흥동 | C8: 2010 | E8: 1 | F8: =D8+E8 -> 1 | I8: =F8+G8+H8 -> 1
A9: 목포 | B9: 목포하당동 | C9: 2012 | E9: 1 | F9: =D9+E9 -> 1 | I9: =F9+G9+H9 -> 1
A10: 나주 | B10: 세지 | C10: 2005 | D10: 1 | F10: =D10+E10 -> 1 | I10: =F10+G10+H10 -> 1
A11: 영광 | B11: 홍농 | C11: 2005 | D11: 1 | F11: =D11+E11 -> 1 | I11: =F11+G11+H11 -> 1
A12: 장흥 | B12: 장흥안양 | C12: 2005 | D12: 1 | F12: =D12+E12 -> 1 | I12: =F12+G12+H12 -> 1
A13: 장흥 | B13: 장흥관산 | C13: 신규 | F13: =D13+E13 -> 0 | H13: 1 | I13: =F13+G13+H13 -> 1 | J13: 365코너 문서세단기 미보급됨
A14: 계 | D14: =SUM(D6:D13) -> 5 | E14: =SUM(E6:E13) -> 2 | F14: =SUM(F6:F13) -> 7 | G14: =SUM(G6:G13) -> 0 | H14: =SUM(H6:H13) -> 1 | I14: =SUM(I6:I13) -> 8

Sheet 수표발행매수
A1: 목포 | B1: 500033 | C1: 자기앞수표 발행건수 | D1: 01-1. 계정과목별월별유지현황(청)_자기앞수표->관서
A2: 목포창평동 | B2: 500249
A3: 지도 | B3: 500496 | D3: 리포트 필터:
A4: 안좌 | B4: 500538 | D4: ("201901" 와 "201906" 사이 기준년월 (ID)) 와 (계정레벨2 = 1211010200:자기앞수표) 와 (기준년월 (ID) > "200012")
A5: 흑산도 | B5: 500876 | D5: 관서 | F5: 계정레벨2 | H5: 메트릭 | I5: 발행건수 | J5: 발행금액 | K5: 지급건수 | L5: 지급금액 | M5: 유지수표수 | N5: 수표유지잔액
A6: 비금 | B6: 500934 | D6: 500033 | E6: 목포 | F6: 1211010200 | G6: 자기앞수표 | I6: 1569 | J6: 4897644617 | K6: 1494 | L6: 4776443497 | M6: 433 | N6: 985905580
A7: 자은도 | B7: 500959 | D7: 500249 | E7: 목포창평동 | F7: 1211010200 | G7: 자기앞수표 | I7: 362 | J7: 2278100870 | K7: 375 | L7: 2235300870 | M7: 205 | N7: 412100000
A8: 하의 | B8: 501148 | D8: 500496 | E8: 지도 | F8: 1211010200 | G8: 자기앞수표 | I8: 71 | J8: 1721024838 | K8: 70 | L8: 389824838 | M8: 51 | N8: 1464000000
A9: 목포산정동 | B9: 501213 | D9: 500538 | E9: 안좌 | F9: 1211010200 | G9: 자기앞수표 | I9: 147 | J9: 466204560 | K9: 125 | L9: 461425520 | M9: 69 | N9: 98400000
A10: 임자 | B10: 501262 | D10: 500876 | E10: 흑산도 | F10: 1211010200 | G10: 자기앞수표 | I10: 124 | J10: 731744430 | K10: 140 | L10: 755944430 | M10: 62 | N10: 72900000
A11: 장산 | B11: 501437 | D11: 500934 | E11: 비금 | F11: 1211010200 | G11: 자기앞수표 | I11: 42 | J11: 297573589 | K11: 45 | L11: 300573589 | M11: 39 | N11: 43500000
A12: 도초 | B12: 501452 | D12: 500959 | E12: 자은도 | F12: 1211010200 | G12: 자기앞수표 | I12: 81 | J12: 553700000 | K12: 95 | L12: 608700000 | M12: 13 | N12: 4900000
A13: 암태 | B13: 501817 | D13: 501148 | E13: 하의 | F13: 1211010200 | G13: 자기앞수표 | I13: 96 | J13: 291100000 | K13: 89 | L13: 315800000 | M13: 17 | N13: 37800000
A14: 압해 | B14: 502062 | D14: 501213 | E14: 목포산정동 | F14: 1211010200 | G14: 자기앞수표 | I14: 574 | J14: 3236274527 | K14: 538 | L14: 3126574527 | M14: 211 | N14: 503800000
A15: 목포양동 | B15: 502831 | D15: 501262 | E15: 임자 | F15: 1211010200 | G15: 자기앞수표 | I15: 70 | J15: 254300000 | K15: 69 | L15: 211000000 | M15: 42 | N15: 75300000
A16: 비금도고출장소 | B16: 503169 | D16: 501437 | E16: 장산 | F16: 1211010200 | G16: 자기앞수표 | I16: 58 | J16: 360000000 | K16: 53 | L16: 354100000 | M16: 9 | N16: 7200000
A17: 팔금 | B17: 503177 | D17: 501452 | E17: 도초 | F17: 1211010200 | G17: 자기앞수표 | I17: 59 | J17: 201000000 | K17: 57 | L17: 182000000 | M17: 38 | N17: 50500000
... A340: 광양 | B340: 503995 | D340: 502328 | E340: 봉강 | F340: 1211010200 | G340: 자기앞수표 | I340: 37 | J340: 196719557 | K340: 42 | L340: 269719557 | M340: 2 | N340: 1100000
D341: 503078 | E341: 광양태인동 | F341: 1211010200 | G341: 자기앞수표 | I341: 30 | J341: 240437960 | K341: 17 | L341: 242437960 | M341: 17 | N341: 15200000
D342: 503490 | E342: 광양제철 | F342: 1211010200 | G342: 자기앞수표 | I342: 36 | J342: 441968840 | K342: 40 | L342: 442368840 | M342: 0 | N342: 0
D343: 503516 | E343: 광양금호 | F343: 1211010200 | G343: 자기앞수표 | I343: 109 | J343: 1258793590 | K343: 93 | L343: 1246793590 | M343: 23 | N343: 30200000
D344: 503573 | E344: 광양광영 | F344: 1211010200 | G344: 자기앞수표 | I344: 66 | J344: 1005711980 | K344: 69 | L344: 1001811980 | M344: 37 | N344: 43000000
D345: 503995 | E345: 광양 | F345: 1211010200 | G345: 자기앞수표 | I345: 162 | J345: 2494125855 | K345: 157 | L345: 2576190505 | M345: 56 | N345: 211566443
I346: 65538 | J346: 354027949956 | K346: 66305 | L346: 353846142711 | M346: 19698 | N346: 50177092233
