Workbook

Sheet 첨부1.대상물 및 인원
A1: [첨부1]
A2: 위탁관리 대상물 및 해당 업무인원
A3: ▣ 2018년 1월, 5월, 9월 | K3: (단위 : 명)
A4: NO | B4: 관서명 | C4: 위탁관리 대상물 (연면적 ㎡) | D4: 미화(우체국) | G4: 보안 | J4: 합계 | K4: 비고
D5: 감독 | E5: A | F5: B | G5: 주간 | H5: 2교대 | I5: 야간
A6: 1 | B6: 우정사업정보센터 | C6: 27574 | D6: 1 | E6: 2 | F6: 9 | G6: 3 | H6: 0 | I6: 1 | J6: =SUM(D6:I6) -> 16
A7: 합계 | B7: =COUNTA(B6) -> 1 | C7: =SUM(C6) -> 27574 | D7: =SUM(D6) -> 1 | E7: =SUM(E6) -> 2 | F7: =SUM(F6) -> 9 | G7: =SUM(G6) -> 3 | H7: =SUM(H6) -> 0 | I7: =SUM(I6) -> 1 | J7: =SUM(J6) -> 16
A9: ▣ 2018년 2~4월, 6~8월, 10~12월 | K9: (단위 : 명)
A10: NO | B10: 관서명 | C10: 위탁관리 대상물 (연면적 ㎡) | D10: 미화(우체국) | G10: 보안 | J10: 합계 | K10: 비고
D11: 감독 | E11: A | F11: B | G11: 주간 | H11: 2교대 | I11: 야간
A12: 1 | B12: 우정사업정보센터 | C12: 27574 | D12: 1 | E12: 2 | F12: 9 | G12: 2 | H12: 1 | I12: 1 | J12: =SUM(D12:I12) -> 16
A13: 합계 | B13: =COUNTA(B12) -> 1 | C13: =SUM(C12) -> 27574 | D13: =SUM(D12) -> 1 | E13: =SUM(E12) -> 2 | F13: =SUM(F12) -> 9 | G13: =SUM(G12) -> 2 | H13: =SUM(H12) -> 1 | I13: =SUM(I12) -> 1 | J13: =SUM(J12) -> 16

Sheet 첨부2.산출내역
A1: [첨부2]
A2: 월간 위탁도급 수수료 산출 내역
A3: ▣ 2018년 1월, 5월, 9월 | I3: (단위 : 원, 부가세 포함)
A4: 직 종 / 구 분 | F4: 단 가 | G4: 인 원 | H4: 금 액 | I4: 비 고
H5: 월간금액
B6: 미 화 | C6: 우체국/직할 | E6: 감독 | F6: 3810290 | G6: ='첨부1.대상물 및 인원'!D7 -> 1 | H6: =F6*G6 -> 3810290
E7: A | F7: 3094300 | G7: ='첨부1.대상물 및 인원'!E7 -> 2 | H7: =F7*G7 -> 6188600
E8: B | F8: 2923800 | G8: ='첨부1.대상물 및 인원'!F7 -> 9 | H8: =F8*G8 -> 26314200
C9: 소 계 | G9: =SUM(G6:G8) -> 12 | H9: =SUM(H6:H8) -> 36313090
B10: 경 비 | C10: 보안검색 | E10: 주간 | F10: 3678950 | G10: ='첨부1.대상물 및 인원'!G7 -> 3 | H10: =F10*G10 -> 11036850
E11: 2교대 | F11: 5026670 | G11: ='첨부1.대상물 및 인원'!H7 -> 0 | H11: =F11*G11 -> 0
E12: 야간 | F12: 4440700 | G12: ='첨부1.대상물 및 인원'!I7 -> 1 | H12: =F12*G12 -> 4440700
C13: 소 계 | G13: =SUM(G10:G12) -> 4 | H13: =SUM(H10:H12) -> 15477550
B14: 인건비 계-ⓐ | G14: =G13+G9 -> 16 | H14: =H13+H9 -> 51790640
A15: 기 타 | B15: ① 재료비(12월 분할 금액) | H15: ='2-1.재료비'!E15 -> 1685040
B16: 기타 계-ⓑ | H16: =SUM(H15:H15) -> 1685040
A17: 합 계(ⓐ+ⓑ) | G17: =G14 -> 16 | H17: =H16+H14 -> 53475680
A19: ▣ 2018년 2~4월, 6~8월, 10~12월 | I19: (단위 : 원, 부가세 포함)
A20: 직 종 / 구 분 | F20: 단 가 | G20: 인 원 | H20: 금 액 | I20: 비 고
H21: 월간금액
B22: 미 화 | C22: 우체국/직할 | E22: 감독 | F22: 3810290 | G22: ='첨부1.대상물 및 인원'!D13 -> 1 | H22: =F22*G22 -> 3810290
E23: A | F23: 3094300 | G23: ='첨부1.대상물 및 인원'!E13 -> 2 | H23: =F23*G23 -> 6188600
E24: B | F24: 2923800 | G24: ='첨부1.대상물 및 인원'!F13 -> 9 | H24: =F24*G24 -> 26314200
C25: 소 계 | G25: =SUM(G22:G24) -> 12 | H25: =SUM(H22:H24) -> 36313090
B26: 경 비 | C26: 보안검색 | E26: 주간 | F26: 3678950 | G26: ='첨부1.대상물 및 인원'!G13 -> 2 | H26: =F26*G26 -> 7357900
E27: 2교대 | F27: 5026670 | G27: ='첨부1.대상물 및 인원'!H13 -> 1 | H27: =F27*G27 -> 5026670
E28: 야간 | F28: 4440700 | G28: ='첨부1.대상물 및 인원'!I13 -> 1 | H28: =F28*G28 -> 4440700
C29: 소 계 | G29: =SUM(G26:G28) -> 4 | H29: =SUM(H26:H28) -> 16825270
B30: 인건비 계-ⓐ | G30: =G29+G25 -> 16 | H30: =H29+H25 -> 53138360
A31: 기 타 | B31: ① 재료비(12월 분할 금액) | H31: ='2-1.재료비'!E15 -> 1685040
B32: 기타 계-ⓑ | H32: =SUM(H31:H31) -> 1685040
A33: 합 계(ⓐ+ⓑ) | G33: =G30 -> 16 | H33: =H32+H30 -> 54823400

Sheet 2-1.재료비
A1: [첨부2-1]
A2: 재료비 산출 내역
A3: ▣ 2018년 1월 ~ 12월 | G3: (단위 : 원, 부가세 포함)
A4: NO | B4: 관 서 명 | C4: 연면적(㎡) | D4: 단가 (원) | E4: 공급가액 | G4: 비 고
E5: 월간 | F5: 연간(12월)
A6: 1 | B6: 우정사업정보센터 | C6: 27574 | D6: 101.85 | E6: =TRUNC(C6*60%*D6,-1) -> 1685040 | F6: =E6*12 -> 20220480
A15: 합 계 | C15: =SUM(C6:C14) -> 27574 | E15: =SUM(E6:E14) -> 1685040 | F15: =SUM(F6:F14) -> 20220480

Sheet 2-2.월별계약액
A1: [첨부2-2]
A2: 월별 위탁도급 수수료
F3: (단위:명, 원, 부가세포함)
A4: 월별 | B4: 인원 | C4: 계약금액 | D4: 증감액 | E4: 합계금액 | F4: 비 고
A5: 1월 | B5: ='첨부1.대상물 및 인원'!J7 -> 16 | C5: =첨부2.산출내역!H17 -> 53475680 | E5: =D5+C5 -> 53475680 | F5: 보안검색(주간3, 야간1)
A6: 2월 | B6: =B5 -> 16 | C6: =첨부2.산출내역!H33 -> 54823400 | E6: =D6+C6 -> 54823400 | F6: 보안검색 (주간2, 야간1, 2교대1)
A7: 3월 | B7: =B6 -> 16 | C7: =C6 -> 54823400 | E7: =D7+C7 -> 54823400
A8: 4월 | B8: =B7 -> 16 | C8: =C7 -> 54823400 | E8: =D8+C8 -> 54823400
A9: 5월 | B9: =B8 -> 16 | C9: =C5 -> 53475680 | E9: =D9+C9 -> 53475680 | F9: =F5 -> 보안검색(주간3, 야간1)
A10: 6월 | B10: =B9 -> 16 | C10: =C8 -> 54823400 | E10: =D10+C10 -> 54823400 | F10: =F6 -> 보안검색 (주간2, 야간1, 2교대1)
A11: 7월 | B11: =B10 -> 16 | C11: =C10 -> 54823400 | E11: =D11+C11 -> 54823400
A12: 8월 | B12: =B11 -> 16 | C12: =C11 -> 54823400 | E12: =D12+C12 -> 54823400
A13: 9월 | B13: =B12 -> 16 | C13: =C9 -> 53475680 | E13: =D13+C13 -> 53475680 | F13: =F9 -> 보안검색(주간3, 야간1)
A14: 10월 | B14: =B13 -> 16 | C14: =C12 -> 54823400 | E14: =D14+C14 -> 54823400 | F14: =F10 -> 보안검색 (주간2, 야간1, 2교대1)
A15: 11월 | B15: =B14 -> 16 | C15: =C14 -> 54823400 | E15: =D15+C15 -> 54823400
A16: 12월 | B16: =B15 -> 16 | C16: =C15 -> 54823400 | E16: =D16+C16 -> 54823400
A17: 합계 | C17: =SUM(C5:C16) -> 653837640 | D17: =SUM(D5:D16) -> 0 | E17: =SUM(E5:E16) -> 653837640
