Workbook

Sheet 총괄
A1: '18년 설 명절 우편물 특별소통 예산배정
A2: (단위 : 천원)
A3: 구 분 | B3: 예 산 과 목 | C3: 금 액 | D3: 합 계
A4: 일 용 임 금 | B4: =예산배정서!B4 -> 5132-311-110-04 | C4: =예산배정서!B5 -> 117000 | D4: =SUM(C4:C5) -> 186680
B5: =예산배정서!C4 -> 5132-312-110-04 | C5: =예산배정서!C5 -> 69680
A6: 일반수용비 | B6: =예산배정서!E4 -> 5132-311 -210-01 | C6: =예산배정서!E5 -> 31700 | D6: =SUM(C6:C7) -> 104700
B7: =예산배정서!F4 -> 5132-312 -210-01 | C7: =예산배정서!F5 -> 73000
A8: 특근매식비 | B8: =예산배정서!H4 -> 5132-311 -210-05 | C8: =예산배정서!H5 -> 82650 | D8: =SUM(C8:C9) -> 103950
B9: =예산배정서!I4 -> 5132-312 -210-05 | C9: =예산배정서!I5 -> 21300
A10: 임 차 비 | B10: =예산배정서!K4 -> 5132-311 -210-07 | C10: =예산배정서!K5 -> 500 | D10: =SUM(C10:C11) -> 16300
B11: =예산배정서!L4 -> 5132-312-210-07 | C11: =예산배정서!L5 -> 15800
A12: 운 송 료 | B12: 5132-313-210-16 | C12: =예산배정서!M5 -> 70300 | D12: =C12 -> 70300
A13: 합 계 | D13: =SUM(D4:D12) -> 481930

Sheet 예산배정서
A1: '18년 설 명절 우편물 특별소통 예산배정서
O2: (단위 : 천원)
A3: 구분 | B3: 일용임금 | E3: 일반수용비 | H3: 특근매식비 | K3: 임차비 | M3: 운송료 | O3: 합 계 | P3: 추가배정
B4: 5132-311-110-04 | C4: 5132-312-110-04 | D4: 계 | E4: 5132-311 -210-01 | F4: 5132-312 -210-01 | G4: 계 | H4: 5132-311 -210-05 | I4: 5132-312 -210-05 | J4: 계 | K4: 5132-311 -210-07 | L4: 5132-312-210-07 | M4: 5132-313-210-16 | N4: 계 | P4: 일용임금 | Q4: 특근매식비 | R4: 임차비
A5: 합 계 | B5: =SUM(B6:B47) -> 117000 | C5: =SUM(C6:C47) -> 69680 | D5: =SUM(D6:D47) -> 186680 | E5: =SUM(E6:E47) -> 31700 | F5: =SUM(F6:F47) -> 73000 | G5: =SUM(G6:G47) -> 104700 | H5: =SUM(H6:H47) -> 82650 | I5: =SUM(I6:I47) -> 21300 | ... O5: =SUM(O6:O47) -> 481930 | P5: =SUM(P6:P56) -> 2900 | Q5: =SUM(Q6:Q56) -> 500 | R5: =SUM(R6:R56) -> 4100
A6: 부산진 | B6: 0 | C6: =VLOOKUP(A6,일용임금!$A$6:$P$47,16,FALSE) -> 2710 | D6: =SUM(B6:C6) -> 2710 | E6: 0 | F6: =VLOOKUP(A6,일반수용비!$A$6:$O$47,15,FALSE) -> 4000 | G6: =SUM(E6:F6) -> 4000 | I6: =VLOOKUP(A6,특근매식비!$A$6:$N$47,14,FALSE) -> 2600 | J6: =SUM(H6:I6) -> 2600 | K6: =VLOOKUP(A6,임차비!$A$6:$N$47,14,FALSE) -> 0 | M6: =VLOOKUP(A6,임차비!$A$6:$N$47,13,FALSE) -> 4400 | N6: =SUM(K6:M6) -> 4400 | O6: =SUM(D6,G6,J6,N6) -> 13710
A7: 부산 | B7: 0 | C7: =VLOOKUP(A7,일용임금!$A$6:$P$47,16,FALSE) -> 1460 | D7: =SUM(B7:C7) -> 1460 | E7: 0 | F7: =VLOOKUP(A7,일반수용비!$A$6:$O$47,15,FALSE) -> 2000 | G7: =SUM(E7:F7) -> 2000 | I7: =VLOOKUP(A7,특근매식비!$A$6:$N$47,14,FALSE) -> 1800 | J7: =SUM(H7:I7) -> 1800 | K7: =VLOOKUP(A7,임차비!$A$6:$N$47,14,FALSE) -> 0 | M7: =VLOOKUP(A7,임차비!$A$6:$N$47,13,FALSE) -> 2900 | N7: =SUM(K7:M7) -> 2900 | O7: =SUM(D7,G7,J7,N7) -> 8160
A8: 동래 | B8: 0 | C8: =VLOOKUP(A8,일용임금!$A$6:$P$47,16,FALSE) -> 1810 | D8: =SUM(B8:C8) -> 1810 | E8: 0 | F8: =VLOOKUP(A8,일반수용비!$A$6:$O$47,15,FALSE) -> 2100 | G8: =SUM(E8:F8) -> 2100 | I8: =VLOOKUP(A8,특근매식비!$A$6:$N$47,14,FALSE) -> 1900 | J8: =SUM(H8:I8) -> 1900 | K8: =VLOOKUP(A8,임차비!$A$6:$N$47,14,FALSE) -> 0 | M8: =VLOOKUP(A8,임차비!$A$6:$N$47,13,FALSE) -> 3200 | N8: =SUM(K8:M8) -> 3200 | O8: =SUM(D8,G8,J8,N8) -> 9010
A9: 남부산 | B9: 0 | C9: =VLOOKUP(A9,일용임금!$A$6:$P$47,16,FALSE) -> 3320 | D9: =SUM(B9:C9) -> 3320 | E9: 0 | F9: =VLOOKUP(A9,일반수용비!$A$6:$O$47,15,FALSE) -> 3500 | G9: =SUM(E9:F9) -> 3500 | I9: =VLOOKUP(A9,특근매식비!$A$6:$N$47,14,FALSE) -> 3100 | J9: =SUM(H9:I9) -> 3100 | K9: =VLOOKUP(A9,임차비!$A$6:$N$47,14,FALSE) -> 0 | M9: =VLOOKUP(A9,임차비!$A$6:$N$47,13,FALSE) -> 5200 | N9: =SUM(K9:M9) -> 5200 | O9: =SUM(D9,G9,J9,N9) -> 15120
A10: 부산사상 | B10: 0 | C10: =VLOOKUP(A10,일용임금!$A$6:$P$47,16,FALSE) -> 2540 | D10: =SUM(B10:C10) -> 2540 | E10: 0 | F10: =VLOOKUP(A10,일반수용비!$A$6:$O$47,15,FALSE) -> 2100 | G10: =SUM(E10:F10) -> 2100 | I10: =VLOOKUP(A10,특근매식비!$A$6:$N$47,14,FALSE) -> 1900 | J10: =SUM(H10:I10) -> 1900 | K10: =VLOOKUP(A10,임차비!$A$6:$N$47,14,FALSE) -> 0 | M10: =VLOOKUP(A10,임차비!$A$6:$N$47,13,FALSE) -> 2500 | N10: =SUM(K10:M10) -> 2500 | O10: =SUM(D10,G10,J10,N10) -> 9040
A11: 부산금정 | B11: 0 | C11: =VLOOKUP(A11,일용임금!$A$6:$P$47,16,FALSE) -> 2540 | D11: =SUM(B11:C11) -> 2540 | E11: 0 | F11: =VLOOKUP(A11,일반수용비!$A$6:$O$47,15,FALSE) -> 2100 | G11: =SUM(E11:F11) -> 2100 | I11: =VLOOKUP(A11,특근매식비!$A$6:$N$47,14,FALSE) -> 1800 | J11: =SUM(H11:I11) -> 1800 | K11: =VLOOKUP(A11,임차비!$A$6:$N$47,14,FALSE) -> 0 | M11: =VLOOKUP(A11,임차비!$A$6:$N$47,13,FALSE) -> 2800 | N11: =SUM(K11:M11) -> 2800 | O11: =SUM(D11,G11,J11,N11) -> 9240
A12: 부산사하 | B12: 0 | C12: =VLOOKUP(A12,일용임금!$A$6:$P$47,16,FALSE) -> 1810 | D12: =SUM(B12:C12) -> 1810 | E12: 0 | F12: =VLOOKUP(A12,일반수용비!$A$6:$O$47,15,FALSE) -> 2400 | G12: =SUM(E12:F12) -> 2400 | I12: =VLOOKUP(A12,특근매식비!$A$6:$N$47,14,FALSE) -> 2200 | J12: =SUM(H12:I12) -> 2200 | K12: =VLOOKUP(A12,임차비!$A$6:$N$47,14,FALSE) -> 0 | M12: =VLOOKUP(A12,임차비!$A$6:$N$47,13,FALSE) -> 2800 | N12: =SUM(K12:M12) -> 2800 | O12: =SUM(D12,G12,J12,N12) -> 9210
A13: 해운대 | B13: 0 | C13: =VLOOKUP(A13,일용임금!$A$6:$P$47,16,FALSE) -> 4520 | D13: =SUM(B13:C13) -> 4520 | E13: 0 | F13: =VLOOKUP(A13,일반수용비!$A$6:$O$47,15,FALSE) -> 3300 | G13: =SUM(E13:F13) -> 3300 | I13: =VLOOKUP(A13,특근매식비!$A$6:$N$47,14,FALSE) -> 2900 | J13: =SUM(H13:I13) -> 2900 | K13: =VLOOKUP(A13,임차비!$A$6:$N$47,14,FALSE) -> 0 | M13: =VLOOKUP(A13,임차비!$A$6:$N$47,13,FALSE) -> 6600 | N13: =SUM(K13:M13) -> 6600 | O13: =SUM(D13,G13,J13,N13) -> 17320 | P13: 900
A14: 북부산 | B14: 0 | C14: =VLOOKUP(A14,일용임금!$A$6:$P$47,16,FALSE) -> 1210 | D14: =SUM(B14:C14) -> 1210 | E14: 0 | F14: =VLOOKUP(A14,일반수용비!$A$6:$O$47,15,FALSE) -> 1800 | G14: =SUM(E14:F14) -> 1800 | I14: =VLOOKUP(A14,특근매식비!$A$6:$N$47,14,FALSE) -> 1600 | J14: =SUM(H14:I14) -> 1600 | K14: =VLOOKUP(A14,임차비!$A$6:$N$47,14,FALSE) -> 0 | M14: =VLOOKUP(A14,임차비!$A$6:$N$47,13,FALSE) -> 4100 | N14: =SUM(K14:M14) -> 4100 | O14: =SUM(D14,G14,J14,N14) -> 8710 | P14: 300
A15: 부산연제 | B15: 0 | C15: =VLOOKUP(A15,일용임금!$A$6:$P$47,16,FALSE) -> 1810 | D15: =SUM(B15:C15) -> 1810 | E15: 0 | F15: =VLOOKUP(A15,일반수용비!$A$6:$O$47,15,FALSE) -> 1600 | G15: =SUM(E15:F15) -> 1600 | I15: =VLOOKUP(A15,특근매식비!$A$6:$N$47,14,FALSE) -> 1500 | J15: =SUM(H15:I15) -> 1500 | K15: =VLOOKUP(A15,임차비!$A$6:$N$47,14,FALSE) -> 0 | M15: =VLOOKUP(A15,임차비!$A$6:$N$47,13,FALSE) -> 2600 | N15: =SUM(K15:M15) -> 2600 | O15: =SUM(D15,G15,J15,N15) -> 7510 | Q15: 500
A16: 동부산 | B16: 0 | C16: =VLOOKUP(A16,일용임금!$A$6:$P$47,16,FALSE) -> 1270 | D16: =SUM(B16:C16) -> 1270 | E16: 0 | F16: =VLOOKUP(A16,일반수용비!$A$6:$O$47,15,FALSE) -> 1200 | G16: =SUM(E16:F16) -> 1200 | H16: =VLOOKUP(A16,특근매식비!$A$6:$N$47,14,FALSE) -> 1100 | J16: =SUM(H16:I16) -> 1100 | K16: =VLOOKUP(A16,임차비!$A$6:$N$47,14,FALSE) -> 0 | M16: =VLOOKUP(A16,임차비!$A$6:$N$47,13,FALSE) -> 1200 | N16: =SUM(K16:M16) -> 1200 | O16: =SUM(D16,G16,J16,N16) -> 4770
A17: 부산영도 | B17: 0 | C17: =VLOOKUP(A17,일용임금!$A$6:$P$47,16,FALSE) -> 610 | D17: =SUM(B17:C17) -> 610 | E17: 0 | F17: =VLOOKUP(A17,일반수용비!$A$6:$O$47,15,FALSE) -> 1000 | G17: =SUM(E17:F17) -> 1000 | H17: =VLOOKUP(A17,특근매식비!$A$6:$N$47,14,FALSE) -> 1000 | J17: =SUM(H17:I17) -> 1000 | K17: =VLOOKUP(A17,임차비!$A$6:$N$47,14,FALSE) -> 0 | L17: =VLOOKUP(A17,임차비!$A$6:$N$47,13,FALSE) -> 1100 | N17: =SUM(K17:M17) -> 1100 | O17: =SUM(D17,G17,J17,N17) -> 3710 | P17: 700
A18: 울산 | B18: 0 | C18: =VLOOKUP(A18,일용임금!$A$6:$P$47,16,FALSE) -> 5430 | D18: =SUM(B18:C18) -> 5430 | E18: 0 | F18: =VLOOKUP(A18,일반수용비!$A$6:$O$47,15,FALSE) -> 4100 | G18: =SUM(E18:F18) -> 4100 | H18: =VLOOKUP(A18,특근매식비!$A$6:$N$47,14,FALSE) -> 3600 | J18: =SUM(H18:I18) -> 3600 | K18: =VLOOKUP(A18,임차비!$A$6:$N$47,14,FALSE) -> 0 | M18: =VLOOKUP(A18,임차비!$A$6:$N$47,13,FALSE) -> 5900 | N18: =SUM(K18:M18) -> 5900 | O18: =SUM(D18,G18,J18,N18) -> 19030
A19: 남울산 | B19: 0 | C19: =VLOOKUP(A19,일용임금!$A$6:$P$47,16,FALSE) -> 4820 | D19: =SUM(B19:C19) -> 4820 | E19: 0 | F19: =VLOOKUP(A19,일반수용비!$A$6:$O$47,15,FALSE) -> 3800 | G19: =SUM(E19:F19) -> 3800 | H19: =VLOOKUP(A19,특근매식비!$A$6:$N$47,14,FALSE) -> 3200 | I19: 0 | J19: =SUM(H19:I19) -> 3200 | K19: =VLOOKUP(A19,임차비!$A$6:$N$47,14,FALSE) -> 0 | M19: =VLOOKUP(A19,임차비!$A$6:$N$47,13,FALSE) -> 5600 | N19: =SUM(K19:M19) -> 5600 | O19: =SUM(D19,G19,J19,N19) -> 17420
A20: 마산 | B20: 0 | C20: =VLOOKUP(A20,일용임금!$A$6:$P$47,16,FALSE) -> 1450 | D20: =SUM(B20:C20) -> 1450 | E20: 0 | F20: =VLOOKUP(A20,일반수용비!$A$6:$O$47,15,FALSE) -> 1500 | G20: =SUM(E20:F20) -> 1500 | H20: =VLOOKUP(A20,특근매식비!$A$6:$N$47,14,FALSE) -> 1650 | I20: 0 | J20: =SUM(H20:I20) -> 1650 | K20: =VLOOKUP(A20,임차비!$A$6:$N$47,14,FALSE) -> 0 | L20: =VLOOKUP(A20,임차비!$A$6:$N$47,13,FALSE) -> 2100 | N20: =SUM(K20:M20) -> 2100 | O20: =SUM(D20,G20,J20,N20) -> 6700
A21: 진주 | B21: 0 | C21: =VLOOKUP(A21,일용임금!$A$6:$P$47,16,FALSE) -> 3020 | D21: =SUM(B21:C21) -> 3020 | E21: 0 | F21: =VLOOKUP(A21,일반수용비!$A$6:$O$47,15,FALSE) -> 3300 | G21: =SUM(E21:F21) -> 3300 | H21: =VLOOKUP(A21,특근매식비!$A$6:$N$47,14,FALSE) -> 3000 | I21: 0 | J21: =SUM(H21:I21) -> 3000 | K21: =VLOOKUP(A21,임차비!$A$6:$N$47,14,FALSE) -> 0 | M21: =VLOOKUP(A21,임차비!$A$6:$N$47,13,FALSE) -> 3900 | N21: =SUM(K21:M21) -> 3900 | O21: =SUM(D21,G21,J21,N21) -> 13220
A22: 진해 | B22: 0 | C22: =VLOOKUP(A22,일용임금!$A$6:$P$47,16,FALSE) -> 500 | D22: =SUM(B22:C22) -> 500 | E22: 0 | F22: =VLOOKUP(A22,일반수용비!$A$6:$O$47,15,FALSE) -> 1400 | G22: =SUM(E22:F22) -> 1400 | H22: =VLOOKUP(A22,특근매식비!$A$6:$N$47,14,FALSE) -> 1300 | I22: 0 | J22: =SUM(H22:I22) -> 1300 | K22: =VLOOKUP(A22,임차비!$A$6:$N$47,14,FALSE) -> 0 | L22: =VLOOKUP(A22,임차비!$A$6:$N$47,13,FALSE) -> 1400 | N22: =SUM(K22:M22) -> 1400 | O22: =SUM(D22,G22,J22,N22) -> 4600
A23: 창원 | B23: 0 | C23: =VLOOKUP(A23,일용임금!$A$6:$P$47,16,FALSE) -> 5430 | D23: =SUM(B23:C23) -> 5430 | E23: 0 | F23: =VLOOKUP(A23,일반수용비!$A$6:$O$47,15,FALSE) -> 4100 | G23: =SUM(E23:F23) -> 4100 | H23: =VLOOKUP(A23,특근매식비!$A$6:$N$47,14,FALSE) -> 3500 | I23: 0 | J23: =SUM(H23:I23) -> 3500 | K23: =VLOOKUP(A23,임차비!$A$6:$N$47,14,FALSE) -> 0 | M23: =VLOOKUP(A23,임차비!$A$6:$N$47,13,FALSE) -> 4900 | N23: =SUM(K23:M23) -> 4900 | O23: =SUM(D23,G23,J23,N23) -> 17930
A24: 김해 | B24: 0 | C24: =VLOOKUP(A24,일용임금!$A$6:$P$47,16,FALSE) -> 5800 | D24: =SUM(B24:C24) -> 5800 | E24: 0 | F24: =VLOOKUP(A24,일반수용비!$A$6:$O$47,15,FALSE) -> 4000 | G24: =SUM(E24:F24) -> 4000 | H24: =VLOOKUP(A24,특근매식비!$A$6:$N$47,14,FALSE) -> 3600 | I24: 0 | J24: =SUM(H24:I24) -> 3600 | K24: =VLOOKUP(A24,임차비!$A$6:$N$47,14,FALSE) -> 0 | M24: =VLOOKUP(A24,임차비!$A$6:$N$47,13,FALSE) -> 5700 | N24: =SUM(K24:M24) -> 5700 | O24: =SUM(D24,G24,J24,N24) -> 19100 | P24: 1000
A25: 양산 | B25: 0 | C25: =VLOOKUP(A25,일용임금!$A$6:$P$47,16,FALSE) -> 3320 | D25: =SUM(B25:C25) -> 3320 | E25: 0 | F25: =VLOOKUP(A25,일반수용비!$A$6:$O$47,15,FALSE) -> 3400 | G25: =SUM(E25:F25) -> 3400 | H25: =VLOOKUP(A25,특근매식비!$A$6:$N$47,14,FALSE) -> 2200 | I25: 0 | J25: =SUM(H25:I25) -> 2200 | K25: =VLOOKUP(A25,임차비!$A$6:$N$47,14,FALSE) -> 0 | M25: =VLOOKUP(A25,임차비!$A$6:$N$47,13,FALSE) -> 3700 | N25: =SUM(K25:M25) -> 3700 | O25: =SUM(D25,G25,J25,N25) -> 12620 | R25: 400
A26: 거제 | B26: 0 | C26: =VLOOKUP(A26,일용임금!$A$6:$P$47,16,FALSE) -> 2720 | D26: =SUM(B26:C26) -> 2720 | E26: 0 | F26: =VLOOKUP(A26,일반수용비!$A$6:$O$47,15,FALSE) -> 2300 | G26: =SUM(E26:F26) -> 2300 | H26: =VLOOKUP(A26,특근매식비!$A$6:$N$47,14,FALSE) -> 2100 | I26: 0 | J26: =SUM(H26:I26) -> 2100 | K26: =VLOOKUP(A26,임차비!$A$6:$N$47,14,FALSE) -> 0 | L26: =VLOOKUP(A26,임차비!$A$6:$N$47,13,FALSE) -> 2800 | N26: =SUM(K26:M26) -> 2800 | O26: =SUM(D26,G26,J26,N26) -> 9920 | R26: 1800
A27: 통영 | B27: 0 | C27: =VLOOKUP(A27,일용임금!$A$6:$P$47,16,FALSE) -> 1810 | D27: =SUM(B27:C27) -> 1810 | E27: 0 | F27: =VLOOKUP(A27,일반수용비!$A$6:$O$47,15,FALSE) -> 1800 | G27: =SUM(E27:F27) -> 1800 | H27: =VLOOKUP(A27,특근매식비!$A$6:$N$47,14,FALSE) -> 1600 | I27: 0 | J27: =SUM(H27:I27) -> 1600 | K27: =VLOOKUP(A27,임차비!$A$6:$N$47,14,FALSE) -> 0 | M27: =VLOOKUP(A27,임차비!$A$6:$N$47,13,FALSE) -> 1000 | N27: =SUM(K27:M27) -> 1000 | O27: =SUM(D27,G27,J27,N27) -> 6210
A28: 부산강서 | B28: 0 | C28: =VLOOKUP(A28,일용임금!$A$6:$P$47,16,FALSE) -> 2410 | D28: =SUM(B28:C28) -> 2410 | E28: 0 | F28: =VLOOKUP(A28,일반수용비!$A$6:$O$47,15,FALSE) -> 1500 | G28: =SUM(E28:F28) -> 1500 | H28: =VLOOKUP(A28,특근매식비!$A$6:$N$47,14,FALSE) -> 1300 | I28: 0 | J28: =SUM(H28:I28) -> 1300 | K28: =VLOOKUP(A28,임차비!$A$6:$N$47,14,FALSE) -> 0 | L28: =VLOOKUP(A28,임차비!$A$6:$N$47,13,FALSE) -> 1900 | N28: =SUM(K28:M28) -> 1900 | O28: =SUM(D28,G28,J28,N28) -> 7110 | R28: 600
A29: 기장 | B29: 0 | C29: =VLOOKUP(A29,일용임금!$A$6:$P$47,16,FALSE) -> 2510 | D29: =SUM(B29:C29) -> 2510 | E29: 0 | F29: =VLOOKUP(A29,일반수용비!$A$6:$O$47,15,FALSE) -> 1300 | G29: =SUM(E29:F29) -> 1300 | H29: =VLOOKUP(A29,특근매식비!$A$6:$N$47,14,FALSE) -> 1200 | I29: 0 | J29: =SUM(H29:I29) -> 1200 | K29: =VLOOKUP(A29,임차비!$A$6:$N$47,14,FALSE) -> 0 | M29: =VLOOKUP(A29,임차비!$A$6:$N$47,13,FALSE) -> 1300 | N29: =SUM(K29:M29) -> 1300 | O29: =SUM(D29,G29,J29,N29) -> 6310
A30: 동울산 | B30: 0 | C30: =VLOOKUP(A30,일용임금!$A$6:$P$47,16,FALSE) -> 500 | D30: =SUM(B30:C30) -> 500 | E30: 0 | F30: =VLOOKUP(A30,일반수용비!$A$6:$O$47,15,FALSE) -> 1200 | G30: =SUM(E30:F30) -> 1200 | H30: =VLOOKUP(A30,특근매식비!$A$6:$N$47,14,FALSE) -> 1200 | I30: 0 | J30: =SUM(H30:I30) -> 1200 | K30: =VLOOKUP(A30,임차비!$A$6:$N$47,14,FALSE) -> 0 | L30: =VLOOKUP(A30,임차비!$A$6:$N$47,13,FALSE) -> 1300 | N30: =SUM(K30:M30) -> 1300 | O30: =SUM(D30,G30,J30,N30) -> 4200
A31: 거창 | B31: 0 | C31: =VLOOKUP(A31,일용임금!$A$6:$P$47,16,FALSE) -> 0 | D31: =SUM(B31:C31) -> 0 | E31: 0 | F31: =VLOOKUP(A31,일반수용비!$A$6:$O$47,15,FALSE) -> 900 | G31: =SUM(E31:F31) -> 900 | H31: =VLOOKUP(A31,특근매식비!$A$6:$N$47,14,FALSE) -> 1000 | I31: 0 | J31: =SUM(H31:I31) -> 1000 | K31: =VLOOKUP(A31,임차비!$A$6:$N$47,14,FALSE) -> 500 | M31: =VLOOKUP(A31,임차비!$A$6:$N$47,13,FALSE) -> 0 | N31: =SUM(K31:M31) -> 500 | O31: =SUM(D31,G31,J31,N31) -> 2400
A32: 고성 | B32: 0 | C32: =VLOOKUP(A32,일용임금!$A$6:$P$47,16,FALSE) -> 0 | D32: =SUM(B32:C32) -> 0 | E32: 0 | F32: =VLOOKUP(A32,일반수용비!$A$6:$O$47,15,FALSE) -> 800 | G32: =SUM(E32:F32) -> 800 | H32: =VLOOKUP(A32,특근매식비!$A$6:$N$47,14,FALSE) -> 900 | I32: 0 | J32: =SUM(H32:I32) -> 900 | K32: =VLOOKUP(A32,임차비!$A$6:$N$47,14,FALSE) -> 0 | M32: =VLOOKUP(A32,임차비!$A$6:$N$47,13,FALSE) -> 0 | N32: =SUM(K32:M32) -> 0 | O32: =SUM(D32,G32,J32,N32) -> 1700
A33: 남해 | B33: 0 | C33: =VLOOKUP(A33,일용임금!$A$6:$P$47,16,FALSE) -> 0 | D33: =SUM(B33:C33) -> 0 | E33: 0 | F33: =VLOOKUP(A33,일반수용비!$A$6:$O$47,15,FALSE) -> 700 | G33: =SUM(E33:F33) -> 700 | H33: =VLOOKUP(A33,특근매식비!$A$6:$N$47,14,FALSE) -> 800 | I33: 0 | J33: =SUM(H33:I33) -> 800 | K33: =VLOOKUP(A33,임차비!$A$6:$N$47,14,FALSE) -> 0 | M33: =VLOOKUP(A33,임차비!$A$6:$N$47,13,FALSE) -> 0 | N33: =SUM(K33:M33) -> 0 | O33: =SUM(D33,G33,J33,N33) -> 1500
A34: 마산합포 | B34: 0 | C34: =VLOOKUP(A34,일용임금!$A$6:$P$47,16,FALSE) -> 1210 | D34: =SUM(B34:C34) -> 1210 | E34: 0 | F34: =VLOOKUP(A34,일반수용비!$A$6:$O$47,15,FALSE) -> 1600 | G34: =SUM(E34:F34) -> 1600 | H34: =VLOOKUP(A34,특근매식비!$A$6:$N$47,14,FALSE) -> 1500 | I34: 0 | J34: =SUM(H34:I34) -> 1500 | K34: =VLOOKUP(A34,임차비!$A$6:$N$47,14,FALSE) -> 0 | L34: =VLOOKUP(A34,임차비!$A$6:$N$47,13,FALSE) -> 1600 | N34: =SUM(K34:M34) -> 1600 | O34: =SUM(D34,G34,J34,N34) -> 5910
A35: 밀양 | B35: 0 | C35: =VLOOKUP(A35,일용임금!$A$6:$P$47,16,FALSE) -> 2410 | D35: =SUM(B35:C35) -> 2410 | E35: 0 | F35: =VLOOKUP(A35,일반수용비!$A$6:$O$47,15,FALSE) -> 1500 | G35: =SUM(E35:F35) -> 1500 | H35: =VLOOKUP(A35,특근매식비!$A$6:$N$47,14,FALSE) -> 1400 | I35: 0 | J35: =SUM(H35:I35) -> 1400 | K35: =VLOOKUP(A35,임차비!$A$6:$N$47,14,FALSE) -> 0 | L35: =VLOOKUP(A35,임차비!$A$6:$N$47,13,FALSE) -> 1200 | N35: =SUM(K35:M35) -> 1200 | O35: =SUM(D35,G35,J35,N35) -> 6510
A36: 사천 | B36: 0 | C36: =VLOOKUP(A36,일용임금!$A$6:$P$47,16,FALSE) -> 730 | D36: =SUM(B36:C36) -> 730 | E36: 0 | F36: =VLOOKUP(A36,일반수용비!$A$6:$O$47,15,FALSE) -> 1400 | G36: =SUM(E36:F36) -> 1400 | H36: =VLOOKUP(A36,특근매식비!$A$6:$N$47,14,FALSE) -> 1200 | I36: 0 | J36: =SUM(H36:I36) -> 1200 | K36: =VLOOKUP(A36,임차비!$A$6:$N$47,14,FALSE) -> 0 | L36: =VLOOKUP(A36,임차비!$A$6:$N$47,13,FALSE) -> 1000 | N36: =SUM(K36:M36) -> 1000 | O36: =SUM(D36,G36,J36,N36) -> 4330
A37: 산청 | B37: 0 | C37: =VLOOKUP(A37,일용임금!$A$6:$P$47,16,FALSE) -> 0 | D37: =SUM(B37:C37) -> 0 | E37: 0 | F37: =VLOOKUP(A37,일반수용비!$A$6:$O$47,15,FALSE) -> 800 | G37: =SUM(E37:F37) -> 800 | H37: =VLOOKUP(A37,특근매식비!$A$6:$N$47,14,FALSE) -> 700 | I37: 0 | J37: =SUM(H37:I37) -> 700 | K37: =VLOOKUP(A37,임차비!$A$6:$N$47,14,FALSE) -> 0 | M37: =VLOOKUP(A37,임차비!$A$6:$N$47,13,FALSE) -> 0 | N37: =SUM(K37:M37) -> 0 | O37: =SUM(D37,G37,J37,N37) -> 1500
A38: 의령 | B38: 0 | C38: =VLOOKUP(A38,일용임금!$A$6:$P$47,16,FALSE) -> 0 | D38: =SUM(B38:C38) -> 0 | E38: 0 | F38: =VLOOKUP(A38,일반수용비!$A$6:$O$47,15,FALSE) -> 500 | G38: =SUM(E38:F38) -> 500 | H38: =VLOOKUP(A38,특근매식비!$A$6:$N$47,14,FALSE) -> 600 | I38: 0 | J38: =SUM(H38:I38) -> 600 | K38: =VLOOKUP(A38,임차비!$A$6:$N$47,14,FALSE) -> 0 | M38: =VLOOKUP(A38,임차비!$A$6:$N$47,13,FALSE) -> 0 | N38: =SUM(K38:M38) -> 0 | O38: =SUM(D38,G38,J38,N38) -> 1100
A39: 창녕 | B39: 0 | C39: =VLOOKUP(A39,일용임금!$A$6:$P$47,16,FALSE) -> 0 | D39: =SUM(B39:C39) -> 0 | E39: 0 | F39: =VLOOKUP(A39,일반수용비!$A$6:$O$47,15,FALSE) -> 800 | G39: =SUM(E39:F39) -> 800 | H39: =VLOOKUP(A39,특근매식비!$A$6:$N$47,14,FALSE) -> 900 | I39: 0 | J39: =SUM(H39:I39) -> 900 | K39: =VLOOKUP(A39,임차비!$A$6:$N$47,14,FALSE) -> 0 | M39: =VLOOKUP(A39,임차비!$A$6:$N$47,13,FALSE) -> 0 | N39: =SUM(K39:M39) -> 0 | O39: =SUM(D39,G39,J39,N39) -> 1700
A40: 하동 | B40: 0 | C40: =VLOOKUP(A40,일용임금!$A$6:$P$47,16,FALSE) -> 0 | D40: =SUM(B40:C40) -> 0 | E40: 0 | F40: =VLOOKUP(A40,일반수용비!$A$6:$O$47,15,FALSE) -> 900 | G40: =SUM(E40:F40) -> 900 | H40: =VLOOKUP(A40,특근매식비!$A$6:$N$47,14,FALSE) -> 1000 | I40: 0 | J40: =SUM(H40:I40) -> 1000 | K40: =VLOOKUP(A40,임차비!$A$6:$N$47,14,FALSE) -> 0 | L40: =VLOOKUP(A40,임차비!$A$6:$N$47,13,FALSE) -> 600 | N40: =SUM(K40:M40) -> 600 | O40: =SUM(D40,G40,J40,N40) -> 2500 | R40: 500
...

Sheet 일용임금
A1: 일용임금 산출내역
A3: 국명 | B3: 전년도 배정액 | K3: 집배구수 | L3: 배정인원 | O3: 추가 요청 | P3: 배정액 (천원) | Q3: <배정기준>
B4: 14설 | C4: 13추석 | D4: 14추석 | E4: 15설 | F4: 15추석 | G4: 16설 | H4: 16추석 | I4: 17설 | J4: 17추석 | L4: 집배구수 | M4: 부하, 농산물 | N4: 소계
A5: 합 계 | B5: =SUM(B6:B47) -> 159510 | C5: =SUM(C6:C47) -> 152000 | D5: =SUM(D6:D47) -> 153330 | E5: =SUM(E6:E47) -> 144290 | F5: =SUM(F6:F47) -> 151000 | G5: =SUM(G6:G47) -> 151370 | H5: =SUM(H6:H47) -> 152110 | I5: =SUM(I6:I47) -> 137090 | ... M5: =SUM(M6:M47) -> 40 | N5: =SUM(N6:N43) -> 194 | O5: =SUM(O6:O43) -> 11130 | P5: =SUM(P6:P47) -> 186680 | R5: 집배구수 | S5: 배정인원
A6: 부산진 | B6: 2920 | C6: 2600 | D6: 2760 | E6: 2680 | F6: 2420 | G6: 2900 | H6: 3190 | I6: 2850 | J6: 3890 | K6: =VLOOKUP(A6,집배구수!$A$5:$G$42,6,FALSE) -> 103 | L6: =VLOOKUP(K6,$R$6:$S$12,2,1) -> 8 | N6: =SUM(L6:M6) -> 8 | O6: 300 | P6: =ROUNDUP(N6*60240/1000*5,-1)+O6 -> 2710 | R6: 20 | S6: 0
A7: 부산 | B7: 1170 | C7: 1300 | D7: 1010 | E7: 1080 | F7: 1080 | G7: 1160 | H7: 1160 | I7: 1040 | J7: 1560 | K7: =VLOOKUP(A7,집배구수!$A$5:$G$42,6,FALSE) -> 69 | L7: =VLOOKUP(K7,$R$6:$S$12,2,1) -> 4 | N7: =SUM(L7:M7) -> 4 | O7: 250 | P7: =ROUNDUP(N7*60240/1000*5,-1)+O7 -> 1460 | Q7: o 도시지역 총괄국 집배구수 기준 | R7: 30 | S7: 0
A8: 동래 | B8: 1460 | C8: 1300 | D8: 1510 | E8: 1340 | F8: 1080 | G8: 1740 | H8: 1740 | I8: 1560 | J8: 1820 | K8: =VLOOKUP(A8,집배구수!$A$5:$G$42,6,FALSE) -> 71 | L8: =VLOOKUP(K8,$R$6:$S$12,2,1) -> 6 | N8: =SUM(L8:M8) -> 6 | P8: =ROUNDUP(N8*60240/1000*5,-1)+O8 -> 1810 | Q8: - 50구 이상 ~ 70구 미만 : 4명 | R8: 50 | S8: 4
A9: 남부산 | B9: 3800 | C9: 3200 | D9: 2510 | E9: 2680 | F9: 3490 | G9: 2900 | H9: 2320 | I9: 2850 | J9: 2590 | K9: =VLOOKUP(A9,집배구수!$A$5:$G$42,6,FALSE) -> 117 | L9: =VLOOKUP(K9,$R$6:$S$12,2,1) -> 10 | M9: 1 | N9: =SUM(L9:M9) -> 11 | P9: =ROUNDUP(N9*60240/1000*5,-1)+O9 -> 3320 | Q9: - 70구 이상 ~ 90구 미만 : 6명 | R9: 70 | S9: 6
A10: 부산사상 | B10: 1170 | C10: 1300 | D10: 1510 | E10: 1880 | F10: 1610 | G10: 1450 | H10: 2610 | I10: 2330 | J10: 1560 | K10: =VLOOKUP(A10,집배구수!$A$5:$G$42,6,FALSE) -> 71 | L10: =VLOOKUP(K10,$R$6:$S$12,2,1) -> 6 | N10: =SUM(L10:M10) -> 6 | O10: 730 | P10: =ROUNDUP(N10*60240/1000*5,-1)+O10 -> 2540 | Q10: - 90구 이상 ~ 110 미만 : 8명 | R10: 90 | S10: 8
A11: 부산금정 | B11: 1460 | C11: 1300 | D11: 1760 | E11: 1880 | F11: 1610 | G11: 1450 | H11: 1160 | I11: 1040 | J11: 2330 | K11: =VLOOKUP(A11,집배구수!$A$5:$G$42,6,FALSE) -> 70 | L11: =VLOOKUP(K11,$R$6:$S$12,2,1) -> 6 | N11: =SUM(L11:M11) -> 6 | O11: 730 | P11: =ROUNDUP(N11*60240/1000*5,-1)+O11 -> 2540 | Q11: - 110구 이상 ~ 120구 미만 : 10명 | R11: 110 | S11: 10
A12: 부산사하 | B12: 2050 | C12: 1800 | D12: 2010 | E12: 2150 | F12: 1880 | G12: 1740 | H12: 1740 | I12: 1560 | J12: 2080 | K12: =VLOOKUP(A12,집배구수!$A$5:$G$42,6,FALSE) -> 82 | L12: =VLOOKUP(K12,$R$6:$S$12,2,1) -> 6 | N12: =SUM(L12:M12) -> 6 | P12: =ROUNDUP(N12*60240/1000*5,-1)+O12 -> 1810 | Q12: - 120구 이상 : 12명 | R12: 120 | S12: 12
A13: 해운대 | B13: 4960 | C13: 3400 | D13: 3510 | E13: 3490 | F13: 3220 | H13: 3480 | I13: 3630 | J13: 3370 | K13: =VLOOKUP(A13,집배구수!$A$5:$G$42,6,FALSE) -> 112 | L13: =VLOOKUP(K13,$R$6:$S$12,2,1) -> 10 | M13: 5 | N13: =SUM(L13:M13) -> 15 | P13: =ROUNDUP(N13*60240/1000*5,-1)+O13 -> 4520 | R13: 시급 | S13: 7530
A14: 북부산 | B14: 1460 | C14: 1300 | D14: 1510 | E14: 1340 | F14: 1080 | G14: 1160 | H14: 1160 | I14: 1040 | J14: 1560 | K14: =VLOOKUP(A14,집배구수!$A$5:$G$42,6,FALSE) -> 60 | L14: =VLOOKUP(K14,$R$6:$S$12,2,1) -> 4 | N14: =SUM(L14:M14) -> 4 | P14: =ROUNDUP(N14*60240/1000*5,-1)+O14 -> 1210 | Q14: o 총괄국 : 집배부하, 소요 등에 따른 추가배정 | R14: 일급 | S14: =S13*8 -> 60240
A15: 부산연제 | B15: 1170 | C15: 1300 | D15: 1260 | E15: 1080 | F15: 1080 | G15: 1160 | H15: 1160 | I15: 1040 | J15: 1560 | K15: =VLOOKUP(A15,집배구수!$A$5:$G$42,6,FALSE) -> 56 | L15: =VLOOKUP(K15,$R$6:$S$12,2,1) -> 4 | N15: =SUM(L15:M15) -> 4 | O15: 600 | P15: =ROUNDUP(N15*60240/1000*5,-1)+O15 -> 1810 | Q15: o 집중국 : 규모 및 물량 반영
A16: 동부산 | B16: 590 | C16: 800 | D16: 510 | E16: 540 | F16: 540 | G16: 580 | H16: 1160 | I16: 1040 | J16: 1560 | K16: =VLOOKUP(A16,집배구수!$A$5:$G$42,6,FALSE) -> 43 | L16: =VLOOKUP(K16,$R$6:$S$12,2,1) -> 0 | N16: =SUM(L16:M16) -> 0 | O16: 1270 | P16: =ROUNDUP(N16*60240/1000*5,-1)+O16 -> 1270 | Q16: o 우체국 5일, 집중국 12일 기준, 8시간제: 60,240원
A17: 부산영도 | B17: 880 | C17: 800 | D17: 760 | E17: 270 | F17: 270 | G17: 0 | H17: 1160 | I17: 1040 | J17: 1040 | K17: =VLOOKUP(A17,집배구수!$A$5:$G$42,6,FALSE) -> 36 | L17: =VLOOKUP(K17,$R$6:$S$12,2,1) -> 0 | M17: 2 | N17: =SUM(L17:M17) -> 2 | P17: =ROUNDUP(N17*60240/1000*5,-1)+O17 -> 610
A18: 울산 | B18: 4380 | C18: 3700 | D18: 4510 | E18: 4560 | F18: 4290 | G18: 10280 | H18: 4060 | I18: 4150 | J18: 5180 | K18: =VLOOKUP(A18,집배구수!$A$5:$G$42,6,FALSE) -> 138 | L18: =VLOOKUP(K18,$R$6:$S$12,2,1) -> 12 | M18: 6 | N18: =SUM(L18:M18) -> 18 | P18: =ROUNDUP(N18*60240/1000*5,-1)+O18 -> 5430
A19: 남울산 | B19: 4090 | C19: 3700 | D19: 4260 | E19: 4290 | F19: 4020 | G19: 5210 | H19: 3770 | I19: 3890 | J19: 4400 | K19: =VLOOKUP(A19,집배구수!$A$5:$G$42,6,FALSE) -> 127 | L19: =VLOOKUP(K19,$R$6:$S$12,2,1) -> 12 | M19: 4 | N19: =SUM(L19:M19) -> 16 | P19: =ROUNDUP(N19*60240/1000*5,-1)+O19 -> 4820
A20: 마산 | B20: 1460 | C20: 1000 | D20: 1260 | E20: 1080 | F20: 1080 | G20: 1160 | H20: 870 | I20: 780 | J20: 1560 | K20: =VLOOKUP(A20,집배구수!$A$5:$G$42,6,FALSE) -> 51 | L20: =VLOOKUP(K20,$R$6:$S$12,2,1) -> 4 | N20: =SUM(L20:M20) -> 4 | O20: 240 | P20: =ROUNDUP(N20*60240/1000*5,-1)+O20 -> 1450
A21: 진주 | B21: 3210 | C21: 2400 | D21: 2260 | E21: 2420 | F21: 2420 | G21: 2610 | H21: 2900 | I21: 2590 | J21: 2590 | K21: =VLOOKUP(A21,집배구수!$A$5:$G$42,6,FALSE) -> 113 | L21: =VLOOKUP(K21,$R$6:$S$12,2,1) -> 10 | N21: =SUM(L21:M21) -> 10 | P21: =ROUNDUP(N21*60240/1000*5,-1)+O21 -> 3020
A22: 진해 | B22: 1170 | C22: 500 | D22: 1260 | E22: 1340 | F22: 1080 | G22: 870 | H22: 580 | I22: 520 | J22: 1040 | K22: =VLOOKUP(A22,집배구수!$A$5:$G$42,6,FALSE) -> 48 | L22: =VLOOKUP(K22,$R$6:$S$12,2,1) -> 0 | N22: =SUM(L22:M22) -> 0 | O22: 500 | P22: =ROUNDUP(N22*60240/1000*5,-1)+O22 -> 500
A23: 창원 | B23: 4380 | C23: 3700 | D23: 3010 | E23: 3220 | F23: 4290 | G23: 4080 | H23: 4060 | I23: 3630 | J23: 3110 | K23: =VLOOKUP(A23,집배구수!$A$5:$G$42,6,FALSE) -> 138 | L23: =VLOOKUP(K23,$R$6:$S$12,2,1) -> 12 | M23: 6 | N23: =SUM(L23:M23) -> 18 | P23: =ROUNDUP(N23*60240/1000*5,-1)+O23 -> 5430
A24: 김해 | B24: 4380 | C24: 4000 | D24: 4510 | E24: 4560 | F24: 4290 | G24: 5210 | H24: 4060 | I24: 3110 | J24: 4150 | K24: =VLOOKUP(A24,집배구수!$A$5:$G$42,6,FALSE) -> 136 | L24: =VLOOKUP(K24,$R$6:$S$12,2,1) -> 12 | N24: =SUM(L24:M24) -> 12 | O24: 2180 | P24: =ROUNDUP(N24*60240/1000*5,-1)+O24 -> 5800
A25: 양산 | B25: 2340 | C25: 1800 | D25: 2760 | E25: 2150 | F25: 1880 | G25: 2610 | H25: 2320 | I25: 1560 | J25: 3110 | K25: =VLOOKUP(A25,집배구수!$A$5:$G$42,6,FALSE) -> 82 | L25: =VLOOKUP(K25,$R$6:$S$12,2,1) -> 6 | M25: 5 | N25: =SUM(L25:M25) -> 11 | P25: =ROUNDUP(N25*60240/1000*5,-1)+O25 -> 3320
A26: 거제 | B26: 2050 | C26: 1300 | D26: 2260 | E26: 2420 | F26: 2150 | G26: 2320 | H26: 2320 | I26: 2080 | J26: 2590 | K26: =VLOOKUP(A26,집배구수!$A$5:$G$42,6,FALSE) -> 78 | L26: =VLOOKUP(K26,$R$6:$S$12,2,1) -> 6 | M26: 3 | N26: =SUM(L26:M26) -> 9 | P26: =ROUNDUP(N26*60240/1000*5,-1)+O26 -> 2720
A27: 통영 | B27: 590 | C27: 800 | D27: 1010 | E27: 1080 | F27: 1080 | G27: 1160 | H27: 1160 | I27: 1040 | J27: 1560 | K27: =VLOOKUP(A27,집배구수!$A$5:$G$42,6,FALSE) -> 62 | L27: =VLOOKUP(K27,$R$6:$S$12,2,1) -> 4 | N27: =SUM(L27:M27) -> 4 | O27: 600 | P27: =ROUNDUP(N27*60240/1000*5,-1)+O27 -> 1810
A28: 부산강서 | B28: 1170 | C28: 800 | D28: 1260 | E28: 2420 | F28: 2150 | G28: 3960 | H28: 2320 | I28: 2080 | J28: 2080 | K28: =VLOOKUP(A28,집배구수!$A$5:$G$42,6,FALSE) -> 50 | L28: =VLOOKUP(K28,$R$6:$S$12,2,1) -> 4 | M28: 4 | N28: =SUM(L28:M28) -> 8 | P28: =ROUNDUP(N28*60240/1000*5,-1)+O28 -> 2410
A29: 기장 | B29: 1760 | C29: 800 | D29: 1260 | E29: 2150 | F29: 2150 | G29: 1740 | H29: 2320 | I29: 2590 | J29: 3630 | K29: =VLOOKUP(A29,집배구수!$A$5:$G$42,6,FALSE) -> 45 | L29: =VLOOKUP(K29,$R$6:$S$12,2,1) -> 0 | M29: 4 | N29: =SUM(L29:M29) -> 4 | O29: 1300 | P29: =ROUNDUP(N29*60240/1000*5,-1)+O29 -> 2510
A30: 동울산 | B30: 1170 | C30: 1000 | D30: 1010 | E30: 1610 | F30: 1340 | G30: 870 | H30: 580 | I30: 520 | J30: 1560 | K30: =VLOOKUP(A30,집배구수!$A$5:$G$42,6,FALSE) -> 43 | L30: =VLOOKUP(K30,$R$6:$S$12,2,1) -> 0 | N30: =SUM(L30:M30) -> 0 | O30: 500 | P30: =ROUNDUP(N30*60240/1000*5,-1)+O30 -> 500
A31: 거창 | B31: 0 | C31: 500 | D31: 0 | E31: 0 | F31: 270 | G31: 0 | H31: 580 | I31: 3110 | J31: 3370 | K31: =VLOOKUP(A31,집배구수!$A$5:$G$42,6,FALSE) -> 37 | L31: =VLOOKUP(K31,$R$6:$S$12,2,1) -> 0 | N31: =SUM(L31:M31) -> 0 | P31: =ROUNDUP(N31*60240/1000*5,-1)+O31 -> 0
A32: 고성 | B32: 0 | C32: 0 | D32: 0 | E32: 0 | F32: 0 | G32: 0 | H32: 0 | I32: 0 | J32: 0 | K32: =VLOOKUP(A32,집배구수!$A$5:$G$42,6,FALSE) -> 35 | L32: =VLOOKUP(K32,$R$6:$S$12,2,1) -> 0 | N32: =SUM(L32:M32) -> 0 | P32: =ROUNDUP(N32*60240/1000*5,-1)+O32 -> 0
A33: 남해 | B33: 0 | C33: 0 | D33: 0 | E33: 0 | F33: 0 | G33: 0 | H33: 0 | I33: 0 | J33: 0 | K33: =VLOOKUP(A33,집배구수!$A$5:$G$42,6,FALSE) -> 30 | L33: =VLOOKUP(K33,$R$6:$S$12,2,1) -> 0 | N33: =SUM(L33:M33) -> 0 | P33: =ROUNDUP(N33*60240/1000*5,-1)+O33 -> 0
A34: 마산합포 | B34: 590 | C34: 1000 | D34: 1010 | E34: 1080 | F34: 1080 | G34: 1160 | H34: 1160 | I34: 1040 | J34: 1040 | K34: =VLOOKUP(A34,집배구수!$A$5:$G$42,6,FALSE) -> 56 | L34: =VLOOKUP(K34,$R$6:$S$12,2,1) -> 4 | N34: =SUM(L34:M34) -> 4 | P34: =ROUNDUP(N34*60240/1000*5,-1)+O34 -> 1210
A35: 밀양 | B35: 590 | C35: 500 | D35: 510 | E35: 540 | F35: 1080 | G35: 1580 | H35: 1450 | I35: 1300 | J35: 2080 | K35: =VLOOKUP(A35,집배구수!$A$5:$G$42,6,FALSE) -> 52 | L35: =VLOOKUP(K35,$R$6:$S$12,2,1) -> 4 | N35: =SUM(L35:M35) -> 4 | O35: 1200 | P35: =ROUNDUP(N35*60240/1000*5,-1)+O35 -> 2410
A36: 사천 | B36: 590 | C36: 500 | D36: 510 | E36: 540 | F36: 540 | G36: 580 | H36: 580 | I36: 520 | J36: 1040 | K36: =VLOOKUP(A36,집배구수!$A$5:$G$42,6,FALSE) -> 49 | L36: =VLOOKUP(K36,$R$6:$S$12,2,1) -> 0 | N36: =SUM(L36:M36) -> 0 | O36: 730 | P36: =ROUNDUP(N36*60240/1000*5,-1)+O36 -> 730
A37: 산청 | B37: 0 | C37: 0 | D37: 0 | E37: 0 | F37: 0 | G37: 0 | H37: 0 | I37: 520 | J37: 0 | K37: =VLOOKUP(A37,집배구수!$A$5:$G$42,6,FALSE) -> 27 | L37: =VLOOKUP(K37,$R$6:$S$12,2,1) -> 0 | N37: =SUM(L37:M37) -> 0 | P37: =ROUNDUP(N37*60240/1000*5,-1)+O37 -> 0
A38: 의령 | B38: 0 | C38: 0 | D38: 0 | E38: 0 | F38: 0 | G38: 0 | H38: 0 | I38: 0 | J38: 0 | K38: =VLOOKUP(A38,집배구수!$A$5:$G$42,6,FALSE) -> 21 | L38: =VLOOKUP(K38,$R$6:$S$12,2,1) -> 0 | N38: =SUM(L38:M38) -> 0 | P38: =ROUNDUP(N38*60240/1000*5,-1)+O38 -> 0
A39: 창녕 | B39: 0 | C39: 0 | D39: 0 | E39: 0 | F39: 0 | G39: 0 | H39: 0 | I39: 0 | J39: 0 | K39: =VLOOKUP(A39,집배구수!$A$5:$G$42,6,FALSE) -> 32 | L39: =VLOOKUP(K39,$R$6:$S$12,2,1) -> 0 | N39: =SUM(L39:M39) -> 0 | P39: =ROUNDUP(N39*60240/1000*5,-1)+O39 -> 0
A40: 하동 | B40: 0 | C40: 0 | D40: 0 | E40: 0 | F40: 0 | G40: 0 | H40: 0 | I40: 520 | J40: 520 | K40: =VLOOKUP(A40,집배구수!$A$5:$G$42,6,FALSE) -> 37 | L40: =VLOOKUP(K40,$R$6:$S$12,2,1) -> 0 | N40: =SUM(L40:M40) -> 0 | P40: =ROUNDUP(N40*60240/1000*5,-1)+O40 -> 0
A41: 함안 | B41: 0 | C41: 0 | D41: 0 | E41: 0 | F41: 0 | G41: 0 | H41: 0 | I41: 0 | J41: 0 | K41: =VLOOKUP(A41,집배구수!$A$5:$G$42,6,FALSE) -> 33 | L41: =VLOOKUP(K41,$R$6:$S$12,2,1) -> 0 | N41: =SUM(L41:M41) -> 0 | P41: =ROUNDUP(N41*60240/1000*5,-1)+O41 -> 0
...

Sheet 일반수용비
A1: 일반수용비 산출내역
A3: 국명 | B3: 전년도 배정액 | K3: 집배구수 | L3: 배정액 (단위:천원) | P3: <배정기준>
B4: 14설 | C4: 13추석 | D4: 14추석 | E4: 15설 | F4: 15추석 | G4: 16설 | H4: 16추석 | I4: 17설 | J4: 17추석 | L4: 소통용품 | M4: 중간 보관소등 | N4: 비정규직 기념품 | O4: 계
A5: 합 계 | B5: =SUM(B6:B47) -> 113000 | C5: =SUM(C6:C47) -> 91600 | D5: =SUM(D6:D47) -> 110690 | E5: =SUM(E6:E47) -> 122990 | F5: =SUM(F6:F47) -> 130650 | G5: =SUM(G6:G47) -> 78700 | H5: =SUM(H6:H47) -> 138280 | I5: =SUM(I6:I47) -> 83810 | K5: =SUM(K6:K47) -> 3044 | L5: =SUM(L6:L47) -> 53140 | M5: =SUM(M6:M47) -> 37335 | N5: =SUM(N6:N47) -> 14200 | O5: =SUM(O6:O47) -> 104700
A6: 부산진 | B6: 2950 | C6: 2700 | D6: 2790 | E6: 3350 | F6: 3480 | G6: 3640 | H6: 4160 | I6: 3120 | J6: 4120 | K6: =VLOOKUP(A6,집배구수!$A$5:$G$42,6,FALSE) -> 103 | L6: =K6*15 -> 1545 | M6: =K6*15 -> 1545 | O6: =ROUNDDOWN(L6+M6+N6,-2)+1000 -> 4000 | P6: o 소통용품 구입
A7: 부산 | B7: 1830 | C7: 1700 | D7: 1800 | E7: 2130 | F7: 2130 | G7: 1420 | H7: 2800 | I7: 2100 | J7: 2800 | K7: =VLOOKUP(A7,집배구수!$A$5:$G$42,6,FALSE) -> 69 | L7: =K7*15 -> 1035 | M7: =K7*15 -> 1035 | O7: =ROUNDDOWN(L7+M7+N7,-2) -> 2000 | P7: - 우체국 : 집배구수 * 20천원
A8: 동래 | B8: 1930 | C8: 1800 | D8: 1880 | E8: 2250 | F8: 2240 | G8: 1480 | H8: 2880 | I8: 2100 | J8: 2760 | K8: =VLOOKUP(A8,집배구수!$A$5:$G$42,6,FALSE) -> 71 | L8: =K8*15 -> 1065 | M8: =K8*15 -> 1065 | O8: =ROUNDDOWN(L8+M8+N8,-2) -> 2100 | P8: - 집중국 : 규모반영
A9: 남부산 | B9: 3300 | C9: 3000 | D9: 3100 | E9: 3700 | F9: 3750 | G9: 2540 | H9: 4680 | I9: 3510 | J9: 5480 | K9: =VLOOKUP(A9,집배구수!$A$5:$G$42,6,FALSE) -> 117 | L9: =K9*15 -> 1755 | M9: =K9*15 -> 1755 | O9: =ROUNDDOWN(L9+M9+N9,-2) -> 3500
A10: 부산사상 | B10: 1900 | C10: 1700 | D10: 1910 | E10: 2220 | F10: 2280 | G10: 1500 | H10: 2880 | I10: 2160 | J10: 2880 | K10: =VLOOKUP(A10,집배구수!$A$5:$G$42,6,FALSE) -> 71 | L10: =K10*15 -> 1065 | M10: =K10*15 -> 1065 | O10: =ROUNDDOWN(L10+M10+N10,-2) -> 2100 | P10: o 중간보관소 및 일괄배달처(집배구당), 위탁구제외
A11: 부산금정 | B11: 1850 | C11: 1700 | D11: 1780 | E11: 2120 | F11: 2220 | G11: 1500 | H11: 2800 | I11: 2100 | J11: 2800 | K11: =VLOOKUP(A11,집배구수!$A$5:$G$42,6,FALSE) -> 70 | L11: =K11*15 -> 1050 | M11: =K11*15 -> 1050 | O11: =ROUNDDOWN(L11+M11+N11,-2) -> 2100 | P11: - 도시지역 15천원, 농어촌 지역 10천원
A12: 부산사하 | B12: 2380 | C12: 2200 | D12: 2180 | E12: 2600 | F12: 5760 | G12: 1840 | H12: 3280 | I12: 2460 | J12: 3280 | K12: =VLOOKUP(A12,집배구수!$A$5:$G$42,6,FALSE) -> 82 | L12: =K12*15 -> 1230 | M12: =K12*15 -> 1230 | O12: =ROUNDDOWN(L12+M12+N12,-2) -> 2400
A13: 해운대 | B13: 3080 | C13: 2800 | D13: 2920 | E13: 3510 | F13: 3710 | H13: 4440 | I13: 3300 | J13: 4440 | K13: =VLOOKUP(A13,집배구수!$A$5:$G$42,6,FALSE) -> 112 | L13: =K13*15 -> 1680 | M13: =K13*15 -> 1680 | O13: =ROUNDDOWN(L13+M13+N13,-2) -> 3300 | P13: o 집중국 우정실무원 기념품 : 인당 25천원
A14: 북부산 | B14: 1780 | C14: 1600 | D14: 1640 | E14: 1940 | F14: 2130 | G14: 1420 | H14: 2400 | I14: 1800 | J14: 2400 | K14: =VLOOKUP(A14,집배구수!$A$5:$G$42,6,FALSE) -> 60 | L14: =K14*15 -> 900 | M14: =K14*15 -> 900 | O14: =ROUNDDOWN(L14+M14+N14,-2) -> 1800
A15: 부산연제 | B15: 1730 | C15: 1600 | D15: 1590 | E15: 1890 | F15: 1980 | G15: 1300 | H15: 2360 | I15: 1680 | J15: 2240 | K15: =VLOOKUP(A15,집배구수!$A$5:$G$42,6,FALSE) -> 56 | L15: =K15*15 -> 840 | M15: =K15*15 -> 840 | O15: =ROUNDDOWN(L15+M15+N15,-2) -> 1600
A16: 동부산 | B16: 1150 | C16: 1100 | D16: 1050 | E16: 1380 | F16: 1350 | G16: 900 | H16: 1760 | I16: 1320 | J16: 1720 | K16: =VLOOKUP(A16,집배구수!$A$5:$G$42,6,FALSE) -> 43 | L16: =K16*15 -> 645 | M16: =K16*15 -> 645 | O16: =ROUNDDOWN(L16+M16+N16,-2) -> 1200
A17: 부산영도 | B17: 1030 | C17: 900 | D17: 930 | E17: 1110 | F17: 1170 | G17: 780 | H17: 1440 | I17: 1080 | J17: 1940 | K17: =VLOOKUP(A17,집배구수!$A$5:$G$42,6,FALSE) -> 36 | L17: =K17*15 -> 540 | M17: =K17*15 -> 540 | O17: =ROUNDDOWN(L17+M17+N17,-2) -> 1000
A18: 울산 | B18: 3530 | C18: 3200 | D18: 3400 | E18: 4100 | F18: 4350 | G18: 2920 | H18: 5280 | I18: 3960 | J18: 5400 | K18: =VLOOKUP(A18,집배구수!$A$5:$G$42,6,FALSE) -> 138 | L18: =K18*15 -> 2070 | M18: =K18*15 -> 2070 | O18: =ROUNDDOWN(L18+M18+N18,-2) -> 4100
A19: 남울산 | B19: 3630 | C19: 3300 | D19: 3350 | E19: 4020 | F19: 4240 | G19: 2820 | H19: 5280 | I19: 3750 | J19: 5040 | K19: =VLOOKUP(A19,집배구수!$A$5:$G$42,6,FALSE) -> 127 | L19: =K19*15 -> 1905 | M19: =K19*15 -> 1905 | O19: =ROUNDDOWN(L19+M19+N19,-2) -> 3800
A20: 마산 | B20: 1530 | C20: 1400 | D20: 1390 | E20: 1650 | F20: 1790 | G20: 1200 | H20: 2120 | I20: 1530 | J20: 2040 | K20: =VLOOKUP(A20,집배구수!$A$5:$G$42,6,FALSE) -> 51 | L20: =K20*15 -> 765 | M20: =K20*15 -> 765 | O20: =ROUNDDOWN(L20+M20+N20,-2) -> 1500
A21: 진주 | B21: 2980 | C21: 2700 | D21: 2950 | E21: 3540 | F21: 3480 | G21: 2360 | H21: 4600 | I21: 3420 | J21: 4520 | K21: =VLOOKUP(A21,집배구수!$A$5:$G$42,6,FALSE) -> 113 | L21: =K21*15 -> 1695 | M21: =K21*15 -> 1695 | O21: =ROUNDDOWN(L21+M21+N21,-2) -> 3300
A22: 진해 | B22: 1280 | C22: 1200 | D22: 1250 | E22: 1500 | F22: 1520 | G22: 1040 | H22: 1960 | I22: 1380 | J22: 1880 | K22: =VLOOKUP(A22,집배구수!$A$5:$G$42,6,FALSE) -> 48 | L22: =K22*15 -> 720 | M22: =K22*15 -> 720 | O22: =ROUNDDOWN(L22+M22+N22,-2) -> 1400
A23: 창원 | B23: 4030 | C23: 3700 | D23: 3800 | E23: 4530 | F23: 4440 | G23: 2980 | H23: 5520 | I23: 4110 | J23: 5520 | K23: =VLOOKUP(A23,집배구수!$A$5:$G$42,6,FALSE) -> 138 | L23: =K23*15 -> 2070 | M23: =K23*15 -> 2070 | O23: =ROUNDDOWN(L23+M23+N23,-2) -> 4100
A24: 김해 | B24: 3980 | C24: 3700 | D24: 3640 | E24: 4650 | F24: 4820 | G24: 3200 | H24: 5680 | I24: 4020 | J24: 5400 | K24: =VLOOKUP(A24,집배구수!$A$5:$G$42,6,FALSE) -> 136 | L24: =K24*15 -> 2040 | M24: =K24*15 -> 2040 | O24: =ROUNDDOWN(L24+M24+N24,-2) -> 4000
A25: 양산 | B25: 2100 | C25: 1900 | D25: 2180 | E25: 2570 | F25: 2480 | G25: 1620 | H25: 3320 | I25: 2280 | J25: 3160 | K25: =VLOOKUP(A25,집배구수!$A$5:$G$42,6,FALSE) -> 82 | L25: =K25*15 -> 1230 | M25: =K25*15 -> 1230 | O25: =ROUNDDOWN(L25+M25+N25,-2)+1000 -> 3400
A26: 거제 | B26: 1830 | C26: 1600 | D26: 1850 | E26: 2220 | F26: 2250 | G26: 1520 | H26: 3160 | I26: 2310 | J26: 3080 | K26: =VLOOKUP(A26,집배구수!$A$5:$G$42,6,FALSE) -> 78 | L26: =K26*15 -> 1170 | M26: =K26*15 -> 1170 | O26: =ROUNDDOWN(L26+M26+N26,-2) -> 2300
A27: 통영 | B27: 1580 | C27: 1300 | D27: 1890 | E27: 1860 | F27: 1840 | G27: 1220 | H27: 2480 | I27: 1860 | J27: 2480 | K27: =VLOOKUP(A27,집배구수!$A$5:$G$42,6,FALSE) -> 62 | L27: =K27*15 -> 930 | M27: =K27*15 -> 930 | O27: =ROUNDDOWN(L27+M27+N27,-2) -> 1800
A28: 부산강서 | B28: 930 | C28: 800 | D28: 980 | E28: 1200 | F28: 1320 | G28: 920 | H28: 1880 | I28: 1440 | J28: 1960 | K28: =VLOOKUP(A28,집배구수!$A$5:$G$42,6,FALSE) -> 50 | L28: =K28*15 -> 750 | M28: =K28*15 -> 750 | O28: =ROUNDDOWN(L28+M28+N28,-2) -> 1500
A29: 기장 | B29: 850 | C29: 800 | D29: 850 | E29: 1110 | F29: 1200 | G29: 820 | H29: 1720 | I29: 1230 | J29: 2180 | K29: =VLOOKUP(A29,집배구수!$A$5:$G$42,6,FALSE) -> 45 | L29: =K29*15 -> 675 | M29: =K29*15 -> 675 | O29: =ROUNDDOWN(L29+M29+N29,-2) -> 1300
A30: 동울산 | B30: 1180 | C30: 1000 | D30: 1170 | E30: 1390 | F30: 1420 | G30: 940 | H30: 1680 | I30: 1260 | J30: 1680 | K30: =VLOOKUP(A30,집배구수!$A$5:$G$42,6,FALSE) -> 43 | L30: =K30*15 -> 645 | M30: =K30*15 -> 645 | O30: =ROUNDDOWN(L30+M30+N30,-2) -> 1200
A31: 거창 | B31: 600 | C31: 800 | D31: 600 | E31: 570 | F31: 560 | G31: 190 | H31: 930 | I31: 930 | J31: 1300 | K31: =VLOOKUP(A31,집배구수!$A$5:$G$42,6,FALSE) -> 37 | L31: =K31*15 -> 555 | M31: =K31*10 -> 370 | O31: =ROUNDDOWN(L31+M31+N31,-2) -> 900
A32: 고성 | B32: 560 | C32: 800 | D32: 510 | E32: 530 | F32: 530 | G32: 180 | H32: 880 | I32: 880 | J32: 1230 | K32: =VLOOKUP(A32,집배구수!$A$5:$G$42,6,FALSE) -> 35 | L32: =K32*15 -> 525 | M32: =K32*10 -> 350 | O32: =ROUNDDOWN(L32+M32+N32,-2) -> 800
A33: 남해 | B33: 480 | C33: 700 | D33: 480 | E33: 470 | F33: 470 | G33: 160 | H33: 750 | I33: 750 | J33: 1050 | K33: =VLOOKUP(A33,집배구수!$A$5:$G$42,6,FALSE) -> 30 | L33: =K33*15 -> 450 | M33: =K33*10 -> 300 | O33: =ROUNDDOWN(L33+M33+N33,-2) -> 700
A34: 마산합포 | B34: 1580 | C34: 1500 | D34: 1830 | E34: 1830 | F34: 1830 | G34: 1220 | H34: 2320 | I34: 1740 | J34: 2280 | K34: =VLOOKUP(A34,집배구수!$A$5:$G$42,6,FALSE) -> 56 | L34: =K34*15 -> 840 | M34: =K34*15 -> 840 | O34: =ROUNDDOWN(L34+M34+N34,-2) -> 1600
A35: 밀양 | B35: 1350 | C35: 1100 | D35: 1590 | E35: 1560 | F35: 1560 | G35: 1040 | H35: 2080 | I35: 1560 | J35: 2080 | K35: =VLOOKUP(A35,집배구수!$A$5:$G$42,6,FALSE) -> 52 | L35: =K35*15 -> 780 | M35: =K35*15 -> 780 | O35: =ROUNDDOWN(L35+M35+N35,-2) -> 1500
A36: 사천 | B36: 1300 | C36: 1000 | D36: 780 | E36: 800 | F36: 760 | G36: 250 | H36: 1250 | I36: 1470 | J36: 1960 | K36: =VLOOKUP(A36,집배구수!$A$5:$G$42,6,FALSE) -> 49 | L36: =K36*15 -> 735 | M36: =K36*15 -> 735 | O36: =ROUNDDOWN(L36+M36+N36,-2) -> 1400
A37: 산청 | B37: 450 | C37: 600 | D37: 440 | E37: 440 | F37: 420 | G37: 140 | H37: 700 | I37: 700 | J37: 1080 | K37: =VLOOKUP(A37,집배구수!$A$5:$G$42,6,FALSE) -> 27 | L37: =K37*15 -> 405 | M37: =K37*15 -> 405 | O37: =ROUNDDOWN(L37+M37+N37,-2) -> 800
A38: 의령 | B38: 380 | C38: 500 | D38: 350 | E38: 350 | F38: 320 | G38: 110 | H38: 530 | I38: 530 | J38: 740 | K38: =VLOOKUP(A38,집배구수!$A$5:$G$42,6,FALSE) -> 21 | L38: =K38*15 -> 315 | M38: =K38*10 -> 210 | O38: =ROUNDDOWN(L38+M38+N38,-2) -> 500
A39: 창녕 | B39: 530 | C39: 700 | D39: 500 | E39: 500 | F39: 500 | G39: 170 | H39: 800 | I39: 800 | J39: 1120 | K39: =VLOOKUP(A39,집배구수!$A$5:$G$42,6,FALSE) -> 32 | L39: =K39*15 -> 480 | M39: =K39*10 -> 320 | O39: =ROUNDDOWN(L39+M39+N39,-2) -> 800
A40: 하동 | B40: 600 | C40: 800 | D40: 590 | E40: 560 | F40: 560 | G40: 190 | H40: 930 | I40: 930 | J40: 1300 | K40: =VLOOKUP(A40,집배구수!$A$5:$G$42,6,FALSE) -> 37 | L40: =K40*15 -> 555 | M40: =K40*10 -> 370 | O40: =ROUNDDOWN(L40+M40+N40,-2) -> 900
A41: 함안 | B41: 480 | C41: 700 | D41: 470 | E41: 480 | F41: 480 | G41: 160 | H41: 800 | I41: 800 | J41: 1160 | K41: =VLOOKUP(A41,집배구수!$A$5:$G$42,6,FALSE) -> 33 | L41: =K41*15 -> 495 | M41: =K41*10 -> 330 | O41: =ROUNDDOWN(L41+M41+N41,-2) -> 800
...

Sheet 특근매식비
A1: 특근매식비 산출내역
O2: (단위 : 천원)
A3: 국명 | B3: 전년도 배정액 | K3: 배정인원 | N3: 배정액 (천원) | O3: <배정기준>
B4: 14설 | C4: 13추석 | D4: 14추석 | E4: 15설 | F4: 15추석 | G4: 16설 | H4: 16추석 | I4: 17설 | J4: 17추석 | K4: 집배구수 | L4: 발착인원 | M4: 계
A5: 합 계 | B5: =SUM(B6:B47) -> 80040 | C5: =SUM(C6:C47) -> 57700 | D5: =SUM(D6:D47) -> 74760 | E5: =SUM(E6:E47) -> 87220 | F5: =SUM(F6:F47) -> 85380 | G5: =SUM(G6:G47) -> 81548 | H5: =SUM(H6:H47) -> 96919 | I5: =SUM(I6:I47) -> 85760 | ... N5: =SUM(N6:N47) -> 103950
A6: 부산진 | B6: 2440 | C6: 1600 | D6: 2220 | E6: 2240 | F6: 2200 | G6: 2420 | H6: 2783 | I6: 2390 | J6: 3270 | K6: =VLOOKUP(A6,집배구수!$A$5:$G$42,6,FALSE) -> 103 | L6: =VLOOKUP(A6,집배구수!$A$5:$G$42,7,FALSE) -> 6 | M6: =SUM(K6:L6) -> 109 | N6: =ROUND(M6*6*4,-2) -> 2600 | O6: o 총괄국
A7: 부산 | B7: 1640 | C7: 1200 | D7: 0 | E7: 1620 | F7: 1580 | G7: 1738 | H7: 1794 | I7: 1710 | J7: 2340 | K7: =VLOOKUP(A7,집배구수!$A$5:$G$42,6,FALSE) -> 69 | L7: =VLOOKUP(A7,집배구수!$A$5:$G$42,7,FALSE) -> 8 | M7: =SUM(K7:L7) -> 77 | N7: =ROUND(M7*6*4,-2) -> 1800 | O7: - 인당 6천원(4일)
A8: 동래 | B8: 1700 | C8: 1200 | D8: 0 | E8: 1640 | F8: 1620 | G8: 1826 | H8: 1932 | I8: 1690 | J8: 2280 | K8: =VLOOKUP(A8,집배구수!$A$5:$G$42,6,FALSE) -> 71 | L8: =VLOOKUP(A8,집배구수!$A$5:$G$42,7,FALSE) -> 7 | M8: =SUM(K8:L8) -> 78 | N8: =ROUND(M8*6*4,-2) -> 1900 | O8: - 산출인원 : 집배구수+발착(소포위탁제외)
A9: 남부산 | B9: 2820 | C9: 2000 | E9: 2600 | F9: 2480 | G9: 2794 | H9: 3128 | I9: 2790 | J9: 3810 | K9: =VLOOKUP(A9,집배구수!$A$5:$G$42,6,FALSE) -> 117 | L9: =VLOOKUP(A9,집배구수!$A$5:$G$42,7,FALSE) -> 11 | M9: =SUM(K9:L9) -> 128 | N9: =ROUND(M9*6*4,-2) -> 3100
A10: 부산사상 | B10: 1640 | C10: 1200 | E10: 1560 | F10: 1600 | G10: 1716 | H10: 1817 | I10: 1670 | J10: 2340 | K10: =VLOOKUP(A10,집배구수!$A$5:$G$42,6,FALSE) -> 71 | L10: =VLOOKUP(A10,집배구수!$A$5:$G$42,7,FALSE) -> 8 | M10: =SUM(K10:L10) -> 79 | N10: =ROUND(M10*6*4,-2) -> 1900 | O10: o 집중국 : 인당 6천원 (6일)
A11: 부산금정 | B11: 1640 | C11: 1100 | D11: 1540 | E11: 1520 | F11: 1500 | G11: 1672 | H11: 1863 | I11: 1690 | J11: 2280 | K11: =VLOOKUP(A11,집배구수!$A$5:$G$42,6,FALSE) -> 70 | L11: =VLOOKUP(A11,집배구수!$A$5:$G$42,7,FALSE) -> 6 | M11: =SUM(K11:L11) -> 76 | N11: =ROUND(M11*6*4,-2) -> 1800 | O11: - 정규+우정실무원+특별채용인원
A12: 부산사하 | B12: 2000 | C12: 1300 | D12: 1780 | E12: 1800 | F12: 1820 | G12: 1980 | H12: 2254 | I12: 1930 | J12: 2700 | K12: =VLOOKUP(A12,집배구수!$A$5:$G$42,6,FALSE) -> 82 | L12: =VLOOKUP(A12,집배구수!$A$5:$G$42,7,FALSE) -> 8 | M12: =SUM(K12:L12) -> 90 | N12: =ROUND(M12*6*4,-2) -> 2200
A13: 해운대 | B13: 2620 | C13: 1700 | D13: 2400 | E13: 2440 | F13: 2400 | H13: 3013 | I13: 2570 | J13: 3540 | K13: =VLOOKUP(A13,집배구수!$A$5:$G$42,6,FALSE) -> 112 | L13: =VLOOKUP(A13,집배구수!$A$5:$G$42,7,FALSE) -> 10 | M13: =SUM(K13:L13) -> 122 | N13: =ROUND(M13*6*4,-2) -> 2900
A14: 북부산 | B14: 1540 | C14: 1000 | D14: 1340 | E14: 1320 | F14: 1300 | G14: 1430 | H14: 1748 | I14: 1430 | J14: 1950 | K14: =VLOOKUP(A14,집배구수!$A$5:$G$42,6,FALSE) -> 60 | L14: =VLOOKUP(A14,집배구수!$A$5:$G$42,7,FALSE) -> 5 | M14: =SUM(K14:L14) -> 65 | N14: =ROUND(M14*6*4,-2) -> 1600
A15: 부산연제 | B15: 1520 | C15: 1000 | D15: 1340 | E15: 1380 | F15: 1320 | G15: 1474 | H15: 1725 | I15: 1380 | J15: 1890 | K15: =VLOOKUP(A15,집배구수!$A$5:$G$42,6,FALSE) -> 56 | L15: =VLOOKUP(A15,집배구수!$A$5:$G$42,7,FALSE) -> 7 | M15: =SUM(K15:L15) -> 63 | N15: =ROUND(M15*6*4,-2) -> 1500
A16: 동부산 | B16: 980 | C16: 700 | D16: 840 | E16: 1000 | F16: 980 | G16: 1078 | H16: 1104 | I16: 1050 | J16: 1380 | K16: =VLOOKUP(A16,집배구수!$A$5:$G$42,6,FALSE) -> 43 | L16: =VLOOKUP(A16,집배구수!$A$5:$G$42,7,FALSE) -> 3 | M16: =SUM(K16:L16) -> 46 | N16: =ROUND(M16*6*4,-2) -> 1100
A17: 부산영도 | B17: 880 | C17: 600 | D17: 780 | E17: 760 | F17: 760 | G17: 880 | H17: 966 | I17: 850 | J17: 1200 | K17: =VLOOKUP(A17,집배구수!$A$5:$G$42,6,FALSE) -> 36 | L17: =VLOOKUP(A17,집배구수!$A$5:$G$42,7,FALSE) -> 4 | M17: =SUM(K17:L17) -> 40 | N17: =ROUND(M17*6*4,-2) -> 1000
A18: 울산 | B18: 2980 | C18: 2000 | D18: 2760 | E18: 2820 | F18: 2820 | G18: 3234 | H18: 4680 | I18: 3120 | J18: 4350 | K18: =VLOOKUP(A18,집배구수!$A$5:$G$42,6,FALSE) -> 138 | L18: =VLOOKUP(A18,집배구수!$A$5:$G$42,7,FALSE) -> 10 | M18: =SUM(K18:L18) -> 148 | N18: =ROUND(M18*6*4,-2) -> 3600
A19: 남울산 | B19: 3000 | C19: 1900 | D19: 2660 | E19: 2740 | F19: 2760 | G19: 3080 | H19: 3588 | I19: 2900 | J19: 4020 | K19: =VLOOKUP(A19,집배구수!$A$5:$G$42,6,FALSE) -> 127 | L19: =VLOOKUP(A19,집배구수!$A$5:$G$42,7,FALSE) -> 8 | M19: =SUM(K19:L19) -> 135 | N19: =ROUND(M19*6*4,-2) -> 3200
A20: 마산 | B20: 1300 | C20: 800 | D20: 1120 | E20: 1140 | F20: 1120 | G20: 1276 | H20: 1541 | I20: 1230 | J20: 1710 | K20: =VLOOKUP(A20,집배구수!$A$5:$G$42,6,FALSE) -> 51 | L20: =VLOOKUP(A20,집배구수!$A$5:$G$42,7,FALSE) -> 6 | M20: =SUM(K20:L20) -> 57 | N20: =ROUND(M20*6*4,-2)+250 -> 1650
A21: 진주 | B21: 2560 | C21: 1800 | D21: 2540 | E21: 2540 | F21: 2460 | G21: 2750 | H21: 2990 | I21: 2770 | J21: 3720 | K21: =VLOOKUP(A21,집배구수!$A$5:$G$42,6,FALSE) -> 113 | L21: =VLOOKUP(A21,집배구수!$A$5:$G$42,7,FALSE) -> 11 | M21: =SUM(K21:L21) -> 124 | N21: =ROUND(M21*6*4,-2) -> 3000
A22: 진해 | B22: 1140 | C22: 700 | D22: 1080 | E22: 1120 | F22: 1140 | G22: 1254 | H22: 1449 | I22: 1180 | J22: 1650 | K22: =VLOOKUP(A22,집배구수!$A$5:$G$42,6,FALSE) -> 48 | L22: =VLOOKUP(A22,집배구수!$A$5:$G$42,7,FALSE) -> 8 | M22: =SUM(K22:L22) -> 56 | N22: =ROUND(M22*6*4,-2) -> 1300
A23: 창원 | B23: 3360 | C23: 2200 | D23: 3080 | E23: 3100 | F23: 2960 | G23: 3278 | H23: 3657 | I23: 3160 | J23: 4350 | K23: =VLOOKUP(A23,집배구수!$A$5:$G$42,6,FALSE) -> 138 | L23: =VLOOKUP(A23,집배구수!$A$5:$G$42,7,FALSE) -> 7 | M23: =SUM(K23:L23) -> 145 | N23: =ROUND(M23*6*4,-2) -> 3500
A24: 김해 | B24: 3440 | C24: 2000 | D24: 2960 | E24: 3320 | F24: 3100 | G24: 3454 | H24: 4209 | I24: 3270 | J24: 4530 | K24: =VLOOKUP(A24,집배구수!$A$5:$G$42,6,FALSE) -> 136 | L24: =VLOOKUP(A24,집배구수!$A$5:$G$42,7,FALSE) -> 16 | M24: =SUM(K24:L24) -> 152 | N24: =ROUND(M24*6*4,-2) -> 3600
A25: 양산 | B25: 1780 | C25: 1100 | D25: 1840 | E25: 1820 | F25: 1820 | G25: 2046 | H25: 2323 | I25: 1840 | J25: 2670 | K25: =VLOOKUP(A25,집배구수!$A$5:$G$42,6,FALSE) -> 82 | L25: =VLOOKUP(A25,집배구수!$A$5:$G$42,7,FALSE) -> 10 | M25: =SUM(K25:L25) -> 92 | N25: =ROUND(M25*6*4,-2) -> 2200
A26: 거제 | B26: 1560 | C26: 1100 | D26: 1580 | E26: 1580 | F26: 1640 | G26: 1848 | H26: 1978 | I26: 1840 | J26: 2550 | K26: =VLOOKUP(A26,집배구수!$A$5:$G$42,6,FALSE) -> 78 | L26: =VLOOKUP(A26,집배구수!$A$5:$G$42,7,FALSE) -> 8 | M26: =SUM(K26:L26) -> 86 | N26: =ROUND(M26*6*4,-2) -> 2100
A27: 통영 | B27: 1320 | C27: 700 | D27: 1320 | E27: 1320 | F27: 1300 | G27: 1430 | H27: 1495 | I27: 1430 | J27: 1950 | K27: =VLOOKUP(A27,집배구수!$A$5:$G$42,6,FALSE) -> 62 | L27: =VLOOKUP(A27,집배구수!$A$5:$G$42,7,FALSE) -> 3 | M27: =SUM(K27:L27) -> 65 | N27: =ROUND(M27*6*4,-2) -> 1600
A28: 부산강서 | B28: 780 | C28: 600 | D28: 820 | E28: 860 | F28: 940 | G28: 1122 | H28: 1219 | I28: 1120 | J28: 1590 | K28: =VLOOKUP(A28,집배구수!$A$5:$G$42,6,FALSE) -> 50 | L28: =VLOOKUP(A28,집배구수!$A$5:$G$42,7,FALSE) -> 4 | M28: =SUM(K28:L28) -> 54 | N28: =ROUND(M28*6*4,-2) -> 1300
A29: 기장 | B29: 780 | C29: 600 | D29: 780 | E29: 860 | F29: 980 | G29: 1100 | H29: 1150 | I29: 1030 | J29: 1440 | K29: =VLOOKUP(A29,집배구수!$A$5:$G$42,6,FALSE) -> 45 | L29: =VLOOKUP(A29,집배구수!$A$5:$G$42,7,FALSE) -> 6 | M29: =SUM(K29:L29) -> 51 | N29: =ROUND(M29*6*4,-2) -> 1200
A30: 동울산 | B30: 1020 | C30: 700 | D30: 980 | E30: 1000 | F30: 1000 | G30: 1100 | H30: 1242 | I30: 1010 | J30: 1410 | K30: =VLOOKUP(A30,집배구수!$A$5:$G$42,6,FALSE) -> 43 | L30: =VLOOKUP(A30,집배구수!$A$5:$G$42,7,FALSE) -> 5 | M30: =SUM(K30:L30) -> 48 | N30: =ROUND(M30*6*4,-2) -> 1200
A31: 거창 | B31: 440 | C31: 500 | D31: 440 | E31: 410 | F31: 400 | G31: 480 | H31: 520 | I31: 480 | J31: 720 | K31: =VLOOKUP(A31,집배구수!$A$5:$G$42,6,FALSE) -> 37 | L31: =VLOOKUP(A31,집배구수!$A$5:$G$42,7,FALSE) -> 3 | M31: =SUM(K31:L31) -> 40 | N31: =ROUND(M31*6*4,-2) -> 1000
A32: 고성 | B32: 410 | C32: 500 | D32: 380 | E32: 390 | F32: 390 | G32: 480 | H32: 507 | I32: 460 | J32: 700 | K32: =VLOOKUP(A32,집배구수!$A$5:$G$42,6,FALSE) -> 35 | L32: =VLOOKUP(A32,집배구수!$A$5:$G$42,7,FALSE) -> 4 | M32: =SUM(K32:L32) -> 39 | N32: =ROUND(M32*6*4,-2) -> 900
... A43: 합천 | B43: 450 | C43: 600 | D43: 400 | E43: 410 | F43: 400 | G43: 492 | H43: 533 | I43: 490 | J43: 730 | K43: =VLOOKUP(A43,집배구수!$A$5:$G$42,6,FALSE) -> 39 | L43: =VLOOKUP(A43,집배구수!$A$5:$G$42,7,FALSE) -> 2 | M43: =SUM(K43:L43) -> 41 | N43: =ROUND(M43*6*4,-2) -> 1000
A44: 부산집 | B44: 11640 | C44: 9100 | D44: 14600 | E44: 16590 | F44: 16320 | G44: 13000 | H44: 15930 | I44: 14250 | J44: 15660 | K44: ='집중국 인원'!I5 -> 473 | M44: =SUM(K44:L44) -> 473 | N44: =ROUNDDOWN(M44*6*6,-2) -> 17000
A45: 창원집 | B45: 5140 | C45: 3700 | D45: 6175 | E45: 6990 | F45: 6810 | G45: 5000 | H45: 6480 | I45: 6360 | J45: 7630 | K45: ='집중국 인원'!I6 -> 211 | M45: =SUM(K45:L45) -> 211 | N45: =ROUNDDOWN(M45*6*6,-2) -> 7500
A46: 진주집 | B46: 5080 | C46: 3400 | D46: 5025 | E46: 5670 | F46: 5250 | G46: 5000 | H46: 4800 | I46: 4680 | J46: 4820 | K46: ='집중국 인원'!I7 -> 163 | M46: =SUM(K46:L46) -> 163 | N46: =ROUNDDOWN(M46*6*6,-2)+1200 -> 7000
A47: 울산집 | B47: 4340 | C47: 3500 | D47: 6600 | E47: 7320 | F47: 6900 | G47: 5000 | H47: 5970 | I47: 5460 | J47: 7160 | K47: ='집중국 인원'!I8 -> 187 | M47: =SUM(K47:L47) -> 187 | N47: =ROUNDDOWN(M47*6*6,-2)+300 -> 7000
A48: 1 | B48: 2 | C48: 3 | D48: 4 | E48: 5 | F48: 6 | G48: 7 | H48: 8 | I48: 9 | J48: 10 | K48: 11 | L48: 12 | M48: 13 | N48: 14

Sheet 임차비
A1: 임차비 산출내역
A3: 국명 | B3: 전년도 배정액 | K3: 배정액 (단위:천원) | O3: 배정기준
B4: 14설 | C4: 13추석 | D4: 14추석 | E4: 15설 | F4: 15추석 | G4: 16설 | H4: 16추석 | I4: 17설 | J4: 17추석 | K4: 배정 기준액 | L4: 추가소요 | M4: 배정액 | N4: 집하장, 지게차
A5: 합계 | B5: =SUM(B6:B47) -> 86500 | C5: =SUM(C6:C47) -> 66400 | D5: =SUM(D6:D47) -> 58300 | E5: =SUM(E6:E47) -> 72410 | F5: =SUM(F6:F47) -> 71610 | G5: =SUM(G6:G47) -> 68580 | H5: =SUM(H6:H47) -> 73510 | I5: =SUM(I6:I47) -> 67750 | ... K5: =SUM(K6:K47) -> 76300 | M5: =SUM(M6:M47) -> 86100 | N5: =SUM(N6:N47) -> 500
A6: 부산진 | B6: 4000 | C6: 3000 | D6: 3540 | E6: 3460 | F6: 3720 | G6: 3630 | H6: 3880 | I6: 3300 | J6: 3500 | K6: =VLOOKUP(A6,'임차비 산출내역'!$A$6:$P$43,13,FALSE) -> 4400 | M6: =K6+L6 -> 4400 | O6: o 배달물량별 임차소요대수 산출
A7: 부산 | B7: 2500 | C7: 3500 | D7: 2600 | E7: 2390 | F7: 3520 | G7: 3110 | H7: 2790 | I7: 2960 | J7: 2960 | K7: =VLOOKUP(A7,'임차비 산출내역'!$A$7:$P$43,13,FALSE) -> 2000 | L7: 900 | M7: =K7+L7 -> 2900 | O7: - 평시대비 물량 증가분 반영
A8: 동래 | B8: 2500 | C8: 2000 | D8: 2280 | E8: 2810 | F8: 3040 | G8: 2730 | H8: 3080 | I8: 3600 | J8: 3600 | K8: =VLOOKUP(A8,'임차비 산출내역'!$A$7:$P$43,13,FALSE) -> 3200 | M8: =K8+L8 -> 3200
A9: 남부산 | B9: 3500 | C9: 2000 | D9: 4010 | E9: 3990 | F9: 4910 | G9: 4820 | H9: 4000 | I9: 4200 | J9: 4300 | K9: =VLOOKUP(A9,'임차비 산출내역'!$A$7:$P$43,13,FALSE) -> 5200 | M9: =K9+L9 -> 5200 | O9: o 집하장, 장비 임차 추가반영
A10: 부산사상 | B10: 2000 | C10: 1500 | D10: 1990 | E10: 2500 | F10: 2490 | G10: 2240 | H10: 2390 | I10: 2100 | J10: 2100 | K10: =VLOOKUP(A10,'임차비 산출내역'!$A$7:$P$43,13,FALSE) -> 2500 | M10: =K10+L10 -> 2500
A11: 부산금정 | B11: 2000 | C11: 1500 | D11: 2350 | E11: 2740 | F11: 2750 | G11: 2620 | H11: 2770 | I11: 2400 | J11: 2400 | K11: =VLOOKUP(A11,'임차비 산출내역'!$A$7:$P$43,13,FALSE) -> 2800 | M11: =K11+L11 -> 2800
A12: 부산사하 | B12: 3500 | C12: 3000 | D12: 2670 | E12: 2920 | F12: 3220 | G12: 3000 | H12: 2720 | I12: 2300 | J12: 2800 | K12: =VLOOKUP(A12,'임차비 산출내역'!$A$7:$P$43,13,FALSE) -> 2800 | M12: =K12+L12 -> 2800
A13: 해운대 | B13: 7000 | C13: 5500 | D13: 2850 | E13: 3550 | F13: 4630 | H13: 5790 | I13: 6290 | J13: 6390 | K13: =VLOOKUP(A13,'임차비 산출내역'!$A$7:$P$43,13,FALSE) -> 5600 | L13: 1000 | M13: =K13+L13 -> 6600
A14: 북부산 | B14: 2000 | C14: 1200 | D14: 1870 | E14: 1890 | F14: 1790 | G14: 1370 | H14: 600 | I14: 2800 | J14: 2900 | K14: =VLOOKUP(A14,'임차비 산출내역'!$A$7:$P$43,13,FALSE) -> 2600 | L14: 1500 | M14: =K14+L14 -> 4100
A15: 부산연제 | B15: 2000 | C15: 2000 | D15: 1670 | E15: 1820 | F15: 1680 | G15: 2100 | H15: 2180 | I15: 2100 | J15: 2100 | K15: =VLOOKUP(A15,'임차비 산출내역'!$A$7:$P$43,13,FALSE) -> 2600 | M15: =K15+L15 -> 2600
A16: 동부산 | B16: 1500 | C16: 1200 | D16: 1040 | E16: 1760 | F16: 1440 | G16: 1020 | H16: 1120 | I16: 900 | J16: 1200 | K16: =VLOOKUP(A16,'임차비 산출내역'!$A$7:$P$43,13,FALSE) -> 1100 | L16: 100 | M16: =K16+L16 -> 1200
A17: 부산영도 | B17: 1000 | C17: 700 | D17: 1120 | E17: 1440 | F17: 1030 | G17: 1010 | H17: 1140 | I17: 1000 | J17: 1000 | K17: =VLOOKUP(A17,'임차비 산출내역'!$A$7:$P$43,13,FALSE) -> 1100 | M17: =K17+L17 -> 1100
A18: 울산 | B18: 7000 | C18: 5000 | D18: 4000 | E18: 3910 | F18: 4240 | G18: 4550 | H18: 4390 | I18: 3500 | J18: 3600 | K18: =VLOOKUP(A18,'임차비 산출내역'!$A$7:$P$43,13,FALSE) -> 4400 | L18: 1500 | M18: =K18+L18 -> 5900
A19: 남울산 | B19: 6500 | C19: 4000 | D19: 1520 | E19: 3750 | F19: 4180 | G19: 4490 | H19: 4280 | I19: 3400 | J19: 3900 | K19: =VLOOKUP(A19,'임차비 산출내역'!$A$7:$P$43,13,FALSE) -> 4100 | L19: 1500 | M19: =K19+L19 -> 5600
A20: 마산 | B20: 2500 | C20: 1800 | D20: 1680 | E20: 1390 | F20: 1110 | G20: 1830 | H20: 2080 | I20: 1600 | J20: 2000 | K20: =VLOOKUP(A20,'임차비 산출내역'!$A$7:$P$43,13,FALSE) -> 1800 | L20: 300 | M20: =K20+L20 -> 2100
A21: 진주 | B21: 4500 | C21: 4000 | D21: 2080 | E21: 3680 | F21: 4370 | G21: 3510 | H21: 4000 | I21: 3400 | J21: 3300 | K21: =VLOOKUP(A21,'임차비 산출내역'!$A$7:$P$43,13,FALSE) -> 3900 | M21: =K21+L21 -> 3900
A22: 진해 | B22: 1500 | C22: 800 | D22: 1420 | E22: 1670 | F22: 1230 | G22: 1490 | H22: 0 | I22: 1100 | J22: 1200 | K22: =VLOOKUP(A22,'임차비 산출내역'!$A$7:$P$43,13,FALSE) -> 1400 | M22: =K22+L22 -> 1400
A23: 창원 | B23: 7000 | C23: 4000 | D23: 4140 | E23: 3860 | F23: 4110 | G23: 4750 | H23: 3560 | I23: 4100 | J23: 4100 | K23: =VLOOKUP(A23,'임차비 산출내역'!$A$7:$P$43,13,FALSE) -> 4900 | M23: =K23+L23 -> 4900
A24: 김해 | B24: 7000 | C24: 5000 | D24: 4140 | E24: 2690 | F24: 2730 | G24: 4350 | H24: 4530 | I24: 4000 | J24: 4000 | K24: =VLOOKUP(A24,'임차비 산출내역'!$A$7:$P$43,13,FALSE) -> 4900 | L24: 800 | M24: =K24+L24 -> 5700
A25: 양산 | B25: 4000 | C25: 2500 | D25: 2170 | E25: 2340 | F25: 2020 | G25: 2270 | H25: 2190 | I25: 2000 | J25: 2100 | K25: =VLOOKUP(A25,'임차비 산출내역'!$A$7:$P$43,13,FALSE) -> 2700 | L25: 1000 | M25: =K25+L25 -> 3700
A26: 거제 | B26: 2000 | C26: 1500 | D26: 2430 | E26: 3190 | F26: 2910 | G26: 2500 | H26: 3150 | I26: 1300 | J26: 2600 | K26: =VLOOKUP(A26,'임차비 산출내역'!$A$7:$P$43,13,FALSE) -> 1600 | L26: 1200 | M26: =K26+L26 -> 2800
A27: 통영 | B27: 1000 | C27: 800 | D27: 890 | E27: 1910 | F27: 1500 | G27: 1170 | H27: 0 | I27: 800 | J27: 900 | K27: =VLOOKUP(A27,'임차비 산출내역'!$A$7:$P$43,13,FALSE) -> 1000 | M27: =K27+L27 -> 1000
A28: 부산강서 | B28: 1500 | C28: 700 | D28: 680 | E28: 1460 | F28: 1080 | G28: 980 | H28: 2000 | I28: 1400 | J28: 1400 | K28: =VLOOKUP(A28,'임차비 산출내역'!$A$7:$P$43,13,FALSE) -> 1900 | M28: =K28+L28 -> 1900
A29: 기장 | B29: 2000 | C29: 700 | D29: 330 | E29: 1800 | F29: 1480 | G29: 1200 | H29: 1510 | I29: 1000 | J29: 1400 | K29: =VLOOKUP(A29,'임차비 산출내역'!$A$7:$P$43,13,FALSE) -> 1300 | M29: =K29+L29 -> 1300
A30: 동울산 | B30: 1500 | C30: 1000 | D30: 1630 | E30: 2130 | F30: 1710 | G30: 1680 | H30: 1830 | I30: 1100 | J30: 2000 | K30: =VLOOKUP(A30,'임차비 산출내역'!$A$7:$P$43,13,FALSE) -> 1300 | M30: =K30+L30 -> 1300
A31: 거창 | B31: 500 | C31: 1000 | D31: 500 | E31: 1190 | F31: 730 | G31: 1160 | H31: 1230 | I31: 1200 | J31: 1700 | K31: =VLOOKUP(A31,'임차비 산출내역'!$A$7:$P$43,13,FALSE) -> 0 | M31: =K31+L31 -> 0 | N31: 500
A32: 고성 | B32: 0 | C32: 500 | D32: 0 | E32: 0 | F32: 0 | G32: 0 | H32: 0 | I32: 0 | J32: 0 | K32: =VLOOKUP(A32,'임차비 산출내역'!$A$7:$P$43,13,FALSE) -> 0 | M32: =K32+L32 -> 0
A33: 남해 | B33: 0 | C33: 300 | D33: 0 | E33: 0 | F33: 0 | G33: 0 | H33: 0 | I33: 0 | J33: 0 | K33: =VLOOKUP(A33,'임차비 산출내역'!$A$7:$P$43,13,FALSE) -> 0 | M33: =K33+L33 -> 0
A34: 마산합포 | B34: 2000 | C34: 1500 | D34: 1400 | E34: 1940 | F34: 1760 | G34: 1620 | H34: 1550 | I34: 1300 | J34: 1400 | K34: =VLOOKUP(A34,'임차비 산출내역'!$A$7:$P$43,13,FALSE) -> 1600 | M34: =K34+L34 -> 1600
A35: 밀양 | B35: 2000 | C35: 2000 | D35: 700 | E35: 1430 | F35: 1070 | G35: 860 | H35: 1110 | I35: 1800 | J35: 1700 | K35: =VLOOKUP(A35,'임차비 산출내역'!$A$7:$P$43,13,FALSE) -> 1200 | M35: =K35+L35 -> 1200
A36: 사천 | B36: 500 | C36: 0 | D36: 600 | E36: 1600 | F36: 1160 | G36: 990 | H36: 930 | I36: 800 | J36: 900 | K36: =VLOOKUP(A36,'임차비 산출내역'!$A$7:$P$43,13,FALSE) -> 1000 | M36: =K36+L36 -> 1000
A37: 산청 | B37: 0 | C37: 500 | D37: 0 | E37: 0 | F37: 0 | G37: 0 | H37: 0 | I37: 0 | J37: 0 | K37: =VLOOKUP(A37,'임차비 산출내역'!$A$7:$P$43,13,FALSE) -> 0 | M37: =K37+L37 -> 0
A38: 의령 | B38: 0 | C38: 0 | D38: 0 | E38: 0 | F38: 0 | G38: 0 | H38: 0 | I38: 0 | J38: 0 | K38: =VLOOKUP(A38,'임차비 산출내역'!$A$7:$P$43,13,FALSE) -> 0 | M38: =K38+L38 -> 0
A39: 창녕 | B39: 0 | C39: 300 | D39: 0 | E39: 0 | F39: 0 | G39: 510 | H39: 0 | I39: 0 | J39: 0 | K39: =VLOOKUP(A39,'임차비 산출내역'!$A$7:$P$43,13,FALSE) -> 0 | M39: =K39+L39 -> 0
A40: 하동 | B40: 0 | C40: 900 | D40: 0 | E40: 0 | F40: 0 | G40: 460 | H40: 1010 | I40: 0 | J40: 600 | K40: =VLOOKUP(A40,'임차비 산출내역'!$A$7:$P$43,13,FALSE) -> 600 | M40: =K40+L40 -> 600
A41: 함안 | B41: 0 | C41: 500 | D41: 0 | E41: 1200 | F41: 0 | G41: 560 | H41: 600 | I41: 0 | J41: 600 | K41: =VLOOKUP(A41,'임차비 산출내역'!$A$7:$P$43,13,FALSE) -> 800 | M41: =K41+L41 -> 800
...

Sheet 집배구수
A1: 총괄국별 집배구 현황(18.01.04현재)
A3: 국명 | B3: 정규직 | C3: 별정국 | D3: 상시 계약 | E3: 특수지 계약 | F3: 소계 | G3: 발착 | H3: 비고
A4: 합계 | B4: =SUM(B5:B42) -> 1847 | C4: =SUM(C5:C42) -> 235 | D4: =SUM(D5:D42) -> 371 | E4: =SUM(E5:E42) -> 23 | F4: =SUM(F5:F42) -> 2476 | G4: =SUM(G5:G42) -> 231
A5: 부산진 | B5: 83 | C5: 0 | D5: 20 | E5: 0 | F5: =SUM(B5:E5) -> 103 | G5: 6
A6: 부산 | B6: 62 | C6: 0 | D6: 7 | E6: 0 | F6: =SUM(B6:E6) -> 69 | G6: 8
A7: 동래 | B7: 66 | C7: 0 | D7: 5 | E7: 0 | F7: =SUM(B7:E7) -> 71 | G7: 7
A8: 남부산 | B8: 104 | C8: 0 | D8: 13 | E8: 0 | F8: =SUM(B8:E8) -> 117 | G8: 11
A9: 부산사상 | B9: 61 | C9: 0 | D9: 10 | E9: 0 | F9: =SUM(B9:E9) -> 71 | G9: 8
A10: 부산금정 | B10: 63 | C10: 0 | D10: 7 | E10: 0 | F10: =SUM(B10:E10) -> 70 | G10: 6
A11: 부산사하 | B11: 68 | C11: 0 | D11: 14 | E11: 0 | F11: =SUM(B11:E11) -> 82 | G11: 8
A12: 해운대 | B12: 90 | C12: 0 | D12: 22 | E12: 0 | F12: =SUM(B12:E12) -> 112 | G12: 10
A13: 북부산 | B13: 51 | C13: 0 | D13: 9 | E13: 0 | F13: =SUM(B13:E13) -> 60 | G13: 5
A14: 부산연제 | B14: 50 | C14: 0 | D14: 6 | E14: 0 | F14: =SUM(B14:E14) -> 56 | G14: 7
A15: 동부산 | B15: 41 | C15: 0 | D15: 2 | E15: 0 | F15: =SUM(B15:E15) -> 43 | G15: 3
A16: 부산영도 | B16: 34 | C16: 0 | D16: 2 | E16: 0 | F16: =SUM(B16:E16) -> 36 | G16: 4
... A42: 합천 | B42: 12 | C42: 22 | D42: 3 | E42: 2 | F42: =SUM(B42:E42) -> 39 | G42: 2
A43: 1 | B43: 2 | C43: 3 | D43: 4 | E43: 5 | F43: 6 | G43: 7

Sheet 임차비 산출내역
A1: 등기소포배달물량(2017.1~2017.12)
H2: =F5/H5 -> 1.7183953
A3: 국명 | B3: 연간 | C3: 특별소통기간 | G3: 연간 | I3: 차이 | J3: 소요대수 | K3: 산출금액 | L3: 증감 | M3: 배정예산 | N3: '17추석 | P3: 금액차
C4: 17설 (1.16~1.26) | D4: 17추석 (9.18~1.30) | E4: 소계 | F4: 일평균 | G4: (소통제외) | H4: 일평균 | N4: 기본 | O4: 추가 | R4: 월 | S4: 일수 | T4: 특별 소통
A5: 합계 | B5: =SUM(B6:B43) -> 35410227 | C5: =SUM(C6:C43) -> 1974284 | D5: =SUM(D6:D43) -> 2319031 | E5: =SUM(E6:E43) -> 4293315 | F5: =SUM(F6:F43) -> 195153 | G5: =SUM(G6:G43) -> 31116912 | H5: =SUM(H6:H43) -> 113567 | I5: =SUM(I6:I43) -> 81586 | ... M5: =SUM(M6:M43) -> 76300 | N5: =SUM(N7:N43) -> 71850 | P5: =SUM(P7:P43) -> -7020 | R5: 1 | S5: 23 | T5: 10
A6: 부산진 | B6: =VLOOKUP(A6,물량!$A$3:$D$40,2,FALSE) -> 1773120 | C6: =VLOOKUP(A6,물량!$A$3:$D$40,3,FALSE) -> 101447 | D6: =VLOOKUP(A6,물량!$A$3:$D$40,4,FALSE) -> 119040 | E6: =SUM(C6:D6) -> 220487 | F6: =ROUND(E6/$T$17,0) -> 10022 | G6: =B6-E6 -> 1552633 | H6: =ROUND(G6/$S$18,0) -> 5667 | I6: =F6-H6 -> 4355 | J6: =I6/200/2 -> 10.8875 | K6: =ROUND(J6*80*5,-2) -> 4400 | L6: =IF(J6<2,K6,0) -> 0 | M6: =K6-L6 -> 4400 | N6: =임차비!J6 -> 3500 | P6: =M6-N6-O6 -> 900 | R6: 2 | S6: 24
A7: 부산 | B7: =VLOOKUP(A7,물량!$A$4:$D$40,2,FALSE) -> 766694 | C7: =VLOOKUP(A7,물량!$A$4:$D$40,3,FALSE) -> 45127 | D7: =VLOOKUP(A7,물량!$A$4:$D$40,4,FALSE) -> 52298 | E7: =SUM(C7:D7) -> 97425 | F7: =ROUND(E7/$T$17,0) -> 4428 | G7: =B7-E7 -> 669269 | H7: =ROUND(G7/$S$18,0) -> 2443 | I7: =F7-H7 -> 1985 | J7: =I7/200/2 -> 4.9625 | K7: =ROUND(J7*80*5,-2) -> 2000 | L7: =IF(J7<2,K7,0) -> 0 | M7: =K7-L7 -> 2000 | N7: =임차비!J7 -> 2960 | P7: =M7-N7-O7 -> -960 | R7: 3 | S7: 26
A8: 동래 | B8: =VLOOKUP(A8,물량!$A$4:$D$40,2,FALSE) -> 1152186 | C8: =VLOOKUP(A8,물량!$A$4:$D$40,3,FALSE) -> 68930 | D8: =VLOOKUP(A8,물량!$A$4:$D$40,4,FALSE) -> 81512 | E8: =SUM(C8:D8) -> 150442 | F8: =ROUND(E8/$T$17,0) -> 6838 | G8: =B8-E8 -> 1001744 | H8: =ROUND(G8/$S$18,0) -> 3656 | I8: =F8-H8 -> 3182 | J8: =I8/200/2 -> 7.955 | K8: =ROUND(J8*80*5,-2) -> 3200 | L8: 0 | M8: =K8-L8 -> 3200 | N8: =임차비!J8 -> 3600 | P8: =M8-N8-O8 -> -400 | R8: 4 | S8: 25
A9: 남부산 | B9: =VLOOKUP(A9,물량!$A$4:$D$40,2,FALSE) -> 2048243 | C9: =VLOOKUP(A9,물량!$A$4:$D$40,3,FALSE) -> 119371 | D9: =VLOOKUP(A9,물량!$A$4:$D$40,4,FALSE) -> 139278 | E9: =SUM(C9:D9) -> 258649 | F9: =ROUND(E9/$T$17,0) -> 11757 | G9: =B9-E9 -> 1789594 | H9: =ROUND(G9/$S$18,0) -> 6531 | I9: =F9-H9 -> 5226 | J9: =I9/200/2 -> 13.065 | K9: =ROUND(J9*80*5,-2) -> 5200 | L9: 0 | M9: =K9-L9 -> 5200 | N9: =임차비!J9 -> 4300 | P9: =M9-N9-O9 -> 900 | R9: 5 | S9: 25
A10: 부산사상 | B10: =VLOOKUP(A10,물량!$A$4:$D$40,2,FALSE) -> 1037853 | C10: =VLOOKUP(A10,물량!$A$4:$D$40,3,FALSE) -> 58417 | D10: =VLOOKUP(A10,물량!$A$4:$D$40,4,FALSE) -> 68897 | E10: =SUM(C10:D10) -> 127314 | F10: =ROUND(E10/$T$17,0) -> 5787 | G10: =B10-E10 -> 910539 | H10: =ROUND(G10/$S$18,0) -> 3323 | I10: =F10-H10 -> 2464 | J10: =I10/200/2 -> 6.16 | K10: =ROUND(J10*80*5,-2) -> 2500 | L10: =IF(J10<2,K10,0) -> 0 | M10: =K10-L10 -> 2500 | N10: =임차비!J10 -> 2100 | P10: =M10-N10-O10 -> 400 | R10: 6 | S10: 25
