Workbook

Sheet 과별집계
A1: 2018년도 자체 표창 수여계획
A3: 구분 | B3: 청장표창 | E3: 소계 | F3: 위임표창 | H3: 2018년 총계 | J3: 전년도 비교
B4: 표창장 | C4: 상장 | D4: 감사장 | F4: 장관 | G4: 본부장 | J4: 2017년 총계 | K4: 증감 | L4: 증감사유
A5: 우정계획과 | B5: =SUMPRODUCT(('1. 청장표창_원본'!$A$7:$A$45=과별집계!A5)*('1. 청장표창_원본'!$B$7:$B$45=$B$4)*('1. 청장표창_원본'!$H$7:$H$45)) -> 9 | C5: =SUMPRODUCT(('1. 청장표창_원본'!$A$7:$A$45=과별집계!A5)*('1. 청장표창_원본'!$B$7:$B$45=$C$4)*('1. 청장표창_원본'!$H$7:$H$45)) -> 0 | D5: =SUMPRODUCT(('1. 청장표창_원본'!$A$7:$A$45=과별집계!A5)*('1. 청장표창_원본'!$B$7:$B$45=$D$4)*('1. 청장표창_원본'!$H$7:$H$45)) -> 0 | E5: =SUM(B5:D5) -> 9 | F5: 2 | G5: 2 | H5: =+F5+G5+E5 -> 13 | J5: 18 | K5: =H5-J5 -> -5 | L5: 지표별 수여인원 축소
A6: 우편영업과 | B6: =SUMPRODUCT(('1. 청장표창_원본'!$A$7:$A$45=과별집계!A6)*('1. 청장표창_원본'!$B$7:$B$45=$B$4)*('1. 청장표창_원본'!$H$7:$H$45)) -> 8 | C6: =SUMPRODUCT(('1. 청장표창_원본'!$A$7:$A$45=과별집계!A6)*('1. 청장표창_원본'!$B$7:$B$45=$C$4)*('1. 청장표창_원본'!$H$7:$H$45)) -> 0 | D6: =SUMPRODUCT(('1. 청장표창_원본'!$A$7:$A$45=과별집계!A6)*('1. 청장표창_원본'!$B$7:$B$45=$D$4)*('1. 청장표창_원본'!$H$7:$H$45)) -> 0 | E6: =SUM(B6:D6) -> 8 | F6: 1 | G6: 3 | H6: =+F6+G6+E6 -> 12 | J6: 13 | K6: =H6-J6 -> -1 | L6: 지표별 수여인원 축소
A7: 우편물류과 | B7: =SUMPRODUCT(('1. 청장표창_원본'!$A$7:$A$45=과별집계!A7)*('1. 청장표창_원본'!$B$7:$B$45=$B$4)*('1. 청장표창_원본'!$H$7:$H$45)) -> 21 | C7: =SUMPRODUCT(('1. 청장표창_원본'!$A$7:$A$45=과별집계!A7)*('1. 청장표창_원본'!$B$7:$B$45=$C$4)*('1. 청장표창_원본'!$H$7:$H$45)) -> 5 | D7: =SUMPRODUCT(('1. 청장표창_원본'!$A$7:$A$45=과별집계!A7)*('1. 청장표창_원본'!$B$7:$B$45=$D$4)*('1. 청장표창_원본'!$H$7:$H$45)) -> 0 | E7: =SUM(B7:D7) -> 26 | F7: 1 | G7: 3 | H7: =+F7+G7+E7 -> 30 | J7: 44 | K7: =H7-J7 -> -14 | L7: 지표별 수여인원 축소
A8: 운영지원과 | B8: =SUMPRODUCT(('1. 청장표창_원본'!$A$7:$A$45=과별집계!A8)*('1. 청장표창_원본'!$B$7:$B$45=$B$4)*('1. 청장표창_원본'!$H$7:$H$45)) -> 47 | C8: =SUMPRODUCT(('1. 청장표창_원본'!$A$7:$A$45=과별집계!A8)*('1. 청장표창_원본'!$B$7:$B$45=$C$4)*('1. 청장표창_원본'!$H$7:$H$45)) -> 0 | D8: =SUMPRODUCT(('1. 청장표창_원본'!$A$7:$A$45=과별집계!A8)*('1. 청장표창_원본'!$B$7:$B$45=$D$4)*('1. 청장표창_원본'!$H$7:$H$45)) -> 0 | E8: =SUM(B8:D8) -> 47 | G8: 1 | H8: =+F8+G8+E8 -> 48 | J8: 50 | K8: =H8-J8 -> -2 | L8: 지표별 수여인원 축소
A9: 인력계획과 | B9: =SUMPRODUCT(('1. 청장표창_원본'!$A$7:$A$45=과별집계!A9)*('1. 청장표창_원본'!$B$7:$B$45=$B$4)*('1. 청장표창_원본'!$H$7:$H$45)) -> 58 | C9: =SUMPRODUCT(('1. 청장표창_원본'!$A$7:$A$45=과별집계!A9)*('1. 청장표창_원본'!$B$7:$B$45=$C$4)*('1. 청장표창_원본'!$H$7:$H$45)) -> 8 | D9: =SUMPRODUCT(('1. 청장표창_원본'!$A$7:$A$45=과별집계!A9)*('1. 청장표창_원본'!$B$7:$B$45=$D$4)*('1. 청장표창_원본'!$H$7:$H$45)) -> 100 | E9: =SUM(B9:D9) -> 166 | F9: 1 | H9: =+F9+G9+E9 -> 167 | J9: 169 | K9: =H9-J9 -> -2 | L9: 지표별 수여인원 축소
A10: 회계정보과 | B10: =SUMPRODUCT(('1. 청장표창_원본'!$A$7:$A$45=과별집계!A10)*('1. 청장표창_원본'!$B$7:$B$45=$B$4)*('1. 청장표창_원본'!$H$7:$H$45)) -> 3 | C10: =SUMPRODUCT(('1. 청장표창_원본'!$A$7:$A$45=과별집계!A10)*('1. 청장표창_원본'!$B$7:$B$45=$C$4)*('1. 청장표창_원본'!$H$7:$H$45)) -> 7 | D10: =SUMPRODUCT(('1. 청장표창_원본'!$A$7:$A$45=과별집계!A10)*('1. 청장표창_원본'!$B$7:$B$45=$D$4)*('1. 청장표창_원본'!$H$7:$H$45)) -> 0 | E10: =SUM(B10:D10) -> 10 | F10: 1 | G10: 1 | H10: =+F10+G10+E10 -> 12 | J10: 12 | K10: =H10-J10 -> 0
A11: 예금영업과 | B11: =SUMPRODUCT(('1. 청장표창_원본'!$A$7:$A$45=과별집계!A11)*('1. 청장표창_원본'!$B$7:$B$45=$B$4)*('1. 청장표창_원본'!$H$7:$H$45)) -> 15 | C11: =SUMPRODUCT(('1. 청장표창_원본'!$A$7:$A$45=과별집계!A11)*('1. 청장표창_원본'!$B$7:$B$45=$C$4)*('1. 청장표창_원본'!$H$7:$H$45)) -> 300 | D11: =SUMPRODUCT(('1. 청장표창_원본'!$A$7:$A$45=과별집계!A11)*('1. 청장표창_원본'!$B$7:$B$45=$D$4)*('1. 청장표창_원본'!$H$7:$H$45)) -> 2 | E11: =SUM(B11:D11) -> 317 | F11: 1 | G11: 3 | H11: =+F11+G11+E11 -> 321 | J11: 329 | K11: =H11-J11 -> -8 | L11: 지표별 수여인원 축소
A12: 보험영업과 | B12: =SUMPRODUCT(('1. 청장표창_원본'!$A$7:$A$45=과별집계!A12)*('1. 청장표창_원본'!$B$7:$B$45=$B$4)*('1. 청장표창_원본'!$H$7:$H$45)) -> 20 | C12: =SUMPRODUCT(('1. 청장표창_원본'!$A$7:$A$45=과별집계!A12)*('1. 청장표창_원본'!$B$7:$B$45=$C$4)*('1. 청장표창_원본'!$H$7:$H$45)) -> 400 | D12: =SUMPRODUCT(('1. 청장표창_원본'!$A$7:$A$45=과별집계!A12)*('1. 청장표창_원본'!$B$7:$B$45=$D$4)*('1. 청장표창_원본'!$H$7:$H$45)) -> 1 | E12: =SUM(B12:D12) -> 421 | F12: 1 | G12: 2 | H12: =+F12+G12+E12 -> 424 | J12: 374 | K12: =H12-J12 -> 50 | L12: 글짓기 상장수여인원 증대
A13: 감사관 | B13: =SUMPRODUCT(('1. 청장표창_원본'!$A$7:$A$45=과별집계!A13)*('1. 청장표창_원본'!$B$7:$B$45=$B$4)*('1. 청장표창_원본'!$H$7:$H$45)) -> 2 | C13: =SUMPRODUCT(('1. 청장표창_원본'!$A$7:$A$45=과별집계!A13)*('1. 청장표창_원본'!$B$7:$B$45=$C$4)*('1. 청장표창_원본'!$H$7:$H$45)) -> 0 | D13: =SUMPRODUCT(('1. 청장표창_원본'!$A$7:$A$45=과별집계!A13)*('1. 청장표창_원본'!$B$7:$B$45=$D$4)*('1. 청장표창_원본'!$H$7:$H$45)) -> 0 | E13: =SUM(B13:D13) -> 2 | G13: 2 | H13: =+F13+G13+E13 -> 4 | J13: 1 | K13: =H13-J13 -> 3 | L13: 유공분야 신설
A14: 계 | B14: =SUM(B5:B13) -> 183 | C14: =SUM(C5:C13) -> 720 | D14: =SUM(D5:D13) -> 103 | E14: =SUM(E5:E13) -> 1006 | F14: =SUM(F5:F13) -> 8 | G14: =SUM(G5:G13) -> 17 | H14: =+F14+G14+E14 -> 1031 | J14: =SUM(J5:J13) -> 1010 | K14: =H14-J14 -> 21
A15: 2017년도 비교 | B15: 206 | C15: 677 | D15: 102 | E15: =SUM(B15:D15) -> 985 | F15: 8 | G15: 17 | H15: =E15+F15+G15 -> 1010
A16: * 2016년부터 본부 포상 전체규모의 20% 범위 내에서 장관 및 본부장 표창을 우정청으로 일부 위임(장관 8, 본부장 17)

Sheet 1. 청장표창_원본
A1: 2018년도 청장표창 수여계획
A3: 담당부서명 | B3: 표창종류 | C3: 공적분야 | D3: 표창 대상 및 인원(1회당) | I3: 수여 시기 | J3: 비고 (표창의 필요성을 구체적으로 기재)
D4: 부내 | F4: 부외·민간 | H4: 계
D5: 개인 | E5: 단체 | F5: 개인 | G5: 단체
A6: ○ 작성예시
A7: 우정계획과 | B7: 표창장 | C7: 2018. 고객만족경영 유공 | D7: 5 | H7: =SUM(D7:G7) -> 5 | I7: 12월 | J7: 고객만족경영 유공 직원 표창
A8: 우정계획과 | B8: 표창장 | C8: 우편취급국 사업발전 유공 | D8: 2 | H8: =SUM(D8:G8) -> 2 | I8: 2월 | J8: 우편취급국 사업발전 유공자 표창
A9: 우정계획과 | B9: 표창장 | C9: 국유재산관리 유공 | D9: 2 | H9: =SUM(D9:G9) -> 2 | I9: 12월 | J9: 국유재산관리(사용허가, 보존, 매각 등) 유공 직원 표창(4급 및 5급 총괄국 각 1명)
A10: 우편영업과 | B10: 표창장 | C10: 2018. 우편매출 유공 | D10: 6 | H10: =SUM(D10:G10) -> 6 | I10: 12월 | J10: 우편매출(통상, 소포, 국제) 유공 직원 표창(4급 및 5급 총괄국 각 1명)
A11: 우편영업과 | B11: 표창장 | C11: 2018. 우편매출 유공 | D11: 1 | H11: =SUM(D11:G11) -> 1 | I11: 12월 | J11: 우편매출(수탁) 유공 직원 표창
A12: 우편영업과 | B12: 표창장 | C12: 전자상거래 협력 유공 | F12: 1 | H12: =SUM(D12:G12) -> 1 | I12: 11월 | J12: 전자상거래 협력 외부기관 공로자 표창
A13: 우편물류과 | B13: 상장 | C13: 2017. 우편소통품질경영 우수국 포상 | E13: 5 | H13: =SUM(D13:G13) -> 5 | I13: 3월 | J13: 우편소통품질경영 종합 평가결과 우수국 시상
A14: 우편물류과 | B14: 표창장 | C14: 2018. 설 우편물 특별소통 유공 | D14: 5 | H14: =SUM(D14:G14) -> 5 | I14: 3월 | J14: 설 명절 우편물 특별소통 유공 직원 표창
A15: 우편물류과 | B15: 표창장 | C15: 2018. 지방선거 소통 유공 | D15: 5 | H15: =SUM(D15:G15) -> 5 | I15: 7월 | J15: 지방선거 우편물 특별소통 유공 직원 표창
A16: 우편물류과 | B16: 표창장 | C16: 2018. 추석 우편물 특별소통 유공 | D16: 5 | H16: =SUM(D16:G16) -> 5 | I16: 11월 | J16: 추석 명절 우편물 특별소통 유공 직원 표창
A17: 우편물류과 | B17: 표창장 | C17: 2018. 연말 집배업무 개선 유공 | D17: 3 | H17: =SUM(D17:G17) -> 3 | I17: 12월 | J17: 집배업무개선 유공 직원 표창
A18: 우편물류과 | B18: 표창장 | C18: 2018. 집배안전사고예방 유공 | E18: 3 | H18: =SUM(D18:G18) -> 3 | I18: 12월 | J18: 집배 안전사고예방 유공 관서 표창
A19: 예금영업과 | B19: 표창장 | C19: 예금수익성 증대 유공 | D19: 3 | H19: =SUM(D19:G19) -> 3 | I19: 12월 | J19: 예금수익성 증대 유공자에 대한 시상으로 수익성 위주 사업 활성화에 기여
A20: 예금영업과 | B20: 표창장 | C20: 요구불예금 증대 유공 | D20: 3 | H20: =SUM(D20:G20) -> 3 | I20: 12월 | J20: 예금사업의 핵심지표인 요구불예금 증대 유공자에 대한 시상
A21: 예금영업과 | B21: 표창장 | C21: 스마트금융 가입자 증대 유공 | D21: 3 | H21: =SUM(D21:G21) -> 3 | I21: 12월 | J21: 스마트금융 이용율 증대 유공자에 대한 시상으로 우체국 전자금융 활성화에 기여
A22: 예금영업과 | B22: 표창장 | C22: 체크카드수수료 증대 유공 | D22: 3 | H22: =SUM(D22:G22) -> 3 | I22: 12월 | J22: 체크카드수수료 증대 유공자 시상으로 우체국 체크카드사업 활성화
A23: 예금영업과 | B23: 표창장 | C23: 해외송금 증대 유공 | D23: 3 | H23: =SUM(D23:G23) -> 3 | I23: 12월 | J23: 高 부가가치 상품인 해외송금 유공자 시상으로 예금사업 활성화에 기여
A24: 예금영업과 | B24: 상장 | C24: 제26회 어린이 글짓기대회 입상자 | F24: 300 | H24: =SUM(D24:G24) -> 300 | I24: 12월 | J24: 우체국금융의 이미지 제고를 위해 본부에서 주관하는 대회로 장려상 및 입선자에 대한 시상(수상인원 변동 가능)
A25: 예금영업과 | B25: 감사장 | C25: 제26회 어린이 글짓기대회 우수 지도교사 | F25: 2 | H25: =SUM(D25:G25) -> 2 | I25: 12월 | J25: 우체국금융의 이미지 제고를 위해 본부에서 주관하는 대회로 우수지도교사 시상
A26: 보험영업과 | B26: 상장 | C26: 우체국예금보험 어린이 그림그리기 대회 입상 | F26: 400 | H26: =SUM(D26:G26) -> 400 | I26: 8월 | J26: 본부 주관 우체국예금보험 어린이 그림그리기 대회 장려상 및 입선자 시상 (수상 인원 변동 가능)
A27: 보험영업과 | B27: 감사장 | C27: 우체국예금보험 어린이 그림그리기 대회 우수 지도교사 | F27: 1 | H27: =SUM(D27:G27) -> 1 | I27: 8월 | J27: 본부 주관 우체국예금보험 어린이 그림그리기 대회 우수지도교사 사기진작
A28: 보험영업과 | B28: 표창장 | C28: 우체국 보험사업 유공(직원) | D28: 10 | H28: =SUM(D28:G28) -> 10 | I28: 12월 | J28: 2018년 우체국 보험사업의 안정적 성장기반 조성에 기여한 유공 직원 표창
A29: 보험영업과 | B29: 표창장 | C29: 우체국 보험사업 유공(우체국FC) | F29: 10 | H29: =SUM(D29:G29) -> 10 | I29: 12월 | J29: 2018년도 우체국 보험사업의 안정적 성장기반 조성에 기여한 유공 FC 표창
A30: 운영지원과 | B30: 표창장 | C30: 보안업무 유공 | D30: 3 | H30: =SUM(D30:G30) -> 3 | I30: 12월 | J30: 보안업무 수행에 필요한 절차와 그 구체적인 운용사항을 준수하여 보안업무 수행 우수자에 대한 시상
A31: 운영지원과 | B31: 표창장 | C31: 우정노조 노사협력 유공 | D31: 27 | H31: =SUM(D31:G31) -> 27 | I31: 3월 | J31: 우정노조 지부대회시 노사협력 유공 총괄(집중)국 직원에게 수여
A32: 운영지원과 | B32: 표창장 | C32: 우정노조 노사협력 유공 | D32: 4 | H32: =SUM(D32:G32) -> 4 | I32: 5월 | J32: 우정노조 여성위원 워크숍시 노사협력 유공직원에게 수여
A33: 운영지원과 | B33: 표창장 | C33: 우정노조 노사협력 유공 | D33: 3 | H33: =SUM(D33:G33) -> 3 | I33: 10월 | J33: 우정노조 지부장 워크숍시 노사협력 유공직원에게 수여
A34: 운영지원과 | B34: 표창장 | C34: 공무원노조 노사협력 유공 | D34: 3 | H34: =SUM(D34:G34) -> 3 | I34: 3월 | J34: 공무원노조 대의원대회시 노사협력 유공직원에게 수여
A35: 운영지원과 | B35: 표창장 | C35: 공무원노조 노사협력 유공 | D35: 3 | H35: =SUM(D35:G35) -> 3 | I35: 10월 | J35: 공무원노조 워크숍시 노사협력 유공직원에게 수여
A36: 운영지원과 | B36: 표창장 | C36: 청사 시설관리 유공 | F36: 1 | H36: =SUM(D36:G36) -> 1 | I36: 12월 | J36: 산뜻하고 깨끗한 청사 시설유지 관리 업무 유공직원 격려
A37: 운영지원과 | B37: 표창장 | C37: 민원처리 우수 유공 | D37: 3 | H37: =SUM(D37:G37) -> 3 | I37: 10월 | J37: 민원처리 우수직원에 대한 인센티브 제공 (정부기관 민원서비스 평가지표 반영)
A38: 인력계획과 | B38: 표창장 | C38: 별정우체국 사업발전 유공 | D38: 8 | H38: =SUM(D38:G38) -> 8 | I38: 2월 | J38: 별정우체국 사업발전 유공 직원에 대한 사기 진작
A39: 인력계획과 | B39: 상장 | C39: 전남우정인 賞 | D39: 4 | H39: =SUM(D39:G39) -> 4 | I39: 12월 | J39: 2018년도 4개 사업분야별 최우수 직원 선발(우편영업, 우편물류, 예금, 보험)
A40: 인력계획과 | B40: 상장 | C40: 엘리트 우체국장 賞 | D40: 4 | H40: =SUM(D40:G40) -> 4 | I40: 12월 | J40: 6급이하 관서장 중 관리 및 업무역량 탁월 관서장 선발 포상
A41: 인력계획과 | B41: 표창장 | C41: 2018 우체국을 빛낸 공무원 50인 | D41: 50 | H41: =SUM(D41:G41) -> 50 | I41: 12월 | J41: 2018년도 사업실적과 조직발전에 기여하여 우체국을 빛낸 직원 격려 - 40명(4급관서 2명, 5급관서 1명, 우정청 4명), 경평우수관서 추가 포상, 유관기관 (우체국시설관리지원단, 금융개발원, 우편취급국) 등 50명 선발 격려
...

Sheet 1. 청장표창
A1: 2018년도 청장표창 수여계획
A3: 담당부서명 | B3: 표창종류 | C3: 공적분야 | D3: 표창 대상 및 인원(1회당) | I3: 수여 시기 | J3: 비고 (표창의 필요성을 구체적으로 기재)
D4: 부내 | F4: 부외·민간 | H4: 계
D5: 개인 | E5: 단체 | F5: 개인 | G5: 단체
A6: 우정계획과 | B6: 표창장 | C6: 2018. 고객만족경영 유공 | D6: 5 | H6: =SUM(D6:G6) -> 5 | I6: 12월 | J6: 고객만족경영 유공 직원 표창
B7: 표창장 | C7: 우편취급국 사업발전 유공 | D7: 2 | H7: =SUM(D7:G7) -> 2 | I7: 2월 | J7: 우편취급국 사업발전 유공자 표창
B8: 표창장 | C8: 국유재산관리 유공 | D8: 2 | H8: =SUM(D8:G8) -> 2 | I8: 12월 | J8: 국유재산관리(사용허가, 보존, 매각 등) 유공 직원 표창(4급 및 5급 총괄국 각 1명)
A9: 우편영업과 | B9: 표창장 | C9: 2018. 우편매출 유공 | D9: 6 | H9: =SUM(D9:G9) -> 6 | I9: 12월 | J9: 우편매출(통상, 소포, 국제) 유공 직원 표창(4급 및 5급 총괄국 각 1명)
B10: 표창장 | C10: 2018. 우편매출 유공 | D10: 1 | H10: =SUM(D10:G10) -> 1 | I10: 12월 | J10: 우편매출(수탁) 유공 직원 표창
B11: 표창장 | C11: 전자상거래 협력 유공 | F11: 1 | H11: =SUM(D11:G11) -> 1 | I11: 11월 | J11: 전자상거래 협력 외부기관 공로자 표창
A12: 우편물류과 | B12: 상장 | C12: 2017. 우편소통품질경영 우수국 포상 | E12: 5 | H12: =SUM(D12:G12) -> 5 | I12: 3월 | J12: 우편소통품질경영 종합 평가결과 우수국 시상
B13: 표창장 | C13: 2018. 설 우편물 특별소통 유공 | D13: 5 | H13: =SUM(D13:G13) -> 5 | I13: 3월 | J13: 설 명절 우편물 특별소통 유공 직원 표창
B14: 표창장 | C14: 2018. 지방선거 소통 유공 | D14: 5 | H14: =SUM(D14:G14) -> 5 | I14: 7월 | J14: 지방선거 우편물 특별소통 유공 직원 표창
B15: 표창장 | C15: 2018. 추석 우편물 특별소통 유공 | D15: 5 | H15: =SUM(D15:G15) -> 5 | I15: 11월 | J15: 추석 명절 우편물 특별소통 유공 직원 표창
B16: 표창장 | C16: 2018. 연말 집배업무 개선 유공 | D16: 3 | H16: =SUM(D16:G16) -> 3 | I16: 12월 | J16: 집배업무개선 유공 직원 표창
B17: 표창장 | C17: 2018. 집배안전사고예방 유공 | E17: 3 | H17: =SUM(D17:G17) -> 3 | I17: 12월 | J17: 집배 안전사고예방 유공 관서 표창
A18: 예금영업과 | B18: 표창장 | C18: 예금수익성 증대 유공 | D18: 3 | H18: =SUM(D18:G18) -> 3 | I18: 12월 | J18: 예금수익성 증대 유공자에 대한 시상으로 수익성 위주 사업 활성화에 기여
B19: 표창장 | C19: 요구불예금 증대 유공 | D19: 3 | H19: =SUM(D19:G19) -> 3 | I19: 12월 | J19: 예금사업의 핵심지표인 요구불예금 증대 유공자에 대한 시상
B20: 표창장 | C20: 스마트금융 가입자 증대 유공 | D20: 3 | H20: =SUM(D20:G20) -> 3 | I20: 12월 | J20: 스마트금융 이용율 증대 유공자에 대한 시상으로 우체국 전자금융 활성화에 기여
B21: 표창장 | C21: 체크카드수수료 증대 유공 | D21: 3 | H21: =SUM(D21:G21) -> 3 | I21: 12월 | J21: 체크카드수수료 증대 유공자 시상으로 우체국 체크카드사업 활성화
B22: 표창장 | C22: 해외송금 증대 유공 | D22: 3 | H22: =SUM(D22:G22) -> 3 | I22: 12월 | J22: 高 부가가치 상품인 해외송금 유공자 시상으로 예금사업 활성화에 기여
B23: 상장 | C23: 제26회 어린이 글짓기대회 입상자 | F23: 300 | H23: =SUM(D23:G23) -> 300 | I23: 12월 | J23: 우체국금융의 이미지 제고를 위해 본부에서 주관하는 대회로 장려상 및 입선자에 대한 시상(수상인원 변동 가능)
B24: 감사장 | C24: 제26회 어린이 글짓기대회 우수 지도교사 | F24: 2 | H24: =SUM(D24:G24) -> 2 | I24: 12월 | J24: 우체국금융의 이미지 제고를 위해 본부에서 주관하는 대회로 우수지도교사 시상
A25: 보험영업과 | B25: 상장 | C25: 우체국예금보험 어린이 그림그리기 대회 입상 | F25: 400 | H25: =SUM(D25:G25) -> 400 | I25: 8월 | J25: 본부 주관 우체국예금보험 어린이 그림그리기 대회 장려상 및 입선자 시상 (수상 인원 변동 가능)
B26: 감사장 | C26: 우체국예금보험 어린이 그림그리기 대회 우수 지도교사 | F26: 1 | H26: =SUM(D26:G26) -> 1 | I26: 8월 | J26: 본부 주관 우체국예금보험 어린이 그림그리기 대회 우수지도교사 사기진작
B27: 표창장 | C27: 우체국 보험사업 유공(직원) | D27: 10 | H27: =SUM(D27:G27) -> 10 | I27: 12월 | J27: 2018년 우체국 보험사업의 안정적 성장기반 조성에 기여한 유공 직원 표창
B28: 표창장 | C28: 우체국 보험사업 유공(우체국FC) | F28: 10 | H28: =SUM(D28:G28) -> 10 | I28: 12월 | J28: 2018년도 우체국 보험사업의 안정적 성장기반 조성에 기여한 유공 FC 표창
A29: 운영지원과 | B29: 표창장 | C29: 보안업무 유공 | D29: 3 | H29: =SUM(D29:G29) -> 3 | I29: 12월 | J29: 보안업무 수행에 필요한 절차와 그 구체적인 운용사항을 준수하여 보안업무 수행 우수자에 대한 시상
B30: 표창장 | C30: 우정노조 노사협력 유공 | D30: 27 | H30: =SUM(D30:G30) -> 27 | I30: 3월 | J30: 우정노조 지부대회시 노사협력 유공 총괄(집중)국 직원에게 수여
B31: 표창장 | C31: 우정노조 노사협력 유공 | D31: 4 | H31: =SUM(D31:G31) -> 4 | I31: 5월 | J31: 우정노조 여성위원 워크숍시 노사협력 유공직원에게 수여
B32: 표창장 | C32: 우정노조 노사협력 유공 | D32: 3 | H32: =SUM(D32:G32) -> 3 | I32: 10월 | J32: 우정노조 지부장 워크숍시 노사협력 유공직원에게 수여
B33: 표창장 | C33: 공무원노조 노사협력 유공 | D33: 3 | H33: =SUM(D33:G33) -> 3 | I33: 3월 | J33: 공무원노조 대의원대회시 노사협력 유공직원에게 수여
B34: 표창장 | C34: 공무원노조 노사협력 유공 | D34: 3 | H34: =SUM(D34:G34) -> 3 | I34: 10월 | J34: 공무원노조 워크숍시 노사협력 유공직원에게 수여
B35: 표창장 | C35: 청사 시설관리 유공 | F35: 1 | H35: =SUM(D35:G35) -> 1 | I35: 12월 | J35: 산뜻하고 깨끗한 청사 시설유지 관리 업무 유공직원 격려
B36: 표창장 | C36: 민원처리 우수 유공 | D36: 3 | H36: =SUM(D36:G36) -> 3 | I36: 10월 | J36: 민원처리 우수직원에 대한 인센티브 제공 (정부기관 민원서비스 평가지표 반영)
A37: 인력계획과 | B37: 표창장 | C37: 별정우체국 사업발전 유공 | D37: 8 | H37: =SUM(D37:G37) -> 8 | I37: 2월 | J37: 별정우체국 사업발전 유공 직원에 대한 사기 진작
B38: 상장 | C38: 전남우정인 賞 | D38: 4 | H38: =SUM(D38:G38) -> 4 | I38: 12월 | J38: 2018년도 4개 사업분야별 최우수 직원 선발(우편영업, 우편물류, 예금, 보험)
B39: 상장 | C39: 엘리트 우체국장 賞 | D39: 4 | H39: =SUM(D39:G39) -> 4 | I39: 12월 | J39: 6급이하 관서장 중 관리 및 업무역량 탁월 관서장 선발 포상
B40: 표창장 | C40: 2018 우체국을 빛낸 공무원 50인 | D40: 50 | H40: =SUM(D40:G40) -> 50 | I40: 12월 | J40: 2018년도 사업실적과 조직발전에 기여하여 우체국을 빛낸 직원 격려 - 40명(4급관서 2명, 5급관서 1명, 우정청 4명), 경평우수관서 추가 포상, 유관기관 (우체국시설관리지원단, 금융개발원, 우편취급국) 등 50명 선발 격려
B41: 감사장 | C41: 퇴직자 공로패 | D41: 100 | H41: =SUM(D41:G41) -> 100 | I41: 반기 | J41: 15년이상 우정사업에 종사하다 퇴직한 공무원에게 공로패 수여(상하반기 2회) - 정년퇴직, 명예퇴직, 의원면직, 당연퇴직(사망) 등
...

Sheet 2. 장관표창
A1: 2018년도 장관표창(청 위임분) 수여계획
A3: 주관부서명 | B3: 공적분야 | C3: 계 | D3: 부내 | F3: 부외·민간 | H3: 수여 시기 (월일 표시) | I3: 수여 방법 (전수자 표시) | J3: 표창개요 및 필요성
D4: 개인 | E4: 단체 | F4: 개인 | G4: 단체
C5: =SUM(D5:G5) -> 8 | D5: =SUM(D6:D13) -> 8 | E5: =SUM(E6:E13) -> 0 | F5: =SUM(F6:F13) -> 0 | G5: =SUM(G6:G13) -> 0
A6: 우정계획과 | B6: 고객만족유공 | C6: =SUM(D6:G6) -> 1 | D6: 1 | H6: 12.31. | I6: 청장전수 | J6: ㅇ 개요 : 고객만족 우수직원 선발을 통한 사업발전 및 조직역량 제고 ㅇ 필요성 : CS 수준 향상을 통한 서비스 품질개선 및 고객만족의 총체적 역량강화에 기여
A7: 우정계획과 | B7: 창구망 합리화, 시설분야 유공 | C7: =SUM(D7:G7) -> 1 | D7: 1 | H7: 12.31. | I7: 청장전수 | J7: ㅇ 개요 : 창구망 합리화 및 시설분야의 체계적 관리 ㅇ 필요성 : 창구망 합리화를 통한 예산의 효율적 활용도모
A8: 우편영업과 | B8: 우편사업유공 | C8: =SUM(D8:G8) -> 1 | D8: 1 | H8: 12.31. | I8: 청장전수 | J8: o 개요 : 적극적인 마케팅활동으로 우편사업 활성화 및 발전에 기여한 유공자 표창 ㅇ 필요성 : 적극적인 마케팅활동으로 우편사업 활성화 및 발전에 기여한 유공자 표창
A9: 우편물류과 | B9: 집배안전유공 | C9: =SUM(D9:G9) -> 1 | D9: 1 | H9: 12.31. | I9: 청장전수 | J9: ㅇ 개요 : 집배 안전사고 예방활동과 안전의식 확산 기여로 직원 안전확보 및 대국민 신뢰성 제고 ㅇ 필요성 : 집배원의 안전 확보에 기여한 유공자에 대한 표창으로 안전문화 확산에 기여
A10: 예금영업팀 | B10: 예금사업유공 | C10: =SUM(D10:G10) -> 1 | D10: 1 | H10: 12.31. | I10: 청장전수 | J10: ㅇ 개요 : 적극적인 예금사업 마케팅을 유도하여 예금사업 경쟁력 강화 ㅇ 필요성 : 현장 마케팅 강화로 예금사업 수익성 증대에 기여
A11: 보험영업과 | B11: 보험사업유공 | C11: =SUM(D11:G11) -> 1 | D11: 1 | H11: 12.31. | I11: 청장전수 | J11: o 개요 : 우정사업 경영합리화 시행계획 중점추진과제2번 금융사업의 내실있는 운영으로 보험사업의 안정적 기반 조성에 기여한 유공자 표창 o 필요성 : 보험사업 종합손익 증대 및 내실 강화에 기여한 공이 큰 직원에 대한 표창 필요
A12: 회계정보과 | B12: 경영평가 유공 | C12: =SUM(D12:G12) -> 1 | D12: 1 | H12: 12.31. | I12: 청장전수 | J12: ㅇ 개요 : 비용절감, 수익창출 등 수지개선을 통한 우정사업 경영평가 유공직원 표창 ㅇ 필요성 : 경영평가 지표 관리 우수직원에 대한 유공직원 표창으로 경영평가 관리 철저
A13: 인력계획과 | B13: 인사업무 유공 | C13: =SUM(D13:G13) -> 1 | D13: 1 | H13: 12.31. | I13: 청장전수 | J13: o 개요 : 인사전문가 양성을 위한 인사업무 유공자 선정 표창 o 필요성 :인사혁신의 핵심가치를 내재화하고 추동력을 확보하기 위한 인사분야 전문가 양성 및 중점 관리 필요성 대두

Sheet 3. 본부장표창
A1: 2018년도 본부장표창(청 위임분) 수여계획
A3: 주관부서명 | B3: 공적분야 | C3: 2018년도 표창대상 및 인원 | J3: 표창개요 및 필요성
C4: 계 | D4: 부내 | F4: 부외·민간 | H4: 수여 시기 (월일 표시) | I4: 수여 방법 (전수자 표시)
D5: 개인 | E5: 단체 | F5: 개인 | G5: 단체
C6: =SUM(D6:G6) -> 17 | D6: =SUM(D7:D18) -> 17 | E6: =SUM(E7:E8) -> 0 | F6: =SUM(F7:F8) -> 0 | G6: =SUM(G7:G8) -> 0
A7: 우정계획과 | B7: 국유재산 및 창구망 합리화, 시설분야 유공 | C7: =SUM(D7:G7) -> 2 | D7: 2 | H7: 12.31. | I7: 청장전수 | J7: ㅇ 개요 : 창구망 합리화 및 시설분야의 체계적 관리 ㅇ 필요성 : 국유재산의 효율적 관리와, 창구망 합리화를 통한 예산의 효율적 활용 도모
A8: 우편영업과 | B8: 우편사업유공 | C8: =SUM(D8:G8) -> 3 | D8: 3 | H8: 12.31. | I8: 청장전수 | J8: ㅇ 개요 : 우편사업 유공 분야 우수직원 선발로 사업발전 유도 ㅇ 필요성 : 우편분야 경쟁력 강화를 위해 분야별(통상, 소포, 국제) 신규수익 창출에 기여한 유공자 표창
A9: 우편물류과 | B9: 명절(설) 우편물 특별소통유공 | C9: =SUM(D9:G9) -> 1 | D9: 1 | H9: 03.31. | I9: 청장전수 | J9: ㅇ 개요 : 명절 우편물 급증시기 원활한 우편서비스 제공으로 우편서비스 경쟁력 확보 ㅇ 필요성 : 우편서비스 경쟁력 확보와 업무프로세스 개선에 기여한 유공자에 대한 표창
A10: 우편물류과 | B10: 지방선거 우편물 특별소통유공 | C10: =SUM(D10:G10) -> 1 | D10: 1 | H10: 06.30. | I10: 청장전수 | J10: ㅇ 개요 : 지방선거 우편물의 완벽한 소통으로 대국민 우편서비스 경쟁력 제고 ㅇ 필요성 : 우편서비스 경쟁력 확보와 업무프로세스 개선에 기여한 유공자에 대한 표창
A11: 우편물류과 | B11: 명절(설) 우편물 특별소통유공 | C11: =SUM(D11:G11) -> 1 | D11: 1 | H11: 10.31. | I11: 청장전수 | J11: ㅇ 개요 : 명절 우편물 급증시기 원활한 우편서비스 제공으로 우편서비스 경쟁력 확보 ㅇ 필요성 : 우편서비스 경쟁력 확보와 업무프로세스 개선에 기여한 유공자에 대한 표창
A12: 예금영업팀 | B12: 우체국예금 수신고 증대 유공 | C12: =SUM(D12:G12) -> 1 | D12: 1 | H12: 12.31. | I12: 청장전수 | J12: ㅇ 개요 : 현업관서 요구불예금 마케팅 강화 ㅇ 필요성 : 요구불예금 증대로 예금사업 수익성 증대에 기여
A13: 예금영업팀 | B13: 우체국체크카드 유공 | C13: =SUM(D13:G13) -> 1 | D13: 1 | H13: 12.31. | I13: 청장전수 | J13: ㅇ 개요 : 체크카드 수수료 증대를 위한 마케팅 유공직원 표창 ㅇ 필요성 : 가압자 증대 활동 등을 통한 체크카드 수수료 증대
A14: 예금영업팀 | B14: 전자금융활성화유공 | C14: =SUM(D14:G14) -> 1 | D14: 1 | H14: 12.31. | I14: 청장전수 | J14: ㅇ 개요 : 스마트금융 가입자 및 이용률 증대를 위한 마케팅 강화 ㅇ 필요성 : 우체국 스마트금융 경쟁력 확보
A15: 보험영업과 | B15: 보험사업유공 | C15: =SUM(D15:G15) -> 2 | D15: 2 | H15: 12.31. | I15: 청장전수 | J15: o 개요 : 우정사업 경영합리화 시행계획 중점추진과제2번 금융사업의 내실있는 운영으로 보험사업의 안정적 기반 조성에 기여한 유공자 표창 o 필요성 : 정산초회보험료, FC조직 강화 등 보험사업의 질적∙양적 성장에 기여한 직원들에 대한 표창 필요
A16: 회계정보과 | B16: 회계업무 유공 | C16: =SUM(D16:G16) -> 1 | D16: 1 | H16: 12.31. | I16: 청장전수 | J16: ㅇ 개요 : 회계업무 집중화 이후 각종 계약 및 예산, 물품관리 등 업무유공직원 표창 ㅇ 필요성 : 회계업무에 대한 체계적인 관리 및 투명한 집행분위기 조성
A17: 운영지원과 | B17: 비상대비 유공 | C17: =SUM(D17:G17) -> 1 | D17: 1 | H17: 12.31. | I17: 청장전수 | J17: o 개요 : 보안 및 비상대비 업무발전 유공자 표창 o 사유 : 보안 및 비상대비 기본계획 수립 등 후속 과제 추진으로 지속적인 업무발전 기여에 따라 유공자 표창 필요
A18: 감사관 | B18: 감사업무유공 | C18: =SUM(D18:G18) -> 2 | D18: 2 | H18: 12.31. | I18: 청장전수 | J18: ㅇ 개요 : 감사활동 수행으로 반부패 청렴의식 제고를 통한 우정사업 발전의 기반 조성 ㅇ 필요성 : 계획적인 감사활동으로 사고예방 및 부패방지로 우정사업 발전에 기여
