Workbook

Sheet 총괄국별 배부내역
A1: 2017년도 KCSI 1위 홍보포스터 배부내역
A2: 총괄국 | B2: 배부수량 | C2: 고객안내용(小) | D2: 비 고
A3: 대전 | B3: =SUMIF('※우체국 배부내역'!$A$5:$A$527,'총괄국별 배부내역'!A3,'※우체국 배부내역'!$D$5:$D$527) -> 25 | C3: =SUMIF('※우체국 배부내역'!$A$5:$A$527,'총괄국별 배부내역'!A3,'※우체국 배부내역'!$E$5:$E$527) -> 0 | D3: ★ 배부기준
A4: 서대전 | B4: =SUMIF('※우체국 배부내역'!$A$5:$A$527,'총괄국별 배부내역'!A4,'※우체국 배부내역'!$D$5:$D$527) -> 21 | C4: =SUMIF('※우체국 배부내역'!$A$5:$A$527,'총괄국별 배부내역'!A4,'※우체국 배부내역'!$E$5:$E$527) -> 0 | D4: ▷ 4급관서 6부
A5: 대전유성 | B5: =SUMIF('※우체국 배부내역'!$A$5:$A$527,'총괄국별 배부내역'!A5,'※우체국 배부내역'!$D$5:$D$527) -> 24 | C5: =SUMIF('※우체국 배부내역'!$A$5:$A$527,'총괄국별 배부내역'!A5,'※우체국 배부내역'!$E$5:$E$527) -> 0 | D5: ▷ 5급관서 5부
A6: 대전대덕 | B6: =SUMIF('※우체국 배부내역'!$A$5:$A$527,'총괄국별 배부내역'!A6,'※우체국 배부내역'!$D$5:$D$527) -> 23 | C6: =SUMIF('※우체국 배부내역'!$A$5:$A$527,'총괄국별 배부내역'!A6,'※우체국 배부내역'!$E$5:$E$527) -> 0 | D6: ▷ 6급이하 관서 1부
A7: 대전둔산 | B7: =SUMIF('※우체국 배부내역'!$A$5:$A$527,'총괄국별 배부내역'!A7,'※우체국 배부내역'!$D$5:$D$527) -> 32 | C7: =SUMIF('※우체국 배부내역'!$A$5:$A$527,'총괄국별 배부내역'!A7,'※우체국 배부내역'!$E$5:$E$527) -> 0 | D7: ▷ 출장소, 별정국, 취급국 각 1부
A8: 천안 | B8: =SUMIF('※우체국 배부내역'!$A$5:$A$527,'총괄국별 배부내역'!A8,'※우체국 배부내역'!$D$5:$D$527) -> 21 | C8: =SUMIF('※우체국 배부내역'!$A$5:$A$527,'총괄국별 배부내역'!A8,'※우체국 배부내역'!$E$5:$E$527) -> 0
A9: 동천안 | B9: =SUMIF('※우체국 배부내역'!$A$5:$A$527,'총괄국별 배부내역'!A9,'※우체국 배부내역'!$D$5:$D$527) -> 27 | C9: =SUMIF('※우체국 배부내역'!$A$5:$A$527,'총괄국별 배부내역'!A9,'※우체국 배부내역'!$E$5:$E$527) -> 0
A10: 공주 | B10: =SUMIF('※우체국 배부내역'!$A$5:$A$527,'총괄국별 배부내역'!A10,'※우체국 배부내역'!$D$5:$D$527) -> 20 | C10: =SUMIF('※우체국 배부내역'!$A$5:$A$527,'총괄국별 배부내역'!A10,'※우체국 배부내역'!$E$5:$E$527) -> 0
A11: 아산 | B11: =SUMIF('※우체국 배부내역'!$A$5:$A$527,'총괄국별 배부내역'!A11,'※우체국 배부내역'!$D$5:$D$527) -> 28 | C11: =SUMIF('※우체국 배부내역'!$A$5:$A$527,'총괄국별 배부내역'!A11,'※우체국 배부내역'!$E$5:$E$527) -> 0
A12: 논산 | B12: =SUMIF('※우체국 배부내역'!$A$5:$A$527,'총괄국별 배부내역'!A12,'※우체국 배부내역'!$D$5:$D$527) -> 34 | C12: =SUMIF('※우체국 배부내역'!$A$5:$A$527,'총괄국별 배부내역'!A12,'※우체국 배부내역'!$E$5:$E$527) -> 0
A13: 청주 | B13: =SUMIF('※우체국 배부내역'!$A$5:$A$527,'총괄국별 배부내역'!A13,'※우체국 배부내역'!$D$5:$D$527) -> 34 | C13: =SUMIF('※우체국 배부내역'!$A$5:$A$527,'총괄국별 배부내역'!A13,'※우체국 배부내역'!$E$5:$E$527) -> 0
A14: 서청주 | B14: =SUMIF('※우체국 배부내역'!$A$5:$A$527,'총괄국별 배부내역'!A14,'※우체국 배부내역'!$D$5:$D$527) -> 30 | C14: =SUMIF('※우체국 배부내역'!$A$5:$A$527,'총괄국별 배부내역'!A14,'※우체국 배부내역'!$E$5:$E$527) -> 0
A15: 충주 | B15: =SUMIF('※우체국 배부내역'!$A$5:$A$527,'총괄국별 배부내역'!A15,'※우체국 배부내역'!$D$5:$D$527) -> 27 | C15: =SUMIF('※우체국 배부내역'!$A$5:$A$527,'총괄국별 배부내역'!A15,'※우체국 배부내역'!$E$5:$E$527) -> 0
A16: 제천 | B16: =SUMIF('※우체국 배부내역'!$A$5:$A$527,'총괄국별 배부내역'!A16,'※우체국 배부내역'!$D$5:$D$527) -> 22 | C16: =SUMIF('※우체국 배부내역'!$A$5:$A$527,'총괄국별 배부내역'!A16,'※우체국 배부내역'!$E$5:$E$527) -> 0
A17: 세종 | B17: =SUMIF('※우체국 배부내역'!$A$5:$A$527,'총괄국별 배부내역'!A17,'※우체국 배부내역'!$D$5:$D$527) -> 23 | C17: =SUMIF('※우체국 배부내역'!$A$5:$A$527,'총괄국별 배부내역'!A17,'※우체국 배부내역'!$E$5:$E$527) -> 0
A18: 서산 | B18: =SUMIF('※우체국 배부내역'!$A$5:$A$527,'총괄국별 배부내역'!A18,'※우체국 배부내역'!$D$5:$D$527) -> 22 | C18: =SUMIF('※우체국 배부내역'!$A$5:$A$527,'총괄국별 배부내역'!A18,'※우체국 배부내역'!$E$5:$E$527) -> 0
A19: 금산 | B19: =SUMIF('※우체국 배부내역'!$A$5:$A$527,'총괄국별 배부내역'!A19,'※우체국 배부내역'!$D$5:$D$527) -> 15 | C19: =SUMIF('※우체국 배부내역'!$A$5:$A$527,'총괄국별 배부내역'!A19,'※우체국 배부내역'!$E$5:$E$527) -> 0
... A37: 천안우편집중국 | B37: =SUMIF('※우체국 배부내역'!$A$5:$A$527,'총괄국별 배부내역'!A37,'※우체국 배부내역'!$D$5:$D$527) -> 5 | C37: =SUMIF('※우체국 배부내역'!$A$5:$A$527,'총괄국별 배부내역'!A37,'※우체국 배부내역'!$E$5:$E$527) -> 0
A38: 충청지방우정청 | B38: ='※우체국 배부내역'!D527 -> 5 | C38: 120
A39: 합계 | B39: =SUM(B3:B38) -> 700 | C39: =SUM(C3:C38) -> 120

Sheet ※우체국 배부내역
A1: 2017년도 KCSI 1위 홍보포스터 배부내역
D3: =SUM(D5:D527) -> 700
A4: 총괄국 | B4: 우체국 | C4: 관서급 | D4: 배부수량 | E4: 고객안내용(小)
A5: 대전 | B5: 대전 | C5: 4급 | D5: =VLOOKUP(C5,$G$5:$H$15,2,FALSE) -> 6 | G5: 관서급 | H5: 포스터 수량
A6: 대전 | B6: 대전가양동 | C6: 6급 | D6: =VLOOKUP(C6,$G$5:$H$15,2,FALSE) -> 1 | G6: 4급 | H6: 6
A7: 대전 | B7: 대전가오동 | C7: 6급 | D7: =VLOOKUP(C7,$G$5:$H$15,2,FALSE) -> 1 | G7: 5급 | H7: 5
A8: 대전 | B8: 대전낭월동 | C8: 6급 | D8: =VLOOKUP(C8,$G$5:$H$15,2,FALSE) -> 1 | G8: 5급 집배 | H8: 5
A9: 대전 | B9: 대전삼성동 | C9: 6급 | D9: =VLOOKUP(C9,$G$5:$H$15,2,FALSE) -> 1 | G9: 6급 | H9: 1
A10: 대전 | B10: 대전소제동 | C10: 6급 | D10: =VLOOKUP(C10,$G$5:$H$15,2,FALSE) -> 1 | G10: 7급 | H10: 1
A11: 대전 | B11: 대전용전동 | C11: 6급 | D11: =VLOOKUP(C11,$G$5:$H$15,2,FALSE) -> 1 | G11: 별정국 | H11: 1
A12: 대전 | B12: 대전판암동 | C12: 6급 | D12: =VLOOKUP(C12,$G$5:$H$15,2,FALSE) -> 1 | G12: 집배물류센터 | H12: 1
A13: 대전 | B13: 대전비룡동 | C13: 별정국 | D13: =VLOOKUP(C13,$G$5:$H$15,2,FALSE) -> 1 | G13: 출장소 | H13: 1
A14: 대전 | B14: 대전대룡 | C14: 취급국 | D14: =VLOOKUP(C14,$G$5:$H$15,2,FALSE) -> 1 | G14: 취급국 | H14: 1
A15: 대전 | B15: 대전대자양 | C15: 취급국 | D15: =VLOOKUP(C15,$G$5:$H$15,2,FALSE) -> 1 | G15: 자청 | H15: 5
A16: 대전 | B16: 대전대학교 | C16: 취급국 | D16: =VLOOKUP(C16,$G$5:$H$15,2,FALSE) -> 1
A17: 대전 | B17: 대전산내 | C17: 취급국 | D17: =VLOOKUP(C17,$G$5:$H$15,2,FALSE) -> 1
A18: 대전 | B18: 대전성남2동 | C18: 취급국 | D18: =VLOOKUP(C18,$G$5:$H$15,2,FALSE) -> 1
A19: 대전 | B19: 대전용운아파트 | C19: 취급국 | D19: =VLOOKUP(C19,$G$5:$H$15,2,FALSE) -> 1
A20: 대전 | B20: 대전원용전 | C20: 취급국 | D20: =VLOOKUP(C20,$G$5:$H$15,2,FALSE) -> 1
A21: 대전 | B21: 대전진성 | C21: 취급국 | D21: =VLOOKUP(C21,$G$5:$H$15,2,FALSE) -> 1
A22: 대전 | B22: 대전홍도동 | C22: 취급국 | D22: =VLOOKUP(C22,$G$5:$H$15,2,FALSE) -> 1
A23: 대전 | B23: 대전효천 | C23: 취급국 | D23: =VLOOKUP(C23,$G$5:$H$15,2,FALSE) -> 1
A24: 대전 | B24: 우송대학교 | C24: 취급국 | D24: =VLOOKUP(C24,$G$5:$H$15,2,FALSE) -> 1
A25: 서대전 | B25: 서대전 | C25: 4급 | D25: =VLOOKUP(C25,$G$5:$H$15,2,FALSE) -> 6
A26: 서대전 | B26: 대전대흥동 | C26: 6급 | D26: =VLOOKUP(C26,$G$5:$H$15,2,FALSE) -> 1
A27: 서대전 | B27: 대전목동 | C27: 6급 | D27: =VLOOKUP(C27,$G$5:$H$15,2,FALSE) -> 1
... A526: 천안우편집중국 | B526: 천안우편집중국 | C526: 5급 | D526: =VLOOKUP(C526,$G$5:$H$15,2,FALSE) -> 5
A527: 충청지방우정청 | B527: 충청지방우정청 | D527: 5
