Workbook
Name _1._접수우편물: #REF!
Name _1._접수우편물: #REF!
Name _1._접수우편물: #REF!
Name _1._접수우편물: #REF!
Name _2._배달우편물: '[1]청별 배달물량'!$A$2
Name _2._배달우편물: '[1]청별 배달물량'!$A$2
Name _2._배달우편물: '[1]청별 배달물량'!$A$2
Name _2._배달우편물: '[1]청별 배달물량'!$A$2
Name _3._우편세입: #REF!
Name ajs: #REF!
Name ajs: #REF!
Name ajs: #REF!
Name ajs: #REF!
Name df: #REF!
Name df: #REF!
Name df: #REF!
Name dfd: #REF!
Name dfdfds: #REF!
Name dfdhrt: #REF!
Name dfdv: #REF!
Name dhk: #REF!
Name ds: #REF!
Name e: #REF!
Name eetet: #REF!
Name egv: #REF!
Name ertet: #REF!
Name etyr: #REF!
Name fdfdf: #REF!
Name fe: #REF!
Name fgfh: #REF!
Name fh: #REF!
Name g: #REF!
Name gdfd: #REF!
Name ghds: #REF!
Name gjhd: #REF!
Name hf: #REF!
Name hfs: #REF!
Name hjb: #REF!
Name hjkl: #REF!
Name knbg: #REF!
Name nvf: #REF!
Name qe4yh: #REF!
Name qe4yh: #REF!
Name qf: #REF!
Name qf: #REF!
Name rg: #REF!
Name rgr: #REF!
Name rhew: #REF!
Name rjt: #REF!
Name rrg: #REF!
Name rsss: #REF!
Name rtrtr: #REF!
Name rtrtre: #REF!
Name rtrtrtrtre: #REF!
Name sdsd: #REF!
Name sdsds: #REF!
Name tutut: #REF!
Name w: #REF!
Name wewe: #REF!
Name wfsa: #REF!

Sheet 통상
A1: 2017. 5월 생활정보우편 매출 우수국 현황
A2: 2017.5.26.기준 | F2: (단위 : 통, 원)
A3: 순위 | B3: 국명 | C3: 생활정보우편(5월) | E3: 생활정보우편금액('17년 누계)
C4: 물량 | D4: 매출액 | E4: 물량 | F4: 매출액
A5: 1 | B5: 서울노원 | C5: 158039 | D5: 20795110 | E5: 1325288 | F5: 180727080
A6: 2 | B6: 서울강남 | C6: 140429 | D6: 18259300 | E6: 694092 | F6: 86397180
A7: 3 | B7: 서울은평 | C7: 132957 | D7: 17603140 | E7: 721553 | F7: 90697370
A8: 4 | B8: 서울서초 | C8: 96151 | D8: 12817230 | E8: 360151 | F8: 45259150
A9: 5 | B9: 동대문 | C9: 69102 | D9: 10381460 | E9: 323560 | F9: 41413420
A10: 6 | B10: 서울광진 | C10: 74163 | D10: 9778010 | E10: 470112 | F10: 59962030
A11: 7 | B11: 서울도봉 | C11: 70200 | D11: 9266390 | E11: 325120 | F11: 43987770
A12: 8 | B12: 서울중랑 | C12: 65943 | D12: 8864470 | E12: 264616 | F12: 34450320
A13: 9 | B13: 서울성북 | C13: 58598 | D13: 7682350 | E13: 282739 | F13: 36514210
A14: 10 | B14: 광화문 | C14: 44886 | D14: 5924950 | E14: 228787 | F14: 28720650
A15: 11 | B15: 서울강동 | C15: 37710 | D15: 5442200 | E15: 358832 | F15: 47145520
A16: 12 | B16: 서울송파 | C16: 41951 | D16: 5285930 | E16: 523710 | F16: 67631590
... A27: 23 | B27: 서울중앙 | C27: 5403 | D27: 713190 | E27: 60356 | F27: 7435400
A28: 계 | C28: 1167722 | D28: 155739390 | E28: =SUM(E5:E26) -> 8124418 | F28: =SUM(F5:F26) -> 1050680420

Sheet 소포 
A1: 2017년도 5월 소포사업 총괄국 부분별 우수국 현황
D3: (단위 : 통, %) | J3: (단위 : 통, %) | P3: (단위 : 천원, %)
A4: 구 분 | B4: 창구등기소포 물량 | G4: 구 분 | H4: 개별(반품) 픽업 물량 | M4: 구 분 | N4: 계약택배 매출액
B5: 2017.5월 | C5: 2016.5월 | D5: 증감률 | E5: 순위 | H5: 2017.5월 | I5: 2016.5월 | J5: 증감률 | K5: 순위 | N5: 2017.5월 | O5: 2016.5월 | P5: 증감률 | Q5: 순위
A6: 서울구로 | B6: 23480 | C6: 21288 | D6: =(B6-C6)/C6*100 -> 10.296881 | E6: =RANK(D6,$D$6:$D$28,0) -> 1 | G6: 서울중랑 | H6: 4911 | I6: 3746 | J6: =(H6-I6)/I6*100 -> 31.09984 | K6: =RANK(J6,$J$6:$J$27,0) -> 1 | M6: 서울송파 | N6: 280448 | O6: 199254 | P6: =(N6-O6)/O6*100 -> 40.748994 | Q6: =RANK(P6,$P$6:$P$25,0) -> 1
A7: 서울광진 | B7: 44400 | C7: 40762 | D7: =(B7-C7)/C7*100 -> 8.9249791 | E7: =RANK(D7,$D$6:$D$28,0) -> 2 | G7: 서울송파 | H7: 10782 | I7: 8429 | J7: =(H7-I7)/I7*100 -> 27.91553 | K7: =RANK(J7,$J$6:$J$27,0) -> 2 | M7: 서울구로 | N7: 359747 | O7: 263169 | P7: =(N7-O7)/O7*100 -> 36.698091 | Q7: =RANK(P7,$P$6:$P$25,0) -> 2
A8: 서울중랑 | B8: 18216 | C8: 16743 | D8: =(B8-C8)/C8*100 -> 8.7977065 | E8: =RANK(D8,$D$6:$D$28,0) -> 3 | G8: 서울노원 | H8: 6675 | I8: 5615 | J8: =(H8-I8)/I8*100 -> 18.878005 | K8: =RANK(J8,$J$6:$J$27,0) -> 3 | M8: 국제물류 | N8: 1946560 | O8: 1481473 | P8: =(N8-O8)/O8*100 -> 31.393552 | Q8: =RANK(P8,$P$6:$P$25,0) -> 3
A9: 서울동작 | B9: 22609 | C9: 20966 | D9: =(B9-C9)/C9*100 -> 7.8364972 | E9: =RANK(D9,$D$6:$D$28,0) -> 4 | G9: 서울성북 | H9: 6166 | I9: 5212 | J9: =(H9-I9)/I9*100 -> 18.303914 | K9: =RANK(J9,$J$6:$J$27,0) -> 4 | M9: 서울강동 | N9: 242251 | O9: 184851 | P9: =(N9-O9)/O9*100 -> 31.052037 | Q9: =RANK(P9,$P$6:$P$25,0) -> 4
A10: 서울강서 | B10: 31051 | C10: 28831 | D10: =(B10-C10)/C10*100 -> 7.7000451 | E10: =RANK(D10,$D$6:$D$28,0) -> 5 | G10: 서울도봉 | H10: 7452 | I10: 6405 | J10: =(H10-I10)/I10*100 -> 16.346604 | K10: =RANK(J10,$J$6:$J$27,0) -> 5 | M10: 서울중랑 | N10: 377278 | O10: 293769 | P10: =(N10-O10)/O10*100 -> 28.426757 | Q10: =RANK(P10,$P$6:$P$25,0) -> 5
A11: 서울송파 | B11: 47808 | C11: 44773 | D11: =(B11-C11)/C11*100 -> 6.7786389 | E11: =RANK(D11,$D$6:$D$28,0) -> 6 | G11: 서울동작 | H11: 6486 | I11: 5591 | J11: =(H11-I11)/I11*100 -> 16.00787 | K11: =RANK(J11,$J$6:$J$27,0) -> 6 | M11: 동대문 | N11: 483688 | O11: 406029 | P11: =(N11-O11)/O11*100 -> 19.126466 | Q11: =RANK(P11,$P$6:$P$25,0) -> 6
A12: 서울은평 | B12: 23654 | C12: 22349 | D12: =(B12-C12)/C12*100 -> 5.8391874 | E12: =RANK(D12,$D$6:$D$28,0) -> 7 | G12: 서울양천 | H12: 5909 | I12: 5094 | J12: =(H12-I12)/I12*100 -> 15.999215 | K12: =RANK(J12,$J$6:$J$27,0) -> 7 | M12: 서울은평 | N12: 140886 | O12: 120780 | P12: =(N12-O12)/O12*100 -> 16.646796 | Q12: =RANK(P12,$P$6:$P$25,0) -> 7
A13: 서울금천 | B13: 13181 | C13: 12456 | D13: =(B13-C13)/C13*100 -> 5.8204881 | E13: =RANK(D13,$D$6:$D$28,0) -> 8 | G13: 서울강동 | H13: 6381 | I13: 5536 | J13: =(H13-I13)/I13*100 -> 15.263728 | K13: =RANK(J13,$J$6:$J$27,0) -> 8 | M13: 서울강남 | N13: 615747 | O13: 531186 | P13: =(N13-O13)/O13*100 -> 15.919283 | Q13: =RANK(P13,$P$6:$P$25,0) -> 8
A14: 서울강동 | B14: 23451 | C14: 22199 | D14: =(B14-C14)/C14*100 -> 5.6398937 | E14: =RANK(D14,$D$6:$D$28,0) -> 9 | G14: 서울강서 | H14: 7822 | I14: 6838 | J14: =(H14-I14)/I14*100 -> 14.390173 | K14: =RANK(J14,$J$6:$J$27,0) -> 9 | M14: 서대문 | N14: 760235 | O14: 681765 | P14: =(N14-O14)/O14*100 -> 11.509831 | Q14: =RANK(P14,$P$6:$P$25,0) -> 9
A15: 서울용산 | B15: 23440 | C15: 22490 | D15: =(B15-C15)/C15*100 -> 4.2240996 | E15: =RANK(D15,$D$6:$D$28,0) -> 10 | G15: 서울광진 | H15: 10444 | I15: 9307 | J15: =(H15-I15)/I15*100 -> 12.216611 | K15: =RANK(J15,$J$6:$J$27,0) -> 10 | M15: 여의도 | N15: 569473 | O15: 528230 | P15: =(N15-O15)/O15*100 -> 7.8077731 | Q15: =RANK(P15,$P$6:$P$25,0) -> 10
A16: 서울관악 | B16: 26743 | C16: 25739 | D16: =(B16-C16)/C16*100 -> 3.9006954 | E16: =RANK(D16,$D$6:$D$28,0) -> 11 | G16: 서울관악 | H16: 7861 | I16: 7017 | J16: =(H16-I16)/I16*100 -> 12.027932 | K16: =RANK(J16,$J$6:$J$27,0) -> 11 | M16: 서울중앙 | N16: 627095 | O16: 584999 | P16: =(N16-O16)/O16*100 -> 7.1959097 | Q16: =RANK(P16,$P$6:$P$25,0) -> 11
A17: 서울도봉 | B17: 29046 | C17: 28381 | D17: =(B17-C17)/C17*100 -> 2.3431169 | E17: =RANK(D17,$D$6:$D$28,0) -> 12 | G17: 서울구로 | H17: 9475 | I17: 8477 | J17: =(H17-I17)/I17*100 -> 11.773033 | K17: =RANK(J17,$J$6:$J$27,0) -> 12 | M17: 서울광진 | N17: =1171721-360604 -> 811117 | O17: 768906 | P17: =(N17-O17)/O17*100 -> 5.4897478 | Q17: =RANK(P17,$P$6:$P$25,0) -> 12
A18: 서대문 | B18: 25570 | C18: 25054 | D18: =(B18-C18)/C18*100 -> 2.0595514 | E18: =RANK(D18,$D$6:$D$28,0) -> 13 | G18: 서울중앙 | H18: 5723 | I18: 5138 | J18: =(H18-I18)/I18*100 -> 11.385753 | K18: =RANK(J18,$J$6:$J$27,0) -> 13 | M18: 서울서초 | N18: 259178 | O18: 247735 | P18: =(N18-O18)/O18*100 -> 4.6190486 | Q18: =RANK(P18,$P$6:$P$25,0) -> 13
A19: 서울성북 | B19: 23523 | C19: 23054 | D19: =(B19-C19)/C19*100 -> 2.0343541 | E19: =RANK(D19,$D$6:$D$28,0) -> 14 | G19: 서울은평 | H19: 5404 | I19: 4854 | J19: =(H19-I19)/I19*100 -> 11.330861 | K19: =RANK(J19,$J$6:$J$27,0) -> 14 | M19: 서울용산 | N19: 611954 | O19: 603211 | P19: =(N19-O19)/O19*100 -> 1.4494099 | Q19: =RANK(P19,$P$6:$P$25,0) -> 14
A20: 여의도 | B20: 46467 | C20: 45711 | D20: =(B20-C20)/C20*100 -> 1.6538689 | E20: =RANK(D20,$D$6:$D$28,0) -> 15 | G20: 서울용산 | H20: 4648 | I20: 4232 | J20: =(H20-I20)/I20*100 -> 9.8298677 | K20: =RANK(J20,$J$6:$J$27,0) -> 15 | M20: 서울도봉 | N20: 353595 | O20: 383164 | P20: =(N20-O20)/O20*100 -> -7.7170611 | Q20: =RANK(P20,$P$6:$P$25,0) -> 15
A21: 서울서초 | B21: 49856 | C21: 49329 | D21: =(B21-C21)/C21*100 -> 1.0683371 | E21: =RANK(D21,$D$6:$D$28,0) -> 16 | G21: 동대문 | H21: 5147 | I21: 4751 | J21: =(H21-I21)/I21*100 -> 8.3350874 | K21: =RANK(J21,$J$6:$J$27,0) -> 16 | M21: 서울관악 | N21: 199706 | O21: 223347 | P21: =(N21-O21)/O21*100 -> -10.584875 | Q21: =RANK(P21,$P$6:$P$25,0) -> 16
A22: 서울중앙 | B22: 34836 | C22: 34632 | D22: =(B22-C22)/C22*100 -> 0.58905059 | E22: =RANK(D22,$D$6:$D$28,0) -> 17 | G22: 서대문 | H22: 5411 | I22: 4999 | J22: =(H22-I22)/I22*100 -> 8.2416483 | K22: =RANK(J22,$J$6:$J$27,0) -> 17 | M22: 서울동작 | N22: 117544 | O22: 138204 | P22: =(N22-O22)/O22*100 -> -14.948916 | Q22: =RANK(P22,$P$6:$P$25,0) -> 17
A23: 서울마포 | B23: 38106 | C23: 37912 | D23: =(B23-C23)/C23*100 -> 0.51171133 | E23: =RANK(D23,$D$6:$D$28,0) -> 18 | G23: 여의도 | H23: 7804 | I23: 7355 | J23: =(H23-I23)/I23*100 -> 6.1046907 | K23: =RANK(J23,$J$6:$J$27,0) -> 18 | M23: 서울강서 | N23: 203959 | O23: 246038 | P23: =(N23-O23)/O23*100 -> -17.102643 | Q23: =RANK(P23,$P$6:$P$25,0) -> 18
A24: 서울노원 | B24: 31293 | C24: 31233 | D24: =(B24-C24)/C24*100 -> 0.1921045 | E24: =RANK(D24,$D$6:$D$28,0) -> 19 | G24: 서울마포 | H24: 8070 | I24: 7943 | J24: =(H24-I24)/I24*100 -> 1.5988921 | K24: =RANK(J24,$J$6:$J$27,0) -> 19 | M24: 동서울집 | N24: 89853 | O24: 115686 | P24: =(N24-O24)/O24*100 -> -22.330273 | Q24: =RANK(P24,$P$6:$P$25,0) -> 19
A25: 서울강남 | B25: 80402 | C25: 80412 | D25: =(B25-C25)/C25*100 -> -0.012435955 | E25: =RANK(D25,$D$6:$D$28,0) -> 20 | G25: 서울강남 | H25: 18826 | I25: 19050 | J25: =(H25-I25)/I25*100 -> -1.175853 | K25: =RANK(J25,$J$6:$J$27,0) -> 20 | M25: 서울양천 | N25: 191452 | O25: 255047 | P25: =(N25-O25)/O25*100 -> -24.93462 | Q25: =RANK(P25,$P$6:$P$25,0) -> 20
A26: 광화문 | B26: 37098 | C26: 37180 | D26: =(B26-C26)/C26*100 -> -0.22054868 | E26: =RANK(D26,$D$6:$D$28,0) -> 21 | G26: 서울서초 | H26: 11562 | I26: 11700 | J26: =(H26-I26)/I26*100 -> -1.1794872 | K26: =RANK(J26,$J$6:$J$27,0) -> 21 | M26: 소 계 | N26: =SUM(N6:N25) -> 9241766 | O26: =SUM(O6:O25) -> 8256843 | P26: =(N26-O26)/O26*100 -> 11.928566
A27: 동대문 | B27: 23829 | C27: 23937 | D27: =(B27-C27)/C27*100 -> -0.45118436 | E27: =RANK(D27,$D$6:$D$28,0) -> 22 | G27: 광화문 | H27: 4687 | I27: 5013 | J27: =(H27-I27)/I27*100 -> -6.503092 | K27: =RANK(J27,$J$6:$J$27,0) -> 22 | M27: o 피통합국
A28: 서울양천 | B28: 22270 | C28: 26597 | D28: =(B28-C28)/C28*100 -> -16.268752 | E28: =RANK(D28,$D$6:$D$28,0) -> 23 | G28: 서울금천 | H28: 무집배국 | M28: 광화문 | N28: 92032 | O28: 31093 | P28: =(N28-O28)/O28*100 -> 195.98945 | Q28: 1
A29: 소 계 | B29: =SUM(B6:B28) -> 740329 | C29: =SUM(C6:C28) -> 722028 | D29: =(B29-C29)/C29*100 -> 2.5346662 | G29: 소 계 | H29: =SUM(H6:H28) -> 167646 | I29: =SUM(I6:I28) -> 152302 | J29: =(H29-I29)/I29*100 -> 10.07472 | M29: 서울마포 | N29: 74577 | O29: 26094 | P29: =(N29-O29)/O29*100 -> 185.80133 | Q29: 2
A30: 동서울집 | B30: 4999 | C30: 342 | D30: 평가제외 | G30: 동서울집 | H30: 해당사항 없음 | M30: 서울성북 | N30: 42116 | O30: 17331 | P30: =(N30-O30)/O30*100 -> 143.00964 | Q30: 3
A31: 국제물류 | B31: 403 | C31: 471 | G31: 국제물류 | M31: 서울노원 | N31: 24889 | O31: 14196 | P31: =(N31-O31)/O31*100 -> 75.324035 | Q31: 4
A32: 소 계 | B32: =SUM(B30:B31) -> 5402 | C32: =SUM(C30:C31) -> 813 | D32: =(B32-C32)/C32*100 -> 564.45264 | G32: 소 계 | H32: =SUM(H30:H31) -> 0 | I32: =SUM(I30:I31) -> 0 | M32: 소 계 | N32: =SUM(N28:N31) -> 233614 | O32: =SUM(O28:O31) -> 88714 | P32: =(N32-O32)/O32*100 -> 163.33386
A33: 합 계 | B33: =(B29+B32) -> 745731 | C33: =(C29+C32) -> 722841 | D33: =(B33-C33)/C33*100 -> 3.1666715 | G33: 합 계 | H33: =H29+H32 -> 167646 | I33: =I29+I32 -> 152302 | J33: =(H33-I33)/I33*100 -> 10.07472 | M33: 합 계 | N33: =N26+N32 -> 9475380 | O33: =O26+O32 -> 8345557 | P33: =(N33-O33)/O33*100 -> 13.538018
A34: 일평균 | B34: =B33/17 -> 43866.529 | C34: =C33/18 -> 40157.833 | D34: =(B34-C34)/C34*100 -> 9.2352992 | G34: 일평균 | H34: =H33/17 -> 9861.5294 | I34: =I33/18 -> 8461.2222 | J34: =(H34-I34)/I34*100 -> 16.549703 | M34: 일평균 | N34: =N33/17 -> 557375.29 | O34: =O33/18 -> 463642.06 | P34: =(N34-O34)/O34*100 -> 20.216725
A36: ※ 근무일수 : 2017년 5월 (17일), 2016년 5월(18일) | M36: ※ 서울광진 : 현대백화점 계약일(5.14.) 이전 실적 제외
M37: ※ 서울구로 및 서울금천 : 계약택배 실적 통합 관리

Sheet EMS
A1: 2017.5월 EMS+K-Packet 매출액 우수국 현황
A2: 5.26.현재 | J2: (단위: 백만원, %)
A3: 순위 (달성률) | B3: 국명 | C3: EMS 목표 | E3: EMS 매출액 | G3: 달성률 | I3: 누계증감률 | J3: 증감률 순위
C4: 연간 | D4: 당월 | E4: 당월 | F4: 누계 | G4: 당월 | H4: 연간
A5: =RANK(H5,$H$5:$H$27) -> 1 | B5: =[5]원데이터!A18 -> 서울양천 | C5: =[5]목표!B19 -> 2772000000 | D5: =[5]목표!AX19 -> 0 | E5: =[5]원데이터!J18 -> 209681960 | F5: =[5]원데이터!B18 -> 1373555950 | G5: =E5/D5*100 -> #DIV/0! | H5: =F5/C5*100 -> 49.55108 | I5: =(F5/[5]원데이터!F18-1)*100 -> -9.1711098 | J5: =RANK(I5,$I$5:$I$27) -> 14
A6: =RANK(H6,$H$5:$H$27) -> 2 | B6: =[5]원데이터!A12 -> 여의도 | C6: =[5]목표!B13 -> 4310000000 | D6: =[5]목표!AX13 -> 0 | E6: =[5]원데이터!J12 -> 294374560 | F6: =[5]원데이터!B12 -> 1976758600 | G6: =E6/D6*100 -> #DIV/0! | H6: =F6/C6*100 -> 45.864469 | I6: =(F6/[5]원데이터!F12-1)*100 -> -1.5811797 | J6: =RANK(I6,$I$5:$I$27) -> 6
A7: =RANK(H7,$H$5:$H$27) -> 3 | B7: =[5]원데이터!A26 -> 서울구로 | C7: =[5]목표!B27 -> 4105000000 | E7: =[5]원데이터!J26 -> 258027720 | F7: =[5]원데이터!B26 -> 1814230060 | G7: =E7/D7*100 -> #DIV/0! | H7: =F7/C7*100 -> 44.195617 | I7: =(F7/[5]원데이터!F26-1)*100 -> 75.548889 | J7: =RANK(I7,$I$5:$I$27) -> 1
A8: =RANK(H8,$H$5:$H$27) -> 4 | B8: =[5]원데이터!A6 -> 동대문 | C8: =[5]목표!B7 -> 3821000000 | D8: =[5]목표!AX7 -> 0 | E8: =[5]원데이터!J6 -> 340252230 | F8: =[5]원데이터!B6 -> 1605186050 | G8: =E8/D8*100 -> #DIV/0! | H8: =F8/C8*100 -> 42.00958 | I8: =(F8/[5]원데이터!F6-1)*100 -> -31.639419 | J8: =RANK(I8,$I$5:$I$27) -> 21
A9: =RANK(H9,$H$5:$H$27) -> 5 | B9: =[5]원데이터!A22 -> 서울용산 | C9: =[5]목표!B23 -> 3843000000 | D9: =[5]목표!AX23 -> 0 | E9: =[5]원데이터!J22 -> 238311460 | F9: =[5]원데이터!B22 -> 1611493600 | G9: =E9/D9*100 -> #DIV/0! | H9: =F9/C9*100 -> 41.933219 | I9: =(F9/[5]원데이터!F22-1)*100 -> 7.9511181 | J9: =RANK(I9,$I$5:$I$27) -> 3
A10: =RANK(H10,$H$5:$H$27) -> 6 | B10: =[5]원데이터!A3 -> 서울중앙 | C10: =[5]목표!B4 -> 7310000000 | D10: =[5]목표!AX4 -> 0 | E10: =[5]원데이터!J3 -> 503309500 | F10: =[5]원데이터!B3 -> 3017634360 | G10: =E10/D10*100 -> #DIV/0! | H10: =F10/C10*100 -> 41.280908 | I10: =(F10/[5]원데이터!F3-1)*100 -> -1.4169902 | J10: =RANK(I10,$I$5:$I$27) -> 5
A11: =RANK(H11,$H$5:$H$27) -> 7 | B11: =[5]원데이터!A9 -> 서울마포 | C11: =[5]목표!B10 -> 3683000000 | D11: =[5]목표!AX10 -> 0 | E11: =[5]원데이터!J9 -> 261174970 | F11: =[5]원데이터!B9 -> 1489655290 | G11: =E11/D11*100 -> #DIV/0! | H11: =F11/C11*100 -> 40.44679 | I11: =(F11/[5]원데이터!F9-1)*100 -> 9.6375103 | J11: =RANK(I11,$I$5:$I$27) -> 2
A12: =RANK(H12,$H$5:$H$27) -> 8 | B12: 서울도봉 | C12: =[5]목표!B9+[5]목표!B26 -> 3415000000 | D12: =[5]목표!AX9+[5]목표!AX26 -> 0 | E12: =[5]원데이터!J8+[5]원데이터!J25 -> 225805390 | F12: =[5]원데이터!B8+[5]원데이터!B25 -> 1370427430 | G12: =E12/D12*100 -> #DIV/0! | H12: =F12/C12*100 -> 40.129647 | I12: =(F12/[5]원데이터!F25-1)*100 -> -17.395299 | J12: =RANK(I12,$I$5:$I$27) -> 19
A13: =RANK(H13,$H$5:$H$27) -> 9 | B13: =[5]원데이터!A16 -> 서울강동 | C13: =[5]목표!B17 -> 2507000000 | D13: =[5]목표!AX17 -> 0 | E13: =[5]원데이터!J16 -> 171906880 | F13: =[5]원데이터!B16 -> 982824110 | G13: =E13/D13*100 -> #DIV/0! | H13: =F13/C13*100 -> 39.203195 | I13: =(F13/[5]원데이터!F16-1)*100 -> 0.23103666 | J13: =RANK(I13,$I$5:$I$27) -> 4
A14: =RANK(H14,$H$5:$H$27) -> 10 | B14: =[5]원데이터!A13 -> 서울강남 | C14: =[5]목표!B14 -> 10971000000 | D14: =[5]목표!AX14 -> 0 | E14: =[5]원데이터!J13 -> 657821120 | F14: =[5]원데이터!B13 -> 4272132850 | G14: =E14/D14*100 -> #DIV/0! | H14: =F14/C14*100 -> 38.940232 | I14: =(F14/[5]원데이터!F13-1)*100 -> -3.3164077 | J14: =RANK(I14,$I$5:$I$27) -> 8
A15: =RANK(H15,$H$5:$H$27) -> 11 | B15: =[5]원데이터!A4 -> 광화문 | C15: =[5]목표!B5 -> 3730000000 | D15: =[5]목표!AX5 -> 0 | E15: =[5]원데이터!J4 -> 249022200 | F15: =[5]원데이터!B4 -> 1414455850 | G15: =E15/D15*100 -> #DIV/0! | H15: =F15/C15*100 -> 37.921068 | I15: =(F15/[5]원데이터!F4-1)*100 -> -4.5657855 | J15: =RANK(I15,$I$5:$I$27) -> 9
A16: =RANK(H16,$H$5:$H$27) -> 12 | B16: =[5]원데이터!A17 -> 서울송파 | C16: =[5]목표!B18 -> 5483000000 | D16: =[5]목표!AX18 -> 0 | E16: =[5]원데이터!J17 -> 342580280 | F16: =[5]원데이터!B17 -> 2078218920 | G16: =E16/D16*100 -> #DIV/0! | H16: =F16/C16*100 -> 37.902953 | I16: =(F16/[5]원데이터!F17-1)*100 -> -7.131658 | J16: =RANK(I16,$I$5:$I$27) -> 11
A17: =RANK(H17,$H$5:$H$27) -> 13 | B17: =[5]원데이터!A24 -> 서울중랑 | C17: =[5]목표!B25 -> 1718000000 | D17: =[5]목표!AX25 -> 0 | E17: =[5]원데이터!J24 -> 108793010 | F17: =[5]원데이터!B24 -> 650964610 | G17: =E17/D17*100 -> #DIV/0! | H17: =F17/C17*100 -> 37.890839 | I17: =(F17/[5]원데이터!F24-1)*100 -> -7.5206492 | J17: =RANK(I17,$I$5:$I$27) -> 12
A18: =RANK(H18,$H$5:$H$27) -> 14 | B18: =[5]원데이터!A19 -> 서울강서 | C18: =[5]목표!B20 -> 3292000000 | D18: =[5]목표!AX20 -> 0 | E18: =[5]원데이터!J19 -> 216004500 | F18: =[5]원데이터!B19 -> 1229709760 | G18: =E18/D18*100 -> #DIV/0! | H18: =F18/C18*100 -> 37.354488 | I18: =(F18/[5]원데이터!F19-1)*100 -> -9.0700544 | J18: =RANK(I18,$I$5:$I$27) -> 13
A19: =RANK(H19,$H$5:$H$27) -> 15 | B19: =[5]원데이터!A21 -> 서울서초 | C19: =[5]목표!B22 -> 6055000000 | D19: =[5]목표!AX22 -> 0 | E19: =[5]원데이터!J21 -> 362741510 | F19: =[5]원데이터!B21 -> 2258301670 | G19: =E19/D19*100 -> #DIV/0! | H19: =F19/C19*100 -> 37.296477 | I19: =(F19/[5]원데이터!F21-1)*100 -> -5.3507317 | J19: =RANK(I19,$I$5:$I$27) -> 10
A20: =RANK(H20,$H$5:$H$27) -> 16 | B20: =[5]원데이터!A23 -> 서울노원 | C20: =[5]목표!B24 -> 1963000000 | D20: =[5]목표!AX24 -> 0 | E20: =[5]원데이터!J23 -> 124529760 | F20: =[5]원데이터!B23 -> 703486190 | G20: =E20/D20*100 -> #DIV/0! | H20: =F20/C20*100 -> 35.8373 | I20: =(F20/[5]원데이터!F23-1)*100 -> -12.022271 | J20: =RANK(I20,$I$5:$I$27) -> 16
A21: =RANK(H21,$H$5:$H$27) -> 17 | B21: =[5]원데이터!A14 -> 서울금천 | C21: =[5]목표!B15 -> 1601000000 | D21: =[5]목표!AX15 -> 0 | E21: =[5]원데이터!J14 -> 97254340 | F21: =[5]원데이터!B14 -> 569351830 | G21: =E21/D21*100 -> #DIV/0! | H21: =F21/C21*100 -> 35.562263 | I21: =(F21/[5]원데이터!F14-1)*100 -> -56.743736 | J21: =RANK(I21,$I$5:$I$27) -> 23
A22: =RANK(H22,$H$5:$H$27) -> 18 | B22: =[5]원데이터!A15 -> 서울성북 | C22: =[5]목표!B16 -> 2309000000 | D22: =[5]목표!AX16 -> 0 | E22: =[5]원데이터!J15 -> 147680460 | F22: =[5]원데이터!B15 -> 816050890 | G22: =E22/D22*100 -> #DIV/0! | H22: =F22/C22*100 -> 35.342178 | I22: =(F22/[5]원데이터!F15-1)*100 -> -12.566233 | J22: =RANK(I22,$I$5:$I$27) -> 17
A23: =RANK(H23,$H$5:$H$27) -> 19 | B23: =[5]원데이터!A10 -> 서울관악 | C23: =[5]목표!B11 -> 2608000000 | D23: =[5]목표!AX11 -> 0 | E23: =[5]원데이터!J10 -> 160757940 | F23: =[5]원데이터!B10 -> 915249890 | G23: =E23/D23*100 -> #DIV/0! | H23: =F23/C23*100 -> 35.093938 | I23: =(F23/[5]원데이터!F10-1)*100 -> -16.602785 | J23: =RANK(I23,$I$5:$I$27) -> 18
A24: =RANK(H24,$H$5:$H$27) -> 20 | B24: =[5]원데이터!A11 -> 서울은평 | C24: =[5]목표!B12 -> 3292000000 | D24: =[5]목표!AX12 -> 0 | E24: =[5]원데이터!J11 -> 191628870 | F24: =[5]원데이터!B11 -> 1146431790 | G24: =E24/D24*100 -> #DIV/0! | H24: =F24/C24*100 -> 34.824781 | I24: =(F24/[5]원데이터!F11-1)*100 -> -10.664851 | J24: =RANK(I24,$I$5:$I$27) -> 15
A25: =RANK(H25,$H$5:$H$27) -> 21 | B25: =[5]원데이터!A5 -> 서대문 | C25: =[5]목표!B6 -> 5984000000 | D25: =[5]목표!AX6 -> 0 | E25: =[5]원데이터!J5 -> 330483210 | F25: =[5]원데이터!B5 -> 2032726640 | G25: =E25/D25*100 -> #DIV/0! | H25: =F25/C25*100 -> 33.969362 | I25: =(F25/[5]원데이터!F5-1)*100 -> -22.404381 | J25: =RANK(I25,$I$5:$I$27) -> 20
A26: =RANK(H26,$H$5:$H$27) -> 22 | B26: =[5]원데이터!A7 -> 서울광진 | C26: =[5]목표!B8 -> 7022000000 | D26: =[5]목표!AX8 -> 0 | E26: =[5]원데이터!J7 -> 407265400 | F26: =[5]원데이터!B7 -> 2346943990 | G26: =E26/D26*100 -> #DIV/0! | H26: =F26/C26*100 -> 33.422728 | I26: =(F26/[5]원데이터!F7-1)*100 -> -2.8814652 | J26: =RANK(I26,$I$5:$I$27) -> 7
A27: =RANK(H27,$H$5:$H$27) -> 23 | B27: =[5]원데이터!A20 -> 서울동작 | C27: =[5]목표!B21 -> 3365000000 | D27: =[5]목표!AX21 -> 0 | E27: =[5]원데이터!J20 -> 159730180 | F27: =[5]원데이터!B20 -> 1017269120 | G27: =E27/D27*100 -> #DIV/0! | H27: =F27/C27*100 -> 30.23088 | I27: =(F27/[5]원데이터!F20-1)*100 -> -43.497582 | J27: =RANK(I27,$I$5:$I$27) -> 22
B28: =[5]원데이터!A27 -> 국제우편물류센터 | C28: =[5]목표!B28 -> 7685000000 | D28: =[5]목표!AX28 -> 0 | E28: =[5]원데이터!J27 -> 520230150 | F28: =[5]원데이터!B27 -> 3284937100 | G28: =E28/D28*100 -> #DIV/0! | H28: =F28/C28*100 -> 42.74479 | I28: =(F28/[5]원데이터!F27-1)*100 -> 190.36391
A29: 합계 | C29: =SUM(C5:C28)+C30 -> 104539000000 | D29: =SUM(D5:D28) -> 0 | E29: =SUM(E5:E28) -> 6579367600 | F29: =SUM(F5:F28) -> 39977996550 | G29: =E29/D29*100 -> #DIV/0! | H29: =F29/C29*100 -> 38.242184 | I29: =(F29/[5]원데이터!F28-1)*100 -> -3.5120741
B30: 자청보류 | C30: 1695000000

Sheet 예금
A1: 2017. 5월 예금사업 성장률 우수국 현황(4월 대비 5월 성장)
A2: 순위 | B2: 구 분 | C2: 성장률(%)
C3: 수신고(10%) | D3: 요구불(40%) | E3: 체크카드(25%) | F3: 스마트(25%) | G3: 총 성장률
A4: =RANK(G4,$G$4:$G$26,0) -> 1 | B4: 서울동작 | C4: 99.765283 | D4: 99.189178 | E4: 100.87909 | F4: 470.37037 | G4: =C4*0.1+D4*0.4+E4*0.25+F4*0.25 -> 192.46457
A5: =RANK(G5,$G$4:$G$26,0) -> 2 | B5: 서대문 | C5: 97.350717 | D5: 97.312503 | E5: 99.986782 | F5: 255.88235 | G5: =C5*0.1+D5*0.4+E5*0.25+F5*0.25 -> 137.62736
A6: =RANK(G6,$G$4:$G$26,0) -> 3 | B6: 서울용산 | C6: 107.70374 | D6: 161.33097 | E6: 108.18649 | F6: 70.491803 | G6: =C6*0.1+D6*0.4+E6*0.25+F6*0.25 -> 119.97234
A7: =RANK(G7,$G$4:$G$26,0) -> 4 | B7: 서울도봉 | C7: 99.947602 | D7: 97.52967 | E7: 99.174306 | F7: 143.30709 | G7: =C7*0.1+D7*0.4+E7*0.25+F7*0.25 -> 109.62698
A8: =RANK(G8,$G$4:$G$26,0) -> 5 | B8: 서울금천 | C8: 101.26027 | D8: 106.06261 | E8: 105.29045 | F8: 120.68966 | G8: =C8*0.1+D8*0.4+E8*0.25+F8*0.25 -> 109.0461
A9: =RANK(G9,$G$4:$G$26,0) -> 6 | B9: 서울마포 | C9: 98.975138 | D9: 95.424668 | E9: 102.46317 | F9: 128.84615 | G9: =C9*0.1+D9*0.4+E9*0.25+F9*0.25 -> 105.89471
A10: =RANK(G10,$G$4:$G$26,0) -> 7 | B10: 서울은평 | C10: 99.753148 | D10: 98.863986 | E10: 99.279449 | F10: 114.28571 | G10: =C10*0.1+D10*0.4+E10*0.25+F10*0.25 -> 102.9122
A11: =RANK(G11,$G$4:$G$26,0) -> 8 | B11: 서울관악 | C11: 99.361069 | D11: 97.516286 | E11: 100.02201 | F11: 114.86486 | G11: =C11*0.1+D11*0.4+E11*0.25+F11*0.25 -> 102.66434
A12: =RANK(G12,$G$4:$G$26,0) -> 9 | B12: 동대문 | C12: 99.851289 | D12: 100.2507 | E12: 96.970915 | F12: 104.30108 | G12: =C12*0.1+D12*0.4+E12*0.25+F12*0.25 -> 100.40341
A13: =RANK(G13,$G$4:$G$26,0) -> 10 | B13: 서울노원 | C13: 99.866287 | D13: 99.003493 | E13: 102.97789 | F13: 100 | G13: =C13*0.1+D13*0.4+E13*0.25+F13*0.25 -> 100.3325
A14: =RANK(G14,$G$4:$G$26,0) -> 11 | B14: 서울중랑 | C14: 99.237589 | D14: 97.529682 | E14: 97.831018 | F14: 88.461538 | G14: =C14*0.1+D14*0.4+E14*0.25+F14*0.25 -> 95.508771
A15: =RANK(G15,$G$4:$G$26,0) -> 12 | B15: 광화문 | C15: 101.00218 | D15: 111.39934 | E15: 106.27576 | F15: 55.555556 | G15: =C15*0.1+D15*0.4+E15*0.25+F15*0.25 -> 95.117782
... A26: =RANK(G26,$G$4:$G$26,0) -> 23 | B26: 서울강남 | C26: 99.398009 | D26: 98.714778 | E26: 99.377917 | F26: 34.246575 | G26: =C26*0.1+D26*0.4+E26*0.25+F26*0.25 -> 82.831835

Sheet 보험
B1: 2017.5월 우수국 선정자료(보험)
P3: (단위:천원,%)
B4: 순위 | C4: 국명 | D4: 4월 정산초회보험료 | G4: 5월 환산초회보험료 | J4: 5월 보장성보험 점유비 성장률 | O4: 환산점수 | P4: 비고
D5: 월목표 | E5: 실적 | F5: 달성률 | G5: 월목표 | H5: 실적 | I5: 달성률 (A) | J5: 4월 보장성보험 | K5: 점유율 (B) | L5: 5월 보장성보험 | M5: 점유율 (C) | N5: (D=C/B*100-100) | O5: (A*50%)+(D*50%)
B6: 계 | D6: =SUM(D7:D29) -> 1791666.7 | E6: =SUM(E7:E29) -> 1739642.5 | F6: =E6/D6*100 -> 97.096327 | G6: =SUM(G7:G29) -> 1791666.7 | H6: =SUM(H7:H29) -> 2097304.9 | I6: =H6/G6*100 -> 117.05888 | J6: =SUM(J7:J29) -> 1134838.6 | K6: =J6/E6*100 -> 65.234013 | L6: =SUM(L7:L29) -> 1535370.2 | M6: =L6/H6*100 -> 73.206818 | N6: =M6/K6*100-100 -> 12.221853
B7: 1 | C7: 광화문 | D7: 85500 | E7: 88105.454 | F7: =E7/D7*100 -> 103.04731 | G7: 85500 | H7: 95284.085 | I7: =H7/G7*100 -> 111.44337 | J7: 48306.066 | K7: =J7/E7*100 -> 54.827555 | L7: 70918.655 | M7: =L7/H7*100 -> 74.428647 | N7: =M7/K7*100-100 -> 35.75044 | O7: =(I7/MAX($I$7:$I$29)*50)+(N7/MAX($N$7:$N$29)*50) -> 85.710426
B8: 2 | C8: 서울광진 | D8: 104833.33 | E8: 99783.727 | F8: =E8/D8*100 -> 95.183205 | G8: 104833.33 | H8: 120260.85 | I8: =H8/G8*100 -> 114.71623 | J8: 64703.052 | K8: =J8/E8*100 -> 64.843291 | L8: 104254.65 | M8: =L8/H8*100 -> 86.690434 | N8: =M8/K8*100-100 -> 33.692219 | O8: =(I8/MAX($I$7:$I$29)*50)+(N8/MAX($N$7:$N$29)*50) -> 83.88057
B9: 3 | C9: 서울금천 | D9: 75583.333 | E9: 88087.607 | F9: =E9/D9*100 -> 116.54369 | G9: 75583.333 | H9: 92517.907 | I9: =H9/G9*100 -> 122.40517 | J9: 52214.41 | K9: =J9/E9*100 -> 59.275546 | L9: 70933.546 | M9: =L9/H9*100 -> 76.670072 | N9: =M9/K9*100-100 -> 29.345198 | O9: =(I9/MAX($I$7:$I$29)*50)+(N9/MAX($N$7:$N$29)*50) -> 80.264705
B10: 4 | C10: 여의도 | D10: 96333.333 | E10: 100083.17 | F10: =E10/D10*100 -> 103.89257 | G10: 96333.333 | H10: 121852.2 | I10: =H10/G10*100 -> 126.49017 | J10: 61127.116 | K10: =J10/E10*100 -> 61.076317 | L10: 89206.484 | M10: =L10/H10*100 -> 73.208761 | N10: =M10/K10*100-100 -> 19.864401 | O10: =(I10/MAX($I$7:$I$29)*50)+(N10/MAX($N$7:$N$29)*50) -> 68.313992
B11: 5 | C11: 서울강서 | D11: 106000 | E11: 138088.31 | F11: =E11/D11*100 -> 130.27199 | G11: 106000 | H11: 117258.82 | I11: =H11/G11*100 -> 110.62153 | J11: 84979.129 | K11: =J11/E11*100 -> 61.539699 | L11: 87908.615 | M11: =L11/H11*100 -> 74.969725 | N11: =M11/K11*100-100 -> 21.823354 | O11: =(I11/MAX($I$7:$I$29)*50)+(N11/MAX($N$7:$N$29)*50) -> 65.968875
B12: 6 | C12: 서울마포 | D12: 62083.333 | E12: 53723.014 | F12: =E12/D12*100 -> 86.533714 | G12: 62083.333 | H12: 69834.441 | I12: =H12/G12*100 -> 112.48501 | J12: 31719.094 | K12: =J12/E12*100 -> 59.041911 | L12: 49581.045 | M12: =L12/H12*100 -> 70.997984 | N12: =M12/K12*100-100 -> 20.250146 | O12: =(I12/MAX($I$7:$I$29)*50)+(N12/MAX($N$7:$N$29)*50) -> 64.365735
B13: 7 | C13: 서대문 | D13: 62166.667 | E13: 60212.283 | F13: =E13/D13*100 -> 96.856219 | G13: 62166.667 | H13: 76550.969 | I13: =H13/G13*100 -> 123.13829 | J13: 32624.567 | K13: =J13/E13*100 -> 54.182578 | L13: 48853.997 | M13: =L13/H13*100 -> 63.818914 | N13: =M13/K13*100-100 -> 17.784935 | O13: =(I13/MAX($I$7:$I$29)*50)+(N13/MAX($N$7:$N$29)*50) -> 64.331622
B14: 8 | C14: 서울은평 | D14: 55666.667 | E14: 59363.701 | F14: =E14/D14*100 -> 106.64138 | G14: 55666.667 | H14: 59374.42 | I14: =H14/G14*100 -> 106.66063 | J14: 32305.664 | K14: =J14/E14*100 -> 54.419895 | L14: 39260.254 | M14: =L14/H14*100 -> 66.123179 | N14: =M14/K14*100-100 -> 21.505524 | O14: =(I14/MAX($I$7:$I$29)*50)+(N14/MAX($N$7:$N$29)*50) -> 64.255152
B15: 9 | C15: 서울서초 | D15: 64250 | E15: 46558.127 | F15: =E15/D15*100 -> 72.464011 | G15: 64250 | H15: 54779.532 | I15: =H15/G15*100 -> 85.259972 | J15: 21570.593 | K15: =J15/E15*100 -> 46.330457 | L15: 31582.937 | M15: =L15/H15*100 -> 57.654631 | N15: =M15/K15*100-100 -> 24.442181 | O15: =(I15/MAX($I$7:$I$29)*50)+(N15/MAX($N$7:$N$29)*50) -> 61.504779
B16: 10 | C16: 서울용산 | D16: 64916.667 | E16: 66768.946 | F16: =E16/D16*100 -> 102.85332 | G16: 64916.667 | H16: 66461.129 | I16: =H16/G16*100 -> 102.37915 | J16: 43399.981 | K16: =J16/E16*100 -> 65.000249 | L16: 49908.132 | M16: =L16/H16*100 -> 75.093717 | N16: =M16/K16*100-100 -> 15.528353 | O16: =(I16/MAX($I$7:$I$29)*50)+(N16/MAX($N$7:$N$29)*50) -> 54.523634
B17: 11 | C17: 서울강동 | D17: 68916.667 | E17: 62484.283 | F17: =E17/D17*100 -> 90.666432 | G17: 68916.667 | H17: 99351.266 | I17: =H17/G17*100 -> 144.16145 | J17: 42608.829 | K17: =J17/E17*100 -> 68.191275 | L17: 71161.073 | M17: =L17/H17*100 -> 71.625733 | N17: =M17/K17*100-100 -> 5.0365078 | O17: =(I17/MAX($I$7:$I$29)*50)+(N17/MAX($N$7:$N$29)*50) -> 53.238443
B18: 12 | C18: 서울성북 | D18: 72500 | E18: 64412.64 | F18: =E18/D18*100 -> 88.845021 | G18: 72500 | H18: 86038.622 | I18: =H18/G18*100 -> 118.67396 | J18: 44770.938 | K18: =J18/E18*100 -> 69.506448 | L18: 66100.148 | M18: =L18/H18*100 -> 76.826135 | N18: =M18/K18*100-100 -> 10.530947 | O18: =(I18/MAX($I$7:$I$29)*50)+(N18/MAX($N$7:$N$29)*50) -> 52.75578
... B29: 23 | C29: 동대문 | D29: 64583.333 | E29: 55146.387 | F29: =E29/D29*100 -> 85.387954 | G29: 64583.333 | H29: 57360.708 | I29: =H29/G29*100 -> 88.81658 | J29: 40888.916 | K29: =J29/E29*100 -> 74.146138 | L29: 40593.027 | M29: =L29/H29*100 -> 70.768002 | N29: =M29/K29*100-100 -> -4.5560507 | O29: =(I29/MAX($I$7:$I$29)*50)+(N29/MAX($N$7:$N$29)*50) -> 22.087975
