Workbook
Name _1._접수우편물: #REF!
Name _2._배달우편물: '[2]청별 배달물량'!$A$2
Name _3._우편세입: #REF!
Name ajs: #REF!
Name df: #REF!
Name dfd: #REF!
Name dfdfds: #REF!
Name dfdhrt: #REF!
Name dfdv: #REF!
Name dhk: #REF!
Name ds: #REF!
Name e: #REF!
Name eetet: #REF!
Name egv: #REF!
Name ertet: #REF!
Name etyr: #REF!
Name fdfdf: #REF!
Name fe: #REF!
Name fgfh: #REF!
Name fh: #REF!
Name g: #REF!
Name gdfd: #REF!
Name ghds: #REF!
Name gjhd: #REF!
Name hf: #REF!
Name hfs: #REF!
Name hjb: #REF!
Name hjkl: #REF!
Name knbg: #REF!
Name nvf: #REF!
Name qe4yh: #REF!
Name qf: #REF!
Name rg: #REF!
Name rgr: #REF!
Name rhew: #REF!
Name rjt: #REF!
Name rrg: #REF!
Name rsss: #REF!
Name rtrtr: #REF!
Name rtrtre: #REF!
Name rtrtrtrtre: #REF!
Name sdsd: #REF!
Name sdsds: #REF!
Name tutut: #REF!
Name w: #REF!
Name wewe: #REF!
Name wfsa: #REF!
Name wgh: #REF!
Name wh: #REF!
Name wrwq: #REF!
Name yreuuk: #REF!
Name yryrryr: #REF!
Name 경영수지: [3]Sheet1!$J$8:$M$56
Name ㄴ: #REF!
Name 나._세입실적비교: #REF!
Name 나._접수물량과_배달물량_비교: [2]접수대배달!$A$2
Name 다._우편물량과_세입실적: #REF!
Name 다._체신청별_접수물량: [2]청별접수!$A$2
Name 달성방안: #REF!
Name 달성방안: #REF!

Sheet 통상
A1: 총괄국별 통상우편 매출 실적
A3: 2017. 3. 31. 현재 | I3: [단위 : 백만원, %]
A4: 성장률 순위 | B4: 총괄국명 | C4: 2017년도 매출액 | E4: 2016년도 매출액 | F4: 전년대비 성장률 | G4: 통상실적(재게)
C5: 당월 | D5: 누계 | G5: 일반통상 | H5: 등기통상 | I5: 통신사무 배분 | J5: 기타배분 (주민등록증, 인터넷우체국) | K5: 제외실적 (특별송달,선거)
A6: 합 | B6: 계 | C6: 4.5148702e+10 | D6: 1.2879166e+11 | E6: 1.3231525e+11 | F6: -2.6630221 | G6: 77206169060 | H6: 66740416400 | I6: 4.9603558e+08 | J6: 4.4139413e+08 | K6: -16092329910
A7: 1 | B7: 서울강동 | C7: 5.5133056e+08 | D7: 1.5330522e+09 | E7: 1.3649526e+09 | F7: 12.315412 | G7: 870204780 | H7: 643691630 | I7: 17807232 | J7: 1388231.1 | K7: -39720
A8: 2 | B8: 광화문 | C8: 1.583449e+09 | D8: 4.9363418e+09 | E8: 4.6220814e+09 | F8: 6.7991119 | G8: 2302404610 | H8: 2606513110 | I8: 7176955.1 | J8: 25791996 | K8: -5544830
A9: 3 | B9: 서울구로 | C9: 6.5231199e+08 | D9: 1.8755301e+09 | E9: 1756537700 | F9: 6.7742576 | G9: 752391780 | H9: 1103873060 | I9: 17190933 | J9: 2273006.5 | K9: -198690
A10: 4 | B10: 서울송파 | C10: 8.2500431e+08 | D10: 2.3596926e+09 | E10: 2.3040196e+09 | F10: 2.4163433 | G10: 824143800 | H10: 1535742170 | I10: 23284403 | J10: 16798268 | K10: -40276010
A11: 5 | B11: 서울노원 | C11: 5.3048004e+08 | D11: 1.5797918e+09 | E11: 1.5440386e+09 | F11: 2.3155636 | G11: 520109500 | H11: 1042614530 | I11: 14227515 | J11: 3099867.8 | K11: -259590
A12: 6 | B12: 서울중앙 | C12: 3.0142471e+09 | D12: 8.6068151e+09 | E12: 8.4281351e+09 | F12: 2.120042 | G12: 2610643220 | H12: 5914022150 | I12: 30158502 | J12: 52352963 | K12: -361690
A13: 7 | B13: 서울중랑 | C13: 2.5458572e+08 | D13: 6.5577437e+08 | E13: 6.4913029e+08 | F13: 1.0235363 | G13: 287553990 | H13: 352224630 | I13: 12940682 | J13: 3147861 | K13: -92790
A14: 8 | B14: 서울마포 | C14: 1.6105625e+09 | D14: 4.4621462e+09 | E14: 4.4357059e+09 | F14: 0.59607908 | G14: 1435276210 | H14: 3191850220 | I14: 21395167 | J14: 4526635.7 | K14: -190901990
A15: 9 | B15: 서울성북 | C15: 6.0464831e+08 | D15: 1.8184165e+09 | E15: 1.8545974e+09 | F15: -1.9508808 | G15: 1034550650 | H15: 764478630 | I15: 17432437 | J15: 1998962.4 | K15: -44220
A16: 10 | B16: 서울광진 | C16: 1.5352196e+09 | D16: 4.1107397e+09 | E16: 4.211178e+09 | F16: -2.3850409 | G16: 1667968890 | H16: 2580173310 | I16: 25473996 | J16: 9944236.8 | K16: -172820780
A17: 11 | B17: 서울강서 | C17: 8.1391646e+08 | D17: 2.3534022e+09 | E17: 2.4186329e+09 | F17: -2.697009 | G17: 1384199640 | H17: 950061040 | I17: 17241217 | J17: 2215770.9 | K17: -315490
A18: 12 | B18: 서울강남 | C18: 2.512526e+09 | D18: 7.4497119e+09 | E18: 7.752984e+09 | F18: -3.9116831 | G18: 2276321250 | H18: 5122197950 | I18: 39844219 | J18: 11647047 | K18: -298590
... A29: 23 | B29: 서울도봉 | C29: 5.4073515e+08 | D29: 1.5733677e+09 | E29: 1.8421035e+09 | F29: -14.588526 | G29: 602813640 | H29: 1149511530 | I29: 25060669 | J29: 16047013 | K29: -220065140
A30: 소 | B30: 계 | C30: 2.6028008e+10 | D30: 7.0232315e+10 | E30: 7.2612571e+10 | F30: -3.2780215 | G30: 31073472820 | H30: 41007786380 | I30: 4.3229889e+08 | J30: 1.940633e+08 | K30: -2475306440
A31: 1 | B31: 동서울우편집중국 | C31: 1.9100351e+10 | D31: 5.8491437e+10 | E31: 5.9611829e+10 | F31: -1.8794796 | G31: 46131234350 | H31: 25707222020 | I31: 22694938 | J31: 2.4730899e+08 | K31: -13617023470
A32: 2 | B32: 국제우편물류센터 | C32: 20343696 | D32: 67911644 | E32: 90837097 | F32: -25.237985 | G32: 1461890 | H32: 25408000 | I32: 41041754 | J32: 0 | K32: 0
A33: 소 | B33: 계 | C33: 1.9120694e+10 | D33: 5.8559348e+10 | E33: 5.9702666e+10 | F33: -1.9150194 | G33: 46132696240 | H33: 25732630020 | I33: 63736691 | J33: 2.4730899e+08 | K33: -13617023470

Sheet 소포
A1: 2017년도 1/4분기 소포사업 총괄국 부분별 우수국 현황
D3: (단위 : 통, %) | J3: (단위 : 통, %) | P3: (단위 : 천원, %)
A4: 구 분 | B4: 창구등기소포 물량 | G4: 구 분 | H4: 개별(반품) 픽업 물량 | M4: 구 분 | N4: 계약택배 매출액
B5: 2017.1/4 | C5: 2016.1/4 | D5: 증감률 | E5: 순위 | H5: 2017.1/4 | I5: 2016.1/4 | J5: 증감률 | K5: 순위 | N5: 2017.1/4 | O5: 2016.1/4 | P5: 증감률 | Q5: 순위
A6: 서울송파 | B6: 187873 | C6: 165927 | D6: =(B6-C6)/C6*100 -> 13.226298 | E6: =RANK(D6,$D$6:$D$28,0) -> 1 | G6: 서울강동 | H6: 22466 | I6: 16165 | J6: =(H6-I6)/I6*100 -> 38.979276 | K6: =RANK(J6,$J$6:$J$27,0) -> 1 | M6: 서울중랑 | N6: 1125517 | O6: 739307 | P6: =(N6-O6)/O6*100 -> 52.239462 | Q6: =RANK(P6,$P$6:$P$25,0) -> 1
A7: 서울은평 | B7: 89736 | C7: 80663 | D7: =(B7-C7)/C7*100 -> 11.248032 | E7: =RANK(D7,$D$6:$D$28,0) -> 2 | G7: 서울송파 | H7: 36404 | I7: 26417 | J7: =(H7-I7)/I7*100 -> 37.805201 | K7: =RANK(J7,$J$6:$J$27,0) -> 2 | M7: 여의도 | N7: 2760243 | O7: 1981731 | P7: =(N7-O7)/O7*100 -> 39.284444 | Q7: =RANK(P7,$P$6:$P$25,0) -> 2
A8: 서울강서 | B8: 118515 | C8: 108101 | D8: =(B8-C8)/C8*100 -> 9.6335834 | E8: =RANK(D8,$D$6:$D$28,0) -> 3 | G8: 서울성북 | H8: 22753 | I8: 17026 | J8: =(H8-I8)/I8*100 -> 33.636791 | K8: =RANK(J8,$J$6:$J$27,0) -> 3 | M8: 서울송파 | N8: 1099914 | O8: 851497 | P8: =(N8-O8)/O8*100 -> 29.174149 | Q8: =RANK(P8,$P$6:$P$25,0) -> 3
A9: 서울광진 | B9: 168718 | C9: 154178 | D9: =(B9-C9)/C9*100 -> 9.4306581 | E9: =RANK(D9,$D$6:$D$28,0) -> 4 | G9: 서울강서 | H9: 27159 | I9: 20337 | J9: =(H9-I9)/I9*100 -> 33.544771 | K9: =RANK(J9,$J$6:$J$27,0) -> 4 | M9: 서울강동 | N9: 962257 | O9: 746334 | P9: =(N9-O9)/O9*100 -> 28.931149 | Q9: =RANK(P9,$P$6:$P$25,0) -> 4
A10: 서울노원 | B10: 117100 | C10: 107476 | D10: =(B10-C10)/C10*100 -> 8.9545573 | E10: =RANK(D10,$D$6:$D$28,0) -> 5 | G10: 서울양천 | H10: 21622 | I10: 16477 | J10: =(H10-I10)/I10*100 -> 31.225344 | K10: =RANK(J10,$J$6:$J$27,0) -> 5 | M10: 서울강남 | N10: 2638561 | O10: 2055270 | P10: =(N10-O10)/O10*100 -> 28.380261 | Q10: =RANK(P10,$P$6:$P$25,0) -> 5
A11: 서울마포 | B11: 146787 | C11: 136402 | D11: =(B11-C11)/C11*100 -> 7.6135247 | E11: =RANK(D11,$D$6:$D$28,0) -> 6 | G11: 서울구로 | H11: 33109 | I11: 25333 | J11: =(H11-I11)/I11*100 -> 30.695141 | K11: =RANK(J11,$J$6:$J$27,0) -> 6 | M11: 국제물류 | N11: 6547448 | O11: 5277067 | P11: =(N11-O11)/O11*100 -> 24.073619 | Q11: =RANK(P11,$P$6:$P$25,0) -> 6
A12: 서울구로 | B12: 85906 | C12: 79876 | D12: =(B12-C12)/C12*100 -> 7.5492013 | E12: =RANK(D12,$D$6:$D$28,0) -> 7 | G12: 서울은평 | H12: 19669 | I12: 15280 | J12: =(H12-I12)/I12*100 -> 28.723822 | K12: =RANK(J12,$J$6:$J$27,0) -> 7 | M12: 서울구로 | N12: 1160089 | O12: 976418 | P12: =(N12-O12)/O12*100 -> 18.810694 | Q12: =RANK(P12,$P$6:$P$25,0) -> 7
A13: 서울금천 | B13: 48823 | C13: 45582 | D13: =(B13-C13)/C13*100 -> 7.1102628 | E13: =RANK(D13,$D$6:$D$28,0) -> 8 | G13: 서울노원 | H13: 23300 | I13: 18235 | J13: =(H13-I13)/I13*100 -> 27.776254 | K13: =RANK(J13,$J$6:$J$27,0) -> 8 | M13: 서울중앙 | N13: 2087884 | O13: 1768899 | P13: =(N13-O13)/O13*100 -> 18.032969 | Q13: =RANK(P13,$P$6:$P$25,0) -> 8
A14: 여의도 | B14: 179350 | C14: 168217 | D14: =(B14-C14)/C14*100 -> 6.6182372 | E14: =RANK(D14,$D$6:$D$28,0) -> 9 | G14: 서울중랑 | H14: 15070 | I14: 11861 | J14: =(H14-I14)/I14*100 -> 27.055054 | K14: =RANK(J14,$J$6:$J$27,0) -> 9 | M14: 서울용산 | N14: 2132728 | O14: 1900694 | P14: =(N14-O14)/O14*100 -> 12.207857 | Q14: =RANK(P14,$P$6:$P$25,0) -> 9
A15: 서대문 | B15: 95632 | C15: 90053 | D15: =(B15-C15)/C15*100 -> 6.1952406 | E15: =RANK(D15,$D$6:$D$28,0) -> 10 | G15: 서대문 | H15: 20852 | I15: 16416 | J15: =(H15-I15)/I15*100 -> 27.022417 | K15: =RANK(J15,$J$6:$J$27,0) -> 10 | M15: 서울관악 | N15: 818396 | O15: 734365 | P15: =(N15-O15)/O15*100 -> 11.442675 | Q15: =RANK(P15,$P$6:$P$25,0) -> 10
A16: 서울용산 | B16: 91496 | C16: 86448 | D16: =(B16-C16)/C16*100 -> 5.8393485 | E16: =RANK(D16,$D$6:$D$28,0) -> 11 | G16: 여의도 | H16: 28882 | I16: 22742 | J16: =(H16-I16)/I16*100 -> 26.998505 | K16: =RANK(J16,$J$6:$J$27,0) -> 11 | M16: 서울강서 | N16: 1006414 | O16: 905035 | P16: =(N16-O16)/O16*100 -> 11.201666 | Q16: =RANK(P16,$P$6:$P$25,0) -> 11
A17: 서울강동 | B17: 86738 | C17: 82708 | D17: =(B17-C17)/C17*100 -> 4.8725637 | E17: =RANK(D17,$D$6:$D$28,0) -> 12 | G17: 서울도봉 | H17: 25140 | I17: 19822 | J17: =(H17-I17)/I17*100 -> 26.828776 | K17: =RANK(J17,$J$6:$J$27,0) -> 12 | M17: 동서울집 | N17: 383083 | O17: 357583 | P17: =(N17-O17)/O17*100 -> 7.1312115 | Q17: =RANK(P17,$P$6:$P$25,0) -> 12
... A25: 광화문 | B25: 144429 | C25: 141930 | D25: =(B25-C25)/C25*100 -> 1.7607271 | E25: =RANK(D25,$D$6:$D$28,0) -> 20 | G25: 광화문 | H25: 18547 | I25: 16143 | J25: =(H25-I25)/I25*100 -> 14.891904 | K25: =RANK(J25,$J$6:$J$27,0) -> 20 | M25: 서울양천 | N25: 942714 | O25: 1083168 | P25: =(N25-O25)/O25*100 -> -12.966964 | Q25: =RANK(P25,$P$6:$P$25,0) -> 20
A26: 서울동작 | B26: 81547 | C26: 80972 | D26: =(B26-C26)/C26*100 -> 0.71012202 | E26: =RANK(D26,$D$6:$D$28,0) -> 21 | G26: 서울용산 | H26: 16270 | I26: 14540 | J26: =(H26-I26)/I26*100 -> 11.898212 | K26: =RANK(J26,$J$6:$J$27,0) -> 21 | M26: 소 계 | N26: =SUM(N6:N25) -> 32947043 | O26: =SUM(O6:O25) -> 28755664 | P26: =(N26-O26)/O26*100 -> 14.575838
A27: 서울서초 | B27: 197035 | C27: 196334 | D27: =(B27-C27)/C27*100 -> 0.35704463 | E27: =RANK(D27,$D$6:$D$28,0) -> 22 | G27: 서울중앙 | H27: 20141 | I27: 18237 | J27: =(H27-I27)/I27*100 -> 10.440314 | K27: =RANK(J27,$J$6:$J$27,0) -> 22 | M27: o 피통합국
A28: 서울양천 | B28: 86645 | C28: 98493 | D28: =(B28-C28)/C28*100 -> -12.029281 | E28: =RANK(D28,$D$6:$D$28,0) -> 23 | G28: 서울금천 | H28: 무집배국 | M28: 서울성북 | N28: 152729 | O28: 28312 | P28: =(N28-O28)/O28*100 -> 439.4497 | Q28: 1
A29: 소 계 | B29: =SUM(B6:B28) -> 2838094 | C29: =SUM(C6:C28) -> 2700771 | D29: =(B29-C29)/C29*100 -> 5.0845851 | G29: 소 계 | H29: =SUM(H6:H28) -> 602689 | I29: =SUM(I6:I28) -> 481076 | J29: =(H29-I29)/I29*100 -> 25.279374 | M29: 서울마포 | N29: 256785 | O29: 71531 | P29: =(N29-O29)/O29*100 -> 258.98422 | Q29: 2
A30: 동서울집 | B30: 21211 | C30: 4412 | D30: =(B30-C30)/C30*100 -> 380.75703 | E30: 1 | G30: 동서울집 | H30: 해당사항 없음 | M30: 광화문 | N30: 321925 | O30: 113608 | P30: =(N30-O30)/O30*100 -> 183.36473 | Q30: 3
A31: 국제물류 | B31: 1592 | C31: 1608 | D31: =(B31-C31)/C31*100 -> -0.99502488 | E31: 2 | G31: 국제물류 | M31: 서울노원 | N31: 94651 | O31: 41101 | P31: =(N31-O31)/O31*100 -> 130.2888 | Q31: 4
A32: 소 계 | B32: =SUM(B30:B31) -> 22803 | C32: =SUM(C30:C31) -> 6020 | D32: =(B32-C32)/C32*100 -> 278.78738 | G32: 소 계 | H32: =SUM(H30:H31) -> 0 | I32: =SUM(I30:I31) -> 0 | M32: 소 계 | N32: =SUM(N28:N31) -> 826090 | O32: =SUM(O28:O31) -> 254552 | P32: =(N32-O32)/O32*100 -> 224.52701
A33: 합 계 | B33: =(B29+B32) -> 2860897 | C33: =(C29+C32) -> 2706791 | D33: =(B33-C33)/C33*100 -> 5.6933099 | G33: 합 계 | H33: =H29+H32 -> 602689 | I33: =I29+I32 -> 481076 | J33: =(H33-I33)/I33*100 -> 25.279374 | M33: 합 계 | N33: =N26+N32 -> 33773133 | O33: =O26+O32 -> 29010216 | P33: =(N33-O33)/O33*100 -> 16.418068
A34: 월평균 | B34: =B33/3 -> 953632.33 | C34: =C33/3 -> 902263.67 | D34: =(B34-C34)/C34*100 -> 5.6933099 | G34: 월평균 | H34: =H29/3 -> 200896.33 | I34: =I29/3 -> 160358.67 | J34: =(H34-I34)/I34*100 -> 25.279374 | M34: 월평균 | N34: =N33/3 -> 11257711 | O34: =O33/3 -> 9670072 | P34: =(N34-O34)/O34*100 -> 16.418068
A35: 일평균 | B35: =B34/62 -> 15381.167 | C35: =C34/60 -> 15037.728 | D35: =(B35-C35)/C35*100 -> 2.2838483 | G35: 일평균 | H35: =H34/32 -> 6278.0104 | I35: =I34/60 -> 2672.6444 | J35: =(H35-I35)/I35*100 -> 134.89883 | M35: 일평균 | N35: =N34/62 -> 181575.98 | O35: =O34/60 -> 161167.87 | P35: =(N35-O35)/O35*100 -> 12.662646
A37: ※ 근무일수 : 2017년 3월(62일), 2016년 3월(60일) | M37: ※ 서울광진 : 현대백화점 택배(2,353,725천원) 제외, 반영 시 1위
M38: ※ 서울구로 및 서울금천 : 계약택배 실적 통합 관리

Sheet EMS
A1: EMS+K-Packet 매출액 실적(2017. 3. 31. 현재)-감액 후
J2: (단위: 백만원, %)
A3: 순위 (달성률) | B3: 국명 | C3: EMS 목표 | E3: EMS 매출액 | G3: 달성률 | I3: 누계증감률 | J3: 증감률 순위
C4: 연간 | D4: 당월 | E4: 당월 | F4: 누계 | G4: 당월 | H4: 연간
A5: =RANK(H5,$H$5:$H$27) -> 1 | B5: =[6]원데이터!A26 -> 서울구로 | C5: =[6]목표!B27 -> 4105000000 | E5: =[6]원데이터!J26 -> 392905210 | F5: =[6]원데이터!B26 -> 1257888010 | G5: =E5/D5*100 -> #DIV/0! | H5: =F5/C5*100 -> 30.642826 | I5: =(F5/[6]원데이터!F26-1)*100 -> 94.474826 | J5: =RANK(I5,$I$5:$I$27) -> 1
A6: =RANK(H6,$H$5:$H$27) -> 2 | B6: =[6]원데이터!A12 -> 여의도 | C6: =[6]목표!B13 -> 4310000000 | D6: =[6]목표!AX13 -> 0 | E6: =[6]원데이터!J12 -> 399939960 | F6: =[6]원데이터!B12 -> 1314334110 | G6: =E6/D6*100 -> #DIV/0! | H6: =F6/C6*100 -> 30.494991 | I6: =(F6/[6]원데이터!F12-1)*100 -> 2.3316187 | J6: =RANK(I6,$I$5:$I$27) -> 7
A7: =RANK(H7,$H$5:$H$27) -> 3 | B7: =[6]원데이터!A18 -> 서울양천 | C7: =[6]목표!B19 -> 2772000000 | D7: =[6]목표!AX19 -> 0 | E7: =[6]원데이터!J18 -> 240948990 | F7: =[6]원데이터!B18 -> 833869460 | G7: =E7/D7*100 -> #DIV/0! | H7: =F7/C7*100 -> 30.081871 | I7: =(F7/[6]원데이터!F18-1)*100 -> -5.6275625 | J7: =RANK(I7,$I$5:$I$27) -> 14
A8: =RANK(H8,$H$5:$H$27) -> 4 | B8: =[6]원데이터!A22 -> 서울용산 | C8: =[6]목표!B23 -> 3843000000 | D8: =[6]목표!AX23 -> 0 | E8: =[6]원데이터!J22 -> 468668840 | F8: =[6]원데이터!B22 -> 1072021920 | G8: =E8/D8*100 -> #DIV/0! | H8: =F8/C8*100 -> 27.895444 | I8: =(F8/[6]원데이터!F22-1)*100 -> 15.848773 | J8: =RANK(I8,$I$5:$I$27) -> 3
A9: =RANK(H9,$H$5:$H$27) -> 5 | B9: =[6]원데이터!A3 -> 서울중앙 | C9: =[6]목표!B4 -> 7310000000 | D9: =[6]목표!AX4 -> 0 | E9: =[6]원데이터!J3 -> 618919520 | F9: =[6]원데이터!B3 -> 1974341850 | G9: =E9/D9*100 -> #DIV/0! | H9: =F9/C9*100 -> 27.00878 | I9: =(F9/[6]원데이터!F3-1)*100 -> 5.7505567 | J9: =RANK(I9,$I$5:$I$27) -> 5
A10: =RANK(H10,$H$5:$H$27) -> 6 | B10: 서울도봉 | C10: =[6]목표!B9+[6]목표!B26 -> 3415000000 | D10: =[6]목표!AX9+[6]목표!AX26 -> 0 | E10: =[6]원데이터!J8+[6]원데이터!J25 -> 309286620 | F10: =[6]원데이터!B8+[6]원데이터!B25 -> 898194650 | G10: =E10/D10*100 -> #DIV/0! | H10: =F10/C10*100 -> 26.301454 | I10: =(F10/[6]원데이터!F25-1)*100 -> -16.66985 | J10: =RANK(I10,$I$5:$I$27) -> 19
A11: =RANK(H11,$H$5:$H$27) -> 7 | B11: =[6]원데이터!A9 -> 서울마포 | C11: =[6]목표!B10 -> 3683000000 | D11: =[6]목표!AX10 -> 0 | E11: =[6]원데이터!J9 -> 326098300 | F11: =[6]원데이터!B9 -> 954844810 | G11: =E11/D11*100 -> #DIV/0! | H11: =F11/C11*100 -> 25.925735 | I11: =(F11/[6]원데이터!F9-1)*100 -> 10.782789 | J11: =RANK(I11,$I$5:$I$27) -> 4
A12: =RANK(H12,$H$5:$H$27) -> 8 | B12: =[6]원데이터!A13 -> 서울강남 | C12: =[6]목표!B14 -> 10971000000 | D12: =[6]목표!AX14 -> 0 | E12: =[6]원데이터!J13 -> 934228180 | F12: =[6]원데이터!B13 -> 2841817280 | G12: =E12/D12*100 -> #DIV/0! | H12: =F12/C12*100 -> 25.902992 | I12: =(F12/[6]원데이터!F13-1)*100 -> 36.719607 | J12: =RANK(I12,$I$5:$I$27) -> 2
A13: =RANK(H13,$H$5:$H$27) -> 9 | B13: =[6]원데이터!A16 -> 서울강동 | C13: =[6]목표!B17 -> 2507000000 | D13: =[6]목표!AX17 -> 0 | E13: =[6]원데이터!J16 -> 237873100 | F13: =[6]원데이터!B16 -> 630405270 | G13: =E13/D13*100 -> #DIV/0! | H13: =F13/C13*100 -> 25.145803 | I13: =(F13/[6]원데이터!F16-1)*100 -> 4.0079845 | J13: =RANK(I13,$I$5:$I$27) -> 6
A14: =RANK(H14,$H$5:$H$27) -> 10 | B14: =[6]원데이터!A17 -> 서울송파 | C14: =[6]목표!B18 -> 5483000000 | D14: =[6]목표!AX18 -> 0 | E14: =[6]원데이터!J17 -> 454216340 | F14: =[6]원데이터!B17 -> 1351383910 | G14: =E14/D14*100 -> #DIV/0! | H14: =F14/C14*100 -> 24.646798 | I14: =(F14/[6]원데이터!F17-1)*100 -> -6.4156149 | J14: =RANK(I14,$I$5:$I$27) -> 15
A15: =RANK(H15,$H$5:$H$27) -> 11 | B15: =[6]원데이터!A21 -> 서울서초 | C15: =[6]목표!B22 -> 6055000000 | D15: =[6]목표!AX22 -> 0 | E15: =[6]원데이터!J21 -> 508485930 | F15: =[6]원데이터!B21 -> 1477235920 | G15: =E15/D15*100 -> #DIV/0! | H15: =F15/C15*100 -> 24.39696 | I15: =(F15/[6]원데이터!F21-1)*100 -> -1.6141881 | J15: =RANK(I15,$I$5:$I$27) -> 9
A16: =RANK(H16,$H$5:$H$27) -> 12 | B16: =[6]원데이터!A24 -> 서울중랑 | C16: =[6]목표!B25 -> 1718000000 | D16: =[6]목표!AX25 -> 0 | E16: =[6]원데이터!J24 -> 145148210 | F16: =[6]원데이터!B24 -> 416840460 | G16: =E16/D16*100 -> #DIV/0! | H16: =F16/C16*100 -> 24.263123 | I16: =(F16/[6]원데이터!F24-1)*100 -> -4.7099399 | J16: =RANK(I16,$I$5:$I$27) -> 11
A17: =RANK(H17,$H$5:$H$27) -> 13 | B17: =[6]원데이터!A4 -> 광화문 | C17: =[6]목표!B5 -> 3730000000 | D17: =[6]목표!AX5 -> 0 | E17: =[6]원데이터!J4 -> 308101800 | F17: =[6]원데이터!B4 -> 894891640 | G17: =E17/D17*100 -> #DIV/0! | H17: =F17/C17*100 -> 23.991733 | I17: =(F17/[6]원데이터!F4-1)*100 -> -3.1210984 | J17: =RANK(I17,$I$5:$I$27) -> 10
A18: =RANK(H18,$H$5:$H$27) -> 14 | B18: =[6]원데이터!A6 -> 동대문 | C18: =[6]목표!B7 -> 3821000000 | D18: =[6]목표!AX7 -> 0 | E18: =[6]원데이터!J6 -> 349007380 | F18: =[6]원데이터!B6 -> 916622330 | G18: =E18/D18*100 -> #DIV/0! | H18: =F18/C18*100 -> 23.989069 | I18: =(F18/[6]원데이터!F6-1)*100 -> -24.721678 | J18: =RANK(I18,$I$5:$I$27) -> 21
A19: =RANK(H19,$H$5:$H$27) -> 15 | B19: =[6]원데이터!A19 -> 서울강서 | C19: =[6]목표!B20 -> 3292000000 | D19: =[6]목표!AX20 -> 0 | E19: =[6]원데이터!J19 -> 268895090 | F19: =[6]원데이터!B19 -> 787807450 | G19: =E19/D19*100 -> #DIV/0! | H19: =F19/C19*100 -> 23.930967 | I19: =(F19/[6]원데이터!F19-1)*100 -> -4.891923 | J19: =RANK(I19,$I$5:$I$27) -> 12
A20: =RANK(H20,$H$5:$H$27) -> 16 | B20: =[6]원데이터!A23 -> 서울노원 | C20: =[6]목표!B24 -> 1963000000 | D20: =[6]목표!AX24 -> 0 | E20: =[6]원데이터!J23 -> 155141880 | F20: =[6]원데이터!B23 -> 446160340 | G20: =E20/D20*100 -> #DIV/0! | H20: =F20/C20*100 -> 22.728494 | I20: =(F20/[6]원데이터!F23-1)*100 -> -10.78841 | J20: =RANK(I20,$I$5:$I$27) -> 16
A21: =RANK(H21,$H$5:$H$27) -> 17 | B21: =[6]원데이터!A14 -> 서울금천 | C21: =[6]목표!B15 -> 1601000000 | D21: =[6]목표!AX15 -> 0 | E21: =[6]원데이터!J14 -> 125046770 | F21: =[6]원데이터!B14 -> 363856520 | G21: =E21/D21*100 -> #DIV/0! | H21: =F21/C21*100 -> 22.726828 | I21: =(F21/[6]원데이터!F14-1)*100 -> -76.090851 | J21: =RANK(I21,$I$5:$I$27) -> 23
A22: =RANK(H22,$H$5:$H$27) -> 18 | B22: =[6]원데이터!A11 -> 서울은평 | C22: =[6]목표!B12 -> 3292000000 | D22: =[6]목표!AX12 -> 0 | E22: =[6]원데이터!J11 -> 248386330 | F22: =[6]원데이터!B11 -> 743317130 | G22: =E22/D22*100 -> #DIV/0! | H22: =F22/C22*100 -> 22.5795 | I22: =(F22/[6]원데이터!F11-1)*100 -> -4.9759799 | J22: =RANK(I22,$I$5:$I$27) -> 13
A23: =RANK(H23,$H$5:$H$27) -> 19 | B23: =[6]원데이터!A10 -> 서울관악 | C23: =[6]목표!B11 -> 2608000000 | D23: =[6]목표!AX11 -> 0 | E23: =[6]원데이터!J10 -> 203274520 | F23: =[6]원데이터!B10 -> 585863730 | G23: =E23/D23*100 -> #DIV/0! | H23: =F23/C23*100 -> 22.4641 | I23: =(F23/[6]원데이터!F10-1)*100 -> -14.125459 | J23: =RANK(I23,$I$5:$I$27) -> 18
A24: =RANK(H24,$H$5:$H$27) -> 20 | B24: =[6]원데이터!A5 -> 서대문 | C24: =[6]목표!B6 -> 5984000000 | D24: =[6]목표!AX6 -> 0 | E24: =[6]원데이터!J5 -> 464647440 | F24: =[6]원데이터!B5 -> 1332375640 | G24: =E24/D24*100 -> #DIV/0! | H24: =F24/C24*100 -> 22.265636 | I24: =(F24/[6]원데이터!F5-1)*100 -> -18.680573 | J24: =RANK(I24,$I$5:$I$27) -> 20
A25: =RANK(H25,$H$5:$H$27) -> 21 | B25: =[6]원데이터!A15 -> 서울성북 | C25: =[6]목표!B16 -> 2309000000 | D25: =[6]목표!AX16 -> 0 | E25: =[6]원데이터!J15 -> 181937220 | F25: =[6]원데이터!B15 -> 512782030 | G25: =E25/D25*100 -> #DIV/0! | H25: =F25/C25*100 -> 22.20797 | I25: =(F25/[6]원데이터!F15-1)*100 -> -13.68309 | J25: =RANK(I25,$I$5:$I$27) -> 17
A26: =RANK(H26,$H$5:$H$27) -> 22 | B26: =[6]원데이터!A7 -> 서울광진 | C26: =[6]목표!B8 -> 7022000000 | D26: =[6]목표!AX8 -> 0 | E26: =[6]원데이터!J7 -> 507127000 | F26: =[6]원데이터!B7 -> 1498581770 | G26: =E26/D26*100 -> #DIV/0! | H26: =F26/C26*100 -> 21.341239 | I26: =(F26/[6]원데이터!F7-1)*100 -> 0.70842241 | J26: =RANK(I26,$I$5:$I$27) -> 8
A27: =RANK(H27,$H$5:$H$27) -> 23 | B27: =[6]원데이터!A20 -> 서울동작 | C27: =[6]목표!B21 -> 3365000000 | D27: =[6]목표!AX21 -> 0 | E27: =[6]원데이터!J20 -> 223107740 | F27: =[6]원데이터!B20 -> 697158050 | G27: =E27/D27*100 -> #DIV/0! | H27: =F27/C27*100 -> 20.717921 | I27: =(F27/[6]원데이터!F20-1)*100 -> -44.450634 | J27: =RANK(I27,$I$5:$I$27) -> 22
B28: =[6]원데이터!A27 -> 국제우편물류센터 | C28: =[6]목표!B28 -> 7685000000 | D28: =[6]목표!AX28 -> 0 | E28: =[6]원데이터!J27 -> 754460490 | F28: =[6]원데이터!B27 -> 2270955040 | G28: =E28/D28*100 -> #DIV/0! | H28: =F28/C28*100 -> 29.550488 | I28: =(F28/[6]원데이터!F27-1)*100 -> 420.8532
A29: 합계 | C29: =SUM(C5:C28)+C30 -> 104539000000 | D29: =SUM(D5:D28) -> 0 | E29: =SUM(E5:E28) -> 8825852860 | F29: =SUM(F5:F28) -> 26073549320 | G29: =E29/D29*100 -> #DIV/0! | H29: =F29/C29*100 -> 24.941457 | I29: =(F29/[6]원데이터!F28-1)*100 -> 2.3204416
B30: 자청보류 | C30: 1695000000

Sheet 예금
A1: 예금사업 성장률 우수관서(2월 대비 3월 성장)
A2: 구 분 | B2: 성장률(%) | G2: 순위
B3: 수신고 | C3: 요구불 | D3: 체크카드 | E3: 스마트 | F3: 합계
A4: 서울강서 | B4: 101.51517 | C4: 100.69941 | D4: 163.47256 | E4: 116.1033 | F4: =SUM(B4:E4) -> 481.79044 | G4: =RANK(F4,$F$4:$F$26,0) -> 1
A5: 서울광진 | B5: 104.77727 | C5: 109.71252 | D5: 160.86387 | E5: 78.435214 | F5: =SUM(B5:E5) -> 453.78888 | G5: =RANK(F5,$F$4:$F$26,0) -> 2
A6: 서대문 | B6: 100.13832 | C6: 101.84145 | D6: 160.78803 | E6: 72.053872 | F6: =SUM(B6:E6) -> 434.82166 | G6: =RANK(F6,$F$4:$F$26,0) -> 3
A7: 서울용산 | B7: 100.75963 | C7: 104.03663 | D7: 160.60449 | E7: 66.060606 | F7: =SUM(B7:E7) -> 431.46136 | G7: =RANK(F7,$F$4:$F$26,0) -> 4
A8: 서울성북 | B8: 102.04605 | C8: 106.35775 | D8: 159.95343 | E8: 62.209588 | F8: =SUM(B8:E8) -> 430.56682 | G8: =RANK(F8,$F$4:$F$26,0) -> 5
A9: 동대문 | B9: 103.32856 | C9: 98.21012 | D9: 156.96064 | E9: 72.027972 | F9: =SUM(B9:E9) -> 430.52729 | G9: =RANK(F9,$F$4:$F$26,0) -> 6
A10: 광화문 | B10: 105.38986 | C10: 104.83754 | D10: 160.57383 | E10: 52.755535 | F10: =SUM(B10:E10) -> 423.55677 | G10: =RANK(F10,$F$4:$F$26,0) -> 7
A11: 서울도봉 | B11: 102.04254 | C11: 106.52955 | D11: 159.58579 | E11: 52.816265 | F11: =SUM(B11:E11) -> 420.97414 | G11: =RANK(F11,$F$4:$F$26,0) -> 8
A12: 서울중랑 | B12: 100.44044 | C12: 102.06955 | D12: 163.66497 | E12: 54.274084 | F12: =SUM(B12:E12) -> 420.44905 | G12: =RANK(F12,$F$4:$F$26,0) -> 9
A13: 서울노원 | B13: 100.84506 | C13: 103.79888 | D13: 160.2422 | E13: 55.207319 | F13: =SUM(B13:E13) -> 420.09346 | G13: =RANK(F13,$F$4:$F$26,0) -> 10
A14: 여의도 | B14: 103.79825 | C14: 94.073965 | D14: 159.73939 | E14: 62.335659 | F14: =SUM(B14:E14) -> 419.94726 | G14: =RANK(F14,$F$4:$F$26,0) -> 11
A15: 서울관악 | B15: 99.545321 | C15: 98.000526 | D15: 162.12993 | E15: 57.422795 | F15: =SUM(B15:E15) -> 417.09857 | G15: =RANK(F15,$F$4:$F$26,0) -> 12
... A26: 서울강남 | B26: 59.426314 | C26: 108.12481 | D26: 160.63915 | E26: 59.432527 | F26: =SUM(B26:E26) -> 387.6228 | G26: =RANK(F26,$F$4:$F$26,0) -> 23

Sheet 보험
B1: 2017.3월 정산초회보험료 실적현황
G3: (단위:천원,%)
B4: 순위 | C4: 국명 | D4: 월목표 | E4: 실적 | F4: 달성률 | G4: 비고
B5: 계 | D5: =SUM(D6:D28) -> 1791666.7 | E5: =SUM(E6:E28) -> 3401497.2 | F5: =E5/D5*100 -> 189.851
B6: 1 | C6: 서울송파 | D6: 99416.667 | E6: =VLOOKUP(C6,'[8]1-1. 2017 청별-&gt;총괄국'!$D$12:$E$34,2,0)/1000 -> 271950.01 | F6: =E6/D6*100 -> 273.54569 | G6: =IFERROR((#REF!/#REF!*100)-100,"")
B7: 2 | C7: 서울중앙 | D7: 95000 | E7: =VLOOKUP(C7,'[8]1-1. 2017 청별-&gt;총괄국'!$D$12:$E$34,2,0)/1000 -> 217368.48 | F7: =E7/D7*100 -> 228.80893 | G7: =IFERROR((#REF!/#REF!*100)-100,"")
B8: 3 | C8: 서울양천 | D8: 74500 | E8: =VLOOKUP(C8,'[8]1-1. 2017 청별-&gt;총괄국'!$D$12:$E$34,2,0)/1000 -> 163331.12 | F8: =E8/D8*100 -> 219.2364 | G8: =IFERROR((#REF!/#REF!*100)-100,"")
B9: 4 | C9: 광화문 | D9: 85500 | E9: =VLOOKUP(C9,'[8]1-1. 2017 청별-&gt;총괄국'!$D$12:$E$34,2,0)/1000 -> 185832.49 | F9: =E9/D9*100 -> 217.34794 | G9: =IFERROR((#REF!/#REF!*100)-100,"")
B10: 5 | C10: 서울강남 | D10: 103333.33 | E10: =VLOOKUP(C10,'[8]1-1. 2017 청별-&gt;총괄국'!$D$12:$E$34,2,0)/1000 -> 219223.07 | F10: =E10/D10*100 -> 212.15136 | G10: =IFERROR((#REF!/#REF!*100)-100,"")
B11: 6 | C11: 서대문 | D11: 62166.667 | E11: =VLOOKUP(C11,'[8]1-1. 2017 청별-&gt;총괄국'!$D$12:$E$34,2,0)/1000 -> 130920.25 | F11: =E11/D11*100 -> 210.59558 | G11: =IFERROR((#REF!/#REF!*100)-100,"")
B12: 7 | C12: 서울서초 | D12: 64250 | E12: =VLOOKUP(C12,'[8]1-1. 2017 청별-&gt;총괄국'!$D$12:$E$34,2,0)/1000 -> 135223.29 | F12: =E12/D12*100 -> 210.46426 | G12: =IFERROR((#REF!/#REF!*100)-100,"")
B13: 8 | C13: 서울마포 | D13: 62083.333 | E13: =VLOOKUP(C13,'[8]1-1. 2017 청별-&gt;총괄국'!$D$12:$E$34,2,0)/1000 -> 128305.6 | F13: =E13/D13*100 -> 206.66674 | G13: =IFERROR((#REF!/#REF!*100)-100,"")
B14: 9 | C14: 서울관악 | D14: 72833.333 | E14: =VLOOKUP(C14,'[8]1-1. 2017 청별-&gt;총괄국'!$D$12:$E$34,2,0)/1000 -> 146968.86 | F14: =E14/D14*100 -> 201.78791 | G14: =IFERROR((#REF!/#REF!*100)-100,"")
B15: 10 | C15: 서울광진 | D15: 104833.33 | E15: =VLOOKUP(C15,'[8]1-1. 2017 청별-&gt;총괄국'!$D$12:$E$34,2,0)/1000 -> 208926.54 | F15: =E15/D15*100 -> 199.294 | G15: =IFERROR((#REF!/#REF!*100)-100,"")
B16: 11 | C16: 서울용산 | D16: 64916.667 | E16: =VLOOKUP(C16,'[8]1-1. 2017 청별-&gt;총괄국'!$D$12:$E$34,2,0)/1000 -> 115149.4 | F16: =E16/D16*100 -> 177.38034 | G16: =IFERROR((#REF!/#REF!*100)-100,"")
B17: 12 | C17: 서울노원 | D17: 81416.667 | E17: =VLOOKUP(C17,'[8]1-1. 2017 청별-&gt;총괄국'!$D$12:$E$34,2,0)/1000 -> 142882.89 | F17: =E17/D17*100 -> 175.49588 | G17: =IFERROR((#REF!/#REF!*100)-100,"")
... B28: 23 | C28: 서울구로 | D28: 20833.333 | E28: =VLOOKUP(C28,'[8]1-1. 2017 청별-&gt;총괄국'!$D$12:$E$34,2,0)/1000 -> 27701.278 | F28: =E28/D28*100 -> 132.96613 | G28: =IFERROR((#REF!/#REF!*100)-100,"")
