Workbook

Sheet 배정내역
A1: 2분기 예금마케팅 기본경비 예산 배정
A3: * 배정기준(2017.3.28 기준) : 사업실적별 규모 및 기본경비 예산 배정
A4: * 예산과목 : 5231-362-210-01(수용비) | N4: (단위 : 천원)
A5: 국 명 | B5: 기본배정 | C5: 아파트관리비 유치 시범관서 | D5: 사업실적별 | N5: 배정액 합 계 (천원)
D6: 요구불(40%) | F6: 총수신고(20%) | H6: 스마트금융(20%) | J6: 체크카드(20%) | L6: 총 실적 점유비 | M6: 배정액 (천원)
D7: 실적(억원) | E7: 점유비 | F7: 실적(명) | G7: 점유비 | H7: 실적(백만원) | I7: 점유비 | J7: 실적(백만원) | K7: 점유비 | O7: 점유비
A8: 서울중앙 | B8: 4000 | C8: 0 | D8: =VLOOKUP(A8,[1]요구불!B$16:L$38,3,FALSE) -> 1135.3585 | E8: =D8/$D$31 -> 0.054694089 | F8: =VLOOKUP(A8,[1]수신고!B$16:L$38,3,FALSE) -> 8860.6575 | G8: =F8/$F$31 -> 0.077863202 | H8: =VLOOKUP(A8,[1]스마트!B$16:S$38,4,FALSE) -> 15238 | I8: =H8/$H$31 -> 0.050822133 | J8: =VLOOKUP(A8,[1]체크카드!B$16:L$38,3,FALSE) -> 47.59286 | K8: =J8/$J$31 -> 0.044606259 | L8: =E8*40%+G8*20%+I8*20%+K8*20% -> 0.056535955 | M8: =L8*$M$31 -> 6105.8831 | N8: =ROUND(SUM(B8,C8,M8),0) -> 10106 | O8: =N8/$N$31 -> 0.049783251
A9: 광화문 | B9: 4000 | C9: 0 | D9: =VLOOKUP(A9,[1]요구불!B$16:L$38,3,FALSE) -> 1204.034 | E9: =D9/$D$31 -> 0.058002421 | F9: =VLOOKUP(A9,[1]수신고!B$16:L$38,3,FALSE) -> 6905.8597 | G9: =F9/$F$31 -> 0.060685378 | H9: =VLOOKUP(A9,[1]스마트!B$16:S$38,4,FALSE) -> 17463 | I9: =H9/$H$31 -> 0.058243004 | J9: =VLOOKUP(A9,[1]체크카드!B$16:L$38,3,FALSE) -> 54.716687 | K9: =J9/$J$31 -> 0.051283044 | L9: =E9*40%+G9*20%+I9*20%+K9*20% -> 0.057243253 | M9: =L9*$M$31 -> 6182.2714 | N9: =ROUND(SUM(B9,C9,M9),0) -> 10182 | O9: =N9/$N$31 -> 0.050157635
A10: 서대문 | B10: 4000 | C10: 0 | D10: =VLOOKUP(A10,[1]요구불!B$16:L$38,3,FALSE) -> 523.95113 | E10: =D10/$D$31 -> 0.025240512 | F10: =VLOOKUP(A10,[1]수신고!B$16:L$38,3,FALSE) -> 3781.0519 | G10: =F10/$F$31 -> 0.033226068 | H10: =VLOOKUP(A10,[1]스마트!B$16:S$38,4,FALSE) -> 11829 | I10: =H10/$H$31 -> 0.039452356 | J10: =VLOOKUP(A10,[1]체크카드!B$16:L$38,3,FALSE) -> 31.09346 | K10: =J10/$J$31 -> 0.029142248 | L10: =E10*40%+G10*20%+I10*20%+K10*20% -> 0.030460339 | M10: =L10*$M$31 -> 3289.7166 | N10: =ROUND(SUM(B10,C10,M10),0) -> 7290 | O10: =N10/$N$31 -> 0.03591133
A11: 동대문 | B11: 4000 | C11: 0 | D11: =VLOOKUP(A11,[1]요구불!B$16:L$38,3,FALSE) -> 810.82351 | E11: =D11/$D$31 -> 0.039060132 | F11: =VLOOKUP(A11,[1]수신고!B$16:L$38,3,FALSE) -> 4297.5517 | G11: =F11/$F$31 -> 0.03776482 | H11: =VLOOKUP(A11,[1]스마트!B$16:S$38,4,FALSE) -> 14867 | I11: =H11/$H$31 -> 0.049584765 | J11: =VLOOKUP(A11,[1]체크카드!B$16:L$38,3,FALSE) -> 41.626951 | K11: =J11/$J$31 -> 0.03901473 | L11: =E11*40%+G11*20%+I11*20%+K11*20% -> 0.040896916 | M11: =L11*$M$31 -> 4416.8669 | N11: =ROUND(SUM(B11,C11,M11),0) -> 8417 | O11: =N11/$N$31 -> 0.041463054
A12: 서울광진 | B12: 4000 | C12: 0 | D12: =VLOOKUP(A12,[1]요구불!B$16:L$38,3,FALSE) -> 1550.0497 | E12: =D12/$D$31 -> 0.074671175 | F12: =VLOOKUP(A12,[1]수신고!B$16:L$38,3,FALSE) -> 6844.4634 | G12: =F12/$F$31 -> 0.060145857 | H12: =VLOOKUP(A12,[1]스마트!B$16:S$38,4,FALSE) -> 20000 | I12: =H12/$H$31 -> 0.066704466 | J12: =VLOOKUP(A12,[1]체크카드!B$16:L$38,3,FALSE) -> 74.318054 | K12: =J12/$J$31 -> 0.069654364 | L12: =E12*40%+G12*20%+I12*20%+K12*20% -> 0.069169407 | M12: =L12*$M$31 -> 7470.296 | N12: =ROUND(SUM(B12,C12,M12),0) -> 11470 | O12: =N12/$N$31 -> 0.056502463
A13: 서울마포 | B13: 4000 | C13: 0 | D13: =VLOOKUP(A13,[1]요구불!B$16:L$38,3,FALSE) -> 727.87757 | E13: =D13/$D$31 -> 0.035064343 | F13: =VLOOKUP(A13,[1]수신고!B$16:L$38,3,FALSE) -> 4526.4881 | G13: =F13/$F$31 -> 0.039776603 | H13: =VLOOKUP(A13,[1]스마트!B$16:S$38,4,FALSE) -> 12392 | I13: =H13/$H$31 -> 0.041330087 | J13: =VLOOKUP(A13,[1]체크카드!B$16:L$38,3,FALSE) -> 39.47158 | K13: =J13/$J$31 -> 0.036994615 | L13: =E13*40%+G13*20%+I13*20%+K13*20% -> 0.037645998 | M13: =L13*$M$31 -> 4065.7678 | N13: =ROUND(SUM(B13,C13,M13),0) -> 8066 | O13: =N13/$N$31 -> 0.03973399
A14: 서울관악 | B14: 4000 | C14: 0 | D14: =VLOOKUP(A14,[1]요구불!B$16:L$38,3,FALSE) -> 635.74705 | E14: =D14/$D$31 -> 0.030626102 | F14: =VLOOKUP(A14,[1]수신고!B$16:L$38,3,FALSE) -> 2919.1124 | G14: =F14/$F$31 -> 0.025651757 | H14: =VLOOKUP(A14,[1]스마트!B$16:S$38,4,FALSE) -> 10359 | I14: =H14/$H$31 -> 0.034549578 | J14: =VLOOKUP(A14,[1]체크카드!B$16:L$38,3,FALSE) -> 36.192582 | K14: =J14/$J$31 -> 0.033921384 | L14: =E14*40%+G14*20%+I14*20%+K14*20% -> 0.031074985 | M14: =L14*$M$31 -> 3356.0984 | N14: =ROUND(SUM(B14,C14,M14),0) -> 7356 | O14: =N14/$N$31 -> 0.036236453
A15: 서울은평 | B15: 4000 | C15: 0 | D15: =VLOOKUP(A15,[1]요구불!B$16:L$38,3,FALSE) -> 636.14071 | E15: =D15/$D$31 -> 0.030645066 | F15: =VLOOKUP(A15,[1]수신고!B$16:L$38,3,FALSE) -> 2996.7586 | G15: =F15/$F$31 -> 0.026334075 | H15: =VLOOKUP(A15,[1]스마트!B$16:S$38,4,FALSE) -> 8182 | I15: =H15/$H$31 -> 0.027288797 | J15: =VLOOKUP(A15,[1]체크카드!B$16:L$38,3,FALSE) -> 39.608098 | K15: =J15/$J$31 -> 0.037122566 | L15: =E15*40%+G15*20%+I15*20%+K15*20% -> 0.030407114 | M15: =L15*$M$31 -> 3283.9683 | N15: =ROUND(SUM(B15,C15,M15),0) -> 7284 | O15: =N15/$N$31 -> 0.035881773
A16: 여의도 | B16: 4000 | C16: 0 | D16: =VLOOKUP(A16,[1]요구불!B$16:L$38,3,FALSE) -> 1172.4108 | E16: =D16/$D$31 -> 0.056479024 | F16: =VLOOKUP(A16,[1]수신고!B$16:L$38,3,FALSE) -> 7371.4716 | G16: =F16/$F$31 -> 0.064776951 | H16: =VLOOKUP(A16,[1]스마트!B$16:S$38,4,FALSE) -> 16668 | I16: =H16/$H$31 -> 0.055591502 | J16: =VLOOKUP(A16,[1]체크카드!B$16:L$38,3,FALSE) -> 63.67157 | K16: =J16/$J$31 -> 0.05967598 | L16: =E16*40%+G16*20%+I16*20%+K16*20% -> 0.058600496 | M16: =L16*$M$31 -> 6328.8536 | N16: =ROUND(SUM(B16,C16,M16),0) -> 10329 | O16: =N16/$N$31 -> 0.050881773
A17: 서울강남 | B17: 4000 | C17: 0 | D17: =VLOOKUP(A17,[1]요구불!B$16:L$38,3,FALSE) -> 1265.1938 | E17: =D17/$D$31 -> 0.060948698 | F17: =VLOOKUP(A17,[1]수신고!B$16:L$38,3,FALSE) -> 11757.727 | G17: =F17/$F$31 -> 0.10332126 | H17: =VLOOKUP(A17,[1]스마트!B$16:S$38,4,FALSE) -> 19860 | I17: =H17/$H$31 -> 0.066237535 | J17: =VLOOKUP(A17,[1]체크카드!B$16:L$38,3,FALSE) -> 69.018924 | K17: =J17/$J$31 -> 0.064687771 | L17: =E17*40%+G17*20%+I17*20%+K17*20% -> 0.071228791 | M17: =L17*$M$31 -> 7692.7095 | N17: =ROUND(SUM(B17,C17,M17),0) -> 11693 | O17: =N17/$N$31 -> 0.057600985
A18: 서울성북 | B18: 4000 | C18: 0 | D18: =VLOOKUP(A18,[1]요구불!B$16:L$38,3,FALSE) -> 759.83508 | E18: =D18/$D$31 -> 0.036603846 | F18: =VLOOKUP(A18,[1]수신고!B$16:L$38,3,FALSE) -> 4622.5466 | G18: =F18/$F$31 -> 0.04062072 | H18: =VLOOKUP(A18,[1]스마트!B$16:S$38,4,FALSE) -> 11940 | I18: =H18/$H$31 -> 0.039822566 | J18: =VLOOKUP(A18,[1]체크카드!B$16:L$38,3,FALSE) -> 35.413686 | K18: =J18/$J$31 -> 0.033191366 | L18: =E18*40%+G18*20%+I18*20%+K18*20% -> 0.037368469 | M18: =L18*$M$31 -> 4035.7946 | N18: =ROUND(SUM(B18,C18,M18),0) -> 8036 | O18: =N18/$N$31 -> 0.039586207
A19: 서울강동 | B19: 4000 | C19: 0 | D19: =VLOOKUP(A19,[1]요구불!B$16:L$38,3,FALSE) -> 739.30154 | E19: =D19/$D$31 -> 0.035614675 | F19: =VLOOKUP(A19,[1]수신고!B$16:L$38,3,FALSE) -> 3617.4061 | G19: =F19/$F$31 -> 0.031788027 | H19: =VLOOKUP(A19,[1]스마트!B$16:S$38,4,FALSE) -> 10228 | I19: =H19/$H$31 -> 0.034112664 | J19: =VLOOKUP(A19,[1]체크카드!B$16:L$38,3,FALSE) -> 48.432348 | K19: =J19/$J$31 -> 0.045393067 | L19: =E19*40%+G19*20%+I19*20%+K19*20% -> 0.036504622 | M19: =L19*$M$31 -> 3942.4991 | N19: =ROUND(SUM(B19,C19,M19),0) -> 7942 | O19: =N19/$N$31 -> 0.039123153
... A28: 서울도봉 | B28: 4000 | C28: 0 | D28: =VLOOKUP(A28,[1]요구불!B$16:L$38,3,FALSE) -> 1198.2529 | E28: =D28/$D$31 -> 0.057723926 | F28: =VLOOKUP(A28,[1]수신고!B$16:L$38,3,FALSE) -> 5135.5714 | G28: =F28/$F$31 -> 0.045128935 | H28: =VLOOKUP(A28,[1]스마트!B$16:S$38,4,FALSE) -> 15371 | I28: =H28/$H$31 -> 0.051265717 | J28: =VLOOKUP(A28,[1]체크카드!B$16:L$38,3,FALSE) -> 62.242458 | K28: =J28/$J$31 -> 0.058336549 | L28: =E28*40%+G28*20%+I28*20%+K28*20% -> 0.054035811 | M28: =L28*$M$31 -> 5835.8676 | N28: =ROUND(SUM(B28,C28,M28),0) -> 9836 | O28: =N28/$N$31 -> 0.048453202
A29: 서울구로 | B29: 4000 | C29: 3000 | D29: =VLOOKUP(A29,[1]요구불!B$16:L$38,3,FALSE) -> 434.08252 | E29: =D29/$D$31 -> 0.020911234 | F29: =VLOOKUP(A29,[1]수신고!B$16:L$38,3,FALSE) -> 2085.1672 | G29: =F29/$F$31 -> 0.018323448 | H29: =VLOOKUP(A29,[1]스마트!B$16:S$38,4,FALSE) -> 9039 | I29: =H29/$H$31 -> 0.030147083 | J29: =VLOOKUP(A29,[1]체크카드!B$16:L$38,3,FALSE) -> 27.576123 | K29: =J29/$J$31 -> 0.025845635 | L29: =E29*40%+G29*20%+I29*20%+K29*20% -> 0.023227727 | M29: =L29*$M$31 -> 2508.5945 | N29: 9508 | O29: =N29/$N$31 -> 0.046837438
A30: 서울금천 | B30: 4000 | C30: 0 | D30: =VLOOKUP(A30,[1]요구불!B$16:L$38,3,FALSE) -> 508.56993 | E30: =D30/$D$31 -> 0.024499547 | F30: =VLOOKUP(A30,[1]수신고!B$16:L$38,3,FALSE) -> 1941.2516 | G30: =F30/$F$31 -> 0.017058787 | H30: =VLOOKUP(A30,[1]스마트!B$16:S$38,4,FALSE) -> 5483 | I30: =H30/$H$31 -> 0.018287029 | J30: =VLOOKUP(A30,[1]체크카드!B$16:L$38,3,FALSE) -> 29.435466 | K30: =J30/$J$31 -> 0.027588298 | L30: =E30*40%+G30*20%+I30*20%+K30*20% -> 0.022386642 | M30: =L30*$M$31 -> 2417.7573 | N30: =ROUND(SUM(B30,C30,M30),0) -> 6418 | O30: =N30/$N$31 -> 0.031615764
A31: 합 계 | B31: =SUM(B8:B30) -> 92000 | C31: =SUM(C8:C30) -> 3000 | D31: =SUM(D8:D30) -> 20758.34 | E31: =D31/$D$31 -> 1 | F31: =SUM(F8:F30) -> 113797.75 | G31: =F31/$F$31 -> 1 | H31: =SUM(H8:H30) -> 299830 | I31: =H31/$H$31 -> 1 | J31: =SUM(J8:J30) -> 1066.9547 | K31: =J31/$J$31 -> 1 | L31: =E31*40%+G31*40%+K31*20% -> 1 | M31: 108000 | N31: =SUM(N8:N30) -> 203000 | O31: =N31/$N$31 -> 1
