Workbook

Sheet 종합점수(청)
B1: (우정청) 우정서비스고객만족도 <2016년도>
B3: ※ KPCSI 산출 구조 KPCSI 종합 점수: 창구42.75%+집배47.5%+다량 4.75%+현장모니터링5%
B7: 1. 2016년 KPCSI 점수 <누적> | H7: 42.75 | P7: 47.5 | R7: 4.75 | T7: 5
B8: 구분 | C8: 목표 | D8: 달성률 | E8: 순위 | G8: 종합 KPCSI (실적) | I8: 1) 이용고객 만족도 | K8: 창구 | S8: 집배 | U8: 다량 | W8: 2) 현장 모니터링
E9: 달성률 | F9: CSI | K9: 창구종합 | M9: 우편창구 | O9: 예금창구 | Q9: 보험창구
G10: 사례수 | H10: CSI | I10: 사례수 | J10: CSI | K10: 사례수 | L10: CSI | M10: 사례수 | N10: CSI | O10: 사례수 | P10: CSI | Q10: 사례수 | R10: CSI | S10: 사례수 | T10: CSI | U10: 사례수 | V10: CSI | W10: 사례수 | X10: CSI
B11: 합계 | C11: 93.57 | D11: =H11/C11*100 -> 102.15952 | G11: 53006 | H11: 95.590667 | I11: 50788 | J11: 95.486118 | K11: 32181 | L11: 94.954015 | M11: 18415 | N11: 95.384456 | O11: 9764 | P11: 94.368801 | Q11: 4002 | R11: 94.401153 | S11: 17577 | T11: 96.127125 | U11: 1030 | V11: 93.864977 | W11: 2218 | X11: 97.577096
B12: 서울청 | C12: 91.76 | D12: =H12/C12*100 -> 102.82964 | E12: =RANK(D12,$D$12:$D$20) -> 1 | F12: =RANK(H12,$H$12:$H$20) -> 9 | G12: 6007 | H12: 94.356477 | I12: 5787 | J12: 94.264832 | K12: 3753 | L12: 93.259912 | M12: 2330 | N12: 93.652151 | O12: 1012 | P12: 92.509408 | Q12: 411 | R12: 92.884226 | S12: 1936 | T12: 95.46441 | U12: 98 | V12: 91.313337 | W12: 220 | X12: 96.097727
B13: 경인청 | C13: 92.32 | D13: =H13/C13*100 -> 102.48422 | E13: =RANK(D13,$D$12:$D$20) -> 2 | F13: =RANK(H13,$H$12:$H$20) -> 8 | G13: 9609 | H13: 94.61343 | I13: 9201 | J13: 94.544129 | K13: 5631 | L13: 94.115787 | M13: 3211 | N13: 94.375983 | O13: 1693 | P13: 93.872049 | Q13: 727 | R13: 93.534164 | S13: 3410 | T13: 95.328745 | U13: 160 | V13: 90.55306 | W13: 408 | X13: 95.930147
B14: 부산청 | C14: 93.69 | D14: =H14/C14*100 -> 102.25405 | E14: =RANK(D14,$D$12:$D$20) -> 3 | F14: =RANK(H14,$H$12:$H$20) -> 6 | G14: 9183 | H14: 95.801822 | I14: 8803 | J14: 95.693538 | K14: 5639 | L14: 95.01814 | M14: 3246 | N14: 95.638151 | O14: 1688 | P14: 94.098339 | Q14: 705 | R14: 94.365751 | S14: 2992 | T14: 96.431651 | U14: 172 | V14: 94.391002 | W14: 380 | X14: 97.859211
B15: 충청청 | C15: 94.19 | D15: =H15/C15*100 -> 102.01028 | E15: =RANK(D15,$D$12:$D$20) -> 6 | F15: =RANK(H15,$H$12:$H$20) -> 3 | G15: 7562 | H15: 96.083487 | I15: 7242 | J15: 95.965842 | K15: 4654 | L15: 95.472971 | M15: 2645 | N15: 96.078502 | O15: 1433 | P15: 94.510941 | Q15: 576 | R15: 95.085744 | S15: 2463 | T15: 96.487506 | U15: 125 | V15: 95.185043 | W15: 320 | X15: 98.31875
B16: 전남청 | C16: 94.59 | D16: =H16/C16*100 -> 101.89677 | E16: =RANK(D16,$D$12:$D$20) -> 8 | F16: =RANK(H16,$H$12:$H$20) -> 1 | G16: 5992 | H16: 96.384152 | I16: 5742 | J16: 96.301845 | K16: 3729 | L16: 95.793392 | M16: 2060 | N16: 96.287426 | O16: 1189 | P16: 95.211132 | Q16: 480 | R16: 95.115472 | S16: 1914 | T16: 97.058411 | U16: 99 | V16: 93.312249 | W16: 250 | X16: 97.948
B17: 경북청 | C17: 94.15 | D17: =H17/C17*100 -> 101.98338 | E17: =RANK(D17,$D$12:$D$20) -> 7 | F17: =RANK(H17,$H$12:$H$20) -> 4 | G17: 6980 | H17: 96.017353 | I17: 6680 | J17: 95.878792 | K17: 4294 | L17: 95.819708 | M17: 2407 | N17: 96.315714 | O17: 1361 | P17: 95.295679 | Q17: 526 | R17: 94.905864 | S17: 2266 | T17: 95.991762 | U17: 120 | V17: 95.280857 | W17: 300 | X17: 98.65
B18: 전북청 | C18: 94.32 | D18: =H18/C18*100 -> 102.03628 | E18: =RANK(D18,$D$12:$D$20) -> 5 | F18: =RANK(H18,$H$12:$H$20) -> 2 | G18: 3611 | H18: 96.240623 | I18: 3461 | J18: 96.173638 | K18: 2226 | L18: 95.354716 | M18: 1247 | N18: 95.835984 | O18: 702 | P18: 94.805441 | Q18: 277 | R18: 94.580167 | S18: 1144 | T18: 96.762707 | U18: 91 | V18: 97.653243 | W18: 150 | X18: 97.513333
B19: 강원청 | C19: 94.42 | D19: =H19/C19*100 -> 101.64853 | E19: =RANK(D19,$D$12:$D$20) -> 9 | F19: =RANK(H19,$H$12:$H$20) -> 5 | G19: 3385 | H19: 95.976543 | I19: 3215 | J19: 95.799922 | K19: 1872 | L19: 95.271336 | M19: 1050 | N19: 95.393118 | O19: 571 | P19: 95.0675 | Q19: 251 | R19: 95.225599 | S19: 1254 | T19: 96.364997 | U19: 89 | V19: 94.906437 | W19: 170 | X19: 99.332353
B20: 제주청 | C20: 92.67 | D20: =H20/C20*100 -> 102.19551 | E20: =RANK(D20,$D$12:$D$20) -> 4 | F20: =RANK(H20,$H$12:$H$20) -> 7 | G20: 677 | H20: 94.704584 | I20: 657 | J20: 94.686404 | K20: 383 | L20: 94.870163 | M20: 219 | N20: 95.116966 | O20: 115 | P20: 94.430277 | Q20: 49 | R20: 94.79949 | S20: 198 | T20: 94.64017 | U20: 76 | V20: 93.494916 | W20: 20 | X20: 95.05
B22: 2. 2016년 KPCSI 점수 <11월>
B23: 구분 | C23: 목표 | D23: 달성률 | E23: 순위 | G23: 종합 KPCSI (실적) | I23: 1) 이용고객 만족도 | K23: 창구 | S23: 집배 | U23: 다량 | W23: 2) 현장 모니터링
E24: 달성률 | F24: CSI | K24: 창구종합 | M24: 우편창구 | O24: 예금창구 | Q24: 보험창구
G25: 사례수 | H25: CSI | I25: 사례수 | J25: CSI | K25: 사례수 | L25: CSI | M25: 사례수 | N25: CSI | O25: 사례수 | P25: CSI | Q25: 사례수 | R25: CSI | S25: 사례수 | T25: CSI | U25: 사례수 | V25: CSI | W25: 사례수 | X25: CSI
B26: 합계 | C26: =C11 -> 93.57 | D26: =H26/C26*100 -> 102.42661 | G26: 4456 | H26: 95.840575 | I26: 4456 | J26: 95.840575 | K26: 2858 | L26: 94.984351 | M26: 2050 | N26: 95.180731 | O26: 610 | P26: 94.504338 | Q26: 198 | R26: 94.429956 | S26: 1598 | T26: 96.611176 | U26: . | V26: . | W26: . | X26: .
B27: 서울청 | C27: =C12 -> 91.76 | D27: =H27/C27*100 -> 102.30644 | E27: =RANK(D27,$D$27:$D$35) -> 7 | F27: =RANK(H27,$H$27:$H$35) -> 9 | G27: 522 | H27: 93.876392 | I27: 522 | J27: 93.876392 | K27: 346 | L27: 92.399608 | M27: 257 | N27: 91.869183 | O27: 63 | P27: 94.033081 | Q27: 26 | R27: 93.684615 | S27: 176 | T27: 95.205497 | U27: . | V27: . | W27: . | X27: .
B28: 경인청 | C28: =C13 -> 92.32 | D28: =H28/C28*100 -> 102.92639 | E28: =RANK(D28,$D$27:$D$35) -> 3 | F28: =RANK(H28,$H$27:$H$35) -> 8 | G28: 807 | H28: 95.02164 | I28: 807 | J28: 95.02164 | K28: 497 | L28: 94.32862 | M28: 347 | N28: 94.774391 | O28: 105 | P28: 93.219398 | Q28: 45 | R28: 93.479414 | S28: 310 | T28: 95.645359 | U28: . | V28: . | W28: . | X28: .
B29: 부산청 | C29: =C14 -> 93.69 | D29: =H29/C29*100 -> 102.98226 | E29: =RANK(D29,$D$27:$D$35) -> 2 | F29: =RANK(H29,$H$27:$H$35) -> 4 | G29: 764 | H29: 96.484084 | I29: 764 | J29: 96.484084 | K29: 492 | L29: 95.723288 | M29: 360 | N29: 95.81125 | O29: 97 | P29: 94.727577 | Q29: 35 | R29: 97.578074 | S29: 272 | T29: 97.1688 | U29: . | V29: . | W29: . | X29: .
B30: 충청청 | C30: =C15 -> 94.19 | D30: =H30/C30*100 -> 102.64217 | E30: =RANK(D30,$D$27:$D$35) -> 4 | F30: =RANK(H30,$H$27:$H$35) -> 2 | G30: 654 | H30: 96.678662 | I30: 654 | J30: 96.678662 | K30: 430 | L30: 95.55527 | M30: 302 | N30: 95.948233 | O30: 96 | P30: 95.059375 | Q30: 32 | R30: 93.334375 | S30: 224 | T30: 97.689715 | U30: . | V30: . | W30: . | X30: .
B31: 전남청 | C31: =C16 -> 94.59 | D31: =H31/C31*100 -> 102.5483 | E31: =RANK(D31,$D$27:$D$35) -> 5 | F31: =RANK(H31,$H$27:$H$35) -> 1 | G31: 493 | H31: 97.000438 | I31: 493 | J31: 97.000438 | K31: 319 | L31: 95.780486 | M31: 229 | N31: 96.105786 | O31: 73 | P31: 95.577397 | Q31: 17 | R31: 92.270588 | S31: 174 | T31: 98.098396 | U31: . | V31: . | W31: . | X31: .
B32: 경북청 | C32: =C17 -> 94.15 | D32: =H32/C32*100 -> 101.53479 | E32: =RANK(D32,$D$27:$D$35) -> 9 | F32: =RANK(H32,$H$27:$H$35) -> 6 | G32: 590 | H32: 95.595004 | I32: 590 | J32: 95.595004 | K32: 384 | L32: 95.051042 | M32: 269 | N32: 95.546097 | O32: 96 | P32: 94.145833 | Q32: 19 | R32: 92.615789 | S32: 206 | T32: 96.08457 | U32: . | V32: . | W32: . | X32: .
B33: 전북청 | C33: =C18 -> 94.32 | D33: =H33/C33*100 -> 102.461 | E33: =RANK(D33,$D$27:$D$35) -> 6 | F33: =RANK(H33,$H$27:$H$35) -> 3 | G33: 299 | H33: 96.641213 | I33: 299 | J33: 96.641213 | K33: 195 | L33: 96.053974 | M33: 142 | N33: 96.201937 | O33: 39 | P33: 95.301282 | Q33: 14 | R33: 96.65 | S33: 104 | T33: 97.169727 | U33: . | V33: . | W33: . | X33: .
B34: 강원청 | C34: =C19 -> 94.42 | D34: =H34/C34*100 -> 101.64021 | E34: =RANK(D34,$D$27:$D$35) -> 8 | F34: =RANK(H34,$H$27:$H$35) -> 5 | G34: 281 | H34: 95.968684 | I34: 281 | J34: 95.968684 | K34: 167 | L34: 95.318863 | M34: 119 | N34: 95.230882 | O34: 38 | P34: 95.114475 | Q34: 10 | R34: 97.1425 | S34: 114 | T34: 96.553522 | U34: . | V34: . | W34: . | X34: .
B35: 제주청 | C35: =C20 -> 92.67 | D35: =H35/C35*100 -> 103.12401 | E35: =RANK(D35,$D$27:$D$35) -> 1 | F35: =RANK(H35,$H$27:$H$35) -> 7 | G35: 46 | H35: 95.565017 | I35: 46 | J35: 95.565017 | K35: 28 | L35: 97.382639 | M35: 25 | N35: 98.068556 | O35: 3 | P35: 91.666667 | Q35: . | R35: . | S35: 18 | T35: 93.929157 | U35: . | V35: . | W35: . | X35: .
B37: 3. 2016년 월별 KPCSI 점수
B38: 구분 | C38: 1월 | E38: 2월 | G38: 3월 | I38: 4월 | K38: 5월 | M38: 6월 | O38: 7월 | Q38: 8월 | S38: 9월 | U38: 10월 | W38: 11월
C39: 사례수 | D39: KPCSI | E39: 사례수 | F39: KPCSI | G39: 사례수 | H39: KPCSI | I39: 사례수 | J39: KPCSI | K39: 사례수 | L39: KPCSI | M39: 사례수 | N39: KPCSI | O39: 사례수 | P39: KPCSI | Q39: 사례수 | R39: KPCSI | S39: 사례수 | T39: KPCSI | U39: 사례수 | V39: KPCSI | W39: 사례수 | X39: KPCSI
B40: 합계 | C40: 3584 | D40: 95.230021 | E40: 5285 | F40: 95.129194 | G40: 5775 | H40: 95.80438 | I40: 5501 | J40: 95.301546 | K40: 4252 | L40: 95.714005 | M40: 5224 | N40: 95.574905 | O40: 5219 | P40: 95.998753 | Q40: 4679 | R40: 95.585853 | S40: 4301 | T40: 95.700673 | U40: 4747 | V40: 95.496711 | W40: 4456 | X40: 95.840575
B41: 서울청 | C41: 437 | D41: 94.429387 | E41: 597 | F41: 93.486741 | G41: 621 | H41: 95.092974 | I41: 605 | J41: 93.687602 | K41: 490 | L41: 93.851539 | M41: 576 | N41: 94.453419 | O41: 589 | P41: 94.931022 | Q41: 530 | R41: 94.792815 | S41: 490 | T41: 95.069111 | U41: 551 | V41: 94.758875 | W41: 522 | X41: 93.876392
B42: 경인청 | C42: 683 | D42: 94.37934 | E42: 915 | F42: 94.733201 | G42: 1055 | H42: 94.55154 | I42: 957 | J42: 94.148833 | K42: 796 | L42: 95.148302 | M42: 938 | N42: 94.410695 | O42: 946 | P42: 95.590269 | Q42: 842 | R42: 94.657387 | S42: 798 | T42: 94.652604 | U42: 877 | V42: 94.492065 | W42: 807 | X42: 95.02164
B43: 부산청 | C43: 606 | D43: 95.709146 | E43: 915 | F43: 95.090995 | G43: 1029 | H43: 95.964634 | I43: 940 | J43: 95.329842 | K43: 750 | L43: 95.33883 | M43: 908 | N43: 95.840868 | O43: 910 | P43: 96.019108 | Q43: 811 | R43: 95.992952 | S43: 720 | T43: 96.413707 | U43: 831 | V43: 95.410652 | W43: 764 | X43: 96.484084
B44: 충청청 | C44: 492 | D44: 95.333969 | E44: 744 | F44: 95.863578 | G44: 835 | H44: 96.020523 | I44: 776 | J44: 95.931544 | K44: 626 | L44: 96.559392 | M44: 764 | N44: 96.559782 | O44: 751 | P44: 96.093476 | Q44: 664 | R44: 95.797365 | S44: 595 | T44: 95.709207 | U44: 662 | V44: 95.841741 | W44: 654 | X44: 96.678662
B45: 전남청 | C45: 383 | D45: 96.046572 | E45: 598 | F45: 95.35465 | G45: 690 | H45: 97.106171 | I45: 605 | J45: 95.747181 | K45: 497 | L45: 96.910936 | M45: 589 | N45: 96.056167 | O45: 608 | P45: 97.084518 | Q45: 520 | R45: 96.766035 | S45: 488 | T45: 96.655425 | U45: 521 | V45: 96.046891 | W45: 493 | X45: 97.000438
B46: 경북청 | C46: 463 | D46: 95.449675 | E46: 697 | F46: 95.418799 | G46: 797 | H46: 96.07667 | I46: 763 | J46: 95.973412 | K46: 522 | L46: 96.210903 | M46: 701 | N46: 95.750035 | O46: 694 | P46: 96.60351 | Q46: 605 | R46: 95.727166 | S46: 556 | T46: 96.374913 | U46: 598 | V46: 96.064649 | W46: 590 | X46: 95.595004
B47: 전북청 | C47: 236 | D47: 96.587402 | E47: 378 | F47: 95.377984 | G47: 390 | H47: 96.659847 | I47: 362 | J47: 95.557567 | K47: 290 | L47: 96.995841 | M47: 362 | N47: 95.921596 | O47: 340 | P47: 95.603021 | Q47: 324 | R47: 95.717626 | S47: 311 | T47: 95.654273 | U47: 320 | V47: 97.241923 | W47: 299 | X47: 96.641213
B48: 강원청 | C48: 250 | D48: 94.582171 | E48: 364 | F48: 96.347914 | G48: 299 | H48: 95.921283 | I48: 411 | J48: 96.713351 | K48: 232 | L48: 95.966087 | M48: 311 | N48: 96.174321 | O48: 319 | P48: 96.165444 | Q48: 315 | R48: 95.702181 | S48: 293 | T48: 95.365033 | U48: 312 | V48: 95.673023 | W48: 281 | X48: 95.968684
B49: 제주청 | C49: 34 | D49: 96.673648 | E49: 77 | F49: 94.234044 | G49: 59 | H49: 94.955616 | I49: 82 | J49: 95.661584 | K49: 49 | L49: 93.741079 | M49: 75 | N49: 95.966537 | O49: 62 | P49: 94.227036 | Q49: 68 | R49: 93.727202 | S49: 50 | T49: 94.165324 | U49: 75 | V49: 94.088473 | W49: 46 | X49: 95.565017
B51: 4. 2016년 월별 KPCSI (누계추이)
B52: 구분 | C52: 1월 | F52: 2월 | I52: 3월 | L52: 4월 | O52: 5월 | R52: 6월 | U52: 7월
C53: KPCSI | D53: 달성률 | E53: 달성순위 | F53: KPCSI | G53: 달성률 | H53: 순위 | I53: KPCSI | J53: 달성률 | K53: 순위 | L53: KPCSI | M53: 달성률 | N53: 순위 | O53: KPCSI | P53: 달성률 | Q53: 순위 | R53: KPCSI | S53: 달성률 | T53: 순위 | U53: KPCSI | V53: 달성률 | W53: 순위
B54: 합계 | C54: 95.230021 | D54: 101.7741 | F54: 95.18537 | G54: 101.72638 | I54: 95.428808 | J54: 101.98654 | L54: 95.31482 | M54: 101.86472 | O54: 95.408966 | P54: 101.96534 | R54: 95.450092 | S54: 102.00929 | U54: 95.520697 | V54: 102.08475
B55: 서울청 | C55: 94.429387 | D55: 102.9091 | E55: 2 | F55: 93.9544 | G55: 102.39146 | H55: 3 | I55: 94.353886 | J55: 102.82682 | K55: 1 | L55: 93.998229 | M55: 102.43922 | N55: 2 | O55: 93.991086 | P55: 102.43144 | Q55: 1 | R55: 94.12262 | S55: 102.57478 | T55: 1 | U55: 94.218445 | V55: 102.67921 | W55: 1
B56: 경인청 | C56: 94.37934 | D56: 102.23065 | E56: 4 | F56: 94.53878 | G56: 102.40336 | H56: 2 | I56: 94.554458 | J56: 102.42034 | K56: 3 | L56: 94.236298 | M56: 102.07571 | N56: 3 | O56: 94.395644 | P56: 102.24831 | Q56: 3 | R56: 94.450256 | S56: 102.30747 | T56: 3 | U56: 94.580537 | V56: 102.44859 | W56: 2
B57: 부산청 | C57: 95.709146 | D57: 102.15514 | E57: 5 | F57: 95.44169 | G57: 101.86967 | H57: 4 | I57: 95.660062 | J57: 102.10274 | K57: 4 | L57: 95.531131 | M57: 101.96513 | N57: 4 | O57: 95.551073 | P57: 101.98642 | Q57: 5 | R57: 95.616855 | S57: 102.05663 | T57: 4 | U57: 95.67396 | V57: 102.11758 | W57: 4
B58: 충청청 | C58: 95.333969 | D58: 101.21453 | E58: 8 | F58: 95.648104 | G58: 101.54805 | H58: 6 | I58: 95.758653 | J58: 101.66541 | K58: 8 | L58: 95.799184 | M58: 101.70844 | N58: 7 | O58: 95.944797 | P58: 101.86304 | Q58: 6 | R58: 96.069766 | S58: 101.99572 | T58: 5 | U58: 96.069965 | V58: 101.99593 | W58: 5
B59: 전남청 | C59: 96.046572 | D59: 101.53988 | E59: 6 | F59: 95.619277 | G59: 101.08815 | H59: 9 | I59: 96.199948 | J59: 101.70203 | K59: 7 | L59: 95.926645 | M59: 101.41309 | N59: 9 | O59: 96.082332 | P59: 101.57768 | Q59: 9 | R59: 96.095987 | S59: 101.59212 | T59: 9 | U59: 96.21582 | V59: 101.71881 | W59: 9
B60: 경북청 | C60: 95.449675 | D60: 101.38043 | E60: 7 | F60: 95.394467 | G60: 101.32179 | H60: 7 | I60: 95.768328 | J60: 101.71888 | K60: 6 | L60: 95.79408 | M60: 101.74623 | N60: 6 | O60: 95.896715 | P60: 101.85525 | Q60: 7 | R60: 95.812803 | S60: 101.76612 | T60: 7 | U60: 95.941553 | V60: 101.90287 | W60: 7
B61: 전북청 | C61: 96.587402 | D61: 102.40395 | E61: 3 | F61: 95.871128 | G61: 101.64454 | H61: 5 | I61: 96.138559 | J61: 101.92807 | K61: 5 | L61: 96.065343 | M61: 101.85045 | N61: 5 | O61: 96.253125 | P61: 102.04954 | Q61: 4 | R61: 96.195703 | S61: 101.98866 | T61: 6 | U61: 96.129549 | V61: 101.91852 | W61: 6
B62: 강원청 | C62: 94.582171 | D62: 100.17176 | E62: 9 | F62: 95.665739 | G62: 101.31936 | H62: 8 | I62: 95.747771 | J62: 101.40624 | K62: 9 | L62: 95.961328 | M62: 101.63242 | N62: 8 | O62: 95.968766 | P62: 101.64029 | Q62: 8 | R62: 96.073772 | S62: 101.75151 | T62: 8 | U62: 96.084004 | V62: 101.76234 | W62: 8
B63: 제주청 | C63: 96.673648 | D63: 104.32033 | E63: 1 | F63: 94.964307 | G63: 102.47578 | H63: 1 | I63: 94.945224 | J63: 102.45519 | K63: 2 | L63: 95.105524 | M63: 102.62817 | N63: 1 | O63: 94.85996 | P63: 102.36318 | Q63: 2 | R63: 94.990205 | S63: 102.50373 | T63: 2 | U63: 94.881679 | V63: 102.38662 | W63: 3
B65: 구분 | C65: 8월 | F65: 9월 | I65: 10월 | L65: 11월 | U65: 10월대비
C66: KPCSI | D66: 달성률 | E66: 순위 | F66: KPCSI | G66: 달성률 | H66: 순위 | I66: KPCSI | J66: 달성률 | K66: 순위 | L66: KPCSI | M66: 달성률 | N66: 순위 | O66: KPCSI | P66: 달성률 | Q66: 순위 | R66: KPCSI | S66: 달성률 | T66: 순위 | U66: KPCSI | V66: 달성률 | W66: 순위
B67: 합계 | C67: 95.551167 | D67: 102.11731 | F67: 95.564318 | G67: 102.13136 | I67: 95.566495 | J67: 102.13369 | L67: 95.590745 | M67: 102.15961 | U67: =L67-I67 -> 0.02425018 | V67: =M67-J67 -> 0.025916619
B68: 서울청 | C68: 94.339691 | D68: 102.81135 | E68: 1 | F68: 94.402665 | G68: 102.87997 | H68: 1 | I68: 94.406126 | J68: 102.88375 | K68: 1 | L68: 94.356477 | M68: 102.82964 | N68: 1 | U68: =L68-I68 -> -0.049648497 | V68: =M68-J68 -> -0.054106906 | W68: =K68-N68 -> 0
B69: 경인청 | C69: 94.588513 | D69: 102.45723 | E69: 2 | F69: 94.573689 | G69: 102.44117 | H69: 2 | I69: 94.589583 | J69: 102.45839 | K69: 2 | L69: 94.61343 | M69: 102.48422 | N69: 2 | U69: =L69-I69 -> 0.023847129 | V69: =M69-J69 -> 0.025830945 | W69: =K69-N69 -> 0
B70: 부산청 | C70: 95.692547 | D70: 102.13742 | E70: 4 | F70: 95.76953 | G70: 102.21959 | H70: 3 | I70: 95.737992 | J70: 102.18592 | K70: 3 | L70: 95.801822 | M70: 102.25405 | N70: 3 | U70: =L70-I70 -> 0.063830165 | V70: =M70-J70 -> 0.068129112 | W70: =K70-N70 -> 0
B71: 충청청 | C71: 96.060029 | D71: 101.98538 | E71: 5 | F71: 96.029585 | G71: 101.95306 | H71: 6 | I71: 96.022775 | J71: 101.94583 | K71: 7 | L71: 96.083487 | M71: 102.01028 | N71: 6 | U71: =L71-I71 -> 0.060712051 | V71: =M71-J71 -> 0.064457003 | W71: =K71-N71 -> 1
B72: 전남청 | C72: 96.313297 | D72: 101.82186 | E72: 8 | F72: 96.332731 | G72: 101.84241 | H72: 8 | I72: 96.335269 | J72: 101.84509 | K72: 8 | L72: 96.384152 | M72: 101.89677 | N72: 8 | U72: =L72-I72 -> 0.04888311 | V72: =M72-J72 -> 0.051678941 | W72: =K72-N72 -> 0
B73: 경북청 | C73: 95.975538 | D73: 101.93897 | E73: 6 | F73: 96.019982 | G73: 101.98617 | H73: 5 | I73: 96.045655 | J73: 102.01344 | K73: 5 | L73: 96.017767 | M73: 101.98382 | N73: 7 | U73: =L73-I73 -> -0.027887964 | V73: =M73-J73 -> -0.029620779 | W73: =K73-N73 -> -2
B74: 전북청 | C74: 96.098354 | D74: 101.88545 | E74: 7 | F74: 96.068526 | G74: 101.85382 | H74: 7 | I74: 96.192588 | J74: 101.98536 | K74: 6 | L74: 96.240623 | M74: 102.03628 | N74: 5 | U74: =L74-I74 -> 0.048034538 | V74: =M74-J74 -> 0.050927203 | W74: =K74-N74 -> 1
B75: 강원청 | C75: 96.059739 | D75: 101.73664 | E75: 9 | F75: 95.997923 | G75: 101.67117 | H75: 9 | I75: 95.965598 | J75: 101.63694 | K75: 9 | L75: 95.976543 | M75: 101.64853 | N75: 9 | U75: =L75-I75 -> 0.010944985 | V75: =M75-J75 -> 0.011591808 | W75: =K75-N75 -> 0
B76: 제주청 | C76: 94.800128 | D76: 102.29862 | E76: 3 | F76: 94.722591 | G76: 102.21495 | H76: 4 | I76: 94.65364 | J76: 102.14054 | K76: 4 | L76: 94.704584 | M76: 102.19551 | N76: 4 | U76: =L76-I76 -> 0.050943324 | V76: =M76-J76 -> 0.054972832 | W76: =K76-N76 -> 0

Sheet 종합점수(총괄국,당월&누계)
A1: 우정서비스 고객만족도 조사결과(10월)
A3: 구분 | B3: 종합 | E3: 창구(점수기준) | I3: 집배(점수기준)
B4: 10월누계 | C4: 달성률 | D4: 순위 | E4: 10월 | F4: 순위 | G4: 누계 | H4: 순위 | I4: 10월 | J4: 순위 | K4: 누계 | L4: 순위
A5: 대전 | B5: 94.995962 | C5: 101.70874 | D5: =RANK(C5,$C$5:$C$20) -> 10 | E5: 93.6 | F5: =RANK(E5,$E$5:$E$20) -> 10 | G5: 94.223616 | H5: =RANK(G5,$G$5:$G$20) -> 12 | I5: 95.6 | J5: =RANK(I5,$I$5:$I$20) -> 10 | K5: 95.515251 | L5: =RANK(K5,$K$5:$K$20) -> 11
A6: 서대전 | B6: 94.652885 | C6: 101.34142 | D6: =RANK(C6,$C$5:$C$20) -> 12 | E6: 89.8 | F6: =RANK(E6,$E$5:$E$20) -> 15 | G6: 94.20808 | H6: =RANK(G6,$G$5:$G$20) -> 13 | I6: 89.9 | J6: =RANK(I6,$I$5:$I$20) -> 16 | K6: 94.713784 | L6: =RANK(K6,$K$5:$K$20) -> 14
A7: 대전유성 | B7: 95.91078 | C7: 102.6882 | D7: =RANK(C7,$C$5:$C$20) -> 3 | E7: 96.2 | F7: =RANK(E7,$E$5:$E$20) -> 5 | G7: 95.235199 | H7: =RANK(G7,$G$5:$G$20) -> 8 | I7: 100 | J7: =RANK(I7,$I$5:$I$20) -> 1 | K7: 96.650654 | L7: =RANK(K7,$K$5:$K$20) -> 5
A8: 대전대덕 | B8: 95.342906 | C8: 102.0802 | D8: =RANK(C8,$C$5:$C$20) -> 7 | E8: 93.1 | F8: =RANK(E8,$E$5:$E$20) -> 11 | G8: 93.483553 | H8: =RANK(G8,$G$5:$G$20) -> 16 | I8: 93.6 | J8: =RANK(I8,$I$5:$I$20) -> 13 | K8: 96.96467 | L8: =RANK(K8,$K$5:$K$20) -> 3
A9: 대전둔산 | B9: 95.321405 | C9: 102.05718 | D9: =RANK(C9,$C$5:$C$20) -> 8 | E9: 89.5 | F9: =RANK(E9,$E$5:$E$20) -> 16 | G9: 94.034423 | H9: =RANK(G9,$G$5:$G$20) -> 14 | I9: 90.7 | J9: =RANK(I9,$I$5:$I$20) -> 15 | K9: 96.363272 | L9: =RANK(K9,$K$5:$K$20) -> 8
A10: 천안 | B10: 94.847 | C10: 101.22412 | D10: =RANK(C10,$C$5:$C$20) -> 14 | E10: 93.1 | F10: =RANK(E10,$E$5:$E$20) -> 11 | G10: 94.243422 | H10: =RANK(G10,$G$5:$G$20) -> 11 | I10: 99.3 | J10: =RANK(I10,$I$5:$I$20) -> 5 | K10: 95.044999 | L10: =RANK(K10,$K$5:$K$20) -> 12
A11: 동천안 | B11: 95.93537 | C11: 102.38567 | D11: =RANK(C11,$C$5:$C$20) -> 5 | E11: 96.8 | F11: =RANK(E11,$E$5:$E$20) -> 2 | G11: 95.889895 | H11: =RANK(G11,$G$5:$G$20) -> 4 | I11: 100 | J11: =RANK(I11,$I$5:$I$20) -> 1 | K11: 95.60562 | L11: =RANK(K11,$K$5:$K$20) -> 10
A12: 공주 | B12: 96.157076 | C12: 101.96933 | D12: =RANK(C12,$C$5:$C$20) -> 9 | E12: 91.3 | F12: =RANK(E12,$E$5:$E$20) -> 14 | G12: 95.439063 | H12: =RANK(G12,$G$5:$G$20) -> 6 | I12: 96.1 | J12: =RANK(I12,$I$5:$I$20) -> 9 | K12: 96.607414 | L12: =RANK(K12,$K$5:$K$20) -> 6
A13: 아산 | B13: 95.925599 | C13: 102.37524 | D13: =RANK(C13,$C$5:$C$20) -> 6 | E13: 96.8 | F13: =RANK(E13,$E$5:$E$20) -> 2 | G13: 96.709789 | H13: =RANK(G13,$G$5:$G$20) -> 1 | I13: 97.6 | J13: =RANK(I13,$I$5:$I$20) -> 8 | K13: 94.765156 | L13: =RANK(K13,$K$5:$K$20) -> 13
A14: 논산 | B14: 97.063999 | C14: 102.93107 | D14: =RANK(C14,$C$5:$C$20) -> 2 | E14: 96.1 | F14: =RANK(E14,$E$5:$E$20) -> 6 | G14: 96.447393 | H14: =RANK(G14,$G$5:$G$20) -> 2 | I14: 100 | J14: =RANK(I14,$I$5:$I$20) -> 1 | K14: 97.424183 | L14: =RANK(K14,$K$5:$K$20) -> 2
A15: 청주 | B15: 96.540572 | C15: 103.03156 | D15: =RANK(C15,$C$5:$C$20) -> 1 | E15: 99.5 | F15: =RANK(E15,$E$5:$E$20) -> 1 | G15: 96.198599 | H15: =RANK(G15,$G$5:$G$20) -> 3 | I15: 99.3 | J15: =RANK(I15,$I$5:$I$20) -> 5 | K15: 96.739447 | L15: =RANK(K15,$K$5:$K$20) -> 4
A16: 서청주 | B16: 94.275169 | C16: 100.61384 | D16: =RANK(C16,$C$5:$C$20) -> 16 | E16: 92.3 | F16: =RANK(E16,$E$5:$E$20) -> 13 | G16: 93.831352 | H16: =RANK(G16,$G$5:$G$20) -> 15 | I16: 93.2 | J16: =RANK(I16,$I$5:$I$20) -> 14 | K16: 94.253216 | L16: =RANK(K16,$K$5:$K$20) -> 16
... A20: 서산 | B20: 95.835427 | C20: 101.62824 | D20: =RANK(C20,$C$5:$C$20) -> 11 | E20: 95.7 | F20: =RANK(E20,$E$5:$E$20) -> 7 | G20: 95.403901 | H20: =RANK(G20,$G$5:$G$20) -> 7 | I20: 94.3 | J20: =RANK(I20,$I$5:$I$20) -> 11 | K20: 96.386472 | L20: =RANK(K20,$K$5:$K$20) -> 7
A21: 금산 | B21: 95.808704 | C21: 100.6394 | D21: =RANK(C21,$C$21:$C$36) -> 15 | E21: 94.3 | F21: =RANK(E21,$E$21:$E$36) -> 14 | G21: 95.377512 | H21: =RANK(G21,$G$21:$G$36) -> 15 | I21: 99.1 | J21: =RANK(I21,$I$21:$I$36) -> 7 | K21: 96.235549 | L21: =RANK(K21,$K$21:$K$36) -> 11
A22: 홍성 | B22: 96.748856 | C22: 101.62695 | D22: =RANK(C22,$C$21:$C$36) -> 9 | E22: 96.7 | F22: =RANK(E22,$E$21:$E$36) -> 8 | G22: 96.057709 | H22: =RANK(G22,$G$21:$G$36) -> 10 | I22: 92.8 | J22: =RANK(I22,$I$21:$I$36) -> 15 | K22: 97.23462 | L22: =RANK(K22,$K$21:$K$36) -> 10
A23: 예산 | B23: 97.394354 | C23: 102.30499 | D23: =RANK(C23,$C$21:$C$36) -> 3 | E23: 97.8 | F23: =RANK(E23,$E$21:$E$36) -> 3 | G23: 96.382662 | H23: =RANK(G23,$G$21:$G$36) -> 8 | I23: 100 | J23: =RANK(I23,$I$21:$I$36) -> 1 | K23: 98.131767 | L23: =RANK(K23,$K$21:$K$36) -> 2
A24: 서천 | B24: 96.872911 | C24: 101.75726 | D24: =RANK(C24,$C$21:$C$36) -> 6 | E24: 96.8 | F24: =RANK(E24,$E$21:$E$36) -> 6 | G24: 95.914549 | H24: =RANK(G24,$G$21:$G$36) -> 11 | I24: 99.2 | J24: =RANK(I24,$I$21:$I$36) -> 4 | K24: 97.638947 | L24: =RANK(K24,$K$21:$K$36) -> 6
A25: 당진 | B25: 95.507357 | C25: 101.28034 | D25: =RANK(C25,$C$21:$C$36) -> 12 | E25: 94.6 | F25: =RANK(E25,$E$21:$E$36) -> 12 | G25: 96.226875 | H25: =RANK(G25,$G$21:$G$36) -> 9 | I25: 92.9 | J25: =RANK(I25,$I$21:$I$36) -> 14 | K25: 94.672824 | L25: =RANK(K25,$K$21:$K$36) -> 15
A26: 청양 | B26: 96.863631 | C26: 101.74751 | D26: =RANK(C26,$C$21:$C$36) -> 7 | E26: 94.3 | F26: =RANK(E26,$E$21:$E$36) -> 14 | G26: 95.654521 | H26: =RANK(G26,$G$21:$G$36) -> 14 | I26: 99.2 | J26: =RANK(I26,$I$21:$I$36) -> 4 | K26: 97.984703 | L26: =RANK(K26,$K$21:$K$36) -> 4
A27: 부여 | B27: 97.156501 | C27: 102.05515 | D27: =RANK(C27,$C$21:$C$36) -> 5 | E27: 97 | F27: =RANK(E27,$E$21:$E$36) -> 5 | G27: 96.543717 | H27: =RANK(G27,$G$21:$G$36) -> 5 | I27: 99.2 | J27: =RANK(I27,$I$21:$I$36) -> 4 | K27: 97.554179 | L27: =RANK(K27,$K$21:$K$36) -> 8
A28: 보령 | B28: 97.94757 | C28: 103.86805 | D28: =RANK(C28,$C$21:$C$36) -> 1 | E28: 97.5 | F28: =RANK(E28,$E$21:$E$36) -> 4 | G28: 96.865311 | H28: =RANK(G28,$G$21:$G$36) -> 2 | I28: 100 | J28: =RANK(I28,$I$21:$I$36) -> 1 | K28: 99.066415 | L28: =RANK(K28,$K$21:$K$36) -> 1
A29: 태안 | B29: 95.618491 | C29: 100.43959 | D29: =RANK(C29,$C$21:$C$36) -> 16 | E29: 94.4 | F29: =RANK(E29,$E$21:$E$36) -> 13 | G29: 96.477239 | H29: =RANK(G29,$G$21:$G$36) -> 7 | I29: 92.1 | J29: =RANK(I29,$I$21:$I$36) -> 16 | K29: 94.424848 | L29: =RANK(K29,$K$21:$K$36) -> 16
A30: 단양 | B30: 96.740663 | C30: 101.61834 | D30: =RANK(C30,$C$21:$C$36) -> 10 | E30: 100 | F30: =RANK(E30,$E$21:$E$36) -> 1 | G30: 95.703846 | H30: =RANK(G30,$G$21:$G$36) -> 13 | I30: 95.7 | J30: =RANK(I30,$I$21:$I$36) -> 12 | K30: 97.476496 | L30: =RANK(K30,$K$21:$K$36) -> 9
A31: 괴산 | B31: 96.078166 | C31: 100.92244 | D31: =RANK(C31,$C$21:$C$36) -> 14 | E31: 96.2 | F31: =RANK(E31,$E$21:$E$36) -> 10 | G31: 95.722059 | H31: =RANK(G31,$G$21:$G$36) -> 12 | I31: 95.9 | J31: =RANK(I31,$I$21:$I$36) -> 11 | K31: 96.168817 | L31: =RANK(K31,$K$21:$K$36) -> 12
A32: 진천 | B32: 96.315048 | C32: 101.70544 | D32: =RANK(C32,$C$21:$C$36) -> 8 | E32: 95 | F32: =RANK(E32,$E$21:$E$36) -> 11 | G32: 96.503125 | H32: =RANK(G32,$G$21:$G$36) -> 6 | I32: 98.4 | J32: =RANK(I32,$I$21:$I$36) -> 9 | K32: 95.739082 | L32: =RANK(K32,$K$21:$K$36) -> 13
... A35: 영동 | B35: 97.37944 | C35: 102.28933 | D35: =RANK(C35,$C$21:$C$36) -> 4 | E35: 99.2 | F35: =RANK(E35,$E$21:$E$36) -> 2 | G35: 96.685135 | H35: =RANK(G35,$G$21:$G$36) -> 3 | I35: 100 | J35: =RANK(I35,$I$21:$I$36) -> 1 | K35: 97.882107 | L35: =RANK(K35,$K$21:$K$36) -> 5
A36: 보은 | B36: 97.474019 | C36: 102.38868 | D36: =RANK(C36,$C$21:$C$36) -> 2 | E36: 96.7 | F36: =RANK(E36,$E$21:$E$36) -> 8 | G36: 97.045607 | I36: 99.1 | J36: =RANK(I36,$I$21:$I$36) -> 7 | K36: 97.636537 | L36: =RANK(K36,$K$21:$K$36) -> 7
A37: 평균 | B37: ='종합점수(청)'!H15 -> 96.083487 | C37: ='종합점수(청)'!D15 -> 102.01028 | E37: ='종합점수(청)'!L30 -> 95.55527 | G37: ='종합점수(청)'!L15 -> 95.472971 | I37: ='종합점수(청)'!T30 -> 97.689715 | K37: ='종합점수(청)'!T15 -> 96.487506

Sheet 경영평가(총괄국)
B1: (총괄국) 2016년 고객만족 경영평가 결과 <2016년도>
B3: 목표미달 | C3: 상위5국 | D3: 하위5국
B4: 총괄국명 | C4: 경영평가 | H4: 관리목표(창구종합) | L4: 관리목표(집배) | Q4: 총괄국명 | R4: 전년대비(종합KPCSI)
C5: 목표 | D5: 실적 | E5: 달성률 | F5: 득점 | H5: 목표 | I5: 실적 | J5: 달성률 | K5: 순위 | L5: 목표 | M5: 실적 | N5: 달성률 | O5: 순위 | R5: 2015년 | S5: 증감
B6: 대전 | C6: 93.4 | D6: =VLOOKUP($B6,'종합점수(총괄국)'!$C$4:$O$239,6,0) -> 95.102576 | E6: =D6/C6*100 -> 101.82289 | F6: =IF($E6>=100,5,$E6*0.05) -> 5 | H6: 93.8 | I6: =VLOOKUP($B6,'종합점수(총괄국)'!$B$245:$R$281,12,0) -> 94.040363 | J6: =I6/H6*100 -> 100.25625 | K6: =RANK(J6,$J$6:$J$21) -> 11 | L6: 94.8 | M6: =VLOOKUP($B6,'종합점수(총괄국)'!$B$245:$R$281,16,0) -> 95.922955 | N6: =M6/L6*100 -> 101.18455 | O6: =RANK($N6,$N$6:$N$21) -> 8 | Q6: 대전 | R6: =VLOOKUP($B6,'[1]총괄국 경영평가'!$B$6:$L$42,5,0) -> 95.638326 | S6: =D6-R6 -> -0.53575021
B7: 서대전 | C7: 93.4 | D7: =VLOOKUP($B7,'종합점수(총괄국)'!$C$4:$O$239,6,0) -> 94.785887 | E7: =D7/C7*100 -> 101.48382 | F7: =IF($E7>=100,5,$E7*0.05) -> 5 | H7: 93.8 | I7: =VLOOKUP($B7,'종합점수(총괄국)'!$B$245:$R$281,12,0) -> 94.54366 | J7: =I7/H7*100 -> 100.79281 | K7: =RANK(J7,$J$6:$J$21) -> 8 | L7: 94.8 | M7: =VLOOKUP($B7,'종합점수(총괄국)'!$B$245:$R$281,16,0) -> 94.658206 | N7: =M7/L7*100 -> 99.850429 | O7: =RANK($N7,$N$6:$N$21) -> 15 | Q7: 서대전 | R7: =VLOOKUP($B7,'[1]총괄국 경영평가'!$B$6:$L$42,5,0) -> 95.300453 | S7: =D7-R7 -> -0.51456603
B8: 대전유성 | C8: 93.4 | D8: =VLOOKUP($B8,'종합점수(총괄국)'!$C$4:$O$239,6,0) -> 95.917863 | E8: =D8/C8*100 -> 102.69578 | F8: =IF($E8>=100,5,$E8*0.05) -> 5 | H8: 93.8 | I8: =VLOOKUP($B8,'종합점수(총괄국)'!$B$245:$R$281,12,0) -> 95.127982 | J8: =I8/H8*100 -> 101.41576 | K8: =RANK(J8,$J$6:$J$21) -> 6 | L8: 94.8 | M8: =VLOOKUP($B8,'종합점수(총괄국)'!$B$245:$R$281,16,0) -> 96.772782 | N8: =M8/L8*100 -> 102.08099 | O8: =RANK($N8,$N$6:$N$21) -> 4 | Q8: 대전유성 | R8: =VLOOKUP($B8,'[1]총괄국 경영평가'!$B$6:$L$42,5,0) -> 93.924277 | S8: =D8-R8 -> 1.9935855
B9: 대전대덕 | C9: 93.4 | D9: =VLOOKUP($B9,'종합점수(총괄국)'!$C$4:$O$239,6,0) -> 95.358664 | E9: =D9/C9*100 -> 102.09707 | F9: =IF($E9>=100,5,$E9*0.05) -> 5 | H9: 93.8 | I9: =VLOOKUP($B9,'종합점수(총괄국)'!$B$245:$R$281,12,0) -> 93.535606 | J9: =I9/H9*100 -> 99.71813 | K9: =RANK(J9,$J$6:$J$21) -> 13 | L9: 94.8 | M9: =VLOOKUP($B9,'종합점수(총괄국)'!$B$245:$R$281,16,0) -> 96.945792 | N9: =M9/L9*100 -> 102.26349 | O9: =RANK($N9,$N$6:$N$21) -> 2 | Q9: 대전대덕 | R9: =VLOOKUP($B9,'[1]총괄국 경영평가'!$B$6:$L$42,5,0) -> 95.621019 | S9: =D9-R9 -> -0.26235556
B10: 대전둔산 | C10: 93.4 | D10: =VLOOKUP($B10,'종합점수(총괄국)'!$C$4:$O$239,6,0) -> 95.464747 | E10: =D10/C10*100 -> 102.21065 | F10: =IF($E10>=100,5,$E10*0.05) -> 5 | H10: 93.8 | I10: =VLOOKUP($B10,'종합점수(총괄국)'!$B$245:$R$281,12,0) -> 94.005583 | J10: =I10/H10*100 -> 100.21917 | K10: =RANK(J10,$J$6:$J$21) -> 12 | L10: 94.8 | M10: =VLOOKUP($B10,'종합점수(총괄국)'!$B$245:$R$281,16,0) -> 96.693884 | N10: =M10/L10*100 -> 101.99777 | O10: =RANK($N10,$N$6:$N$21) -> 5 | Q10: 대전둔산 | R10: =VLOOKUP($B10,'[1]총괄국 경영평가'!$B$6:$L$42,5,0) -> 95.519869 | S10: =D10-R10 -> -0.055122331
B11: 천안 | C11: 93.7 | D11: =VLOOKUP($B11,'종합점수(총괄국)'!$C$4:$O$239,6,0) -> 94.845353 | E11: =D11/C11*100 -> 101.22236 | F11: =IF($E11>=100,5,$E11*0.05) -> 5 | H11: 94.4 | I11: =VLOOKUP($B11,'종합점수(총괄국)'!$B$245:$R$281,12,0) -> 93.933919 | J11: =I11/H11*100 -> 99.50627 | K11: =RANK(J11,$J$6:$J$21) -> 16 | L11: 94.8 | M11: =VLOOKUP($B11,'종합점수(총괄국)'!$B$245:$R$281,16,0) -> 95.351034 | N11: =M11/L11*100 -> 100.58126 | O11: =RANK($N11,$N$6:$N$21) -> 12 | Q11: 천안 | R11: =VLOOKUP($B11,'[1]총괄국 경영평가'!$B$6:$L$42,5,0) -> 94.906362 | S11: =D11-R11 -> -0.061008775
B12: 동천안 | C12: 93.7 | D12: =VLOOKUP($B12,'종합점수(총괄국)'!$C$4:$O$239,6,0) -> 96.092418 | E12: =D12/C12*100 -> 102.55327 | F12: =IF($E12>=100,5,$E12*0.05) -> 5 | H12: 94.4 | I12: =VLOOKUP($B12,'종합점수(총괄국)'!$B$245:$R$281,12,0) -> 96.023023 | J12: =I12/H12*100 -> 101.7193 | K12: =RANK(J12,$J$6:$J$21) -> 2 | L12: 94.8 | M12: =VLOOKUP($B12,'종합점수(총괄국)'!$B$245:$R$281,16,0) -> 95.803121 | N12: =M12/L12*100 -> 101.05814 | O12: =RANK($N12,$N$6:$N$21) -> 9 | Q12: 동천안 | R12: =VLOOKUP($B12,'[1]총괄국 경영평가'!$B$6:$L$42,5,0) -> 95.426797 | S12: =D12-R12 -> 0.66562137
B13: 공주 | C13: 94.3 | D13: =VLOOKUP($B13,'종합점수(총괄국)'!$C$4:$O$239,6,0) -> 96.224189 | E13: =D13/C13*100 -> 102.0405 | F13: =IF($E13>=100,5,$E13*0.05) -> 5 | H13: 94.9 | I13: =VLOOKUP($B13,'종합점수(총괄국)'!$B$245:$R$281,12,0) -> 95.31256 | J13: =I13/H13*100 -> 100.43473 | K13: =RANK(J13,$J$6:$J$21) -> 9 | L13: 95.6 | M13: =VLOOKUP($B13,'종합점수(총괄국)'!$B$245:$R$281,16,0) -> 96.875206 | N13: =M13/L13*100 -> 101.3339 | O13: =RANK($N13,$N$6:$N$21) -> 7 | Q13: 공주 | R13: =VLOOKUP($B13,'[1]총괄국 경영평가'!$B$6:$L$42,5,0) -> 95.923016 | S13: =D13-R13 -> 0.30117235
B14: 아산 | C14: 93.7 | D14: =VLOOKUP($B14,'종합점수(총괄국)'!$C$4:$O$239,6,0) -> 95.890753 | E14: =D14/C14*100 -> 102.33805 | F14: =IF($E14>=100,5,$E14*0.05) -> 5 | H14: 94.9 | I14: =VLOOKUP($B14,'종합점수(총괄국)'!$B$245:$R$281,12,0) -> 96.523036 | J14: =I14/H14*100 -> 101.71026 | K14: =RANK(J14,$J$6:$J$21) -> 3 | L14: 94.8 | M14: =VLOOKUP($B14,'종합점수(총괄국)'!$B$245:$R$281,16,0) -> 94.878551 | N14: =M14/L14*100 -> 100.08286 | O14: =RANK($N14,$N$6:$N$21) -> 14 | Q14: 아산 | R14: =VLOOKUP($B14,'[1]총괄국 경영평가'!$B$6:$L$42,5,0) -> 96.344325 | S14: =D14-R14 -> -0.4535712
B15: 논산 | C15: 94.3 | D15: =VLOOKUP($B15,'종합점수(총괄국)'!$C$4:$O$239,6,0) -> 97.138459 | E15: =D15/C15*100 -> 103.01003 | F15: =IF($E15>=100,5,$E15*0.05) -> 5 | H15: 94.9 | I15: =VLOOKUP($B15,'종합점수(총괄국)'!$B$245:$R$281,12,0) -> 96.369987 | J15: =I15/H15*100 -> 101.54898 | K15: =RANK(J15,$J$6:$J$21) -> 4 | L15: 95.6 | M15: =VLOOKUP($B15,'종합점수(총괄국)'!$B$245:$R$281,16,0) -> 97.658348 | N15: =M15/L15*100 -> 102.15308 | O15: =RANK($N15,$N$6:$N$21) -> 3 | Q15: 논산 | R15: =VLOOKUP($B15,'[1]총괄국 경영평가'!$B$6:$L$42,5,0) -> 95.783561 | S15: =D15-R15 -> 1.3548977
B16: 청주 | C16: 93.7 | D16: =VLOOKUP($B16,'종합점수(총괄국)'!$C$4:$O$239,6,0) -> 96.480178 | E16: =D16/C16*100 -> 102.96711 | F16: =IF($E16>=100,5,$E16*0.05) -> 5 | H16: 94.4 | I16: =VLOOKUP($B16,'종합점수(총괄국)'!$B$245:$R$281,12,0) -> 96.290972 | J16: =I16/H16*100 -> 102.00315 | K16: =RANK(J16,$J$6:$J$21) -> 1 | L16: 94.8 | M16: =VLOOKUP($B16,'종합점수(총괄국)'!$B$245:$R$281,16,0) -> 96.51993 | N16: =M16/L16*100 -> 101.81427 | O16: =RANK($N16,$N$6:$N$21) -> 6 | Q16: 청주 | R16: =VLOOKUP($B16,'[1]총괄국 경영평가'!$B$6:$L$42,5,0) -> 94.407836 | S16: =D16-R16 -> 2.0723419
B17: 서청주 | C17: 93.7 | D17: =VLOOKUP($B17,'종합점수(총괄국)'!$C$4:$O$239,6,0) -> 94.594416 | E17: =D17/C17*100 -> 100.95455 | F17: =IF($E17>=100,5,$E17*0.05) -> 5 | H17: 94.4 | I17: =VLOOKUP($B17,'종합점수(총괄국)'!$B$245:$R$281,12,0) -> 94.099704 | J17: =I17/H17*100 -> 99.68189 | K17: =RANK(J17,$J$6:$J$21) -> 15 | L17: 94.8 | M17: =VLOOKUP($B17,'종합점수(총괄국)'!$B$245:$R$281,16,0) -> 94.656962 | N17: =M17/L17*100 -> 99.849116 | O17: =RANK($N17,$N$6:$N$21) -> 16 | Q17: 서청주 | R17: =VLOOKUP($B17,'[1]총괄국 경영평가'!$B$6:$L$42,5,0) -> 94.464362 | S17: =D17-R17 -> 0.13005455
... B21: 서산 | C21: 94.3 | D21: =VLOOKUP($B21,'종합점수(총괄국)'!$C$4:$O$239,6,0) -> 95.774379 | E21: =D21/C21*100 -> 101.5635 | F21: =IF($E21>=100,5,$E21*0.05) -> 5 | H21: 94.9 | I21: =VLOOKUP($B21,'종합점수(총괄국)'!$B$245:$R$281,12,0) -> 95.291176 | J21: =I21/H21*100 -> 100.4122 | K21: =RANK(J21,$J$6:$J$21) -> 10 | L21: 95.6 | M21: =VLOOKUP($B21,'종합점수(총괄국)'!$B$245:$R$281,16,0) -> 96.370675 | N21: =M21/L21*100 -> 100.80614 | O21: =RANK($N21,$N$6:$N$21) -> 10 | Q21: 서산 | R21: =VLOOKUP($B21,'[1]총괄국 경영평가'!$B$6:$L$42,5,0) -> 95.632448 | S21: =D21-R21 -> 0.14193121
B22: 4급평균 | C22: =AVERAGE(C6:C21) -> 93.79375 | D22: =AVERAGE(D6:D21) -> 95.712911 | E22: =AVERAGE(E6:E21) -> 102.04599 | H22: 94.36875 | I22: =AVERAGE(I6:I21) -> 95.061913 | J22: =AVERAGE(J6:J21) -> 100.73397 | L22: 95.05 | M22: =AVERAGE(M6:M21) -> 96.126781 | N22: =AVERAGE(N6:N21) -> 101.13202 | Q22: 4급평균 | R22: =AVERAGE(R6:R21) -> 95.402018 | S22: =AVERAGE(S6:S21) -> 0.31089309
B23: 금산 | C23: 95.2 | D23: =VLOOKUP($B23,'종합점수(총괄국)'!$C$4:$O$239,6,0) -> 95.759791 | E23: =D23/C23*100 -> 100.58802 | F23: =IF($E23>=100,5,$E23*0.05) -> 5 | H23: 95.6 | I23: =VLOOKUP($B23,'종합점수(총괄국)'!$B$245:$R$281,12,0) -> 95.307412 | J23: =I23/H23*100 -> 99.693946 | K23: =RANK($J23,$J$23:$J$38) -> 15 | L23: 96.6 | M23: =VLOOKUP($B23,'종합점수(총괄국)'!$B$245:$R$281,16,0) -> 96.202675 | N23: =M23/L23*100 -> 99.588691 | O23: =RANK($N23,$N$23:$N$38) -> 13 | Q23: 금산 | R23: =VLOOKUP($B23,'[1]총괄국 경영평가'!$B$6:$L$42,5,0) -> 95.870987 | S23: =D23-R23 -> -0.11119533
B24: 홍성 | C24: 95.2 | D24: =VLOOKUP($B24,'종합점수(총괄국)'!$C$4:$O$239,6,0) -> 96.557699 | E24: =D24/C24*100 -> 101.42615 | F24: =IF($E24>=100,5,$E24*0.05) -> 5 | H24: 95.6 | I24: =VLOOKUP($B24,'종합점수(총괄국)'!$B$245:$R$281,12,0) -> 95.782661 | J24: =I24/H24*100 -> 100.19107 | K24: =RANK($J24,$J$23:$J$38) -> 12 | L24: 96.6 | M24: =VLOOKUP($B24,'종합점수(총괄국)'!$B$245:$R$281,16,0) -> 97.107231 | N24: =M24/L24*100 -> 100.52508 | O24: =RANK($N24,$N$23:$N$38) -> 11 | Q24: 홍성 | R24: =VLOOKUP($B24,'[1]총괄국 경영평가'!$B$6:$L$42,5,0) -> 96.580065 | S24: =D24-R24 -> -0.022366163
B25: 예산 | C25: 95.2 | D25: =VLOOKUP($B25,'종합점수(총괄국)'!$C$4:$O$239,6,0) -> 97.557654 | E25: =D25/C25*100 -> 102.47653 | F25: =IF($E25>=100,5,$E25*0.05) -> 5 | H25: 95.6 | I25: =VLOOKUP($B25,'종합점수(총괄국)'!$B$245:$R$281,12,0) -> 96.556613 | J25: =I25/H25*100 -> 101.00064 | K25: =RANK($J25,$J$23:$J$38) -> 8 | L25: 96.6 | M25: =VLOOKUP($B25,'종합점수(총괄국)'!$B$245:$R$281,16,0) -> 98.301607 | N25: =M25/L25*100 -> 101.7615 | O25: =RANK($N25,$N$23:$N$38) -> 3 | Q25: 예산 | R25: =VLOOKUP($B25,'[1]총괄국 경영평가'!$B$6:$L$42,5,0) -> 96.726755 | S25: =D25-R25 -> 0.83089961
B26: 서천 | C26: 95.2 | D26: =VLOOKUP($B26,'종합점수(총괄국)'!$C$4:$O$239,6,0) -> 97.029825 | E26: =D26/C26*100 -> 101.92208 | F26: =IF($E26>=100,5,$E26*0.05) -> 5 | H26: 95.6 | I26: =VLOOKUP($B26,'종합점수(총괄국)'!$B$245:$R$281,12,0) -> 96.030254 | J26: =I26/H26*100 -> 100.45006 | K26: =RANK($J26,$J$23:$J$38) -> 10 | L26: 96.6 | M26: =VLOOKUP($B26,'종합점수(총괄국)'!$B$245:$R$281,16,0) -> 97.853588 | N26: =M26/L26*100 -> 101.29771 | O26: =RANK($N26,$N$23:$N$38) -> 6 | Q26: 서천 | R26: =VLOOKUP($B26,'[1]총괄국 경영평가'!$B$6:$L$42,5,0) -> 96.718842 | S26: =D26-R26 -> 0.3109829
B27: 당진 | C27: 94.3 | D27: =VLOOKUP($B27,'종합점수(총괄국)'!$C$4:$O$239,6,0) -> 95.405224 | E27: =D27/C27*100 -> 101.17203 | F27: =IF($E27>=100,5,$E27*0.05) -> 5 | H27: 94.9 | I27: =VLOOKUP($B27,'종합점수(총괄국)'!$B$245:$R$281,12,0) -> 96.252037 | J27: =I27/H27*100 -> 101.4247 | K27: =RANK($J27,$J$23:$J$38) -> 2 | L27: 95.6 | M27: =VLOOKUP($B27,'종합점수(총괄국)'!$B$245:$R$281,16,0) -> 94.432644 | N27: =M27/L27*100 -> 98.778916 | O27: =RANK($N27,$N$23:$N$38) -> 15 | Q27: 당진 | R27: =VLOOKUP($B27,'[1]총괄국 경영평가'!$B$6:$L$42,5,0) -> 95.195788 | S27: =D27-R27 -> 0.20943597
B28: 청양 | C28: 95.2 | D28: =VLOOKUP($B28,'종합점수(총괄국)'!$C$4:$O$239,6,0) -> 96.947024 | E28: =D28/C28*100 -> 101.83511 | F28: =IF($E28>=100,5,$E28*0.05) -> 5 | H28: 95.6 | I28: =VLOOKUP($B28,'종합점수(총괄국)'!$B$245:$R$281,12,0) -> 95.646875 | J28: =I28/H28*100 -> 100.04903 | K28: =RANK($J28,$J$23:$J$38) -> 13 | L28: 96.6 | M28: =VLOOKUP($B28,'종합점수(총괄국)'!$B$245:$R$281,16,0) -> 98.167911 | N28: =M28/L28*100 -> 101.6231 | O28: =RANK($N28,$N$23:$N$38) -> 4 | Q28: 청양 | R28: =VLOOKUP($B28,'[1]총괄국 경영평가'!$B$6:$L$42,5,0) -> 97.634191 | S28: =D28-R28 -> -0.6871673
B29: 부여 | C29: 95.2 | D29: =VLOOKUP($B29,'종합점수(총괄국)'!$C$4:$O$239,6,0) -> 97.202143 | E29: =D29/C29*100 -> 102.10309 | F29: =IF($E29>=100,5,$E29*0.05) -> 5 | H29: 95.6 | I29: =VLOOKUP($B29,'종합점수(총괄국)'!$B$245:$R$281,12,0) -> 96.615187 | J29: =I29/H29*100 -> 101.06191 | K29: =RANK($J29,$J$23:$J$38) -> 7 | L29: 96.6 | M29: =VLOOKUP($B29,'종합점수(총괄국)'!$B$245:$R$281,16,0) -> 97.578799 | N29: =M29/L29*100 -> 101.01325 | O29: =RANK($N29,$N$23:$N$38) -> 8 | Q29: 부여 | R29: =VLOOKUP($B29,'[1]총괄국 경영평가'!$B$6:$L$42,5,0) -> 98.118952 | S29: =D29-R29 -> -0.91680836
B30: 보령 | C30: 94.3 | D30: =VLOOKUP($B30,'종합점수(총괄국)'!$C$4:$O$239,6,0) -> 97.505727 | E30: =D30/C30*100 -> 103.3995 | F30: =IF($E30>=100,5,$E30*0.05) -> 5 | H30: 94.9 | I30: =VLOOKUP($B30,'종합점수(총괄국)'!$B$245:$R$281,12,0) -> 96.293849 | J30: =I30/H30*100 -> 101.46876 | K30: =RANK($J30,$J$23:$J$38) -> 1 | L30: 95.6 | M30: =VLOOKUP($B30,'종합점수(총괄국)'!$B$245:$R$281,16,0) -> 98.707682 | N30: =M30/L30*100 -> 103.25071 | O30: =RANK($N30,$N$23:$N$38) -> 1 | Q30: 보령 | R30: =VLOOKUP($B30,'[1]총괄국 경영평가'!$B$6:$L$42,5,0) -> 97.495952 | S30: =D30-R30 -> 0.0097748235
B31: 태안 | C31: 95.2 | D31: =VLOOKUP($B31,'종합점수(총괄국)'!$C$4:$O$239,6,0) -> 95.585813 | E31: =D31/C31*100 -> 100.40527 | F31: =IF($E31>=100,5,$E31*0.05) -> 5 | H31: 95.6 | I31: =VLOOKUP($B31,'종합점수(총괄국)'!$B$245:$R$281,12,0) -> 96.758667 | J31: =I31/H31*100 -> 101.21199 | K31: =RANK($J31,$J$23:$J$38) -> 5 | L31: 96.6 | M31: =VLOOKUP($B31,'종합점수(총괄국)'!$B$245:$R$281,16,0) -> 94.074624 | N31: =M31/L31*100 -> 97.38574 | O31: =RANK($N31,$N$23:$N$38) -> 16 | Q31: 태안 | R31: =VLOOKUP($B31,'[1]총괄국 경영평가'!$B$6:$L$42,5,0) -> 95.995061 | S31: =D31-R31 -> -0.40924773
B32: 단양 | C32: 95.2 | D32: =VLOOKUP($B32,'종합점수(총괄국)'!$C$4:$O$239,6,0) -> 96.770036 | E32: =D32/C32*100 -> 101.6492 | F32: =IF($E32>=100,5,$E32*0.05) -> 5 | H32: 95.6 | I32: =VLOOKUP($B32,'종합점수(총괄국)'!$B$245:$R$281,12,0) -> 95.915064 | J32: =I32/H32*100 -> 100.32956 | K32: =RANK($J32,$J$23:$J$38) -> 11 | L32: 96.6 | M32: =VLOOKUP($B32,'종합점수(총괄국)'!$B$245:$R$281,16,0) -> 97.327118 | N32: =M32/L32*100 -> 100.75271 | O32: =RANK($N32,$N$23:$N$38) -> 9 | Q32: 단양 | R32: =VLOOKUP($B32,'[1]총괄국 경영평가'!$B$6:$L$42,5,0) -> 97.29296 | S32: =D32-R32 -> -0.52292345
B33: 괴산 | C33: 95.2 | D33: =VLOOKUP($B33,'종합점수(총괄국)'!$C$4:$O$239,6,0) -> 96.079546 | E33: =D33/C33*100 -> 100.92389 | F33: =IF($E33>=100,5,$E33*0.05) -> 5 | H33: 95.6 | I33: =VLOOKUP($B33,'종합점수(총괄국)'!$B$245:$R$281,12,0) -> 95.445992 | J33: =I33/H33*100 -> 99.838904 | K33: =RANK($J33,$J$23:$J$38) -> 14 | L33: 96.6 | M33: =VLOOKUP($B33,'종합점수(총괄국)'!$B$245:$R$281,16,0) -> 96.447788 | N33: =M33/L33*100 -> 99.842431 | O33: =RANK($N33,$N$23:$N$38) -> 12 | Q33: 괴산 | R33: =VLOOKUP($B33,'[1]총괄국 경영평가'!$B$6:$L$42,5,0) -> 96.400918 | S33: =D33-R33 -> -0.32137259
B34: 진천 | C34: 94.7 | D34: =VLOOKUP($B34,'종합점수(총괄국)'!$C$4:$O$239,6,0) -> 96.510935 | E34: =D34/C34*100 -> 101.91229 | F34: =IF($E34>=100,5,$E34*0.05) -> 5 | H34: 95.6 | I34: =VLOOKUP($B34,'종합점수(총괄국)'!$B$245:$R$281,12,0) -> 96.528161 | J34: =I34/H34*100 -> 100.97088 | K34: =RANK($J34,$J$23:$J$38) -> 9 | L34: 95.6 | M34: =VLOOKUP($B34,'종합점수(총괄국)'!$B$245:$R$281,16,0) -> 96.126438 | N34: =M34/L34*100 -> 100.55067 | O34: =RANK($N34,$N$23:$N$38) -> 10 | Q34: 진천 | R34: =VLOOKUP($B34,'[1]총괄국 경영평가'!$B$6:$L$42,5,0) -> 95.386406 | S34: =D34-R34 -> 1.1245285
... B38: 보은 | C38: 95.2 | D38: =VLOOKUP($B38,'종합점수(총괄국)'!$C$4:$O$239,6,0) -> 97.407242 | E38: =D38/C38*100 -> 102.31853 | F38: =IF($E38>=100,5,$E38*0.05) -> 5 | H38: 95.6 | I38: =VLOOKUP($B38,'종합점수(총괄국)'!$B$245:$R$281,12,0) -> 96.690164 | J38: =I38/H38*100 -> 101.14034 | K38: =RANK($J38,$J$23:$J$38) -> 6 | L38: 96.6 | M38: =VLOOKUP($B38,'종합점수(총괄국)'!$B$245:$R$281,16,0) -> 97.851398 | N38: =M38/L38*100 -> 101.29544 | O38: =RANK($N38,$N$23:$N$38) -> 7 | Q38: 보은 | R38: =VLOOKUP($B38,'[1]총괄국 경영평가'!$B$6:$L$42,5,0) -> 96.999133 | S38: =D38-R38 -> 0.40810814
B39: 5급평균 | C39: =AVERAGE(C23:C38) -> 95.025 | D39: =AVERAGE(D23:D38) -> 96.64991 | E39: =AVERAGE(E23:E38) -> 101.71064 | H39: 95.5125 | I39: =AVERAGE(I23:I38) -> 96.120242 | J39: =AVERAGE(J23:J38) -> 100.63704 | L39: 96.35 | M39: =AVERAGE(M23:M38) -> 96.96674 | N39: =AVERAGE(N23:N38) -> 100.64139 | Q39: 5급평균 | R39: =AVERAGE(R23:R38) -> 96.637108 | S39: =AVERAGE(S23:S38) -> 0.012802274
B40: 청평균 | C40: =AVERAGE(C6:C21,C23:C38) -> 94.409375 | D40: =AVERAGE(D6:D21,D23:D38) -> 96.181411 | E40: =AVERAGE(E6:E21,E23:E38) -> 101.87831 | H40: 94.940625 | I40: =AVERAGE(I6:I21,I23:I38) -> 95.591078 | J40: =AVERAGE(J6:J21,J23:J38) -> 100.68551 | L40: 95.7 | M40: =AVERAGE(M6:M21,M23:M38) -> 96.54676 | N40: =AVERAGE(N6:N21,N23:N38) -> 100.88671 | Q40: 청평균 | R40: =AVERAGE(R6:R21,R23:R38) -> 96.019563 | S40: =AVERAGE(S6:S21,S23:S38) -> 0.16184768

Sheet 연도평가(총괄국)
B1: (총괄국) 2016년 고객만족경영 연도평가 결과 <2016년도>
B3: 총괄국명 | C3: 고객만족도결과(11월) | G3: 경평평가 득점(D) | I3: 고객만족도평가(80%) - (가) | N3: 경영평가 - (나) | P3: 연도평가결과 | Q3: 순위
C4: 목표 | D4: 실적(A) | E4: 달성률(B) | F4: 다량(C) | I4: A*45% | J4: B*45% | K4: C*10% | L4: 소계 | N4: D*20% | P4: (가)+(나)
B5: 대전 | C5: 93.4 | D5: =VLOOKUP($B5,'종합점수(총괄국)'!$C$4:$O$239,6,0) -> 95.102576 | E5: =D5/C5*100 -> 101.82289 | F5: =VLOOKUP($B5,'항목별(다량)'!$C$125:$E$156,3,0) -> 73.344791 | G5: =VLOOKUP($B5,'[3]경평종합성적(총괄국)'!D$8:F$42,3,0)-5 -> 95.573 | I5: =D5/MAX($D$5:$D$20)*45 -> 44.056864 | J5: =E5/MAX($E$5:$E$20)*45 -> 44.481395 | K5: =F5/MAX($F$5:$F$20)*10 -> 7.3344791 | L5: =SUM(I5:K5)*0.8 -> 76.698191 | N5: =G5/MAX($G$5:$G$20)*20 -> 19.993724 | P5: =L5+N5 -> 96.691915 | Q5: =RANK(P5,$P$5:$P$20) -> 16
B6: 서대전 | C6: 93.4 | D6: =VLOOKUP($B6,'종합점수(총괄국)'!$C$4:$O$239,6,0) -> 94.785887 | E6: =D6/C6*100 -> 101.48382 | F6: =VLOOKUP($B6,'항목별(다량)'!$C$125:$E$156,3,0) -> 97.222283 | G6: =VLOOKUP($B6,'[3]경평종합성적(총괄국)'!D$8:F$42,3,0)-5 -> 91.644 | I6: =D6/MAX($D$5:$D$20)*45 -> 43.910156 | J6: =E6/MAX($E$5:$E$20)*45 -> 44.333273 | K6: =F6/MAX($F$5:$F$20)*10 -> 9.7222283 | L6: =SUM(I6:K6)*0.8 -> 78.372526 | N6: =G6/MAX($G$5:$G$20)*20 -> 19.171783 | P6: =L6+N6 -> 97.544309 | Q6: =RANK(P6,$P$5:$P$20) -> 15
B7: 대전유성 | C7: 93.4 | D7: =VLOOKUP($B7,'종합점수(총괄국)'!$C$4:$O$239,6,0) -> 95.917863 | E7: =D7/C7*100 -> 102.69578 | F7: =VLOOKUP($B7,'항목별(다량)'!$C$125:$E$156,3,0) -> 100 | G7: =VLOOKUP($B7,'[3]경평종합성적(총괄국)'!D$8:F$42,3,0)-5 -> 93.603 | I7: =D7/MAX($D$5:$D$20)*45 -> 44.434551 | J7: =E7/MAX($E$5:$E$20)*45 -> 44.862721 | K7: =F7/MAX($F$5:$F$20)*10 -> 10 | L7: =SUM(I7:K7)*0.8 -> 79.437818 | N7: =G7/MAX($G$5:$G$20)*20 -> 19.581603 | P7: =L7+N7 -> 99.019421 | Q7: =RANK(P7,$P$5:$P$20) -> 2
B8: 대전대덕 | C8: 93.4 | D8: =VLOOKUP($B8,'종합점수(총괄국)'!$C$4:$O$239,6,0) -> 95.358664 | E8: =D8/C8*100 -> 102.09707 | F8: =VLOOKUP($B8,'항목별(다량)'!$C$125:$E$156,3,0) -> 97.840065 | G8: =VLOOKUP($B8,'[3]경평종합성적(총괄국)'!D$8:F$42,3,0)-5 -> 94.893 | I8: =D8/MAX($D$5:$D$20)*45 -> 44.175499 | J8: =E8/MAX($E$5:$E$20)*45 -> 44.601173 | K8: =F8/MAX($F$5:$F$20)*10 -> 9.7840065 | L8: =SUM(I8:K8)*0.8 -> 78.848542 | N8: =G8/MAX($G$5:$G$20)*20 -> 19.851469 | P8: =L8+N8 -> 98.700011 | Q8: =RANK(P8,$P$5:$P$20) -> 8
B9: 대전둔산 | C9: 93.4 | D9: =VLOOKUP($B9,'종합점수(총괄국)'!$C$4:$O$239,6,0) -> 95.464747 | E9: =D9/C9*100 -> 102.21065 | F9: =VLOOKUP($B9,'항목별(다량)'!$C$125:$E$156,3,0) -> 100 | G9: =VLOOKUP($B9,'[3]경평종합성적(총괄국)'!D$8:F$42,3,0)-5 -> 93.237 | I9: =D9/MAX($D$5:$D$20)*45 -> 44.224642 | J9: =E9/MAX($E$5:$E$20)*45 -> 44.65079 | K9: =F9/MAX($F$5:$F$20)*10 -> 10 | L9: =SUM(I9:K9)*0.8 -> 79.100346 | N9: =G9/MAX($G$5:$G$20)*20 -> 19.505036 | P9: =L9+N9 -> 98.605382 | Q9: =RANK(P9,$P$5:$P$20) -> 10
B10: 천안 | C10: 93.7 | D10: =VLOOKUP($B10,'종합점수(총괄국)'!$C$4:$O$239,6,0) -> 94.845353 | E10: =D10/C10*100 -> 101.22236 | F10: =VLOOKUP($B10,'항목별(다량)'!$C$125:$E$156,3,0) -> 93.050558 | G10: =VLOOKUP($B10,'[3]경평종합성적(총괄국)'!D$8:F$42,3,0)-5 -> 93.739 | I10: =D10/MAX($D$5:$D$20)*45 -> 43.937704 | J10: =E10/MAX($E$5:$E$20)*45 -> 44.219055 | K10: =F10/MAX($F$5:$F$20)*10 -> 9.3050558 | L10: =SUM(I10:K10)*0.8 -> 77.969452 | N10: =G10/MAX($G$5:$G$20)*20 -> 19.610054 | P10: =L10+N10 -> 97.579506 | Q10: =RANK(P10,$P$5:$P$20) -> 14
B11: 동천안 | C11: 93.7 | D11: =VLOOKUP($B11,'종합점수(총괄국)'!$C$4:$O$239,6,0) -> 96.092418 | E11: =D11/C11*100 -> 102.55327 | F11: =VLOOKUP($B11,'항목별(다량)'!$C$125:$E$156,3,0) -> 99.184718 | G11: =VLOOKUP($B11,'[3]경평종합성적(총괄국)'!D$8:F$42,3,0)-5 -> 93.755 | I11: =D11/MAX($D$5:$D$20)*45 -> 44.515415 | J11: =E11/MAX($E$5:$E$20)*45 -> 44.800466 | K11: =F11/MAX($F$5:$F$20)*10 -> 9.9184718 | L11: =SUM(I11:K11)*0.8 -> 79.387482 | N11: =G11/MAX($G$5:$G$20)*20 -> 19.613401 | P11: =L11+N11 -> 99.000883 | Q11: =RANK(P11,$P$5:$P$20) -> 3
B12: 공주 | C12: 94.3 | D12: =VLOOKUP($B12,'종합점수(총괄국)'!$C$4:$O$239,6,0) -> 96.224189 | E12: =D12/C12*100 -> 102.0405 | F12: =VLOOKUP($B12,'항목별(다량)'!$C$125:$E$156,3,0) -> 90.114932 | G12: =VLOOKUP($B12,'[3]경평종합성적(총괄국)'!D$8:F$42,3,0)-5 -> 95.315 | I12: =D12/MAX($D$5:$D$20)*45 -> 44.576458 | J12: =E12/MAX($E$5:$E$20)*45 -> 44.576458 | K12: =F12/MAX($F$5:$F$20)*10 -> 9.0114932 | L12: =SUM(I12:K12)*0.8 -> 78.531528 | N12: =G12/MAX($G$5:$G$20)*20 -> 19.939751 | P12: =L12+N12 -> 98.471279 | Q12: =RANK(P12,$P$5:$P$20) -> 11
B13: 아산 | C13: 93.7 | D13: =VLOOKUP($B13,'종합점수(총괄국)'!$C$4:$O$239,6,0) -> 95.890753 | E13: =D13/C13*100 -> 102.33805 | F13: =VLOOKUP($B13,'항목별(다량)'!$C$125:$E$156,3,0) -> 94.260116 | G13: =VLOOKUP($B13,'[3]경평종합성적(총괄국)'!D$8:F$42,3,0)-5 -> 95.244 | I13: =D13/MAX($D$5:$D$20)*45 -> 44.421993 | J13: =E13/MAX($E$5:$E$20)*45 -> 44.706445 | K13: =F13/MAX($F$5:$F$20)*10 -> 9.4260116 | L13: =SUM(I13:K13)*0.8 -> 78.843559 | N13: =G13/MAX($G$5:$G$20)*20 -> 19.924898 | P13: =L13+N13 -> 98.768457 | Q13: =RANK(P13,$P$5:$P$20) -> 7
B14: 논산 | C14: 94.3 | D14: =VLOOKUP($B14,'종합점수(총괄국)'!$C$4:$O$239,6,0) -> 97.138459 | E14: =D14/C14*100 -> 103.01003 | F14: =VLOOKUP($B14,'항목별(다량)'!$C$125:$E$156,3,0) -> 87.661053 | G14: =VLOOKUP($B14,'[3]경평종합성적(총괄국)'!D$8:F$42,3,0)-5 -> 94.506 | I14: =D14/MAX($D$5:$D$20)*45 -> 45 | J14: =E14/MAX($E$5:$E$20)*45 -> 45 | K14: =F14/MAX($F$5:$F$20)*10 -> 8.7661053 | L14: =SUM(I14:K14)*0.8 -> 79.012884 | N14: =G14/MAX($G$5:$G$20)*20 -> 19.770509 | P14: =L14+N14 -> 98.783394 | Q14: =RANK(P14,$P$5:$P$20) -> 6
B15: 청주 | C15: 93.7 | D15: =VLOOKUP($B15,'종합점수(총괄국)'!$C$4:$O$239,6,0) -> 96.480178 | E15: =D15/C15*100 -> 102.96711 | F15: =VLOOKUP($B15,'항목별(다량)'!$C$125:$E$156,3,0) -> 94.734902 | G15: =VLOOKUP($B15,'[3]경평종합성적(총괄국)'!D$8:F$42,3,0)-5 -> 95.26 | I15: =D15/MAX($D$5:$D$20)*45 -> 44.695047 | J15: =E15/MAX($E$5:$E$20)*45 -> 44.981248 | K15: =F15/MAX($F$5:$F$20)*10 -> 9.4734902 | L15: =SUM(I15:K15)*0.8 -> 79.319829 | N15: =G15/MAX($G$5:$G$20)*20 -> 19.928245 | P15: =L15+N15 -> 99.248073 | Q15: =RANK(P15,$P$5:$P$20) -> 1
B16: 서청주 | C16: 93.7 | D16: =VLOOKUP($B16,'종합점수(총괄국)'!$C$4:$O$239,6,0) -> 94.594416 | E16: =D16/C16*100 -> 100.95455 | F16: =VLOOKUP($B16,'항목별(다량)'!$C$125:$E$156,3,0) -> 100 | G16: =VLOOKUP($B16,'[3]경평종합성적(총괄국)'!D$8:F$42,3,0)-5 -> 93.889 | I16: =D16/MAX($D$5:$D$20)*45 -> 43.821456 | J16: =E16/MAX($E$5:$E$20)*45 -> 44.102063 | K16: =F16/MAX($F$5:$F$20)*10 -> 10 | L16: =SUM(I16:K16)*0.8 -> 78.338816 | N16: =G16/MAX($G$5:$G$20)*20 -> 19.641434 | P16: =L16+N16 -> 97.980249 | Q16: =RANK(P16,$P$5:$P$20) -> 13
... B20: 서산 | C20: 94.3 | D20: =VLOOKUP($B20,'종합점수(총괄국)'!$C$4:$O$239,6,0) -> 95.774379 | E20: =D20/C20*100 -> 101.5635 | F20: =VLOOKUP($B20,'항목별(다량)'!$C$125:$E$156,3,0) -> 100 | G20: =VLOOKUP($B20,'[3]경평종합성적(총괄국)'!D$8:F$42,3,0)-5 -> 95.231 | I20: =D20/MAX($D$5:$D$20)*45 -> 44.368081 | J20: =E20/MAX($E$5:$E$20)*45 -> 44.368081 | K20: =F20/MAX($F$5:$F$20)*10 -> 10 | L20: =SUM(I20:K20)*0.8 -> 78.98893 | N20: =G20/MAX($G$5:$G$20)*20 -> 19.922178 | P20: =L20+N20 -> 98.911109 | Q20: =RANK(P20,$P$5:$P$20) -> 5
B21: 금산 | C21: 95.2 | D21: =VLOOKUP($B21,'종합점수(총괄국)'!$C$4:$O$239,6,0) -> 95.759791 | E21: =D21/C21*100 -> 100.58802 | F21: =VLOOKUP($B21,'항목별(다량)'!$C$125:$E$156,3,0) -> 90.409686 | G21: =VLOOKUP($B21,'[3]경평종합성적(총괄국)'!D$8:F$42,3,0)-5 -> 95.758 | I21: =D21/MAX($D$21:$D$36)*45 -> 44.157367 | J21: =E21/MAX($E$21:$E$36)*45 -> 43.776428 | K21: =F21/MAX($F$21:$F$36)*10 -> 9.0409686 | L21: =SUM(I21:K21)*0.8 -> 77.579811 | N21: =G21/MAX($G$21:$G$36)*20 -> 20 | P21: =L21+N21 -> 97.579811 | Q21: =RANK(P21,$P$21:$P$36) -> 15
B22: 홍성 | C22: 95.2 | D22: =VLOOKUP($B22,'종합점수(총괄국)'!$C$4:$O$239,6,0) -> 96.557699 | E22: =D22/C22*100 -> 101.42615 | F22: =VLOOKUP($B22,'항목별(다량)'!$C$125:$E$156,3,0) -> 87.199928 | G22: =VLOOKUP($B22,'[3]경평종합성적(총괄국)'!D$8:F$42,3,0)-5 -> 95.286 | I22: =D22/MAX($D$21:$D$36)*45 -> 44.525303 | J22: =E22/MAX($E$21:$E$36)*45 -> 44.14119 | K22: =F22/MAX($F$21:$F$36)*10 -> 8.7199928 | L22: =SUM(I22:K22)*0.8 -> 77.909189 | N22: =G22/MAX($G$21:$G$36)*20 -> 19.901418 | P22: =L22+N22 -> 97.810607 | Q22: =RANK(P22,$P$21:$P$36) -> 13
B23: 예산 | C23: 95.2 | D23: =VLOOKUP($B23,'종합점수(총괄국)'!$C$4:$O$239,6,0) -> 97.557654 | E23: =D23/C23*100 -> 102.47653 | F23: =VLOOKUP($B23,'항목별(다량)'!$C$125:$E$156,3,0) -> 93.626065 | G23: =VLOOKUP($B23,'[3]경평종합성적(총괄국)'!D$8:F$42,3,0)-5 -> 94.455 | I23: =D23/MAX($D$21:$D$36)*45 -> 44.986409 | J23: =E23/MAX($E$21:$E$36)*45 -> 44.598318 | K23: =F23/MAX($F$21:$F$36)*10 -> 9.3626065 | L23: =SUM(I23:K23)*0.8 -> 79.157867 | N23: =G23/MAX($G$21:$G$36)*20 -> 19.727856 | P23: =L23+N23 -> 98.885722 | Q23: =RANK(P23,$P$21:$P$36) -> 7
B24: 서천 | C24: 95.2 | D24: =VLOOKUP($B24,'종합점수(총괄국)'!$C$4:$O$239,6,0) -> 97.029825 | E24: =D24/C24*100 -> 101.92208 | F24: =VLOOKUP($B24,'항목별(다량)'!$C$125:$E$156,3,0) -> 98.291734 | G24: =VLOOKUP($B24,'[3]경평종합성적(총괄국)'!D$8:F$42,3,0)-5 -> 95.228 | I24: =D24/MAX($D$21:$D$36)*45 -> 44.743013 | J24: =E24/MAX($E$21:$E$36)*45 -> 44.357022 | K24: =F24/MAX($F$21:$F$36)*10 -> 9.8291734 | L24: =SUM(I24:K24)*0.8 -> 79.143366 | N24: =G24/MAX($G$21:$G$36)*20 -> 19.889304 | P24: =L24+N24 -> 99.032671 | Q24: =RANK(P24,$P$21:$P$36) -> 4
B25: 당진 | C25: 94.3 | D25: =VLOOKUP($B25,'종합점수(총괄국)'!$C$4:$O$239,6,0) -> 95.405224 | E25: =D25/C25*100 -> 101.17203 | F25: =VLOOKUP($B25,'항목별(다량)'!$C$125:$E$156,3,0) -> 92.692715 | G25: =VLOOKUP($B25,'[3]경평종합성적(총괄국)'!D$8:F$42,3,0)-5 -> 93.466 | I25: =D25/MAX($D$21:$D$36)*45 -> 43.993866 | J25: =E25/MAX($E$21:$E$36)*45 -> 44.030594 | K25: =F25/MAX($F$21:$F$36)*10 -> 9.2692715 | L25: =SUM(I25:K25)*0.8 -> 77.834985 | N25: =G25/MAX($G$21:$G$36)*20 -> 19.521293 | P25: =L25+N25 -> 97.356278 | Q25: =RANK(P25,$P$21:$P$36) -> 16
B26: 청양 | C26: 95.2 | D26: =VLOOKUP($B26,'종합점수(총괄국)'!$C$4:$O$239,6,0) -> 96.947024 | E26: =D26/C26*100 -> 101.83511 | F26: =VLOOKUP($B26,'항목별(다량)'!$C$125:$E$156,3,0) -> 98.473541 | G26: =VLOOKUP($B26,'[3]경평종합성적(총괄국)'!D$8:F$42,3,0)-5 -> 93.779 | I26: =D26/MAX($D$21:$D$36)*45 -> 44.704831 | J26: =E26/MAX($E$21:$E$36)*45 -> 44.319169 | K26: =F26/MAX($F$21:$F$36)*10 -> 9.8473541 | L26: =SUM(I26:K26)*0.8 -> 79.097083 | N26: =G26/MAX($G$21:$G$36)*20 -> 19.586666 | P26: =L26+N26 -> 98.68375 | Q26: =RANK(P26,$P$21:$P$36) -> 10
B27: 부여 | C27: 95.2 | D27: =VLOOKUP($B27,'종합점수(총괄국)'!$C$4:$O$239,6,0) -> 97.202143 | E27: =D27/C27*100 -> 102.10309 | F27: =VLOOKUP($B27,'항목별(다량)'!$C$125:$E$156,3,0) -> 94.677651 | G27: =VLOOKUP($B27,'[3]경평종합성적(총괄국)'!D$8:F$42,3,0)-5 -> 95.347 | I27: =D27/MAX($D$21:$D$36)*45 -> 44.822473 | J27: =E27/MAX($E$21:$E$36)*45 -> 44.435797 | K27: =F27/MAX($F$21:$F$36)*10 -> 9.4677651 | L27: =SUM(I27:K27)*0.8 -> 78.980828 | N27: =G27/MAX($G$21:$G$36)*20 -> 19.914159 | P27: =L27+N27 -> 98.894987 | Q27: =RANK(P27,$P$21:$P$36) -> 6
B28: 보령 | C28: 94.3 | D28: =VLOOKUP($B28,'종합점수(총괄국)'!$C$4:$O$239,6,0) -> 97.505727 | E28: =D28/C28*100 -> 103.3995 | F28: =VLOOKUP($B28,'항목별(다량)'!$C$125:$E$156,3,0) -> 97.476451 | G28: =VLOOKUP($B28,'[3]경평종합성적(총괄국)'!D$8:F$42,3,0)-5 -> 93.663 | I28: =D28/MAX($D$21:$D$36)*45 -> 44.962464 | J28: =E28/MAX($E$21:$E$36)*45 -> 45 | K28: =F28/MAX($F$21:$F$36)*10 -> 9.7476451 | L28: =SUM(I28:K28)*0.8 -> 79.768087 | N28: =G28/MAX($G$21:$G$36)*20 -> 19.562439 | P28: =L28+N28 -> 99.330526 | Q28: =RANK(P28,$P$21:$P$36) -> 3
B29: 태안 | C29: 95.2 | D29: =VLOOKUP($B29,'종합점수(총괄국)'!$C$4:$O$239,6,0) -> 95.585813 | E29: =D29/C29*100 -> 100.40527 | F29: =VLOOKUP($B29,'항목별(다량)'!$C$125:$E$156,3,0) -> 99.327674 | G29: =VLOOKUP($B29,'[3]경평종합성적(총괄국)'!D$8:F$42,3,0)-5 -> 95.204 | I29: =D29/MAX($D$21:$D$36)*45 -> 44.077141 | J29: =E29/MAX($E$21:$E$36)*45 -> 43.696894 | K29: =F29/MAX($F$21:$F$36)*10 -> 9.9327674 | L29: =SUM(I29:K29)*0.8 -> 78.165442 | N29: =G29/MAX($G$21:$G$36)*20 -> 19.884292 | P29: =L29+N29 -> 98.049734 | Q29: =RANK(P29,$P$21:$P$36) -> 12
B30: 단양 | C30: 95.2 | D30: =VLOOKUP($B30,'종합점수(총괄국)'!$C$4:$O$239,6,0) -> 96.770036 | E30: =D30/C30*100 -> 101.6492 | F30: =VLOOKUP($B30,'항목별(다량)'!$C$125:$E$156,3,0) -> 97.416518 | G30: =VLOOKUP($B30,'[3]경평종합성적(총괄국)'!D$8:F$42,3,0)-5 -> 95.671 | I30: =D30/MAX($D$21:$D$36)*45 -> 44.623217 | J30: =E30/MAX($E$21:$E$36)*45 -> 44.23826 | K30: =F30/MAX($F$21:$F$36)*10 -> 9.7416518 | L30: =SUM(I30:K30)*0.8 -> 78.882503 | N30: =G30/MAX($G$21:$G$36)*20 -> 19.981829 | P30: =L30+N30 -> 98.864332 | Q30: =RANK(P30,$P$21:$P$36) -> 8
B31: 괴산 | C31: 95.2 | D31: =VLOOKUP($B31,'종합점수(총괄국)'!$C$4:$O$239,6,0) -> 96.079546 | E31: =D31/C31*100 -> 100.92389 | F31: =VLOOKUP($B31,'항목별(다량)'!$C$125:$E$156,3,0) -> 89.222463 | G31: =VLOOKUP($B31,'[3]경평종합성적(총괄국)'!D$8:F$42,3,0)-5 -> 95.546 | I31: =D31/MAX($D$21:$D$36)*45 -> 44.304814 | J31: =E31/MAX($E$21:$E$36)*45 -> 43.922603 | K31: =F31/MAX($F$21:$F$36)*10 -> 8.9222463 | L31: =SUM(I31:K31)*0.8 -> 77.719731 | N31: =G31/MAX($G$21:$G$36)*20 -> 19.955722 | P31: =L31+N31 -> 97.675453 | Q31: =RANK(P31,$P$21:$P$36) -> 14
B32: 진천 | C32: 94.7 | D32: =VLOOKUP($B32,'종합점수(총괄국)'!$C$4:$O$239,6,0) -> 96.510935 | E32: =D32/C32*100 -> 101.91229 | F32: =VLOOKUP($B32,'항목별(다량)'!$C$125:$E$156,3,0) -> 100 | G32: =VLOOKUP($B32,'[3]경평종합성적(총괄국)'!D$8:F$42,3,0)-5 -> 95.452 | I32: =D32/MAX($D$21:$D$36)*45 -> 44.503739 | J32: =E32/MAX($E$21:$E$36)*45 -> 44.352757 | K32: =F32/MAX($F$21:$F$36)*10 -> 10 | L32: =SUM(I32:K32)*0.8 -> 79.085197 | N32: =G32/MAX($G$21:$G$36)*20 -> 19.936089 | P32: =L32+N32 -> 99.021286 | Q32: =RANK(P32,$P$21:$P$36) -> 5
... B36: 보은 | C36: 95.2 | D36: =VLOOKUP($B36,'종합점수(총괄국)'!$C$4:$O$239,6,0) -> 97.407242 | E36: =D36/C36*100 -> 102.31853 | F36: =VLOOKUP($B36,'항목별(다량)'!$C$125:$E$156,3,0) -> 100 | G36: =VLOOKUP($B36,'[3]경평종합성적(총괄국)'!D$8:F$42,3,0)-5 -> 95.58 | I36: =D36/MAX($D$21:$D$36)*45 -> 44.917049 | J36: =E36/MAX($E$21:$E$36)*45 -> 44.529557 | K36: =F36/MAX($F$21:$F$36)*10 -> 10 | L36: =SUM(I36:K36)*0.8 -> 79.557285 | N36: =G36/MAX($G$21:$G$36)*20 -> 19.962823 | P36: =L36+N36 -> 99.520108 | Q36: =RANK(P36,$P$21:$P$36) -> 1

Sheet 종합점수(총괄국)
B1: (총괄국) 우정서비스 고객만족도 <'16.11월 누계>
J3: 47.5 | N3: 47.5 | O3: 5
B4: 구분 | C4: 총괄국 | D4: 급수 | E4: 전체순위 | F4: 급내순위 | G4: 청내순위 | H4: 종합 KPCSI | I4: 1) 이용고객 종합 | J4: 창구 | N4: 집배 | O4: 2) 현장 모니터링 | Q4: 전체순위 | R4: 급내순위
J5: 창구종합 | K5: 우편 | L5: 예금 | M5: 보험 | R5: 4급 | S5: 5급
B6: 전체 | H6: {=SUMPRODUCT($J$3:$O$3,J6:O6)/SUM(($J$3:$O$3)*(J6:O6<>"."))} -> 95.642483 | I6: {=SUMPRODUCT($J$3:$N$3,J6:N6)/SUM(($J$3:$N$3)*(J6:N6<>"."))} -> 95.540661 | J6: 94.954198 | K6: 95.384729 | L6: 94.368801 | M6: 94.401153 | N6: 96.127125 | O6: 97.577096
B7: 청 합계 | D7: - | E7: - | F7: - | G7: - | H7: {=SUMPRODUCT($J$3:$O$3,J7:O7)/SUM(($J$3:$O$3)*(J7:O7<>"."))} -> 94.448939 | I7: {=SUMPRODUCT($J$3:$N$3,J7:N7)/SUM(($J$3:$N$3)*(J7:N7<>"."))} -> 94.362161 | J7: 93.259912 | K7: 93.652151 | L7: 92.509408 | M7: 92.884226 | N7: 95.46441 | O7: 96.097727 | Q7: . | R7: =IF($D7=R$5,H7,".") -> . | S7: =IF($D7=S$5,H7,".") -> .
B8: 서울 | C8: 서울중앙 | D8: 4급 | E8: =RANK(H8,$Q$8:$Q$239) -> 179 | F8: =IF(D8="4급",RANK(H8,$R$8:$R$239),IF(D8="5급",RANK(H8,$S$8:$S$239),"-")) -> 90 | G8: =RANK(H8,$H$8:$H$29) -> 9 | H8: {=SUMPRODUCT($J$3:$O$3,J8:O8)/SUM(($J$3:$O$3)*(J8:O8<>"."))} -> 94.72599 | I8: {=SUMPRODUCT($J$3:$N$3,J8:N8)/SUM(($J$3:$N$3)*(J8:N8<>"."))} -> 94.687885 | J8: 93.716094 | K8: 93.409239 | L8: 94.984896 | M8: 92.0825 | N8: 95.659676 | O8: 95.45 | Q8: =H8 -> 94.72599 | R8: =IF($D8=R$5,H8,".") -> 94.72599 | S8: =IF($D8=S$5,H8,".") -> .
C9: 광화문 | D9: 4급 | E9: =RANK(H9,$Q$8:$Q$239) -> 191 | F9: =IF(D9="4급",RANK(H9,$R$8:$R$239),IF(D9="5급",RANK(H9,$S$8:$S$239),"-")) -> 101 | G9: =RANK(H9,$H$8:$H$29) -> 12 | H9: {=SUMPRODUCT($J$3:$O$3,J9:O9)/SUM(($J$3:$O$3)*(J9:O9<>"."))} -> 94.363323 | I9: {=SUMPRODUCT($J$3:$N$3,J9:N9)/SUM(($J$3:$N$3)*(J9:N9<>"."))} -> 94.337708 | J9: 92.750248 | K9: 94.097879 | L9: 90.79794 | M9: 90.611905 | N9: 95.925167 | O9: 94.85 | Q9: =H9 -> 94.363323 | R9: =IF($D9=R$5,H9,".") -> 94.363323 | S9: =IF($D9=S$5,H9,".") -> .
C10: 서대문 | D10: 4급 | E10: =RANK(H10,$Q$8:$Q$239) -> 152 | F10: =IF(D10="4급",RANK(H10,$R$8:$R$239),IF(D10="5급",RANK(H10,$S$8:$S$239),"-")) -> 68 | G10: =RANK(H10,$H$8:$H$29) -> 3 | H10: {=SUMPRODUCT($J$3:$O$3,J10:O10)/SUM(($J$3:$O$3)*(J10:O10<>"."))} -> 95.219499 | I10: {=SUMPRODUCT($J$3:$N$3,J10:N10)/SUM(($J$3:$N$3)*(J10:N10<>"."))} -> 95.183684 | J10: 93.651208 | K10: 93.987631 | L10: 91.9875 | M10: 95.360714 | N10: 96.716159 | O10: 95.9 | Q10: =H10 -> 95.219499 | R10: =IF($D10=R$5,H10,".") -> 95.219499 | S10: =IF($D10=S$5,H10,".") -> .
C11: 동대문 | D11: 4급 | E11: =RANK(H11,$Q$8:$Q$239) -> 197 | F11: =IF(D11="4급",RANK(H11,$R$8:$R$239),IF(D11="5급",RANK(H11,$S$8:$S$239),"-")) -> 106 | G11: =RANK(H11,$H$8:$H$29) -> 13 | H11: {=SUMPRODUCT($J$3:$O$3,J11:O11)/SUM(($J$3:$O$3)*(J11:O11<>"."))} -> 94.171328 | I11: {=SUMPRODUCT($J$3:$N$3,J11:N11)/SUM(($J$3:$N$3)*(J11:N11<>"."))} -> 94.106661 | J11: 92.538227 | K11: 92.470506 | L11: 92.44214 | M11: 93.075 | N11: 95.675096 | O11: 95.4 | Q11: =H11 -> 94.171328 | R11: =IF($D11=R$5,H11,".") -> 94.171328 | S11: =IF($D11=S$5,H11,".") -> .
C12: 서울광진 | D12: 4급 | E12: =RANK(H12,$Q$8:$Q$239) -> 132 | F12: =IF(D12="4급",RANK(H12,$R$8:$R$239),IF(D12="5급",RANK(H12,$S$8:$S$239),"-")) -> 53 | G12: =RANK(H12,$H$8:$H$29) -> 1 | H12: {=SUMPRODUCT($J$3:$O$3,J12:O12)/SUM(($J$3:$O$3)*(J12:O12<>"."))} -> 95.487226 | I12: {=SUMPRODUCT($J$3:$N$3,J12:N12)/SUM(($J$3:$N$3)*(J12:N12<>"."))} -> 95.418133 | J12: 94.103709 | K12: 94.140882 | L12: 93.606466 | M12: 95.203409 | N12: 96.732557 | O12: 96.8 | Q12: =H12 -> 95.487226 | R12: =IF($D12=R$5,H12,".") -> 95.487226 | S12: =IF($D12=S$5,H12,".") -> .
C13: 서울마포 | D13: 4급 | E13: =RANK(H13,$Q$8:$Q$239) -> 212 | F13: =IF(D13="4급",RANK(H13,$R$8:$R$239),IF(D13="5급",RANK(H13,$S$8:$S$239),"-")) -> 118 | G13: =RANK(H13,$H$8:$H$29) -> 20 | H13: {=SUMPRODUCT($J$3:$O$3,J13:O13)/SUM(($J$3:$O$3)*(J13:O13<>"."))} -> 93.742544 | I13: {=SUMPRODUCT($J$3:$N$3,J13:N13)/SUM(($J$3:$N$3)*(J13:N13<>"."))} -> 93.621099 | J13: 92.593847 | K13: 93.129524 | L13: 91.709594 | M13: 91.677941 | N13: 94.648351 | O13: 96.05 | Q13: =H13 -> 93.742544 | R13: =IF($D13=R$5,H13,".") -> 93.742544 | S13: =IF($D13=S$5,H13,".") -> .
C14: 서울도봉 | D14: 4급 | E14: =RANK(H14,$Q$8:$Q$239) -> 157 | F14: =IF(D14="4급",RANK(H14,$R$8:$R$239),IF(D14="5급",RANK(H14,$S$8:$S$239),"-")) -> 73 | G14: =RANK(H14,$H$8:$H$29) -> 4 | H14: {=SUMPRODUCT($J$3:$O$3,J14:O14)/SUM(($J$3:$O$3)*(J14:O14<>"."))} -> 95.147581 | I14: {=SUMPRODUCT($J$3:$N$3,J14:N14)/SUM(($J$3:$N$3)*(J14:N14<>"."))} -> 95.194822 | J14: 94.516155 | K14: 95.532743 | L14: 93.919174 | M14: 91.001087 | N14: 95.873488 | O14: 94.25 | Q14: =H14 -> 95.147581 | R14: =IF($D14=R$5,H14,".") -> 95.147581 | S14: =IF($D14=S$5,H14,".") -> .
C15: 서울관악 | D15: 4급 | E15: =RANK(H15,$Q$8:$Q$239) -> 211 | F15: =IF(D15="4급",RANK(H15,$R$8:$R$239),IF(D15="5급",RANK(H15,$S$8:$S$239),"-")) -> 117 | G15: =RANK(H15,$H$8:$H$29) -> 19 | H15: {=SUMPRODUCT($J$3:$O$3,J15:O15)/SUM(($J$3:$O$3)*(J15:O15<>"."))} -> 93.749244 | I15: {=SUMPRODUCT($J$3:$N$3,J15:N15)/SUM(($J$3:$N$3)*(J15:N15<>"."))} -> 93.60973 | J15: 93.323609 | K15: 93.493956 | L15: 93.328865 | M15: 92.4 | N15: 93.895852 | O15: 96.4 | Q15: =H15 -> 93.749244 | R15: =IF($D15=R$5,H15,".") -> 93.749244 | S15: =IF($D15=S$5,H15,".") -> .
C16: 여의도 | D16: 4급 | E16: =RANK(H16,$Q$8:$Q$239) -> 220 | F16: =IF(D16="4급",RANK(H16,$R$8:$R$239),IF(D16="5급",RANK(H16,$S$8:$S$239),"-")) -> 125 | G16: =RANK(H16,$H$8:$H$29) -> 22 | H16: {=SUMPRODUCT($J$3:$O$3,J16:O16)/SUM(($J$3:$O$3)*(J16:O16<>"."))} -> 93.356555 | I16: {=SUMPRODUCT($J$3:$N$3,J16:N16)/SUM(($J$3:$N$3)*(J16:N16<>"."))} -> 93.138479 | J16: 92.939884 | K16: 92.640083 | L16: 94.058653 | M16: 91.790476 | N16: 93.337074 | O16: 97.5 | Q16: =H16 -> 93.356555 | R16: =IF($D16=R$5,H16,".") -> 93.356555 | S16: =IF($D16=S$5,H16,".") -> .
C17: 서울강남 | D17: 4급 | E17: =RANK(H17,$Q$8:$Q$239) -> 188 | F17: =IF(D17="4급",RANK(H17,$R$8:$R$239),IF(D17="5급",RANK(H17,$S$8:$S$239),"-")) -> 98 | G17: =RANK(H17,$H$8:$H$29) -> 11 | H17: {=SUMPRODUCT($J$3:$O$3,J17:O17)/SUM(($J$3:$O$3)*(J17:O17<>"."))} -> 94.549208 | I17: {=SUMPRODUCT($J$3:$N$3,J17:N17)/SUM(($J$3:$N$3)*(J17:N17<>"."))} -> 94.472851 | J17: 93.518954 | K17: 93.939227 | L17: 92.826284 | M17: 91.965625 | N17: 95.426748 | O17: 96 | Q17: =H17 -> 94.549208 | R17: =IF($D17=R$5,H17,".") -> 94.549208 | S17: =IF($D17=S$5,H17,".") -> .
C18: 서울은평 | D18: 4급 | E18: =RANK(H18,$Q$8:$Q$239) -> 164 | F18: =IF(D18="4급",RANK(H18,$R$8:$R$239),IF(D18="5급",RANK(H18,$S$8:$S$239),"-")) -> 79 | G18: =RANK(H18,$H$8:$H$29) -> 6 | H18: {=SUMPRODUCT($J$3:$O$3,J18:O18)/SUM(($J$3:$O$3)*(J18:O18<>"."))} -> 94.986745 | I18: {=SUMPRODUCT($J$3:$N$3,J18:N18)/SUM(($J$3:$N$3)*(J18:N18<>"."))} -> 94.849205 | J18: 92.606671 | K18: 93.620988 | L18: 90.670973 | M18: 92.310937 | N18: 97.091739 | O18: 97.6 | Q18: =H18 -> 94.986745 | R18: =IF($D18=R$5,H18,".") -> 94.986745 | S18: =IF($D18=S$5,H18,".") -> .
C19: 서울금천 | D19: 4급 | E19: =RANK(H19,$Q$8:$Q$239) -> 209 | F19: =IF(D19="4급",RANK(H19,$R$8:$R$239),IF(D19="5급",RANK(H19,$S$8:$S$239),"-")) -> 115 | G19: =RANK(H19,$H$8:$H$29) -> 18 | H19: {=SUMPRODUCT($J$3:$O$3,J19:O19)/SUM(($J$3:$O$3)*(J19:O19<>"."))} -> 93.810881 | I19: {=SUMPRODUCT($J$3:$N$3,J19:N19)/SUM(($J$3:$N$3)*(J19:N19<>"."))} -> 93.600927 | J19: 92.149745 | K19: 92.887603 | L19: 90.039623 | M19: 93.175 | N19: 95.052109 | O19: 97.8 | Q19: =H19 -> 93.810881 | R19: =IF($D19=R$5,H19,".") -> 93.810881 | S19: =IF($D19=S$5,H19,".") -> .
C20: 서울성북 | D20: 4급 | E20: =RANK(H20,$Q$8:$Q$239) -> 178 | F20: =IF(D20="4급",RANK(H20,$R$8:$R$239),IF(D20="5급",RANK(H20,$S$8:$S$239),"-")) -> 89 | G20: =RANK(H20,$H$8:$H$29) -> 8 | H20: {=SUMPRODUCT($J$3:$O$3,J20:O20)/SUM(($J$3:$O$3)*(J20:O20<>"."))} -> 94.73449 | I20: {=SUMPRODUCT($J$3:$N$3,J20:N20)/SUM(($J$3:$N$3)*(J20:N20<>"."))} -> 94.723148 | J20: 93.605248 | K20: 92.06184 | L20: 96.474409 | M20: 95.963881 | N20: 95.841047 | O20: 94.95 | Q20: =H20 -> 94.73449 | R20: =IF($D20=R$5,H20,".") -> 94.73449 | S20: =IF($D20=S$5,H20,".") -> .
... C29: 서울중랑 | D29: 4급 | E29: =RANK(H29,$Q$8:$Q$239) -> 198 | F29: =IF(D29="4급",RANK(H29,$R$8:$R$239),IF(D29="5급",RANK(H29,$S$8:$S$239),"-")) -> 107 | G29: =RANK(H29,$H$8:$H$29) -> 14 | H29: {=SUMPRODUCT($J$3:$O$3,J29:O29)/SUM(($J$3:$O$3)*(J29:O29<>"."))} -> 94.123255 | I29: {=SUMPRODUCT($J$3:$N$3,J29:N29)/SUM(($J$3:$N$3)*(J29:N29<>"."))} -> 94.179742 | J29: 91.777251 | K29: 93.625 | L29: 88.88 | M29: 91.094622 | N29: 96.582234 | O29: 93.05 | Q29: =H29 -> 94.123255 | R29: =IF($D29=R$5,H29,".") -> 94.123255 | S29: =IF($D29=S$5,H29,".") -> .
B30: 청 합계 | D30: - | E30: - | F30: - | G30: - | H30: {=SUMPRODUCT($J$3:$O$3,J30:O30)/SUM(($J$3:$O$3)*(J30:O30<>"."))} -> 94.78266 | I30: {=SUMPRODUCT($J$3:$N$3,J30:N30)/SUM(($J$3:$N$3)*(J30:N30<>"."))} -> 94.722266 | J30: 94.115787 | K30: 94.375983 | L30: 93.872049 | M30: 93.534164 | N30: 95.328745 | O30: 95.930147 | Q30: . | R30: =IF($D30=R$5,H30,".") -> . | S30: =IF($D30=S$5,H30,".") -> .
B31: 경인 | C31: 인천 | D31: 4급 | E31: =RANK(H31,$Q$8:$Q$239) -> 194 | F31: =IF(D31="4급",RANK(H31,$R$8:$R$239),IF(D31="5급",RANK(H31,$S$8:$S$239),"-")) -> 104 | G31: =RANK(H31,$H$31:$H$71) -> 28 | H31: {=SUMPRODUCT($J$3:$O$3,J31:O31)/SUM(($J$3:$O$3)*(J31:O31<>"."))} -> 94.288146 | I31: {=SUMPRODUCT($J$3:$N$3,J31:N31)/SUM(($J$3:$N$3)*(J31:N31<>"."))} -> 94.232259 | J31: 94.711975 | K31: 94.696897 | L31: 94.831081 | M31: 94.433 | N31: 93.752543 | O31: 95.35 | Q31: =H31 -> 94.288146 | R31: =IF($D31=R$5,H31,".") -> 94.288146 | S31: =IF($D31=S$5,H31,".") -> .
C32: 서인천 | D32: 4급 | E32: =RANK(H32,$Q$8:$Q$239) -> 199 | F32: =IF(D32="4급",RANK(H32,$R$8:$R$239),IF(D32="5급",RANK(H32,$S$8:$S$239),"-")) -> 108 | G32: =RANK(H32,$H$31:$H$71) -> 29 | H32: {=SUMPRODUCT($J$3:$O$3,J32:O32)/SUM(($J$3:$O$3)*(J32:O32<>"."))} -> 94.119751 | I32: {=SUMPRODUCT($J$3:$N$3,J32:N32)/SUM(($J$3:$N$3)*(J32:N32<>"."))} -> 94.097106 | J32: 94.699427 | K32: 93.530798 | L32: 96.708929 | M32: 95.009722 | N32: 93.494786 | O32: 94.55 | Q32: =H32 -> 94.119751 | R32: =IF($D32=R$5,H32,".") -> 94.119751 | S32: =IF($D32=S$5,H32,".") -> .
C33: 부평 | D33: 4급 | E33: =RANK(H33,$Q$8:$Q$239) -> 214 | F33: =IF(D33="4급",RANK(H33,$R$8:$R$239),IF(D33="5급",RANK(H33,$S$8:$S$239),"-")) -> 120 | G33: =RANK(H33,$H$31:$H$71) -> 35 | H33: {=SUMPRODUCT($J$3:$O$3,J33:O33)/SUM(($J$3:$O$3)*(J33:O33<>"."))} -> 93.705344 | I33: {=SUMPRODUCT($J$3:$N$3,J33:N33)/SUM(($J$3:$N$3)*(J33:N33<>"."))} -> 93.71352 | J33: 93.075775 | K33: 94.276341 | L33: 91.301081 | M33: 92.382143 | N33: 94.351264 | O33: 93.55 | Q33: =H33 -> 93.705344 | R33: =IF($D33=R$5,H33,".") -> 93.705344 | S33: =IF($D33=S$5,H33,".") -> .
C34: 인천계양 | D34: 4급 | E34: =RANK(H34,$Q$8:$Q$239) -> 140 | F34: =IF(D34="4급",RANK(H34,$R$8:$R$239),IF(D34="5급",RANK(H34,$S$8:$S$239),"-")) -> 58 | G34: =RANK(H34,$H$31:$H$71) -> 14 | H34: {=SUMPRODUCT($J$3:$O$3,J34:O34)/SUM(($J$3:$O$3)*(J34:O34<>"."))} -> 95.383321 | I34: {=SUMPRODUCT($J$3:$N$3,J34:N34)/SUM(($J$3:$N$3)*(J34:N34<>"."))} -> 95.59297 | J34: 95.376151 | K34: 94.676676 | L34: 97.643426 | M34: 92.895 | N34: 95.809789 | O34: 91.4 | Q34: =H34 -> 95.383321 | R34: =IF($D34=R$5,H34,".") -> 95.383321 | S34: =IF($D34=S$5,H34,".") -> .
C35: 남인천 | D35: 4급 | E35: =RANK(H35,$Q$8:$Q$239) -> 138 | F35: =IF(D35="4급",RANK(H35,$R$8:$R$239),IF(D35="5급",RANK(H35,$S$8:$S$239),"-")) -> 57 | G35: =RANK(H35,$H$31:$H$71) -> 13 | H35: {=SUMPRODUCT($J$3:$O$3,J35:O35)/SUM(($J$3:$O$3)*(J35:O35<>"."))} -> 95.416493 | I35: {=SUMPRODUCT($J$3:$N$3,J35:N35)/SUM(($J$3:$N$3)*(J35:N35<>"."))} -> 95.383151 | J35: 94.615328 | K35: 94.407811 | L35: 94.358088 | M35: 96.264402 | N35: 96.150973 | O35: 96.05 | Q35: =H35 -> 95.416493 | R35: =IF($D35=R$5,H35,".") -> 95.416493 | S35: =IF($D35=S$5,H35,".") -> .
C36: 의정부 | D36: 4급 | E36: =RANK(H36,$Q$8:$Q$239) -> 200 | F36: =IF(D36="4급",RANK(H36,$R$8:$R$239),IF(D36="5급",RANK(H36,$S$8:$S$239),"-")) -> 109 | G36: =RANK(H36,$H$31:$H$71) -> 30 | H36: {=SUMPRODUCT($J$3:$O$3,J36:O36)/SUM(($J$3:$O$3)*(J36:O36<>"."))} -> 94.076385 | I36: {=SUMPRODUCT($J$3:$N$3,J36:N36)/SUM(($J$3:$N$3)*(J36:N36<>"."))} -> 93.959353 | J36: 93.308736 | K36: 93.641643 | L36: 93.207102 | M36: 92.206818 | N36: 94.609969 | O36: 96.3 | Q36: =H36 -> 94.076385 | R36: =IF($D36=R$5,H36,".") -> 94.076385 | S36: =IF($D36=S$5,H36,".") -> .
C37: 수원 | D37: 4급 | E37: =RANK(H37,$Q$8:$Q$239) -> 189 | F37: =IF(D37="4급",RANK(H37,$R$8:$R$239),IF(D37="5급",RANK(H37,$S$8:$S$239),"-")) -> 99 | G37: =RANK(H37,$H$31:$H$71) -> 26 | H37: {=SUMPRODUCT($J$3:$O$3,J37:O37)/SUM(($J$3:$O$3)*(J37:O37<>"."))} -> 94.414359 | I37: {=SUMPRODUCT($J$3:$N$3,J37:N37)/SUM(($J$3:$N$3)*(J37:N37<>"."))} -> 94.230905 | J37: 94.037484 | K37: 94.160421 | L37: 93.240473 | M37: 95.417105 | N37: 94.424326 | O37: 97.9 | Q37: =H37 -> 94.414359 | R37: =IF($D37=R$5,H37,".") -> 94.414359 | S37: =IF($D37=S$5,H37,".") -> .
C38: 동수원 | D38: 4급 | E38: =RANK(H38,$Q$8:$Q$239) -> 67 | F38: =IF(D38="4급",RANK(H38,$R$8:$R$239),IF(D38="5급",RANK(H38,$S$8:$S$239),"-")) -> 10 | G38: =RANK(H38,$H$31:$H$71) -> 2 | H38: {=SUMPRODUCT($J$3:$O$3,J38:O38)/SUM(($J$3:$O$3)*(J38:O38<>"."))} -> 96.43013 | I38: {=SUMPRODUCT($J$3:$N$3,J38:N38)/SUM(($J$3:$N$3)*(J38:N38<>"."))} -> 96.347505 | J38: 96.108334 | K38: 95.963534 | L38: 97.146229 | M38: 94.395833 | N38: 96.586677 | O38: 98 | Q38: =H38 -> 96.43013 | R38: =IF($D38=R$5,H38,".") -> 96.43013 | S38: =IF($D38=S$5,H38,".") -> .
C39: 서수원 | D39: 4급 | E39: =RANK(H39,$Q$8:$Q$239) -> 110 | F39: =IF(D39="4급",RANK(H39,$R$8:$R$239),IF(D39="5급",RANK(H39,$S$8:$S$239),"-")) -> 39 | G39: =RANK(H39,$H$31:$H$71) -> 7 | H39: {=SUMPRODUCT($J$3:$O$3,J39:O39)/SUM(($J$3:$O$3)*(J39:O39<>"."))} -> 95.799617 | I39: {=SUMPRODUCT($J$3:$N$3,J39:N39)/SUM(($J$3:$N$3)*(J39:N39<>"."))} -> 95.668018 | J39: 95.463614 | K39: 95.557895 | L39: 95.683333 | M39: 94.608929 | N39: 95.872422 | O39: 98.3 | Q39: =H39 -> 95.799617 | R39: =IF($D39=R$5,H39,".") -> 95.799617 | S39: =IF($D39=S$5,H39,".") -> .
C40: 군포 | D40: 4급 | E40: =RANK(H40,$Q$8:$Q$239) -> 99 | F40: =IF(D40="4급",RANK(H40,$R$8:$R$239),IF(D40="5급",RANK(H40,$S$8:$S$239),"-")) -> 31 | G40: =RANK(H40,$H$31:$H$71) -> 6 | H40: {=SUMPRODUCT($J$3:$O$3,J40:O40)/SUM(($J$3:$O$3)*(J40:O40<>"."))} -> 95.984753 | I40: {=SUMPRODUCT($J$3:$N$3,J40:N40)/SUM(($J$3:$N$3)*(J40:N40<>"."))} -> 95.957635 | J40: 94.200167 | K40: 95.299706 | L40: 91.337795 | M40: 94.891667 | N40: 97.715103 | O40: 96.5 | Q40: =H40 -> 95.984753 | R40: =IF($D40=R$5,H40,".") -> 95.984753 | S40: =IF($D40=S$5,H40,".") -> .
C41: 안양 | D41: 4급 | E41: =RANK(H41,$Q$8:$Q$239) -> 183 | F41: =IF(D41="4급",RANK(H41,$R$8:$R$239),IF(D41="5급",RANK(H41,$S$8:$S$239),"-")) -> 94 | G41: =RANK(H41,$H$31:$H$71) -> 25 | H41: {=SUMPRODUCT($J$3:$O$3,J41:O41)/SUM(($J$3:$O$3)*(J41:O41<>"."))} -> 94.622535 | I41: {=SUMPRODUCT($J$3:$N$3,J41:N41)/SUM(($J$3:$N$3)*(J41:N41<>"."))} -> 94.497405 | J41: 94.412099 | K41: 93.949422 | L41: 95.214634 | M41: 95.432018 | N41: 94.582711 | O41: 97 | Q41: =H41 -> 94.622535 | R41: =IF($D41=R$5,H41,".") -> 94.622535 | S41: =IF($D41=S$5,H41,".") -> .
C42: 성남 | D42: 4급 | E42: =RANK(H42,$Q$8:$Q$239) -> 193 | F42: =IF(D42="4급",RANK(H42,$R$8:$R$239),IF(D42="5급",RANK(H42,$S$8:$S$239),"-")) -> 103 | G42: =RANK(H42,$H$31:$H$71) -> 27 | H42: {=SUMPRODUCT($J$3:$O$3,J42:O42)/SUM(($J$3:$O$3)*(J42:O42<>"."))} -> 94.325912 | I42: {=SUMPRODUCT($J$3:$N$3,J42:N42)/SUM(($J$3:$N$3)*(J42:N42<>"."))} -> 94.18517 | J42: 93.51701 | K42: 93.646264 | L42: 93 | M42: 93.95 | N42: 94.85333 | O42: 97 | Q42: =H42 -> 94.325912 | R42: =IF($D42=R$5,H42,".") -> 94.325912 | S42: =IF($D42=S$5,H42,".") -> .
C43: 성남분당 | D43: 4급 | E43: =RANK(H43,$Q$8:$Q$239) -> 170 | F43: =IF(D43="4급",RANK(H43,$R$8:$R$239),IF(D43="5급",RANK(H43,$S$8:$S$239),"-")) -> 83 | G43: =RANK(H43,$H$31:$H$71) -> 21 | H43: {=SUMPRODUCT($J$3:$O$3,J43:O43)/SUM(($J$3:$O$3)*(J43:O43<>"."))} -> 94.912127 | I43: {=SUMPRODUCT($J$3:$N$3,J43:N43)/SUM(($J$3:$N$3)*(J43:N43<>"."))} -> 95.028555 | J43: 92.865517 | K43: 93.896471 | L43: 91.10061 | M43: 92.061842 | N43: 97.191592 | O43: 92.7 | Q43: =H43 -> 94.912127 | R43: =IF($D43=R$5,H43,".") -> 94.912127 | S43: =IF($D43=S$5,H43,".") -> .
... C71: 인천남동 | D71: 4급 | E71: =RANK(H71,$Q$8:$Q$239) -> 120 | F71: =IF(D71="4급",RANK(H71,$R$8:$R$239),IF(D71="5급",RANK(H71,$S$8:$S$239),"-")) -> 45 | G71: =RANK(H71,$H$31:$H$71) -> 10 | H71: {=SUMPRODUCT($J$3:$O$3,J71:O71)/SUM(($J$3:$O$3)*(J71:O71<>"."))} -> 95.667716 | I71: {=SUMPRODUCT($J$3:$N$3,J71:N71)/SUM(($J$3:$N$3)*(J71:N71<>"."))} -> 95.550228 | J71: 95.053862 | K71: 95.202573 | L71: 94.772143 | M71: 94.960294 | N71: 96.046594 | O71: 97.9 | Q71: =H71 -> 95.667716 | R71: =IF($D71=R$5,H71,".") -> 95.667716 | S71: =IF($D71=S$5,H71,".") -> .
B72: 청 합계 | D72: - | E72: - | F72: - | G72: - | H72: {=SUMPRODUCT($J$3:$O$3,J72:O72)/SUM(($J$3:$O$3)*(J72:O72<>"."))} -> 95.831611 | I72: {=SUMPRODUCT($J$3:$N$3,J72:N72)/SUM(($J$3:$N$3)*(J72:N72<>"."))} -> 95.724895 | J72: 95.01814 | K72: 95.638151 | L72: 94.098339 | M72: 94.365751 | N72: 96.431651 | O72: 97.859211 | Q72: . | R72: =IF($D72=R$5,H72,".") -> . | S72: =IF($D72=S$5,H72,".") -> .
B73: 부산 | C73: 부산 | D73: 4급 | E73: =RANK(H73,$Q$8:$Q$239) -> 156 | F73: =IF(D73="4급",RANK(H73,$R$8:$R$239),IF(D73="5급",RANK(H73,$S$8:$S$239),"-")) -> 72 | G73: =RANK(H73,$H$73:$H$110) -> 29 | H73: {=SUMPRODUCT($J$3:$O$3,J73:O73)/SUM(($J$3:$O$3)*(J73:O73<>"."))} -> 95.148755 | I73: {=SUMPRODUCT($J$3:$N$3,J73:N73)/SUM(($J$3:$N$3)*(J73:N73<>"."))} -> 95.043426 | J73: 93.538472 | K73: 94.181857 | L73: 92.847674 | M73: 92.293477 | N73: 96.548381 | O73: 97.15 | Q73: =H73 -> 95.148755 | R73: =IF($D73=R$5,H73,".") -> 95.148755 | S73: =IF($D73=S$5,H73,".") -> .
C74: 동래 | D74: 4급 | E74: =RANK(H74,$Q$8:$Q$239) -> 102 | F74: =IF(D74="4급",RANK(H74,$R$8:$R$239),IF(D74="5급",RANK(H74,$S$8:$S$239),"-")) -> 34 | G74: =RANK(H74,$H$73:$H$110) -> 21 | H74: {=SUMPRODUCT($J$3:$O$3,J74:O74)/SUM(($J$3:$O$3)*(J74:O74<>"."))} -> 95.935562 | I74: {=SUMPRODUCT($J$3:$N$3,J74:N74)/SUM(($J$3:$N$3)*(J74:N74<>"."))} -> 95.790065 | J74: 94.764897 | K74: 94.690449 | L74: 94.97 | M74: 94.672059 | N74: 96.815234 | O74: 98.7 | Q74: =H74 -> 95.935562 | R74: =IF($D74=R$5,H74,".") -> 95.935562 | S74: =IF($D74=S$5,H74,".") -> .
C75: 남부산 | D75: 4급 | E75: =RANK(H75,$Q$8:$Q$239) -> 74 | F75: =IF(D75="4급",RANK(H75,$R$8:$R$239),IF(D75="5급",RANK(H75,$S$8:$S$239),"-")) -> 17 | G75: =RANK(H75,$H$73:$H$110) -> 13 | H75: {=SUMPRODUCT($J$3:$O$3,J75:O75)/SUM(($J$3:$O$3)*(J75:O75<>"."))} -> 96.263111 | I75: {=SUMPRODUCT($J$3:$N$3,J75:N75)/SUM(($J$3:$N$3)*(J75:N75<>"."))} -> 96.105907 | J75: 94.130484 | K75: 94.440598 | L75: 92.423884 | M75: 96.628571 | N75: 98.08133 | O75: 99.25 | Q75: =H75 -> 96.263111 | R75: =IF($D75=R$5,H75,".") -> 96.263111 | S75: =IF($D75=S$5,H75,".") -> .
C76: 부산사상 | D76: 4급 | E76: =RANK(H76,$Q$8:$Q$239) -> 98 | F76: =IF(D76="4급",RANK(H76,$R$8:$R$239),IF(D76="5급",RANK(H76,$S$8:$S$239),"-")) -> 30 | G76: =RANK(H76,$H$73:$H$110) -> 19 | H76: {=SUMPRODUCT($J$3:$O$3,J76:O76)/SUM(($J$3:$O$3)*(J76:O76<>"."))} -> 95.994436 | I76: {=SUMPRODUCT($J$3:$N$3,J76:N76)/SUM(($J$3:$N$3)*(J76:N76<>"."))} -> 96.041512 | J76: 93.173701 | K76: 94.521134 | L76: 91.481875 | M76: 89.466176 | N76: 98.909322 | O76: 95.1 | Q76: =H76 -> 95.994436 | R76: =IF($D76=R$5,H76,".") -> 95.994436 | S76: =IF($D76=S$5,H76,".") -> .
C77: 부산금정 | D77: 4급 | E77: =RANK(H77,$Q$8:$Q$239) -> 149 | F77: =IF(D77="4급",RANK(H77,$R$8:$R$239),IF(D77="5급",RANK(H77,$S$8:$S$239),"-")) -> 65 | G77: =RANK(H77,$H$73:$H$110) -> 28 | H77: {=SUMPRODUCT($J$3:$O$3,J77:O77)/SUM(($J$3:$O$3)*(J77:O77<>"."))} -> 95.293619 | I77: {=SUMPRODUCT($J$3:$N$3,J77:N77)/SUM(($J$3:$N$3)*(J77:N77<>"."))} -> 95.114336 | J77: 93.825021 | K77: 94.725314 | L77: 91.892568 | M77: 93.208929 | N77: 96.403651 | O77: 98.7 | Q77: =H77 -> 95.293619 | R77: =IF($D77=R$5,H77,".") -> 95.293619 | S77: =IF($D77=S$5,H77,".") -> .
C78: 부산사하 | D78: 4급 | E78: =RANK(H78,$Q$8:$Q$239) -> 72 | F78: =IF(D78="4급",RANK(H78,$R$8:$R$239),IF(D78="5급",RANK(H78,$S$8:$S$239),"-")) -> 15 | G78: =RANK(H78,$H$73:$H$110) -> 12 | H78: {=SUMPRODUCT($J$3:$O$3,J78:O78)/SUM(($J$3:$O$3)*(J78:O78<>"."))} -> 96.302004 | I78: {=SUMPRODUCT($J$3:$N$3,J78:N78)/SUM(($J$3:$N$3)*(J78:N78<>"."))} -> 96.238951 | J78: 94.520441 | K78: 94.69711 | L78: 95.172247 | M78: 92.077632 | N78: 97.957462 | O78: 97.5 | Q78: =H78 -> 96.302004 | R78: =IF($D78=R$5,H78,".") -> 96.302004 | S78: =IF($D78=S$5,H78,".") -> .
C79: 해운대 | D79: 4급 | E79: =RANK(H79,$Q$8:$Q$239) -> 128 | F79: =IF(D79="4급",RANK(H79,$R$8:$R$239),IF(D79="5급",RANK(H79,$S$8:$S$239),"-")) -> 50 | G79: =RANK(H79,$H$73:$H$110) -> 25 | H79: {=SUMPRODUCT($J$3:$O$3,J79:O79)/SUM(($J$3:$O$3)*(J79:O79<>"."))} -> 95.523616 | I79: {=SUMPRODUCT($J$3:$N$3,J79:N79)/SUM(($J$3:$N$3)*(J79:N79<>"."))} -> 95.52749 | J79: 94.072048 | K79: 94.518162 | L79: 93.25456 | M79: 94.077 | N79: 96.982932 | O79: 95.45 | Q79: =H79 -> 95.523616 | R79: =IF($D79=R$5,H79,".") -> 95.523616 | S79: =IF($D79=S$5,H79,".") -> .
C80: 북부산 | D80: 4급 | E80: =RANK(H80,$Q$8:$Q$239) -> 192 | F80: =IF(D80="4급",RANK(H80,$R$8:$R$239),IF(D80="5급",RANK(H80,$S$8:$S$239),"-")) -> 102 | G80: =RANK(H80,$H$73:$H$110) -> 36 | H80: {=SUMPRODUCT($J$3:$O$3,J80:O80)/SUM(($J$3:$O$3)*(J80:O80<>"."))} -> 94.329493 | I80: {=SUMPRODUCT($J$3:$N$3,J80:N80)/SUM(($J$3:$N$3)*(J80:N80<>"."))} -> 94.209993 | J80: 92.95839 | K80: 93.589118 | L80: 91.637791 | M80: 93.134722 | N80: 95.461595 | O80: 96.6 | Q80: =H80 -> 94.329493 | R80: =IF($D80=R$5,H80,".") -> 94.329493 | S80: =IF($D80=S$5,H80,".") -> .
C81: 부산연제 | D81: 4급 | E81: =RANK(H81,$Q$8:$Q$239) -> 100 | F81: =IF(D81="4급",RANK(H81,$R$8:$R$239),IF(D81="5급",RANK(H81,$S$8:$S$239),"-")) -> 32 | G81: =RANK(H81,$H$73:$H$110) -> 20 | H81: {=SUMPRODUCT($J$3:$O$3,J81:O81)/SUM(($J$3:$O$3)*(J81:O81<>"."))} -> 95.982075 | I81: {=SUMPRODUCT($J$3:$N$3,J81:N81)/SUM(($J$3:$N$3)*(J81:N81<>"."))} -> 95.770605 | J81: 95.317808 | K81: 95.665169 | L81: 95.176875 | M81: 93.830882 | N81: 96.223401 | O81: 100 | Q81: =H81 -> 95.982075 | R81: =IF($D81=R$5,H81,".") -> 95.982075 | S81: =IF($D81=S$5,H81,".") -> .
C82: 부산진 | D82: 4급 | E82: =RANK(H82,$Q$8:$Q$239) -> 195 | F82: =IF(D82="4급",RANK(H82,$R$8:$R$239),IF(D82="5급",RANK(H82,$S$8:$S$239),"-")) -> 105 | G82: =RANK(H82,$H$73:$H$110) -> 37 | H82: {=SUMPRODUCT($J$3:$O$3,J82:O82)/SUM(($J$3:$O$3)*(J82:O82<>"."))} -> 94.271136 | I82: {=SUMPRODUCT($J$3:$N$3,J82:N82)/SUM(($J$3:$N$3)*(J82:N82<>"."))} -> 94.259091 | J82: 93.892294 | K82: 95.212611 | L82: 90.979743 | M82: 94.392045 | N82: 94.625887 | O82: 94.5 | Q82: =H82 -> 94.271136 | R82: =IF($D82=R$5,H82,".") -> 94.271136 | S82: =IF($D82=S$5,H82,".") -> .
C83: 울산 | D83: 4급 | E83: =RANK(H83,$Q$8:$Q$239) -> 95 | F83: =IF(D83="4급",RANK(H83,$R$8:$R$239),IF(D83="5급",RANK(H83,$S$8:$S$239),"-")) -> 28 | G83: =RANK(H83,$H$73:$H$110) -> 17 | H83: {=SUMPRODUCT($J$3:$O$3,J83:O83)/SUM(($J$3:$O$3)*(J83:O83<>"."))} -> 96.049019 | I83: {=SUMPRODUCT($J$3:$N$3,J83:N83)/SUM(($J$3:$N$3)*(J83:N83<>"."))} -> 95.967389 | J83: 95.205282 | K83: 96.74031 | L83: 92.208197 | M83: 94.544565 | N83: 96.729496 | O83: 97.6 | Q83: =H83 -> 96.049019 | R83: =IF($D83=R$5,H83,".") -> 96.049019 | S83: =IF($D83=S$5,H83,".") -> .
C84: 남울산 | D84: 4급 | E84: =RANK(H84,$Q$8:$Q$239) -> 175 | F84: =IF(D84="4급",RANK(H84,$R$8:$R$239),IF(D84="5급",RANK(H84,$S$8:$S$239),"-")) -> 86 | G84: =RANK(H84,$H$73:$H$110) -> 33 | H84: {=SUMPRODUCT($J$3:$O$3,J84:O84)/SUM(($J$3:$O$3)*(J84:O84<>"."))} -> 94.810693 | I84: {=SUMPRODUCT($J$3:$N$3,J84:N84)/SUM(($J$3:$N$3)*(J84:N84<>"."))} -> 94.753361 | J84: 93.676449 | K84: 93.392949 | L84: 94.664231 | M84: 92.435 | N84: 95.830272 | O84: 95.9 | Q84: =H84 -> 94.810693 | R84: =IF($D84=R$5,H84,".") -> 94.810693 | S84: =IF($D84=S$5,H84,".") -> .
C85: 마산 | D85: 4급 | E85: =RANK(H85,$Q$8:$Q$239) -> 130 | F85: =IF(D85="4급",RANK(H85,$R$8:$R$239),IF(D85="5급",RANK(H85,$S$8:$S$239),"-")) -> 52 | G85: =RANK(H85,$H$73:$H$110) -> 26 | H85: {=SUMPRODUCT($J$3:$O$3,J85:O85)/SUM(($J$3:$O$3)*(J85:O85<>"."))} -> 95.507884 | I85: {=SUMPRODUCT($J$3:$N$3,J85:N85)/SUM(($J$3:$N$3)*(J85:N85<>"."))} -> 95.434615 | J85: 94.406615 | K85: 94.803298 | L85: 93.828571 | M85: 93.819576 | N85: 96.462615 | O85: 96.9 | Q85: =H85 -> 95.507884 | R85: =IF($D85=R$5,H85,".") -> 95.507884 | S85: =IF($D85=S$5,H85,".") -> .
... C110: 합천 | D110: 5급 | E110: =RANK(H110,$Q$8:$Q$239) -> 39 | F110: =IF(D110="4급",RANK(H110,$R$8:$R$239),IF(D110="5급",RANK(H110,$S$8:$S$239),"-")) -> 36 | G110: =RANK(H110,$H$73:$H$110) -> 6 | H110: {=SUMPRODUCT($J$3:$O$3,J110:O110)/SUM(($J$3:$O$3)*(J110:O110<>"."))} -> 96.956106 | I110: {=SUMPRODUCT($J$3:$N$3,J110:N110)/SUM(($J$3:$N$3)*(J110:N110<>"."))} -> 96.838006 | J110: 97.157218 | K110: 97.407051 | L110: 96.757143 | M110: 97.165 | N110: 96.518794 | O110: 99.2 | Q110: =H110 -> 96.956106 | R110: =IF($D110=R$5,H110,".") -> . | S110: =IF($D110=S$5,H110,".") -> 96.956106
B111: 청 합계 | D111: - | E111: - | F111: - | G111: - | H111: {=SUMPRODUCT($J$3:$O$3,J111:O111)/SUM(($J$3:$O$3)*(J111:O111<>"."))} -> 96.097164 | I111: {=SUMPRODUCT($J$3:$N$3,J111:N111)/SUM(($J$3:$N$3)*(J111:N111<>"."))} -> 95.980238 | J111: 95.472971 | K111: 96.078502 | L111: 94.510941 | M111: 95.085744 | N111: 96.487506 | O111: 98.31875 | Q111: . | R111: =IF($D111=R$5,H111,".") -> . | S111: =IF($D111=S$5,H111,".") -> .
B112: 충청 | C112: 공주 | D112: 4급 | E112: =RANK(H112,$Q$8:$Q$239) -> 79 | F112: =IF(D112="4급",RANK(H112,$R$8:$R$239),IF(D112="5급",RANK(H112,$S$8:$S$239),"-")) -> 21 | G112: =RANK(H112,$H$112:$H$143) -> 15 | H112: {=SUMPRODUCT($J$3:$O$3,J112:O112)/SUM(($J$3:$O$3)*(J112:O112<>"."))} -> 96.224189 | I112: {=SUMPRODUCT($J$3:$N$3,J112:N112)/SUM(($J$3:$N$3)*(J112:N112<>"."))} -> 96.093883 | J112: 95.31256 | K112: 94.27348 | L112: 97.529228 | M112: 94.463158 | N112: 96.875206 | O112: 98.7 | Q112: =H112 -> 96.224189 | R112: =IF($D112=R$5,H112,".") -> 96.224189 | S112: =IF($D112=S$5,H112,".") -> .
C113: 대전 | D113: 4급 | E113: =RANK(H113,$Q$8:$Q$239) -> 159 | F113: =IF(D113="4급",RANK(H113,$R$8:$R$239),IF(D113="5급",RANK(H113,$S$8:$S$239),"-")) -> 75 | G113: =RANK(H113,$H$112:$H$143) -> 29 | H113: {=SUMPRODUCT($J$3:$O$3,J113:O113)/SUM(($J$3:$O$3)*(J113:O113<>"."))} -> 95.102576 | I113: {=SUMPRODUCT($J$3:$N$3,J113:N113)/SUM(($J$3:$N$3)*(J113:N113<>"."))} -> 94.981659 | J113: 94.040363 | K113: 95.669708 | L113: 89.301717 | M113: 96.283648 | N113: 95.922955 | O113: 97.4 | Q113: =H113 -> 95.102576 | R113: =IF($D113=R$5,H113,".") -> 95.102576 | S113: =IF($D113=S$5,H113,".") -> .
C114: 대전대덕 | D114: 4급 | E114: =RANK(H114,$Q$8:$Q$239) -> 144 | F114: =IF(D114="4급",RANK(H114,$R$8:$R$239),IF(D114="5급",RANK(H114,$S$8:$S$239),"-")) -> 62 | G114: =RANK(H114,$H$112:$H$143) -> 27 | H114: {=SUMPRODUCT($J$3:$O$3,J114:O114)/SUM(($J$3:$O$3)*(J114:O114<>"."))} -> 95.358664 | I114: {=SUMPRODUCT($J$3:$N$3,J114:N114)/SUM(($J$3:$N$3)*(J114:N114<>"."))} -> 95.240699 | J114: 93.535606 | K114: 93.998095 | L114: 92.664286 | M114: 92.870833 | N114: 96.945792 | O114: 97.6 | Q114: =H114 -> 95.358664 | R114: =IF($D114=R$5,H114,".") -> 95.358664 | S114: =IF($D114=S$5,H114,".") -> .
C115: 대전둔산 | D115: 4급 | E115: =RANK(H115,$Q$8:$Q$239) -> 135 | F115: =IF(D115="4급",RANK(H115,$R$8:$R$239),IF(D115="5급",RANK(H115,$S$8:$S$239),"-")) -> 55 | G115: =RANK(H115,$H$112:$H$143) -> 25 | H115: {=SUMPRODUCT($J$3:$O$3,J115:O115)/SUM(($J$3:$O$3)*(J115:O115<>"."))} -> 95.464747 | I115: {=SUMPRODUCT($J$3:$N$3,J115:N115)/SUM(($J$3:$N$3)*(J115:N115<>"."))} -> 95.349733 | J115: 94.005583 | K115: 94.837132 | L115: 92.78787 | M115: 92.974074 | N115: 96.693884 | O115: 97.65 | Q115: =H115 -> 95.464747 | R115: =IF($D115=R$5,H115,".") -> 95.464747 | S115: =IF($D115=S$5,H115,".") -> .
C116: 대전유성 | D116: 4급 | E116: =RANK(H116,$Q$8:$Q$239) -> 104 | F116: =IF(D116="4급",RANK(H116,$R$8:$R$239),IF(D116="5급",RANK(H116,$S$8:$S$239),"-")) -> 36 | G116: =RANK(H116,$H$112:$H$143) -> 19 | H116: {=SUMPRODUCT($J$3:$O$3,J116:O116)/SUM(($J$3:$O$3)*(J116:O116<>"."))} -> 95.917863 | I116: {=SUMPRODUCT($J$3:$N$3,J116:N116)/SUM(($J$3:$N$3)*(J116:N116<>"."))} -> 95.950382 | J116: 95.127982 | K116: 95.425913 | L116: 94.242867 | M116: 96.092105 | N116: 96.772782 | O116: 95.3 | Q116: =H116 -> 95.917863 | R116: =IF($D116=R$5,H116,".") -> 95.917863 | S116: =IF($D116=S$5,H116,".") -> .
C117: 서대전 | D117: 4급 | E117: =RANK(H117,$Q$8:$Q$239) -> 177 | F117: =IF(D117="4급",RANK(H117,$R$8:$R$239),IF(D117="5급",RANK(H117,$S$8:$S$239),"-")) -> 88 | G117: =RANK(H117,$H$112:$H$143) -> 31 | H117: {=SUMPRODUCT($J$3:$O$3,J117:O117)/SUM(($J$3:$O$3)*(J117:O117<>"."))} -> 94.785887 | I117: {=SUMPRODUCT($J$3:$N$3,J117:N117)/SUM(($J$3:$N$3)*(J117:N117<>"."))} -> 94.600933 | J117: 94.54366 | K117: 96.537366 | L117: 92.192881 | M117: 90.352632 | N117: 94.658206 | O117: 98.3 | Q117: =H117 -> 94.785887 | R117: =IF($D117=R$5,H117,".") -> 94.785887 | S117: =IF($D117=S$5,H117,".") -> .
C118: 서청주 | D118: 4급 | E118: =RANK(H118,$Q$8:$Q$239) -> 187 | F118: =IF(D118="4급",RANK(H118,$R$8:$R$239),IF(D118="5급",RANK(H118,$S$8:$S$239),"-")) -> 97 | G118: =RANK(H118,$H$112:$H$143) -> 32 | H118: {=SUMPRODUCT($J$3:$O$3,J118:O118)/SUM(($J$3:$O$3)*(J118:O118<>"."))} -> 94.594416 | I118: {=SUMPRODUCT($J$3:$N$3,J118:N118)/SUM(($J$3:$N$3)*(J118:N118<>"."))} -> 94.378333 | J118: 94.099704 | K118: 95.242464 | L118: 93.279452 | M118: 91.136607 | N118: 94.656962 | O118: 98.7 | Q118: =H118 -> 94.594416 | R118: =IF($D118=R$5,H118,".") -> 94.594416 | S118: =IF($D118=S$5,H118,".") -> .
C119: 아산 | D119: 4급 | E119: =RANK(H119,$Q$8:$Q$239) -> 106 | F119: =IF(D119="4급",RANK(H119,$R$8:$R$239),IF(D119="5급",RANK(H119,$S$8:$S$239),"-")) -> 37 | G119: =RANK(H119,$H$112:$H$143) -> 20 | H119: {=SUMPRODUCT($J$3:$O$3,J119:O119)/SUM(($J$3:$O$3)*(J119:O119<>"."))} -> 95.890753 | I119: {=SUMPRODUCT($J$3:$N$3,J119:N119)/SUM(($J$3:$N$3)*(J119:N119<>"."))} -> 95.700793 | J119: 96.523036 | K119: 97.382619 | L119: 95.456998 | M119: 95.565217 | N119: 94.878551 | O119: 99.5 | Q119: =H119 -> 95.890753 | R119: =IF($D119=R$5,H119,".") -> 95.890753 | S119: =IF($D119=S$5,H119,".") -> .
C120: 제천 | D120: 4급 | E120: =RANK(H120,$Q$8:$Q$239) -> 44 | F120: =IF(D120="4급",RANK(H120,$R$8:$R$239),IF(D120="5급",RANK(H120,$S$8:$S$239),"-")) -> 5 | G120: =RANK(H120,$H$112:$H$143) -> 9 | H120: {=SUMPRODUCT($J$3:$O$3,J120:O120)/SUM(($J$3:$O$3)*(J120:O120<>"."))} -> 96.869214 | I120: {=SUMPRODUCT($J$3:$N$3,J120:N120)/SUM(($J$3:$N$3)*(J120:N120<>"."))} -> 96.82812 | J120: 95.810918 | K120: 97.987921 | L120: 91.3315 | M120: 97.401316 | N120: 97.845322 | O120: 97.65 | Q120: =H120 -> 96.869214 | R120: =IF($D120=R$5,H120,".") -> 96.869214 | S120: =IF($D120=S$5,H120,".") -> .
C121: 동천안 | D121: 4급 | E121: =RANK(H121,$Q$8:$Q$239) -> 89 | F121: =IF(D121="4급",RANK(H121,$R$8:$R$239),IF(D121="5급",RANK(H121,$S$8:$S$239),"-")) -> 25 | G121: =RANK(H121,$H$112:$H$143) -> 16 | H121: {=SUMPRODUCT($J$3:$O$3,J121:O121)/SUM(($J$3:$O$3)*(J121:O121<>"."))} -> 96.092418 | I121: {=SUMPRODUCT($J$3:$N$3,J121:N121)/SUM(($J$3:$N$3)*(J121:N121<>"."))} -> 95.913072 | J121: 96.023023 | K121: 96.076649 | L121: 95.004167 | M121: 98.622368 | N121: 95.803121 | O121: 99.5 | Q121: =H121 -> 96.092418 | R121: =IF($D121=R$5,H121,".") -> 96.092418 | S121: =IF($D121=S$5,H121,".") -> .
C122: 천안 | D122: 4급 | E122: =RANK(H122,$Q$8:$Q$239) -> 173 | F122: =IF(D122="4급",RANK(H122,$R$8:$R$239),IF(D122="5급",RANK(H122,$S$8:$S$239),"-")) -> 85 | G122: =RANK(H122,$H$112:$H$143) -> 30 | H122: {=SUMPRODUCT($J$3:$O$3,J122:O122)/SUM(($J$3:$O$3)*(J122:O122<>"."))} -> 94.845353 | I122: {=SUMPRODUCT($J$3:$N$3,J122:N122)/SUM(($J$3:$N$3)*(J122:N122<>"."))} -> 94.642477 | J122: 93.933919 | K122: 94.476924 | L122: 92.583461 | M122: 94.731414 | N122: 95.351034 | O122: 98.7 | Q122: =H122 -> 94.845353 | R122: =IF($D122=R$5,H122,".") -> 94.845353 | S122: =IF($D122=S$5,H122,".") -> .
C123: 청주 | D123: 4급 | E123: =RANK(H123,$Q$8:$Q$239) -> 61 | F123: =IF(D123="4급",RANK(H123,$R$8:$R$239),IF(D123="5급",RANK(H123,$S$8:$S$239),"-")) -> 9 | G123: =RANK(H123,$H$112:$H$143) -> 13 | H123: {=SUMPRODUCT($J$3:$O$3,J123:O123)/SUM(($J$3:$O$3)*(J123:O123<>"."))} -> 96.480178 | I123: {=SUMPRODUCT($J$3:$N$3,J123:N123)/SUM(($J$3:$N$3)*(J123:N123<>"."))} -> 96.405451 | J123: 96.290972 | K123: 96.974779 | L123: 95.701928 | M123: 94.378571 | N123: 96.51993 | O123: 97.9 | Q123: =H123 -> 96.480178 | R123: =IF($D123=R$5,H123,".") -> 96.480178 | S123: =IF($D123=S$5,H123,".") -> .
C124: 충주 | D124: 4급 | E124: =RANK(H124,$Q$8:$Q$239) -> 123 | F124: =IF(D124="4급",RANK(H124,$R$8:$R$239),IF(D124="5급",RANK(H124,$S$8:$S$239),"-")) -> 47 | G124: =RANK(H124,$H$112:$H$143) -> 24 | H124: {=SUMPRODUCT($J$3:$O$3,J124:O124)/SUM(($J$3:$O$3)*(J124:O124<>"."))} -> 95.554462 | I124: {=SUMPRODUCT($J$3:$N$3,J124:N124)/SUM(($J$3:$N$3)*(J124:N124<>"."))} -> 95.402065 | J124: 94.624067 | K124: 95.951549 | L124: 92.654837 | M124: 94.374 | N124: 96.180063 | O124: 98.45 | Q124: =H124 -> 95.554462 | R124: =IF($D124=R$5,H124,".") -> 95.554462 | S124: =IF($D124=S$5,H124,".") -> .
... C143: 홍성 | D143: 5급 | E143: =RANK(H143,$Q$8:$Q$239) -> 58 | F143: =IF(D143="4급",RANK(H143,$R$8:$R$239),IF(D143="5급",RANK(H143,$S$8:$S$239),"-")) -> 51 | G143: =RANK(H143,$H$112:$H$143) -> 11 | H143: {=SUMPRODUCT($J$3:$O$3,J143:O143)/SUM(($J$3:$O$3)*(J143:O143<>"."))} -> 96.557699 | I143: {=SUMPRODUCT($J$3:$N$3,J143:N143)/SUM(($J$3:$N$3)*(J143:N143<>"."))} -> 96.444946 | J143: 95.782661 | K143: 95.598855 | L143: 97.539583 | M143: 92.679688 | N143: 97.107231 | O143: 98.7 | Q143: =H143 -> 96.557699 | R143: =IF($D143=R$5,H143,".") -> . | S143: =IF($D143=S$5,H143,".") -> 96.557699
B144: 청 합계 | D144: - | E144: - | F144: - | G144: - | H144: {=SUMPRODUCT($J$3:$O$3,J144:O144)/SUM(($J$3:$O$3)*(J144:O144<>"."))} -> 96.502007 | I144: {=SUMPRODUCT($J$3:$N$3,J144:N144)/SUM(($J$3:$N$3)*(J144:N144<>"."))} -> 96.425902 | J144: 95.793392 | K144: 96.287426 | L144: 95.211132 | M144: 95.115472 | N144: 97.058411 | O144: 97.948 | Q144: . | R144: =IF($D144=R$5,H144,".") -> . | S144: =IF($D144=S$5,H144,".") -> .
B145: 전남 | C145: 광주 | D145: 4급 | E145: =RANK(H145,$Q$8:$Q$239) -> 141 | F145: =IF(D145="4급",RANK(H145,$R$8:$R$239),IF(D145="5급",RANK(H145,$S$8:$S$239),"-")) -> 59 | G145: =RANK(H145,$H$145:$H$170) -> 24 | H145: {=SUMPRODUCT($J$3:$O$3,J145:O145)/SUM(($J$3:$O$3)*(J145:O145<>"."))} -> 95.370237 | I145: {=SUMPRODUCT($J$3:$N$3,J145:N145)/SUM(($J$3:$N$3)*(J145:N145<>"."))} -> 95.194986 | J145: 94.011725 | K145: 95.905714 | L145: 91.327166 | M145: 90.627967 | N145: 96.378247 | O145: 98.7 | Q145: =H145 -> 95.370237 | R145: =IF($D145=R$5,H145,".") -> 95.370237 | S145: =IF($D145=S$5,H145,".") -> .
C146: 북광주 | D146: 4급 | E146: =RANK(H146,$Q$8:$Q$239) -> 103 | F146: =IF(D146="4급",RANK(H146,$R$8:$R$239),IF(D146="5급",RANK(H146,$S$8:$S$239),"-")) -> 35 | G146: =RANK(H146,$H$145:$H$170) -> 20 | H146: {=SUMPRODUCT($J$3:$O$3,J146:O146)/SUM(($J$3:$O$3)*(J146:O146<>"."))} -> 95.93541 | I146: {=SUMPRODUCT($J$3:$N$3,J146:N146)/SUM(($J$3:$N$3)*(J146:N146<>"."))} -> 95.905695 | J146: 94.909641 | K146: 95.019972 | L146: 94.705085 | M146: 94.85625 | N146: 96.901748 | O146: 96.5 | Q146: =H146 -> 95.93541 | R146: =IF($D146=R$5,H146,".") -> 95.93541 | S146: =IF($D146=S$5,H146,".") -> .
C147: 서광주 | D147: 4급 | E147: =RANK(H147,$Q$8:$Q$239) -> 142 | F147: =IF(D147="4급",RANK(H147,$R$8:$R$239),IF(D147="5급",RANK(H147,$S$8:$S$239),"-")) -> 60 | G147: =RANK(H147,$H$145:$H$170) -> 25 | H147: {=SUMPRODUCT($J$3:$O$3,J147:O147)/SUM(($J$3:$O$3)*(J147:O147<>"."))} -> 95.362922 | I147: {=SUMPRODUCT($J$3:$N$3,J147:N147)/SUM(($J$3:$N$3)*(J147:N147<>"."))} -> 95.139918 | J147: 94.749436 | K147: 96.471535 | L147: 94.288905 | M147: 87.973833 | N147: 95.530399 | O147: 99.6 | Q147: =H147 -> 95.362922 | R147: =IF($D147=R$5,H147,".") -> 95.362922 | S147: =IF($D147=S$5,H147,".") -> .
C148: 광주광산 | D148: 4급 | E148: =RANK(H148,$Q$8:$Q$239) -> 165 | F148: =IF(D148="4급",RANK(H148,$R$8:$R$239),IF(D148="5급",RANK(H148,$S$8:$S$239),"-")) -> 80 | G148: =RANK(H148,$H$145:$H$170) -> 26 | H148: {=SUMPRODUCT($J$3:$O$3,J148:O148)/SUM(($J$3:$O$3)*(J148:O148<>"."))} -> 94.967819 | I148: {=SUMPRODUCT($J$3:$N$3,J148:N148)/SUM(($J$3:$N$3)*(J148:N148<>"."))} -> 94.93981 | J148: 93.555445 | K148: 93.612714 | L148: 92.482143 | M148: 96.127083 | N148: 96.324174 | O148: 95.5 | Q148: =H148 -> 94.967819 | R148: =IF($D148=R$5,H148,".") -> 94.967819 | S148: =IF($D148=S$5,H148,".") -> .
C149: 목포 | D149: 4급 | E149: =RANK(H149,$Q$8:$Q$239) -> 118 | F149: =IF(D149="4급",RANK(H149,$R$8:$R$239),IF(D149="5급",RANK(H149,$S$8:$S$239),"-")) -> 44 | G149: =RANK(H149,$H$145:$H$170) -> 23 | H149: {=SUMPRODUCT($J$3:$O$3,J149:O149)/SUM(($J$3:$O$3)*(J149:O149<>"."))} -> 95.722206 | I149: {=SUMPRODUCT($J$3:$N$3,J149:N149)/SUM(($J$3:$N$3)*(J149:N149<>"."))} -> 95.612848 | J149: 94.918757 | K149: 94.827857 | L149: 94.442115 | M149: 97.013793 | N149: 96.306939 | O149: 97.8 | Q149: =H149 -> 95.722206 | R149: =IF($D149=R$5,H149,".") -> 95.722206 | S149: =IF($D149=S$5,H149,".") -> .
C150: 여수 | D150: 4급 | E150: =RANK(H150,$Q$8:$Q$239) -> 91 | F150: =IF(D150="4급",RANK(H150,$R$8:$R$239),IF(D150="5급",RANK(H150,$S$8:$S$239),"-")) -> 27 | G150: =RANK(H150,$H$145:$H$170) -> 18 | H150: {=SUMPRODUCT($J$3:$O$3,J150:O150)/SUM(($J$3:$O$3)*(J150:O150<>"."))} -> 96.081765 | I150: {=SUMPRODUCT($J$3:$N$3,J150:N150)/SUM(($J$3:$N$3)*(J150:N150<>"."))} -> 95.875542 | J150: 94.746489 | K150: 95.4852 | L150: 94.1725 | M150: 93.199167 | N150: 97.004594 | O150: 100 | Q150: =H150 -> 96.081765 | R150: =IF($D150=R$5,H150,".") -> 96.081765 | S150: =IF($D150=S$5,H150,".") -> .
C151: 순천 | D151: 4급 | E151: =RANK(H151,$Q$8:$Q$239) -> 101 | F151: =IF(D151="4급",RANK(H151,$R$8:$R$239),IF(D151="5급",RANK(H151,$S$8:$S$239),"-")) -> 33 | G151: =RANK(H151,$H$145:$H$170) -> 19 | H151: {=SUMPRODUCT($J$3:$O$3,J151:O151)/SUM(($J$3:$O$3)*(J151:O151<>"."))} -> 95.974448 | I151: {=SUMPRODUCT($J$3:$N$3,J151:N151)/SUM(($J$3:$N$3)*(J151:N151<>"."))} -> 95.96784 | J151: 95.076566 | K151: 96.505 | L151: 92.965157 | M151: 95.158 | N151: 96.859114 | O151: 96.1 | Q151: =H151 -> 95.974448 | R151: =IF($D151=R$5,H151,".") -> 95.974448 | S151: =IF($D151=S$5,H151,".") -> .
C152: 강진 | D152: 5급 | E152: =RANK(H152,$Q$8:$Q$239) -> 4 | F152: =IF(D152="4급",RANK(H152,$R$8:$R$239),IF(D152="5급",RANK(H152,$S$8:$S$239),"-")) -> 3 | G152: =RANK(H152,$H$145:$H$170) -> 2 | H152: {=SUMPRODUCT($J$3:$O$3,J152:O152)/SUM(($J$3:$O$3)*(J152:O152<>"."))} -> 97.989971 | I152: {=SUMPRODUCT($J$3:$N$3,J152:N152)/SUM(($J$3:$N$3)*(J152:N152<>"."))} -> 98.128917 | J152: 96.945785 | K152: 96.844895 | L152: 97.213571 | M152: 96.61875 | N152: 99.312048 | O152: 95.35 | Q152: =H152 -> 97.989971 | R152: =IF($D152=R$5,H152,".") -> . | S152: =IF($D152=S$5,H152,".") -> 97.989971
C153: 장흥 | D153: 5급 | E153: =RANK(H153,$Q$8:$Q$239) -> 24 | F153: =IF(D153="4급",RANK(H153,$R$8:$R$239),IF(D153="5급",RANK(H153,$S$8:$S$239),"-")) -> 23 | G153: =RANK(H153,$H$145:$H$170) -> 7 | H153: {=SUMPRODUCT($J$3:$O$3,J153:O153)/SUM(($J$3:$O$3)*(J153:O153<>"."))} -> 97.302508 | I153: {=SUMPRODUCT($J$3:$N$3,J153:N153)/SUM(($J$3:$N$3)*(J153:N153<>"."))} -> 97.228955 | J153: 96.799565 | K153: 95.909483 | L153: 97.94527 | M153: 97.26125 | N153: 97.658345 | O153: 98.7 | Q153: =H153 -> 97.302508 | R153: =IF($D153=R$5,H153,".") -> . | S153: =IF($D153=S$5,H153,".") -> 97.302508
C154: 화순 | D154: 5급 | E154: =RANK(H154,$Q$8:$Q$239) -> 105 | F154: =IF(D154="4급",RANK(H154,$R$8:$R$239),IF(D154="5급",RANK(H154,$S$8:$S$239),"-")) -> 69 | G154: =RANK(H154,$H$145:$H$170) -> 21 | H154: {=SUMPRODUCT($J$3:$O$3,J154:O154)/SUM(($J$3:$O$3)*(J154:O154<>"."))} -> 95.914053 | I154: {=SUMPRODUCT($J$3:$N$3,J154:N154)/SUM(($J$3:$N$3)*(J154:N154<>"."))} -> 95.788477 | J154: 95.592803 | K154: 95.836149 | L154: 94.896154 | M154: 96.075 | N154: 95.984151 | O154: 98.3 | Q154: =H154 -> 95.914053 | R154: =IF($D154=R$5,H154,".") -> . | S154: =IF($D154=S$5,H154,".") -> 95.914053
C155: 곡성 | D155: 5급 | E155: =RANK(H155,$Q$8:$Q$239) -> 8 | F155: =IF(D155="4급",RANK(H155,$R$8:$R$239),IF(D155="5급",RANK(H155,$S$8:$S$239),"-")) -> 7 | G155: =RANK(H155,$H$145:$H$170) -> 4 | H155: {=SUMPRODUCT($J$3:$O$3,J155:O155)/SUM(($J$3:$O$3)*(J155:O155<>"."))} -> 97.76446 | I155: {=SUMPRODUCT($J$3:$N$3,J155:N155)/SUM(($J$3:$N$3)*(J155:N155<>"."))} -> 97.741537 | J155: 97.482547 | K155: 98.975806 | L155: 95.4 | M155: 95.320833 | N155: 98.000527 | O155: 98.2 | Q155: =H155 -> 97.76446 | R155: =IF($D155=R$5,H155,".") -> . | S155: =IF($D155=S$5,H155,".") -> 97.76446
C156: 담양 | D156: 5급 | E156: =RANK(H156,$Q$8:$Q$239) -> 5 | F156: =IF(D156="4급",RANK(H156,$R$8:$R$239),IF(D156="5급",RANK(H156,$S$8:$S$239),"-")) -> 4 | G156: =RANK(H156,$H$145:$H$170) -> 3 | H156: {=SUMPRODUCT($J$3:$O$3,J156:O156)/SUM(($J$3:$O$3)*(J156:O156<>"."))} -> 97.934916 | I156: {=SUMPRODUCT($J$3:$N$3,J156:N156)/SUM(($J$3:$N$3)*(J156:N156<>"."))} -> 97.905175 | J156: 97.153 | K156: 96.948462 | L156: 96.894048 | M156: 98.495833 | N156: 98.65735 | O156: 98.5 | Q156: =H156 -> 97.934916 | R156: =IF($D156=R$5,H156,".") -> . | S156: =IF($D156=S$5,H156,".") -> 97.934916
C157: 장성 | D157: 5급 | E157: =RANK(H157,$Q$8:$Q$239) -> 46 | F157: =IF(D157="4급",RANK(H157,$R$8:$R$239),IF(D157="5급",RANK(H157,$S$8:$S$239),"-")) -> 41 | G157: =RANK(H157,$H$145:$H$170) -> 13 | H157: {=SUMPRODUCT($J$3:$O$3,J157:O157)/SUM(($J$3:$O$3)*(J157:O157<>"."))} -> 96.825156 | I157: {=SUMPRODUCT($J$3:$N$3,J157:N157)/SUM(($J$3:$N$3)*(J157:N157<>"."))} -> 96.721217 | J157: 97.525203 | K157: 98.294697 | L157: 97.494068 | M157: 94.21 | N157: 95.91723 | O157: 98.8 | Q157: =H157 -> 96.825156 | R157: =IF($D157=R$5,H157,".") -> . | S157: =IF($D157=S$5,H157,".") -> 96.825156
... C169: 보성 | D169: 5급 | E169: =RANK(H169,$Q$8:$Q$239) -> 54 | F169: =IF(D169="4급",RANK(H169,$R$8:$R$239),IF(D169="5급",RANK(H169,$S$8:$S$239),"-")) -> 47 | G169: =RANK(H169,$H$145:$H$170) -> 15 | H169: {=SUMPRODUCT($J$3:$O$3,J169:O169)/SUM(($J$3:$O$3)*(J169:O169<>"."))} -> 96.604857 | I169: {=SUMPRODUCT($J$3:$N$3,J169:N169)/SUM(($J$3:$N$3)*(J169:N169<>"."))} -> 96.452481 | J169: 96.670763 | K169: 97.539015 | L169: 95.842105 | M169: 94.826786 | N169: 96.234199 | O169: 99.5 | Q169: =H169 -> 96.604857 | R169: =IF($D169=R$5,H169,".") -> . | S169: =IF($D169=S$5,H169,".") -> 96.604857
C170: 영암우편집중국 | D170: 5급 | E170: =RANK(H170,$Q$8:$Q$239) -> 31 | F170: =IF(D170="4급",RANK(H170,$R$8:$R$239),IF(D170="5급",RANK(H170,$S$8:$S$239),"-")) -> 29 | G170: =RANK(H170,$H$145:$H$170) -> 8 | H170: {=SUMPRODUCT($J$3:$O$3,J170:O170)/SUM(($J$3:$O$3)*(J170:O170<>"."))} -> 97.068742 | I170: {=SUMPRODUCT($J$3:$N$3,J170:N170)/SUM(($J$3:$N$3)*(J170:N170<>"."))} -> 97.068742 | J170: . | K170: . | L170: . | M170: . | N170: 97.068742 | O170: . | Q170: =H170 -> 97.068742 | R170: =IF($D170=R$5,H170,".") -> . | S170: =IF($D170=S$5,H170,".") -> 97.068742
B171: 청 합계 | D171: - | E171: - | F171: - | G171: - | H171: {=SUMPRODUCT($J$3:$O$3,J171:O171)/SUM(($J$3:$O$3)*(J171:O171<>"."))} -> 96.043408 | I171: {=SUMPRODUCT($J$3:$N$3,J171:N171)/SUM(($J$3:$N$3)*(J171:N171<>"."))} -> 95.906219 | J171: 95.820677 | K171: 96.317029 | L171: 95.295679 | M171: 94.905864 | N171: 95.991762 | O171: 98.65 | Q171: . | R171: =IF($D171=R$5,H171,".") -> . | S171: =IF($D171=S$5,H171,".") -> .
B172: 경북 | C172: 대구 | D172: 4급 | E172: =RANK(H172,$Q$8:$Q$239) -> 71 | F172: =IF(D172="4급",RANK(H172,$R$8:$R$239),IF(D172="5급",RANK(H172,$S$8:$S$239),"-")) -> 14 | G172: =RANK(H172,$H$172:$H$201) -> 14 | H172: {=SUMPRODUCT($J$3:$O$3,J172:O172)/SUM(($J$3:$O$3)*(J172:O172<>"."))} -> 96.307665 | I172: {=SUMPRODUCT($J$3:$N$3,J172:N172)/SUM(($J$3:$N$3)*(J172:N172<>"."))} -> 96.250173 | J172: 95.07686 | K172: 95.54633 | L172: 93.697881 | M172: 96.505 | N172: 97.423486 | O172: 97.4 | Q172: =H172 -> 96.307665 | R172: =IF($D172=R$5,H172,".") -> 96.307665 | S172: =IF($D172=S$5,H172,".") -> .
C173: 동대구 | D173: 4급 | E173: =RANK(H173,$Q$8:$Q$239) -> 184 | F173: =IF(D173="4급",RANK(H173,$R$8:$R$239),IF(D173="5급",RANK(H173,$S$8:$S$239),"-")) -> 95 | G173: =RANK(H173,$H$172:$H$201) -> 28 | H173: {=SUMPRODUCT($J$3:$O$3,J173:O173)/SUM(($J$3:$O$3)*(J173:O173<>"."))} -> 94.620782 | I173: {=SUMPRODUCT($J$3:$N$3,J173:N173)/SUM(($J$3:$N$3)*(J173:N173<>"."))} -> 94.390297 | J173: 94.481106 | K173: 94.362097 | L173: 96.027847 | M173: 91.257955 | N173: 94.299488 | O173: 99 | Q173: =H173 -> 94.620782 | R173: =IF($D173=R$5,H173,".") -> 94.620782 | S173: =IF($D173=S$5,H173,".") -> .
C174: 서대구 | D174: 4급 | E174: =RANK(H174,$Q$8:$Q$239) -> 143 | F174: =IF(D174="4급",RANK(H174,$R$8:$R$239),IF(D174="5급",RANK(H174,$S$8:$S$239),"-")) -> 61 | G174: =RANK(H174,$H$172:$H$201) -> 23 | H174: {=SUMPRODUCT($J$3:$O$3,J174:O174)/SUM(($J$3:$O$3)*(J174:O174<>"."))} -> 95.362485 | I174: {=SUMPRODUCT($J$3:$N$3,J174:N174)/SUM(($J$3:$N$3)*(J174:N174<>"."))} -> 95.213143 | J174: 94.805775 | K174: 94.749675 | L174: 94.34193 | M174: 96.123989 | N174: 95.62051 | O174: 98.2 | Q174: =H174 -> 95.362485 | R174: =IF($D174=R$5,H174,".") -> 95.362485 | S174: =IF($D174=S$5,H174,".") -> .
C175: 북대구 | D175: 4급 | E175: =RANK(H175,$Q$8:$Q$239) -> 153 | F175: =IF(D175="4급",RANK(H175,$R$8:$R$239),IF(D175="5급",RANK(H175,$S$8:$S$239),"-")) -> 69 | G175: =RANK(H175,$H$172:$H$201) -> 26 | H175: {=SUMPRODUCT($J$3:$O$3,J175:O175)/SUM(($J$3:$O$3)*(J175:O175<>"."))} -> 95.215266 | I175: {=SUMPRODUCT($J$3:$N$3,J175:N175)/SUM(($J$3:$N$3)*(J175:N175<>"."))} -> 95.110806 | J175: 95.938839 | K175: 95.796907 | L175: 96.8805 | M175: 94.352381 | N175: 94.282773 | O175: 97.2 | Q175: =H175 -> 95.215266 | R175: =IF($D175=R$5,H175,".") -> 95.215266 | S175: =IF($D175=S$5,H175,".") -> .
C176: 대구달서 | D176: 4급 | E176: =RANK(H176,$Q$8:$Q$239) -> 215 | F176: =IF(D176="4급",RANK(H176,$R$8:$R$239),IF(D176="5급",RANK(H176,$S$8:$S$239),"-")) -> 121 | G176: =RANK(H176,$H$172:$H$201) -> 29 | H176: {=SUMPRODUCT($J$3:$O$3,J176:O176)/SUM(($J$3:$O$3)*(J176:O176<>"."))} -> 93.693716 | I176: {=SUMPRODUCT($J$3:$N$3,J176:N176)/SUM(($J$3:$N$3)*(J176:N176<>"."))} -> 93.493385 | J176: 93.645566 | K176: 94.274439 | L176: 92.839384 | M176: 92.917469 | N176: 93.341205 | O176: 97.5 | Q176: =H176 -> 93.693716 | R176: =IF($D176=R$5,H176,".") -> 93.693716 | S176: =IF($D176=S$5,H176,".") -> .
C177: 대구수성 | D177: 4급 | E177: =RANK(H177,$Q$8:$Q$239) -> 151 | F177: =IF(D177="4급",RANK(H177,$R$8:$R$239),IF(D177="5급",RANK(H177,$S$8:$S$239),"-")) -> 67 | G177: =RANK(H177,$H$172:$H$201) -> 25 | H177: {=SUMPRODUCT($J$3:$O$3,J177:O177)/SUM(($J$3:$O$3)*(J177:O177<>"."))} -> 95.256 | I177: {=SUMPRODUCT($J$3:$N$3,J177:N177)/SUM(($J$3:$N$3)*(J177:N177<>"."))} -> 95.022106 | J177: 94.686369 | K177: 95.443981 | L177: 93.645248 | M177: 93.879916 | N177: 95.357842 | O177: 99.7 | Q177: =H177 -> 95.256 | R177: =IF($D177=R$5,H177,".") -> 95.256 | S177: =IF($D177=S$5,H177,".") -> .
C178: 포항 | D178: 4급 | E178: =RANK(H178,$Q$8:$Q$239) -> 80 | F178: =IF(D178="4급",RANK(H178,$R$8:$R$239),IF(D178="5급",RANK(H178,$S$8:$S$239),"-")) -> 22 | G178: =RANK(H178,$H$172:$H$201) -> 16 | H178: {=SUMPRODUCT($J$3:$O$3,J178:O178)/SUM(($J$3:$O$3)*(J178:O178<>"."))} -> 96.206056 | I178: {=SUMPRODUCT($J$3:$N$3,J178:N178)/SUM(($J$3:$N$3)*(J178:N178<>"."))} -> 96.027428 | J178: 95.205116 | K178: 95.572549 | L178: 94.914123 | M178: 94.295181 | N178: 96.84974 | O178: 99.6 | Q178: =H178 -> 96.206056 | R178: =IF($D178=R$5,H178,".") -> 96.206056 | S178: =IF($D178=S$5,H178,".") -> .
C179: 경주 | D179: 4급 | E179: =RANK(H179,$Q$8:$Q$239) -> 69 | F179: =IF(D179="4급",RANK(H179,$R$8:$R$239),IF(D179="5급",RANK(H179,$S$8:$S$239),"-")) -> 12 | G179: =RANK(H179,$H$172:$H$201) -> 13 | H179: {=SUMPRODUCT($J$3:$O$3,J179:O179)/SUM(($J$3:$O$3)*(J179:O179<>"."))} -> 96.406387 | I179: {=SUMPRODUCT($J$3:$N$3,J179:N179)/SUM(($J$3:$N$3)*(J179:N179<>"."))} -> 96.285671 | J179: 95.224548 | K179: 95.188034 | L179: 95.782692 | M179: 93.714423 | N179: 97.346794 | O179: 98.7 | Q179: =H179 -> 96.406387 | R179: =IF($D179=R$5,H179,".") -> 96.406387 | S179: =IF($D179=S$5,H179,".") -> .
C180: 안동 | D180: 4급 | E180: =RANK(H180,$Q$8:$Q$239) -> 68 | F180: =IF(D180="4급",RANK(H180,$R$8:$R$239),IF(D180="5급",RANK(H180,$S$8:$S$239),"-")) -> 11 | G180: =RANK(H180,$H$172:$H$201) -> 12 | H180: {=SUMPRODUCT($J$3:$O$3,J180:O180)/SUM(($J$3:$O$3)*(J180:O180<>"."))} -> 96.41446 | I180: {=SUMPRODUCT($J$3:$N$3,J180:N180)/SUM(($J$3:$N$3)*(J180:N180<>"."))} -> 96.267852 | J180: 95.012559 | K180: 96.007906 | L180: 94.084058 | M180: 92.917 | N180: 97.523145 | O180: 99.2 | Q180: =H180 -> 96.41446 | R180: =IF($D180=R$5,H180,".") -> 96.41446 | S180: =IF($D180=S$5,H180,".") -> .
C181: 구미 | D181: 4급 | E181: =RANK(H181,$Q$8:$Q$239) -> 182 | F181: =IF(D181="4급",RANK(H181,$R$8:$R$239),IF(D181="5급",RANK(H181,$S$8:$S$239),"-")) -> 93 | G181: =RANK(H181,$H$172:$H$201) -> 27 | H181: {=SUMPRODUCT($J$3:$O$3,J181:O181)/SUM(($J$3:$O$3)*(J181:O181<>"."))} -> 94.650269 | I181: {=SUMPRODUCT($J$3:$N$3,J181:N181)/SUM(($J$3:$N$3)*(J181:N181<>"."))} -> 94.410809 | J181: 95.099766 | K181: 96.235398 | L181: 94.28734 | M181: 92.209 | N181: 93.721853 | O181: 99.2 | Q181: =H181 -> 94.650269 | R181: =IF($D181=R$5,H181,".") -> 94.650269 | S181: =IF($D181=S$5,H181,".") -> .
C182: 경산 | D182: 4급 | E182: =RANK(H182,$Q$8:$Q$239) -> 77 | F182: =IF(D182="4급",RANK(H182,$R$8:$R$239),IF(D182="5급",RANK(H182,$S$8:$S$239),"-")) -> 19 | G182: =RANK(H182,$H$172:$H$201) -> 15 | H182: {=SUMPRODUCT($J$3:$O$3,J182:O182)/SUM(($J$3:$O$3)*(J182:O182<>"."))} -> 96.241324 | I182: {=SUMPRODUCT($J$3:$N$3,J182:N182)/SUM(($J$3:$N$3)*(J182:N182<>"."))} -> 96.080341 | J182: 96.568091 | K182: 97.81247 | L182: 94.714035 | M182: 94.4 | N182: 95.59259 | O182: 99.3 | Q182: =H182 -> 96.241324 | R182: =IF($D182=R$5,H182,".") -> 96.241324 | S182: =IF($D182=S$5,H182,".") -> .
C183: 영주 | D183: 4급 | E183: =RANK(H183,$Q$8:$Q$239) -> 88 | F183: =IF(D183="4급",RANK(H183,$R$8:$R$239),IF(D183="5급",RANK(H183,$S$8:$S$239),"-")) -> 24 | G183: =RANK(H183,$H$172:$H$201) -> 20 | H183: {=SUMPRODUCT($J$3:$O$3,J183:O183)/SUM(($J$3:$O$3)*(J183:O183<>"."))} -> 96.093055 | I183: {=SUMPRODUCT($J$3:$N$3,J183:N183)/SUM(($J$3:$N$3)*(J183:N183<>"."))} -> 96.045321 | J183: 95.82431 | K183: 95.878086 | L183: 96.715426 | M183: 93.104412 | N183: 96.266333 | O183: 97 | Q183: =H183 -> 96.093055 | R183: =IF($D183=R$5,H183,".") -> 96.093055 | S183: =IF($D183=S$5,H183,".") -> .
C184: 상주 | D184: 4급 | E184: =RANK(H184,$Q$8:$Q$239) -> 3 | F184: =IF(D184="4급",RANK(H184,$R$8:$R$239),IF(D184="5급",RANK(H184,$S$8:$S$239),"-")) -> 1 | G184: =RANK(H184,$H$172:$H$201) -> 2 | H184: {=SUMPRODUCT($J$3:$O$3,J184:O184)/SUM(($J$3:$O$3)*(J184:O184<>"."))} -> 98.01149 | I184: {=SUMPRODUCT($J$3:$N$3,J184:N184)/SUM(($J$3:$N$3)*(J184:N184<>"."))} -> 97.959463 | J184: 97.484149 | K184: 97.884404 | L184: 96.715769 | M184: 97.8 | N184: 98.434777 | O184: 99 | Q184: =H184 -> 98.01149 | R184: =IF($D184=R$5,H184,".") -> 98.01149 | S184: =IF($D184=S$5,H184,".") -> .
... C201: 울릉 | D201: 5급 | E201: =RANK(H201,$Q$8:$Q$239) -> 224 | F201: =IF(D201="4급",RANK(H201,$R$8:$R$239),IF(D201="5급",RANK(H201,$S$8:$S$239),"-")) -> 96 | G201: =RANK(H201,$H$172:$H$201) -> 30 | H201: {=SUMPRODUCT($J$3:$O$3,J201:O201)/SUM(($J$3:$O$3)*(J201:O201<>"."))} -> 92.571377 | I201: {=SUMPRODUCT($J$3:$N$3,J201:N201)/SUM(($J$3:$N$3)*(J201:N201<>"."))} -> 92.343555 | J201: 93.70594 | K201: 93.997297 | L201: 92.397222 | M201: 95.835388 | N201: 90.98117 | O201: 96.9 | Q201: =H201 -> 92.571377 | R201: =IF($D201=R$5,H201,".") -> . | S201: =IF($D201=S$5,H201,".") -> 92.571377
B202: 청 합계 | D202: - | E202: - | F202: - | G202: - | H202: {=SUMPRODUCT($J$3:$O$3,J202:O202)/SUM(($J$3:$O$3)*(J202:O202<>"."))} -> 96.131443 | I202: {=SUMPRODUCT($J$3:$N$3,J202:N202)/SUM(($J$3:$N$3)*(J202:N202<>"."))} -> 96.058712 | J202: 95.354716 | K202: 95.835984 | L202: 94.805441 | M202: 94.580167 | N202: 96.762707 | O202: 97.513333 | Q202: . | R202: =IF($D202=R$5,H202,".") -> . | S202: =IF($D202=S$5,H202,".") -> .
B203: 전북 | C203: 전주 | D203: 4급 | E203: =RANK(H203,$Q$8:$Q$239) -> 190 | F203: =IF(D203="4급",RANK(H203,$R$8:$R$239),IF(D203="5급",RANK(H203,$S$8:$S$239),"-")) -> 100 | G203: =RANK(H203,$H$203:$H$217) -> 15 | H203: {=SUMPRODUCT($J$3:$O$3,J203:O203)/SUM(($J$3:$O$3)*(J203:O203<>"."))} -> 94.40415 | I203: {=SUMPRODUCT($J$3:$N$3,J203:N203)/SUM(($J$3:$N$3)*(J203:N203<>"."))} -> 94.493842 | J203: 92.788456 | K203: 92.821526 | L203: 92.584483 | M203: 93.144318 | N203: 96.199229 | O203: 92.7 | Q203: =H203 -> 94.40415 | R203: =IF($D203=R$5,H203,".") -> 94.40415 | S203: =IF($D203=S$5,H203,".") -> .
C204: 동전주 | D204: 4급 | E204: =RANK(H204,$Q$8:$Q$239) -> 90 | F204: =IF(D204="4급",RANK(H204,$R$8:$R$239),IF(D204="5급",RANK(H204,$S$8:$S$239),"-")) -> 26 | G204: =RANK(H204,$H$203:$H$217) -> 10 | H204: {=SUMPRODUCT($J$3:$O$3,J204:O204)/SUM(($J$3:$O$3)*(J204:O204<>"."))} -> 96.087447 | I204: {=SUMPRODUCT($J$3:$N$3,J204:N204)/SUM(($J$3:$N$3)*(J204:N204<>"."))} -> 95.949944 | J204: 94.045331 | K204: 95.109021 | L204: 93.050521 | M204: 91.405952 | N204: 97.854557 | O204: 98.7 | Q204: =H204 -> 96.087447 | R204: =IF($D204=R$5,H204,".") -> 96.087447 | S204: =IF($D204=S$5,H204,".") -> .
C205: 군산 | D205: 4급 | E205: =RANK(H205,$Q$8:$Q$239) -> 109 | F205: =IF(D205="4급",RANK(H205,$R$8:$R$239),IF(D205="5급",RANK(H205,$S$8:$S$239),"-")) -> 38 | G205: =RANK(H205,$H$203:$H$217) -> 12 | H205: {=SUMPRODUCT($J$3:$O$3,J205:O205)/SUM(($J$3:$O$3)*(J205:O205<>"."))} -> 95.821062 | I205: {=SUMPRODUCT($J$3:$N$3,J205:N205)/SUM(($J$3:$N$3)*(J205:N205<>"."))} -> 95.687961 | J205: 94.91225 | K205: 95.804959 | L205: 94.200841 | M205: 92.919313 | N205: 96.463671 | O205: 98.35 | Q205: =H205 -> 95.821062 | R205: =IF($D205=R$5,H205,".") -> 95.821062 | S205: =IF($D205=S$5,H205,".") -> .
...

Sheet 항목별(창구)
A1: 창구종합 | L1: =SUM(L3:L9) -> 1 | M1: =SUM(M3:M9) -> 1 | N1: =SUM(N3:N9) -> 1
L2: 우편 | M2: 예금 | N2: 보험
A3: 문1: 인사태도 | L3: 0.168 | M3: 0.164 | N3: 0.167
A4: 문2: 고객응대 친절성 | L4: 0.174 | M4: 0.167 | N4: 0.166
A5: 문3: 신속한 업무처리 | L5: 0.147 | M5: 0.146 | N5: 0.152
A6: 문4: 정확한 업무처리 | L6: 0.123 | M6: 0.135 | N6: 0.134
A7: 문5: 안전한 우편물 취급(우편)/이해하기 쉬운설명(금융) | L7: 0.129 | M7: 0.142 | N7: 0.142
A8: 문6: 내부 환경 관리 | L8: 0.136 | M8: 0.128 | N8: 0.123
A9: 문7: 신청서류 및 필기도구 구비 | L9: 0.123 | M9: 0.118 | N9: 0.116
A11: 구분 | B11: 총괄국 | C11: 창구 종합 | L11: 우편 | U11: 예금 | AD11: 보험
C12: 사례수 | D12: CSI | E12: 직원 | J12: 환경 | L12: 사례수 | M12: CSI | N12: 직원 | S12: 환경 | U12: 사례수 | V12: CSI | W12: 직원 | AB12: 환경 | AD12: 사례수 | AE12: CSI | AF12: 직원 | AK12: 환경
E13: 문1 | F13: 문2 | G13: 문3 | H13: 문4 | I13: 문5 | J13: 문6 | K13: 문7 | N13: 문1 | O13: 문2 | P13: 문3 | Q13: 문4 | R13: 문5 | S13: 문6 | T13: 문7 | W13: 문1 | X13: 문2 | Y13: 문3 | Z13: 문4 | AA13: 문5 | AB13: 문6 | AC13: 문7 | AF13: 문1 | AG13: 문2 | AH13: 문3 | AI13: 문4 | AJ13: 문5 | AK13: 문6 | AL13: 문7
A14: 전체 | C14: (32181) | D14: 94.954015 | E14: 93.315155 | F14: 94.326621 | G14: 95.613095 | H14: 96.955407 | I14: 95.92432 | J14: 93.359059 | K14: 95.983163 | L14: (18415) | M14: 95.384456 | N14: 93.702145 | O14: 94.645669 | P14: 96.206897 | Q14: 97.533261 | R14: 96.936495 | S14: 93.410884 | T14: 96.207451 | U14: (9764) | V14: 94.368801 | W14: 92.761676 | X14: 93.895944 | Y14: 94.669193 | Z14: 96.146164 | AA14: 94.517025 | AB14: 93.396516 | AC14: 95.852308 | AD14: (4002) | AE14: 94.401153 | AF14: 92.884808 | AG14: 93.909295 | AH14: 95.183658 | AI14: 96.270615 | AJ14: 94.699248 | AK14: 93.029507 | AL14: 95.263956
A15: 청 합계 | C15: (3753) | D15: 93.259912 | E15: 91.100453 | F15: 92.632561 | G15: 94.491074 | H15: 96.149747 | I15: 94.724462 | J15: 90.270739 | K15: 94.430261 | L15: (2330) | M15: 93.652151 | N15: 91.416309 | O15: 92.76824 | P15: 95.139485 | Q15: 96.856223 | R15: 95.744911 | S15: 90.298668 | T15: 94.579741 | U15: (1012) | V15: 92.509408 | W15: 90.662055 | X15: 92.243083 | Y15: 93.354743 | Z15: 94.664032 | AA15: 92.878486 | AB15: 89.970356 | AC15: 94.399596 | AD15: (411) | AE15: 92.884226 | AF15: 90.389294 | AG15: 92.822384 | AH15: 93.613139 | AI15: 95.80292 | AJ15: 93.488943 | AK15: 90.853659 | AL15: 93.658537
A16: 서울 | B16: 서울중앙 | C16: (160) | D16: 93.716094 | E16: 92.8125 | F16: 93.75 | G16: 94.0625 | H16: 96.5625 | I16: 94.6875 | J16: 90.625 | K16: 93.867925 | L16: (92) | M16: 93.409239 | N16: 92.119565 | O16: 92.934783 | P16: 94.565217 | Q16: 96.467391 | R16: 95.108696 | S16: 89.673913 | T16: 93.681319 | U16: (48) | V16: 94.984896 | W16: 95.3125 | X16: 95.833333 | Y16: 94.791667 | Z16: 96.354167 | AA16: 94.791667 | AB16: 91.666667 | AC16: 95.833333 | AD16: (20) | AE16: 92.0825 | AF16: 90 | AG16: 92.5 | AH16: 90 | AI16: 97.5 | AJ16: 92.5 | AK16: 92.5 | AL16: 90
B17: 광화문 | C17: (189) | D17: 92.750248 | E17: 91.402116 | F17: 92.460317 | G17: 94.708995 | H17: 96.164021 | I17: 92.952128 | J17: 88.492063 | K17: 93.75 | L17: (113) | M17: 94.097879 | N17: 92.699115 | O17: 93.584071 | P17: 96.460177 | Q17: 98.00885 | R17: 95.3125 | S17: 88.495575 | T17: 95.132743 | U17: (55) | V17: 90.79794 | W17: 89.545455 | X17: 90.909091 | Y17: 90.454545 | Z17: 92.727273 | AA17: 90 | AB17: 90 | AC17: 92.592593 | AD17: (21) | AE17: 90.611905 | AF17: 89.285714 | AG17: 90.47619 | AH17: 96.428571 | AI17: 95.238095 | AJ17: 88.095238 | AK17: 84.52381 | AL17: 89.285714
B18: 서대문 | C18: (145) | D18: 93.651208 | E18: 91.37931 | F18: 93.448276 | G18: 94.655172 | H18: 96.206897 | I18: 94.71831 | J18: 92.708333 | K18: 93.923611 | L18: (97) | M18: 93.987631 | N18: 91.494845 | O18: 93.814433 | P18: 95.876289 | Q18: 96.391753 | R18: 96.010638 | S18: 92.1875 | T18: 94.010417 | U18: (34) | V18: 91.9875 | W18: 89.705882 | X18: 91.176471 | Y18: 91.911765 | Z18: 96.323529 | AA18: 90.441176 | AB18: 91.911765 | AC18: 93.382353 | AD18: (14) | AE18: 95.360714 | AF18: 94.642857 | AG18: 96.428571 | AH18: 92.857143 | AI18: 94.642857 | AJ18: 96.428571 | AK18: 98.214286 | AL18: 94.642857
B19: 동대문 | C19: (158) | D19: 92.538227 | E19: 90.822785 | F19: 91.772152 | G19: 93.512658 | H19: 95.886076 | I19: 95.192308 | J19: 88.853503 | K19: 92.419355 | L19: (89) | M19: 92.470506 | N19: 90.730337 | O19: 91.292135 | P19: 93.820225 | Q19: 95.505618 | R19: 96.629213 | S19: 88.920455 | T19: 91.37931 | U19: (49) | V19: 92.44214 | W19: 91.326531 | X19: 92.346939 | Y19: 93.367347 | Z19: 95.918367 | AA19: 93.229167 | AB19: 87.244898 | AC19: 93.75 | AD19: (20) | AE19: 93.075 | AF19: 90 | AG19: 92.5 | AH19: 92.5 | AI19: 97.5 | AJ19: 93.421053 | AK19: 92.5 | AL19: 93.75
B20: 서울광진 | C20: (205) | D20: 94.103709 | E20: 92.073171 | F20: 93.658537 | G20: 95.121951 | H20: 96.95122 | I20: 95.689655 | J20: 91.097561 | K20: 95.073892 | L20: (125) | M20: 94.140882 | N20: 92.2 | O20: 93.6 | P20: 95.6 | Q20: 97.8 | R20: 95.528455 | S20: 90.4 | T20: 95.16129 | U20: (58) | V20: 93.606466 | W20: 90.948276 | X20: 92.672414 | Y20: 94.396552 | Z20: 94.827586 | AA20: 95.689655 | AB20: 91.810345 | AC20: 95.614035 | AD20: (22) | AE20: 95.203409 | AF20: 94.318182 | AG20: 96.590909 | AH20: 94.318182 | AI20: 97.727273 | AJ20: 96.590909 | AK20: 93.181818 | AL20: 93.181818
B21: 서울마포 | C21: (168) | D21: 92.593847 | E21: 91.220238 | F21: 92.708333 | G21: 94.494048 | H21: 95.535714 | I21: 94.461078 | J21: 86.607143 | K21: 93.674699 | L21: (105) | M21: 93.129524 | N21: 90.952381 | O21: 92.619048 | P21: 95.952381 | Q21: 97.142857 | R21: 95.432692 | S21: 87.380952 | T21: 93.333333 | U21: (46) | V21: 91.709594 | W21: 92.391304 | X21: 93.478261 | Y21: 92.391304 | Z21: 92.934783 | AA21: 92.934783 | AB21: 83.152174 | AC21: 94.318182 | AD21: (17) | AE21: 91.677941 | AF21: 89.705882 | AG21: 91.176471 | AH21: 91.176471 | AI21: 92.647059 | AJ21: 92.647059 | AK21: 91.176471 | AL21: 94.117647
B22: 서울도봉 | C22: (193) | D22: 94.516155 | E22: 92.61658 | F22: 93.65285 | G22: 95.984456 | H22: 97.279793 | I22: 94.401042 | J22: 92.357513 | K22: 96.09375 | L22: (113) | M22: 95.532743 | N22: 94.247788 | O22: 94.911504 | P22: 96.460177 | Q22: 97.787611 | R22: 95.758929 | S22: 93.584071 | T22: 96.681416 | U22: (57) | V22: 93.919174 | W22: 90.789474 | X22: 92.105263 | Y22: 96.491228 | Z22: 97.368421 | AA22: 92.982456 | AB22: 92.54386 | AC22: 96.428571 | AD22: (23) | AE22: 91.001087 | AF22: 89.130435 | AG22: 91.304348 | AH22: 92.391304 | AI22: 94.565217 | AJ22: 91.304348 | AK22: 85.869565 | AL22: 92.391304
B23: 서울관악 | C23: (146) | D23: 93.323609 | E23: 91.952055 | F23: 93.493151 | G23: 94.349315 | H23: 95.205479 | I23: 94.178082 | J23: 90.753425 | K23: 93.965517 | L23: (91) | M23: 93.493956 | N23: 92.582418 | O23: 93.131868 | P23: 94.78022 | Q23: 95.604396 | R23: 95.604396 | S23: 90.10989 | T23: 93.131868 | U23: (38) | V23: 93.328865 | W23: 92.763158 | X23: 94.736842 | Y23: 94.078947 | Z23: 94.078947 | AA23: 91.447368 | AB23: 91.447368 | AC23: 95.27027 | AD23: (17) | AE23: 92.4 | AF23: 86.764706 | AG23: 92.647059 | AH23: 92.647059 | AI23: 95.588235 | AJ23: 92.647059 | AK23: 92.647059 | AL23: 95.588235
B24: 여의도 | C24: (196) | D24: 92.939884 | E24: 90.561224 | F24: 92.47449 | G24: 94.897959 | H24: 96.811224 | I24: 95 | J24: 88.903061 | K24: 92.564103 | L24: (121) | M24: 92.640083 | N24: 89.669421 | O24: 91.528926 | P24: 94.421488 | Q24: 96.487603 | R24: 95.867769 | S24: 90.082645 | T24: 91.735537 | U24: (54) | V24: 94.058653 | W24: 92.592593 | X24: 94.444444 | Y24: 95.833333 | Z24: 97.685185 | AA24: 94.811321 | AB24: 88.425926 | AC24: 94.339623 | AD24: (21) | AE24: 91.790476 | AF24: 90.47619 | AG24: 92.857143 | AH24: 95.238095 | AI24: 96.428571 | AJ24: 90.47619 | AK24: 83.333333 | AL24: 92.857143
B25: 서울강남 | C25: (261) | D25: 93.518954 | E25: 91.283525 | F25: 93.869732 | G25: 94.731801 | H25: 95.881226 | I25: 95.019157 | J25: 89.903846 | K25: 94.573643 | L25: (181) | M25: 93.939227 | N25: 91.298343 | O25: 93.78453 | P25: 95.856354 | Q25: 97.099448 | R25: 96.132597 | S25: 89.722222 | T25: 94.583333 | U25: (56) | V25: 92.826284 | W25: 91.071429 | X25: 94.642857 | Y25: 92.857143 | Z25: 92.857143 | AA25: 92.410714 | AB25: 91.071429 | AC25: 94.907407 | AD25: (24) | AE25: 91.965625 | AF25: 91.666667 | AG25: 92.708333 | AH25: 90.625 | AI25: 93.75 | AJ25: 92.708333 | AK25: 88.541667 | AL25: 93.75
B26: 서울은평 | C26: (137) | D26: 92.606671 | E26: 89.963504 | F26: 91.240876 | G26: 93.430657 | H26: 94.160584 | I26: 93.198529 | J26: 93.613139 | K26: 93.978102 | L26: (81) | M26: 93.620988 | N26: 90.432099 | O26: 91.666667 | P26: 94.135802 | Q26: 95.37037 | R26: 95.061728 | S26: 94.135802 | T26: 96.296296 | U26: (40) | V26: 90.670973 | W26: 88.75 | X26: 90.625 | Y26: 91.25 | Z26: 91.875 | AA26: 90.384615 | AB26: 93.125 | AC26: 89.375 | AD26: (16) | AE26: 92.310937 | AF26: 90.625 | AG26: 90.625 | AH26: 95.3125 | AI26: 93.75 | AJ26: 90.625 | AK26: 92.1875 | AL26: 93.75
B27: 서울금천 | C27: (196) | D27: 92.149745 | E27: 89.158163 | F27: 90.943878 | G27: 93.75 | H27: 95.280612 | I27: 93.877551 | J27: 89.668367 | K27: 93.75 | L27: (121) | M27: 92.887603 | N27: 89.669421 | O27: 90.909091 | P27: 94.628099 | Q27: 96.900826 | R27: 95.867769 | S27: 89.669421 | T27: 94.421488 | U27: (53) | V27: 90.039623 | W27: 88.679245 | X27: 90.09434 | Y27: 90.566038 | Z27: 91.981132 | AA27: 89.622642 | AB27: 87.735849 | AC27: 91.981132 | AD27: (22) | AE27: 93.175 | AF27: 87.5 | AG27: 93.181818 | AH27: 96.590909 | AI27: 94.318182 | AJ27: 93.181818 | AK27: 94.318182 | AL27: 94.318182
B28: 서울성북 | C28: (158) | D28: 93.605248 | E28: 91.613924 | F28: 92.721519 | G28: 95.094937 | H28: 96.835443 | I28: 94.551282 | J28: 90.189873 | K28: 95.322581 | L28: (101) | M28: 92.06184 | N28: 88.613861 | O28: 90.841584 | P28: 94.059406 | Q28: 96.287129 | R28: 94 | S28: 87.871287 | T28: 94.5 | U28: (42) | V28: 96.474409 | W28: 97.02381 | X28: 96.428571 | Y28: 97.02381 | Z28: 97.619048 | AA28: 94.642857 | AB28: 95.238095 | AC28: 97.5 | AD28: (15) | AE28: 95.963881 | AF28: 96.666667 | AG28: 95 | AH28: 96.666667 | AI28: 98.333333 | AJ28: 98.214286 | AK28: 91.666667 | AL28: 95
... B37: 서울중랑 | C37: (126) | D37: 91.777251 | E37: 87.896825 | F37: 88.492063 | G37: 92.65873 | H37: 95.436508 | I37: 93.902439 | J37: 90.873016 | K37: 95.634921 | L37: (69) | M37: 93.625 | N37: 88.768116 | O37: 89.855072 | P37: 95.652174 | Q37: 97.463768 | R37: 95.955882 | S37: 92.391304 | T37: 98.188406 | U37: (40) | V37: 88.88 | W37: 86.25 | X37: 86.25 | Y37: 88.125 | Z37: 91.25 | AA37: 91.25 | AB37: 87.5 | AC37: 93.125 | AD37: (17) | AE37: 91.094622 | AF37: 88.235294 | AG37: 88.235294 | AH37: 91.176471 | AI37: 97.058824 | AJ37: 91.666667 | AK37: 92.647059 | AL37: 91.176471
A38: 청 합계 | C38: (5631) | D38: 94.115787 | E38: 92.132836 | F38: 93.44699 | G38: 95.182916 | H38: 96.638544 | I38: 95.299679 | J38: 91.746667 | K38: 95.251346 | L38: (3211) | M38: 94.375983 | N38: 92.144192 | O38: 93.561196 | P38: 95.826845 | Q38: 97.243849 | R38: 96.228482 | S38: 91.474259 | T38: 95.297806 | U38: (1693) | V38: 93.872049 | W38: 92.070289 | X38: 93.443591 | Y38: 94.122859 | Z38: 95.818558 | AA38: 94.205691 | AB38: 92.587123 | AC38: 95.580277 | AD38: (727) | AE38: 93.534164 | AF38: 92.228336 | AG38: 92.950481 | AH38: 94.807428 | AI38: 95.873453 | AJ38: 93.75 | AK38: 90.990371 | AL38: 94.281729
A39: 경인 | B39: 인천 | C39: (221) | D39: 94.711975 | E39: 92.760181 | F39: 94.230769 | G39: 96.153846 | H39: 96.832579 | I39: 95.909091 | J39: 92.19457 | K39: 95.568182 | L39: (122) | M39: 94.696897 | N39: 92.008197 | O39: 94.467213 | P39: 96.106557 | Q39: 97.131148 | R39: 96.900826 | S39: 91.598361 | T39: 95.696721 | U39: (74) | V39: 94.831081 | W39: 93.581081 | X39: 94.932432 | Y39: 96.283784 | Z39: 96.283784 | AA39: 94.932432 | AB39: 92.905405 | AC39: 94.932432 | AD39: (25) | AE39: 94.433 | AF39: 94 | AG39: 91 | AH39: 96 | AI39: 97 | AJ39: 94 | AK39: 93 | AL39: 96.875
B40: 서인천 | C40: (137) | D40: 94.699427 | E40: 92.883212 | F40: 94.525547 | G40: 95.985401 | H40: 97.080292 | I40: 96.507353 | J40: 91.240876 | K40: 95.437956 | L40: (77) | M40: 93.530798 | N40: 91.233766 | O40: 92.857143 | P40: 94.805195 | Q40: 96.103896 | R40: 96.710526 | S40: 90.25974 | T40: 94.155844 | U40: (42) | V40: 96.708929 | W40: 96.428571 | X40: 97.02381 | Y40: 97.619048 | Z40: 97.619048 | AA40: 97.619048 | AB40: 92.261905 | AC40: 98.214286 | AD40: (18) | AE40: 95.009722 | AF40: 91.666667 | AG40: 95.833333 | AH40: 97.222222 | AI40: 100 | AJ40: 93.055556 | AK40: 93.055556 | AL40: 94.444444
B41: 부평 | C41: (162) | D41: 93.075775 | E41: 90.58642 | F41: 91.049383 | G41: 92.283951 | H41: 95.987654 | I41: 93.364198 | J41: 93.82716 | K41: 96.540881 | L41: (89) | M41: 94.276341 | N41: 92.696629 | O41: 92.41573 | P41: 94.382022 | Q41: 96.910112 | R41: 95.505618 | S41: 93.539326 | T41: 96.022727 | U41: (52) | V41: 91.301081 | W41: 87.980769 | X41: 89.423077 | Y41: 87.980769 | Z41: 94.230769 | AA41: 90.384615 | AB41: 94.230769 | AC41: 98.039216 | AD41: (21) | AE41: 92.382143 | AF41: 88.095238 | AG41: 89.285714 | AH41: 94.047619 | AI41: 96.428571 | AJ41: 91.666667 | AK41: 94.047619 | AL41: 95
B42: 인천계양 | C42: (106) | D42: 95.376151 | E42: 92.45283 | F42: 93.867925 | G42: 97.169811 | H42: 97.641509 | I42: 96.933962 | J42: 93.809524 | K42: 97.087379 | L42: (57) | M42: 94.676676 | N42: 89.912281 | O42: 92.54386 | P42: 96.491228 | Q42: 96.929825 | R42: 96.929825 | S42: 95.982143 | T42: 96.428571 | U42: (34) | V42: 97.643426 | W42: 97.058824 | X42: 98.529412 | Y42: 98.529412 | Z42: 99.264706 | AA42: 99.264706 | AB42: 93.382353 | AC42: 96.875 | AD42: (15) | AE42: 92.895 | AF42: 91.666667 | AG42: 88.333333 | AH42: 96.666667 | AI42: 96.666667 | AJ42: 91.666667 | AK42: 86.666667 | AL42: 100
B43: 남인천 | C43: (135) | D43: 94.615328 | E43: 92.222222 | F43: 93.333333 | G43: 96.111111 | H43: 97.962963 | I43: 97.38806 | J43: 91.111111 | K43: 95.643939 | L43: (85) | M43: 94.407811 | N43: 91.764706 | O43: 92.352941 | P43: 96.470588 | Q43: 98.529412 | R43: 97.619048 | S43: 90.588235 | T43: 95.535714 | U43: (34) | V43: 94.358088 | W43: 91.911765 | X43: 94.117647 | Y43: 94.852941 | Z43: 96.323529 | AA43: 96.323529 | AB43: 91.176471 | AC43: 96.969697 | AD43: (16) | AE43: 96.264402 | AF43: 95.3125 | AG43: 96.875 | AH43: 96.875 | AI43: 98.4375 | AJ43: 98.4375 | AK43: 93.75 | AL43: 93.333333
B44: 의정부 | C44: (164) | D44: 93.308736 | E44: 90.396341 | F44: 91.615854 | G44: 94.969512 | H44: 96.341463 | I44: 94.785276 | J44: 91.006098 | K44: 95.652174 | L44: (89) | M44: 93.641643 | N44: 89.606742 | O44: 91.011236 | P44: 96.067416 | Q44: 97.47191 | R44: 95.505618 | S44: 92.41573 | T44: 95.738636 | U44: (53) | V44: 93.207102 | W44: 91.981132 | X44: 92.45283 | Y44: 93.396226 | Z44: 94.339623 | AA44: 94.230769 | AB44: 91.037736 | AC44: 96.078431 | AD44: (22) | AE44: 92.206818 | AF44: 89.772727 | AG44: 92.045455 | AH44: 94.318182 | AI44: 96.590909 | AJ44: 93.181818 | AK44: 85.227273 | AL44: 94.318182
B45: 수원 | C45: (150) | D45: 94.037484 | E45: 91.166667 | F45: 93.5 | G45: 95.666667 | H45: 97.333333 | I45: 94.256757 | J45: 92.333333 | K45: 95.238095 | L45: (85) | M45: 94.160421 | N45: 90.882353 | O45: 93.235294 | P45: 96.470588 | Q45: 97.941176 | R45: 95.238095 | S45: 91.470588 | T45: 95.783133 | U45: (46) | V45: 93.240473 | W45: 89.673913 | X45: 92.934783 | Y45: 93.478261 | Z45: 96.195652 | AA45: 92.777778 | AB45: 94.021739 | AC45: 94.444444 | AD45: (19) | AE45: 95.417105 | AF45: 96.052632 | AG45: 96.052632 | AH45: 97.368421 | AI45: 97.368421 | AJ45: 93.421053 | AK45: 92.105263 | AL45: 94.736842
B46: 동수원 | C46: (140) | D46: 96.108334 | E46: 94.464286 | F46: 96.428571 | G46: 97.857143 | H46: 98.214286 | I46: 97.122302 | J46: 92.142857 | K46: 96.73913 | L46: (81) | M46: 95.963534 | N46: 94.444444 | O46: 96.296296 | P46: 98.148148 | Q46: 98.148148 | R46: 96.604938 | S46: 91.975309 | T46: 96.5625 | U46: (41) | V46: 97.146229 | W46: 95.121951 | X46: 96.95122 | Y46: 98.170732 | Z46: 98.780488 | AA46: 98.125 | AB46: 95.121951 | AC46: 98.170732 | AD46: (18) | AE46: 94.395833 | AF46: 93.055556 | AG46: 95.833333 | AH46: 95.833333 | AI46: 97.222222 | AJ46: 97.222222 | AK46: 86.111111 | AL46: 94.117647
B47: 서수원 | C47: (101) | D47: 95.463614 | E47: 93.069307 | F47: 94.554455 | G47: 96.534653 | H47: 96.782178 | I47: 96.287129 | J47: 95.29703 | K47: 96.75 | L47: (57) | M47: 95.557895 | N47: 92.105263 | O47: 93.859649 | P47: 96.052632 | Q47: 97.807018 | R47: 97.807018 | S47: 96.052632 | T47: 96.929825 | U47: (30) | V47: 95.683333 | W47: 94.166667 | X47: 95.833333 | Y47: 98.333333 | Z47: 95.833333 | AA47: 95 | AB47: 93.333333 | AC47: 97.413793 | AD47: (14) | AE47: 94.608929 | AF47: 94.642857 | AG47: 94.642857 | AH47: 94.642857 | AI47: 94.642857 | AJ47: 92.857143 | AK47: 96.428571 | AL47: 94.642857
B48: 군포 | C48: (140) | D48: 94.200167 | E48: 92.678571 | F48: 92.5 | G48: 95.535714 | H48: 96.785714 | I48: 95.535714 | J48: 92.142857 | K48: 95.404412 | L48: (85) | M48: 95.299706 | N48: 93.529412 | O48: 92.352941 | P48: 97.058824 | Q48: 98.823529 | R48: 98.235294 | S48: 92.058824 | T48: 96.72619 | U48: (37) | V48: 91.337795 | W48: 89.864865 | X48: 91.891892 | Y48: 91.216216 | Z48: 92.567568 | AA48: 89.864865 | AB48: 91.216216 | AC48: 93.571429 | AD48: (18) | AE48: 94.891667 | AF48: 94.444444 | AG48: 94.444444 | AH48: 97.222222 | AI48: 95.833333 | AJ48: 94.444444 | AK48: 94.444444 | AL48: 92.647059
B49: 안양 | C49: (173) | D49: 94.412099 | E49: 91.907514 | F49: 93.930636 | G49: 96.098266 | H49: 96.965318 | I49: 95.588235 | J49: 91.27907 | K49: 96.029412 | L49: (113) | M49: 93.949422 | N49: 90.929204 | O49: 93.584071 | P49: 95.353982 | Q49: 97.123894 | R49: 95.79646 | S49: 89.508929 | T49: 96.681416 | U49: (41) | V49: 95.214634 | W49: 94.512195 | X49: 94.512195 | Y49: 97.560976 | Z49: 95.731707 | AA49: 95 | AB49: 95.121951 | AC49: 93.421053 | AD49: (19) | AE49: 95.432018 | AF49: 92.105263 | AG49: 94.736842 | AH49: 97.368421 | AI49: 98.684211 | AJ49: 95.588235 | AK49: 93.421053 | AL49: 97.368421
B50: 성남 | C50: (168) | D50: 93.51701 | E50: 91.666667 | F50: 93.75 | G50: 93.60119 | H50: 96.279762 | I50: 95.386905 | J50: 89.97006 | K50: 94.610778 | L50: (105) | M50: 93.646264 | N50: 91.190476 | O50: 93.333333 | P50: 95.238095 | Q50: 97.142857 | R50: 95.952381 | S50: 89.182692 | T50: 94.471154 | U50: (43) | V50: 93 | W50: 91.27907 | X50: 93.604651 | Y50: 89.534884 | Z50: 94.767442 | AA50: 94.186047 | AB50: 93.023256 | AC50: 95.348837 | AD50: (20) | AE50: 93.95 | AF50: 95 | AG50: 96.25 | AH50: 93.75 | AI50: 95 | AJ50: 95 | AK50: 87.5 | AL50: 93.75
B51: 성남분당 | C51: (145) | D51: 92.865517 | E51: 90.172414 | F51: 92.241379 | G51: 95 | H51: 97.068966 | I51: 94.270833 | J51: 88.275862 | K51: 93.881119 | L51: (85) | M51: 93.896471 | N51: 91.470588 | O51: 92.941176 | P51: 96.470588 | Q51: 98.235294 | R51: 96.428571 | S51: 88.235294 | T51: 94.642857 | U51: (41) | V51: 91.10061 | W51: 87.804878 | X51: 90.853659 | Y51: 92.682927 | Z51: 95.121951 | AA51: 90.853659 | AB51: 88.414634 | AC51: 92.5 | AD51: (19) | AE51: 92.061842 | AF51: 89.473684 | AG51: 92.105263 | AH51: 93.421053 | AI51: 96.052632 | AJ51: 92.105263 | AK51: 88.157895 | AL51: 93.421053
... B79: 인천남동 | C79: (129) | D79: 95.053862 | E79: 93.217054 | F79: 95.348837 | G79: 96.317829 | H79: 96.317829 | I79: 96.124031 | J79: 92.248062 | K79: 96.456693 | L79: (77) | M79: 95.202573 | N79: 93.181818 | O79: 95.779221 | P79: 97.402597 | Q79: 96.428571 | R79: 96.753247 | S79: 91.233766 | T79: 96.052632 | U79: (35) | V79: 94.772143 | W79: 94.285714 | X79: 95 | Y79: 95 | Z79: 95.714286 | AA79: 94.285714 | AB79: 92.857143 | AC79: 97.058824 | AD79: (17) | AE79: 94.960294 | AF79: 91.176471 | AG79: 94.117647 | AH79: 94.117647 | AI79: 97.058824 | AJ79: 97.058824 | AK79: 95.588235 | AL79: 97.058824
A80: 청 합계 | C80: (5639) | D80: 95.01814 | E80: 93.145948 | F80: 94.272034 | G80: 95.841461 | H80: 97.029615 | I80: 95.961573 | J80: 93.402099 | K80: 96.329294 | L80: (3246) | M80: 95.638151 | N80: 93.838571 | O80: 94.793592 | P80: 96.557301 | Q80: 97.67406 | R80: 97.117465 | S80: 93.606988 | T80: 96.855686 | U80: (1688) | V80: 94.098339 | W80: 92.046801 | X80: 93.350118 | Y80: 94.771919 | Z80: 96.134479 | AA80: 94.292509 | AB80: 93.145401 | AC80: 95.709178 | AD80: (705) | AE80: 94.365751 | AF80: 92.588652 | AG80: 94.078014 | AH80: 95.106383 | AI80: 96.205674 | AJ80: 94.637784 | AK80: 93.075284 | AL80: 95.379656
A81: 부산 | B81: 부산 | C81: (142) | D81: 93.538472 | E81: 90.84507 | F81: 92.429577 | G81: 94.894366 | H81: 96.830986 | I81: 95.035461 | J81: 90.602837 | K81: 95.390071 | L81: (81) | M81: 94.181857 | N81: 91.358025 | O81: 92.592593 | P81: 95.987654 | Q81: 97.839506 | R81: 95.9375 | S81: 91.25 | T81: 95.987654 | U81: (43) | V81: 92.847674 | W81: 92.44186 | X81: 92.44186 | Y81: 93.023256 | Z81: 94.767442 | AA81: 94.186047 | AB81: 88.953488 | AC81: 94.186047 | AD81: (18) | AE81: 92.293477 | AF81: 84.722222 | AG81: 91.666667 | AH81: 94.444444 | AI81: 97.222222 | AJ81: 93.055556 | AK81: 91.666667 | AL81: 95.588235
B82: 동래 | C82: (146) | D82: 94.764897 | E82: 92.636986 | F82: 93.150685 | G82: 95.890411 | H82: 97.431507 | I82: 95.547945 | J82: 93.448276 | K82: 96.40411 | L82: (89) | M82: 94.690449 | N82: 92.696629 | O82: 93.258427 | P82: 96.067416 | Q82: 97.752809 | R82: 95.786517 | S82: 92.613636 | T82: 95.786517 | U82: (40) | V82: 94.97 | W82: 92.5 | X82: 92.5 | Y82: 95.625 | Z82: 97.5 | AA82: 95 | AB82: 95 | AC82: 98.125 | AD82: (17) | AE82: 94.672059 | AF82: 92.647059 | AG82: 94.117647 | AH82: 95.588235 | AI82: 95.588235 | AJ82: 95.588235 | AK82: 94.117647 | AL82: 95.588235
B83: 남부산 | C83: (190) | D83: 94.130484 | E83: 92.236842 | F83: 93.552632 | G83: 94.078947 | H83: 96.052632 | I83: 94.84127 | J83: 93.253968 | K83: 95.767196 | L83: (117) | M83: 94.440598 | N83: 92.521368 | O83: 94.017094 | P83: 93.589744 | Q83: 96.581197 | R83: 96.12069 | S83: 93.162393 | T83: 96.12069 | U83: (52) | V83: 92.423884 | W83: 90.384615 | X83: 91.346154 | Y83: 93.75 | Z83: 93.75 | AA83: 90.384615 | AB83: 93.627451 | AC83: 94.711538 | AD83: (21) | AE83: 96.628571 | AF83: 95.238095 | AG83: 96.428571 | AH83: 97.619048 | AI83: 98.809524 | AJ83: 98.809524 | AK83: 92.857143 | AL83: 96.428571
B84: 부산사상 | C84: (154) | D84: 93.173701 | E84: 91.883117 | F84: 93.344156 | G84: 94.642857 | H84: 95.12987 | I84: 93.137255 | J84: 90.097403 | K84: 94.243421 | L84: (97) | M84: 94.521134 | N84: 93.298969 | O84: 94.587629 | P84: 96.134021 | Q84: 96.391753 | R84: 95.360825 | S84: 90.721649 | T84: 95.572917 | U84: (40) | V84: 91.481875 | W84: 89.375 | X84: 92.5 | Y84: 93.125 | Z84: 93.125 | AA84: 89.74359 | AB84: 89.375 | AC84: 92.948718 | AD84: (17) | AE84: 89.466176 | AF84: 89.705882 | AG84: 88.235294 | AH84: 89.705882 | AI84: 92.647059 | AJ84: 88.235294 | AK84: 88.235294 | AL84: 89.705882
B85: 부산금정 | C85: (140) | D85: 93.825021 | E85: 90.535714 | F85: 92.321429 | G85: 95 | H85: 96.607143 | I85: 95.863309 | J85: 92.5 | K85: 95.357143 | L85: (89) | M85: 94.725314 | N85: 92.134831 | O85: 93.258427 | P85: 95.786517 | Q85: 97.191011 | R85: 97.159091 | S85: 92.41573 | T85: 96.629213 | U85: (37) | V85: 91.892568 | W85: 86.486486 | X85: 91.216216 | Y85: 93.243243 | Z85: 94.594595 | AA85: 93.243243 | AB85: 92.567568 | AC85: 93.243243 | AD85: (14) | AE85: 93.208929 | AF85: 91.071429 | AG85: 89.285714 | AH85: 94.642857 | AI85: 98.214286 | AJ85: 94.642857 | AK85: 92.857143 | AL85: 92.857143
B86: 부산사하 | C86: (158) | D86: 94.520441 | E86: 92.879747 | F86: 93.512658 | G86: 94.778481 | H86: 96.993671 | I86: 96.677215 | J86: 92.515924 | K86: 95.352564 | L86: (93) | M86: 94.69711 | N86: 91.666667 | O86: 93.27957 | P86: 95.16129 | Q86: 97.849462 | R86: 97.311828 | S86: 94.021739 | T86: 95.430108 | U86: (46) | V86: 95.172247 | W86: 95.108696 | X86: 94.021739 | Y86: 95.108696 | Z86: 97.826087 | AA86: 96.73913 | AB86: 90.76087 | AC86: 97.159091 | AD86: (19) | AE86: 92.077632 | AF86: 93.421053 | AG86: 93.421053 | AH86: 92.105263 | AI86: 90.789474 | AJ86: 93.421053 | AK86: 89.473684 | AL86: 90.789474
B87: 해운대 | C87: (206) | D87: 94.072048 | E87: 91.747573 | F87: 93.082524 | G87: 95.38835 | H87: 96.480583 | I87: 94.146341 | J87: 92.682927 | K87: 95.995146 | L87: (117) | M87: 94.518162 | N87: 92.094017 | O87: 92.948718 | P87: 95.726496 | Q87: 97.222222 | R87: 95.299145 | S87: 93.103448 | T87: 96.581197 | U87: (64) | V87: 93.25456 | W87: 91.40625 | X87: 92.96875 | Y87: 93.75 | Z87: 95.3125 | AA87: 92.857143 | AB87: 92.1875 | AC87: 94.921875 | AD87: (25) | AE87: 94.077 | AF87: 91 | AG87: 94 | AH87: 98 | AI87: 96 | AJ87: 92 | AK87: 92 | AL87: 96
B88: 북부산 | C88: (146) | D88: 92.95839 | E88: 89.89726 | F88: 91.438356 | G88: 93.664384 | H88: 96.232877 | I88: 94.270833 | J88: 91.896552 | K88: 94.655172 | L88: (85) | M88: 93.589118 | N88: 90 | O88: 92.647059 | P88: 94.411765 | Q88: 97.058824 | R88: 96.084337 | S88: 91.369048 | T88: 95 | U88: (43) | V88: 91.637791 | W88: 88.953488 | X88: 88.953488 | Y88: 91.860465 | Z88: 95.348837 | AA88: 91.860465 | AB88: 91.27907 | AC88: 94.767442 | AD88: (18) | AE88: 93.134722 | AF88: 91.666667 | AG88: 91.666667 | AH88: 94.444444 | AI88: 94.444444 | AJ88: 91.666667 | AK88: 95.833333 | AL88: 92.647059
B89: 부산연제 | C89: (146) | D89: 95.317808 | E89: 93.493151 | F89: 95.034247 | G89: 96.40411 | H89: 97.089041 | I89: 96.232877 | J89: 92.808219 | K89: 96.896552 | L89: (89) | M89: 95.665169 | N89: 93.258427 | O89: 95.505618 | P89: 97.47191 | Q89: 97.47191 | R89: 97.47191 | S89: 92.41573 | T89: 96.875 | U89: (40) | V89: 95.176875 | W89: 95 | X89: 95.625 | Y89: 95.625 | Z89: 96.25 | AA89: 94.375 | AB89: 92.5 | AC89: 96.875 | AD89: (17) | AE89: 93.830882 | AF89: 91.176471 | AG89: 91.176471 | AH89: 92.647059 | AI89: 97.058824 | AJ89: 94.117647 | AK89: 95.588235 | AL89: 97.058824
B90: 부산진 | C90: (190) | D90: 93.892294 | E90: 91.578947 | F90: 92.763158 | G90: 95.394737 | H90: 96.315789 | I90: 95.131579 | J90: 91.402116 | K90: 95.899471 | L90: (113) | M90: 95.212611 | N90: 92.256637 | O90: 94.026549 | P90: 97.123894 | Q90: 97.566372 | R90: 97.345133 | S90: 91.964286 | T90: 97.566372 | U90: (55) | V90: 90.979743 | W90: 90 | X90: 89.545455 | Y90: 91.818182 | Z90: 93.636364 | AA90: 90.909091 | AB90: 90.454545 | AC90: 91.666667 | AD90: (22) | AE90: 94.392045 | AF90: 92.045455 | AG90: 94.318182 | AH90: 95.454545 | AI90: 96.590909 | AJ90: 94.318182 | AK90: 90.909091 | AL90: 97.727273
B91: 울산 | C91: (213) | D91: 95.205282 | E91: 93.192488 | F91: 94.953052 | G91: 96.478873 | H91: 97.300469 | I91: 95.872642 | J91: 93.160377 | K91: 96.108491 | L91: (129) | M91: 96.74031 | N91: 95.542636 | O91: 96.317829 | P91: 98.255814 | Q91: 98.449612 | R91: 97.460938 | S91: 94.335938 | T91: 97.286822 | U91: (61) | V91: 92.208197 | W91: 88.934426 | X91: 91.803279 | Y91: 93.032787 | Z91: 95.081967 | AA91: 92.622951 | AB91: 90.983607 | AC91: 94.166667 | AD91: (23) | AE91: 94.544565 | AF91: 91.304348 | AG91: 95.652174 | AH91: 95.652174 | AI91: 96.73913 | AJ91: 95.652174 | AK91: 92.391304 | AL91: 94.565217
B92: 남울산 | C92: (207) | D92: 93.676449 | E92: 90.700483 | F92: 92.874396 | G92: 95.410628 | H92: 96.014493 | I92: 95.26699 | J92: 91.183575 | K92: 95.145631 | L92: (117) | M92: 93.392949 | N92: 89.529915 | O92: 92.307692 | P92: 95.299145 | Q92: 95.299145 | R92: 95.08547 | S92: 91.666667 | T92: 96.153846 | U92: (65) | V92: 94.664231 | W92: 93.076923 | X92: 93.461538 | Y92: 95.769231 | Z92: 97.692308 | AA92: 95.703125 | AB92: 91.923077 | AC92: 95.3125 | AD92: (25) | AE92: 92.435 | AF92: 90 | AG92: 94 | AH92: 95 | AI92: 95 | AJ92: 95 | AK92: 87 | AL92: 90
B93: 마산 | C93: (170) | D93: 94.406615 | E93: 91.764706 | F93: 93.088235 | G93: 95.294118 | H93: 96.911765 | I93: 96.029412 | J93: 93.382353 | K93: 95.833333 | L93: (101) | M93: 94.803298 | N93: 92.079208 | O93: 93.564356 | P93: 95.29703 | Q93: 97.772277 | R93: 97.277228 | S93: 92.821782 | T93: 96.5 | U93: (49) | V93: 93.828571 | W93: 91.836735 | X93: 92.346939 | Y93: 94.897959 | Z93: 95.408163 | AA93: 93.877551 | AB93: 94.387755 | AC93: 94.897959 | AD93: (20) | AE93: 93.819576 | AF93: 90 | AG93: 92.5 | AH93: 96.25 | AI93: 96.25 | AJ93: 95 | AK93: 93.75 | AL93: 94.736842
... B118: 합천 | C118: (142) | D118: 97.157218 | E118: 96.478873 | F118: 97.535211 | G118: 97.183099 | H118: 98.239437 | I118: 97.007042 | J118: 96.276596 | K118: 97.535211 | L118: (78) | M118: 97.407051 | N118: 96.794872 | O118: 97.75641 | P118: 97.115385 | Q118: 98.397436 | R118: 98.076923 | S118: 96.428571 | T118: 97.435897 | U118: (49) | V118: 96.757143 | W118: 95.408163 | X118: 96.938776 | Y118: 97.44898 | Z118: 97.959184 | AA118: 96.428571 | AB118: 95.918367 | AC118: 97.44898 | AD118: (15) | AE118: 97.165 | AF118: 98.333333 | AG118: 98.333333 | AH118: 96.666667 | AI118: 98.333333 | AJ118: 93.333333 | AK118: 96.666667 | AL118: 98.333333
A119: 청 합계 | C119: (4654) | D119: 95.472971 | E119: 94.074989 | F119: 94.896863 | G119: 95.836914 | H119: 97.147615 | I119: 96.262942 | J119: 94.479122 | K119: 96.369138 | L119: (2645) | M119: 96.078502 | N119: 94.763705 | O119: 95.529301 | P119: 96.587902 | Q119: 97.712665 | R119: 97.421312 | S119: 94.7573 | T119: 96.572351 | U119: (1433) | V119: 94.510941 | W119: 93.039079 | X119: 93.876483 | Y119: 94.521982 | Z119: 96.214236 | AA119: 94.452247 | AB119: 94.120726 | AC119: 96.140351 | AD119: (576) | AE119: 95.085744 | AF119: 93.489583 | AG119: 94.53125 | AH119: 95.659722 | AI119: 96.875 | AJ119: 95.434783 | AK119: 94.097222 | AL119: 96.001757
A120: 충청 | B120: 공주 | C120: (157) | D120: 95.31256 | E120: 93.471338 | F120: 93.949045 | G120: 95.382166 | H120: 97.133758 | I120: 97.258065 | J120: 94.267516 | K120: 97.133758 | L120: (89) | M120: 94.27348 | N120: 92.41573 | O120: 92.134831 | P120: 93.820225 | Q120: 96.348315 | R120: 96.875 | S120: 93.539326 | T120: 96.910112 | U120: (49) | V120: 97.529228 | W120: 95.408163 | X120: 97.44898 | Y120: 98.979592 | Z120: 99.489796 | AA120: 97.916667 | AB120: 95.918367 | AC120: 97.959184 | AD120: (19) | AE120: 94.463158 | AF120: 93.421053 | AG120: 93.421053 | AH120: 93.421053 | AI120: 94.736842 | AJ120: 97.368421 | AK120: 93.421053 | AL120: 96.052632
B121: 대전 | C121: (173) | D121: 94.040363 | E121: 91.907514 | F121: 92.774566 | G121: 93.930636 | H121: 96.676301 | I121: 96.22093 | J121: 93.023256 | K121: 95.118343 | L121: (109) | M121: 95.669708 | N121: 93.119266 | O121: 94.954128 | P121: 95.412844 | Q121: 97.247706 | R121: 97.93578 | S121: 95.833333 | T121: 96.296296 | U121: (46) | V121: 89.301717 | W121: 87.5 | X121: 85.869565 | Y121: 89.130435 | Z121: 94.565217 | AA121: 91.666667 | AB121: 86.956522 | AC121: 92.045455 | AD121: (18) | AE121: 96.283648 | AF121: 95.833333 | AG121: 97.222222 | AH121: 97.222222 | AI121: 98.611111 | AJ121: 97.222222 | AK121: 91.666667 | AL121: 95.588235
B122: 대전대덕 | C122: (165) | D122: 93.535606 | E122: 91.212121 | F122: 91.969697 | G122: 93.787879 | H122: 95 | I122: 94.393939 | J122: 94.545455 | K122: 95.151515 | L122: (105) | M122: 93.998095 | N122: 91.666667 | O122: 93.571429 | P122: 95.238095 | Q122: 95.238095 | R122: 95.238095 | S122: 93.095238 | T122: 94.761905 | U122: (42) | V122: 92.664286 | W122: 89.880952 | X122: 89.285714 | Y122: 91.666667 | Z122: 94.047619 | AA122: 93.452381 | AB122: 97.619048 | AC122: 94.642857 | AD122: (18) | AE122: 92.870833 | AF122: 91.666667 | AG122: 88.888889 | AH122: 90.277778 | AI122: 95.833333 | AJ122: 91.666667 | AK122: 95.833333 | AL122: 98.611111
B123: 대전둔산 | C123: (233) | D123: 94.005583 | E123: 91.95279 | F123: 93.562232 | G123: 94.957082 | H123: 95.815451 | I123: 94.935345 | J123: 92.133621 | K123: 95.474138 | L123: (136) | M123: 94.837132 | N123: 93.198529 | O123: 94.669118 | P123: 96.139706 | Q123: 96.691176 | R123: 96.507353 | S123: 91.666667 | T123: 95.588235 | U123: (70) | V123: 92.78787 | W123: 90.357143 | X123: 91.428571 | Y123: 92.5 | Z123: 94.285714 | AA123: 92.391304 | AB123: 93.928571 | AC123: 96.014493 | AD123: (27) | AE123: 92.974074 | AF123: 89.814815 | AG123: 93.518519 | AH123: 95.37037 | AI123: 95.37037 | AJ123: 93.518519 | AK123: 89.814815 | AL123: 93.518519
B124: 대전유성 | C124: (164) | D124: 95.127982 | E124: 93.445122 | F124: 93.445122 | G124: 96.79878 | H124: 97.103659 | I124: 95.987654 | J124: 93.597561 | K124: 96.779141 | L124: (93) | M124: 95.425913 | N124: 94.086022 | O124: 94.086022 | P124: 96.236559 | Q124: 96.774194 | R124: 97.826087 | S124: 93.817204 | T124: 96.467391 | U124: (52) | V124: 94.242867 | W124: 91.826923 | X124: 91.346154 | Y124: 97.596154 | Z124: 96.634615 | AA124: 92.156863 | AB124: 94.711538 | AC124: 97.115385 | AD124: (19) | AE124: 96.092105 | AF124: 94.736842 | AG124: 96.052632 | AH124: 97.368421 | AI124: 100 | AJ124: 97.368421 | AK124: 89.473684 | AL124: 97.368421
B125: 서대전 | C125: (157) | D125: 94.54366 | E125: 91.719745 | F125: 93.471338 | G125: 95.541401 | H125: 96.815287 | I125: 96.019108 | J125: 93.589744 | K125: 95.645161 | L125: (93) | M125: 96.537366 | N125: 94.623656 | O125: 95.967742 | P125: 97.311828 | Q125: 98.11828 | R125: 97.580645 | S125: 95.380435 | T125: 97.554348 | U125: (45) | V125: 92.192881 | W125: 87.777778 | X125: 90 | Y125: 93.333333 | Z125: 95.555556 | AA125: 93.888889 | AB125: 92.777778 | AC125: 93.75 | AD125: (19) | AE125: 90.352632 | AF125: 86.842105 | AG125: 89.473684 | AH125: 92.105263 | AI125: 93.421053 | AJ125: 93.421053 | AK125: 86.842105 | AL125: 90.789474
B126: 서청주 | C126: (226) | D126: 94.099704 | E126: 92.035398 | F126: 93.473451 | G126: 94.690265 | H126: 96.792035 | I126: 94.866071 | J126: 92.809735 | K126: 95.222222 | L126: (125) | M126: 95.242464 | N126: 93.6 | O126: 95.4 | P126: 95.8 | Q126: 98 | R126: 96.544715 | S126: 93.2 | T126: 95.362903 | U126: (73) | V126: 93.279452 | W126: 91.438356 | X126: 92.465753 | Y126: 93.493151 | Z126: 95.890411 | AA126: 93.150685 | AB126: 91.438356 | AC126: 95.890411 | AD126: (28) | AE126: 91.136607 | AF126: 86.607143 | AG126: 87.5 | AH126: 92.857143 | AI126: 93.75 | AJ126: 91.964286 | AK126: 94.642857 | AL126: 92.857143
B127: 아산 | C127: (192) | D127: 96.523036 | E127: 95.3125 | F127: 96.484375 | G127: 96.875 | H127: 97.395833 | I127: 97.251309 | J127: 95.182292 | K127: 97.65625 | L127: (105) | M127: 97.382619 | N127: 96.428571 | O127: 97.142857 | P127: 98.095238 | Q127: 98.095238 | R127: 98.333333 | S127: 95.47619 | T127: 98.571429 | U127: (64) | V127: 95.456998 | W127: 93.359375 | X127: 95.3125 | Y127: 95.3125 | Z127: 96.875 | AA127: 96.031746 | AB127: 95.3125 | AC127: 96.875 | AD127: (23) | AE127: 95.565217 | AF127: 95.652174 | AG127: 96.73913 | AH127: 95.652174 | AI127: 95.652174 | AJ127: 95.652174 | AK127: 93.478261 | AL127: 95.652174
B128: 제천 | C128: (158) | D128: 95.810918 | E128: 93.670886 | F128: 94.14557 | G128: 96.677215 | H128: 96.677215 | I128: 96.044304 | J128: 96.993671 | K128: 97.626582 | L128: (89) | M128: 97.987921 | N128: 97.191011 | O128: 97.752809 | P128: 98.314607 | Q128: 98.595506 | R128: 98.595506 | S128: 97.752809 | T128: 98.033708 | U128: (50) | V128: 91.3315 | W128: 87 | X128: 87 | Y128: 93 | Z128: 92.5 | AA128: 91 | AB128: 95 | AC128: 96.5 | AD128: (19) | AE128: 97.401316 | AF128: 94.736842 | AG128: 96.052632 | AH128: 98.684211 | AI128: 98.684211 | AJ128: 97.368421 | AK128: 98.684211 | AL128: 98.684211
B129: 동천안 | C129: (178) | D129: 96.023023 | E129: 94.241573 | F129: 95.786517 | G129: 96.629213 | H129: 97.331461 | I129: 97.033898 | J129: 95.224719 | K129: 96.751412 | L129: (105) | M129: 96.076649 | N129: 93.333333 | O129: 95.47619 | P129: 97.380952 | Q129: 97.380952 | R129: 97.380952 | S129: 95.47619 | T129: 97.355769 | U129: (54) | V129: 95.004167 | W129: 93.981481 | X129: 94.907407 | Y129: 94.907407 | Z129: 96.296296 | AA129: 95.754717 | AB129: 94.444444 | AC129: 95.37037 | AD129: (19) | AE129: 98.622368 | AF129: 100 | AG129: 100 | AH129: 97.368421 | AI129: 100 | AJ129: 98.684211 | AK129: 96.052632 | AL129: 97.368421
B130: 천안 | C130: (135) | D130: 93.933919 | E130: 93.518519 | F130: 93.518519 | G130: 95 | H130: 96.851852 | I130: 95.149254 | J130: 90.185185 | K130: 93.609023 | L130: (77) | M130: 94.476924 | N130: 94.480519 | O130: 93.831169 | P130: 95.779221 | Q130: 97.727273 | R130: 97.727273 | S130: 90.25974 | T130: 91.776316 | U130: (41) | V130: 92.583461 | W130: 92.073171 | X130: 92.073171 | Y130: 92.682927 | Z130: 94.512195 | AA130: 90.853659 | AB130: 90.853659 | AC130: 95.625 | AD130: (17) | AE130: 94.731414 | AF130: 92.647059 | AG130: 95.588235 | AH130: 97.058824 | AI130: 98.529412 | AJ130: 93.75 | AK130: 88.235294 | AL130: 97.058824
B131: 청주 | C131: (197) | D131: 96.290972 | E131: 95.050761 | F131: 95.685279 | G131: 96.319797 | H131: 98.096447 | I131: 97.435897 | J131: 95.177665 | K131: 96.827411 | L131: (113) | M131: 96.974779 | N131: 95.575221 | O131: 96.681416 | P131: 97.345133 | Q131: 98.672566 | R131: 98.230088 | S131: 96.017699 | T131: 96.902655 | U131: (63) | V131: 95.701928 | W131: 94.444444 | X131: 95.238095 | Y131: 94.444444 | Z131: 97.619048 | AA131: 96.311475 | AB131: 94.84127 | AC131: 97.619048 | AD131: (21) | AE131: 94.378571 | AF131: 94.047619 | AG131: 91.666667 | AH131: 96.428571 | AI131: 96.428571 | AJ131: 96.428571 | AK131: 91.666667 | AL131: 94.047619
B132: 충주 | C132: (211) | D132: 94.624067 | E132: 93.838863 | F132: 94.194313 | G132: 95.023697 | H132: 96.445498 | I132: 95.023697 | J132: 92.417062 | K132: 96.153846 | L132: (113) | M132: 95.951549 | N132: 94.247788 | O132: 95.132743 | P132: 97.123894 | Q132: 98.230088 | R132: 97.566372 | S132: 93.584071 | T132: 96.681416 | U132: (73) | V132: 92.654837 | W132: 93.493151 | X132: 92.808219 | Y132: 91.780822 | Z132: 93.835616 | AA132: 91.09589 | AB132: 91.09589 | AC132: 95.070423 | AD132: (25) | AE132: 94.374 | AF132: 93 | AG132: 94 | AH132: 95 | AI132: 96 | AJ132: 95 | AK132: 91 | AL132: 96.875
... B151: 홍성 | C151: (126) | D151: 95.782661 | E151: 94.246032 | F151: 95.039683 | G151: 96.428571 | H151: 97.222222 | I151: 96.230159 | J151: 95 | K151: 97.02381 | L151: (74) | M151: 95.598855 | N151: 94.932432 | O151: 94.594595 | P151: 95.945946 | Q151: 96.959459 | R151: 96.283784 | S151: 94.520548 | T151: 96.621622 | U151: (36) | V151: 97.539583 | W151: 96.527778 | X151: 97.222222 | Y151: 97.916667 | Z151: 97.916667 | AA151: 96.527778 | AB151: 97.916667 | AC151: 99.305556 | AD151: (16) | AE151: 92.679688 | AF151: 85.9375 | AG151: 92.1875 | AH151: 95.3125 | AI151: 96.875 | AJ151: 95.3125 | AK151: 90.625 | AL151: 93.75
A152: 청 합계 | C152: (3729) | D152: 95.793392 | E152: 94.536069 | F152: 95.172969 | G152: 96.004291 | H152: 97.217753 | I152: 96.470825 | J152: 95.077894 | K152: 96.799191 | L152: (2060) | M152: 96.287426 | N152: 95.109223 | O152: 95.59466 | P152: 96.529126 | Q152: 97.742718 | R152: 97.495136 | S152: 95.30185 | T152: 96.993671 | U152: (1189) | V152: 95.211132 | W152: 93.713204 | X152: 94.70143 | Y152: 95.29016 | Z152: 96.488646 | AA152: 95.266272 | AB152: 94.995795 | AC152: 96.803556 | AD152: (480) | AE152: 95.115472 | AF152: 94.114583 | AG152: 94.53125 | AH152: 95.520833 | AI152: 96.770833 | AJ152: 95.052083 | AK152: 94.322917 | AL152: 95.947368
A153: 전남 | B153: 광주 | C153: (232) | D153: 94.011725 | E153: 92.780172 | F153: 93.103448 | G153: 93.75 | H153: 95.474138 | I153: 94.719828 | J153: 92.99569 | K153: 96.28821 | L153: (140) | M153: 95.905714 | N153: 95 | O153: 95.357143 | P153: 95.892857 | Q153: 96.964286 | R153: 96.964286 | S153: 94.821429 | T153: 96.942446 | U153: (66) | V153: 91.327166 | W153: 90.151515 | X153: 89.772727 | Y153: 89.772727 | Z153: 92.80303 | AA153: 91.666667 | AB153: 90.909091 | AC153: 95.769231 | AD153: (26) | AE153: 90.627967 | AF153: 87.5 | AG153: 89.423077 | AH153: 92.307692 | AI153: 94.230769 | AJ153: 90.384615 | AK153: 88.461538 | AL153: 94
B154: 북광주 | C154: (204) | D154: 94.909641 | E154: 93.995098 | F154: 94.485294 | G154: 95.465686 | H154: 96.20098 | I154: 95.343137 | J154: 93.811881 | K154: 95.566502 | L154: (121) | M154: 95.019972 | N154: 94.421488 | O154: 95.454545 | P154: 94.628099 | Q154: 96.694215 | R154: 96.487603 | S154: 93.487395 | T154: 94.166667 | U154: (59) | V154: 94.705085 | W154: 93.220339 | X154: 92.79661 | Y154: 97.033898 | Z154: 95.338983 | AA154: 93.220339 | AB154: 94.491525 | AC154: 97.881356 | AD154: (24) | AE154: 94.85625 | AF154: 93.75 | AG154: 93.75 | AH154: 95.833333 | AI154: 95.833333 | AJ154: 94.791667 | AK154: 93.75 | AL154: 96.875
B155: 서광주 | C155: (177) | D155: 94.749436 | E155: 93.502825 | F155: 93.644068 | G155: 95.19774 | H155: 96.892655 | I155: 96 | J155: 93.361582 | K155: 95.714286 | L155: (101) | M155: 96.471535 | N155: 95.544554 | O155: 95.792079 | P155: 96.782178 | Q155: 98.267327 | R155: 98.514851 | S155: 94.306931 | T155: 96.782178 | U155: (54) | V155: 94.288905 | W155: 92.592593 | X155: 92.592593 | Y155: 94.444444 | Z155: 96.296296 | AA155: 96.153846 | AB155: 93.518519 | AC155: 95.833333 | AD155: (22) | AE155: 87.973833 | AF155: 86.363636 | AG155: 86.363636 | AH155: 89.772727 | AI155: 92.045455 | AJ155: 84.090909 | AK155: 88.636364 | AL155: 90
B156: 광주광산 | C156: (190) | D156: 93.555445 | E156: 91.052632 | F156: 91.710526 | G156: 93.421053 | H156: 96.447368 | I156: 95.634921 | J156: 92.368421 | K156: 95.87766 | L156: (103) | M156: 93.612714 | N156: 91.504854 | O156: 91.019417 | P156: 94.174757 | Q156: 96.359223 | R156: 95.833333 | S156: 91.990291 | T156: 96.568627 | U156: (63) | V156: 92.482143 | W156: 88.492063 | X156: 90.873016 | Y156: 92.063492 | Z156: 95.238095 | AA156: 95.238095 | AB156: 91.666667 | AC156: 95.16129 | AD156: (24) | AE156: 96.127083 | AF156: 95.833333 | AG156: 96.875 | AH156: 93.75 | AI156: 100 | AJ156: 95.833333 | AK156: 95.833333 | AL156: 94.791667
B157: 목포 | C157: (290) | D157: 94.918757 | E157: 93.189655 | F157: 94.396552 | G157: 95.172414 | H157: 97.327586 | I157: 95.486111 | J157: 93.793103 | K157: 96.107266 | L157: (165) | M157: 94.827857 | N157: 93.333333 | O157: 94.393939 | P157: 94.848485 | Q157: 97.575758 | R157: 96.319018 | S157: 92.727273 | T157: 95.606061 | U157: (96) | V157: 94.442115 | W157: 91.927083 | X157: 93.75 | Y157: 95.052083 | Z157: 96.614583 | AA157: 93.75 | AB157: 94.791667 | AC157: 96.578947 | AD157: (29) | AE157: 97.013793 | AF157: 96.551724 | AG157: 96.551724 | AH157: 97.413793 | AI157: 98.275862 | AJ157: 96.551724 | AK157: 96.551724 | AL157: 97.413793
B158: 여수 | C158: (235) | D158: 94.746489 | E158: 92.87234 | F158: 93.510638 | G158: 94.680851 | H158: 97.12766 | I158: 95.833333 | J158: 94.574468 | K158: 95.638298 | L158: (125) | M158: 95.4852 | N158: 93.8 | O158: 94.6 | P158: 95.6 | Q158: 97.8 | R158: 97.379032 | S158: 94.2 | T158: 96 | U158: (80) | V158: 94.1725 | W158: 91.25 | X158: 92.5 | Y158: 93.75 | Z158: 96.875 | AA158: 94.0625 | AB158: 95.9375 | AC158: 96.25 | AD158: (30) | AE158: 93.199167 | AF158: 93.333333 | AG158: 91.666667 | AH158: 93.333333 | AI158: 95 | AJ158: 94.166667 | AK158: 92.5 | AL158: 92.5
B159: 순천 | C159: (202) | D159: 95.076566 | E159: 93.193069 | F159: 94.554455 | G159: 96.287129 | H159: 96.163366 | I159: 94.925743 | J159: 94.80198 | K159: 96.482412 | L159: (105) | M159: 96.505 | N159: 95 | O159: 96.666667 | P159: 97.380952 | Q159: 97.380952 | R159: 97.619048 | S159: 95 | T159: 96.875 | U159: (72) | V159: 92.965157 | W159: 90.277778 | X159: 91.319444 | Y159: 94.097222 | Z159: 94.444444 | AA159: 91.319444 | AB159: 94.791667 | AC159: 96.428571 | AD159: (25) | AE159: 95.158 | AF159: 94 | AG159: 95 | AH159: 98 | AI159: 96 | AJ159: 94 | AK159: 94 | AL159: 95
B160: 강진 | C160: (101) | D160: 96.945785 | E160: 95.29703 | F160: 97.277228 | G160: 96.534653 | H160: 97.772277 | I160: 98.019802 | J160: 96.75 | K160: 97.75 | L160: (54) | M160: 96.844895 | N160: 95.37037 | O160: 97.222222 | P160: 95.833333 | Q160: 97.222222 | R160: 98.611111 | S160: 97.169811 | T160: 97.685185 | U160: (35) | V160: 97.213571 | W160: 95.714286 | X160: 97.857143 | Y160: 97.142857 | Z160: 98.571429 | AA160: 97.142857 | AB160: 96.428571 | AC160: 97.857143 | AD160: (12) | AE160: 96.61875 | AF160: 93.75 | AG160: 95.833333 | AH160: 97.916667 | AI160: 97.916667 | AJ160: 97.916667 | AK160: 95.833333 | AL160: 97.727273
B161: 장흥 | C161: (115) | D161: 96.799565 | E161: 95.652174 | F161: 96.086957 | G161: 97.826087 | H161: 98.26087 | I161: 98.043478 | J161: 95.434783 | K161: 96.73913 | L161: (58) | M161: 95.909483 | N161: 93.965517 | O161: 94.396552 | P161: 97.844828 | Q161: 97.844828 | R161: 97.413793 | S161: 94.396552 | T161: 96.551724 | U161: (37) | V161: 97.94527 | W161: 97.972973 | X161: 98.648649 | Y161: 97.972973 | Z161: 99.324324 | AA161: 98.648649 | AB161: 95.945946 | AC161: 96.621622 | AD161: (20) | AE161: 97.26125 | AF161: 96.25 | AG161: 96.25 | AH161: 97.5 | AI161: 97.5 | AJ161: 98.75 | AK161: 97.5 | AL161: 97.5
B162: 화순 | C162: (132) | D162: 95.592803 | E162: 94.69697 | F162: 95.265152 | G162: 95.833333 | H162: 97.537879 | I162: 95.454545 | J162: 94.318182 | K162: 96.590909 | L162: (74) | M162: 95.836149 | N162: 94.594595 | O162: 94.932432 | P162: 96.621622 | Q162: 97.972973 | R162: 96.621622 | S162: 94.594595 | T162: 96.283784 | U162: (39) | V162: 94.896154 | W162: 94.230769 | X162: 94.871795 | Y162: 94.871795 | Z162: 96.153846 | AA162: 93.589744 | AB162: 93.589744 | AC162: 97.435897 | AD162: (19) | AE162: 96.075 | AF162: 96.052632 | AG162: 97.368421 | AH162: 94.736842 | AI162: 98.684211 | AJ162: 94.736842 | AK162: 94.736842 | AL162: 96.052632
B163: 곡성 | C163: (106) | D163: 97.482547 | E163: 96.462264 | F163: 96.698113 | G163: 97.40566 | H163: 97.877358 | I163: 97.641509 | J163: 98.349057 | K163: 98.571429 | L163: (62) | M163: 98.975806 | N163: 98.790323 | O163: 98.387097 | P163: 98.790323 | Q163: 99.596774 | R163: 99.193548 | S163: 99.193548 | T163: 99.180328 | U163: (32) | V163: 95.4 | W163: 93.75 | X163: 95.3125 | Y163: 94.53125 | Z163: 93.75 | AA163: 95.3125 | AB163: 97.65625 | AC163: 98.4375 | AD163: (12) | AE163: 95.320833 | AF163: 91.666667 | AG163: 91.666667 | AH163: 97.916667 | AI163: 100 | AJ163: 95.833333 | AK163: 95.833333 | AL163: 95.833333
B164: 담양 | C164: (125) | D164: 97.153 | E164: 96 | F164: 96.8 | G164: 96.8 | H164: 97.8 | I164: 97.8 | J164: 97.177419 | K164: 98.185484 | L164: (65) | M164: 96.948462 | N164: 95.769231 | O164: 96.538462 | P164: 96.923077 | Q164: 97.692308 | R164: 97.307692 | S164: 96.875 | T164: 98.076923 | U164: (42) | V164: 96.894048 | W164: 95.833333 | X164: 97.02381 | Y164: 95.833333 | Z164: 97.02381 | AA164: 98.214286 | AB164: 97.02381 | AC164: 97.619048 | AD164: (18) | AE164: 98.495833 | AF164: 97.222222 | AG164: 97.222222 | AH164: 98.611111 | AI164: 100 | AJ164: 98.611111 | AK164: 98.611111 | AL164: 100
B165: 장성 | C165: (115) | D165: 97.525203 | E165: 96.304348 | F165: 96.73913 | G165: 96.73913 | H165: 98.478261 | I165: 98.684211 | J165: 97.826087 | K165: 98.913043 | L165: (66) | M165: 98.294697 | N165: 96.969697 | O165: 97.348485 | P165: 96.969697 | Q165: 98.863636 | R165: 100 | S165: 99.242424 | T165: 99.621212 | U165: (34) | V165: 97.494068 | W165: 96.323529 | X165: 97.058824 | Y165: 97.794118 | Z165: 98.529412 | AA165: 97.727273 | AB165: 97.058824 | AC165: 99.264706 | AD165: (15) | AE165: 94.21 | AF165: 93.333333 | AG165: 93.333333 | AH165: 93.333333 | AI165: 96.666667 | AJ165: 95 | AK165: 93.333333 | AL165: 95
... B177: 보성 | C177: (118) | D177: 96.670763 | E177: 96.186441 | F177: 96.610169 | G177: 96.822034 | H177: 97.457627 | I177: 97.457627 | J177: 95.726496 | K177: 96.610169 | L177: (66) | M177: 97.539015 | N177: 96.212121 | O177: 98.106061 | P177: 98.484848 | Q177: 98.863636 | R177: 98.863636 | S177: 95.769231 | T177: 96.590909 | U177: (38) | V177: 95.842105 | W177: 96.052632 | X177: 96.052632 | Y177: 94.078947 | Z177: 96.052632 | AA177: 96.052632 | AB177: 96.052632 | AC177: 96.710526 | AD177: (14) | AE177: 94.826786 | AF177: 96.428571 | AG177: 91.071429 | AH177: 96.428571 | AI177: 94.642857 | AJ177: 94.642857 | AK177: 94.642857 | AL177: 96.428571
B178: 영암우편집중국 | C178: . | D178: . | E178: . | F178: . | G178: . | H178: . | I178: . | J178: . | K178: . | L178: . | M178: . | N178: . | O178: . | P178: . | Q178: . | R178: . | S178: . | T178: . | U178: . | V178: . | W178: . | X178: . | Y178: . | Z178: . | AA178: . | AB178: . | AC178: . | AD178: . | AE178: . | AF178: . | AG178: . | AH178: . | AI178: . | AJ178: . | AK178: . | AL178: .
A179: 청 합계 | C179: (4294) | D179: 95.819708 | E179: 94.765952 | F179: 95.266651 | G179: 96.081742 | H179: 97.426642 | I179: 96.626984 | J179: 94.553821 | K179: 96.642404 | L179: (2407) | M179: 96.315714 | N179: 95.315746 | O179: 95.700042 | P179: 96.520565 | Q179: 97.964271 | R179: 97.639351 | S179: 94.773483 | T179: 97.013367 | U179: (1361) | V179: 95.295679 | W179: 94.342395 | X179: 95.022043 | Y179: 95.260838 | Z179: 96.877296 | AA179: 95.338983 | AB179: 94.393382 | AC179: 96.245353 | AD179: (526) | AE179: 94.905864 | AF179: 93.346008 | AG179: 93.91635 | AH179: 96.197719 | AI179: 96.387833 | AJ179: 95.315488 | AK179: 93.963878 | AL179: 95.961538
A180: 경북 | B180: 대구 | C180: (197) | D180: 95.07686 | E180: 94.923858 | F180: 94.670051 | G180: 95.812183 | H180: 97.715736 | I180: 96.192893 | J180: 91.497462 | K180: 94.871795 | L180: (109) | M180: 95.54633 | N180: 95.183486 | O180: 95.642202 | P180: 96.330275 | Q180: 97.93578 | R180: 97.706422 | S180: 91.972477 | T180: 94.266055 | U180: (63) | V180: 93.697881 | W180: 94.047619 | X180: 92.063492 | Y180: 94.444444 | Z180: 96.825397 | AA180: 92.857143 | AB180: 90.873016 | AC180: 95.081967 | AD180: (25) | AE180: 96.505 | AF180: 96 | AG180: 97 | AH180: 97 | AI180: 99 | AJ180: 98 | AK180: 91 | AL180: 97
B181: 동대구 | C181: (168) | D181: 94.481106 | E181: 91.815476 | F181: 93.005952 | G181: 94.940476 | H181: 96.72619 | I181: 96.556886 | J181: 94.047619 | K181: 95.535714 | L181: (93) | M181: 94.362097 | N181: 91.397849 | O181: 93.010753 | P181: 94.623656 | Q181: 96.505376 | R181: 96.774194 | S181: 93.548387 | T181: 96.236559 | U181: (53) | V181: 96.027847 | W181: 94.811321 | X181: 95.754717 | Y181: 95.754717 | Z181: 98.113208 | AA181: 97.115385 | AB181: 95.754717 | AC181: 95.283019 | AD181: (22) | AE181: 91.257955 | AF181: 86.363636 | AG181: 86.363636 | AH181: 94.318182 | AI181: 94.318182 | AJ181: 94.318182 | AK181: 92.045455 | AL181: 93.181818
B182: 서대구 | C182: (133) | D182: 94.805775 | E182: 94.548872 | F182: 94.736842 | G182: 94.924812 | H182: 96.052632 | I182: 95.112782 | J182: 92.481203 | K182: 96.153846 | L182: (77) | M182: 94.749675 | N182: 94.155844 | O182: 94.155844 | P182: 94.155844 | Q182: 95.779221 | R182: 96.103896 | S182: 92.857143 | T182: 96.753247 | U182: (39) | V182: 94.34193 | W182: 94.871795 | X182: 94.871795 | Y182: 94.871795 | Z182: 95.512821 | AA182: 94.871795 | AB182: 91.025641 | AC182: 94.078947 | AD182: (17) | AE182: 96.123989 | AF182: 95.588235 | AG182: 97.058824 | AH182: 98.529412 | AI182: 98.529412 | AJ182: 91.176471 | AK182: 94.117647 | AL182: 98.333333
B183: 북대구 | C183: (168) | D183: 95.938839 | E183: 95.089286 | F183: 94.940476 | G183: 95.535714 | H183: 97.916667 | I183: 96.577381 | J183: 95.05988 | K183: 97.408537 | L183: (97) | M183: 95.796907 | N183: 94.329897 | O183: 94.845361 | P183: 95.618557 | Q183: 98.195876 | R183: 97.938144 | S183: 93.814433 | T183: 96.842105 | U183: (50) | V183: 96.8805 | W183: 97.5 | X183: 97 | Y183: 95.5 | Z183: 97.5 | AA183: 94.5 | AB183: 98.469388 | AC183: 98.4375 | AD183: (21) | AE183: 94.352381 | AF183: 92.857143 | AG183: 90.47619 | AH183: 95.238095 | AI183: 97.619048 | AJ183: 95.238095 | AK183: 92.857143 | AL183: 97.619048
B184: 대구달서 | C184: (227) | D184: 93.645566 | E184: 91.299559 | F184: 92.180617 | G184: 94.273128 | H184: 96.145374 | I184: 95.044053 | J184: 92.731278 | K184: 95.515695 | L184: (126) | M184: 94.274439 | N184: 92.460317 | O184: 92.460317 | P184: 94.642857 | Q184: 96.825397 | R184: 96.230159 | S184: 92.857143 | T184: 96.341463 | U184: (73) | V184: 92.839384 | W184: 90.068493 | X184: 92.123288 | Y184: 93.150685 | Z184: 95.890411 | AA184: 93.835616 | AB184: 91.09589 | AC184: 94.520548 | AD184: (28) | AE184: 92.917469 | AF184: 89.285714 | AG184: 91.071429 | AH184: 95.535714 | AI184: 93.75 | AJ184: 92.857143 | AK184: 96.428571 | AL184: 94.444444
B185: 대구수성 | C185: (192) | D185: 94.686369 | E185: 93.75 | F185: 94.270833 | G185: 95.442708 | H185: 96.484375 | I185: 95.572917 | J185: 92.578125 | K185: 95.10582 | L185: (108) | M185: 95.443981 | N185: 94.675926 | O185: 95.37037 | P185: 95.833333 | Q185: 97.222222 | R185: 96.527778 | S185: 93.287037 | T185: 95.560748 | U185: (60) | V185: 93.645248 | W185: 93.333333 | X185: 92.916667 | Y185: 94.583333 | Z185: 95.833333 | AA185: 93.75 | AB185: 91.666667 | AC185: 93.644068 | AD185: (24) | AE185: 93.879916 | AF185: 90.625 | AG185: 92.708333 | AH185: 95.833333 | AI185: 94.791667 | AJ185: 95.833333 | AK185: 91.666667 | AL185: 96.73913
B186: 포항 | C186: (276) | D186: 95.205116 | E186: 94.384058 | F186: 95.108696 | G186: 95.380435 | H186: 96.557971 | I186: 96.167883 | J186: 93.65942 | K186: 95.727273 | L186: (153) | M186: 95.572549 | N186: 94.444444 | O186: 95.588235 | P186: 96.405229 | Q186: 97.058824 | R186: 97.039474 | S186: 93.137255 | T186: 95.915033 | U186: (90) | V186: 94.914123 | W186: 94.444444 | X186: 94.166667 | Y186: 93.333333 | Z186: 96.388889 | AA186: 95 | AB186: 96.111111 | AC186: 95.786517 | AD186: (33) | AE186: 94.295181 | AF186: 93.939394 | AG186: 95.454545 | AH186: 96.212121 | AI186: 94.69697 | AJ186: 95.3125 | AK186: 89.393939 | AL186: 94.69697
B187: 경주 | C187: (221) | D187: 95.224548 | E187: 93.778281 | F187: 94.570136 | G187: 96.606335 | H187: 97.737557 | I187: 95.475113 | J187: 93.099548 | K187: 95.927602 | L187: (117) | M187: 95.188034 | N187: 94.017094 | O187: 94.230769 | P187: 96.581197 | Q187: 97.863248 | R187: 96.367521 | S187: 92.521368 | T187: 95.512821 | U187: (78) | V187: 95.782692 | W187: 94.551282 | X187: 95.512821 | Y187: 97.115385 | Z187: 98.076923 | AA187: 94.551282 | AB187: 93.910256 | AC187: 97.115385 | AD187: (26) | AE187: 93.714423 | AF187: 90.384615 | AG187: 93.269231 | AH187: 95.192308 | AI187: 96.153846 | AJ187: 94.230769 | AK187: 93.269231 | AL187: 94.230769
B188: 안동 | C188: (211) | D188: 95.012559 | E188: 94.194313 | F188: 94.549763 | G188: 94.549763 | H188: 96.563981 | I188: 95.714286 | J188: 94.194313 | K188: 95.933014 | L188: (117) | M188: 96.007906 | N188: 95.299145 | O188: 95.512821 | P188: 95.940171 | Q188: 97.649573 | R188: 97.008547 | S188: 94.444444 | T188: 96.767241 | U188: (69) | V188: 94.084058 | W188: 93.478261 | X188: 94.202899 | Y188: 91.666667 | Z188: 95.652174 | AA188: 94.202899 | AB188: 94.565217 | AC188: 95.220588 | AD188: (25) | AE188: 92.917 | AF188: 91 | AG188: 91 | AH188: 96 | AI188: 94 | AJ188: 93.75 | AK188: 92 | AL188: 94
B189: 구미 | C189: (207) | D189: 95.099766 | E189: 93.84058 | F189: 94.68599 | G189: 95.169082 | H189: 96.859903 | I189: 95.289855 | J189: 94.565217 | K189: 95.995146 | L189: (113) | M189: 96.235398 | N189: 95.132743 | O189: 95.132743 | P189: 96.017699 | Q189: 98.230088 | R189: 98.00885 | S189: 95.353982 | T189: 96.681416 | U189: (69) | V189: 94.28734 | W189: 92.753623 | X189: 94.927536 | Y189: 94.927536 | Z189: 95.289855 | AA189: 92.391304 | AB189: 94.202899 | AC189: 95.955882 | AD189: (25) | AE189: 92.209 | AF189: 91 | AG189: 92 | AH189: 92 | AI189: 95 | AJ189: 91 | AK189: 92 | AL189: 93
...

Sheet 항목별(집배)
A1: 집배 종합 | K1: =SUM(K3:K9) -> 1 | L1: =SUM(L3:L9) -> 1
K2: 택배 | L2: 우편
A3: 문1: 집배원의 인사태도 | K3: 0.183 | L3: 0.2228989
A4: 문2: 집배원의 복장 및 용모 상태 | K4: 0.16 | L4: 0.19488429
A5: 문3: 집배원의 친절도 | K5: 0.184 | L5: 0.22411693
A6: 문4: 수취인 확인후 정확한 배송 | K6: 0.151 | L6: 0.18392205
A7: 문5: 배달안내 서비스 | K7: 0.179 | L7: -
A8: 문6: 배송 우편물 상태 | K8: 0.143 | L8: 0.17417783
A10: 구분 | B10: 총괄국 | C10: 집배 종합 | K10: 택배 | S10: 우편
C11: 사례수 | D11: CSI | E11: 인적 | H11: 결과 | K11: 사례수 | L11: CSI | M11: 인적 | P11: 결과 | S11: 사례수 | T11: CSI | U11: 인적 | X11: 결과
E12: 문1 | F12: 문2 | G12: 문3 | H12: 문4 | I12: 문5 | J12: 문6 | M12: 문1 | N12: 문2 | O12: 문3 | P12: 문4 | Q12: 문5 | R12: 문6 | U12: 문1 | V12: 문2 | W12: 문3 | X12: 문4 | Y12: 문5 | Z12: 문6
A13: 전체 | C13: (17577) | D13: 96.127125 | E13: 94.838425 | F13: 96.371679 | G13: 95.748706 | H13: 96.634807 | I13: 95.753856 | J13: 97.491039 | K13: (4928) | L13: 95.860806 | M13: 94.546469 | N13: 96.012581 | O13: 95.657468 | P13: 96.423498 | Q13: 95.753856 | R13: 97.17431 | S13: (12649) | T13: 96.230882 | U13: 94.95217 | V13: 96.511582 | W13: 95.784252 | X13: 96.717132 | Y13: . | Z13: 97.614436
A14: 청 합계 | C14: (1936) | D14: 95.46441 | E14: 93.801653 | F14: 95.532025 | G14: 95.067149 | H14: 96.061467 | I14: 94.679752 | J14: 97.339876 | K14: (484) | L14: 94.496178 | M14: 91.993802 | N14: 94.318182 | O14: 94.47314 | P14: 95.299587 | Q14: 94.679752 | R14: 96.849174 | S14: (1452) | T14: 95.787154 | U14: 94.40427 | V14: 95.936639 | W14: 95.265152 | X14: 96.315427 | Y14: . | Z14: 97.503444
A15: 서울 | B15: 서울중앙 | C15: (88) | D15: 95.659676 | E15: 94.602273 | F15: 96.875 | G15: 96.022727 | H15: 94.602273 | I15: 94.318182 | J15: 96.875 | K15: (22) | L15: 96.147727 | M15: 95.454545 | N15: 96.590909 | O15: 96.590909 | P15: 97.727273 | Q15: 94.318182 | R15: 96.590909 | S15: (66) | T15: 95.496992 | U15: 94.318182 | V15: 96.969697 | W15: 95.833333 | X15: 93.560606 | Y15: . | Z15: 96.969697
B16: 광화문 | C16: (88) | D16: 95.925167 | E16: 94.602273 | F16: 96.022727 | G16: 94.318182 | H16: 97.159091 | I16: 94.318182 | J16: 98.579545 | K16: (22) | L16: 95.295455 | M16: 93.181818 | N16: 96.590909 | O16: 94.318182 | P16: 95.454545 | Q16: 94.318182 | R16: 98.863636 | S16: (66) | T16: 96.135072 | U16: 95.075758 | V16: 95.833333 | W16: 94.318182 | X16: 97.727273 | Y16: . | Z16: 98.484848
B17: 서대문 | C17: (88) | D17: 96.716159 | E17: 94.886364 | F17: 97.159091 | G17: 96.875 | H17: 97.159091 | I17: 94.318182 | J17: 98.011364 | K17: (22) | L17: 94.705682 | M17: 90.909091 | N17: 94.318182 | O17: 94.318182 | P17: 98.863636 | Q17: 94.318182 | R17: 96.590909 | S17: (66) | T17: 97.386317 | U17: 96.212121 | V17: 98.106061 | W17: 97.727273 | X17: 96.590909 | Y17: . | Z17: 98.484848
B18: 동대문 | C18: (88) | D18: 95.675096 | E18: 94.318182 | F18: 96.306818 | G18: 94.602273 | H18: 96.590909 | I18: 93.181818 | J18: 97.727273 | K18: (22) | L18: 95.128409 | M18: 93.181818 | N18: 95.454545 | O18: 95.454545 | P18: 96.590909 | Q18: 93.181818 | R18: 97.727273 | S18: (66) | T18: 95.857325 | U18: 94.69697 | V18: 96.590909 | W18: 94.318182 | X18: 96.590909 | Y18: . | Z18: 97.727273
B19: 서울광진 | C19: (88) | D19: 96.732557 | E19: 95.454545 | F19: 96.875 | G19: 97.443182 | H19: 96.306818 | I19: 90.909091 | J19: 98.579545 | K19: (22) | L19: 93.579545 | M19: 90.909091 | N19: 92.045455 | O19: 95.454545 | P19: 94.318182 | Q19: 90.909091 | R19: 98.863636 | S19: (66) | T19: 97.78356 | U19: 96.969697 | V19: 98.484848 | W19: 98.106061 | X19: 96.969697 | Y19: . | Z19: 98.484848
B20: 서울마포 | C20: (88) | D20: 94.648351 | E20: 93.465909 | F20: 94.602273 | G20: 96.022727 | H20: 94.602273 | I20: 89.772727 | J20: 95.454545 | K20: (22) | L20: 92.844318 | M20: 89.772727 | N20: 94.318182 | O20: 94.318182 | P20: 95.454545 | Q20: 89.772727 | R20: 94.318182 | S20: (66) | T20: 95.249695 | U20: 94.69697 | V20: 94.69697 | W20: 96.590909 | X20: 94.318182 | Y20: . | Z20: 95.833333
B21: 서울도봉 | C21: (88) | D21: 95.873488 | E21: 94.034091 | F21: 95.454545 | G21: 95.454545 | H21: 96.590909 | I21: 96.590909 | J21: 97.443182 | K21: (22) | L21: 93.285227 | M21: 88.636364 | N21: 93.181818 | O21: 93.181818 | P21: 93.181818 | Q21: 96.590909 | R21: 95.454545 | S21: (66) | T21: 96.736242 | U21: 95.833333 | V21: 96.212121 | W21: 96.212121 | X21: 97.727273 | Y21: . | Z21: 98.106061
B22: 서울관악 | C22: (88) | D22: 93.895852 | E22: 90.340909 | F22: 94.034091 | G22: 92.897727 | H22: 94.602273 | I22: 94.318182 | J22: 98.295455 | K22: (22) | L22: 92.613636 | M22: 87.5 | N22: 90.909091 | O22: 93.181818 | P22: 90.909091 | Q22: 94.318182 | R22: 100 | S22: (66) | T22: 94.323257 | U22: 91.287879 | V22: 95.075758 | W22: 92.80303 | X22: 95.833333 | Y22: . | Z22: 97.727273
B23: 여의도 | C23: (88) | D23: 93.337074 | E23: 90.625 | F23: 92.897727 | G23: 93.181818 | H23: 95.454545 | I23: 90.909091 | J23: 95.738636 | K23: (22) | L23: 92.428409 | M23: 89.772727 | N23: 92.045455 | O23: 92.045455 | P23: 95.454545 | Q23: 90.909091 | R23: 95.454545 | S23: (66) | T23: 93.639962 | U23: 90.909091 | V23: 93.181818 | W23: 93.560606 | X23: 95.454545 | Y23: . | Z23: 95.833333
B24: 서울강남 | C24: (88) | D24: 95.426748 | E24: 94.886364 | F24: 96.022727 | G24: 94.886364 | H24: 95.170455 | I24: 98.863636 | J24: 96.306818 | K24: (22) | L24: 98.510227 | M24: 98.863636 | N24: 97.727273 | O24: 98.863636 | P24: 97.727273 | Q24: 98.863636 | R24: 98.863636 | S24: (66) | T24: 94.398922 | U24: 93.560606 | V24: 95.454545 | W24: 93.560606 | X24: 94.318182 | Y24: . | Z24: 95.454545
B25: 서울은평 | C25: (88) | D25: 97.091739 | E25: 95.170455 | F25: 97.159091 | G25: 96.306818 | H25: 98.295455 | I25: 97.727273 | J25: 98.295455 | K25: (22) | L25: 94.792045 | M25: 90.909091 | N25: 94.318182 | O25: 94.318182 | P25: 94.318182 | Q25: 97.727273 | R25: 97.727273 | S25: (66) | T25: 97.858303 | U25: 96.590909 | V25: 98.106061 | W25: 96.969697 | X25: 99.621212 | Y25: . | Z25: 98.484848
B26: 서울금천 | C26: (88) | D26: 95.052109 | E26: 93.75 | F26: 95.738636 | G26: 93.75 | H26: 96.022727 | I26: 96.590909 | J26: 96.875 | K26: (22) | L26: 97.467045 | M26: 97.727273 | N26: 96.590909 | O26: 96.590909 | P26: 98.863636 | Q26: 96.590909 | R26: 98.863636 | S26: (66) | T26: 94.24713 | U26: 92.424242 | V26: 95.454545 | W26: 92.80303 | X26: 95.075758 | Y26: . | Z26: 96.212121
B27: 서울성북 | C27: (88) | D27: 95.841047 | E27: 94.318182 | F27: 96.022727 | G27: 95.170455 | H27: 96.590909 | I27: 97.727273 | J27: 97.159091 | K27: (22) | L27: 96.134091 | M27: 96.590909 | N27: 94.318182 | O27: 97.727273 | P27: 94.318182 | Q27: 97.727273 | R27: 95.454545 | S27: (66) | T27: 95.743365 | U27: 93.560606 | V27: 96.590909 | W27: 94.318182 | X27: 97.348485 | Y27: . | Z27: 97.727273
... B36: 서울중랑 | C36: (88) | D36: 96.582234 | E36: 95.170455 | F36: 98.011364 | G36: 96.306818 | H36: 96.875 | I36: 95.454545 | J36: 97.159091 | K36: (22) | L36: 96.489773 | M36: 92.045455 | N36: 97.727273 | O36: 98.863636 | P36: 97.727273 | Q36: 95.454545 | R36: 97.727273 | S36: (66) | T36: 96.613055 | U36: 96.212121 | V36: 98.106061 | W36: 95.454545 | X36: 96.590909 | Y36: . | Z36: 96.969697
A37: 청 합계 | C37: (3410) | D37: 95.328745 | E37: 93.951613 | F37: 95.491202 | G37: 94.714076 | H37: 95.843109 | I37: 95.177384 | J37: 97.140762 | K37: (902) | L37: 95.128104 | M37: 93.930155 | N37: 95.260532 | O37: 94.539911 | P37: 95.371397 | Q37: 95.177384 | R37: 96.95122 | S37: (2508) | T37: 95.400905 | U37: 93.95933 | V37: 95.574163 | W37: 94.776715 | X37: 96.012759 | Y37: . | Z37: 97.208931
A38: 경인 | B38: 인천 | C38: (88) | D38: 93.752543 | E38: 91.477273 | F38: 94.034091 | G38: 91.477273 | H38: 96.022727 | I38: 94.318182 | J38: 96.590909 | K38: (22) | L38: 93.395455 | M38: 88.636364 | N38: 96.590909 | O38: 92.045455 | P38: 95.454545 | Q38: 94.318182 | R38: 94.318182 | S38: (66) | T38: 93.871572 | U38: 92.424242 | V38: 93.181818 | W38: 91.287879 | X38: 96.212121 | Y38: . | Z38: 97.348485
B39: 서인천 | C39: (88) | D39: 93.494786 | E39: 91.761364 | F39: 93.75 | G39: 94.034091 | H39: 94.034091 | I39: 90.909091 | J39: 94.886364 | K39: (22) | L39: 93.217045 | M39: 92.045455 | N39: 93.181818 | O39: 93.181818 | P39: 93.181818 | Q39: 90.909091 | R39: 97.727273 | S39: (66) | T39: 93.587366 | U39: 91.666667 | V39: 93.939394 | W39: 94.318182 | X39: 94.318182 | Y39: . | Z39: 93.939394
B40: 부평 | C40: (88) | D40: 94.351264 | E40: 94.318182 | F40: 94.318182 | G40: 94.318182 | H40: 93.181818 | I40: 93.181818 | J40: 95.738636 | K40: (22) | L40: 93.279545 | M40: 92.045455 | N40: 92.045455 | O40: 93.181818 | P40: 93.181818 | Q40: 93.181818 | R40: 96.590909 | S40: (66) | T40: 94.708504 | U40: 95.075758 | V40: 95.075758 | W40: 94.69697 | X40: 93.181818 | Y40: . | Z40: 95.454545
B41: 인천계양 | C41: (88) | D41: 95.809789 | E41: 94.034091 | F41: 94.886364 | G41: 95.454545 | H41: 96.590909 | I41: 97.727273 | J41: 99.147727 | K41: (22) | L41: 99.005682 | M41: 97.727273 | N41: 100 | O41: 100 | P41: 98.863636 | Q41: 97.727273 | R41: 100 | S41: (66) | T41: 94.744491 | U41: 92.80303 | V41: 93.181818 | W41: 93.939394 | X41: 95.833333 | Y41: . | Z41: 98.863636
B42: 남인천 | C42: (88) | D42: 96.150973 | E42: 95.738636 | F42: 96.590909 | G42: 94.886364 | H42: 96.306818 | I42: 95.454545 | J42: 97.727273 | K42: (22) | L42: 95.704545 | M42: 95.454545 | N42: 95.454545 | O42: 93.181818 | P42: 97.727273 | Q42: 95.454545 | R42: 97.727273 | S42: (66) | T42: 96.299782 | U42: 95.833333 | V42: 96.969697 | W42: 95.454545 | X42: 95.833333 | Y42: . | Z42: 97.727273
B43: 의정부 | C43: (88) | D43: 94.609969 | E43: 93.181818 | F43: 93.75 | G43: 92.613636 | H43: 96.590909 | I43: 95.454545 | J43: 96.875 | K43: (22) | L43: 92.253409 | M43: 87.5 | N43: 89.772727 | O43: 90.909091 | P43: 95.454545 | Q43: 95.454545 | R43: 95.454545 | S43: (66) | T43: 95.39549 | U43: 95.075758 | V43: 95.075758 | W43: 93.181818 | X43: 96.969697 | Y43: . | Z43: 97.348485
B44: 수원 | C44: (88) | D44: 94.424326 | E44: 92.329545 | F44: 95.454545 | G44: 92.329545 | H44: 96.306818 | I44: 93.181818 | J44: 96.306818 | K44: (22) | L44: 92.053409 | M44: 87.5 | N44: 94.318182 | O44: 86.363636 | P44: 94.318182 | Q44: 93.181818 | R44: 98.863636 | S44: (66) | T44: 95.214631 | U44: 93.939394 | V44: 95.833333 | W44: 94.318182 | X44: 96.969697 | Y44: . | Z44: 95.454545
B45: 동수원 | C45: (88) | D45: 96.586677 | E45: 94.886364 | F45: 96.306818 | G45: 96.022727 | H45: 97.727273 | I45: 97.727273 | J45: 98.579545 | K45: (22) | L45: 97.671591 | M45: 96.590909 | N45: 96.590909 | O45: 97.727273 | P45: 98.863636 | Q45: 97.727273 | R45: 98.863636 | S45: (66) | T45: 96.22504 | U45: 94.318182 | V45: 96.212121 | W45: 95.454545 | X45: 97.348485 | Y45: . | Z45: 98.484848
B46: 서수원 | C46: (88) | D46: 95.872422 | E46: 94.886364 | F46: 95.454545 | G46: 94.034091 | H46: 97.727273 | I46: 94.318182 | J46: 97.159091 | K46: (22) | L46: 91.603409 | M46: 88.636364 | N46: 90.909091 | O46: 86.363636 | P46: 95.454545 | Q46: 94.318182 | R46: 95.454545 | S46: (66) | T46: 97.295427 | U46: 96.969697 | V46: 96.969697 | W46: 96.590909 | X46: 98.484848 | Y46: . | Z46: 97.727273
B47: 군포 | C47: (88) | D47: 97.715103 | E47: 96.875 | F47: 97.727273 | G47: 97.443182 | H47: 98.579545 | I47: 95.454545 | J47: 98.295455 | K47: (22) | L47: 95.715909 | M47: 93.181818 | N47: 95.454545 | O47: 95.454545 | P47: 98.863636 | Q47: 95.454545 | R47: 96.590909 | S47: (66) | T47: 98.381501 | U47: 98.106061 | V47: 98.484848 | W47: 98.106061 | X47: 98.484848 | Y47: . | Z47: 98.863636
B48: 안양 | C48: (88) | D48: 94.582711 | E48: 91.761364 | F48: 94.886364 | G48: 93.75 | H48: 96.022727 | I48: 92.045455 | J48: 97.727273 | K48: (22) | L48: 93.077273 | M48: 92.045455 | N48: 94.318182 | O48: 92.045455 | P48: 94.318182 | Q48: 92.045455 | R48: 94.318182 | S48: (66) | T48: 95.084524 | U48: 91.666667 | V48: 95.075758 | W48: 94.318182 | X48: 96.590909 | Y48: . | Z48: 98.863636
B49: 성남 | C49: (88) | D49: 94.85333 | E49: 93.75 | F49: 96.022727 | G49: 93.181818 | H49: 96.022727 | I49: 90.909091 | J49: 97.443182 | K49: (22) | L49: 95.927273 | M49: 96.590909 | N49: 97.727273 | O49: 96.590909 | P49: 97.727273 | Q49: 90.909091 | R49: 96.590909 | S49: (66) | T49: 94.495349 | U49: 92.80303 | V49: 95.454545 | W49: 92.045455 | X49: 95.454545 | Y49: . | Z49: 97.727273
B50: 성남분당 | C50: (88) | D50: 97.191592 | E50: 96.306818 | F50: 96.590909 | G50: 96.875 | H50: 98.579545 | I50: 96.590909 | J50: 98.295455 | K50: (22) | L50: 97.734091 | M50: 96.590909 | N50: 97.727273 | O50: 100 | P50: 97.727273 | Q50: 96.590909 | R50: 97.727273 | S50: (66) | T50: 97.010759 | U50: 96.212121 | V50: 96.212121 | W50: 95.833333 | X50: 98.863636 | Y50: . | Z50: 98.484848
... B78: 인천남동 | C78: (88) | D78: 96.046594 | E78: 94.602273 | F78: 96.875 | G78: 96.022727 | H78: 96.875 | I78: 94.318182 | J78: 96.590909 | K78: (22) | L78: 95.810227 | M78: 94.318182 | N78: 97.727273 | O78: 93.181818 | P78: 96.590909 | Q78: 94.318182 | R78: 100 | S78: (66) | T78: 96.125383 | U78: 94.69697 | V78: 96.590909 | W78: 96.969697 | X78: 96.969697 | Y78: . | Z78: 95.454545
A79: 청 합계 | C79: (2992) | D79: 96.431651 | E79: 95.295789 | F79: 96.849933 | G79: 96.031083 | H79: 96.891711 | I79: 95.27512 | J79: 97.56016 | K79: (836) | L79: 95.599103 | M79: 94.16866 | N79: 95.813397 | O79: 95.514354 | P79: 96.172249 | Q79: 95.27512 | R79: 97.099282 | S79: (2156) | T79: 96.754476 | U79: 95.732839 | V79: 97.251855 | W79: 96.231447 | X79: 97.170686 | Y79: . | Z79: 97.738868
A80: 부산 | B80: 부산 | C80: (88) | D80: 96.548381 | E80: 95.454545 | F80: 96.875 | G80: 95.738636 | H80: 96.306818 | I80: 100 | J80: 98.295455 | K80: (22) | L80: 98.132955 | M80: 98.863636 | N80: 97.727273 | O80: 96.590909 | P80: 97.727273 | Q80: 100 | R80: 97.727273 | S80: (66) | T80: 96.02019 | U80: 94.318182 | V80: 96.590909 | W80: 95.454545 | X80: 95.833333 | Y80: . | Z80: 98.484848
B81: 동래 | C81: (88) | D81: 96.815234 | E81: 95.170455 | F81: 95.454545 | G81: 96.590909 | H81: 99.147727 | I81: 97.727273 | J81: 97.443182 | K81: (22) | L81: 95.090909 | M81: 92.045455 | N81: 92.045455 | O81: 96.590909 | P81: 98.863636 | Q81: 97.727273 | R81: 93.181818 | S81: (66) | T81: 97.390008 | U81: 96.212121 | V81: 96.590909 | W81: 96.590909 | X81: 99.242424 | Y81: . | Z81: 98.863636
B82: 남부산 | C82: (88) | D82: 98.08133 | E82: 97.159091 | F82: 98.295455 | G82: 98.295455 | H82: 97.727273 | I82: 95.454545 | J82: 99.431818 | K82: (22) | L82: 96.45 | M82: 93.181818 | N82: 95.454545 | O82: 97.727273 | P82: 97.727273 | Q82: 95.454545 | R82: 100 | S82: (66) | T82: 98.625106 | U82: 98.484848 | V82: 99.242424 | W82: 98.484848 | X82: 97.727273 | Y82: . | Z82: 99.242424
B83: 부산사상 | C83: (88) | D83: 98.909322 | E83: 98.295455 | F83: 99.431818 | G83: 98.863636 | H83: 99.147727 | I83: 98.863636 | J83: 98.863636 | K83: (22) | L83: 98.692045 | M83: 98.863636 | N83: 98.863636 | O83: 98.863636 | P83: 97.727273 | Q83: 98.863636 | R83: 98.863636 | S83: (66) | T83: 98.981748 | U83: 98.106061 | V83: 99.621212 | W83: 98.863636 | X83: 99.621212 | Y83: . | Z83: 98.863636
B84: 부산금정 | C84: (88) | D84: 96.403651 | E84: 96.022727 | F84: 96.875 | G84: 96.022727 | H84: 96.875 | I84: 93.181818 | J84: 96.875 | K84: (22) | L84: 94.839773 | M84: 95.454545 | N84: 96.590909 | O84: 94.318182 | P84: 93.181818 | Q84: 93.181818 | R84: 96.590909 | S84: (66) | T84: 96.924944 | U84: 96.212121 | V84: 96.969697 | W84: 96.590909 | X84: 98.106061 | Y84: . | Z84: 96.969697
B85: 부산사하 | C85: (88) | D85: 97.957462 | E85: 97.159091 | F85: 98.863636 | G85: 98.295455 | H85: 97.727273 | I85: 96.590909 | J85: 98.295455 | K85: (22) | L85: 98.259091 | M85: 97.727273 | N85: 100 | O85: 98.863636 | P85: 97.727273 | Q85: 96.590909 | R85: 98.863636 | S85: (66) | T85: 97.856919 | U85: 96.969697 | V85: 98.484848 | W85: 98.106061 | X85: 97.727273 | Y85: . | Z85: 98.106061
B86: 해운대 | C86: (88) | D86: 96.982932 | E86: 95.738636 | F86: 97.443182 | G86: 96.875 | H86: 97.159091 | I86: 98.863636 | J86: 97.727273 | K86: (22) | L86: 97.95 | M86: 97.727273 | N86: 98.863636 | O86: 97.727273 | P86: 97.727273 | Q86: 98.863636 | R86: 96.590909 | S86: (66) | T86: 96.660577 | U86: 95.075758 | V86: 96.969697 | W86: 96.590909 | X86: 96.969697 | Y86: . | Z86: 98.106061
B87: 북부산 | C87: (88) | D87: 95.461595 | E87: 93.465909 | F87: 96.875 | G87: 95.738636 | H87: 94.886364 | I87: 90.909091 | J87: 97.443182 | K87: (22) | L87: 93.331818 | M87: 92.045455 | N87: 96.590909 | O87: 95.454545 | P87: 88.636364 | Q87: 90.909091 | R87: 96.590909 | S87: (66) | T87: 96.17152 | U87: 93.939394 | V87: 96.969697 | W87: 95.833333 | X87: 96.969697 | Y87: . | Z87: 97.727273
B88: 부산연제 | C88: (88) | D88: 96.223401 | E88: 94.318182 | F88: 97.159091 | G88: 95.454545 | H88: 98.295455 | I88: 93.181818 | J88: 96.590909 | K88: (22) | L88: 93.740909 | M88: 90.909091 | N88: 94.318182 | O88: 92.045455 | P88: 96.590909 | Q88: 93.181818 | R88: 96.590909 | S88: (66) | T88: 97.050899 | U88: 95.454545 | V88: 98.106061 | W88: 96.590909 | X88: 98.863636 | Y88: . | Z88: 96.590909
B89: 부산진 | C89: (88) | D89: 94.625887 | E89: 92.897727 | F89: 94.318182 | G89: 94.886364 | H89: 95.738636 | I89: 87.5 | J89: 97.159091 | K89: (22) | L89: 92.253409 | M89: 92.045455 | N89: 92.045455 | O89: 93.181818 | P89: 92.045455 | Q89: 87.5 | R89: 97.727273 | S89: (66) | T89: 95.416713 | U89: 93.181818 | V89: 95.075758 | W89: 95.454545 | X89: 96.969697 | Y89: . | Z89: 96.969697
B90: 울산 | C90: (88) | D90: 96.729496 | E90: 96.022727 | F90: 97.159091 | G90: 95.170455 | H90: 98.295455 | I90: 97.727273 | J90: 97.443182 | K90: (22) | L90: 97.527273 | M90: 97.727273 | N90: 97.727273 | O90: 96.590909 | P90: 98.863636 | Q90: 97.727273 | R90: 96.590909 | S90: (66) | T90: 96.46357 | U90: 95.454545 | V90: 96.969697 | W90: 94.69697 | X90: 98.106061 | Y90: . | Z90: 97.727273
B91: 남울산 | C91: (88) | D91: 95.830272 | E91: 94.318182 | F91: 95.738636 | G91: 96.590909 | H91: 96.590909 | I91: 92.045455 | J91: 96.590909 | K91: (22) | L91: 93.659091 | M91: 90.909091 | N91: 94.318182 | O91: 95.454545 | P91: 94.318182 | Q91: 92.045455 | R91: 95.454545 | S91: (66) | T91: 96.553999 | U91: 95.454545 | V91: 96.212121 | W91: 96.969697 | X91: 97.348485 | Y91: . | Z91: 96.969697
B92: 마산 | C92: (88) | D92: 96.462615 | E92: 93.465909 | F92: 96.875 | G92: 96.306818 | H92: 97.727273 | I92: 95.454545 | J92: 98.295455 | K92: (22) | L92: 94.157955 | M92: 85.227273 | N92: 95.454545 | O92: 93.181818 | P92: 97.727273 | Q92: 95.454545 | R92: 100 | S92: (66) | T92: 97.230835 | U92: 96.212121 | V92: 97.348485 | W92: 97.348485 | X92: 97.727273 | Y92: . | Z92: 97.727273
... B117: 합천 | C117: (66) | D117: 96.518794 | E117: 97.348485 | F117: 94.318182 | G117: 96.590909 | H117: 96.969697 | I117: 95.454545 | J117: 97.727273 | K117: (22) | L117: 96.357955 | M117: 96.590909 | N117: 94.318182 | O117: 96.590909 | P117: 97.727273 | Q117: 95.454545 | R117: 97.727273 | S117: (44) | T117: 96.599214 | U117: 97.727273 | V117: 94.318182 | W117: 96.590909 | X117: 96.590909 | Y117: . | Z117: 97.727273
A118: 청 합계 | C118: (2463) | D118: 96.487506 | E118: 95.351198 | F118: 97.076736 | G118: 96.051563 | H118: 96.751929 | I118: 96.022727 | J118: 97.634998 | K118: (704) | L118: 96.220881 | M118: 95.241477 | N118: 96.803977 | O118: 96.022727 | P118: 96.377841 | Q118: 96.022727 | R118: 97.159091 | S118: (1759) | T118: 96.594216 | U118: 95.395111 | V118: 97.185901 | W118: 96.063104 | X118: 96.901649 | Y118: . | Z118: 97.825469
A119: 충청 | B119: 공주 | C119: (88) | D119: 96.875206 | E119: 96.306818 | F119: 97.727273 | G119: 95.738636 | H119: 98.011364 | I119: 97.727273 | J119: 97.159091 | K119: (22) | L119: 98.517045 | M119: 98.863636 | N119: 100 | O119: 98.863636 | P119: 98.863636 | Q119: 97.727273 | R119: 96.590909 | S119: (66) | T119: 96.327926 | U119: 95.454545 | V119: 96.969697 | W119: 94.69697 | X119: 97.727273 | Y119: . | Z119: 97.348485
B120: 대전 | C120: (88) | D120: 95.922955 | E120: 94.318182 | F120: 96.306818 | G120: 95.454545 | H120: 97.443182 | I120: 90.909091 | J120: 97.443182 | K120: (22) | L120: 93.780682 | M120: 90.909091 | N120: 94.318182 | O120: 95.454545 | P120: 94.318182 | Q120: 90.909091 | R120: 97.727273 | S120: (66) | T120: 96.637046 | U120: 95.454545 | V120: 96.969697 | W120: 95.454545 | X120: 98.484848 | Y120: . | Z120: 97.348485
B121: 대전대덕 | C121: (88) | D121: 96.945792 | E121: 95.738636 | F121: 98.579545 | G121: 96.590909 | H121: 97.159091 | I121: 94.318182 | J121: 98.011364 | K121: (22) | L121: 97.888636 | M121: 97.727273 | N121: 98.863636 | O121: 100 | P121: 98.863636 | Q121: 94.318182 | R121: 97.727273 | S121: (66) | T121: 96.63151 | U121: 95.075758 | V121: 98.484848 | W121: 95.454545 | X121: 96.590909 | Y121: . | Z121: 98.106061
B122: 대전둔산 | C122: (88) | D122: 96.693884 | E122: 95.170455 | F122: 96.306818 | G122: 96.306818 | H122: 97.443182 | I122: 97.727273 | J122: 98.295455 | K122: (22) | L122: 96.168182 | M122: 95.454545 | N122: 96.590909 | O122: 94.318182 | P122: 96.590909 | Q122: 97.727273 | R122: 96.590909 | S122: (66) | T122: 96.869117 | U122: 95.075758 | V122: 96.212121 | W122: 96.969697 | X122: 97.727273 | Y122: . | Z122: 98.863636
B123: 대전유성 | C123: (88) | D123: 96.772782 | E123: 95.454545 | F123: 96.590909 | G123: 96.875 | H123: 96.875 | I123: 96.590909 | J123: 98.579545 | K123: (22) | L123: 97.088636 | M123: 95.454545 | N123: 96.590909 | O123: 97.727273 | P123: 97.727273 | Q123: 96.590909 | R123: 98.863636 | S123: (66) | T123: 96.667497 | U123: 95.454545 | V123: 96.590909 | W123: 96.590909 | X123: 96.590909 | Y123: . | Z123: 98.484848
B124: 서대전 | C124: (87) | D124: 94.658206 | E124: 91.954023 | F124: 95.402299 | G124: 93.965517 | H124: 95.689655 | I124: 97.727273 | J124: 96.551724 | K124: (22) | L124: 96.031818 | M124: 92.045455 | N124: 96.590909 | O124: 94.318182 | P124: 96.590909 | Q124: 97.727273 | R124: 100 | S124: (65) | T124: 94.193291 | U124: 91.923077 | V124: 95 | W124: 93.846154 | X124: 95.384615 | Y124: . | Z124: 95.384615
B125: 서청주 | C125: (88) | D125: 94.656962 | E125: 93.181818 | F125: 96.590909 | G125: 94.034091 | H125: 92.613636 | I125: 90.909091 | J125: 98.011364 | K125: (22) | L125: 93.054545 | M125: 93.181818 | N125: 94.318182 | O125: 92.045455 | P125: 90.909091 | Q125: 90.909091 | R125: 97.727273 | S125: (66) | T125: 95.191101 | U125: 93.181818 | V125: 97.348485 | W125: 94.69697 | X125: 93.181818 | Y125: . | Z125: 98.106061
B126: 아산 | C126: (88) | D126: 94.878551 | E126: 92.897727 | F126: 95.170455 | G126: 93.465909 | H126: 95.454545 | I126: 98.863636 | J126: 97.443182 | K126: (22) | L126: 96.1375 | M126: 94.318182 | N126: 98.863636 | O126: 93.181818 | P126: 94.318182 | Q126: 98.863636 | R126: 97.727273 | S126: (66) | T126: 94.458901 | U126: 92.424242 | V126: 93.939394 | W126: 93.560606 | X126: 95.833333 | Y126: . | Z126: 97.348485
B127: 제천 | C127: (88) | D127: 97.845322 | E127: 97.159091 | F127: 97.727273 | G127: 98.011364 | H127: 97.727273 | I127: 97.727273 | J127: 98.579545 | K127: (22) | L127: 97.129545 | M127: 95.454545 | N127: 96.590909 | O127: 97.727273 | P127: 97.727273 | Q127: 97.727273 | R127: 97.727273 | S127: (66) | T127: 98.083915 | U127: 97.727273 | V127: 98.106061 | W127: 98.106061 | X127: 97.727273 | Y127: . | Z127: 98.863636
B128: 동천안 | C128: (88) | D128: 95.803121 | E128: 94.318182 | F128: 96.875 | G128: 94.318182 | H128: 96.875 | I128: 97.727273 | J128: 96.306818 | K128: (22) | L128: 94.607955 | M128: 93.181818 | N128: 94.318182 | O128: 90.909091 | P128: 97.727273 | Q128: 97.727273 | R128: 94.318182 | S128: (66) | T128: 96.20151 | U128: 94.69697 | V128: 97.727273 | W128: 95.454545 | X128: 96.590909 | Y128: . | Z128: 96.969697
B129: 천안 | C129: (88) | D129: 95.351034 | E129: 94.034091 | F129: 94.886364 | G129: 94.886364 | H129: 96.306818 | I129: 92.045455 | J129: 96.875 | K129: (22) | L129: 91.182955 | M129: 89.772727 | N129: 90.909091 | O129: 89.772727 | P129: 90.909091 | Q129: 92.045455 | R129: 94.318182 | S129: (66) | T129: 96.740394 | U129: 95.454545 | V129: 96.212121 | W129: 96.590909 | X129: 98.106061 | Y129: . | Z129: 97.727273
B130: 청주 | C130: (88) | D130: 96.51993 | E130: 95.738636 | F130: 97.159091 | G130: 95.738636 | H130: 97.727273 | I130: 93.181818 | J130: 96.875 | K130: (22) | L130: 94.268182 | M130: 93.181818 | N130: 93.181818 | O130: 95.454545 | P130: 95.454545 | Q130: 93.181818 | R130: 95.454545 | S130: (66) | T130: 97.270513 | U130: 96.590909 | V130: 98.484848 | W130: 95.833333 | X130: 98.484848 | Y130: . | Z130: 97.348485
B131: 충주 | C131: (88) | D131: 96.180063 | E131: 95.454545 | F131: 97.159091 | G131: 95.454545 | H131: 94.602273 | I131: 94.318182 | J131: 98.011364 | K131: (22) | L131: 92.396591 | M131: 92.045455 | N131: 92.045455 | O131: 90.909091 | P131: 90.909091 | Q131: 94.318182 | R131: 94.318182 | S131: (66) | T131: 97.441221 | U131: 96.590909 | V131: 98.863636 | W131: 96.969697 | X131: 95.833333 | Y131: . | Z131: 99.242424
... B150: 홍성 | C150: (66) | D150: 97.107231 | E150: 96.212121 | F150: 96.969697 | G150: 95.833333 | H150: 98.484848 | I150: 97.727273 | J150: 98.484848 | K150: (22) | L150: 97.472727 | M150: 96.590909 | N150: 97.727273 | O150: 96.590909 | P150: 97.727273 | Q150: 97.727273 | R150: 98.863636 | S150: (44) | T150: 96.924482 | U150: 96.022727 | V150: 96.590909 | W150: 95.454545 | X150: 98.863636 | Y150: . | Z150: 98.295455
A151: 청 합계 | C151: (1914) | D151: 97.058411 | E151: 96.003135 | F151: 97.087252 | G151: 96.786834 | H151: 97.727273 | I151: 97.071678 | J151: 98.119122 | K151: (572) | L151: 97.337281 | M151: 96.45979 | N151: 97.333916 | O151: 97.465035 | P151: 97.945804 | Q151: 97.071678 | R151: 97.98951 | S151: (1342) | T151: 96.939549 | U151: 95.808495 | V151: 96.982116 | W151: 96.497765 | X151: 97.634128 | Y151: . | Z151: 98.174367
A152: 전남 | B152: 광주 | C152: (88) | D152: 96.378247 | E152: 94.886364 | F152: 95.738636 | G152: 96.590909 | H152: 97.443182 | I152: 97.727273 | J152: 97.727273 | K152: (22) | L152: 98.118182 | M152: 97.727273 | N152: 98.863636 | O152: 98.863636 | P152: 97.727273 | Q152: 97.727273 | R152: 97.727273 | S152: (66) | T152: 95.798269 | U152: 93.939394 | V152: 94.69697 | W152: 95.833333 | X152: 97.348485 | Y152: . | Z152: 97.727273
B153: 북광주 | C153: (88) | D153: 96.901748 | E153: 94.886364 | F153: 97.443182 | G153: 96.875 | H153: 97.443182 | I153: 97.727273 | J153: 98.295455 | K153: (22) | L153: 97.592045 | M153: 97.727273 | N153: 96.590909 | O153: 98.863636 | P153: 97.727273 | Q153: 97.727273 | R153: 96.590909 | S153: (66) | T153: 96.67165 | U153: 93.939394 | V153: 97.727273 | W153: 96.212121 | X153: 97.348485 | Y153: . | Z153: 98.863636
B154: 서광주 | C154: (88) | D154: 95.530399 | E154: 95.738636 | F154: 95.738636 | G154: 94.034091 | H154: 95.738636 | I154: 96.590909 | J154: 96.590909 | K154: (22) | L154: 96.126136 | M154: 96.590909 | N154: 96.590909 | O154: 93.181818 | P154: 96.590909 | Q154: 96.590909 | R154: 97.727273 | S154: (66) | T154: 95.33182 | U154: 95.454545 | V154: 95.454545 | W154: 94.318182 | X154: 95.454545 | Y154: . | Z154: 96.212121
B155: 광주광산 | C155: (88) | D155: 96.324174 | E155: 94.034091 | F155: 97.727273 | G155: 96.022727 | H155: 96.590909 | I155: 93.181818 | J155: 98.579545 | K155: (22) | L155: 95.701136 | M155: 93.181818 | N155: 97.727273 | O155: 96.590909 | P155: 96.590909 | Q155: 93.181818 | R155: 97.727273 | S155: (66) | T155: 96.531853 | U155: 94.318182 | V155: 97.727273 | W155: 95.833333 | X155: 96.590909 | Y155: . | Z155: 98.863636
B156: 목포 | C156: (88) | D156: 96.306939 | E156: 94.318182 | F156: 95.170455 | G156: 96.306818 | H156: 98.295455 | I156: 97.727273 | J156: 96.875 | K156: (22) | L156: 94.055682 | M156: 89.772727 | N156: 89.772727 | O156: 94.318182 | P156: 98.863636 | Q156: 97.727273 | R156: 94.318182 | S156: (66) | T156: 97.057358 | U156: 95.833333 | V156: 96.969697 | W156: 96.969697 | X156: 98.106061 | Y156: . | Z156: 97.727273
B157: 여수 | C157: (88) | D157: 97.004594 | E157: 96.306818 | F157: 97.727273 | G157: 96.306818 | H157: 96.306818 | I157: 98.863636 | J157: 98.295455 | K157: (22) | L157: 97.495455 | M157: 96.590909 | N157: 97.727273 | O157: 96.590909 | P157: 95.454545 | Q157: 98.863636 | R157: 100 | S157: (66) | T157: 96.840974 | U157: 96.212121 | V157: 97.727273 | W157: 96.212121 | X157: 96.590909 | Y157: . | Z157: 97.727273
B158: 순천 | C158: (88) | D158: 96.859114 | E158: 97.159091 | F158: 97.159091 | G158: 96.306818 | H158: 96.590909 | I158: 96.590909 | J158: 97.443182 | K158: (22) | L158: 97.580682 | M158: 97.727273 | N158: 98.863636 | O158: 98.863636 | P158: 96.590909 | Q158: 96.590909 | R158: 96.590909 | S158: (66) | T158: 96.618592 | U158: 96.969697 | V158: 96.590909 | W158: 95.454545 | X158: 96.590909 | Y158: . | Z158: 97.727273
B159: 강진 | C159: (66) | D159: 99.312048 | E159: 98.484848 | F159: 99.621212 | G159: 99.242424 | H159: 99.242424 | I159: 100 | J159: 99.621212 | K159: (22) | L159: 98.642045 | M159: 96.590909 | N159: 98.863636 | O159: 98.863636 | P159: 97.727273 | Q159: 100 | R159: 100 | S159: (44) | T159: 99.647049 | U159: 99.431818 | V159: 100 | W159: 99.431818 | X159: 100 | Y159: . | Z159: 99.431818
B160: 장흥 | C160: (66) | D160: 97.658345 | E160: 94.69697 | F160: 98.863636 | G160: 97.348485 | H160: 99.621212 | I160: 96.590909 | J160: 98.863636 | K160: (22) | L160: 97.640909 | M160: 97.727273 | N160: 100 | O160: 95.454545 | P160: 98.863636 | Q160: 96.590909 | R160: 97.727273 | S160: (44) | T160: 97.667063 | U160: 93.181818 | V160: 98.295455 | W160: 98.295455 | X160: 100 | Y160: . | Z160: 99.431818
B161: 화순 | C161: (66) | D161: 95.984151 | E161: 94.318182 | F161: 96.969697 | G161: 95.454545 | H161: 97.348485 | I161: 95.454545 | J161: 96.969697 | K161: (22) | L161: 97.169318 | M161: 96.590909 | N161: 98.863636 | O161: 98.863636 | P161: 96.590909 | Q161: 95.454545 | R161: 96.590909 | S161: (44) | T161: 95.391568 | U161: 93.181818 | V161: 96.022727 | W161: 93.75 | X161: 97.727273 | Y161: . | Z161: 97.159091
B162: 곡성 | C162: (66) | D162: 98.000527 | E162: 97.727273 | F162: 96.969697 | G162: 97.348485 | H162: 98.863636 | I162: 100 | J162: 98.863636 | K162: (22) | L162: 98.639773 | M162: 97.727273 | N162: 97.727273 | O162: 97.727273 | P162: 100 | Q162: 100 | R162: 98.863636 | S162: (44) | T162: 97.680905 | U162: 97.727273 | V162: 96.590909 | W162: 97.159091 | X162: 98.295455 | Y162: . | Z162: 98.863636
B163: 담양 | C163: (66) | D163: 98.65735 | E163: 97.348485 | F163: 99.621212 | G163: 98.484848 | H163: 98.863636 | I163: 97.727273 | J163: 99.621212 | K163: (22) | L163: 98.597727 | M163: 96.590909 | N163: 100 | O163: 98.863636 | P163: 100 | Q163: 97.727273 | R163: 98.863636 | S163: (44) | T163: 98.687161 | U163: 97.727273 | V163: 99.431818 | W163: 98.295455 | X163: 98.295455 | Y163: . | Z163: 100
B164: 장성 | C164: (66) | D164: 95.91723 | E164: 95.075758 | F164: 95.454545 | G164: 95.075758 | H164: 97.727273 | I164: 92.045455 | J164: 97.727273 | K164: (22) | L164: 94.547727 | M164: 96.590909 | N164: 92.045455 | O164: 92.045455 | P164: 97.727273 | Q164: 92.045455 | R164: 97.727273 | S164: (44) | T164: 96.601982 | U164: 94.318182 | V164: 97.159091 | W164: 96.590909 | X164: 97.727273 | Y164: . | Z164: 97.727273
... B177: 영암우편집중국 | C177: (66) | D177: 97.068742 | E177: 96.590909 | F177: 96.969697 | G177: 96.969697 | H177: 96.969697 | I177: 98.863636 | J177: 98.106061 | K177: (22) | L177: 99.0625 | M177: 98.863636 | N177: 97.727273 | O177: 100 | P177: 100 | Q177: 98.863636 | R177: 98.863636 | S177: (44) | T177: 96.071864 | U177: 95.454545 | V177: 96.590909 | W177: 95.454545 | X177: 95.454545 | Y177: . | Z177: 97.727273
A178: 청 합계 | C178: (2266) | D178: 95.991762 | E178: 94.605031 | F178: 96.293027 | G178: 95.97308 | H178: 96.403354 | I178: 95.757576 | J178: 97.087379 | K178: (660) | L178: 95.945871 | M178: 94.962121 | N178: 96.401515 | O178: 95.984848 | P178: 96.363636 | Q178: 95.757576 | R178: 96.439394 | S178: (1606) | T178: 96.010621 | U178: 94.458281 | V178: 96.248443 | W178: 95.968244 | X178: 96.419676 | Y178: . | Z178: 97.353674
A179: 경북 | B179: 대구 | C179: (88) | D179: 97.423486 | E179: 97.159091 | F179: 97.159091 | G179: 97.443182 | H179: 97.727273 | I179: 94.318182 | J179: 98.295455 | K179: (22) | L179: 96.184091 | M179: 96.590909 | N179: 96.590909 | O179: 96.590909 | P179: 96.590909 | Q179: 94.318182 | R179: 96.590909 | S179: (66) | T179: 97.836618 | U179: 97.348485 | V179: 97.348485 | W179: 97.727273 | X179: 98.106061 | Y179: . | Z179: 98.863636
B180: 동대구 | C180: (88) | D180: 94.299488 | E180: 93.465909 | F180: 93.465909 | G180: 93.465909 | H180: 94.318182 | I180: 92.045455 | J180: 97.727273 | K180: (22) | L180: 93.245455 | M180: 93.181818 | N180: 89.772727 | O180: 93.181818 | P180: 93.181818 | Q180: 92.045455 | R180: 98.863636 | S180: (66) | T180: 94.650832 | U180: 93.560606 | V180: 94.69697 | W180: 93.560606 | X180: 94.69697 | Y180: . | Z180: 97.348485
B181: 서대구 | C181: (88) | D181: 95.62051 | E181: 94.318182 | F181: 95.454545 | G181: 96.022727 | H181: 95.738636 | I181: 97.727273 | J181: 96.875 | K181: (22) | L181: 97.869318 | M181: 97.727273 | N181: 95.454545 | O181: 97.727273 | P181: 100 | Q181: 97.727273 | R181: 98.863636 | S181: (66) | T181: 94.870908 | U181: 93.181818 | V181: 95.454545 | W181: 95.454545 | X181: 94.318182 | Y181: . | Z181: 96.212121
B182: 북대구 | C182: (88) | D182: 94.282773 | E182: 92.613636 | F182: 95.454545 | G182: 92.329545 | H182: 94.602273 | I182: 93.181818 | J182: 96.875 | K182: (22) | L182: 91.876136 | M182: 88.636364 | N182: 93.181818 | O182: 89.772727 | P182: 92.045455 | Q182: 93.181818 | R182: 95.454545 | S182: (66) | T182: 95.084985 | U182: 93.939394 | V182: 96.212121 | W182: 93.181818 | X182: 95.454545 | Y182: . | Z182: 97.348485
B183: 대구달서 | C183: (88) | D183: 93.341205 | E183: 92.613636 | F183: 92.897727 | G183: 92.897727 | H183: 94.886364 | I183: 87.5 | J183: 94.886364 | K183: (22) | L183: 91.267045 | M183: 93.181818 | N183: 90.909091 | O183: 92.045455 | P183: 93.181818 | Q183: 87.5 | R183: 90.909091 | S183: (66) | T183: 94.032591 | U183: 92.424242 | V183: 93.560606 | W183: 93.181818 | X183: 95.454545 | Y183: . | Z183: 96.212121
B184: 대구수성 | C184: (88) | D184: 95.357842 | E184: 92.897727 | F184: 96.022727 | G184: 94.886364 | H184: 96.306818 | I184: 96.590909 | J184: 97.159091 | K184: (22) | L184: 95.927273 | M184: 95.454545 | N184: 96.590909 | O184: 93.181818 | P184: 97.727273 | Q184: 96.590909 | R184: 96.590909 | S184: (66) | T184: 95.168032 | U184: 92.045455 | V184: 95.833333 | W184: 95.454545 | X184: 95.833333 | Y184: . | Z184: 97.348485
B185: 포항 | C185: (88) | D185: 96.84974 | E185: 96.306818 | F185: 96.306818 | G185: 97.159091 | H185: 96.875 | I185: 98.863636 | J185: 97.727273 | K185: (22) | L185: 98.863636 | M185: 98.863636 | N185: 98.863636 | O185: 98.863636 | P185: 98.863636 | Q185: 98.863636 | R185: 98.863636 | S185: (66) | T185: 96.178441 | U185: 95.454545 | V185: 95.454545 | W185: 96.590909 | X185: 96.212121 | Y185: . | Z185: 97.348485
B186: 경주 | C186: (88) | D186: 97.346794 | E186: 96.306818 | F186: 97.727273 | G186: 98.011364 | H186: 96.875 | I186: 96.590909 | J186: 98.295455 | K186: (22) | L186: 97.870455 | M186: 96.590909 | N186: 100 | O186: 98.863636 | P186: 95.454545 | Q186: 96.590909 | R186: 100 | S186: (66) | T186: 97.17224 | U186: 96.212121 | V186: 96.969697 | W186: 97.727273 | X186: 97.348485 | Y186: . | Z186: 97.727273
B187: 안동 | C187: (88) | D187: 97.523145 | E187: 96.022727 | F187: 98.011364 | G187: 97.159091 | H187: 98.579545 | I187: 97.727273 | J187: 98.295455 | K187: (22) | L187: 97.872727 | M187: 96.590909 | N187: 98.863636 | O187: 97.727273 | P187: 98.863636 | Q187: 97.727273 | R187: 97.727273 | S187: (66) | T187: 97.406618 | U187: 95.833333 | V187: 97.727273 | W187: 96.969697 | X187: 98.484848 | Y187: . | Z187: 98.484848
B188: 구미 | C188: (88) | D188: 93.721853 | E188: 92.329545 | F188: 94.318182 | G188: 93.465909 | H188: 93.75 | I188: 95.454545 | J188: 94.886364 | K188: (22) | L188: 94.656818 | M188: 94.318182 | N188: 95.454545 | O188: 93.181818 | P188: 94.318182 | Q188: 95.454545 | R188: 95.454545 | S188: (66) | T188: 93.410198 | U188: 91.666667 | V188: 93.939394 | W188: 93.560606 | X188: 93.560606 | Y188: . | Z188: 94.69697
B189: 경산 | C189: (88) | D189: 95.59259 | E189: 92.897727 | F189: 96.875 | G189: 96.022727 | H189: 96.022727 | I189: 96.590909 | J189: 96.590909 | K189: (22) | L189: 96.565909 | M189: 94.318182 | N189: 97.727273 | O189: 97.727273 | P189: 96.590909 | Q189: 96.590909 | R189: 96.590909 | S189: (66) | T189: 95.26815 | U189: 92.424242 | V189: 96.590909 | W189: 95.454545 | X189: 95.833333 | Y189: . | Z189: 96.590909
B190: 영주 | C190: (88) | D190: 96.266333 | E190: 94.886364 | F190: 95.454545 | G190: 96.022727 | H190: 97.443182 | I190: 97.727273 | J190: 98.011364 | K190: (22) | L190: 97.727273 | M190: 97.727273 | N190: 97.727273 | O190: 97.727273 | P190: 97.727273 | Q190: 97.727273 | R190: 97.727273 | S190: (66) | T190: 95.779353 | U190: 93.939394 | V190: 94.69697 | W190: 95.454545 | X190: 97.348485 | Y190: . | Z190: 98.106061
...

Sheet 항목별(다량)
B1: 다량 종합
F3: 본부 | G3: 지방우정청
B4: 직원차원 | C4: 문1: 고객 인사태도 | F4: 0.36868931 | G4: 0.16242984 | H4: <-4월 상관계수값으로 고정
C5: 문2: 고객 응대태도 | G5: 0.17751334
C6: 문3: 신속한 업무처리 | G6: 0.14003459
C7: 문4: 정확한 업무처리 | G7: 0.14534356
C8: 문5: 우편물 취급 안전성 | G8: 0.13044519
B9: 환경차원 | C9: 문6: 내부 쾌적성 | F9: 0.2894944 | G9: 0.10757218
