Workbook

Sheet 종합점수(청)
B1: (우정청) 우정서비스고객만족도 <2016년도>
B3: ※ KPCSI 산출 구조 KPCSI 종합 점수: 창구42.75%+집배47.5%+다량 4.75%+현장모니터링5%
B7: 1. 2016년 KPCSI 점수 <누적> | H7: 42.75 | P7: 47.5 | R7: 4.75 | T7: 5
B8: 구분 | C8: 목표 | D8: 달성률 | E8: 순위 | G8: 종합 KPCSI (실적) | I8: 1) 이용고객 만족도 | K8: 창구 | S8: 집배 | U8: 다량 | W8: 2) 현장 모니터링
E9: 달성률 | F9: CSI | K9: 창구종합 | M9: 우편창구 | O9: 예금창구 | Q9: 보험창구
G10: 사례수 | H10: CSI | I10: 사례수 | J10: CSI | K10: 사례수 | L10: CSI | M10: 사례수 | N10: CSI | O10: 사례수 | P10: CSI | Q10: 사례수 | R10: CSI | S10: 사례수 | T10: CSI | U10: 사례수 | V10: CSI | W10: 사례수 | X10: CSI
B11: 합계 | C11: 93.57 | D11: =H11/C11*100 -> 102.15952 | G11: 53006 | H11: 95.590667 | I11: 50788 | J11: 95.486118 | K11: 32181 | L11: 94.954015 | M11: 18415 | N11: 95.384456 | O11: 9764 | P11: 94.368801 | Q11: 4002 | R11: 94.401153 | S11: 17577 | T11: 96.127125 | U11: 1030 | V11: 93.864977 | W11: 2218 | X11: 97.577096
B12: 서울청 | C12: 91.76 | D12: =H12/C12*100 -> 102.82964 | E12: =RANK(D12,$D$12:$D$20) -> 1 | F12: =RANK(H12,$H$12:$H$20) -> 9 | G12: 6007 | H12: 94.356477 | I12: 5787 | J12: 94.264832 | K12: 3753 | L12: 93.259912 | M12: 2330 | N12: 93.652151 | O12: 1012 | P12: 92.509408 | Q12: 411 | R12: 92.884226 | S12: 1936 | T12: 95.46441 | U12: 98 | V12: 91.313337 | W12: 220 | X12: 96.097727
B13: 경인청 | C13: 92.32 | D13: =H13/C13*100 -> 102.48422 | E13: =RANK(D13,$D$12:$D$20) -> 2 | F13: =RANK(H13,$H$12:$H$20) -> 8 | G13: 9609 | H13: 94.61343 | I13: 9201 | J13: 94.544129 | K13: 5631 | L13: 94.115787 | M13: 3211 | N13: 94.375983 | O13: 1693 | P13: 93.872049 | Q13: 727 | R13: 93.534164 | S13: 3410 | T13: 95.328745 | U13: 160 | V13: 90.55306 | W13: 408 | X13: 95.930147
B14: 부산청 | C14: 93.69 | D14: =H14/C14*100 -> 102.25405 | E14: =RANK(D14,$D$12:$D$20) -> 3 | F14: =RANK(H14,$H$12:$H$20) -> 6 | G14: 9183 | H14: 95.801822 | I14: 8803 | J14: 95.693538 | K14: 5639 | L14: 95.01814 | M14: 3246 | N14: 95.638151 | O14: 1688 | P14: 94.098339 | Q14: 705 | R14: 94.365751 | S14: 2992 | T14: 96.431651 | U14: 172 | V14: 94.391002 | W14: 380 | X14: 97.859211
B15: 충청청 | C15: 94.19 | D15: =H15/C15*100 -> 102.01028 | E15: =RANK(D15,$D$12:$D$20) -> 6 | F15: =RANK(H15,$H$12:$H$20) -> 3 | G15: 7562 | H15: 96.083487 | I15: 7242 | J15: 95.965842 | K15: 4654 | L15: 95.472971 | M15: 2645 | N15: 96.078502 | O15: 1433 | P15: 94.510941 | Q15: 576 | R15: 95.085744 | S15: 2463 | T15: 96.487506 | U15: 125 | V15: 95.185043 | W15: 320 | X15: 98.31875
B16: 전남청 | C16: 94.59 | D16: =H16/C16*100 -> 101.89677 | E16: =RANK(D16,$D$12:$D$20) -> 8 | F16: =RANK(H16,$H$12:$H$20) -> 1 | G16: 5992 | H16: 96.384152 | I16: 5742 | J16: 96.301845 | K16: 3729 | L16: 95.793392 | M16: 2060 | N16: 96.287426 | O16: 1189 | P16: 95.211132 | Q16: 480 | R16: 95.115472 | S16: 1914 | T16: 97.058411 | U16: 99 | V16: 93.312249 | W16: 250 | X16: 97.948
B17: 경북청 | C17: 94.15 | D17: =H17/C17*100 -> 101.98338 | E17: =RANK(D17,$D$12:$D$20) -> 7 | F17: =RANK(H17,$H$12:$H$20) -> 4 | G17: 6980 | H17: 96.017353 | I17: 6680 | J17: 95.878792 | K17: 4294 | L17: 95.819708 | M17: 2407 | N17: 96.315714 | O17: 1361 | P17: 95.295679 | Q17: 526 | R17: 94.905864 | S17: 2266 | T17: 95.991762 | U17: 120 | V17: 95.280857 | W17: 300 | X17: 98.65
B18: 전북청 | C18: 94.32 | D18: =H18/C18*100 -> 102.03628 | E18: =RANK(D18,$D$12:$D$20) -> 5 | F18: =RANK(H18,$H$12:$H$20) -> 2 | G18: 3611 | H18: 96.240623 | I18: 3461 | J18: 96.173638 | K18: 2226 | L18: 95.354716 | M18: 1247 | N18: 95.835984 | O18: 702 | P18: 94.805441 | Q18: 277 | R18: 94.580167 | S18: 1144 | T18: 96.762707 | U18: 91 | V18: 97.653243 | W18: 150 | X18: 97.513333
B19: 강원청 | C19: 94.42 | D19: =H19/C19*100 -> 101.64853 | E19: =RANK(D19,$D$12:$D$20) -> 9 | F19: =RANK(H19,$H$12:$H$20) -> 5 | G19: 3385 | H19: 95.976543 | I19: 3215 | J19: 95.799922 | K19: 1872 | L19: 95.271336 | M19: 1050 | N19: 95.393118 | O19: 571 | P19: 95.0675 | Q19: 251 | R19: 95.225599 | S19: 1254 | T19: 96.364997 | U19: 89 | V19: 94.906437 | W19: 170 | X19: 99.332353
B20: 제주청 | C20: 92.67 | D20: =H20/C20*100 -> 102.19551 | E20: =RANK(D20,$D$12:$D$20) -> 4 | F20: =RANK(H20,$H$12:$H$20) -> 7 | G20: 677 | H20: 94.704584 | I20: 657 | J20: 94.686404 | K20: 383 | L20: 94.870163 | M20: 219 | N20: 95.116966 | O20: 115 | P20: 94.430277 | Q20: 49 | R20: 94.79949 | S20: 198 | T20: 94.64017 | U20: 76 | V20: 93.494916 | W20: 20 | X20: 95.05
B22: 2. 2016년 KPCSI 점수 <11월>
B23: 구분 | C23: 목표 | D23: 달성률 | E23: 순위 | G23: 종합 KPCSI (실적) | I23: 1) 이용고객 만족도 | K23: 창구 | S23: 집배 | U23: 다량 | W23: 2) 현장 모니터링
E24: 달성률 | F24: CSI | K24: 창구종합 | M24: 우편창구 | O24: 예금창구 | Q24: 보험창구
G25: 사례수 | H25: CSI | I25: 사례수 | J25: CSI | K25: 사례수 | L25: CSI | M25: 사례수 | N25: CSI | O25: 사례수 | P25: CSI | Q25: 사례수 | R25: CSI | S25: 사례수 | T25: CSI | U25: 사례수 | V25: CSI | W25: 사례수 | X25: CSI
B26: 합계 | C26: =C11 -> 93.57 | D26: =H26/C26*100 -> 102.42661 | G26: 4456 | H26: 95.840575 | I26: 4456 | J26: 95.840575 | K26: 2858 | L26: 94.984351 | M26: 2050 | N26: 95.180731 | O26: 610 | P26: 94.504338 | Q26: 198 | R26: 94.429956 | S26: 1598 | T26: 96.611176 | U26: . | V26: . | W26: . | X26: .
B27: 서울청 | C27: =C12 -> 91.76 | D27: =H27/C27*100 -> 102.30644 | E27: =RANK(D27,$D$27:$D$35) -> 7 | F27: =RANK(H27,$H$27:$H$35) -> 9 | G27: 522 | H27: 93.876392 | I27: 522 | J27: 93.876392 | K27: 346 | L27: 92.399608 | M27: 257 | N27: 91.869183 | O27: 63 | P27: 94.033081 | Q27: 26 | R27: 93.684615 | S27: 176 | T27: 95.205497 | U27: . | V27: . | W27: . | X27: .
B28: 경인청 | C28: =C13 -> 92.32 | D28: =H28/C28*100 -> 102.92639 | E28: =RANK(D28,$D$27:$D$35) -> 3 | F28: =RANK(H28,$H$27:$H$35) -> 8 | G28: 807 | H28: 95.02164 | I28: 807 | J28: 95.02164 | K28: 497 | L28: 94.32862 | M28: 347 | N28: 94.774391 | O28: 105 | P28: 93.219398 | Q28: 45 | R28: 93.479414 | S28: 310 | T28: 95.645359 | U28: . | V28: . | W28: . | X28: .
B29: 부산청 | C29: =C14 -> 93.69 | D29: =H29/C29*100 -> 102.98226 | E29: =RANK(D29,$D$27:$D$35) -> 2 | F29: =RANK(H29,$H$27:$H$35) -> 4 | G29: 764 | H29: 96.484084 | I29: 764 | J29: 96.484084 | K29: 492 | L29: 95.723288 | M29: 360 | N29: 95.81125 | O29: 97 | P29: 94.727577 | Q29: 35 | R29: 97.578074 | S29: 272 | T29: 97.1688 | U29: . | V29: . | W29: . | X29: .
B30: 충청청 | C30: =C15 -> 94.19 | D30: =H30/C30*100 -> 102.64217 | E30: =RANK(D30,$D$27:$D$35) -> 4 | F30: =RANK(H30,$H$27:$H$35) -> 2 | G30: 654 | H30: 96.678662 | I30: 654 | J30: 96.678662 | K30: 430 | L30: 95.55527 | M30: 302 | N30: 95.948233 | O30: 96 | P30: 95.059375 | Q30: 32 | R30: 93.334375 | S30: 224 | T30: 97.689715 | U30: . | V30: . | W30: . | X30: .
B31: 전남청 | C31: =C16 -> 94.59 | D31: =H31/C31*100 -> 102.5483 | E31: =RANK(D31,$D$27:$D$35) -> 5 | F31: =RANK(H31,$H$27:$H$35) -> 1 | G31: 493 | H31: 97.000438 | I31: 493 | J31: 97.000438 | K31: 319 | L31: 95.780486 | M31: 229 | N31: 96.105786 | O31: 73 | P31: 95.577397 | Q31: 17 | R31: 92.270588 | S31: 174 | T31: 98.098396 | U31: . | V31: . | W31: . | X31: .
B32: 경북청 | C32: =C17 -> 94.15 | D32: =H32/C32*100 -> 101.53479 | E32: =RANK(D32,$D$27:$D$35) -> 9 | F32: =RANK(H32,$H$27:$H$35) -> 6 | G32: 590 | H32: 95.595004 | I32: 590 | J32: 95.595004 | K32: 384 | L32: 95.051042 | M32: 269 | N32: 95.546097 | O32: 96 | P32: 94.145833 | Q32: 19 | R32: 92.615789 | S32: 206 | T32: 96.08457 | U32: . | V32: . | W32: . | X32: .
B33: 전북청 | C33: =C18 -> 94.32 | D33: =H33/C33*100 -> 102.461 | E33: =RANK(D33,$D$27:$D$35) -> 6 | F33: =RANK(H33,$H$27:$H$35) -> 3 | G33: 299 | H33: 96.641213 | I33: 299 | J33: 96.641213 | K33: 195 | L33: 96.053974 | M33: 142 | N33: 96.201937 | O33: 39 | P33: 95.301282 | Q33: 14 | R33: 96.65 | S33: 104 | T33: 97.169727 | U33: . | V33: . | W33: . | X33: .
B34: 강원청 | C34: =C19 -> 94.42 | D34: =H34/C34*100 -> 101.64021 | E34: =RANK(D34,$D$27:$D$35) -> 8 | F34: =RANK(H34,$H$27:$H$35) -> 5 | G34: 281 | H34: 95.968684 | I34: 281 | J34: 95.968684 | K34: 167 | L34: 95.318863 | M34: 119 | N34: 95.230882 | O34: 38 | P34: 95.114475 | Q34: 10 | R34: 97.1425 | S34: 114 | T34: 96.553522 | U34: . | V34: . | W34: . | X34: .
B35: 제주청 | C35: =C20 -> 92.67 | D35: =H35/C35*100 -> 103.12401 | E35: =RANK(D35,$D$27:$D$35) -> 1 | F35: =RANK(H35,$H$27:$H$35) -> 7 | G35: 46 | H35: 95.565017 | I35: 46 | J35: 95.565017 | K35: 28 | L35: 97.382639 | M35: 25 | N35: 98.068556 | O35: 3 | P35: 91.666667 | Q35: . | R35: . | S35: 18 | T35: 93.929157 | U35: . | V35: . | W35: . | X35: .
B37: 3. 2016년 월별 KPCSI 점수
B38: 구분 | C38: 1월 | E38: 2월 | G38: 3월 | I38: 4월 | K38: 5월 | M38: 6월 | O38: 7월 | Q38: 8월 | S38: 9월 | U38: 10월 | W38: 11월
C39: 사례수 | D39: KPCSI | E39: 사례수 | F39: KPCSI | G39: 사례수 | H39: KPCSI | I39: 사례수 | J39: KPCSI | K39: 사례수 | L39: KPCSI | M39: 사례수 | N39: KPCSI | O39: 사례수 | P39: KPCSI | Q39: 사례수 | R39: KPCSI | S39: 사례수 | T39: KPCSI | U39: 사례수 | V39: KPCSI | W39: 사례수 | X39: KPCSI
B40: 합계 | C40: 3584 | D40: 95.230021 | E40: 5285 | F40: 95.129194 | G40: 5775 | H40: 95.80438 | I40: 5501 | J40: 95.301546 | K40: 4252 | L40: 95.714005 | M40: 5224 | N40: 95.574905 | O40: 5219 | P40: 95.998753 | Q40: 4679 | R40: 95.585853 | S40: 4301 | T40: 95.700673 | U40: 4747 | V40: 95.496711 | W40: 4456 | X40: 95.840575
B41: 서울청 | C41: 437 | D41: 94.429387 | E41: 597 | F41: 93.486741 | G41: 621 | H41: 95.092974 | I41: 605 | J41: 93.687602 | K41: 490 | L41: 93.851539 | M41: 576 | N41: 94.453419 | O41: 589 | P41: 94.931022 | Q41: 530 | R41: 94.792815 | S41: 490 | T41: 95.069111 | U41: 551 | V41: 94.758875 | W41: 522 | X41: 93.876392
B42: 경인청 | C42: 683 | D42: 94.37934 | E42: 915 | F42: 94.733201 | G42: 1055 | H42: 94.55154 | I42: 957 | J42: 94.148833 | K42: 796 | L42: 95.148302 | M42: 938 | N42: 94.410695 | O42: 946 | P42: 95.590269 | Q42: 842 | R42: 94.657387 | S42: 798 | T42: 94.652604 | U42: 877 | V42: 94.492065 | W42: 807 | X42: 95.02164
B43: 부산청 | C43: 606 | D43: 95.709146 | E43: 915 | F43: 95.090995 | G43: 1029 | H43: 95.964634 | I43: 940 | J43: 95.329842 | K43: 750 | L43: 95.33883 | M43: 908 | N43: 95.840868 | O43: 910 | P43: 96.019108 | Q43: 811 | R43: 95.992952 | S43: 720 | T43: 96.413707 | U43: 831 | V43: 95.410652 | W43: 764 | X43: 96.484084
B44: 충청청 | C44: 492 | D44: 95.333969 | E44: 744 | F44: 95.863578 | G44: 835 | H44: 96.020523 | I44: 776 | J44: 95.931544 | K44: 626 | L44: 96.559392 | M44: 764 | N44: 96.559782 | O44: 751 | P44: 96.093476 | Q44: 664 | R44: 95.797365 | S44: 595 | T44: 95.709207 | U44: 662 | V44: 95.841741 | W44: 654 | X44: 96.678662
B45: 전남청 | C45: 383 | D45: 96.046572 | E45: 598 | F45: 95.35465 | G45: 690 | H45: 97.106171 | I45: 605 | J45: 95.747181 | K45: 497 | L45: 96.910936 | M45: 589 | N45: 96.056167 | O45: 608 | P45: 97.084518 | Q45: 520 | R45: 96.766035 | S45: 488 | T45: 96.655425 | U45: 521 | V45: 96.046891 | W45: 493 | X45: 97.000438
B46: 경북청 | C46: 463 | D46: 95.449675 | E46: 697 | F46: 95.418799 | G46: 797 | H46: 96.07667 | I46: 763 | J46: 95.973412 | K46: 522 | L46: 96.210903 | M46: 701 | N46: 95.750035 | O46: 694 | P46: 96.60351 | Q46: 605 | R46: 95.727166 | S46: 556 | T46: 96.374913 | U46: 598 | V46: 96.064649 | W46: 590 | X46: 95.595004
...

Sheet 종합점수(총괄국,당월&누계)
A1: 우정서비스 고객만족도 조사결과(10월)
A3: 구분 | B3: 종합 | E3: 창구(점수기준) | I3: 집배(점수기준)
B4: 10월누계 | C4: 달성률 | D4: 순위 | E4: 10월 | F4: 순위 | G4: 누계 | H4: 순위 | I4: 10월 | J4: 순위 | K4: 누계 | L4: 순위
A5: 대전 | B5: 94.995962 | C5: 101.70874 | D5: =RANK(C5,$C$5:$C$20) -> 10 | E5: 93.6 | F5: =RANK(E5,$E$5:$E$20) -> 10 | G5: 94.223616 | H5: =RANK(G5,$G$5:$G$20) -> 12 | I5: 95.6 | J5: =RANK(I5,$I$5:$I$20) -> 10 | K5: 95.515251 | L5: =RANK(K5,$K$5:$K$20) -> 11
A6: 서대전 | B6: 94.652885 | C6: 101.34142 | D6: =RANK(C6,$C$5:$C$20) -> 12 | E6: 89.8 | F6: =RANK(E6,$E$5:$E$20) -> 15 | G6: 94.20808 | H6: =RANK(G6,$G$5:$G$20) -> 13 | I6: 89.9 | J6: =RANK(I6,$I$5:$I$20) -> 16 | K6: 94.713784 | L6: =RANK(K6,$K$5:$K$20) -> 14
A7: 대전유성 | B7: 95.91078 | C7: 102.6882 | D7: =RANK(C7,$C$5:$C$20) -> 3 | E7: 96.2 | F7: =RANK(E7,$E$5:$E$20) -> 5 | G7: 95.235199 | H7: =RANK(G7,$G$5:$G$20) -> 8 | I7: 100 | J7: =RANK(I7,$I$5:$I$20) -> 1 | K7: 96.650654 | L7: =RANK(K7,$K$5:$K$20) -> 5
A8: 대전대덕 | B8: 95.342906 | C8: 102.0802 | D8: =RANK(C8,$C$5:$C$20) -> 7 | E8: 93.1 | F8: =RANK(E8,$E$5:$E$20) -> 11 | G8: 93.483553 | H8: =RANK(G8,$G$5:$G$20) -> 16 | I8: 93.6 | J8: =RANK(I8,$I$5:$I$20) -> 13 | K8: 96.96467 | L8: =RANK(K8,$K$5:$K$20) -> 3
A9: 대전둔산 | B9: 95.321405 | C9: 102.05718 | D9: =RANK(C9,$C$5:$C$20) -> 8 | E9: 89.5 | F9: =RANK(E9,$E$5:$E$20) -> 16 | G9: 94.034423 | H9: =RANK(G9,$G$5:$G$20) -> 14 | I9: 90.7 | J9: =RANK(I9,$I$5:$I$20) -> 15 | K9: 96.363272 | L9: =RANK(K9,$K$5:$K$20) -> 8
A10: 천안 | B10: 94.847 | C10: 101.22412 | D10: =RANK(C10,$C$5:$C$20) -> 14 | E10: 93.1 | F10: =RANK(E10,$E$5:$E$20) -> 11 | G10: 94.243422 | H10: =RANK(G10,$G$5:$G$20) -> 11 | I10: 99.3 | J10: =RANK(I10,$I$5:$I$20) -> 5 | K10: 95.044999 | L10: =RANK(K10,$K$5:$K$20) -> 12
A11: 동천안 | B11: 95.93537 | C11: 102.38567 | D11: =RANK(C11,$C$5:$C$20) -> 5 | E11: 96.8 | F11: =RANK(E11,$E$5:$E$20) -> 2 | G11: 95.889895 | H11: =RANK(G11,$G$5:$G$20) -> 4 | I11: 100 | J11: =RANK(I11,$I$5:$I$20) -> 1 | K11: 95.60562 | L11: =RANK(K11,$K$5:$K$20) -> 10
A12: 공주 | B12: 96.157076 | C12: 101.96933 | D12: =RANK(C12,$C$5:$C$20) -> 9 | E12: 91.3 | F12: =RANK(E12,$E$5:$E$20) -> 14 | G12: 95.439063 | H12: =RANK(G12,$G$5:$G$20) -> 6 | I12: 96.1 | J12: =RANK(I12,$I$5:$I$20) -> 9 | K12: 96.607414 | L12: =RANK(K12,$K$5:$K$20) -> 6
A13: 아산 | B13: 95.925599 | C13: 102.37524 | D13: =RANK(C13,$C$5:$C$20) -> 6 | E13: 96.8 | F13: =RANK(E13,$E$5:$E$20) -> 2 | G13: 96.709789 | H13: =RANK(G13,$G$5:$G$20) -> 1 | I13: 97.6 | J13: =RANK(I13,$I$5:$I$20) -> 8 | K13: 94.765156 | L13: =RANK(K13,$K$5:$K$20) -> 13
A14: 논산 | B14: 97.063999 | C14: 102.93107 | D14: =RANK(C14,$C$5:$C$20) -> 2 | E14: 96.1 | F14: =RANK(E14,$E$5:$E$20) -> 6 | G14: 96.447393 | H14: =RANK(G14,$G$5:$G$20) -> 2 | I14: 100 | J14: =RANK(I14,$I$5:$I$20) -> 1 | K14: 97.424183 | L14: =RANK(K14,$K$5:$K$20) -> 2
A15: 청주 | B15: 96.540572 | C15: 103.03156 | D15: =RANK(C15,$C$5:$C$20) -> 1 | E15: 99.5 | F15: =RANK(E15,$E$5:$E$20) -> 1 | G15: 96.198599 | H15: =RANK(G15,$G$5:$G$20) -> 3 | I15: 99.3 | J15: =RANK(I15,$I$5:$I$20) -> 5 | K15: 96.739447 | L15: =RANK(K15,$K$5:$K$20) -> 4
A16: 서청주 | B16: 94.275169 | C16: 100.61384 | D16: =RANK(C16,$C$5:$C$20) -> 16 | E16: 92.3 | F16: =RANK(E16,$E$5:$E$20) -> 13 | G16: 93.831352 | H16: =RANK(G16,$G$5:$G$20) -> 15 | I16: 93.2 | J16: =RANK(I16,$I$5:$I$20) -> 14 | K16: 94.253216 | L16: =RANK(K16,$K$5:$K$20) -> 16
... A20: 서산 | B20: 95.835427 | C20: 101.62824 | D20: =RANK(C20,$C$5:$C$20) -> 11 | E20: 95.7 | F20: =RANK(E20,$E$5:$E$20) -> 7 | G20: 95.403901 | H20: =RANK(G20,$G$5:$G$20) -> 7 | I20: 94.3 | J20: =RANK(I20,$I$5:$I$20) -> 11 | K20: 96.386472 | L20: =RANK(K20,$K$5:$K$20) -> 7
A21: 금산 | B21: 95.808704 | C21: 100.6394 | D21: =RANK(C21,$C$21:$C$36) -> 15 | E21: 94.3 | F21: =RANK(E21,$E$21:$E$36) -> 14 | G21: 95.377512 | H21: =RANK(G21,$G$21:$G$36) -> 15 | I21: 99.1 | J21: =RANK(I21,$I$21:$I$36) -> 7 | K21: 96.235549 | L21: =RANK(K21,$K$21:$K$36) -> 11
A22: 홍성 | B22: 96.748856 | C22: 101.62695 | D22: =RANK(C22,$C$21:$C$36) -> 9 | E22: 96.7 | F22: =RANK(E22,$E$21:$E$36) -> 8 | G22: 96.057709 | H22: =RANK(G22,$G$21:$G$36) -> 10 | I22: 92.8 | J22: =RANK(I22,$I$21:$I$36) -> 15 | K22: 97.23462 | L22: =RANK(K22,$K$21:$K$36) -> 10
A23: 예산 | B23: 97.394354 | C23: 102.30499 | D23: =RANK(C23,$C$21:$C$36) -> 3 | E23: 97.8 | F23: =RANK(E23,$E$21:$E$36) -> 3 | G23: 96.382662 | H23: =RANK(G23,$G$21:$G$36) -> 8 | I23: 100 | J23: =RANK(I23,$I$21:$I$36) -> 1 | K23: 98.131767 | L23: =RANK(K23,$K$21:$K$36) -> 2
A24: 서천 | B24: 96.872911 | C24: 101.75726 | D24: =RANK(C24,$C$21:$C$36) -> 6 | E24: 96.8 | F24: =RANK(E24,$E$21:$E$36) -> 6 | G24: 95.914549 | H24: =RANK(G24,$G$21:$G$36) -> 11 | I24: 99.2 | J24: =RANK(I24,$I$21:$I$36) -> 4 | K24: 97.638947 | L24: =RANK(K24,$K$21:$K$36) -> 6
A25: 당진 | B25: 95.507357 | C25: 101.28034 | D25: =RANK(C25,$C$21:$C$36) -> 12 | E25: 94.6 | F25: =RANK(E25,$E$21:$E$36) -> 12 | G25: 96.226875 | H25: =RANK(G25,$G$21:$G$36) -> 9 | I25: 92.9 | J25: =RANK(I25,$I$21:$I$36) -> 14 | K25: 94.672824 | L25: =RANK(K25,$K$21:$K$36) -> 15
A26: 청양 | B26: 96.863631 | C26: 101.74751 | D26: =RANK(C26,$C$21:$C$36) -> 7 | E26: 94.3 | F26: =RANK(E26,$E$21:$E$36) -> 14 | G26: 95.654521 | H26: =RANK(G26,$G$21:$G$36) -> 14 | I26: 99.2 | J26: =RANK(I26,$I$21:$I$36) -> 4 | K26: 97.984703 | L26: =RANK(K26,$K$21:$K$36) -> 4
A27: 부여 | B27: 97.156501 | C27: 102.05515 | D27: =RANK(C27,$C$21:$C$36) -> 5 | E27: 97 | F27: =RANK(E27,$E$21:$E$36) -> 5 | G27: 96.543717 | H27: =RANK(G27,$G$21:$G$36) -> 5 | I27: 99.2 | J27: =RANK(I27,$I$21:$I$36) -> 4 | K27: 97.554179 | L27: =RANK(K27,$K$21:$K$36) -> 8
A28: 보령 | B28: 97.94757 | C28: 103.86805 | D28: =RANK(C28,$C$21:$C$36) -> 1 | E28: 97.5 | F28: =RANK(E28,$E$21:$E$36) -> 4 | G28: 96.865311 | H28: =RANK(G28,$G$21:$G$36) -> 2 | I28: 100 | J28: =RANK(I28,$I$21:$I$36) -> 1 | K28: 99.066415 | L28: =RANK(K28,$K$21:$K$36) -> 1
A29: 태안 | B29: 95.618491 | C29: 100.43959 | D29: =RANK(C29,$C$21:$C$36) -> 16 | E29: 94.4 | F29: =RANK(E29,$E$21:$E$36) -> 13 | G29: 96.477239 | H29: =RANK(G29,$G$21:$G$36) -> 7 | I29: 92.1 | J29: =RANK(I29,$I$21:$I$36) -> 16 | K29: 94.424848 | L29: =RANK(K29,$K$21:$K$36) -> 16
A30: 단양 | B30: 96.740663 | C30: 101.61834 | D30: =RANK(C30,$C$21:$C$36) -> 10 | E30: 100 | F30: =RANK(E30,$E$21:$E$36) -> 1 | G30: 95.703846 | H30: =RANK(G30,$G$21:$G$36) -> 13 | I30: 95.7 | J30: =RANK(I30,$I$21:$I$36) -> 12 | K30: 97.476496 | L30: =RANK(K30,$K$21:$K$36) -> 9
A31: 괴산 | B31: 96.078166 | C31: 100.92244 | D31: =RANK(C31,$C$21:$C$36) -> 14 | E31: 96.2 | F31: =RANK(E31,$E$21:$E$36) -> 10 | G31: 95.722059 | H31: =RANK(G31,$G$21:$G$36) -> 12 | I31: 95.9 | J31: =RANK(I31,$I$21:$I$36) -> 11 | K31: 96.168817 | L31: =RANK(K31,$K$21:$K$36) -> 12
A32: 진천 | B32: 96.315048 | C32: 101.70544 | D32: =RANK(C32,$C$21:$C$36) -> 8 | E32: 95 | F32: =RANK(E32,$E$21:$E$36) -> 11 | G32: 96.503125 | H32: =RANK(G32,$G$21:$G$36) -> 6 | I32: 98.4 | J32: =RANK(I32,$I$21:$I$36) -> 9 | K32: 95.739082 | L32: =RANK(K32,$K$21:$K$36) -> 13
... A35: 영동 | B35: 97.37944 | C35: 102.28933 | D35: =RANK(C35,$C$21:$C$36) -> 4 | E35: 99.2 | F35: =RANK(E35,$E$21:$E$36) -> 2 | G35: 96.685135 | H35: =RANK(G35,$G$21:$G$36) -> 3 | I35: 100 | J35: =RANK(I35,$I$21:$I$36) -> 1 | K35: 97.882107 | L35: =RANK(K35,$K$21:$K$36) -> 5
A36: 보은 | B36: 97.474019 | C36: 102.38868 | D36: =RANK(C36,$C$21:$C$36) -> 2 | E36: 96.7 | F36: =RANK(E36,$E$21:$E$36) -> 8 | G36: 97.045607 | I36: 99.1 | J36: =RANK(I36,$I$21:$I$36) -> 7 | K36: 97.636537 | L36: =RANK(K36,$K$21:$K$36) -> 7
A37: 평균 | B37: ='종합점수(청)'!H15 -> 96.083487 | C37: ='종합점수(청)'!D15 -> 102.01028 | E37: ='종합점수(청)'!L30 -> 95.55527 | G37: ='종합점수(청)'!L15 -> 95.472971 | I37: ='종합점수(청)'!T30 -> 97.689715 | K37: ='종합점수(청)'!T15 -> 96.487506

Sheet 경영평가(총괄국)
B1: (총괄국) 2016년 고객만족 경영평가 결과 <2016년도>
B3: 목표미달 | C3: 상위5국 | D3: 하위5국
B4: 총괄국명 | C4: 경영평가 | H4: 관리목표(창구종합) | L4: 관리목표(집배) | Q4: 총괄국명 | R4: 전년대비(종합KPCSI)
C5: 목표 | D5: 실적 | E5: 달성률 | F5: 득점 | H5: 목표 | I5: 실적 | J5: 달성률 | K5: 순위 | L5: 목표 | M5: 실적 | N5: 달성률 | O5: 순위 | R5: 2015년 | S5: 증감
B6: 대전 | C6: 93.4 | D6: =VLOOKUP($B6,'종합점수(총괄국)'!$C$4:$O$239,6,0) -> 95.102576 | E6: =D6/C6*100 -> 101.82289 | F6: =IF($E6>=100,5,$E6*0.05) -> 5 | H6: 93.8 | I6: =VLOOKUP($B6,'종합점수(총괄국)'!$B$245:$R$281,12,0) -> 94.040363 | J6: =I6/H6*100 -> 100.25625 | K6: =RANK(J6,$J$6:$J$21) -> 11 | L6: 94.8 | M6: =VLOOKUP($B6,'종합점수(총괄국)'!$B$245:$R$281,16,0) -> 95.922955 | N6: =M6/L6*100 -> 101.18455 | O6: =RANK($N6,$N$6:$N$21) -> 8 | Q6: 대전 | R6: =VLOOKUP($B6,'[1]총괄국 경영평가'!$B$6:$L$42,5,0) -> 95.638326 | S6: =D6-R6 -> -0.53575021
B7: 서대전 | C7: 93.4 | D7: =VLOOKUP($B7,'종합점수(총괄국)'!$C$4:$O$239,6,0) -> 94.785887 | E7: =D7/C7*100 -> 101.48382 | F7: =IF($E7>=100,5,$E7*0.05) -> 5 | H7: 93.8 | I7: =VLOOKUP($B7,'종합점수(총괄국)'!$B$245:$R$281,12,0) -> 94.54366 | J7: =I7/H7*100 -> 100.79281 | K7: =RANK(J7,$J$6:$J$21) -> 8 | L7: 94.8 | M7: =VLOOKUP($B7,'종합점수(총괄국)'!$B$245:$R$281,16,0) -> 94.658206 | N7: =M7/L7*100 -> 99.850429 | O7: =RANK($N7,$N$6:$N$21) -> 15 | Q7: 서대전 | R7: =VLOOKUP($B7,'[1]총괄국 경영평가'!$B$6:$L$42,5,0) -> 95.300453 | S7: =D7-R7 -> -0.51456603
B8: 대전유성 | C8: 93.4 | D8: =VLOOKUP($B8,'종합점수(총괄국)'!$C$4:$O$239,6,0) -> 95.917863 | E8: =D8/C8*100 -> 102.69578 | F8: =IF($E8>=100,5,$E8*0.05) -> 5 | H8: 93.8 | I8: =VLOOKUP($B8,'종합점수(총괄국)'!$B$245:$R$281,12,0) -> 95.127982 | J8: =I8/H8*100 -> 101.41576 | K8: =RANK(J8,$J$6:$J$21) -> 6 | L8: 94.8 | M8: =VLOOKUP($B8,'종합점수(총괄국)'!$B$245:$R$281,16,0) -> 96.772782 | N8: =M8/L8*100 -> 102.08099 | O8: =RANK($N8,$N$6:$N$21) -> 4 | Q8: 대전유성 | R8: =VLOOKUP($B8,'[1]총괄국 경영평가'!$B$6:$L$42,5,0) -> 93.924277 | S8: =D8-R8 -> 1.9935855
B9: 대전대덕 | C9: 93.4 | D9: =VLOOKUP($B9,'종합점수(총괄국)'!$C$4:$O$239,6,0) -> 95.358664 | E9: =D9/C9*100 -> 102.09707 | F9: =IF($E9>=100,5,$E9*0.05) -> 5 | H9: 93.8 | I9: =VLOOKUP($B9,'종합점수(총괄국)'!$B$245:$R$281,12,0) -> 93.535606 | J9: =I9/H9*100 -> 99.71813 | K9: =RANK(J9,$J$6:$J$21) -> 13 | L9: 94.8 | M9: =VLOOKUP($B9,'종합점수(총괄국)'!$B$245:$R$281,16,0) -> 96.945792 | N9: =M9/L9*100 -> 102.26349 | O9: =RANK($N9,$N$6:$N$21) -> 2 | Q9: 대전대덕 | R9: =VLOOKUP($B9,'[1]총괄국 경영평가'!$B$6:$L$42,5,0) -> 95.621019 | S9: =D9-R9 -> -0.26235556
B10: 대전둔산 | C10: 93.4 | D10: =VLOOKUP($B10,'종합점수(총괄국)'!$C$4:$O$239,6,0) -> 95.464747 | E10: =D10/C10*100 -> 102.21065 | F10: =IF($E10>=100,5,$E10*0.05) -> 5 | H10: 93.8 | I10: =VLOOKUP($B10,'종합점수(총괄국)'!$B$245:$R$281,12,0) -> 94.005583 | J10: =I10/H10*100 -> 100.21917 | K10: =RANK(J10,$J$6:$J$21) -> 12 | L10: 94.8 | M10: =VLOOKUP($B10,'종합점수(총괄국)'!$B$245:$R$281,16,0) -> 96.693884 | N10: =M10/L10*100 -> 101.99777 | O10: =RANK($N10,$N$6:$N$21) -> 5 | Q10: 대전둔산 | R10: =VLOOKUP($B10,'[1]총괄국 경영평가'!$B$6:$L$42,5,0) -> 95.519869 | S10: =D10-R10 -> -0.055122331
B11: 천안 | C11: 93.7 | D11: =VLOOKUP($B11,'종합점수(총괄국)'!$C$4:$O$239,6,0) -> 94.845353 | E11: =D11/C11*100 -> 101.22236 | F11: =IF($E11>=100,5,$E11*0.05) -> 5 | H11: 94.4 | I11: =VLOOKUP($B11,'종합점수(총괄국)'!$B$245:$R$281,12,0) -> 93.933919 | J11: =I11/H11*100 -> 99.50627 | K11: =RANK(J11,$J$6:$J$21) -> 16 | L11: 94.8 | M11: =VLOOKUP($B11,'종합점수(총괄국)'!$B$245:$R$281,16,0) -> 95.351034 | N11: =M11/L11*100 -> 100.58126 | O11: =RANK($N11,$N$6:$N$21) -> 12 | Q11: 천안 | R11: =VLOOKUP($B11,'[1]총괄국 경영평가'!$B$6:$L$42,5,0) -> 94.906362 | S11: =D11-R11 -> -0.061008775
B12: 동천안 | C12: 93.7 | D12: =VLOOKUP($B12,'종합점수(총괄국)'!$C$4:$O$239,6,0) -> 96.092418 | E12: =D12/C12*100 -> 102.55327 | F12: =IF($E12>=100,5,$E12*0.05) -> 5 | H12: 94.4 | I12: =VLOOKUP($B12,'종합점수(총괄국)'!$B$245:$R$281,12,0) -> 96.023023 | J12: =I12/H12*100 -> 101.7193 | K12: =RANK(J12,$J$6:$J$21) -> 2 | L12: 94.8 | M12: =VLOOKUP($B12,'종합점수(총괄국)'!$B$245:$R$281,16,0) -> 95.803121 | N12: =M12/L12*100 -> 101.05814 | O12: =RANK($N12,$N$6:$N$21) -> 9 | Q12: 동천안 | R12: =VLOOKUP($B12,'[1]총괄국 경영평가'!$B$6:$L$42,5,0) -> 95.426797 | S12: =D12-R12 -> 0.66562137
B13: 공주 | C13: 94.3 | D13: =VLOOKUP($B13,'종합점수(총괄국)'!$C$4:$O$239,6,0) -> 96.224189 | E13: =D13/C13*100 -> 102.0405 | F13: =IF($E13>=100,5,$E13*0.05) -> 5 | H13: 94.9 | I13: =VLOOKUP($B13,'종합점수(총괄국)'!$B$245:$R$281,12,0) -> 95.31256 | J13: =I13/H13*100 -> 100.43473 | K13: =RANK(J13,$J$6:$J$21) -> 9 | L13: 95.6 | M13: =VLOOKUP($B13,'종합점수(총괄국)'!$B$245:$R$281,16,0) -> 96.875206 | N13: =M13/L13*100 -> 101.3339 | O13: =RANK($N13,$N$6:$N$21) -> 7 | Q13: 공주 | R13: =VLOOKUP($B13,'[1]총괄국 경영평가'!$B$6:$L$42,5,0) -> 95.923016 | S13: =D13-R13 -> 0.30117235
B14: 아산 | C14: 93.7 | D14: =VLOOKUP($B14,'종합점수(총괄국)'!$C$4:$O$239,6,0) -> 95.890753 | E14: =D14/C14*100 -> 102.33805 | F14: =IF($E14>=100,5,$E14*0.05) -> 5 | H14: 94.9 | I14: =VLOOKUP($B14,'종합점수(총괄국)'!$B$245:$R$281,12,0) -> 96.523036 | J14: =I14/H14*100 -> 101.71026 | K14: =RANK(J14,$J$6:$J$21) -> 3 | L14: 94.8 | M14: =VLOOKUP($B14,'종합점수(총괄국)'!$B$245:$R$281,16,0) -> 94.878551 | N14: =M14/L14*100 -> 100.08286 | O14: =RANK($N14,$N$6:$N$21) -> 14 | Q14: 아산 | R14: =VLOOKUP($B14,'[1]총괄국 경영평가'!$B$6:$L$42,5,0) -> 96.344325 | S14: =D14-R14 -> -0.4535712
B15: 논산 | C15: 94.3 | D15: =VLOOKUP($B15,'종합점수(총괄국)'!$C$4:$O$239,6,0) -> 97.138459 | E15: =D15/C15*100 -> 103.01003 | F15: =IF($E15>=100,5,$E15*0.05) -> 5 | H15: 94.9 | I15: =VLOOKUP($B15,'종합점수(총괄국)'!$B$245:$R$281,12,0) -> 96.369987 | J15: =I15/H15*100 -> 101.54898 | K15: =RANK(J15,$J$6:$J$21) -> 4 | L15: 95.6 | M15: =VLOOKUP($B15,'종합점수(총괄국)'!$B$245:$R$281,16,0) -> 97.658348 | N15: =M15/L15*100 -> 102.15308 | O15: =RANK($N15,$N$6:$N$21) -> 3 | Q15: 논산 | R15: =VLOOKUP($B15,'[1]총괄국 경영평가'!$B$6:$L$42,5,0) -> 95.783561 | S15: =D15-R15 -> 1.3548977
B16: 청주 | C16: 93.7 | D16: =VLOOKUP($B16,'종합점수(총괄국)'!$C$4:$O$239,6,0) -> 96.480178 | E16: =D16/C16*100 -> 102.96711 | F16: =IF($E16>=100,5,$E16*0.05) -> 5 | H16: 94.4 | I16: =VLOOKUP($B16,'종합점수(총괄국)'!$B$245:$R$281,12,0) -> 96.290972 | J16: =I16/H16*100 -> 102.00315 | K16: =RANK(J16,$J$6:$J$21) -> 1 | L16: 94.8 | M16: =VLOOKUP($B16,'종합점수(총괄국)'!$B$245:$R$281,16,0) -> 96.51993 | N16: =M16/L16*100 -> 101.81427 | O16: =RANK($N16,$N$6:$N$21) -> 6 | Q16: 청주 | R16: =VLOOKUP($B16,'[1]총괄국 경영평가'!$B$6:$L$42,5,0) -> 94.407836 | S16: =D16-R16 -> 2.0723419
B17: 서청주 | C17: 93.7 | D17: =VLOOKUP($B17,'종합점수(총괄국)'!$C$4:$O$239,6,0) -> 94.594416 | E17: =D17/C17*100 -> 100.95455 | F17: =IF($E17>=100,5,$E17*0.05) -> 5 | H17: 94.4 | I17: =VLOOKUP($B17,'종합점수(총괄국)'!$B$245:$R$281,12,0) -> 94.099704 | J17: =I17/H17*100 -> 99.68189 | K17: =RANK(J17,$J$6:$J$21) -> 15 | L17: 94.8 | M17: =VLOOKUP($B17,'종합점수(총괄국)'!$B$245:$R$281,16,0) -> 94.656962 | N17: =M17/L17*100 -> 99.849116 | O17: =RANK($N17,$N$6:$N$21) -> 16 | Q17: 서청주 | R17: =VLOOKUP($B17,'[1]총괄국 경영평가'!$B$6:$L$42,5,0) -> 94.464362 | S17: =D17-R17 -> 0.13005455
... B21: 서산 | C21: 94.3 | D21: =VLOOKUP($B21,'종합점수(총괄국)'!$C$4:$O$239,6,0) -> 95.774379 | E21: =D21/C21*100 -> 101.5635 | F21: =IF($E21>=100,5,$E21*0.05) -> 5 | H21: 94.9 | I21: =VLOOKUP($B21,'종합점수(총괄국)'!$B$245:$R$281,12,0) -> 95.291176 | J21: =I21/H21*100 -> 100.4122 | K21: =RANK(J21,$J$6:$J$21) -> 10 | L21: 95.6 | M21: =VLOOKUP($B21,'종합점수(총괄국)'!$B$245:$R$281,16,0) -> 96.370675 | N21: =M21/L21*100 -> 100.80614 | O21: =RANK($N21,$N$6:$N$21) -> 10 | Q21: 서산 | R21: =VLOOKUP($B21,'[1]총괄국 경영평가'!$B$6:$L$42,5,0) -> 95.632448 | S21: =D21-R21 -> 0.14193121
B22: 4급평균 | C22: =AVERAGE(C6:C21) -> 93.79375 | D22: =AVERAGE(D6:D21) -> 95.712911 | E22: =AVERAGE(E6:E21) -> 102.04599 | H22: 94.36875 | I22: =AVERAGE(I6:I21) -> 95.061913 | J22: =AVERAGE(J6:J21) -> 100.73397 | L22: 95.05 | M22: =AVERAGE(M6:M21) -> 96.126781 | N22: =AVERAGE(N6:N21) -> 101.13202 | Q22: 4급평균 | R22: =AVERAGE(R6:R21) -> 95.402018 | S22: =AVERAGE(S6:S21) -> 0.31089309
B23: 금산 | C23: 95.2 | D23: =VLOOKUP($B23,'종합점수(총괄국)'!$C$4:$O$239,6,0) -> 95.759791 | E23: =D23/C23*100 -> 100.58802 | F23: =IF($E23>=100,5,$E23*0.05) -> 5 | H23: 95.6 | I23: =VLOOKUP($B23,'종합점수(총괄국)'!$B$245:$R$281,12,0) -> 95.307412 | J23: =I23/H23*100 -> 99.693946 | K23: =RANK($J23,$J$23:$J$38) -> 15 | L23: 96.6 | M23: =VLOOKUP($B23,'종합점수(총괄국)'!$B$245:$R$281,16,0) -> 96.202675 | N23: =M23/L23*100 -> 99.588691 | O23: =RANK($N23,$N$23:$N$38) -> 13 | Q23: 금산 | R23: =VLOOKUP($B23,'[1]총괄국 경영평가'!$B$6:$L$42,5,0) -> 95.870987 | S23: =D23-R23 -> -0.11119533
B24: 홍성 | C24: 95.2 | D24: =VLOOKUP($B24,'종합점수(총괄국)'!$C$4:$O$239,6,0) -> 96.557699 | E24: =D24/C24*100 -> 101.42615 | F24: =IF($E24>=100,5,$E24*0.05) -> 5 | H24: 95.6 | I24: =VLOOKUP($B24,'종합점수(총괄국)'!$B$245:$R$281,12,0) -> 95.782661 | J24: =I24/H24*100 -> 100.19107 | K24: =RANK($J24,$J$23:$J$38) -> 12 | L24: 96.6 | M24: =VLOOKUP($B24,'종합점수(총괄국)'!$B$245:$R$281,16,0) -> 97.107231 | N24: =M24/L24*100 -> 100.52508 | O24: =RANK($N24,$N$23:$N$38) -> 11 | Q24: 홍성 | R24: =VLOOKUP($B24,'[1]총괄국 경영평가'!$B$6:$L$42,5,0) -> 96.580065 | S24: =D24-R24 -> -0.022366163
B25: 예산 | C25: 95.2 | D25: =VLOOKUP($B25,'종합점수(총괄국)'!$C$4:$O$239,6,0) -> 97.557654 | E25: =D25/C25*100 -> 102.47653 | F25: =IF($E25>=100,5,$E25*0.05) -> 5 | H25: 95.6 | I25: =VLOOKUP($B25,'종합점수(총괄국)'!$B$245:$R$281,12,0) -> 96.556613 | J25: =I25/H25*100 -> 101.00064 | K25: =RANK($J25,$J$23:$J$38) -> 8 | L25: 96.6 | M25: =VLOOKUP($B25,'종합점수(총괄국)'!$B$245:$R$281,16,0) -> 98.301607 | N25: =M25/L25*100 -> 101.7615 | O25: =RANK($N25,$N$23:$N$38) -> 3 | Q25: 예산 | R25: =VLOOKUP($B25,'[1]총괄국 경영평가'!$B$6:$L$42,5,0) -> 96.726755 | S25: =D25-R25 -> 0.83089961
B26: 서천 | C26: 95.2 | D26: =VLOOKUP($B26,'종합점수(총괄국)'!$C$4:$O$239,6,0) -> 97.029825 | E26: =D26/C26*100 -> 101.92208 | F26: =IF($E26>=100,5,$E26*0.05) -> 5 | H26: 95.6 | I26: =VLOOKUP($B26,'종합점수(총괄국)'!$B$245:$R$281,12,0) -> 96.030254 | J26: =I26/H26*100 -> 100.45006 | K26: =RANK($J26,$J$23:$J$38) -> 10 | L26: 96.6 | M26: =VLOOKUP($B26,'종합점수(총괄국)'!$B$245:$R$281,16,0) -> 97.853588 | N26: =M26/L26*100 -> 101.29771 | O26: =RANK($N26,$N$23:$N$38) -> 6 | Q26: 서천 | R26: =VLOOKUP($B26,'[1]총괄국 경영평가'!$B$6:$L$42,5,0) -> 96.718842 | S26: =D26-R26 -> 0.3109829
B27: 당진 | C27: 94.3 | D27: =VLOOKUP($B27,'종합점수(총괄국)'!$C$4:$O$239,6,0) -> 95.405224 | E27: =D27/C27*100 -> 101.17203 | F27: =IF($E27>=100,5,$E27*0.05) -> 5 | H27: 94.9 | I27: =VLOOKUP($B27,'종합점수(총괄국)'!$B$245:$R$281,12,0) -> 96.252037 | J27: =I27/H27*100 -> 101.4247 | K27: =RANK($J27,$J$23:$J$38) -> 2 | L27: 95.6 | M27: =VLOOKUP($B27,'종합점수(총괄국)'!$B$245:$R$281,16,0) -> 94.432644 | N27: =M27/L27*100 -> 98.778916 | O27: =RANK($N27,$N$23:$N$38) -> 15 | Q27: 당진 | R27: =VLOOKUP($B27,'[1]총괄국 경영평가'!$B$6:$L$42,5,0) -> 95.195788 | S27: =D27-R27 -> 0.20943597
B28: 청양 | C28: 95.2 | D28: =VLOOKUP($B28,'종합점수(총괄국)'!$C$4:$O$239,6,0) -> 96.947024 | E28: =D28/C28*100 -> 101.83511 | F28: =IF($E28>=100,5,$E28*0.05) -> 5 | H28: 95.6 | I28: =VLOOKUP($B28,'종합점수(총괄국)'!$B$245:$R$281,12,0) -> 95.646875 | J28: =I28/H28*100 -> 100.04903 | K28: =RANK($J28,$J$23:$J$38) -> 13 | L28: 96.6 | M28: =VLOOKUP($B28,'종합점수(총괄국)'!$B$245:$R$281,16,0) -> 98.167911 | N28: =M28/L28*100 -> 101.6231 | O28: =RANK($N28,$N$23:$N$38) -> 4 | Q28: 청양 | R28: =VLOOKUP($B28,'[1]총괄국 경영평가'!$B$6:$L$42,5,0) -> 97.634191 | S28: =D28-R28 -> -0.6871673
B29: 부여 | C29: 95.2 | D29: =VLOOKUP($B29,'종합점수(총괄국)'!$C$4:$O$239,6,0) -> 97.202143 | E29: =D29/C29*100 -> 102.10309 | F29: =IF($E29>=100,5,$E29*0.05) -> 5 | H29: 95.6 | I29: =VLOOKUP($B29,'종합점수(총괄국)'!$B$245:$R$281,12,0) -> 96.615187 | J29: =I29/H29*100 -> 101.06191 | K29: =RANK($J29,$J$23:$J$38) -> 7 | L29: 96.6 | M29: =VLOOKUP($B29,'종합점수(총괄국)'!$B$245:$R$281,16,0) -> 97.578799 | N29: =M29/L29*100 -> 101.01325 | O29: =RANK($N29,$N$23:$N$38) -> 8 | Q29: 부여 | R29: =VLOOKUP($B29,'[1]총괄국 경영평가'!$B$6:$L$42,5,0) -> 98.118952 | S29: =D29-R29 -> -0.91680836
B30: 보령 | C30: 94.3 | D30: =VLOOKUP($B30,'종합점수(총괄국)'!$C$4:$O$239,6,0) -> 97.505727 | E30: =D30/C30*100 -> 103.3995 | F30: =IF($E30>=100,5,$E30*0.05) -> 5 | H30: 94.9 | I30: =VLOOKUP($B30,'종합점수(총괄국)'!$B$245:$R$281,12,0) -> 96.293849 | J30: =I30/H30*100 -> 101.46876 | K30: =RANK($J30,$J$23:$J$38) -> 1 | L30: 95.6 | M30: =VLOOKUP($B30,'종합점수(총괄국)'!$B$245:$R$281,16,0) -> 98.707682 | N30: =M30/L30*100 -> 103.25071 | O30: =RANK($N30,$N$23:$N$38) -> 1 | Q30: 보령 | R30: =VLOOKUP($B30,'[1]총괄국 경영평가'!$B$6:$L$42,5,0) -> 97.495952 | S30: =D30-R30 -> 0.0097748235
B31: 태안 | C31: 95.2 | D31: =VLOOKUP($B31,'종합점수(총괄국)'!$C$4:$O$239,6,0) -> 95.585813 | E31: =D31/C31*100 -> 100.40527 | F31: =IF($E31>=100,5,$E31*0.05) -> 5 | H31: 95.6 | I31: =VLOOKUP($B31,'종합점수(총괄국)'!$B$245:$R$281,12,0) -> 96.758667 | J31: =I31/H31*100 -> 101.21199 | K31: =RANK($J31,$J$23:$J$38) -> 5 | L31: 96.6 | M31: =VLOOKUP($B31,'종합점수(총괄국)'!$B$245:$R$281,16,0) -> 94.074624 | N31: =M31/L31*100 -> 97.38574 | O31: =RANK($N31,$N$23:$N$38) -> 16 | Q31: 태안 | R31: =VLOOKUP($B31,'[1]총괄국 경영평가'!$B$6:$L$42,5,0) -> 95.995061 | S31: =D31-R31 -> -0.40924773
B32: 단양 | C32: 95.2 | D32: =VLOOKUP($B32,'종합점수(총괄국)'!$C$4:$O$239,6,0) -> 96.770036 | E32: =D32/C32*100 -> 101.6492 | F32: =IF($E32>=100,5,$E32*0.05) -> 5 | H32: 95.6 | I32: =VLOOKUP($B32,'종합점수(총괄국)'!$B$245:$R$281,12,0) -> 95.915064 | J32: =I32/H32*100 -> 100.32956 | K32: =RANK($J32,$J$23:$J$38) -> 11 | L32: 96.6 | M32: =VLOOKUP($B32,'종합점수(총괄국)'!$B$245:$R$281,16,0) -> 97.327118 | N32: =M32/L32*100 -> 100.75271 | O32: =RANK($N32,$N$23:$N$38) -> 9 | Q32: 단양 | R32: =VLOOKUP($B32,'[1]총괄국 경영평가'!$B$6:$L$42,5,0) -> 97.29296 | S32: =D32-R32 -> -0.52292345
B33: 괴산 | C33: 95.2 | D33: =VLOOKUP($B33,'종합점수(총괄국)'!$C$4:$O$239,6,0) -> 96.079546 | E33: =D33/C33*100 -> 100.92389 | F33: =IF($E33>=100,5,$E33*0.05) -> 5 | H33: 95.6 | I33: =VLOOKUP($B33,'종합점수(총괄국)'!$B$245:$R$281,12,0) -> 95.445992 | J33: =I33/H33*100 -> 99.838904 | K33: =RANK($J33,$J$23:$J$38) -> 14 | L33: 96.6 | M33: =VLOOKUP($B33,'종합점수(총괄국)'!$B$245:$R$281,16,0) -> 96.447788 | N33: =M33/L33*100 -> 99.842431 | O33: =RANK($N33,$N$23:$N$38) -> 12 | Q33: 괴산 | R33: =VLOOKUP($B33,'[1]총괄국 경영평가'!$B$6:$L$42,5,0) -> 96.400918 | S33: =D33-R33 -> -0.32137259
B34: 진천 | C34: 94.7 | D34: =VLOOKUP($B34,'종합점수(총괄국)'!$C$4:$O$239,6,0) -> 96.510935 | E34: =D34/C34*100 -> 101.91229 | F34: =IF($E34>=100,5,$E34*0.05) -> 5 | H34: 95.6 | I34: =VLOOKUP($B34,'종합점수(총괄국)'!$B$245:$R$281,12,0) -> 96.528161 | J34: =I34/H34*100 -> 100.97088 | K34: =RANK($J34,$J$23:$J$38) -> 9 | L34: 95.6 | M34: =VLOOKUP($B34,'종합점수(총괄국)'!$B$245:$R$281,16,0) -> 96.126438 | N34: =M34/L34*100 -> 100.55067 | O34: =RANK($N34,$N$23:$N$38) -> 10 | Q34: 진천 | R34: =VLOOKUP($B34,'[1]총괄국 경영평가'!$B$6:$L$42,5,0) -> 95.386406 | S34: =D34-R34 -> 1.1245285
... B38: 보은 | C38: 95.2 | D38: =VLOOKUP($B38,'종합점수(총괄국)'!$C$4:$O$239,6,0) -> 97.407242 | E38: =D38/C38*100 -> 102.31853 | F38: =IF($E38>=100,5,$E38*0.05) -> 5 | H38: 95.6 | I38: =VLOOKUP($B38,'종합점수(총괄국)'!$B$245:$R$281,12,0) -> 96.690164 | J38: =I38/H38*100 -> 101.14034 | K38: =RANK($J38,$J$23:$J$38) -> 6 | L38: 96.6 | M38: =VLOOKUP($B38,'종합점수(총괄국)'!$B$245:$R$281,16,0) -> 97.851398 | N38: =M38/L38*100 -> 101.29544 | O38: =RANK($N38,$N$23:$N$38) -> 7 | Q38: 보은 | R38: =VLOOKUP($B38,'[1]총괄국 경영평가'!$B$6:$L$42,5,0) -> 96.999133 | S38: =D38-R38 -> 0.40810814
B39: 5급평균 | C39: =AVERAGE(C23:C38) -> 95.025 | D39: =AVERAGE(D23:D38) -> 96.64991 | E39: =AVERAGE(E23:E38) -> 101.71064 | H39: 95.5125 | I39: =AVERAGE(I23:I38) -> 96.120242 | J39: =AVERAGE(J23:J38) -> 100.63704 | L39: 96.35 | M39: =AVERAGE(M23:M38) -> 96.96674 | N39: =AVERAGE(N23:N38) -> 100.64139 | Q39: 5급평균 | R39: =AVERAGE(R23:R38) -> 96.637108 | S39: =AVERAGE(S23:S38) -> 0.012802274
B40: 청평균 | C40: =AVERAGE(C6:C21,C23:C38) -> 94.409375 | D40: =AVERAGE(D6:D21,D23:D38) -> 96.181411 | E40: =AVERAGE(E6:E21,E23:E38) -> 101.87831 | H40: 94.940625 | I40: =AVERAGE(I6:I21,I23:I38) -> 95.591078 | J40: =AVERAGE(J6:J21,J23:J38) -> 100.68551 | L40: 95.7 | M40: =AVERAGE(M6:M21,M23:M38) -> 96.54676 | N40: =AVERAGE(N6:N21,N23:N38) -> 100.88671 | Q40: 청평균 | R40: =AVERAGE(R6:R21,R23:R38) -> 96.019563 | S40: =AVERAGE(S6:S21,S23:S38) -> 0.16184768

Sheet 연도평가(총괄국)
B1: (총괄국) 2016년 고객만족경영 연도평가 결과 <2016년도>
B3: 총괄국명 | C3: 고객만족도결과(11월) | G3: 경평평가 득점(D) | I3: 고객만족도평가(80%) - (가) | N3: 경영평가 - (나) | P3: 연도평가결과 | Q3: 순위
C4: 목표 | D4: 실적(A) | E4: 달성률(B) | F4: 다량(C) | I4: A*45% | J4: B*45% | K4: C*10% | L4: 소계 | N4: D*20% | P4: (가)+(나)
B5: 대전 | C5: 93.4 | D5: =VLOOKUP($B5,'종합점수(총괄국)'!$C$4:$O$239,6,0) -> 95.102576 | E5: =D5/C5*100 -> 101.82289 | F5: =VLOOKUP($B5,'항목별(다량)'!$C$125:$E$156,3,0) -> 73.344791 | G5: =VLOOKUP($B5,'[3]경평종합성적(총괄국)'!D$8:F$42,3,0)-5 -> 95.573 | I5: =D5/MAX($D$5:$D$20)*45 -> 44.056864 | J5: =E5/MAX($E$5:$E$20)*45 -> 44.481395 | K5: =F5/MAX($F$5:$F$20)*10 -> 7.3344791 | L5: =SUM(I5:K5)*0.8 -> 76.698191 | N5: =G5/MAX($G$5:$G$20)*20 -> 19.993724 | P5: =L5+N5 -> 96.691915 | Q5: =RANK(P5,$P$5:$P$20) -> 16
B6: 서대전 | C6: 93.4 | D6: =VLOOKUP($B6,'종합점수(총괄국)'!$C$4:$O$239,6,0) -> 94.785887 | E6: =D6/C6*100 -> 101.48382 | F6: =VLOOKUP($B6,'항목별(다량)'!$C$125:$E$156,3,0) -> 97.222283 | G6: =VLOOKUP($B6,'[3]경평종합성적(총괄국)'!D$8:F$42,3,0)-5 -> 91.644 | I6: =D6/MAX($D$5:$D$20)*45 -> 43.910156 | J6: =E6/MAX($E$5:$E$20)*45 -> 44.333273 | K6: =F6/MAX($F$5:$F$20)*10 -> 9.7222283 | L6: =SUM(I6:K6)*0.8 -> 78.372526 | N6: =G6/MAX($G$5:$G$20)*20 -> 19.171783 | P6: =L6+N6 -> 97.544309 | Q6: =RANK(P6,$P$5:$P$20) -> 15
B7: 대전유성 | C7: 93.4 | D7: =VLOOKUP($B7,'종합점수(총괄국)'!$C$4:$O$239,6,0) -> 95.917863 | E7: =D7/C7*100 -> 102.69578 | F7: =VLOOKUP($B7,'항목별(다량)'!$C$125:$E$156,3,0) -> 100 | G7: =VLOOKUP($B7,'[3]경평종합성적(총괄국)'!D$8:F$42,3,0)-5 -> 93.603 | I7: =D7/MAX($D$5:$D$20)*45 -> 44.434551 | J7: =E7/MAX($E$5:$E$20)*45 -> 44.862721 | K7: =F7/MAX($F$5:$F$20)*10 -> 10 | L7: =SUM(I7:K7)*0.8 -> 79.437818 | N7: =G7/MAX($G$5:$G$20)*20 -> 19.581603 | P7: =L7+N7 -> 99.019421 | Q7: =RANK(P7,$P$5:$P$20) -> 2
B8: 대전대덕 | C8: 93.4 | D8: =VLOOKUP($B8,'종합점수(총괄국)'!$C$4:$O$239,6,0) -> 95.358664 | E8: =D8/C8*100 -> 102.09707 | F8: =VLOOKUP($B8,'항목별(다량)'!$C$125:$E$156,3,0) -> 97.840065 | G8: =VLOOKUP($B8,'[3]경평종합성적(총괄국)'!D$8:F$42,3,0)-5 -> 94.893 | I8: =D8/MAX($D$5:$D$20)*45 -> 44.175499 | J8: =E8/MAX($E$5:$E$20)*45 -> 44.601173 | K8: =F8/MAX($F$5:$F$20)*10 -> 9.7840065 | L8: =SUM(I8:K8)*0.8 -> 78.848542 | N8: =G8/MAX($G$5:$G$20)*20 -> 19.851469 | P8: =L8+N8 -> 98.700011 | Q8: =RANK(P8,$P$5:$P$20) -> 8
B9: 대전둔산 | C9: 93.4 | D9: =VLOOKUP($B9,'종합점수(총괄국)'!$C$4:$O$239,6,0) -> 95.464747 | E9: =D9/C9*100 -> 102.21065 | F9: =VLOOKUP($B9,'항목별(다량)'!$C$125:$E$156,3,0) -> 100 | G9: =VLOOKUP($B9,'[3]경평종합성적(총괄국)'!D$8:F$42,3,0)-5 -> 93.237 | I9: =D9/MAX($D$5:$D$20)*45 -> 44.224642 | J9: =E9/MAX($E$5:$E$20)*45 -> 44.65079 | K9: =F9/MAX($F$5:$F$20)*10 -> 10 | L9: =SUM(I9:K9)*0.8 -> 79.100346 | N9: =G9/MAX($G$5:$G$20)*20 -> 19.505036 | P9: =L9+N9 -> 98.605382 | Q9: =RANK(P9,$P$5:$P$20) -> 10
B10: 천안 | C10: 93.7 | D10: =VLOOKUP($B10,'종합점수(총괄국)'!$C$4:$O$239,6,0) -> 94.845353 | E10: =D10/C10*100 -> 101.22236 | F10: =VLOOKUP($B10,'항목별(다량)'!$C$125:$E$156,3,0) -> 93.050558 | G10: =VLOOKUP($B10,'[3]경평종합성적(총괄국)'!D$8:F$42,3,0)-5 -> 93.739 | I10: =D10/MAX($D$5:$D$20)*45 -> 43.937704 | J10: =E10/MAX($E$5:$E$20)*45 -> 44.219055 | K10: =F10/MAX($F$5:$F$20)*10 -> 9.3050558 | L10: =SUM(I10:K10)*0.8 -> 77.969452 | N10: =G10/MAX($G$5:$G$20)*20 -> 19.610054 | P10: =L10+N10 -> 97.579506 | Q10: =RANK(P10,$P$5:$P$20) -> 14
B11: 동천안 | C11: 93.7 | D11: =VLOOKUP($B11,'종합점수(총괄국)'!$C$4:$O$239,6,0) -> 96.092418 | E11: =D11/C11*100 -> 102.55327 | F11: =VLOOKUP($B11,'항목별(다량)'!$C$125:$E$156,3,0) -> 99.184718 | G11: =VLOOKUP($B11,'[3]경평종합성적(총괄국)'!D$8:F$42,3,0)-5 -> 93.755 | I11: =D11/MAX($D$5:$D$20)*45 -> 44.515415 | J11: =E11/MAX($E$5:$E$20)*45 -> 44.800466 | K11: =F11/MAX($F$5:$F$20)*10 -> 9.9184718 | L11: =SUM(I11:K11)*0.8 -> 79.387482 | N11: =G11/MAX($G$5:$G$20)*20 -> 19.613401 | P11: =L11+N11 -> 99.000883 | Q11: =RANK(P11,$P$5:$P$20) -> 3
B12: 공주 | C12: 94.3 | D12: =VLOOKUP($B12,'종합점수(총괄국)'!$C$4:$O$239,6,0) -> 96.224189 | E12: =D12/C12*100 -> 102.0405 | F12: =VLOOKUP($B12,'항목별(다량)'!$C$125:$E$156,3,0) -> 90.114932 | G12: =VLOOKUP($B12,'[3]경평종합성적(총괄국)'!D$8:F$42,3,0)-5 -> 95.315 | I12: =D12/MAX($D$5:$D$20)*45 -> 44.576458 | J12: =E12/MAX($E$5:$E$20)*45 -> 44.576458 | K12: =F12/MAX($F$5:$F$20)*10 -> 9.0114932 | L12: =SUM(I12:K12)*0.8 -> 78.531528 | N12: =G12/MAX($G$5:$G$20)*20 -> 19.939751 | P12: =L12+N12 -> 98.471279 | Q12: =RANK(P12,$P$5:$P$20) -> 11
B13: 아산 | C13: 93.7 | D13: =VLOOKUP($B13,'종합점수(총괄국)'!$C$4:$O$239,6,0) -> 95.890753 | E13: =D13/C13*100 -> 102.33805 | F13: =VLOOKUP($B13,'항목별(다량)'!$C$125:$E$156,3,0) -> 94.260116 | G13: =VLOOKUP($B13,'[3]경평종합성적(총괄국)'!D$8:F$42,3,0)-5 -> 95.244 | I13: =D13/MAX($D$5:$D$20)*45 -> 44.421993 | J13: =E13/MAX($E$5:$E$20)*45 -> 44.706445 | K13: =F13/MAX($F$5:$F$20)*10 -> 9.4260116 | L13: =SUM(I13:K13)*0.8 -> 78.843559 | N13: =G13/MAX($G$5:$G$20)*20 -> 19.924898 | P13: =L13+N13 -> 98.768457 | Q13: =RANK(P13,$P$5:$P$20) -> 7
B14: 논산 | C14: 94.3 | D14: =VLOOKUP($B14,'종합점수(총괄국)'!$C$4:$O$239,6,0) -> 97.138459 | E14: =D14/C14*100 -> 103.01003 | F14: =VLOOKUP($B14,'항목별(다량)'!$C$125:$E$156,3,0) -> 87.661053 | G14: =VLOOKUP($B14,'[3]경평종합성적(총괄국)'!D$8:F$42,3,0)-5 -> 94.506 | I14: =D14/MAX($D$5:$D$20)*45 -> 45 | J14: =E14/MAX($E$5:$E$20)*45 -> 45 | K14: =F14/MAX($F$5:$F$20)*10 -> 8.7661053 | L14: =SUM(I14:K14)*0.8 -> 79.012884 | N14: =G14/MAX($G$5:$G$20)*20 -> 19.770509 | P14: =L14+N14 -> 98.783394 | Q14: =RANK(P14,$P$5:$P$20) -> 6
B15: 청주 | C15: 93.7 | D15: =VLOOKUP($B15,'종합점수(총괄국)'!$C$4:$O$239,6,0) -> 96.480178 | E15: =D15/C15*100 -> 102.96711 | F15: =VLOOKUP($B15,'항목별(다량)'!$C$125:$E$156,3,0) -> 94.734902 | G15: =VLOOKUP($B15,'[3]경평종합성적(총괄국)'!D$8:F$42,3,0)-5 -> 95.26 | I15: =D15/MAX($D$5:$D$20)*45 -> 44.695047 | J15: =E15/MAX($E$5:$E$20)*45 -> 44.981248 | K15: =F15/MAX($F$5:$F$20)*10 -> 9.4734902 | L15: =SUM(I15:K15)*0.8 -> 79.319829 | N15: =G15/MAX($G$5:$G$20)*20 -> 19.928245 | P15: =L15+N15 -> 99.248073 | Q15: =RANK(P15,$P$5:$P$20) -> 1
B16: 서청주 | C16: 93.7 | D16: =VLOOKUP($B16,'종합점수(총괄국)'!$C$4:$O$239,6,0) -> 94.594416 | E16: =D16/C16*100 -> 100.95455 | F16: =VLOOKUP($B16,'항목별(다량)'!$C$125:$E$156,3,0) -> 100 | G16: =VLOOKUP($B16,'[3]경평종합성적(총괄국)'!D$8:F$42,3,0)-5 -> 93.889 | I16: =D16/MAX($D$5:$D$20)*45 -> 43.821456 | J16: =E16/MAX($E$5:$E$20)*45 -> 44.102063 | K16: =F16/MAX($F$5:$F$20)*10 -> 10 | L16: =SUM(I16:K16)*0.8 -> 78.338816 | N16: =G16/MAX($G$5:$G$20)*20 -> 19.641434 | P16: =L16+N16 -> 97.980249 | Q16: =RANK(P16,$P$5:$P$20) -> 13
... B20: 서산 | C20: 94.3 | D20: =VLOOKUP($B20,'종합점수(총괄국)'!$C$4:$O$239,6,0) -> 95.774379 | E20: =D20/C20*100 -> 101.5635 | F20: =VLOOKUP($B20,'항목별(다량)'!$C$125:$E$156,3,0) -> 100 | G20: =VLOOKUP($B20,'[3]경평종합성적(총괄국)'!D$8:F$42,3,0)-5 -> 95.231 | I20: =D20/MAX($D$5:$D$20)*45 -> 44.368081 | J20: =E20/MAX($E$5:$E$20)*45 -> 44.368081 | K20: =F20/MAX($F$5:$F$20)*10 -> 10 | L20: =SUM(I20:K20)*0.8 -> 78.98893 | N20: =G20/MAX($G$5:$G$20)*20 -> 19.922178 | P20: =L20+N20 -> 98.911109 | Q20: =RANK(P20,$P$5:$P$20) -> 5
B21: 금산 | C21: 95.2 | D21: =VLOOKUP($B21,'종합점수(총괄국)'!$C$4:$O$239,6,0) -> 95.759791 | E21: =D21/C21*100 -> 100.58802 | F21: =VLOOKUP($B21,'항목별(다량)'!$C$125:$E$156,3,0) -> 90.409686 | G21: =VLOOKUP($B21,'[3]경평종합성적(총괄국)'!D$8:F$42,3,0)-5 -> 95.758 | I21: =D21/MAX($D$21:$D$36)*45 -> 44.157367 | J21: =E21/MAX($E$21:$E$36)*45 -> 43.776428 | K21: =F21/MAX($F$21:$F$36)*10 -> 9.0409686 | L21: =SUM(I21:K21)*0.8 -> 77.579811 | N21: =G21/MAX($G$21:$G$36)*20 -> 20 | P21: =L21+N21 -> 97.579811 | Q21: =RANK(P21,$P$21:$P$36) -> 15
B22: 홍성 | C22: 95.2 | D22: =VLOOKUP($B22,'종합점수(총괄국)'!$C$4:$O$239,6,0) -> 96.557699 | E22: =D22/C22*100 -> 101.42615 | F22: =VLOOKUP($B22,'항목별(다량)'!$C$125:$E$156,3,0) -> 87.199928 | G22: =VLOOKUP($B22,'[3]경평종합성적(총괄국)'!D$8:F$42,3,0)-5 -> 95.286 | I22: =D22/MAX($D$21:$D$36)*45 -> 44.525303 | J22: =E22/MAX($E$21:$E$36)*45 -> 44.14119 | K22: =F22/MAX($F$21:$F$36)*10 -> 8.7199928 | L22: =SUM(I22:K22)*0.8 -> 77.909189 | N22: =G22/MAX($G$21:$G$36)*20 -> 19.901418 | P22: =L22+N22 -> 97.810607 | Q22: =RANK(P22,$P$21:$P$36) -> 13
B23: 예산 | C23: 95.2 | D23: =VLOOKUP($B23,'종합점수(총괄국)'!$C$4:$O$239,6,0) -> 97.557654 | E23: =D23/C23*100 -> 102.47653 | F23: =VLOOKUP($B23,'항목별(다량)'!$C$125:$E$156,3,0) -> 93.626065 | G23: =VLOOKUP($B23,'[3]경평종합성적(총괄국)'!D$8:F$42,3,0)-5 -> 94.455 | I23: =D23/MAX($D$21:$D$36)*45 -> 44.986409 | J23: =E23/MAX($E$21:$E$36)*45 -> 44.598318 | K23: =F23/MAX($F$21:$F$36)*10 -> 9.3626065 | L23: =SUM(I23:K23)*0.8 -> 79.157867 | N23: =G23/MAX($G$21:$G$36)*20 -> 19.727856 | P23: =L23+N23 -> 98.885722 | Q23: =RANK(P23,$P$21:$P$36) -> 7
B24: 서천 | C24: 95.2 | D24: =VLOOKUP($B24,'종합점수(총괄국)'!$C$4:$O$239,6,0) -> 97.029825 | E24: =D24/C24*100 -> 101.92208 | F24: =VLOOKUP($B24,'항목별(다량)'!$C$125:$E$156,3,0) -> 98.291734 | G24: =VLOOKUP($B24,'[3]경평종합성적(총괄국)'!D$8:F$42,3,0)-5 -> 95.228 | I24: =D24/MAX($D$21:$D$36)*45 -> 44.743013 | J24: =E24/MAX($E$21:$E$36)*45 -> 44.357022 | K24: =F24/MAX($F$21:$F$36)*10 -> 9.8291734 | L24: =SUM(I24:K24)*0.8 -> 79.143366 | N24: =G24/MAX($G$21:$G$36)*20 -> 19.889304 | P24: =L24+N24 -> 99.032671 | Q24: =RANK(P24,$P$21:$P$36) -> 4
B25: 당진 | C25: 94.3 | D25: =VLOOKUP($B25,'종합점수(총괄국)'!$C$4:$O$239,6,0) -> 95.405224 | E25: =D25/C25*100 -> 101.17203 | F25: =VLOOKUP($B25,'항목별(다량)'!$C$125:$E$156,3,0) -> 92.692715 | G25: =VLOOKUP($B25,'[3]경평종합성적(총괄국)'!D$8:F$42,3,0)-5 -> 93.466 | I25: =D25/MAX($D$21:$D$36)*45 -> 43.993866 | J25: =E25/MAX($E$21:$E$36)*45 -> 44.030594 | K25: =F25/MAX($F$21:$F$36)*10 -> 9.2692715 | L25: =SUM(I25:K25)*0.8 -> 77.834985 | N25: =G25/MAX($G$21:$G$36)*20 -> 19.521293 | P25: =L25+N25 -> 97.356278 | Q25: =RANK(P25,$P$21:$P$36) -> 16
B26: 청양 | C26: 95.2 | D26: =VLOOKUP($B26,'종합점수(총괄국)'!$C$4:$O$239,6,0) -> 96.947024 | E26: =D26/C26*100 -> 101.83511 | F26: =VLOOKUP($B26,'항목별(다량)'!$C$125:$E$156,3,0) -> 98.473541 | G26: =VLOOKUP($B26,'[3]경평종합성적(총괄국)'!D$8:F$42,3,0)-5 -> 93.779 | I26: =D26/MAX($D$21:$D$36)*45 -> 44.704831 | J26: =E26/MAX($E$21:$E$36)*45 -> 44.319169 | K26: =F26/MAX($F$21:$F$36)*10 -> 9.8473541 | L26: =SUM(I26:K26)*0.8 -> 79.097083 | N26: =G26/MAX($G$21:$G$36)*20 -> 19.586666 | P26: =L26+N26 -> 98.68375 | Q26: =RANK(P26,$P$21:$P$36) -> 10
B27: 부여 | C27: 95.2 | D27: =VLOOKUP($B27,'종합점수(총괄국)'!$C$4:$O$239,6,0) -> 97.202143 | E27: =D27/C27*100 -> 102.10309 | F27: =VLOOKUP($B27,'항목별(다량)'!$C$125:$E$156,3,0) -> 94.677651 | G27: =VLOOKUP($B27,'[3]경평종합성적(총괄국)'!D$8:F$42,3,0)-5 -> 95.347 | I27: =D27/MAX($D$21:$D$36)*45 -> 44.822473 | J27: =E27/MAX($E$21:$E$36)*45 -> 44.435797 | K27: =F27/MAX($F$21:$F$36)*10 -> 9.4677651 | L27: =SUM(I27:K27)*0.8 -> 78.980828 | N27: =G27/MAX($G$21:$G$36)*20 -> 19.914159 | P27: =L27+N27 -> 98.894987 | Q27: =RANK(P27,$P$21:$P$36) -> 6
B28: 보령 | C28: 94.3 | D28: =VLOOKUP($B28,'종합점수(총괄국)'!$C$4:$O$239,6,0) -> 97.505727 | E28: =D28/C28*100 -> 103.3995 | F28: =VLOOKUP($B28,'항목별(다량)'!$C$125:$E$156,3,0) -> 97.476451 | G28: =VLOOKUP($B28,'[3]경평종합성적(총괄국)'!D$8:F$42,3,0)-5 -> 93.663 | I28: =D28/MAX($D$21:$D$36)*45 -> 44.962464 | J28: =E28/MAX($E$21:$E$36)*45 -> 45 | K28: =F28/MAX($F$21:$F$36)*10 -> 9.7476451 | L28: =SUM(I28:K28)*0.8 -> 79.768087 | N28: =G28/MAX($G$21:$G$36)*20 -> 19.562439 | P28: =L28+N28 -> 99.330526 | Q28: =RANK(P28,$P$21:$P$36) -> 3
B29: 태안 | C29: 95.2 | D29: =VLOOKUP($B29,'종합점수(총괄국)'!$C$4:$O$239,6,0) -> 95.585813 | E29: =D29/C29*100 -> 100.40527 | F29: =VLOOKUP($B29,'항목별(다량)'!$C$125:$E$156,3,0) -> 99.327674 | G29: =VLOOKUP($B29,'[3]경평종합성적(총괄국)'!D$8:F$42,3,0)-5 -> 95.204 | I29: =D29/MAX($D$21:$D$36)*45 -> 44.077141 | J29: =E29/MAX($E$21:$E$36)*45 -> 43.696894 | K29: =F29/MAX($F$21:$F$36)*10 -> 9.9327674 | L29: =SUM(I29:K29)*0.8 -> 78.165442 | N29: =G29/MAX($G$21:$G$36)*20 -> 19.884292 | P29: =L29+N29 -> 98.049734 | Q29: =RANK(P29,$P$21:$P$36) -> 12
B30: 단양 | C30: 95.2 | D30: =VLOOKUP($B30,'종합점수(총괄국)'!$C$4:$O$239,6,0) -> 96.770036 | E30: =D30/C30*100 -> 101.6492 | F30: =VLOOKUP($B30,'항목별(다량)'!$C$125:$E$156,3,0) -> 97.416518 | G30: =VLOOKUP($B30,'[3]경평종합성적(총괄국)'!D$8:F$42,3,0)-5 -> 95.671 | I30: =D30/MAX($D$21:$D$36)*45 -> 44.623217 | J30: =E30/MAX($E$21:$E$36)*45 -> 44.23826 | K30: =F30/MAX($F$21:$F$36)*10 -> 9.7416518 | L30: =SUM(I30:K30)*0.8 -> 78.882503 | N30: =G30/MAX($G$21:$G$36)*20 -> 19.981829 | P30: =L30+N30 -> 98.864332 | Q30: =RANK(P30,$P$21:$P$36) -> 8
B31: 괴산 | C31: 95.2 | D31: =VLOOKUP($B31,'종합점수(총괄국)'!$C$4:$O$239,6,0) -> 96.079546 | E31: =D31/C31*100 -> 100.92389 | F31: =VLOOKUP($B31,'항목별(다량)'!$C$125:$E$156,3,0) -> 89.222463 | G31: =VLOOKUP($B31,'[3]경평종합성적(총괄국)'!D$8:F$42,3,0)-5 -> 95.546 | I31: =D31/MAX($D$21:$D$36)*45 -> 44.304814 | J31: =E31/MAX($E$21:$E$36)*45 -> 43.922603 | K31: =F31/MAX($F$21:$F$36)*10 -> 8.9222463 | L31: =SUM(I31:K31)*0.8 -> 77.719731 | N31: =G31/MAX($G$21:$G$36)*20 -> 19.955722 | P31: =L31+N31 -> 97.675453 | Q31: =RANK(P31,$P$21:$P$36) -> 14
B32: 진천 | C32: 94.7 | D32: =VLOOKUP($B32,'종합점수(총괄국)'!$C$4:$O$239,6,0) -> 96.510935 | E32: =D32/C32*100 -> 101.91229 | F32: =VLOOKUP($B32,'항목별(다량)'!$C$125:$E$156,3,0) -> 100 | G32: =VLOOKUP($B32,'[3]경평종합성적(총괄국)'!D$8:F$42,3,0)-5 -> 95.452 | I32: =D32/MAX($D$21:$D$36)*45 -> 44.503739 | J32: =E32/MAX($E$21:$E$36)*45 -> 44.352757 | K32: =F32/MAX($F$21:$F$36)*10 -> 10 | L32: =SUM(I32:K32)*0.8 -> 79.085197 | N32: =G32/MAX($G$21:$G$36)*20 -> 19.936089 | P32: =L32+N32 -> 99.021286 | Q32: =RANK(P32,$P$21:$P$36) -> 5
... B36: 보은 | C36: 95.2 | D36: =VLOOKUP($B36,'종합점수(총괄국)'!$C$4:$O$239,6,0) -> 97.407242 | E36: =D36/C36*100 -> 102.31853 | F36: =VLOOKUP($B36,'항목별(다량)'!$C$125:$E$156,3,0) -> 100 | G36: =VLOOKUP($B36,'[3]경평종합성적(총괄국)'!D$8:F$42,3,0)-5 -> 95.58 | I36: =D36/MAX($D$21:$D$36)*45 -> 44.917049 | J36: =E36/MAX($E$21:$E$36)*45 -> 44.529557 | K36: =F36/MAX($F$21:$F$36)*10 -> 10 | L36: =SUM(I36:K36)*0.8 -> 79.557285 | N36: =G36/MAX($G$21:$G$36)*20 -> 19.962823 | P36: =L36+N36 -> 99.520108 | Q36: =RANK(P36,$P$21:$P$36) -> 1

Sheet 종합점수(총괄국)
B1: (총괄국) 우정서비스 고객만족도 <'16.11월 누계>
J3: 47.5 | N3: 47.5 | O3: 5
B4: 구분 | C4: 총괄국 | D4: 급수 | E4: 전체순위 | F4: 급내순위 | G4: 청내순위 | H4: 종합 KPCSI | I4: 1) 이용고객 종합 | J4: 창구 | N4: 집배 | O4: 2) 현장 모니터링 | Q4: 전체순위 | R4: 급내순위
J5: 창구종합 | K5: 우편 | L5: 예금 | M5: 보험 | R5: 4급 | S5: 5급
B6: 전체 | H6: {=SUMPRODUCT($J$3:$O$3,J6:O6)/SUM(($J$3:$O$3)*(J6:O6<>"."))} -> 95.642483 | I6: {=SUMPRODUCT($J$3:$N$3,J6:N6)/SUM(($J$3:$N$3)*(J6:N6<>"."))} -> 95.540661 | J6: 94.954198 | K6: 95.384729 | L6: 94.368801 | M6: 94.401153 | N6: 96.127125 | O6: 97.577096
B7: 청 합계 | D7: - | E7: - | F7: - | G7: - | H7: {=SUMPRODUCT($J$3:$O$3,J7:O7)/SUM(($J$3:$O$3)*(J7:O7<>"."))} -> 94.448939 | I7: {=SUMPRODUCT($J$3:$N$3,J7:N7)/SUM(($J$3:$N$3)*(J7:N7<>"."))} -> 94.362161 | J7: 93.259912 | K7: 93.652151 | L7: 92.509408 | M7: 92.884226 | N7: 95.46441 | O7: 96.097727 | Q7: . | R7: =IF($D7=R$5,H7,".") -> . | S7: =IF($D7=S$5,H7,".") -> .
B8: 서울 | C8: 서울중앙 | D8: 4급 | E8: =RANK(H8,$Q$8:$Q$239) -> 179 | F8: =IF(D8="4급",RANK(H8,$R$8:$R$239),IF(D8="5급",RANK(H8,$S$8:$S$239),"-")) -> 90 | G8: =RANK(H8,$H$8:$H$29) -> 9 | H8: {=SUMPRODUCT($J$3:$O$3,J8:O8)/SUM(($J$3:$O$3)*(J8:O8<>"."))} -> 94.72599 | I8: {=SUMPRODUCT($J$3:$N$3,J8:N8)/SUM(($J$3:$N$3)*(J8:N8<>"."))} -> 94.687885 | J8: 93.716094 | K8: 93.409239 | L8: 94.984896 | M8: 92.0825 | N8: 95.659676 | O8: 95.45 | Q8: =H8 -> 94.72599 | R8: =IF($D8=R$5,H8,".") -> 94.72599 | S8: =IF($D8=S$5,H8,".") -> .
C9: 광화문 | D9: 4급 | E9: =RANK(H9,$Q$8:$Q$239) -> 191 | F9: =IF(D9="4급",RANK(H9,$R$8:$R$239),IF(D9="5급",RANK(H9,$S$8:$S$239),"-")) -> 101 | G9: =RANK(H9,$H$8:$H$29) -> 12 | H9: {=SUMPRODUCT($J$3:$O$3,J9:O9)/SUM(($J$3:$O$3)*(J9:O9<>"."))} -> 94.363323 | I9: {=SUMPRODUCT($J$3:$N$3,J9:N9)/SUM(($J$3:$N$3)*(J9:N9<>"."))} -> 94.337708 | J9: 92.750248 | K9: 94.097879 | L9: 90.79794 | M9: 90.611905 | N9: 95.925167 | O9: 94.85 | Q9: =H9 -> 94.363323 | R9: =IF($D9=R$5,H9,".") -> 94.363323 | S9: =IF($D9=S$5,H9,".") -> .
C10: 서대문 | D10: 4급 | E10: =RANK(H10,$Q$8:$Q$239) -> 152 | F10: =IF(D10="4급",RANK(H10,$R$8:$R$239),IF(D10="5급",RANK(H10,$S$8:$S$239),"-")) -> 68 | G10: =RANK(H10,$H$8:$H$29) -> 3 | H10: {=SUMPRODUCT($J$3:$O$3,J10:O10)/SUM(($J$3:$O$3)*(J10:O10<>"."))} -> 95.219499 | I10: {=SUMPRODUCT($J$3:$N$3,J10:N10)/SUM(($J$3:$N$3)*(J10:N10<>"."))} -> 95.183684 | J10: 93.651208 | K10: 93.987631 | L10: 91.9875 | M10: 95.360714 | N10: 96.716159 | O10: 95.9 | Q10: =H10 -> 95.219499 | R10: =IF($D10=R$5,H10,".") -> 95.219499 | S10: =IF($D10=S$5,H10,".") -> .
C11: 동대문 | D11: 4급 | E11: =RANK(H11,$Q$8:$Q$239) -> 197 | F11: =IF(D11="4급",RANK(H11,$R$8:$R$239),IF(D11="5급",RANK(H11,$S$8:$S$239),"-")) -> 106 | G11: =RANK(H11,$H$8:$H$29) -> 13 | H11: {=SUMPRODUCT($J$3:$O$3,J11:O11)/SUM(($J$3:$O$3)*(J11:O11<>"."))} -> 94.171328 | I11: {=SUMPRODUCT($J$3:$N$3,J11:N11)/SUM(($J$3:$N$3)*(J11:N11<>"."))} -> 94.106661 | J11: 92.538227 | K11: 92.470506 | L11: 92.44214 | M11: 93.075 | N11: 95.675096 | O11: 95.4 | Q11: =H11 -> 94.171328 | R11: =IF($D11=R$5,H11,".") -> 94.171328 | S11: =IF($D11=S$5,H11,".") -> .
C12: 서울광진 | D12: 4급 | E12: =RANK(H12,$Q$8:$Q$239) -> 132 | F12: =IF(D12="4급",RANK(H12,$R$8:$R$239),IF(D12="5급",RANK(H12,$S$8:$S$239),"-")) -> 53 | G12: =RANK(H12,$H$8:$H$29) -> 1 | H12: {=SUMPRODUCT($J$3:$O$3,J12:O12)/SUM(($J$3:$O$3)*(J12:O12<>"."))} -> 95.487226 | I12: {=SUMPRODUCT($J$3:$N$3,J12:N12)/SUM(($J$3:$N$3)*(J12:N12<>"."))} -> 95.418133 | J12: 94.103709 | K12: 94.140882 | L12: 93.606466 | M12: 95.203409 | N12: 96.732557 | O12: 96.8 | Q12: =H12 -> 95.487226 | R12: =IF($D12=R$5,H12,".") -> 95.487226 | S12: =IF($D12=S$5,H12,".") -> .
C13: 서울마포 | D13: 4급 | E13: =RANK(H13,$Q$8:$Q$239) -> 212 | F13: =IF(D13="4급",RANK(H13,$R$8:$R$239),IF(D13="5급",RANK(H13,$S$8:$S$239),"-")) -> 118 | G13: =RANK(H13,$H$8:$H$29) -> 20 | H13: {=SUMPRODUCT($J$3:$O$3,J13:O13)/SUM(($J$3:$O$3)*(J13:O13<>"."))} -> 93.742544 | I13: {=SUMPRODUCT($J$3:$N$3,J13:N13)/SUM(($J$3:$N$3)*(J13:N13<>"."))} -> 93.621099 | J13: 92.593847 | K13: 93.129524 | L13: 91.709594 | M13: 91.677941 | N13: 94.648351 | O13: 96.05 | Q13: =H13 -> 93.742544 | R13: =IF($D13=R$5,H13,".") -> 93.742544 | S13: =IF($D13=S$5,H13,".") -> .
C14: 서울도봉 | D14: 4급 | E14: =RANK(H14,$Q$8:$Q$239) -> 157 | F14: =IF(D14="4급",RANK(H14,$R$8:$R$239),IF(D14="5급",RANK(H14,$S$8:$S$239),"-")) -> 73 | G14: =RANK(H14,$H$8:$H$29) -> 4 | H14: {=SUMPRODUCT($J$3:$O$3,J14:O14)/SUM(($J$3:$O$3)*(J14:O14<>"."))} -> 95.147581 | I14: {=SUMPRODUCT($J$3:$N$3,J14:N14)/SUM(($J$3:$N$3)*(J14:N14<>"."))} -> 95.194822 | J14: 94.516155 | K14: 95.532743 | L14: 93.919174 | M14: 91.001087 | N14: 95.873488 | O14: 94.25 | Q14: =H14 -> 95.147581 | R14: =IF($D14=R$5,H14,".") -> 95.147581 | S14: =IF($D14=S$5,H14,".") -> .
C15: 서울관악 | D15: 4급 | E15: =RANK(H15,$Q$8:$Q$239) -> 211 | F15: =IF(D15="4급",RANK(H15,$R$8:$R$239),IF(D15="5급",RANK(H15,$S$8:$S$239),"-")) -> 117 | G15: =RANK(H15,$H$8:$H$29) -> 19 | H15: {=SUMPRODUCT($J$3:$O$3,J15:O15)/SUM(($J$3:$O$3)*(J15:O15<>"."))} -> 93.749244 | I15: {=SUMPRODUCT($J$3:$N$3,J15:N15)/SUM(($J$3:$N$3)*(J15:N15<>"."))} -> 93.60973 | J15: 93.323609 | K15: 93.493956 | L15: 93.328865 | M15: 92.4 | N15: 93.895852 | O15: 96.4 | Q15: =H15 -> 93.749244 | R15: =IF($D15=R$5,H15,".") -> 93.749244 | S15: =IF($D15=S$5,H15,".") -> .
C16: 여의도 | D16: 4급 | E16: =RANK(H16,$Q$8:$Q$239) -> 220 | F16: =IF(D16="4급",RANK(H16,$R$8:$R$239),IF(D16="5급",RANK(H16,$S$8:$S$239),"-")) -> 125 | G16: =RANK(H16,$H$8:$H$29) -> 22 | H16: {=SUMPRODUCT($J$3:$O$3,J16:O16)/SUM(($J$3:$O$3)*(J16:O16<>"."))} -> 93.356555 | I16: {=SUMPRODUCT($J$3:$N$3,J16:N16)/SUM(($J$3:$N$3)*(J16:N16<>"."))} -> 93.138479 | J16: 92.939884 | K16: 92.640083 | L16: 94.058653 | M16: 91.790476 | N16: 93.337074 | O16: 97.5 | Q16: =H16 -> 93.356555 | R16: =IF($D16=R$5,H16,".") -> 93.356555 | S16: =IF($D16=S$5,H16,".") -> .
C17: 서울강남 | D17: 4급 | E17: =RANK(H17,$Q$8:$Q$239) -> 188 | F17: =IF(D17="4급",RANK(H17,$R$8:$R$239),IF(D17="5급",RANK(H17,$S$8:$S$239),"-")) -> 98 | G17: =RANK(H17,$H$8:$H$29) -> 11 | H17: {=SUMPRODUCT($J$3:$O$3,J17:O17)/SUM(($J$3:$O$3)*(J17:O17<>"."))} -> 94.549208 | I17: {=SUMPRODUCT($J$3:$N$3,J17:N17)/SUM(($J$3:$N$3)*(J17:N17<>"."))} -> 94.472851 | J17: 93.518954 | K17: 93.939227 | L17: 92.826284 | M17: 91.965625 | N17: 95.426748 | O17: 96 | Q17: =H17 -> 94.549208 | R17: =IF($D17=R$5,H17,".") -> 94.549208 | S17: =IF($D17=S$5,H17,".") -> .
C18: 서울은평 | D18: 4급 | E18: =RANK(H18,$Q$8:$Q$239) -> 164 | F18: =IF(D18="4급",RANK(H18,$R$8:$R$239),IF(D18="5급",RANK(H18,$S$8:$S$239),"-")) -> 79 | G18: =RANK(H18,$H$8:$H$29) -> 6 | H18: {=SUMPRODUCT($J$3:$O$3,J18:O18)/SUM(($J$3:$O$3)*(J18:O18<>"."))} -> 94.986745 | I18: {=SUMPRODUCT($J$3:$N$3,J18:N18)/SUM(($J$3:$N$3)*(J18:N18<>"."))} -> 94.849205 | J18: 92.606671 | K18: 93.620988 | L18: 90.670973 | M18: 92.310937 | N18: 97.091739 | O18: 97.6 | Q18: =H18 -> 94.986745 | R18: =IF($D18=R$5,H18,".") -> 94.986745 | S18: =IF($D18=S$5,H18,".") -> .
C19: 서울금천 | D19: 4급 | E19: =RANK(H19,$Q$8:$Q$239) -> 209 | F19: =IF(D19="4급",RANK(H19,$R$8:$R$239),IF(D19="5급",RANK(H19,$S$8:$S$239),"-")) -> 115 | G19: =RANK(H19,$H$8:$H$29) -> 18 | H19: {=SUMPRODUCT($J$3:$O$3,J19:O19)/SUM(($J$3:$O$3)*(J19:O19<>"."))} -> 93.810881 | I19: {=SUMPRODUCT($J$3:$N$3,J19:N19)/SUM(($J$3:$N$3)*(J19:N19<>"."))} -> 93.600927 | J19: 92.149745 | K19: 92.887603 | L19: 90.039623 | M19: 93.175 | N19: 95.052109 | O19: 97.8 | Q19: =H19 -> 93.810881 | R19: =IF($D19=R$5,H19,".") -> 93.810881 | S19: =IF($D19=S$5,H19,".") -> .
C20: 서울성북 | D20: 4급 | E20: =RANK(H20,$Q$8:$Q$239) -> 178 | F20: =IF(D20="4급",RANK(H20,$R$8:$R$239),IF(D20="5급",RANK(H20,$S$8:$S$239),"-")) -> 89 | G20: =RANK(H20,$H$8:$H$29) -> 8 | H20: {=SUMPRODUCT($J$3:$O$3,J20:O20)/SUM(($J$3:$O$3)*(J20:O20<>"."))} -> 94.73449 | I20: {=SUMPRODUCT($J$3:$N$3,J20:N20)/SUM(($J$3:$N$3)*(J20:N20<>"."))} -> 94.723148 | J20: 93.605248 | K20: 92.06184 | L20: 96.474409 | M20: 95.963881 | N20: 95.841047 | O20: 94.95 | Q20: =H20 -> 94.73449 | R20: =IF($D20=R$5,H20,".") -> 94.73449 | S20: =IF($D20=S$5,H20,".") -> .
... C29: 서울중랑 | D29: 4급 | E29: =RANK(H29,$Q$8:$Q$239) -> 198 | F29: =IF(D29="4급",RANK(H29,$R$8:$R$239),IF(D29="5급",RANK(H29,$S$8:$S$239),"-")) -> 107 | G29: =RANK(H29,$H$8:$H$29) -> 14 | H29: {=SUMPRODUCT($J$3:$O$3,J29:O29)/SUM(($J$3:$O$3)*(J29:O29<>"."))} -> 94.123255 | I29: {=SUMPRODUCT($J$3:$N$3,J29:N29)/SUM(($J$3:$N$3)*(J29:N29<>"."))} -> 94.179742 | J29: 91.777251 | K29: 93.625 | L29: 88.88 | M29: 91.094622 | N29: 96.582234 | O29: 93.05 | Q29: =H29 -> 94.123255 | R29: =IF($D29=R$5,H29,".") -> 94.123255 | S29: =IF($D29=S$5,H29,".") -> .
B30: 청 합계 | D30: - | E30: - | F30: - | G30: - | H30: {=SUMPRODUCT($J$3:$O$3,J30:O30)/SUM(($J$3:$O$3)*(J30:O30<>"."))} -> 94.78266 | I30: {=SUMPRODUCT($J$3:$N$3,J30:N30)/SUM(($J$3:$N$3)*(J30:N30<>"."))} -> 94.722266 | J30: 94.115787 | K30: 94.375983 | L30: 93.872049 | M30: 93.534164 | N30: 95.328745 | O30: 95.930147 | Q30: . | R30: =IF($D30=R$5,H30,".") -> . | S30: =IF($D30=S$5,H30,".") -> .
B31: 경인 | C31: 인천 | D31: 4급 | E31: =RANK(H31,$Q$8:$Q$239) -> 194 | F31: =IF(D31="4급",RANK(H31,$R$8:$R$239),IF(D31="5급",RANK(H31,$S$8:$S$239),"-")) -> 104 | G31: =RANK(H31,$H$31:$H$71) -> 28 | H31: {=SUMPRODUCT($J$3:$O$3,J31:O31)/SUM(($J$3:$O$3)*(J31:O31<>"."))} -> 94.288146 | I31: {=SUMPRODUCT($J$3:$N$3,J31:N31)/SUM(($J$3:$N$3)*(J31:N31<>"."))} -> 94.232259 | J31: 94.711975 | K31: 94.696897 | L31: 94.831081 | M31: 94.433 | N31: 93.752543 | O31: 95.35 | Q31: =H31 -> 94.288146 | R31: =IF($D31=R$5,H31,".") -> 94.288146 | S31: =IF($D31=S$5,H31,".") -> .
C32: 서인천 | D32: 4급 | E32: =RANK(H32,$Q$8:$Q$239) -> 199 | F32: =IF(D32="4급",RANK(H32,$R$8:$R$239),IF(D32="5급",RANK(H32,$S$8:$S$239),"-")) -> 108 | G32: =RANK(H32,$H$31:$H$71) -> 29 | H32: {=SUMPRODUCT($J$3:$O$3,J32:O32)/SUM(($J$3:$O$3)*(J32:O32<>"."))} -> 94.119751 | I32: {=SUMPRODUCT($J$3:$N$3,J32:N32)/SUM(($J$3:$N$3)*(J32:N32<>"."))} -> 94.097106 | J32: 94.699427 | K32: 93.530798 | L32: 96.708929 | M32: 95.009722 | N32: 93.494786 | O32: 94.55 | Q32: =H32 -> 94.119751 | R32: =IF($D32=R$5,H32,".") -> 94.119751 | S32: =IF($D32=S$5,H32,".") -> .
C33: 부평 | D33: 4급 | E33: =RANK(H33,$Q$8:$Q$239) -> 214 | F33: =IF(D33="4급",RANK(H33,$R$8:$R$239),IF(D33="5급",RANK(H33,$S$8:$S$239),"-")) -> 120 | G33: =RANK(H33,$H$31:$H$71) -> 35 | H33: {=SUMPRODUCT($J$3:$O$3,J33:O33)/SUM(($J$3:$O$3)*(J33:O33<>"."))} -> 93.705344 | I33: {=SUMPRODUCT($J$3:$N$3,J33:N33)/SUM(($J$3:$N$3)*(J33:N33<>"."))} -> 93.71352 | J33: 93.075775 | K33: 94.276341 | L33: 91.301081 | M33: 92.382143 | N33: 94.351264 | O33: 93.55 | Q33: =H33 -> 93.705344 | R33: =IF($D33=R$5,H33,".") -> 93.705344 | S33: =IF($D33=S$5,H33,".") -> .
C34: 인천계양 | D34: 4급 | E34: =RANK(H34,$Q$8:$Q$239) -> 140 | F34: =IF(D34="4급",RANK(H34,$R$8:$R$239),IF(D34="5급",RANK(H34,$S$8:$S$239),"-")) -> 58 | G34: =RANK(H34,$H$31:$H$71) -> 14 | H34: {=SUMPRODUCT($J$3:$O$3,J34:O34)/SUM(($J$3:$O$3)*(J34:O34<>"."))} -> 95.383321 | I34: {=SUMPRODUCT($J$3:$N$3,J34:N34)/SUM(($J$3:$N$3)*(J34:N34<>"."))} -> 95.59297 | J34: 95.376151 | K34: 94.676676 | L34: 97.643426 | M34: 92.895 | N34: 95.809789 | O34: 91.4 | Q34: =H34 -> 95.383321 | R34: =IF($D34=R$5,H34,".") -> 95.383321 | S34: =IF($D34=S$5,H34,".") -> .
C35: 남인천 | D35: 4급 | E35: =RANK(H35,$Q$8:$Q$239) -> 138 | F35: =IF(D35="4급",RANK(H35,$R$8:$R$239),IF(D35="5급",RANK(H35,$S$8:$S$239),"-")) -> 57 | G35: =RANK(H35,$H$31:$H$71) -> 13 | H35: {=SUMPRODUCT($J$3:$O$3,J35:O35)/SUM(($J$3:$O$3)*(J35:O35<>"."))} -> 95.416493 | I35: {=SUMPRODUCT($J$3:$N$3,J35:N35)/SUM(($J$3:$N$3)*(J35:N35<>"."))} -> 95.383151 | J35: 94.615328 | K35: 94.407811 | L35: 94.358088 | M35: 96.264402 | N35: 96.150973 | O35: 96.05 | Q35: =H35 -> 95.416493 | R35: =IF($D35=R$5,H35,".") -> 95.416493 | S35: =IF($D35=S$5,H35,".") -> .
