Workbook

Sheet 종합집계
A1: 2016년도 서울지방우정청 부서별 경영평가 결과
A3: 구분 | C3: 총점 | D3: 순위 | E3: 경평지표평가(60%) | I3: 특정요소평가(20%) | O3: 정책역량평가(20%) | R3: 가점
A4: 지표 | B4: 과명 | E4: 관리지표 | F4: 순위 | G4: 평점평균 | H4: 경영평가 지표득점 | I4: 연가사용률 (10점) | L4: 상시학습실적(10점) | N4: 특정요소 평가점수 | O4: 순위 | P4: 평점 | Q4: 득점 | R4: 제안활동 | S4: 경영대회 수상
I5: 실적 | J5: 순위 | K5: 득점 | L5: 실적 | M5: 득점
A6: 경영지표 『유』 | B6: 우정계획과 | C6: =H6+N6+Q6 -> 98.8 | D6: 3 | E6: 고객만족도 | F6: 1 | G6: =[1]종합!J6 -> 99 | H6: =[1]종합!K6 -> 59.4 | I6: =[1]종합!L6 -> 14.071 | J6: 1 | K6: =[1]종합!N6 -> 10 | L6: =[1]종합!O6 -> 129 | M6: =[1]종합!Q6 -> 10 | N6: =K6+M6 -> 20 | O6: 4 | P6: 97 | Q6: =P6*0.2 -> 19.4 | R6: 0 | S6: 0
E7: 임대수익 | F7: 5
B8: 우편영업과 | C8: =H8+N8+Q8 -> 96.9 | D8: 7 | E8: 통상매출액 | F8: 7 | G8: =[1]종합!J8 -> 96.5 | H8: =[1]종합!K8 -> 57.9 | I8: =[1]종합!L8 -> 12.777 | J8: 1 | K8: =[1]종합!N8 -> 10 | L8: =[1]종합!O8 -> 122 | M8: =[1]종합!Q8 -> 10 | N8: =K8+M8 -> 20 | O8: 6 | P8: 95 | Q8: =P8*0.2 -> 19 | R8: 0 | S8: 0
B9: 소포영업과 | C9: =H9+N9+Q9 -> 99.8 | D9: 2 | E9: 소포매출액 | F9: 1 | G9: =[1]종합!J9 -> 100 | H9: =[1]종합!K9 -> 60 | I9: =[1]종합!L9 -> 13.714 | J9: 1 | K9: =[1]종합!N9 -> 10 | L9: =[1]종합!O9 -> 128 | M9: =[1]종합!Q9 -> 10 | N9: =K9+M9 -> 20 | O9: 2 | P9: 99 | Q9: =P9*0.2 -> 19.8 | R9: 0 | S9: 0
B10: 우편물류과 | C10: =H10+N10+Q10 -> 97.2 | D10: 6 | E10: 소통품질경영 | F10: 8 | G10: =[1]종합!J10 -> 96 | H10: =[1]종합!K10 -> 57.6 | I10: =[1]종합!L10 -> 12.444 | J10: 1 | K10: =[1]종합!N10 -> 10 | L10: =[1]종합!O10 -> 118 | M10: =[1]종합!Q10 -> 10 | N10: =K10+M10 -> 20 | O10: 3 | P10: 98 | Q10: =P10*0.2 -> 19.6 | R10: 0 | S10: 0
B11: 국제영업과 | C11: =H11+N11+Q11 -> 97.4 | D11: 4 | E11: 국제매출액 | F11: 4 | G11: =[1]종합!J11 -> 98 | H11: =[1]종합!K11 -> 58.8 | I11: =[1]종합!L11 -> 13.666 | J11: 1 | K11: =[1]종합!N11 -> 10 | L11: =[1]종합!O11 -> 112 | M11: =[1]종합!Q11 -> 10 | N11: =K11+M11 -> 20 | O11: 8 | P11: 93 | Q11: =P11*0.2 -> 18.6 | R11: 0 | S11: 0
B12: 회계정보과 | C12: =H12+N12+Q12 -> 97.4 | D12: 5 | E12: 경영비용 | F12: 7 | G12: =[1]종합!J12 -> 97 | H12: =[1]종합!K12 -> 58.2 | I12: =[1]종합!L12 -> 12.346 | J12: 1 | K12: =[1]종합!N12 -> 10 | L12: =[1]종합!O12 -> 152 | M12: =[1]종합!Q12 -> 10 | N12: =K12+M12 -> 20 | O12: 5 | P12: 96 | Q12: =P12*0.2 -> 19.2 | R12: 0 | S12: 0
B13: 예금영업과 | C13: =H13+N13+Q13 -> 100 | D13: 1 | E13: 예금사업종합 | F13: 1 | G13: =[1]종합!J13 -> 100 | H13: =[1]종합!K13 -> 60 | I13: =[1]종합!L13 -> 12.5 | J13: 1 | K13: =[1]종합!N13 -> 10 | L13: =[1]종합!O13 -> 147 | M13: =[1]종합!Q13 -> 10 | N13: =K13+M13 -> 20 | O13: 1 | P13: 100 | Q13: =P13*0.2 -> 20 | R13: 0 | S13: 0
B14: 보험영업과 | C14: =H14+N14+Q14 -> 96.8 | D14: 8 | E14: 보험사업종합 | F14: 3 | G14: =[1]종합!J14 -> 98.5 | H14: =[1]종합!K14 -> 59.1 | I14: =[1]종합!L14 -> 11.5 | J14: 12 | K14: =[1]종합!N14 -> 8.9 | L14: =[1]종합!O14 -> 126 | M14: =[1]종합!Q14 -> 10 | N14: =K14+M14 -> 18.9 | O14: 7 | P14: 94 | Q14: =P14*0.2 -> 18.8 | R14: 0 | S14: 0
A15: 경평지표 『무』 | B15: 운영지원과 | C15: =N15+Q15 -> 36.8 | D15: 4 | I15: =[1]종합!L15 -> 11.533 | J15: 11 | K15: =[1]종합!N15 -> 9 | L15: =[1]종합!O15 -> 111 | M15: =[1]종합!Q15 -> 10 | N15: =K15+M15 -> 19 | O15: 12 | P15: 89 | Q15: =P15*0.2 -> 17.8 | R15: 0 | S15: 0
B16: 인력계획과 | C16: =N16+Q16 -> 38 | D16: 3 | I16: =[1]종합!L16 -> 12.143 | J16: 1 | K16: =[1]종합!N16 -> 10 | L16: =[1]종합!O16 -> 113 | M16: =[1]종합!Q16 -> 10 | N16: =K16+M16 -> 20 | O16: 11 | P16: 90 | Q16: =P16*0.2 -> 18 | R16: 0 | S16: 0
B17: 금융검사과 | C17: =N17+Q17 -> 38.4 | D17: 1 | I17: =[1]종합!L17 -> 13.643 | J17: 1 | K17: =[1]종합!N17 -> 10 | L17: =[1]종합!O17 -> 117 | M17: =[1]종합!Q17 -> 10 | N17: =K17+M17 -> 20 | O17: 9 | P17: 92 | Q17: =P17*0.2 -> 18.4 | R17: 0 | S17: 0
B18: 감사관실 | C18: =N18+Q18 -> 38.2 | D18: 2 | I18: =[1]종합!L18 -> 12.15 | J18: 1 | K18: =[1]종합!N18 -> 10 | L18: =[1]종합!O18 -> 125 | M18: =[1]종합!Q18 -> 10 | N18: =K18+M18 -> 20 | O18: 10 | P18: 91 | Q18: =P18*0.2 -> 18.2 | R18: 0 | S18: 0

Sheet Sheet1

Sheet Sheet2

Sheet Sheet3
