Workbook

Sheet 201603월말 기준 소포위탁구
A1: 광화문 | B1: 21
A2: 동대문 | B2: 24
A3: 서대문 | B3: 20
A4: 서울강남 | B4: 71
A5: 서울강동 | B5: 22
A6: 서울강서 | B6: 29
A7: 서울관악 | B7: 27
A8: 서울광진 | B8: 40
A9: 서울금천 | B9: 41
A10: 서울노원 | B10: 27
A11: 서울도봉 | B11: 27
A12: 서울동작 | B12: 21
... A106: 제주(집) | B106: 30

Sheet 2016년 소포위탁 규모
A1: 2016년 우정청별 소포배달 위탁계약 규모
A3: 우정청 | B3: 계약단위(권역) | C3: 총괄국 | D3: 위탁구(수) | E3: 연 물량(통) 위탁구수*150개*250일 | F3: 비고
A4: 서울청 | B4: 동서울집2 그룹 | C4: 서울강남 | D4: =VLOOKUP(C4,'201603월말 기준 소포위탁구'!$A$1:$B$106,2,0) -> 71 | E4: =D4*150*250 -> 2662500
B5: 동서울집3 그룹 | C5: 서울중앙 | D5: =VLOOKUP(C5,'201603월말 기준 소포위탁구'!$A$1:$B$106,2,0) -> 28 | E5: =D5*150*250 -> 1050000
C6: 서울용산 | D6: =VLOOKUP(C6,'201603월말 기준 소포위탁구'!$A$1:$B$106,2,0) -> 22 | E6: =D6*150*250 -> 825000
C7: 서울강동 | D7: =VLOOKUP(C7,'201603월말 기준 소포위탁구'!$A$1:$B$106,2,0) -> 22 | E7: =D7*150*250 -> 825000
C8: 서울성북 | D8: =VLOOKUP(C8,'201603월말 기준 소포위탁구'!$A$1:$B$106,2,0) -> 25 | E8: =D8*150*250 -> 937500
C9: 하남 | D9: =VLOOKUP(C9,'201603월말 기준 소포위탁구'!$A$1:$B$106,2,0) -> 6 | E9: =D9*150*250 -> 225000
B10: 서서울물류 그룹 | C10: 서대문 | D10: =VLOOKUP(C10,'201603월말 기준 소포위탁구'!$A$1:$B$106,2,0) -> 20 | E10: =D10*150*250 -> 750000
C11: 서울마포 | D11: =VLOOKUP(C11,'201603월말 기준 소포위탁구'!$A$1:$B$106,2,0) -> 26 | E11: =D11*150*250 -> 975000
C12: 여의도 | D12: =VLOOKUP(C12,'201603월말 기준 소포위탁구'!$A$1:$B$106,2,0) -> 31 | E12: =D12*150*250 -> 1162500
C13: 서울양천 | D13: =VLOOKUP(C13,'201603월말 기준 소포위탁구'!$A$1:$B$106,2,0) -> 26 | E13: =D13*150*250 -> 975000
B14: - | C14: 광화문 | D14: =VLOOKUP(C14,'201603월말 기준 소포위탁구'!$A$1:$B$106,2,0) -> 21 | E14: =D14*150*250 -> 787500 | F14: 지원단 수행
B15: - | C15: 동대문 | D15: =VLOOKUP(C15,'201603월말 기준 소포위탁구'!$A$1:$B$106,2,0) -> 24 | E15: =D15*150*250 -> 900000 | F15: 지원단 수행
B16: - | C16: 서울광진 | D16: =VLOOKUP(C16,'201603월말 기준 소포위탁구'!$A$1:$B$106,2,0) -> 40 | E16: =D16*150*250 -> 1500000 | F16: 지원단 수행
B17: - | C17: 서울금천 | D17: =VLOOKUP(C17,'201603월말 기준 소포위탁구'!$A$1:$B$106,2,0) -> 41 | E17: =D17*150*250 -> 1537500 | F17: 지원단 수행
B18: - | C18: 서울서초 | D18: =VLOOKUP(C18,'201603월말 기준 소포위탁구'!$A$1:$B$106,2,0) -> 42 | E18: =D18*150*250 -> 1575000 | F18: 지원단 수행
B19: - | C19: 서울송파 | D19: =VLOOKUP(C19,'201603월말 기준 소포위탁구'!$A$1:$B$106,2,0) -> 39 | E19: =D19*150*250 -> 1462500 | F19: 지원단 수행
B20: - | C20: 서울중랑 | D20: =VLOOKUP(C20,'201603월말 기준 소포위탁구'!$A$1:$B$106,2,0) -> 16 | E20: =D20*150*250 -> 600000 | F20: 지원단 수행
A21: 경인청 | B21: 부평물류1 그룹 | C21: 인천 | D21: =VLOOKUP(C21,'201603월말 기준 소포위탁구'!$A$1:$B$106,2,0) -> 27 | E21: =D21*150*250 -> 1012500
C22: 서인천 | D22: =VLOOKUP(C22,'201603월말 기준 소포위탁구'!$A$1:$B$106,2,0) -> 19 | E22: =D22*150*250 -> 712500
C23: 인천계양 | D23: =VLOOKUP(C23,'201603월말 기준 소포위탁구'!$A$1:$B$106,2,0) -> 13 | E23: =D23*150*250 -> 487500
C24: 남인천 | D24: =VLOOKUP(C24,'201603월말 기준 소포위탁구'!$A$1:$B$106,2,0) -> 16 | E24: =D24*150*250 -> 600000
C25: 부평 | D25: =VLOOKUP(C25,'201603월말 기준 소포위탁구'!$A$1:$B$106,2,0) -> 23 | E25: =D25*150*250 -> 862500
C26: 인천남동 | D26: =VLOOKUP(C26,'201603월말 기준 소포위탁구'!$A$1:$B$106,2,0) -> 20 | E26: =D26*150*250 -> 750000
B27: 부평물류2 그룹 | C27: 부천 | D27: =VLOOKUP(C27,'201603월말 기준 소포위탁구'!$A$1:$B$106,2,0) -> 45 | E27: =D27*150*250 -> 1687500
C28: 시흥 | D28: =VLOOKUP(C28,'201603월말 기준 소포위탁구'!$A$1:$B$106,2,0) -> 20 | E28: =D28*150*250 -> 750000
C29: 김포 | D29: =VLOOKUP(C29,'201603월말 기준 소포위탁구'!$A$1:$B$106,2,0) -> 11 | E29: =D29*150*250 -> 412500
C30: 서울강서 | D30: =VLOOKUP(C30,'201603월말 기준 소포위탁구'!$A$1:$B$106,2,0) -> 29 | E30: =D30*150*250 -> 1087500
B31: 성남집1 그룹 | C31: 성남 | D31: =VLOOKUP(C31,'201603월말 기준 소포위탁구'!$A$1:$B$106,2,0) -> 24 | E31: =D31*150*250 -> 900000
C32: 용인수지 | D32: =VLOOKUP(C32,'201603월말 기준 소포위탁구'!$A$1:$B$106,2,0) -> 34 | E32: =D32*150*250 -> 1275000
C33: 경기광주 | D33: =VLOOKUP(C33,'201603월말 기준 소포위탁구'!$A$1:$B$106,2,0) -> 10 | E33: =D33*150*250 -> 375000
B34: 성남집2 그룹 | C34: 성남분당 | D34: =VLOOKUP(C34,'201603월말 기준 소포위탁구'!$A$1:$B$106,2,0) -> 38 | E34: =D34*150*250 -> 1425000
C35: 용인 | D35: =VLOOKUP(C35,'201603월말 기준 소포위탁구'!$A$1:$B$106,2,0) -> 20 | E35: =D35*150*250 -> 750000
C36: 이천 | D36: =VLOOKUP(C36,'201603월말 기준 소포위탁구'!$A$1:$B$106,2,0) -> 9 | E36: =D36*150*250 -> 337500
B37: 수원집 그룹 | C37: 동수원 | D37: =VLOOKUP(C37,'201603월말 기준 소포위탁구'!$A$1:$B$106,2,0) -> 23 | E37: =D37*150*250 -> 862500
C38: 평택 | D38: =VLOOKUP(C38,'201603월말 기준 소포위탁구'!$A$1:$B$106,2,0) -> 17 | E38: =D38*150*250 -> 637500
C39: 화성 | D39: =VLOOKUP(C39,'201603월말 기준 소포위탁구'!$A$1:$B$106,2,0) -> 29 | E39: =D39*150*250 -> 1087500
C40: 안성 | D40: =VLOOKUP(C40,'201603월말 기준 소포위탁구'!$A$1:$B$106,2,0) -> 4 | E40: =D40*150*250 -> 150000
C41: 오산 | D41: =VLOOKUP(C41,'201603월말 기준 소포위탁구'!$A$1:$B$106,2,0) -> 9 | E41: =D41*150*250 -> 337500
...

Sheet 청별 합계
A1: 2016년 우정청별(집중국 권역) 소포배달 위탁계약 규모
A3: 우정청 | B3: 계약단위 (권역) | C3: 총괄국 수 (국) | D3: 위탁구 수 (구) | E3: 연 물량 (개) | F3: 비고
A4: 서울청 | B4: 4 | C4: 17 | D4: 500 | E4: 18750000
A5: 경인청 | B5: 10 | C5: 40 | D5: 853 | E5: 31987500
A6: 부산청 | B6: 5 | C6: 20 | D6: 184 | E6: 6900000
A7: 충청청 | B7: 3 | C7: 11 | D7: 150 | E7: 5625000
A8: 전남청 | B8: 1 | C8: 5 | D8: 50 | E8: 1875000
A9: 경북청 | B9: 2 | C9: 9 | D9: 101 | E9: 3787500
A10: 전북청 | B10: 1 | C10: 2 | D10: 20 | E10: 750000
A11: 제주청 | B11: 1 | C11: 2 | D11: 37 | E11: 1387500
A12: 합계 | B12: =SUM(B4:B11) -> 27 | C12: =SUM(C4:C11) -> 106 | D12: =SUM(D4:D11) -> 1895 | E12: 71062500
A13: * 연 물량 산출기준 : 위탁구 수 * 150개 * 250일(1년 근무일)

Sheet 2016년 경인청 규모
A1: 2016년 경인청 소포배달 위탁계약 규모
A2: 우정청 | B2: 계약단위 (권역) | C2: 총괄국 | D2: 위탁구 수 (구) | E2: 연 물량(통) | F2: 비고
A3: 서울청 | B3: 동서울집2 그룹 | C3: 서울강남 | D3: =VLOOKUP(C3,'201603월말 기준 소포위탁구'!$A$1:$B$106,2,0) -> 71 | E3: =D3*150*250 -> 2662500
B4: 동서울집3 그룹 | C4: 서울중앙 | D4: =VLOOKUP(C4,'201603월말 기준 소포위탁구'!$A$1:$B$106,2,0) -> 28 | E4: =D4*150*250 -> 1050000
C5: 서울용산 | D5: =VLOOKUP(C5,'201603월말 기준 소포위탁구'!$A$1:$B$106,2,0) -> 22 | E5: =D5*150*250 -> 825000
C6: 서울강동 | D6: =VLOOKUP(C6,'201603월말 기준 소포위탁구'!$A$1:$B$106,2,0) -> 22 | E6: =D6*150*250 -> 825000
C7: 서울성북 | D7: =VLOOKUP(C7,'201603월말 기준 소포위탁구'!$A$1:$B$106,2,0) -> 25 | E7: =D7*150*250 -> 937500
C8: 하남 | D8: =VLOOKUP(C8,'201603월말 기준 소포위탁구'!$A$1:$B$106,2,0) -> 6 | E8: =D8*150*250 -> 225000
B9: 서서울물류 그룹 | C9: 서대문 | D9: =VLOOKUP(C9,'201603월말 기준 소포위탁구'!$A$1:$B$106,2,0) -> 20 | E9: =D9*150*250 -> 750000
C10: 서울마포 | D10: =VLOOKUP(C10,'201603월말 기준 소포위탁구'!$A$1:$B$106,2,0) -> 26 | E10: =D10*150*250 -> 975000
C11: 여의도 | D11: =VLOOKUP(C11,'201603월말 기준 소포위탁구'!$A$1:$B$106,2,0) -> 31 | E11: =D11*150*250 -> 1162500
C12: 서울양천 | D12: =VLOOKUP(C12,'201603월말 기준 소포위탁구'!$A$1:$B$106,2,0) -> 26 | E12: =D12*150*250 -> 975000
B13: - | C13: 광화문 | D13: =VLOOKUP(C13,'201603월말 기준 소포위탁구'!$A$1:$B$106,2,0) -> 21 | E13: =D13*150*250 -> 787500 | F13: 지원단 수행
B14: - | C14: 동대문 | D14: =VLOOKUP(C14,'201603월말 기준 소포위탁구'!$A$1:$B$106,2,0) -> 24 | E14: =D14*150*250 -> 900000 | F14: 지원단 수행
B15: - | C15: 서울광진 | D15: =VLOOKUP(C15,'201603월말 기준 소포위탁구'!$A$1:$B$106,2,0) -> 40 | E15: =D15*150*250 -> 1500000 | F15: 지원단 수행
B16: - | C16: 서울금천 | D16: =VLOOKUP(C16,'201603월말 기준 소포위탁구'!$A$1:$B$106,2,0) -> 41 | E16: =D16*150*250 -> 1537500 | F16: 지원단 수행
B17: - | C17: 서울서초 | D17: =VLOOKUP(C17,'201603월말 기준 소포위탁구'!$A$1:$B$106,2,0) -> 42 | E17: =D17*150*250 -> 1575000 | F17: 지원단 수행
B18: - | C18: 서울송파 | D18: =VLOOKUP(C18,'201603월말 기준 소포위탁구'!$A$1:$B$106,2,0) -> 39 | E18: =D18*150*250 -> 1462500 | F18: 지원단 수행
B19: - | C19: 서울중랑 | D19: =VLOOKUP(C19,'201603월말 기준 소포위탁구'!$A$1:$B$106,2,0) -> 16 | E19: =D19*150*250 -> 600000 | F19: 지원단 수행
A20: 경인청 | B20: 부평물류(1) | C20: 인천 | D20: =VLOOKUP(C20,'201603월말 기준 소포위탁구'!$A$1:$B$106,2,0) -> 27 | E20: =D20*150*250 -> 1012500
C21: 서인천 | D21: =VLOOKUP(C21,'201603월말 기준 소포위탁구'!$A$1:$B$106,2,0) -> 19 | E21: =D21*150*250 -> 712500
C22: 인천계양 | D22: =VLOOKUP(C22,'201603월말 기준 소포위탁구'!$A$1:$B$106,2,0) -> 13 | E22: =D22*150*250 -> 487500
C23: 남인천 | D23: =VLOOKUP(C23,'201603월말 기준 소포위탁구'!$A$1:$B$106,2,0) -> 16 | E23: =D23*150*250 -> 600000
C24: 부평 | D24: =VLOOKUP(C24,'201603월말 기준 소포위탁구'!$A$1:$B$106,2,0) -> 23 | E24: =D24*150*250 -> 862500
C25: 인천남동 | D25: =VLOOKUP(C25,'201603월말 기준 소포위탁구'!$A$1:$B$106,2,0) -> 20 | E25: =D25*150*250 -> 750000
B26: 부평물류(2) | C26: 부천 | D26: =VLOOKUP(C26,'201603월말 기준 소포위탁구'!$A$1:$B$106,2,0) -> 45 | E26: =D26*150*250 -> 1687500
C27: 시흥 | D27: =VLOOKUP(C27,'201603월말 기준 소포위탁구'!$A$1:$B$106,2,0) -> 20 | E27: =D27*150*250 -> 750000
C28: 김포 | D28: =VLOOKUP(C28,'201603월말 기준 소포위탁구'!$A$1:$B$106,2,0) -> 11 | E28: =D28*150*250 -> 412500
C29: 서울강서 | D29: =VLOOKUP(C29,'201603월말 기준 소포위탁구'!$A$1:$B$106,2,0) -> 29 | E29: =D29*150*250 -> 1087500
B30: 성남집(1) | C30: 성남 | D30: =VLOOKUP(C30,'201603월말 기준 소포위탁구'!$A$1:$B$106,2,0) -> 24 | E30: =D30*150*250 -> 900000
C31: 용인수지 | D31: =VLOOKUP(C31,'201603월말 기준 소포위탁구'!$A$1:$B$106,2,0) -> 34 | E31: =D31*150*250 -> 1275000
C32: 경기광주 | D32: =VLOOKUP(C32,'201603월말 기준 소포위탁구'!$A$1:$B$106,2,0) -> 10 | E32: =D32*150*250 -> 375000
B33: 성남집(2) | C33: 성남분당 | D33: =VLOOKUP(C33,'201603월말 기준 소포위탁구'!$A$1:$B$106,2,0) -> 38 | E33: =D33*150*250 -> 1425000
C34: 용인 | D34: =VLOOKUP(C34,'201603월말 기준 소포위탁구'!$A$1:$B$106,2,0) -> 20 | E34: =D34*150*250 -> 750000
C35: 이천 | D35: =VLOOKUP(C35,'201603월말 기준 소포위탁구'!$A$1:$B$106,2,0) -> 9 | E35: =D35*150*250 -> 337500
B36: 수원집 | C36: 동수원 | D36: =VLOOKUP(C36,'201603월말 기준 소포위탁구'!$A$1:$B$106,2,0) -> 23 | E36: =D36*150*250 -> 862500
C37: 평택 | D37: =VLOOKUP(C37,'201603월말 기준 소포위탁구'!$A$1:$B$106,2,0) -> 17 | E37: =D37*150*250 -> 637500
C38: 화성 | D38: =VLOOKUP(C38,'201603월말 기준 소포위탁구'!$A$1:$B$106,2,0) -> 29 | E38: =D38*150*250 -> 1087500
C39: 안성 | D39: =VLOOKUP(C39,'201603월말 기준 소포위탁구'!$A$1:$B$106,2,0) -> 4 | E39: =D39*150*250 -> 150000
C40: 오산 | D40: =VLOOKUP(C40,'201603월말 기준 소포위탁구'!$A$1:$B$106,2,0) -> 9 | E40: =D40*150*250 -> 337500
...
