Workbook

Sheet 201603월말 기준 소포위탁구
A1: 광화문 | B1: 21
A2: 동대문 | B2: 24
A3: 서대문 | B3: 20
A4: 서울강남 | B4: 71
A5: 서울강동 | B5: 22
A6: 서울강서 | B6: 29
A7: 서울관악 | B7: 27
A8: 서울광진 | B8: 40
A9: 서울금천 | B9: 41
A10: 서울노원 | B10: 27
A11: 서울도봉 | B11: 27
A12: 서울동작 | B12: 21
... A106: 제주(집) | B106: 30

Sheet 2016년 소포위탁 규모
A1: 2016년 우정청별 소포배달 위탁계약 규모
A3: 우정청 | B3: 계약단위(권역) | C3: 총괄국 | D3: 위탁구(수) | E3: 연 물량(통) 위탁구수*150개*250일 | F3: 비고
A4: 서울청 | B4: 동서울집2 그룹 | C4: 서울강남 | D4: =VLOOKUP(C4,'201603월말 기준 소포위탁구'!$A$1:$B$106,2,0) -> 71 | E4: =D4*150*250 -> 2662500
B5: 동서울집3 그룹 | C5: 서울중앙 | D5: =VLOOKUP(C5,'201603월말 기준 소포위탁구'!$A$1:$B$106,2,0) -> 28 | E5: =D5*150*250 -> 1050000
C6: 서울용산 | D6: =VLOOKUP(C6,'201603월말 기준 소포위탁구'!$A$1:$B$106,2,0) -> 22 | E6: =D6*150*250 -> 825000
C7: 서울강동 | D7: =VLOOKUP(C7,'201603월말 기준 소포위탁구'!$A$1:$B$106,2,0) -> 22 | E7: =D7*150*250 -> 825000
C8: 서울성북 | D8: =VLOOKUP(C8,'201603월말 기준 소포위탁구'!$A$1:$B$106,2,0) -> 25 | E8: =D8*150*250 -> 937500
C9: 하남 | D9: =VLOOKUP(C9,'201603월말 기준 소포위탁구'!$A$1:$B$106,2,0) -> 6 | E9: =D9*150*250 -> 225000
B10: 서서울물류 그룹 | C10: 서대문 | D10: =VLOOKUP(C10,'201603월말 기준 소포위탁구'!$A$1:$B$106,2,0) -> 20 | E10: =D10*150*250 -> 750000
C11: 서울마포 | D11: =VLOOKUP(C11,'201603월말 기준 소포위탁구'!$A$1:$B$106,2,0) -> 26 | E11: =D11*150*250 -> 975000
C12: 여의도 | D12: =VLOOKUP(C12,'201603월말 기준 소포위탁구'!$A$1:$B$106,2,0) -> 31 | E12: =D12*150*250 -> 1162500
C13: 서울양천 | D13: =VLOOKUP(C13,'201603월말 기준 소포위탁구'!$A$1:$B$106,2,0) -> 26 | E13: =D13*150*250 -> 975000
B14: - | C14: 광화문 | D14: =VLOOKUP(C14,'201603월말 기준 소포위탁구'!$A$1:$B$106,2,0) -> 21 | E14: =D14*150*250 -> 787500 | F14: 지원단 수행
B15: - | C15: 동대문 | D15: =VLOOKUP(C15,'201603월말 기준 소포위탁구'!$A$1:$B$106,2,0) -> 24 | E15: =D15*150*250 -> 900000 | F15: 지원단 수행
B16: - | C16: 서울광진 | D16: =VLOOKUP(C16,'201603월말 기준 소포위탁구'!$A$1:$B$106,2,0) -> 40 | E16: =D16*150*250 -> 1500000 | F16: 지원단 수행
B17: - | C17: 서울금천 | D17: =VLOOKUP(C17,'201603월말 기준 소포위탁구'!$A$1:$B$106,2,0) -> 41 | E17: =D17*150*250 -> 1537500 | F17: 지원단 수행
B18: - | C18: 서울서초 | D18: =VLOOKUP(C18,'201603월말 기준 소포위탁구'!$A$1:$B$106,2,0) -> 42 | E18: =D18*150*250 -> 1575000 | F18: 지원단 수행
B19: - | C19: 서울송파 | D19: =VLOOKUP(C19,'201603월말 기준 소포위탁구'!$A$1:$B$106,2,0) -> 39 | E19: =D19*150*250 -> 1462500 | F19: 지원단 수행
B20: - | C20: 서울중랑 | D20: =VLOOKUP(C20,'201603월말 기준 소포위탁구'!$A$1:$B$106,2,0) -> 16 | E20: =D20*150*250 -> 600000 | F20: 지원단 수행
A21: 경인청 | B21: 부평물류1 그룹 | C21: 인천 | D21: =VLOOKUP(C21,'201603월말 기준 소포위탁구'!$A$1:$B$106,2,0) -> 27 | E21: =D21*150*250 -> 1012500
C22: 서인천 | D22: =VLOOKUP(C22,'201603월말 기준 소포위탁구'!$A$1:$B$106,2,0) -> 19 | E22: =D22*150*250 -> 712500
C23: 인천계양 | D23: =VLOOKUP(C23,'201603월말 기준 소포위탁구'!$A$1:$B$106,2,0) -> 13 | E23: =D23*150*250 -> 487500
C24: 남인천 | D24: =VLOOKUP(C24,'201603월말 기준 소포위탁구'!$A$1:$B$106,2,0) -> 16 | E24: =D24*150*250 -> 600000
C25: 부평 | D25: =VLOOKUP(C25,'201603월말 기준 소포위탁구'!$A$1:$B$106,2,0) -> 23 | E25: =D25*150*250 -> 862500
C26: 인천남동 | D26: =VLOOKUP(C26,'201603월말 기준 소포위탁구'!$A$1:$B$106,2,0) -> 20 | E26: =D26*150*250 -> 750000
B27: 부평물류2 그룹 | C27: 부천 | D27: =VLOOKUP(C27,'201603월말 기준 소포위탁구'!$A$1:$B$106,2,0) -> 45 | E27: =D27*150*250 -> 1687500
C28: 시흥 | D28: =VLOOKUP(C28,'201603월말 기준 소포위탁구'!$A$1:$B$106,2,0) -> 20 | E28: =D28*150*250 -> 750000
C29: 김포 | D29: =VLOOKUP(C29,'201603월말 기준 소포위탁구'!$A$1:$B$106,2,0) -> 11 | E29: =D29*150*250 -> 412500
C30: 서울강서 | D30: =VLOOKUP(C30,'201603월말 기준 소포위탁구'!$A$1:$B$106,2,0) -> 29 | E30: =D30*150*250 -> 1087500
B31: 성남집1 그룹 | C31: 성남 | D31: =VLOOKUP(C31,'201603월말 기준 소포위탁구'!$A$1:$B$106,2,0) -> 24 | E31: =D31*150*250 -> 900000
C32: 용인수지 | D32: =VLOOKUP(C32,'201603월말 기준 소포위탁구'!$A$1:$B$106,2,0) -> 34 | E32: =D32*150*250 -> 1275000
C33: 경기광주 | D33: =VLOOKUP(C33,'201603월말 기준 소포위탁구'!$A$1:$B$106,2,0) -> 10 | E33: =D33*150*250 -> 375000
B34: 성남집2 그룹 | C34: 성남분당 | D34: =VLOOKUP(C34,'201603월말 기준 소포위탁구'!$A$1:$B$106,2,0) -> 38 | E34: =D34*150*250 -> 1425000
C35: 용인 | D35: =VLOOKUP(C35,'201603월말 기준 소포위탁구'!$A$1:$B$106,2,0) -> 20 | E35: =D35*150*250 -> 750000
C36: 이천 | D36: =VLOOKUP(C36,'201603월말 기준 소포위탁구'!$A$1:$B$106,2,0) -> 9 | E36: =D36*150*250 -> 337500
B37: 수원집 그룹 | C37: 동수원 | D37: =VLOOKUP(C37,'201603월말 기준 소포위탁구'!$A$1:$B$106,2,0) -> 23 | E37: =D37*150*250 -> 862500
C38: 평택 | D38: =VLOOKUP(C38,'201603월말 기준 소포위탁구'!$A$1:$B$106,2,0) -> 17 | E38: =D38*150*250 -> 637500
C39: 화성 | D39: =VLOOKUP(C39,'201603월말 기준 소포위탁구'!$A$1:$B$106,2,0) -> 29 | E39: =D39*150*250 -> 1087500
C40: 안성 | D40: =VLOOKUP(C40,'201603월말 기준 소포위탁구'!$A$1:$B$106,2,0) -> 4 | E40: =D40*150*250 -> 150000
C41: 오산 | D41: =VLOOKUP(C41,'201603월말 기준 소포위탁구'!$A$1:$B$106,2,0) -> 9 | E41: =D41*150*250 -> 337500
C42: 서수원 | D42: =VLOOKUP(C42,'201603월말 기준 소포위탁구'!$A$1:$B$106,2,0) -> 13 | E42: =D42*150*250 -> 487500
B43: 안양물류1 그룹 | C43: 안양 | D43: =VLOOKUP(C43,'201603월말 기준 소포위탁구'!$A$1:$B$106,2,0) -> 38 | E43: =D43*150*250 -> 1425000
C44: 수원 | D44: =VLOOKUP(C44,'201603월말 기준 소포위탁구'!$A$1:$B$106,2,0) -> 24 | E44: =D44*150*250 -> 900000
C45: 군포 | D45: =VLOOKUP(C45,'201603월말 기준 소포위탁구'!$A$1:$B$106,2,0) -> 24 | E45: =D45*150*250 -> 900000
C46: 안산 | D46: =VLOOKUP(C46,'201603월말 기준 소포위탁구'!$A$1:$B$106,2,0) -> 33 | E46: =D46*150*250 -> 1237500
B47: 안양물류2 그룹 | C47: 광명 | D47: =VLOOKUP(C47,'201603월말 기준 소포위탁구'!$A$1:$B$106,2,0) -> 15 | E47: =D47*150*250 -> 562500
C48: 서울관악 | D48: =VLOOKUP(C48,'201603월말 기준 소포위탁구'!$A$1:$B$106,2,0) -> 27 | E48: =D48*150*250 -> 1012500
C49: 서울동작 | D49: =VLOOKUP(C49,'201603월말 기준 소포위탁구'!$A$1:$B$106,2,0) -> 21 | E49: =D49*150*250 -> 787500
B50: 고양집 그룹 | C50: 고양일산 | D50: =VLOOKUP(C50,'201603월말 기준 소포위탁구'!$A$1:$B$106,2,0) -> 35 | E50: =D50*150*250 -> 1312500
C51: 고양덕양 | D51: =VLOOKUP(C51,'201603월말 기준 소포위탁구'!$A$1:$B$106,2,0) -> 19 | E51: =D51*150*250 -> 712500
C52: 파주 | D52: =VLOOKUP(C52,'201603월말 기준 소포위탁구'!$A$1:$B$106,2,0) -> 17 | E52: =D52*150*250 -> 637500
C53: 서울은평 | D53: =VLOOKUP(C53,'201603월말 기준 소포위탁구'!$A$1:$B$106,2,0) -> 21 | E53: =D53*150*250 -> 787500
B54: 의정부집1 그룹 | C54: 의정부 | D54: =VLOOKUP(C54,'201603월말 기준 소포위탁구'!$A$1:$B$106,2,0) -> 23 | E54: =D54*150*250 -> 862500
C55: 남양주 | D55: =VLOOKUP(C55,'201603월말 기준 소포위탁구'!$A$1:$B$106,2,0) -> 23 | E55: =D55*150*250 -> 862500
C56: 구리 | D56: =VLOOKUP(C56,'201603월말 기준 소포위탁구'!$A$1:$B$106,2,0) -> 13 | E56: =D56*150*250 -> 487500
C57: 포천 | D57: =VLOOKUP(C57,'201603월말 기준 소포위탁구'!$A$1:$B$106,2,0) -> 6 | E57: =D57*150*250 -> 225000
C58: 동두천 | D58: =VLOOKUP(C58,'201603월말 기준 소포위탁구'!$A$1:$B$106,2,0) -> 7 | E58: =D58*150*250 -> 262500
B59: 의정부집2 그룹 | C59: 서울도봉 | D59: =VLOOKUP(C59,'201603월말 기준 소포위탁구'!$A$1:$B$106,2,0) -> 27 | E59: =D59*150*250 -> 1012500
C60: 서울노원 | D60: =VLOOKUP(C60,'201603월말 기준 소포위탁구'!$A$1:$B$106,2,0) -> 27 | E60: =D60*150*250 -> 1012500
A61: 부산청 | B61: 부산집1 그룹 | C61: 부산연제 | D61: =VLOOKUP(C61,'201603월말 기준 소포위탁구'!$A$1:$B$106,2,0) -> 9 | E61: =D61*150*250 -> 337500
C62: 북부산 | D62: =VLOOKUP(C62,'201603월말 기준 소포위탁구'!$A$1:$B$106,2,0) -> 11 | E62: =D62*150*250 -> 412500
C63: 남부산 | D63: =VLOOKUP(C63,'201603월말 기준 소포위탁구'!$A$1:$B$106,2,0) -> 10 | E63: =D63*150*250 -> 375000
B64: 부산집2 그룹 | C64: 김해 | D64: =VLOOKUP(C64,'201603월말 기준 소포위탁구'!$A$1:$B$106,2,0) -> 26 | E64: =D64*150*250 -> 975000
C65: 동래 | D65: =VLOOKUP(C65,'201603월말 기준 소포위탁구'!$A$1:$B$106,2,0) -> 4 | E65: =D65*150*250 -> 150000
C66: 부산금정 | D66: =VLOOKUP(C66,'201603월말 기준 소포위탁구'!$A$1:$B$106,2,0) -> 5 | E66: =D66*150*250 -> 187500
B67: 부산집3 그룹 | C67: 부산사상 | D67: =VLOOKUP(C67,'201603월말 기준 소포위탁구'!$A$1:$B$106,2,0) -> 3 | E67: =D67*150*250 -> 112500
C68: 부산사하 | D68: =VLOOKUP(C68,'201603월말 기준 소포위탁구'!$A$1:$B$106,2,0) -> 9 | E68: =D68*150*250 -> 337500
C69: 부산영도 | D69: =VLOOKUP(C69,'201603월말 기준 소포위탁구'!$A$1:$B$106,2,0) -> 3 | E69: =D69*150*250 -> 112500
C70: 부산진 | D70: =VLOOKUP(C70,'201603월말 기준 소포위탁구'!$A$1:$B$106,2,0) -> 11 | E70: =D70*150*250 -> 412500
B71: 울산집 그룹 | C71: 해운대 | D71: =VLOOKUP(C71,'201603월말 기준 소포위탁구'!$A$1:$B$106,2,0) -> 12 | E71: =D71*150*250 -> 450000
C72: 양산 | D72: =VLOOKUP(C72,'201603월말 기준 소포위탁구'!$A$1:$B$106,2,0) -> 9 | E72: =D72*150*250 -> 337500
C73: 울산 | D73: =VLOOKUP(C73,'201603월말 기준 소포위탁구'!$A$1:$B$106,2,0) -> 17 | E73: =D73*150*250 -> 637500
C74: 남울산 | D74: =VLOOKUP(C74,'201603월말 기준 소포위탁구'!$A$1:$B$106,2,0) -> 16 | E74: =D74*150*250 -> 600000
C75: 동울산 | D75: =VLOOKUP(C75,'201603월말 기준 소포위탁구'!$A$1:$B$106,2,0) -> 6 | E75: =D75*150*250 -> 225000
B76: 창원집 그룹 | C76: 마산 | D76: =VLOOKUP(C76,'201603월말 기준 소포위탁구'!$A$1:$B$106,2,0) -> 9 | E76: =D76*150*250 -> 337500
C77: 마산합포 | D77: =VLOOKUP(C77,'201603월말 기준 소포위탁구'!$A$1:$B$106,2,0) -> 3 | E77: =D77*150*250 -> 112500
C78: 진해 | D78: =VLOOKUP(C78,'201603월말 기준 소포위탁구'!$A$1:$B$106,2,0) -> 6 | E78: =D78*150*250 -> 225000
C79: 창원 | D79: =VLOOKUP(C79,'201603월말 기준 소포위탁구'!$A$1:$B$106,2,0) -> 13 | E79: =D79*150*250 -> 487500
B80: - | C80: 진주 | D80: =VLOOKUP(C80,'201603월말 기준 소포위탁구'!$A$1:$B$106,2,0) -> 2 | E80: =D80*150*250 -> 75000 | F80: 지원단 수행
A81: 충청청 | B81: 대전집 그룹 | C81: 대전 | D81: =VLOOKUP(C81,'201603월말 기준 소포위탁구'!$A$1:$B$106,2,0) -> 9 | E81: =D81*150*250 -> 337500
C82: 서대전 | D82: =VLOOKUP(C82,'201603월말 기준 소포위탁구'!$A$1:$B$106,2,0) -> 10 | E82: =D82*150*250 -> 375000
C83: 대전유성 | D83: =VLOOKUP(C83,'201603월말 기준 소포위탁구'!$A$1:$B$106,2,0) -> 25 | E83: =D83*150*250 -> 937500
C84: 대전대덕 | D84: =VLOOKUP(C84,'201603월말 기준 소포위탁구'!$A$1:$B$106,2,0) -> 8 | E84: =D84*150*250 -> 300000
C85: 대전둔산 | D85: =VLOOKUP(C85,'201603월말 기준 소포위탁구'!$A$1:$B$106,2,0) -> 14 | E85: =D85*150*250 -> 525000
B86: 천안집 그룹 | C86: 천안 | D86: 21 | E86: =D86*150*250 -> 787500
C87: 동천안 | D87: =VLOOKUP(C87,'201603월말 기준 소포위탁구'!$A$1:$B$106,2,0) -> 11 | E87: =D87*150*250 -> 412500
C88: 아산 | D88: =VLOOKUP(C88,'201603월말 기준 소포위탁구'!$A$1:$B$106,2,0) -> 7 | E88: =D88*150*250 -> 262500
B89: 청주집 그룹 | C89: 청주 | D89: =VLOOKUP(C89,'201603월말 기준 소포위탁구'!$A$1:$B$106,2,0) -> 14 | E89: =D89*150*250 -> 525000
C90: 서청주 | D90: =VLOOKUP(C90,'201603월말 기준 소포위탁구'!$A$1:$B$106,2,0) -> 16 | E90: =D90*150*250 -> 600000
B91: - | C91: 세종 | D91: 15 | E91: =D91*150*250 -> 562500 | F91: 지원단 수행
A92: 전남청 | B92: 광주집 그룹 | C92: 광주 | D92: =VLOOKUP(C92,'201603월말 기준 소포위탁구'!$A$1:$B$106,2,0) -> 11 | E92: =D92*150*250 -> 412500
C93: 북광주 | D93: =VLOOKUP(C93,'201603월말 기준 소포위탁구'!$A$1:$B$106,2,0) -> 14 | E93: =D93*150*250 -> 525000
C94: 서광주 | D94: =VLOOKUP(C94,'201603월말 기준 소포위탁구'!$A$1:$B$106,2,0) -> 8 | E94: =D94*150*250 -> 300000
C95: 광주광산 | D95: =VLOOKUP(C95,'201603월말 기준 소포위탁구'!$A$1:$B$106,2,0) -> 15 | E95: =D95*150*250 -> 562500
B96: - | C96: 순천 | D96: =VLOOKUP(C96,'201603월말 기준 소포위탁구'!$A$1:$B$106,2,0) -> 2 | E96: =D96*150*250 -> 75000 | F96: 지원단 수행
A97: 경북청 | B97: 대구집 그룹 | C97: 대구 | D97: =VLOOKUP(C97,'201603월말 기준 소포위탁구'!$A$1:$B$106,2,0) -> 5 | E97: =D97*150*250 -> 187500
C98: 동대구 | D98: =VLOOKUP(C98,'201603월말 기준 소포위탁구'!$A$1:$B$106,2,0) -> 11 | E98: =D98*150*250 -> 412500
C99: 북대구 | D99: =VLOOKUP(C99,'201603월말 기준 소포위탁구'!$A$1:$B$106,2,0) -> 11 | E99: =D99*150*250 -> 412500
C100: 대구달서 | D100: =VLOOKUP(C100,'201603월말 기준 소포위탁구'!$A$1:$B$106,2,0) -> 19 | E100: =D100*150*250 -> 712500
C101: 대구수성 | D101: =VLOOKUP(C101,'201603월말 기준 소포위탁구'!$A$1:$B$106,2,0) -> 18 | E101: =D101*150*250 -> 675000
...

Sheet 청별 합계
A1: 2016년 우정청별(집중국 권역) 소포배달 위탁계약 규모
A3: 우정청 | B3: 계약단위 (권역) | C3: 총괄국 수 (국) | D3: 위탁구 수 (구) | E3: 연 물량 (개) | F3: 비고
A4: 서울청 | B4: 4 | C4: 17 | D4: 500 | E4: 18750000
A5: 경인청 | B5: 10 | C5: 40 | D5: 853 | E5: 31987500
A6: 부산청 | B6: 5 | C6: 20 | D6: 184 | E6: 6900000
A7: 충청청 | B7: 3 | C7: 11 | D7: 150 | E7: 5625000
A8: 전남청 | B8: 1 | C8: 5 | D8: 50 | E8: 1875000
A9: 경북청 | B9: 2 | C9: 9 | D9: 101 | E9: 3787500
A10: 전북청 | B10: 1 | C10: 2 | D10: 20 | E10: 750000
A11: 제주청 | B11: 1 | C11: 2 | D11: 37 | E11: 1387500
A12: 합계 | B12: =SUM(B4:B11) -> 27 | C12: =SUM(C4:C11) -> 106 | D12: =SUM(D4:D11) -> 1895 | E12: 71062500
A13: * 연 물량 산출기준 : 위탁구 수 * 150개 * 250일(1년 근무일)

Sheet 2016년 경인청 규모
A1: 2016년 경인청 소포배달 위탁계약 규모
A2: 우정청 | B2: 계약단위 (권역) | C2: 총괄국 | D2: 위탁구 수 (구) | E2: 연 물량(통) | F2: 비고
A3: 서울청 | B3: 동서울집2 그룹 | C3: 서울강남 | D3: =VLOOKUP(C3,'201603월말 기준 소포위탁구'!$A$1:$B$106,2,0) -> 71 | E3: =D3*150*250 -> 2662500
B4: 동서울집3 그룹 | C4: 서울중앙 | D4: =VLOOKUP(C4,'201603월말 기준 소포위탁구'!$A$1:$B$106,2,0) -> 28 | E4: =D4*150*250 -> 1050000
C5: 서울용산 | D5: =VLOOKUP(C5,'201603월말 기준 소포위탁구'!$A$1:$B$106,2,0) -> 22 | E5: =D5*150*250 -> 825000
C6: 서울강동 | D6: =VLOOKUP(C6,'201603월말 기준 소포위탁구'!$A$1:$B$106,2,0) -> 22 | E6: =D6*150*250 -> 825000
C7: 서울성북 | D7: =VLOOKUP(C7,'201603월말 기준 소포위탁구'!$A$1:$B$106,2,0) -> 25 | E7: =D7*150*250 -> 937500
C8: 하남 | D8: =VLOOKUP(C8,'201603월말 기준 소포위탁구'!$A$1:$B$106,2,0) -> 6 | E8: =D8*150*250 -> 225000
B9: 서서울물류 그룹 | C9: 서대문 | D9: =VLOOKUP(C9,'201603월말 기준 소포위탁구'!$A$1:$B$106,2,0) -> 20 | E9: =D9*150*250 -> 750000
C10: 서울마포 | D10: =VLOOKUP(C10,'201603월말 기준 소포위탁구'!$A$1:$B$106,2,0) -> 26 | E10: =D10*150*250 -> 975000
C11: 여의도 | D11: =VLOOKUP(C11,'201603월말 기준 소포위탁구'!$A$1:$B$106,2,0) -> 31 | E11: =D11*150*250 -> 1162500
C12: 서울양천 | D12: =VLOOKUP(C12,'201603월말 기준 소포위탁구'!$A$1:$B$106,2,0) -> 26 | E12: =D12*150*250 -> 975000
B13: - | C13: 광화문 | D13: =VLOOKUP(C13,'201603월말 기준 소포위탁구'!$A$1:$B$106,2,0) -> 21 | E13: =D13*150*250 -> 787500 | F13: 지원단 수행
B14: - | C14: 동대문 | D14: =VLOOKUP(C14,'201603월말 기준 소포위탁구'!$A$1:$B$106,2,0) -> 24 | E14: =D14*150*250 -> 900000 | F14: 지원단 수행
B15: - | C15: 서울광진 | D15: =VLOOKUP(C15,'201603월말 기준 소포위탁구'!$A$1:$B$106,2,0) -> 40 | E15: =D15*150*250 -> 1500000 | F15: 지원단 수행
B16: - | C16: 서울금천 | D16: =VLOOKUP(C16,'201603월말 기준 소포위탁구'!$A$1:$B$106,2,0) -> 41 | E16: =D16*150*250 -> 1537500 | F16: 지원단 수행
B17: - | C17: 서울서초 | D17: =VLOOKUP(C17,'201603월말 기준 소포위탁구'!$A$1:$B$106,2,0) -> 42 | E17: =D17*150*250 -> 1575000 | F17: 지원단 수행
B18: - | C18: 서울송파 | D18: =VLOOKUP(C18,'201603월말 기준 소포위탁구'!$A$1:$B$106,2,0) -> 39 | E18: =D18*150*250 -> 1462500 | F18: 지원단 수행
B19: - | C19: 서울중랑 | D19: =VLOOKUP(C19,'201603월말 기준 소포위탁구'!$A$1:$B$106,2,0) -> 16 | E19: =D19*150*250 -> 600000 | F19: 지원단 수행
A20: 경인청 | B20: 부평물류(1) | C20: 인천 | D20: =VLOOKUP(C20,'201603월말 기준 소포위탁구'!$A$1:$B$106,2,0) -> 27 | E20: =D20*150*250 -> 1012500
C21: 서인천 | D21: =VLOOKUP(C21,'201603월말 기준 소포위탁구'!$A$1:$B$106,2,0) -> 19 | E21: =D21*150*250 -> 712500
C22: 인천계양 | D22: =VLOOKUP(C22,'201603월말 기준 소포위탁구'!$A$1:$B$106,2,0) -> 13 | E22: =D22*150*250 -> 487500
C23: 남인천 | D23: =VLOOKUP(C23,'201603월말 기준 소포위탁구'!$A$1:$B$106,2,0) -> 16 | E23: =D23*150*250 -> 600000
C24: 부평 | D24: =VLOOKUP(C24,'201603월말 기준 소포위탁구'!$A$1:$B$106,2,0) -> 23 | E24: =D24*150*250 -> 862500
C25: 인천남동 | D25: =VLOOKUP(C25,'201603월말 기준 소포위탁구'!$A$1:$B$106,2,0) -> 20 | E25: =D25*150*250 -> 750000
B26: 부평물류(2) | C26: 부천 | D26: =VLOOKUP(C26,'201603월말 기준 소포위탁구'!$A$1:$B$106,2,0) -> 45 | E26: =D26*150*250 -> 1687500
C27: 시흥 | D27: =VLOOKUP(C27,'201603월말 기준 소포위탁구'!$A$1:$B$106,2,0) -> 20 | E27: =D27*150*250 -> 750000
C28: 김포 | D28: =VLOOKUP(C28,'201603월말 기준 소포위탁구'!$A$1:$B$106,2,0) -> 11 | E28: =D28*150*250 -> 412500
C29: 서울강서 | D29: =VLOOKUP(C29,'201603월말 기준 소포위탁구'!$A$1:$B$106,2,0) -> 29 | E29: =D29*150*250 -> 1087500
B30: 성남집(1) | C30: 성남 | D30: =VLOOKUP(C30,'201603월말 기준 소포위탁구'!$A$1:$B$106,2,0) -> 24 | E30: =D30*150*250 -> 900000
C31: 용인수지 | D31: =VLOOKUP(C31,'201603월말 기준 소포위탁구'!$A$1:$B$106,2,0) -> 34 | E31: =D31*150*250 -> 1275000
C32: 경기광주 | D32: =VLOOKUP(C32,'201603월말 기준 소포위탁구'!$A$1:$B$106,2,0) -> 10 | E32: =D32*150*250 -> 375000
B33: 성남집(2) | C33: 성남분당 | D33: =VLOOKUP(C33,'201603월말 기준 소포위탁구'!$A$1:$B$106,2,0) -> 38 | E33: =D33*150*250 -> 1425000
C34: 용인 | D34: =VLOOKUP(C34,'201603월말 기준 소포위탁구'!$A$1:$B$106,2,0) -> 20 | E34: =D34*150*250 -> 750000
C35: 이천 | D35: =VLOOKUP(C35,'201603월말 기준 소포위탁구'!$A$1:$B$106,2,0) -> 9 | E35: =D35*150*250 -> 337500
B36: 수원집 | C36: 동수원 | D36: =VLOOKUP(C36,'201603월말 기준 소포위탁구'!$A$1:$B$106,2,0) -> 23 | E36: =D36*150*250 -> 862500
C37: 평택 | D37: =VLOOKUP(C37,'201603월말 기준 소포위탁구'!$A$1:$B$106,2,0) -> 17 | E37: =D37*150*250 -> 637500
C38: 화성 | D38: =VLOOKUP(C38,'201603월말 기준 소포위탁구'!$A$1:$B$106,2,0) -> 29 | E38: =D38*150*250 -> 1087500
C39: 안성 | D39: =VLOOKUP(C39,'201603월말 기준 소포위탁구'!$A$1:$B$106,2,0) -> 4 | E39: =D39*150*250 -> 150000
C40: 오산 | D40: =VLOOKUP(C40,'201603월말 기준 소포위탁구'!$A$1:$B$106,2,0) -> 9 | E40: =D40*150*250 -> 337500
C41: 서수원 | D41: =VLOOKUP(C41,'201603월말 기준 소포위탁구'!$A$1:$B$106,2,0) -> 13 | E41: =D41*150*250 -> 487500
B42: 안양물류(1) | C42: 안양 | D42: =VLOOKUP(C42,'201603월말 기준 소포위탁구'!$A$1:$B$106,2,0) -> 38 | E42: =D42*150*250 -> 1425000
C43: 수원 | D43: =VLOOKUP(C43,'201603월말 기준 소포위탁구'!$A$1:$B$106,2,0) -> 24 | E43: =D43*150*250 -> 900000
C44: 군포 | D44: =VLOOKUP(C44,'201603월말 기준 소포위탁구'!$A$1:$B$106,2,0) -> 24 | E44: =D44*150*250 -> 900000
C45: 안산 | D45: =VLOOKUP(C45,'201603월말 기준 소포위탁구'!$A$1:$B$106,2,0) -> 33 | E45: =D45*150*250 -> 1237500
B46: 안양물류(2) | C46: 광명 | D46: =VLOOKUP(C46,'201603월말 기준 소포위탁구'!$A$1:$B$106,2,0) -> 15 | E46: =D46*150*250 -> 562500
C47: 서울관악 | D47: =VLOOKUP(C47,'201603월말 기준 소포위탁구'!$A$1:$B$106,2,0) -> 27 | E47: =D47*150*250 -> 1012500
C48: 서울동작 | D48: =VLOOKUP(C48,'201603월말 기준 소포위탁구'!$A$1:$B$106,2,0) -> 21 | E48: =D48*150*250 -> 787500
B49: 고양집 | C49: 고양일산 | D49: =VLOOKUP(C49,'201603월말 기준 소포위탁구'!$A$1:$B$106,2,0) -> 35 | E49: =D49*150*250 -> 1312500
C50: 고양덕양 | D50: =VLOOKUP(C50,'201603월말 기준 소포위탁구'!$A$1:$B$106,2,0) -> 19 | E50: =D50*150*250 -> 712500
C51: 파주 | D51: =VLOOKUP(C51,'201603월말 기준 소포위탁구'!$A$1:$B$106,2,0) -> 17 | E51: =D51*150*250 -> 637500
C52: 서울은평 | D52: =VLOOKUP(C52,'201603월말 기준 소포위탁구'!$A$1:$B$106,2,0) -> 21 | E52: =D52*150*250 -> 787500
B53: 의정부집(1) | C53: 의정부 | D53: =VLOOKUP(C53,'201603월말 기준 소포위탁구'!$A$1:$B$106,2,0) -> 23 | E53: =D53*150*250 -> 862500
C54: 남양주 | D54: =VLOOKUP(C54,'201603월말 기준 소포위탁구'!$A$1:$B$106,2,0) -> 23 | E54: =D54*150*250 -> 862500
C55: 구리 | D55: =VLOOKUP(C55,'201603월말 기준 소포위탁구'!$A$1:$B$106,2,0) -> 13 | E55: =D55*150*250 -> 487500
C56: 포천 | D56: =VLOOKUP(C56,'201603월말 기준 소포위탁구'!$A$1:$B$106,2,0) -> 6 | E56: =D56*150*250 -> 225000
C57: 동두천 | D57: =VLOOKUP(C57,'201603월말 기준 소포위탁구'!$A$1:$B$106,2,0) -> 7 | E57: =D57*150*250 -> 262500
B58: 의정부집(2) | C58: 서울도봉 | D58: =VLOOKUP(C58,'201603월말 기준 소포위탁구'!$A$1:$B$106,2,0) -> 27 | E58: =D58*150*250 -> 1012500
C59: 서울노원 | D59: =VLOOKUP(C59,'201603월말 기준 소포위탁구'!$A$1:$B$106,2,0) -> 27 | E59: =D59*150*250 -> 1012500
A60: 합 계 | D60: =SUM(D20:D59) -> 853 | E60: =SUM(E20:E59) -> 31987500
A61: 부산청 | B61: 부산집1 그룹 | C61: 부산연제 | D61: =VLOOKUP(C61,'201603월말 기준 소포위탁구'!$A$1:$B$106,2,0) -> 9 | E61: =D61*150*250 -> 337500
C62: 북부산 | D62: =VLOOKUP(C62,'201603월말 기준 소포위탁구'!$A$1:$B$106,2,0) -> 11 | E62: =D62*150*250 -> 412500
C63: 남부산 | D63: =VLOOKUP(C63,'201603월말 기준 소포위탁구'!$A$1:$B$106,2,0) -> 10 | E63: =D63*150*250 -> 375000
B64: 부산집2 그룹 | C64: 김해 | D64: =VLOOKUP(C64,'201603월말 기준 소포위탁구'!$A$1:$B$106,2,0) -> 26 | E64: =D64*150*250 -> 975000
C65: 동래 | D65: =VLOOKUP(C65,'201603월말 기준 소포위탁구'!$A$1:$B$106,2,0) -> 4 | E65: =D65*150*250 -> 150000
C66: 부산금정 | D66: =VLOOKUP(C66,'201603월말 기준 소포위탁구'!$A$1:$B$106,2,0) -> 5 | E66: =D66*150*250 -> 187500
B67: 부산집3 그룹 | C67: 부산사상 | D67: =VLOOKUP(C67,'201603월말 기준 소포위탁구'!$A$1:$B$106,2,0) -> 3 | E67: =D67*150*250 -> 112500
C68: 부산사하 | D68: =VLOOKUP(C68,'201603월말 기준 소포위탁구'!$A$1:$B$106,2,0) -> 9 | E68: =D68*150*250 -> 337500
C69: 부산영도 | D69: =VLOOKUP(C69,'201603월말 기준 소포위탁구'!$A$1:$B$106,2,0) -> 3 | E69: =D69*150*250 -> 112500
C70: 부산진 | D70: =VLOOKUP(C70,'201603월말 기준 소포위탁구'!$A$1:$B$106,2,0) -> 11 | E70: =D70*150*250 -> 412500
B71: 울산집 그룹 | C71: 해운대 | D71: =VLOOKUP(C71,'201603월말 기준 소포위탁구'!$A$1:$B$106,2,0) -> 12 | E71: =D71*150*250 -> 450000
C72: 양산 | D72: =VLOOKUP(C72,'201603월말 기준 소포위탁구'!$A$1:$B$106,2,0) -> 9 | E72: =D72*150*250 -> 337500
C73: 울산 | D73: =VLOOKUP(C73,'201603월말 기준 소포위탁구'!$A$1:$B$106,2,0) -> 17 | E73: =D73*150*250 -> 637500
C74: 남울산 | D74: =VLOOKUP(C74,'201603월말 기준 소포위탁구'!$A$1:$B$106,2,0) -> 16 | E74: =D74*150*250 -> 600000
C75: 동울산 | D75: =VLOOKUP(C75,'201603월말 기준 소포위탁구'!$A$1:$B$106,2,0) -> 6 | E75: =D75*150*250 -> 225000
B76: 창원집 그룹 | C76: 마산 | D76: =VLOOKUP(C76,'201603월말 기준 소포위탁구'!$A$1:$B$106,2,0) -> 9 | E76: =D76*150*250 -> 337500
C77: 마산합포 | D77: =VLOOKUP(C77,'201603월말 기준 소포위탁구'!$A$1:$B$106,2,0) -> 3 | E77: =D77*150*250 -> 112500
C78: 진해 | D78: =VLOOKUP(C78,'201603월말 기준 소포위탁구'!$A$1:$B$106,2,0) -> 6 | E78: =D78*150*250 -> 225000
C79: 창원 | D79: =VLOOKUP(C79,'201603월말 기준 소포위탁구'!$A$1:$B$106,2,0) -> 13 | E79: =D79*150*250 -> 487500
B80: - | C80: 진주 | D80: =VLOOKUP(C80,'201603월말 기준 소포위탁구'!$A$1:$B$106,2,0) -> 2 | E80: =D80*150*250 -> 75000 | F80: 지원단 수행
A81: 충청청 | B81: 대전집 그룹 | C81: 대전 | D81: =VLOOKUP(C81,'201603월말 기준 소포위탁구'!$A$1:$B$106,2,0) -> 9 | E81: =D81*150*250 -> 337500
C82: 서대전 | D82: =VLOOKUP(C82,'201603월말 기준 소포위탁구'!$A$1:$B$106,2,0) -> 10 | E82: =D82*150*250 -> 375000
C83: 대전유성 | D83: =VLOOKUP(C83,'201603월말 기준 소포위탁구'!$A$1:$B$106,2,0) -> 25 | E83: =D83*150*250 -> 937500
C84: 대전대덕 | D84: =VLOOKUP(C84,'201603월말 기준 소포위탁구'!$A$1:$B$106,2,0) -> 8 | E84: =D84*150*250 -> 300000
C85: 대전둔산 | D85: =VLOOKUP(C85,'201603월말 기준 소포위탁구'!$A$1:$B$106,2,0) -> 14 | E85: =D85*150*250 -> 525000
B86: 천안집 그룹 | C86: 천안 | D86: 21 | E86: =D86*150*250 -> 787500
C87: 동천안 | D87: =VLOOKUP(C87,'201603월말 기준 소포위탁구'!$A$1:$B$106,2,0) -> 11 | E87: =D87*150*250 -> 412500
C88: 아산 | D88: =VLOOKUP(C88,'201603월말 기준 소포위탁구'!$A$1:$B$106,2,0) -> 7 | E88: =D88*150*250 -> 262500
B89: 청주집 그룹 | C89: 청주 | D89: =VLOOKUP(C89,'201603월말 기준 소포위탁구'!$A$1:$B$106,2,0) -> 14 | E89: =D89*150*250 -> 525000
C90: 서청주 | D90: =VLOOKUP(C90,'201603월말 기준 소포위탁구'!$A$1:$B$106,2,0) -> 16 | E90: =D90*150*250 -> 600000
B91: - | C91: 세종 | D91: 15 | E91: =D91*150*250 -> 562500 | F91: 지원단 수행
A92: 전남청 | B92: 광주집 그룹 | C92: 광주 | D92: =VLOOKUP(C92,'201603월말 기준 소포위탁구'!$A$1:$B$106,2,0) -> 11 | E92: =D92*150*250 -> 412500
C93: 북광주 | D93: =VLOOKUP(C93,'201603월말 기준 소포위탁구'!$A$1:$B$106,2,0) -> 14 | E93: =D93*150*250 -> 525000
C94: 서광주 | D94: =VLOOKUP(C94,'201603월말 기준 소포위탁구'!$A$1:$B$106,2,0) -> 8 | E94: =D94*150*250 -> 300000
C95: 광주광산 | D95: =VLOOKUP(C95,'201603월말 기준 소포위탁구'!$A$1:$B$106,2,0) -> 15 | E95: =D95*150*250 -> 562500
B96: - | C96: 순천 | D96: =VLOOKUP(C96,'201603월말 기준 소포위탁구'!$A$1:$B$106,2,0) -> 2 | E96: =D96*150*250 -> 75000 | F96: 지원단 수행
A97: 경북청 | B97: 대구집 그룹 | C97: 대구 | D97: =VLOOKUP(C97,'201603월말 기준 소포위탁구'!$A$1:$B$106,2,0) -> 5 | E97: =D97*150*250 -> 187500
C98: 동대구 | D98: =VLOOKUP(C98,'201603월말 기준 소포위탁구'!$A$1:$B$106,2,0) -> 11 | E98: =D98*150*250 -> 412500
C99: 북대구 | D99: =VLOOKUP(C99,'201603월말 기준 소포위탁구'!$A$1:$B$106,2,0) -> 11 | E99: =D99*150*250 -> 412500
C100: 대구달서 | D100: =VLOOKUP(C100,'201603월말 기준 소포위탁구'!$A$1:$B$106,2,0) -> 19 | E100: =D100*150*250 -> 712500
...
