Workbook

Sheet 목표(창구+집배)
A1: 2016년도 우정서비스 고객만족도(KPCSI) 목표배정(안)
A3: 국명 | B3: 관서급 | C3: 그룹 | D3: 2015년 | H3: 2016년 목표배정(안)
D4: 목표 | E4: 실적 | F4: 창구종합 | G4: 집배 | H4: 창구종합 | I4: 집배 | J4: 산출목표 | K4: 최종(안)
A5: 대전유성 | B5: 4급 | C5: 1그룹 | D5: =VLOOKUP($A5,연도별!$A$2:$K$36,3,0) -> 93.534346 | E5: =VLOOKUP($A5,연도별!$A$2:$K$36,4,0) -> 93.924277 | F5: =VLOOKUP($A5,연도별!$A$2:$K$36,6,0) -> 93.608385 | G5: =VLOOKUP($A5,연도별!$A$2:$K$36,10,0) -> 93.653251 | H5: =VLOOKUP($A5,'목표(창구)'!$A$11:$AB$42,28,0) -> 93.8 | I5: =VLOOKUP($A5,'목표(집배)'!$A$3:$L$37,9,0) -> 94.8 | J5: =(H5*0.5+I5*0.5)*0.99 -> 93.357 | K5: =ROUNDUP(AVERAGE($J$5:$J$9),1) -> 93.4
A6: 대전둔산 | B6: 4급 | C6: 1그룹 | D6: =VLOOKUP($A6,연도별!$A$2:$K$36,3,0) -> 92.076079 | E6: =VLOOKUP($A6,연도별!$A$2:$K$36,4,0) -> 95.519869 | F6: =VLOOKUP($A6,연도별!$A$2:$K$36,6,0) -> 93.620039 | G6: =VLOOKUP($A6,연도별!$A$2:$K$36,10,0) -> 96.948106 | H6: =VLOOKUP($A6,'목표(창구)'!$A$11:$AB$42,28,0) -> 93.8 | I6: =VLOOKUP($A6,'목표(집배)'!$A$3:$L$37,9,0) -> 94.8 | J6: =(H6*0.5+I6*0.5)*0.99 -> 93.357 | K6: =ROUNDUP(AVERAGE($J$5:$J$9),1) -> 93.4
A7: 대전 | B7: 4급 | C7: 1그룹 | D7: =VLOOKUP($A7,연도별!$A$2:$K$36,3,0) -> 93.311679 | E7: =VLOOKUP($A7,연도별!$A$2:$K$36,4,0) -> 95.638326 | F7: =VLOOKUP($A7,연도별!$A$2:$K$36,6,0) -> 94.819162 | G7: =VLOOKUP($A7,연도별!$A$2:$K$36,10,0) -> 96.10363 | H7: =VLOOKUP($A7,'목표(창구)'!$A$11:$AB$42,28,0) -> 93.8 | I7: =VLOOKUP($A7,'목표(집배)'!$A$3:$L$37,9,0) -> 94.8 | J7: =(H7*0.5+I7*0.5)*0.99 -> 93.357 | K7: =ROUNDUP(AVERAGE($J$5:$J$9),1) -> 93.4
A8: 서대전 | B8: 4급 | C8: 1그룹 | D8: =VLOOKUP($A8,연도별!$A$2:$K$36,3,0) -> 92.858965 | E8: =VLOOKUP($A8,연도별!$A$2:$K$36,4,0) -> 95.300453 | F8: =VLOOKUP($A8,연도별!$A$2:$K$36,6,0) -> 93.616139 | G8: =VLOOKUP($A8,연도별!$A$2:$K$36,10,0) -> 96.542708 | H8: =VLOOKUP($A8,'목표(창구)'!$A$11:$AB$42,28,0) -> 93.8 | I8: =VLOOKUP($A8,'목표(집배)'!$A$3:$L$37,9,0) -> 94.8 | J8: =(H8*0.5+I8*0.5)*0.99 -> 93.357 | K8: =ROUNDUP(AVERAGE($J$5:$J$9),1) -> 93.4
A9: 대전대덕 | B9: 4급 | C9: 1그룹 | D9: =VLOOKUP($A9,연도별!$A$2:$K$36,3,0) -> 92.778212 | E9: =VLOOKUP($A9,연도별!$A$2:$K$36,4,0) -> 95.621019 | F9: =VLOOKUP($A9,연도별!$A$2:$K$36,6,0) -> 94.527128 | G9: =VLOOKUP($A9,연도별!$A$2:$K$36,10,0) -> 96.506597 | H9: =VLOOKUP($A9,'목표(창구)'!$A$11:$AB$42,28,0) -> 93.8 | I9: =VLOOKUP($A9,'목표(집배)'!$A$3:$L$37,9,0) -> 94.8 | J9: =(H9*0.5+I9*0.5)*0.99 -> 93.357 | K9: =ROUNDUP(AVERAGE($J$5:$J$9),1) -> 93.4
A10: 천안 | B10: 4급 | C10: 2그룹 | D10: =VLOOKUP($A10,연도별!$A$2:$K$36,3,0) -> 92.53136 | E10: =VLOOKUP($A10,연도별!$A$2:$K$36,4,0) -> 94.906362 | F10: =VLOOKUP($A10,연도별!$A$2:$K$36,6,0) -> 93.871052 | G10: =VLOOKUP($A10,연도별!$A$2:$K$36,10,0) -> 95.48971 | H10: =VLOOKUP($A10,'목표(창구)'!$A$11:$AB$42,28,0) -> 94.4 | I10: =VLOOKUP($A10,'목표(집배)'!$A$3:$L$37,9,0) -> 94.8 | J10: =(H10*0.5+I10*0.5)*0.99 -> 93.654 | K10: =ROUNDUP(AVERAGE($J$10:$J$15),1) -> 93.7
A11: 동천안 | B11: 4급 | C11: 2그룹 | D11: =VLOOKUP($A11,연도별!$A$2:$K$36,3,0) -> 93.127835 | E11: =VLOOKUP($A11,연도별!$A$2:$K$36,4,0) -> 95.426797 | F11: =VLOOKUP($A11,연도별!$A$2:$K$36,6,0) -> 94.777071 | G11: =VLOOKUP($A11,연도별!$A$2:$K$36,10,0) -> 95.731976 | H11: =VLOOKUP($A11,'목표(창구)'!$A$11:$AB$42,28,0) -> 94.4 | I11: =VLOOKUP($A11,'목표(집배)'!$A$3:$L$37,9,0) -> 94.8 | J11: =(H11*0.5+I11*0.5)*0.99 -> 93.654 | K11: =ROUNDUP(AVERAGE($J$10:$J$15),1) -> 93.7
A12: 서청주 | B12: 4급 | C12: 2그룹 | D12: =VLOOKUP($A12,연도별!$A$2:$K$36,3,0) -> 93.366279 | E12: =VLOOKUP($A12,연도별!$A$2:$K$36,4,0) -> 94.464362 | F12: =VLOOKUP($A12,연도별!$A$2:$K$36,6,0) -> 93.899841 | G12: =VLOOKUP($A12,연도별!$A$2:$K$36,10,0) -> 94.688289 | H12: =VLOOKUP($A12,'목표(창구)'!$A$11:$AB$42,28,0) -> 94.4 | I12: =VLOOKUP($A12,'목표(집배)'!$A$3:$L$37,9,0) -> 94.8 | J12: =(H12*0.5+I12*0.5)*0.99 -> 93.654 | K12: =ROUNDUP(AVERAGE($J$10:$J$15),1) -> 93.7
A13: 청주 | B13: 4급 | C13: 2그룹 | D13: =VLOOKUP($A13,연도별!$A$2:$K$36,3,0) -> 93.947698 | E13: =VLOOKUP($A13,연도별!$A$2:$K$36,4,0) -> 94.407836 | F13: =VLOOKUP($A13,연도별!$A$2:$K$36,6,0) -> 94.161831 | G13: =VLOOKUP($A13,연도별!$A$2:$K$36,10,0) -> 94.191509 | H13: =VLOOKUP($A13,'목표(창구)'!$A$11:$AB$42,28,0) -> 94.4 | I13: =VLOOKUP($A13,'목표(집배)'!$A$3:$L$37,9,0) -> 94.8 | J13: =(H13*0.5+I13*0.5)*0.99 -> 93.654 | K13: =ROUNDUP(AVERAGE($J$10:$J$15),1) -> 93.7
A14: 세종 | B14: 4급 | C14: 2그룹 | D14: =VLOOKUP($A14,연도별!$A$2:$K$36,3,0) -> 94.036741 | E14: =VLOOKUP($A14,연도별!$A$2:$K$36,4,0) -> 95.380964 | F14: =VLOOKUP($A14,연도별!$A$2:$K$36,6,0) -> 94.394281 | G14: =VLOOKUP($A14,연도별!$A$2:$K$36,10,0) -> 96.291959 | H14: =VLOOKUP($A14,'목표(창구)'!$A$11:$AB$42,28,0) -> 94.4 | I14: =VLOOKUP($A14,'목표(집배)'!$A$3:$L$37,9,0) -> 94.8 | J14: =(H14*0.5+I14*0.5)*0.99 -> 93.654 | K14: =ROUNDUP(AVERAGE($J$10:$J$15),1) -> 93.7
A15: 아산 | B15: 4급 | C15: 2그룹 | D15: =VLOOKUP($A15,연도별!$A$2:$K$36,3,0) -> 93.545055 | E15: =VLOOKUP($A15,연도별!$A$2:$K$36,4,0) -> 96.344325 | F15: =VLOOKUP($A15,연도별!$A$2:$K$36,6,0) -> 94.86094 | G15: =VLOOKUP($A15,연도별!$A$2:$K$36,10,0) -> 97.485006 | H15: =VLOOKUP($A15,'목표(창구)'!$A$11:$AB$42,28,0) -> 94.9 | I15: =VLOOKUP($A15,'목표(집배)'!$A$3:$L$37,9,0) -> 94.8 | J15: =(H15*0.5+I15*0.5)*0.99 -> 93.9015 | K15: =ROUNDUP(AVERAGE($J$10:$J$15),1) -> 93.7
A16: 제천 | B16: 4급 | C16: 3그룹 | D16: =VLOOKUP($A16,연도별!$A$2:$K$36,3,0) -> 94.074064 | E16: =VLOOKUP($A16,연도별!$A$2:$K$36,4,0) -> 96.092395 | F16: =VLOOKUP($A16,연도별!$A$2:$K$36,6,0) -> 95.066668 | G16: =VLOOKUP($A16,연도별!$A$2:$K$36,10,0) -> 96.812058 | H16: =VLOOKUP($A16,'목표(창구)'!$A$11:$AB$42,28,0) -> 94.4 | I16: =VLOOKUP($A16,'목표(집배)'!$A$3:$L$37,9,0) -> 95.6 | J16: =(H16*0.5+I16*0.5)*0.99 -> 94.05 | K16: =ROUNDUP(AVERAGE($J$16:$J$22),1) -> 94.3
A17: 공주 | B17: 4급 | C17: 3그룹 | D17: =VLOOKUP($A17,연도별!$A$2:$K$36,3,0) -> 94.07 | E17: =VLOOKUP($A17,연도별!$A$2:$K$36,4,0) -> 95.923016 | F17: =VLOOKUP($A17,연도별!$A$2:$K$36,6,0) -> 95.063278 | G17: =VLOOKUP($A17,연도별!$A$2:$K$36,10,0) -> 96.353598 | H17: =VLOOKUP($A17,'목표(창구)'!$A$11:$AB$42,28,0) -> 94.9 | I17: =VLOOKUP($A17,'목표(집배)'!$A$3:$L$37,9,0) -> 95.6 | J17: =(H17*0.5+I17*0.5)*0.99 -> 94.2975 | K17: =ROUNDUP(AVERAGE($J$16:$J$22),1) -> 94.3
A18: 충주 | B18: 4급 | C18: 3그룹 | D18: =VLOOKUP($A18,연도별!$A$2:$K$36,3,0) -> 94.074064 | E18: =VLOOKUP($A18,연도별!$A$2:$K$36,4,0) -> 96.066276 | F18: =VLOOKUP($A18,연도별!$A$2:$K$36,6,0) -> 94.589681 | G18: =VLOOKUP($A18,연도별!$A$2:$K$36,10,0) -> 97.213005 | H18: =VLOOKUP($A18,'목표(창구)'!$A$11:$AB$42,28,0) -> 94.9 | I18: =VLOOKUP($A18,'목표(집배)'!$A$3:$L$37,9,0) -> 95.6 | J18: =(H18*0.5+I18*0.5)*0.99 -> 94.2975 | K18: =ROUNDUP(AVERAGE($J$16:$J$22),1) -> 94.3
A19: 서산 | B19: 4급 | C19: 3그룹 | D19: =VLOOKUP($A19,연도별!$A$2:$K$36,3,0) -> 94.469224 | E19: =VLOOKUP($A19,연도별!$A$2:$K$36,4,0) -> 95.632448 | F19: =VLOOKUP($A19,연도별!$A$2:$K$36,6,0) -> 94.725768 | G19: =VLOOKUP($A19,연도별!$A$2:$K$36,10,0) -> 96.237281 | H19: =VLOOKUP($A19,'목표(창구)'!$A$11:$AB$42,28,0) -> 94.9 | I19: =VLOOKUP($A19,'목표(집배)'!$A$3:$L$37,9,0) -> 95.6 | J19: =(H19*0.5+I19*0.5)*0.99 -> 94.2975 | K19: =ROUNDUP(AVERAGE($J$16:$J$22),1) -> 94.3
A20: 논산 | B20: 4급 | C20: 3그룹 | D20: =VLOOKUP($A20,연도별!$A$2:$K$36,3,0) -> 94.058535 | E20: =VLOOKUP($A20,연도별!$A$2:$K$36,4,0) -> 95.783561 | F20: =VLOOKUP($A20,연도별!$A$2:$K$36,6,0) -> 94.687889 | G20: =VLOOKUP($A20,연도별!$A$2:$K$36,10,0) -> 96.803819 | H20: =VLOOKUP($A20,'목표(창구)'!$A$11:$AB$42,28,0) -> 94.9 | I20: =VLOOKUP($A20,'목표(집배)'!$A$3:$L$37,9,0) -> 95.6 | J20: =(H20*0.5+I20*0.5)*0.99 -> 94.2975 | K20: =ROUNDUP(AVERAGE($J$16:$J$22),1) -> 94.3
A21: 당진 | B21: 5급 | C21: 3그룹 | D21: =VLOOKUP($A21,연도별!$A$2:$K$36,3,0) -> 93.413246 | E21: =VLOOKUP($A21,연도별!$A$2:$K$36,4,0) -> 95.195788 | F21: =VLOOKUP($A21,연도별!$A$2:$K$36,6,0) -> 94.463314 | G21: =VLOOKUP($A21,연도별!$A$2:$K$36,10,0) -> 95.633081 | H21: =VLOOKUP($A21,'목표(창구)'!$A$11:$AB$42,28,0) -> 94.9 | I21: =VLOOKUP($A21,'목표(집배)'!$A$3:$L$37,9,0) -> 95.6 | J21: =(H21*0.5+I21*0.5)*0.99 -> 94.2975 | K21: =ROUNDUP(AVERAGE($J$16:$J$22),1) -> 94.3
A22: 보령 | B22: 5급 | C22: 3그룹 | D22: =VLOOKUP($A22,연도별!$A$2:$K$36,3,0) -> 94.840296 | E22: =VLOOKUP($A22,연도별!$A$2:$K$36,4,0) -> 97.495952 | F22: =VLOOKUP($A22,연도별!$A$2:$K$36,6,0) -> 96.426774 | G22: =VLOOKUP($A22,연도별!$A$2:$K$36,10,0) -> 98.427862 | H22: =VLOOKUP($A22,'목표(창구)'!$A$11:$AB$42,28,0) -> 94.9 | I22: =VLOOKUP($A22,'목표(집배)'!$A$3:$L$37,9,0) -> 95.6 | J22: =(H22*0.5+I22*0.5)*0.99 -> 94.2975 | K22: =ROUNDUP(AVERAGE($J$16:$J$22),1) -> 94.3
A23: 진천 | B23: 5급 | C23: 4그룹 | D23: =VLOOKUP($A23,연도별!$A$2:$K$36,3,0) -> 94.164889 | E23: =VLOOKUP($A23,연도별!$A$2:$K$36,4,0) -> 95.386406 | F23: =VLOOKUP($A23,연도별!$A$2:$K$36,6,0) -> 95.240934 | G23: =VLOOKUP($A23,연도별!$A$2:$K$36,10,0) -> 95.488342 | H23: =VLOOKUP($A23,'목표(창구)'!$A$11:$AB$42,28,0) -> 95.6 | I23: =VLOOKUP($A23,'목표(집배)'!$A$3:$L$37,9,0) -> 95.6 | J23: =(H23*0.5+I23*0.5)*0.99 -> 94.644 | K23: =ROUNDUP(AVERAGE($J$23:$J$24),1) -> 94.7
A24: 음성 | B24: 5급 | C24: 4그룹 | D24: =VLOOKUP($A24,연도별!$A$2:$K$36,3,0) -> 94.88904 | E24: =VLOOKUP($A24,연도별!$A$2:$K$36,4,0) -> 96.568427 | F24: =VLOOKUP($A24,연도별!$A$2:$K$36,6,0) -> 96.3632 | G24: =VLOOKUP($A24,연도별!$A$2:$K$36,10,0) -> 96.465067 | H24: =VLOOKUP($A24,'목표(창구)'!$A$11:$AB$42,28,0) -> 95.6 | I24: =VLOOKUP($A24,'목표(집배)'!$A$3:$L$37,9,0) -> 95.6 | J24: =(H24*0.5+I24*0.5)*0.99 -> 94.644 | K24: =ROUNDUP(AVERAGE($J$23:$J$24),1) -> 94.7
A25: 홍성 | B25: 5급 | C25: 5그룹 | D25: =VLOOKUP($A25,연도별!$A$2:$K$36,3,0) -> 95.14256 | E25: =VLOOKUP($A25,연도별!$A$2:$K$36,4,0) -> 96.580065 | F25: =VLOOKUP($A25,연도별!$A$2:$K$36,6,0) -> 95.518006 | G25: =VLOOKUP($A25,연도별!$A$2:$K$36,10,0) -> 97.640025 | H25: =VLOOKUP($A25,'목표(창구)'!$A$11:$AB$42,28,0) -> 95.6 | I25: =VLOOKUP($A25,'목표(집배)'!$A$3:$L$37,9,0) -> 96.6 | J25: =(H25*0.5+I25*0.5)*0.99 -> 95.139 | K25: =ROUNDUP(AVERAGE($J$25:$J$36),1) -> 95.2
A26: 금산 | B26: 5급 | C26: 5그룹 | D26: =VLOOKUP($A26,연도별!$A$2:$K$36,3,0) -> 95.10371 | E26: =VLOOKUP($A26,연도별!$A$2:$K$36,4,0) -> 95.870987 | F26: =VLOOKUP($A26,연도별!$A$2:$K$36,6,0) -> 95.672242 | G26: =VLOOKUP($A26,연도별!$A$2:$K$36,10,0) -> 95.740362 | H26: =VLOOKUP($A26,'목표(창구)'!$A$11:$AB$42,28,0) -> 95.6 | I26: =VLOOKUP($A26,'목표(집배)'!$A$3:$L$37,9,0) -> 96.6 | J26: =(H26*0.5+I26*0.5)*0.99 -> 95.139 | K26: =ROUNDUP(AVERAGE($J$25:$J$36),1) -> 95.2
A27: 예산 | B27: 5급 | C27: 5그룹 | D27: =VLOOKUP($A27,연도별!$A$2:$K$36,3,0) -> 95.71356 | E27: =VLOOKUP($A27,연도별!$A$2:$K$36,4,0) -> 96.726755 | F27: =VLOOKUP($A27,연도별!$A$2:$K$36,6,0) -> 95.176461 | G27: =VLOOKUP($A27,연도별!$A$2:$K$36,10,0) -> 98.12197 | H27: =VLOOKUP($A27,'목표(창구)'!$A$11:$AB$42,28,0) -> 95.6 | I27: =VLOOKUP($A27,'목표(집배)'!$A$3:$L$37,9,0) -> 96.6 | J27: =(H27*0.5+I27*0.5)*0.99 -> 95.139 | K27: =ROUNDUP(AVERAGE($J$25:$J$36),1) -> 95.2
A28: 서천 | B28: 5급 | C28: 5그룹 | D28: =VLOOKUP($A28,연도별!$A$2:$K$36,3,0) -> 94.955503 | E28: =VLOOKUP($A28,연도별!$A$2:$K$36,4,0) -> 96.718842 | F28: =VLOOKUP($A28,연도별!$A$2:$K$36,6,0) -> 95.707107 | G28: =VLOOKUP($A28,연도별!$A$2:$K$36,10,0) -> 98.069402 | H28: =VLOOKUP($A28,'목표(창구)'!$A$11:$AB$42,28,0) -> 95.6 | I28: =VLOOKUP($A28,'목표(집배)'!$A$3:$L$37,9,0) -> 96.6 | J28: =(H28*0.5+I28*0.5)*0.99 -> 95.139 | K28: =ROUNDUP(AVERAGE($J$25:$J$36),1) -> 95.2
A29: 청양 | B29: 5급 | C29: 5그룹 | D29: =VLOOKUP($A29,연도별!$A$2:$K$36,3,0) -> 95.71356 | E29: =VLOOKUP($A29,연도별!$A$2:$K$36,4,0) -> 97.634191 | F29: =VLOOKUP($A29,연도별!$A$2:$K$36,6,0) -> 96.961404 | G29: =VLOOKUP($A29,연도별!$A$2:$K$36,10,0) -> 98.278998 | H29: =VLOOKUP($A29,'목표(창구)'!$A$11:$AB$42,28,0) -> 95.6 | I29: =VLOOKUP($A29,'목표(집배)'!$A$3:$L$37,9,0) -> 96.6 | J29: =(H29*0.5+I29*0.5)*0.99 -> 95.139 | K29: =ROUNDUP(AVERAGE($J$25:$J$36),1) -> 95.2
A30: 부여 | B30: 5급 | C30: 5그룹 | D30: =VLOOKUP($A30,연도별!$A$2:$K$36,3,0) -> 95.71356 | E30: =VLOOKUP($A30,연도별!$A$2:$K$36,4,0) -> 98.118952 | F30: =VLOOKUP($A30,연도별!$A$2:$K$36,6,0) -> 97.115855 | G30: =VLOOKUP($A30,연도별!$A$2:$K$36,10,0) -> 99.197727 | H30: =VLOOKUP($A30,'목표(창구)'!$A$11:$AB$42,28,0) -> 95.6 | I30: =VLOOKUP($A30,'목표(집배)'!$A$3:$L$37,9,0) -> 96.6 | J30: =(H30*0.5+I30*0.5)*0.99 -> 95.139 | K30: =ROUNDUP(AVERAGE($J$25:$J$36),1) -> 95.2
A31: 태안 | B31: 5급 | C31: 5그룹 | D31: =VLOOKUP($A31,연도별!$A$2:$K$36,3,0) -> 95.605274 | E31: =VLOOKUP($A31,연도별!$A$2:$K$36,4,0) -> 95.995061 | F31: =VLOOKUP($A31,연도별!$A$2:$K$36,6,0) -> 95.548279 | G31: =VLOOKUP($A31,연도별!$A$2:$K$36,10,0) -> 96.157113 | H31: =VLOOKUP($A31,'목표(창구)'!$A$11:$AB$42,28,0) -> 95.6 | I31: =VLOOKUP($A31,'목표(집배)'!$A$3:$L$37,9,0) -> 96.6 | J31: =(H31*0.5+I31*0.5)*0.99 -> 95.139 | K31: =ROUNDUP(AVERAGE($J$25:$J$36),1) -> 95.2
A32: 단양 | B32: 5급 | C32: 5그룹 | D32: =VLOOKUP($A32,연도별!$A$2:$K$36,3,0) -> 95.057683 | E32: =VLOOKUP($A32,연도별!$A$2:$K$36,4,0) -> 97.29296 | F32: =VLOOKUP($A32,연도별!$A$2:$K$36,6,0) -> 96.831818 | G32: =VLOOKUP($A32,연도별!$A$2:$K$36,10,0) -> 97.46915 | H32: =VLOOKUP($A32,'목표(창구)'!$A$11:$AB$42,28,0) -> 95.6 | I32: =VLOOKUP($A32,'목표(집배)'!$A$3:$L$37,9,0) -> 96.6 | J32: =(H32*0.5+I32*0.5)*0.99 -> 95.139 | K32: =ROUNDUP(AVERAGE($J$25:$J$36),1) -> 95.2
A33: 괴산 | B33: 5급 | C33: 5그룹 | D33: =VLOOKUP($A33,연도별!$A$2:$K$36,3,0) -> 95.376524 | E33: =VLOOKUP($A33,연도별!$A$2:$K$36,4,0) -> 96.400918 | F33: =VLOOKUP($A33,연도별!$A$2:$K$36,6,0) -> 96.802574 | G33: =VLOOKUP($A33,연도별!$A$2:$K$36,10,0) -> 95.620412 | H33: =VLOOKUP($A33,'목표(창구)'!$A$11:$AB$42,28,0) -> 95.6 | I33: =VLOOKUP($A33,'목표(집배)'!$A$3:$L$37,9,0) -> 96.6 | J33: =(H33*0.5+I33*0.5)*0.99 -> 95.139 | K33: =ROUNDUP(AVERAGE($J$25:$J$36),1) -> 95.2
A34: 옥천 | B34: 5급 | C34: 5그룹 | D34: =VLOOKUP($A34,연도별!$A$2:$K$36,3,0) -> 94.351368 | E34: =VLOOKUP($A34,연도별!$A$2:$K$36,4,0) -> 96.431004 | F34: =VLOOKUP($A34,연도별!$A$2:$K$36,6,0) -> 96.330503 | G34: =VLOOKUP($A34,연도별!$A$2:$K$36,10,0) -> 96.324242 | H34: =VLOOKUP($A34,'목표(창구)'!$A$11:$AB$42,28,0) -> 95.6 | I34: =VLOOKUP($A34,'목표(집배)'!$A$3:$L$37,9,0) -> 96.6 | J34: =(H34*0.5+I34*0.5)*0.99 -> 95.139 | K34: =ROUNDUP(AVERAGE($J$25:$J$36),1) -> 95.2
A35: 영동 | B35: 5급 | C35: 5그룹 | D35: =VLOOKUP($A35,연도별!$A$2:$K$36,3,0) -> 95.71356 | E35: =VLOOKUP($A35,연도별!$A$2:$K$36,4,0) -> 96.778287 | F35: =VLOOKUP($A35,연도별!$A$2:$K$36,6,0) -> 96.153996 | G35: =VLOOKUP($A35,연도별!$A$2:$K$36,10,0) -> 97.105556 | H35: =VLOOKUP($A35,'목표(창구)'!$A$11:$AB$42,28,0) -> 95.6 | I35: =VLOOKUP($A35,'목표(집배)'!$A$3:$L$37,9,0) -> 96.6 | J35: =(H35*0.5+I35*0.5)*0.99 -> 95.139 | K35: =ROUNDUP(AVERAGE($J$25:$J$36),1) -> 95.2
A36: 보은 | B36: 5급 | C36: 5그룹 | D36: =VLOOKUP($A36,연도별!$A$2:$K$36,3,0) -> 95.701518 | E36: =VLOOKUP($A36,연도별!$A$2:$K$36,4,0) -> 96.999133 | F36: =VLOOKUP($A36,연도별!$A$2:$K$36,6,0) -> 96.146259 | G36: =VLOOKUP($A36,연도별!$A$2:$K$36,10,0) -> 97.799285 | H36: =VLOOKUP($A36,'목표(창구)'!$A$11:$AB$42,28,0) -> 95.6 | I36: =VLOOKUP($A36,'목표(집배)'!$A$3:$L$37,9,0) -> 96.6 | J36: =(H36*0.5+I36*0.5)*0.99 -> 95.139 | K36: =ROUNDUP(AVERAGE($J$25:$J$36),1) -> 95.2
A37: 평균 | D37: =AVERAGE(D5:D36) -> 94.291125 | E37: =AVERAGE(E5:E36) -> 96.019563 | F37: =AVERAGE(F5:F36) -> 95.210871 | G37: =AVERAGE(G5:G36) -> 96.580972 | H37: =AVERAGE(H5:H36) -> 94.940625 | I37: =AVERAGE(I5:I36) -> 95.7 | J37: =AVERAGE(J5:J36) -> 94.367109 | K37: =AVERAGE(K5:K36) -> 94.409375

Sheet 비교(최종)
A1: 2016년도 우정서비스 고객만족도(KPCSI) 목표배정(안)
A3: 국명 | B3: 관서급 | C3: 2015년 | G3: 2016년 최종목표 (안) | H3: 전년대비 | J3: 당초안 (12.23) 대비 | K3: 달성전망 (2015실적) | M3: 가중실적(안)- 산출목표*99% 수준
C4: 목표 | D4: 실적 | E4: 창구종합 | F4: 집배 | H4: 목표 | I4: 실적 | M4: 2015 | N4: 2014 | O4: 2013 | P4: 가중실적 | Q4: 비교
A5: 대전 | B5: 4급 | C5: =VLOOKUP($A5,연도별!$A$2:$K$36,3,0) -> 93.311679 | D5: =VLOOKUP($A5,연도별!$A$2:$K$36,4,0) -> 95.638326 | E5: =VLOOKUP($A5,연도별!$A$2:$K$36,6,0) -> 94.819162 | F5: =VLOOKUP($A5,연도별!$A$2:$K$36,10,0) -> 96.10363 | G5: =VLOOKUP($A5,'목표(창구+집배)'!$A$3:$K$37,11,0) -> 93.4 | H5: =G5-C5 -> 0.088320793 | I5: =G5-D5 -> -2.2383263 | J5: =G5-'[1]16 목표배정안'!J5 -> -1.105 | K5: =D5/G5*100 -> 102.39649 | M5: =VLOOKUP($A5,연도별!$A$2:$AH$36,4,0) -> 95.638326 | N5: =VLOOKUP($A5,연도별!$A$2:$AH$36,13,0) -> 93.867507 | O5: =VLOOKUP($A5,연도별!$A$2:$AH$36,22,0) -> 93.101787 | P5: =(M5*0.5+N5*0.3+O5*0.2)*0.99 -> 93.653775 | Q5: =G5-P5 -> -0.25377478
A6: 서대전 | B6: 4급 | C6: =VLOOKUP($A6,연도별!$A$2:$K$36,3,0) -> 92.858965 | D6: =VLOOKUP($A6,연도별!$A$2:$K$36,4,0) -> 95.300453 | E6: =VLOOKUP($A6,연도별!$A$2:$K$36,6,0) -> 93.616139 | F6: =VLOOKUP($A6,연도별!$A$2:$K$36,10,0) -> 96.542708 | G6: =VLOOKUP($A6,'목표(창구+집배)'!$A$3:$K$37,11,0) -> 93.4 | H6: =G6-C6 -> 0.54103465 | I6: =G6-D6 -> -1.9004526 | J6: =G6-'[1]16 목표배정안'!J6 -> -1.039375 | K6: =D6/G6*100 -> 102.03475 | M6: =VLOOKUP($A6,연도별!$A$2:$AH$36,4,0) -> 95.300453 | N6: =VLOOKUP($A6,연도별!$A$2:$AH$36,13,0) -> 93.953118 | O6: =VLOOKUP($A6,연도별!$A$2:$AH$36,22,0) -> 93.058603 | P6: =(M6*0.5+N6*0.3+O6*0.2)*0.99 -> 93.503403 | Q6: =G6-P6 -> -0.10340335
A7: 대전유성 | B7: 4급 | C7: =VLOOKUP($A7,연도별!$A$2:$K$36,3,0) -> 93.534346 | D7: =VLOOKUP($A7,연도별!$A$2:$K$36,4,0) -> 93.924277 | E7: =VLOOKUP($A7,연도별!$A$2:$K$36,6,0) -> 93.608385 | F7: =VLOOKUP($A7,연도별!$A$2:$K$36,10,0) -> 93.653251 | G7: =VLOOKUP($A7,'목표(창구+집배)'!$A$3:$K$37,11,0) -> 93.4 | H7: =G7-C7 -> -0.13434588 | I7: =G7-D7 -> -0.52427727 | J7: =G7-'[1]16 목표배정안'!J7 -> -0.99375 | K7: =D7/G7*100 -> 100.56132 | M7: =VLOOKUP($A7,연도별!$A$2:$AH$36,4,0) -> 93.924277 | N7: =VLOOKUP($A7,연도별!$A$2:$AH$36,13,0) -> 93.66726 | O7: =VLOOKUP($A7,연도별!$A$2:$AH$36,22,0) -> 95.233833 | P7: =(M7*0.5+N7*0.3+O7*0.2)*0.99 -> 93.167992 | Q7: =G7-P7 -> 0.23200774
A8: 대전대덕 | B8: 4급 | C8: =VLOOKUP($A8,연도별!$A$2:$K$36,3,0) -> 92.778212 | D8: =VLOOKUP($A8,연도별!$A$2:$K$36,4,0) -> 95.621019 | E8: =VLOOKUP($A8,연도별!$A$2:$K$36,6,0) -> 94.527128 | F8: =VLOOKUP($A8,연도별!$A$2:$K$36,10,0) -> 96.506597 | G8: =VLOOKUP($A8,'목표(창구+집배)'!$A$3:$K$37,11,0) -> 93.4 | H8: =G8-C8 -> 0.62178833 | I8: =G8-D8 -> -2.2210194 | J8: =G8-'[1]16 목표배정안'!J8 -> -1.0910526 | K8: =D8/G8*100 -> 102.37797 | M8: =VLOOKUP($A8,연도별!$A$2:$AH$36,4,0) -> 95.621019 | N8: =VLOOKUP($A8,연도별!$A$2:$AH$36,13,0) -> 92.778212 | O8: =VLOOKUP($A8,연도별!$A$2:$AH$36,22,0) -> 95.641632 | P8: =(M8*0.5+N8*0.3+O8*0.2)*0.99 -> 93.824577 | Q8: =G8-P8 -> -0.42457671
A9: 대전둔산 | B9: 4급 | C9: =VLOOKUP($A9,연도별!$A$2:$K$36,3,0) -> 92.076079 | D9: =VLOOKUP($A9,연도별!$A$2:$K$36,4,0) -> 95.519869 | E9: =VLOOKUP($A9,연도별!$A$2:$K$36,6,0) -> 93.620039 | F9: =VLOOKUP($A9,연도별!$A$2:$K$36,10,0) -> 96.948106 | G9: =VLOOKUP($A9,'목표(창구+집배)'!$A$3:$K$37,11,0) -> 93.4 | H9: =G9-C9 -> 1.3239207 | I9: =G9-D9 -> -2.119869 | J9: =G9-'[1]16 목표배정안'!J9 -> -0.94333333 | K9: =D9/G9*100 -> 102.26967 | M9: =VLOOKUP($A9,연도별!$A$2:$AH$36,4,0) -> 95.519869 | N9: =VLOOKUP($A9,연도별!$A$2:$AH$36,13,0) -> 92.880807 | O9: =VLOOKUP($A9,연도별!$A$2:$AH$36,22,0) -> 91.865997 | P9: =(M9*0.5+N9*0.3+O9*0.2)*0.99 -> 93.057402 | Q9: =G9-P9 -> 0.34259764
A10: 천안 | B10: 4급 | C10: =VLOOKUP($A10,연도별!$A$2:$K$36,3,0) -> 92.53136 | D10: =VLOOKUP($A10,연도별!$A$2:$K$36,4,0) -> 94.906362 | E10: =VLOOKUP($A10,연도별!$A$2:$K$36,6,0) -> 93.871052 | F10: =VLOOKUP($A10,연도별!$A$2:$K$36,10,0) -> 95.48971 | G10: =VLOOKUP($A10,'목표(창구+집배)'!$A$3:$K$37,11,0) -> 93.7 | H10: =G10-C10 -> 1.1686404 | I10: =G10-D10 -> -1.2063616 | J10: =G10-'[1]16 목표배정안'!J10 -> -1.0195833 | K10: =D10/G10*100 -> 101.28747 | M10: =VLOOKUP($A10,연도별!$A$2:$AH$36,4,0) -> 94.906362 | N10: =VLOOKUP($A10,연도별!$A$2:$AH$36,13,0) -> 93.101755 | O10: =VLOOKUP($A10,연도별!$A$2:$AH$36,22,0) -> 92.288226 | P10: =(M10*0.5+N10*0.3+O10*0.2)*0.99 -> 92.902939 | Q10: =G10-P10 -> 0.79706097
A11: 동천안 | B11: 4급 | C11: =VLOOKUP($A11,연도별!$A$2:$K$36,3,0) -> 93.127835 | D11: =VLOOKUP($A11,연도별!$A$2:$K$36,4,0) -> 95.426797 | E11: =VLOOKUP($A11,연도별!$A$2:$K$36,6,0) -> 94.777071 | F11: =VLOOKUP($A11,연도별!$A$2:$K$36,10,0) -> 95.731976 | G11: =VLOOKUP($A11,'목표(창구+집배)'!$A$3:$K$37,11,0) -> 93.7 | H11: =G11-C11 -> 0.57216472 | I11: =G11-D11 -> -1.7267971 | J11: =G11-'[1]16 목표배정안'!J11 -> -1.09 | K11: =D11/G11*100 -> 101.8429 | M11: =VLOOKUP($A11,연도별!$A$2:$AH$36,4,0) -> 95.426797 | N11: =VLOOKUP($A11,연도별!$A$2:$AH$36,13,0) -> 93.127835 | O11: =VLOOKUP($A11,연도별!$A$2:$AH$36,22,0) -> 94.518859 | P11: =(M11*0.5+N11*0.3+O11*0.2)*0.99 -> 93.609966 | Q11: =G11-P11 -> 0.090034355
A12: 공주 | B12: 4급 | C12: =VLOOKUP($A12,연도별!$A$2:$K$36,3,0) -> 94.07 | D12: =VLOOKUP($A12,연도별!$A$2:$K$36,4,0) -> 95.923016 | E12: =VLOOKUP($A12,연도별!$A$2:$K$36,6,0) -> 95.063278 | F12: =VLOOKUP($A12,연도별!$A$2:$K$36,10,0) -> 96.353598 | G12: =VLOOKUP($A12,'목표(창구+집배)'!$A$3:$K$37,11,0) -> 94.3 | H12: =G12-C12 -> 0.23 | I12: =G12-D12 -> -1.6230164 | J12: =G12-'[1]16 목표배정안'!J12 -> -1.234 | K12: =D12/G12*100 -> 101.72112 | M12: =VLOOKUP($A12,연도별!$A$2:$AH$36,4,0) -> 95.923016 | N12: =VLOOKUP($A12,연도별!$A$2:$AH$36,13,0) -> 94.261917 | O12: =VLOOKUP($A12,연도별!$A$2:$AH$36,22,0) -> 95.090192 | P12: =(M12*0.5+N12*0.3+O12*0.2)*0.99 -> 94.30554 | Q12: =G12-P12 -> -0.0055404293
A13: 아산 | B13: 4급 | C13: =VLOOKUP($A13,연도별!$A$2:$K$36,3,0) -> 93.545055 | D13: =VLOOKUP($A13,연도별!$A$2:$K$36,4,0) -> 96.344325 | E13: =VLOOKUP($A13,연도별!$A$2:$K$36,6,0) -> 94.86094 | F13: =VLOOKUP($A13,연도별!$A$2:$K$36,10,0) -> 97.485006 | G13: =VLOOKUP($A13,'목표(창구+집배)'!$A$3:$K$37,11,0) -> 93.7 | H13: =G13-C13 -> 0.15494532 | I13: =G13-D13 -> -2.6443247 | J13: =G13-'[1]16 목표배정안'!J13 -> -1.3478947 | K13: =D13/G13*100 -> 102.82212 | M13: =VLOOKUP($A13,연도별!$A$2:$AH$36,4,0) -> 96.344325 | N13: =VLOOKUP($A13,연도별!$A$2:$AH$36,13,0) -> 94.062324 | O13: =VLOOKUP($A13,연도별!$A$2:$AH$36,22,0) -> 94.451998 | P13: =(M13*0.5+N13*0.3+O13*0.2)*0.99 -> 94.328446 | Q13: =G13-P13 -> -0.62844644
A14: 논산 | B14: 4급 | C14: =VLOOKUP($A14,연도별!$A$2:$K$36,3,0) -> 94.058535 | D14: =VLOOKUP($A14,연도별!$A$2:$K$36,4,0) -> 95.783561 | E14: =VLOOKUP($A14,연도별!$A$2:$K$36,6,0) -> 94.687889 | F14: =VLOOKUP($A14,연도별!$A$2:$K$36,10,0) -> 96.803819 | G14: =VLOOKUP($A14,'목표(창구+집배)'!$A$3:$K$37,11,0) -> 94.3 | H14: =G14-C14 -> 0.24146457 | I14: =G14-D14 -> -1.4835615 | J14: =G14-'[1]16 목표배정안'!J14 -> -1.2895652 | K14: =D14/G14*100 -> 101.57324 | M14: =VLOOKUP($A14,연도별!$A$2:$AH$36,4,0) -> 95.783561 | N14: =VLOOKUP($A14,연도별!$A$2:$AH$36,13,0) -> 94.834908 | O14: =VLOOKUP($A14,연도별!$A$2:$AH$36,22,0) -> 93.687798 | P14: =(M14*0.5+N14*0.3+O14*0.2)*0.99 -> 94.129015 | Q14: =G14-P14 -> 0.17098519
A15: 청주 | B15: 4급 | C15: =VLOOKUP($A15,연도별!$A$2:$K$36,3,0) -> 93.947698 | D15: =VLOOKUP($A15,연도별!$A$2:$K$36,4,0) -> 94.407836 | E15: =VLOOKUP($A15,연도별!$A$2:$K$36,6,0) -> 94.161831 | F15: =VLOOKUP($A15,연도별!$A$2:$K$36,10,0) -> 94.191509 | G15: =VLOOKUP($A15,'목표(창구+집배)'!$A$3:$K$37,11,0) -> 93.7 | H15: =G15-C15 -> -0.24769836 | I15: =G15-D15 -> -0.70783639 | J15: =G15-'[1]16 목표배정안'!J15 -> -1.0347619 | K15: =D15/G15*100 -> 100.75543 | M15: =VLOOKUP($A15,연도별!$A$2:$AH$36,4,0) -> 94.407836 | N15: =VLOOKUP($A15,연도별!$A$2:$AH$36,13,0) -> 94.291448 | O15: =VLOOKUP($A15,연도별!$A$2:$AH$36,22,0) -> 94.567843 | P15: =(M15*0.5+N15*0.3+O15*0.2)*0.99 -> 93.460872 | Q15: =G15-P15 -> 0.23912799
A16: 서청주 | B16: 4급 | C16: =VLOOKUP($A16,연도별!$A$2:$K$36,3,0) -> 93.366279 | D16: =VLOOKUP($A16,연도별!$A$2:$K$36,4,0) -> 94.464362 | E16: =VLOOKUP($A16,연도별!$A$2:$K$36,6,0) -> 93.899841 | F16: =VLOOKUP($A16,연도별!$A$2:$K$36,10,0) -> 94.688289 | G16: =VLOOKUP($A16,'목표(창구+집배)'!$A$3:$K$37,11,0) -> 93.7 | H16: =G16-C16 -> 0.33372086 | I16: =G16-D16 -> -0.76436172 | J16: =G16-'[1]16 목표배정안'!J16 -> -0.86708333 | K16: =D16/G16*100 -> 100.81575 | M16: =VLOOKUP($A16,연도별!$A$2:$AH$36,4,0) -> 94.464362 | N16: =VLOOKUP($A16,연도별!$A$2:$AH$36,13,0) -> 94.164909 | O16: =VLOOKUP($A16,연도별!$A$2:$AH$36,22,0) -> 93.164976 | P16: =(M16*0.5+N16*0.3+O16*0.2)*0.99 -> 93.173502 | Q16: =G16-P16 -> 0.52649776
... A36: 보은 | B36: 5급 | C36: =VLOOKUP($A36,연도별!$A$2:$K$36,3,0) -> 95.701518 | D36: =VLOOKUP($A36,연도별!$A$2:$K$36,4,0) -> 96.999133 | E36: =VLOOKUP($A36,연도별!$A$2:$K$36,6,0) -> 96.146259 | F36: =VLOOKUP($A36,연도별!$A$2:$K$36,10,0) -> 97.799285 | G36: =VLOOKUP($A36,'목표(창구+집배)'!$A$3:$K$37,11,0) -> 95.2 | H36: =G36-C36 -> -0.50151786 | I36: =G36-D36 -> -1.7991334 | J36: =G36-'[1]16 목표배정안'!J36 -> -1.0405556 | K36: =D36/G36*100 -> 101.88985 | M36: =VLOOKUP($A36,연도별!$A$2:$AH$36,4,0) -> 96.999133 | N36: =VLOOKUP($A36,연도별!$A$2:$AH$36,13,0) -> 95.752606 | O36: =VLOOKUP($A36,연도별!$A$2:$AH$36,22,0) -> 96.423076 | P36: =(M36*0.5+N36*0.3+O36*0.2)*0.99 -> 95.544864 | Q36: =G36-P36 -> -0.34486387
A37: 평균 | C37: =AVERAGE(C5:C36) -> 94.291125 | D37: =AVERAGE(D5:D36) -> 96.019563 | E37: =AVERAGE(E5:E36) -> 95.210871 | F37: =AVERAGE(F5:F36) -> 96.580972 | G37: =AVERAGE(G5:G36) -> 94.409375 | H37: =AVERAGE(H5:H36) -> 0.11825049 | I37: =AVERAGE(I5:I36) -> -1.6101879 | J37: =AVERAGE(J5:J36) -> -1.0444063 | K37: =D37/G37*100 -> 101.70554 | M37: =AVERAGE(M5:M36) -> 96.019563 | N37: =AVERAGE(N5:N36) -> 94.82402 | O37: =AVERAGE(O5:O36) -> 94.714949 | P37: =AVERAGE(P5:P36) -> 94.445977 | Q37: =G37-P37 -> -0.036602375
A39: <표준편차>
A40: 구분 | B40: 가중실적 | C40: 최종(안)
A41: 4급관서 | B41: =STDEV(P5:P20) -> 0.53102539 | C41: =STDEV(G5:G20) -> 0.375
A42: 5급관서 | B42: =STDEV(P21:P36) -> 0.71699041 | C42: =STDEV(G21:G36) -> 0.32964628

Sheet 목표(창구)
A1: 2016년 우정서비스 고객만족도(KPCSI) 목표배정(안) - <창구종합>
A2: 1 | B2: 2 | C2: 3 | D2: 4 | E2: 5 | F2: 6 | G2: 7 | H2: 8 | I2: 9 | J2: 10 | K2: 11 | L2: 12 | M2: 13 | N2: 14 | O2: 15 | P2: 16 | Q2: 17 | R2: 18 | S2: 19 | T2: 20 | U2: 21 | V2: 22 | W2: 23 | X2: 24 | Y2: 25 | Z2: 26 | AA2: 27 | AB2: 28
A3: 구분 | B3: 관서급/행정구역별 KPCSI | M3: 표본수 | R3: 목표배정 검토 및 비교자료
B4: 총괄국 | D4: 우체국 | I4: 취급국 | L4: 합계 | M4: 총괄국 | O4: 우체국 | P4: 취급국 | Q4: 합계 | R4: 최근3년 창구종합 KPCSI ① | V4: 환산 KPCSI(관서급/행정구역/표본비율 반영) ②
D5: 일반국 | F5: 별정국 | H5: 소계 | R5: 2015년 | S5: 2014년 | T5: 2013년 | U5: 가중실적 (5:3:2) | V5: 15년 | W5: 14년 | X5: 13년 | Y5: 가중실적 (5:3:2) | Z5: 순위 | AA5: 그룹 | AB5: 2016년 창구목표 (안)
B6: 시 | C6: 군 | D6: 동 | E6: 읍/면 | F6: 동 | G6: 읍/면 | I6: 동 | J6: 읍/면 | K6: 소계 | M6: 시 | N6: 군
A7: 2015년 | B7: =VLOOKUP($A$7,[2]정리!$A$4:$N$4,8,FALSE) -> 94.178585 | C7: =VLOOKUP($A$7,[2]정리!$A$4:$N$4,9,FALSE) -> 95.572255 | D7: =VLOOKUP($A$7,[2]정리!$A$4:$N$4,5,FALSE) -> 93.760904 | E7: =VLOOKUP($A$7,[2]정리!$A$4:$N$4,6,FALSE) -> 95.189204 | F7: =VLOOKUP($A$7,[2]정리!$A$4:$N$4,2,FALSE) -> 94.779167 | G7: =VLOOKUP($A$7,[2]정리!$A$4:$N$4,3,FALSE) -> 96.607927 | H7: 95.3 | I7: =VLOOKUP($A$7,[2]정리!$A$4:$N$4,11,FALSE) -> 94.521656 | J7: =VLOOKUP($A$7,[2]정리!$A$4:$N$4,12,FALSE) -> 95.21028 | K7: =VLOOKUP($A$7,[2]정리!$A$4:$N$4,13,FALSE) -> 94.696675 | L7: =VLOOKUP($A$7,[2]정리!$A$4:$N$4,14,FALSE) -> 95.04131 | M7: =SUM(M11:M42) -> 1144 | N7: =SUM(N11:N42) -> 616 | O7: =SUM(O11:O42) -> 2712 | P7: =SUM(P11:P42) -> 412 | Q7: =M7+N7+O7+P7 -> 4884 | R7: =L7 -> 95.04131 | S7: =L8 -> 94.541338 | T7: =L9 -> 94.462245 | U7: =R7*0.5+S7*0.3+T7*0.2 -> 94.775505 | V7: =(B7*M7/Q7+C7*N7/Q7+(D7*D10+E7*E10+F7*F10+G7*G10)*O7/Q7/H10+(I10*I7+J10*J7)*P7/Q7/K10) -> 95.033202 | W7: =B8*M10+C8*N10+(D8*D10+E8*E10+F8*F10+G8*G10)*O10/H10+(I8*I10+J8*J10)*P10/K10 -> 94.536467 | X7: =B9*M10+C9*N10+(D9*D10+E9*E10+F9*F10+G9*G10)*O10/H10+(I9*I10+J9*J10)*P10/K10 -> 94.534971 | Y7: =V7*0.5+W7*0.3+X7*0.2 -> 94.784535 | AB7: =ROUNDUP(AVERAGE(AB11:AB42),1) -> 95
A8: 2014년 | B8: =VLOOKUP($A$8,[3]정리!$A$3:$N$3,2,FALSE) -> 93.911342 | C8: =VLOOKUP($A$8,[3]정리!$A$3:$N$3,3,FALSE) -> 95.011189 | D8: =VLOOKUP($A$8,[3]정리!$A$3:$N$3,5,FALSE) -> 92.744115 | E8: =VLOOKUP($A$8,[3]정리!$A$3:$N$3,6,FALSE) -> 94.957356 | F8: =VLOOKUP($A$8,[3]정리!$A$3:$N$3,8,FALSE) -> 94.03125 | G8: =VLOOKUP($A$8,[3]정리!$A$3:$N$3,9,FALSE) -> 96.422445 | H8: 94.85 | I8: =VLOOKUP($A$8,[3]정리!$A$3:$N$3,11,FALSE) -> 93.139635 | J8: =VLOOKUP($A$8,[3]정리!$A$3:$N$3,12,FALSE) -> 93.799818 | K8: =VLOOKUP($A$8,[3]정리!$A$3:$N$3,13,FALSE) -> 93.305057 | L8: =VLOOKUP($A$8,[3]정리!$A$3:$N$3,14,FALSE) -> 94.541338 | M8: 1144 | N8: 616 | O8: 2744 | P8: 412 | Q8: 4916
A9: 2013년 | B9: =VLOOKUP($A$9,[4]정리!$A$4:$N$4,8,FALSE) -> 93.362207 | C9: =VLOOKUP($A$9,[4]정리!$A$4:$N$4,9,FALSE) -> 94.585307 | D9: =VLOOKUP($A$9,[4]정리!$A$4:$N$4,5,FALSE) -> 93.009291 | E9: =VLOOKUP($A$9,[4]정리!$A$4:$N$4,6,FALSE) -> 95.049561 | F9: =VLOOKUP($A$9,[4]정리!$A$4:$N$4,2,FALSE) -> 94.532778 | G9: =VLOOKUP($A$9,[4]정리!$A$4:$N$4,3,FALSE) -> 96.275565 | H9: 94.82 | I9: =VLOOKUP($A$9,[4]정리!$A$4:$N$4,11,FALSE) -> 94.489153 | J9: =VLOOKUP($A$9,[4]정리!$A$4:$N$4,12,FALSE) -> 96.749524 | K9: =VLOOKUP($A$9,[4]정리!$A$4:$N$4,13,FALSE) -> 95.054246 | L9: =VLOOKUP($A$9,[4]정리!$A$4:$N$4,14,FALSE) -> 94.462245 | M9: 1144 | N9: 616 | O9: 2744 | P9: 412 | Q9: 4916
A10: 관서수 | B10: =SUM(B11:B42) -> 18 | C10: =SUM(C11:C42) -> 14 | D10: =SUM(D11:D42) -> 95 | E10: =SUM(E11:E42) -> 109 | F10: =SUM(F11:F42) -> 6 | G10: =SUM(G11:G42) -> 129 | H10: =D10+E10+F10+G10 -> 339 | I10: =SUM(I11:I42) -> 76 | J10: =SUM(J11:J42) -> 27 | K10: =I10+J10 -> 103 | L10: =+B10+C10+H10+K10 -> 474 | M10: =M7/$Q$7 -> 0.23423423 | N10: =N7/$Q$7 -> 0.12612613 | O10: =O7/$Q$7 -> 0.55528256 | P10: =P7/$Q$7 -> 0.084357084 | Q10: =Q7/$Q$7 -> 1
A11: 대전둔산 | B11: 1 | C11: 0 | D11: 16 | E11: 0 | F11: 1 | G11: 0 | H11: =D11+E11+F11+G11 -> 17 | I11: 9 | J11: 0 | K11: =I11+J11 -> 9 | L11: =+B11+C11+H11+K11 -> 27 | M11: =B11*6*11 -> 66 | N11: =C11*4*11 -> 0 | O11: =SUM(D11:G11)*8 -> 136 | P11: =SUM(I11:J11)*4 -> 36 | Q11: =M11+N11+O11+P11 -> 238 | R11: 93.620039 | S11: 92.226064 | T11: 91.622326 | U11: =R11*0.5+S11*0.3+T11*0.2 -> 92.802304 | V11: =(B11*$B$7)*M11/Q11+(C11*$C$7)*N11/Q11+(D11*$D$7+E11*$E$7+F11*$F$7+G11*$G$7)*O11/Q11/H11+(I11*$I$7+J11*$J$7)*P11/Q11/K11 -> 94.026031 | W11: =B11*$B$8*M11/Q11+C11*$C$8*N11/Q11+(D11*$D$8+E11*$E$8+F11*$F$8+G11*$G$8)*O11/Q11/H11+(I11*$I$8+J11*$J$8)*P11/Q11/K11 -> 93.170892 | X11: =B11*$B$9*M11/Q11+C11*$C$9*N11/Q11+(D11*$D$9+E11*$E$9+F11*$F$9+G11*$G$9)*O11/Q11/H11+(I11*$I$9+J11*$J$9)*P11/Q11/K11 -> 93.382213 | Y11: =V11*0.5+W11*0.3+X11*0.2 -> 93.640725 | Z11: =RANK(Y11,$Y$11:$Y$42) -> 32 | AA11: A | AB11: =ROUNDUP(AVERAGE($Y$11:$Y$15),1) -> 93.8
A12: 서대전 | B12: 1 | C12: 0 | D12: 8 | E12: 0 | F12: 0 | G12: 0 | H12: =D12+E12+F12+G12 -> 8 | I12: 7 | J12: 0 | K12: =I12+J12 -> 7 | L12: =+B12+C12+H12+K12 -> 16 | M12: =B12*6*11 -> 66 | N12: =C12*4*11 -> 0 | O12: =SUM(D12:G12)*8 -> 64 | P12: =SUM(I12:J12)*4 -> 28 | Q12: =M12+N12+O12+P12 -> 158 | R12: 93.616139 | S12: 93.07468 | T12: 92.754363 | U12: =R12*0.5+S12*0.3+T12*0.2 -> 93.281346 | V12: =(B12*$B$7)*M12/Q12+(C12*$C$7)*N12/Q12+(D12*$D$7+E12*$E$7+F12*$F$7+G12*$G$7)*O12/Q12/H12+(I12*$I$7+J12*$J$7)*P12/Q12/K12 -> 94.070195 | W12: =B12*$B$8*M12/Q12+C12*$C$8*N12/Q12+(D12*$D$8+E12*$E$8+F12*$F$8+G12*$G$8)*O12/Q12/H12+(I12*$I$8+J12*$J$8)*P12/Q12/K12 -> 93.301783 | X12: =B12*$B$9*M12/Q12+C12*$C$9*N12/Q12+(D12*$D$9+E12*$E$9+F12*$F$9+G12*$G$9)*O12/Q12/H12+(I12*$I$9+J12*$J$9)*P12/Q12/K12 -> 93.418966 | Y12: =V12*0.5+W12*0.3+X12*0.2 -> 93.709426 | Z12: =RANK(Y12,$Y$11:$Y$42) -> 31 | AB12: =ROUNDUP(AVERAGE($Y$11:$Y$15),1) -> 93.8
A13: 대전대덕 | B13: 1 | C13: 0 | D13: 7 | E13: 0 | F13: 0 | G13: 0 | H13: =D13+E13+F13+G13 -> 7 | I13: 11 | J13: 0 | K13: =I13+J13 -> 11 | L13: =+B13+C13+H13+K13 -> 19 | M13: =B13*6*11 -> 66 | N13: =C13*4*11 -> 0 | O13: =SUM(D13:G13)*8 -> 56 | P13: =SUM(I13:J13)*4 -> 44 | Q13: =M13+N13+O13+P13 -> 166 | R13: 94.527128 | S13: 93.960515 | T13: 92.977914 | U13: =R13*0.5+S13*0.3+T13*0.2 -> 94.047301 | V13: =(B13*$B$7)*M13/Q13+(C13*$C$7)*N13/Q13+(D13*$D$7+E13*$E$7+F13*$F$7+G13*$G$7)*O13/Q13/H13+(I13*$I$7+J13*$J$7)*P13/Q13/K13 -> 94.128615 | W13: =B13*$B$8*M13/Q13+C13*$C$8*N13/Q13+(D13*$D$8+E13*$E$8+F13*$F$8+G13*$G$8)*O13/Q13/H13+(I13*$I$8+J13*$J$8)*P13/Q13/K13 -> 93.31303 | X13: =B13*$B$9*M13/Q13+C13*$C$9*N13/Q13+(D13*$D$9+E13*$E$9+F13*$F$9+G13*$G$9)*O13/Q13/H13+(I13*$I$9+J13*$J$9)*P13/Q13/K13 -> 93.54186 | Y13: =V13*0.5+W13*0.3+X13*0.2 -> 93.766589 | Z13: =RANK(Y13,$Y$11:$Y$42) -> 30 | AB13: =ROUNDUP(AVERAGE($Y$11:$Y$15),1) -> 93.8
A14: 대전유성 | B14: 1 | C14: 0 | D14: 8 | E14: 0 | F14: 3 | G14: 0 | H14: =D14+E14+F14+G14 -> 11 | I14: 4 | J14: 0 | K14: =I14+J14 -> 4 | L14: =+B14+C14+H14+K14 -> 16 | M14: =B14*6*11 -> 66 | N14: =C14*4*11 -> 0 | O14: =SUM(D14:G14)*8 -> 88 | P14: =SUM(I14:J14)*4 -> 16 | Q14: =M14+N14+O14+P14 -> 170 | R14: 93.608385 | S14: 94.10484 | T14: 95.089142 | U14: =R14*0.5+S14*0.3+T14*0.2 -> 94.053473 | V14: =(B14*$B$7)*M14/Q14+(C14*$C$7)*N14/Q14+(D14*$D$7+E14*$E$7+F14*$F$7+G14*$G$7)*O14/Q14/H14+(I14*$I$7+J14*$J$7)*P14/Q14/K14 -> 94.138417 | W14: =B14*$B$8*M14/Q14+C14*$C$8*N14/Q14+(D14*$D$8+E14*$E$8+F14*$F$8+G14*$G$8)*O14/Q14/H14+(I14*$I$8+J14*$J$8)*P14/Q14/K14 -> 93.416213 | X14: =B14*$B$9*M14/Q14+C14*$C$9*N14/Q14+(D14*$D$9+E14*$E$9+F14*$F$9+G14*$G$9)*O14/Q14/H14+(I14*$I$9+J14*$J$9)*P14/Q14/K14 -> 93.500667 | Y14: =V14*0.5+W14*0.3+X14*0.2 -> 93.794206 | Z14: =RANK(Y14,$Y$11:$Y$42) -> 29 | AB14: =ROUNDUP(AVERAGE($Y$11:$Y$15),1) -> 93.8
A15: 대전 | B15: 1 | C15: 0 | D15: 7 | E15: 0 | F15: 1 | G15: 0 | H15: =D15+E15+F15+G15 -> 8 | I15: 11 | J15: 0 | K15: =I15+J15 -> 11 | L15: =+B15+C15+H15+K15 -> 20 | M15: =B15*6*11 -> 66 | N15: =C15*4*11 -> 0 | O15: =SUM(D15:G15)*8 -> 64 | P15: =SUM(I15:J15)*4 -> 44 | Q15: =M15+N15+O15+P15 -> 174 | R15: 94.819162 | S15: 92.556869 | T15: 94.263374 | U15: =R15*0.5+S15*0.3+T15*0.2 -> 94.029316 | V15: =(B15*$B$7)*M15/Q15+(C15*$C$7)*N15/Q15+(D15*$D$7+E15*$E$7+F15*$F$7+G15*$G$7)*O15/Q15/H15+(I15*$I$7+J15*$J$7)*P15/Q15/K15 -> 94.158526 | W15: =B15*$B$8*M15/Q15+C15*$C$8*N15/Q15+(D15*$D$8+E15*$E$8+F15*$F$8+G15*$G$8)*O15/Q15/H15+(I15*$I$8+J15*$J$8)*P15/Q15/K15 -> 93.346052 | X15: =B15*$B$9*M15/Q15+C15*$C$9*N15/Q15+(D15*$D$9+E15*$E$9+F15*$F$9+G15*$G$9)*O15/Q15/H15+(I15*$I$9+J15*$J$9)*P15/Q15/K15 -> 93.587419 | Y15: =V15*0.5+W15*0.3+X15*0.2 -> 93.800562 | Z15: =RANK(Y15,$Y$11:$Y$42) -> 28 | AB15: =ROUNDUP(AVERAGE($Y$11:$Y$15),1) -> 93.8
A16: 서청주 | B16: 1 | C16: 0 | D16: 11 | E16: 2 | F16: 1 | G16: 3 | H16: =D16+E16+F16+G16 -> 17 | I16: 5 | J16: 1 | K16: =I16+J16 -> 6 | L16: =+B16+C16+H16+K16 -> 24 | M16: =B16*6*11 -> 66 | N16: =C16*4*11 -> 0 | O16: =SUM(D16:G16)*8 -> 136 | P16: =SUM(I16:J16)*4 -> 24 | Q16: =M16+N16+O16+P16 -> 226 | R16: 93.899841 | S16: 93.347098 | T16: 92.996413 | U16: =R16*0.5+S16*0.3+T16*0.2 -> 93.553333 | V16: =(B16*$B$7)*M16/Q16+(C16*$C$7)*N16/Q16+(D16*$D$7+E16*$E$7+F16*$F$7+G16*$G$7)*O16/Q16/H16+(I16*$I$7+J16*$J$7)*P16/Q16/K16 -> 94.41536 | W16: =B16*$B$8*M16/Q16+C16*$C$8*N16/Q16+(D16*$D$8+E16*$E$8+F16*$F$8+G16*$G$8)*O16/Q16/H16+(I16*$I$8+J16*$J$8)*P16/Q16/K16 -> 93.731545 | X16: =B16*$B$9*M16/Q16+C16*$C$9*N16/Q16+(D16*$D$9+E16*$E$9+F16*$F$9+G16*$G$9)*O16/Q16/H16+(I16*$I$9+J16*$J$9)*P16/Q16/K16 -> 93.854749 | Y16: =V16*0.5+W16*0.3+X16*0.2 -> 94.098093 | Z16: =RANK(Y16,$Y$11:$Y$42) -> 27 | AA16: B | AB16: =ROUNDUP(AVERAGE($Y$16:$Y$21),1) -> 94.4
A17: 제천 | B17: 1 | C17: 0 | D17: 4 | E17: 5 | F17: 0 | G17: 1 | H17: =D17+E17+F17+G17 -> 10 | I17: 4 | J17: 0 | K17: =I17+J17 -> 4 | L17: =+B17+C17+H17+K17 -> 15 | M17: =B17*6*11 -> 66 | N17: =C17*4*11 -> 0 | O17: =SUM(D17:G17)*8 -> 80 | P17: =SUM(I17:J17)*4 -> 16 | Q17: =M17+N17+O17+P17 -> 162 | R17: 95.066668 | S17: 94.664013 | T17: 93.94191 | U17: =R17*0.5+S17*0.3+T17*0.2 -> 94.72092 | V17: =(B17*$B$7)*M17/Q17+(C17*$C$7)*N17/Q17+(D17*$D$7+E17*$E$7+F17*$F$7+G17*$G$7)*O17/Q17/H17+(I17*$I$7+J17*$J$7)*P17/Q17/K17 -> 94.499467 | W17: =B17*$B$8*M17/Q17+C17*$C$8*N17/Q17+(D17*$D$8+E17*$E$8+F17*$F$8+G17*$G$8)*O17/Q17/H17+(I17*$I$8+J17*$J$8)*P17/Q17/K17 -> 93.986841 | X17: =B17*$B$9*M17/Q17+C17*$C$9*N17/Q17+(D17*$D$9+E17*$E$9+F17*$F$9+G17*$G$9)*O17/Q17/H17+(I17*$I$9+J17*$J$9)*P17/Q17/K17 -> 93.964299 | Y17: =V17*0.5+W17*0.3+X17*0.2 -> 94.238645 | Z17: =RANK(Y17,$Y$11:$Y$42) -> 26 | AB17: =ROUNDUP(AVERAGE($Y$16:$Y$21),1) -> 94.4
A18: 청주 | B18: 1 | C18: 0 | D18: 7 | E18: 4 | F18: 0 | G18: 3 | H18: =D18+E18+F18+G18 -> 14 | I18: 5 | J18: 1 | K18: =I18+J18 -> 6 | L18: =+B18+C18+H18+K18 -> 21 | M18: =B18*6*11 -> 66 | N18: =C18*4*11 -> 0 | O18: =SUM(D18:G18)*8 -> 112 | P18: =SUM(I18:J18)*4 -> 24 | Q18: =M18+N18+O18+P18 -> 202 | R18: 94.161831 | S18: 94.96481 | T18: 94.986506 | U18: =R18*0.5+S18*0.3+T18*0.2 -> 94.56766 | V18: =(B18*$B$7)*M18/Q18+(C18*$C$7)*N18/Q18+(D18*$D$7+E18*$E$7+F18*$F$7+G18*$G$7)*O18/Q18/H18+(I18*$I$7+J18*$J$7)*P18/Q18/K18 -> 94.565922 | W18: =B18*$B$8*M18/Q18+C18*$C$8*N18/Q18+(D18*$D$8+E18*$E$8+F18*$F$8+G18*$G$8)*O18/Q18/H18+(I18*$I$8+J18*$J$8)*P18/Q18/K18 -> 93.973194 | X18: =B18*$B$9*M18/Q18+C18*$C$9*N18/Q18+(D18*$D$9+E18*$E$9+F18*$F$9+G18*$G$9)*O18/Q18/H18+(I18*$I$9+J18*$J$9)*P18/Q18/K18 -> 94.056468 | Y18: =V18*0.5+W18*0.3+X18*0.2 -> 94.286213 | Z18: =RANK(Y18,$Y$11:$Y$42) -> 25 | AB18: =ROUNDUP(AVERAGE($Y$16:$Y$21),1) -> 94.4
A19: 천안 | B19: 1 | C19: 0 | D19: 3 | E19: 2 | F19: 0 | G19: 2 | H19: =D19+E19+F19+G19 -> 7 | I19: 3 | J19: 1 | K19: =I19+J19 -> 4 | L19: =+B19+C19+H19+K19 -> 12 | M19: =B19*6*11 -> 66 | N19: =C19*4*11 -> 0 | O19: =SUM(D19:G19)*8 -> 56 | P19: =SUM(I19:J19)*4 -> 16 | Q19: =M19+N19+O19+P19 -> 138 | R19: 93.871052 | S19: 91.719229 | T19: 91.604614 | U19: =R19*0.5+S19*0.3+T19*0.2 -> 92.772217 | V19: =(B19*$B$7)*M19/Q19+(C19*$C$7)*N19/Q19+(D19*$D$7+E19*$E$7+F19*$F$7+G19*$G$7)*O19/Q19/H19+(I19*$I$7+J19*$J$7)*P19/Q19/K19 -> 94.564517 | W19: =B19*$B$8*M19/Q19+C19*$C$8*N19/Q19+(D19*$D$8+E19*$E$8+F19*$F$8+G19*$G$8)*O19/Q19/H19+(I19*$I$8+J19*$J$8)*P19/Q19/K19 -> 94.050428 | X19: =B19*$B$9*M19/Q19+C19*$C$9*N19/Q19+(D19*$D$9+E19*$E$9+F19*$F$9+G19*$G$9)*O19/Q19/H19+(I19*$I$9+J19*$J$9)*P19/Q19/K19 -> 94.030424 | Y19: =V19*0.5+W19*0.3+X19*0.2 -> 94.303472 | Z19: =RANK(Y19,$Y$11:$Y$42) -> 24 | AB19: =ROUNDUP(AVERAGE($Y$16:$Y$21),1) -> 94.4
A20: 세종 | B20: 1 | C20: 0 | D20: 4 | E20: 4 | F20: 0 | G20: 3 | H20: =D20+E20+F20+G20 -> 11 | I20: 0 | J20: 2 | K20: =I20+J20 -> 2 | L20: =+B20+C20+H20+K20 -> 14 | M20: =B20*6*11 -> 66 | N20: =C20*4*11 -> 0 | O20: =SUM(D20:G20)*8 -> 88 | P20: =SUM(I20:J20)*4 -> 8 | Q20: =M20+N20+O20+P20 -> 162 | R20: 94.394281 | S20: 93.597258 | T20: 93.794578 | U20: =R20*0.5+S20*0.3+T20*0.2 -> 94.035234 | V20: =(B20*$B$7)*M20/Q20+(C20*$C$7)*N20/Q20+(D20*$D$7+E20*$E$7+F20*$F$7+G20*$G$7)*O20/Q20/H20+(I20*$I$7+J20*$J$7)*P20/Q20/K20 -> 94.706559 | W20: =B20*$B$8*M20/Q20+C20*$C$8*N20/Q20+(D20*$D$8+E20*$E$8+F20*$F$8+G20*$G$8)*O20/Q20/H20+(I20*$I$8+J20*$J$8)*P20/Q20/K20 -> 94.253907 | X20: =B20*$B$9*M20/Q20+C20*$C$9*N20/Q20+(D20*$D$9+E20*$E$9+F20*$F$9+G20*$G$9)*O20/Q20/H20+(I20*$I$9+J20*$J$9)*P20/Q20/K20 -> 94.224683 | Y20: =V20*0.5+W20*0.3+X20*0.2 -> 94.474388 | Z20: =RANK(Y20,$Y$11:$Y$42) -> 23 | AB20: =ROUNDUP(AVERAGE($Y$16:$Y$21),1) -> 94.4
A21: 동천안 | B21: 1 | C21: 0 | D21: 5 | E21: 1 | F21: 0 | G21: 5 | H21: =D21+E21+F21+G21 -> 11 | I21: 5 | J21: 2 | K21: =I21+J21 -> 7 | L21: =+B21+C21+H21+K21 -> 19 | M21: =B21*6*11 -> 66 | N21: =C21*4*11 -> 0 | O21: =SUM(D21:G21)*8 -> 88 | P21: =SUM(I21:J21)*4 -> 28 | Q21: =M21+N21+O21+P21 -> 182 | R21: 94.777071 | S21: 93.574372 | T21: 93.3146 | U21: =R21*0.5+S21*0.3+T21*0.2 -> 94.123767 | V21: =(B21*$B$7)*M21/Q21+(C21*$C$7)*N21/Q21+(D21*$D$7+E21*$E$7+F21*$F$7+G21*$G$7)*O21/Q21/H21+(I21*$I$7+J21*$J$7)*P21/Q21/K21 -> 94.74818 | W21: =B21*$B$8*M21/Q21+C21*$C$8*N21/Q21+(D21*$D$8+E21*$E$8+F21*$F$8+G21*$G$8)*O21/Q21/H21+(I21*$I$8+J21*$J$8)*P21/Q21/K21 -> 94.162973 | X21: =B21*$B$9*M21/Q21+C21*$C$9*N21/Q21+(D21*$D$9+E21*$E$9+F21*$F$9+G21*$G$9)*O21/Q21/H21+(I21*$I$9+J21*$J$9)*P21/Q21/K21 -> 94.271844 | Y21: =V21*0.5+W21*0.3+X21*0.2 -> 94.477351 | Z21: =RANK(Y21,$Y$11:$Y$42) -> 22 | AB21: =ROUNDUP(AVERAGE($Y$16:$Y$21),1) -> 94.4
A22: 서산 | B22: 1 | C22: 0 | D22: 2 | E22: 5 | F22: 0 | G22: 5 | H22: =D22+E22+F22+G22 -> 12 | I22: 2 | J22: 0 | K22: =I22+J22 -> 2 | L22: =+B22+C22+H22+K22 -> 15 | M22: =B22*6*11 -> 66 | N22: =C22*4*11 -> 0 | O22: =SUM(D22:G22)*8 -> 96 | P22: =SUM(I22:J22)*4 -> 8 | Q22: =M22+N22+O22+P22 -> 170 | R22: 94.725768 | S22: 95.808518 | T22: 94.379194 | U22: =R22*0.5+S22*0.3+T22*0.2 -> 94.981278 | V22: =(B22*$B$7)*M22/Q22+(C22*$C$7)*N22/Q22+(D22*$D$7+E22*$E$7+F22*$F$7+G22*$G$7)*O22/Q22/H22+(I22*$I$7+J22*$J$7)*P22/Q22/K22 -> 94.964821 | W22: =B22*$B$8*M22/Q22+C22*$C$8*N22/Q22+(D22*$D$8+E22*$E$8+F22*$F$8+G22*$G$8)*O22/Q22/H22+(I22*$I$8+J22*$J$8)*P22/Q22/K22 -> 94.602139 | X22: =B22*$B$9*M22/Q22+C22*$C$9*N22/Q22+(D22*$D$9+E22*$E$9+F22*$F$9+G22*$G$9)*O22/Q22/H22+(I22*$I$9+J22*$J$9)*P22/Q22/K22 -> 94.464544 | Y22: =V22*0.5+W22*0.3+X22*0.2 -> 94.755961 | Z22: =RANK(Y22,$Y$11:$Y$42) -> 21 | AA22: C | AB22: =ROUNDUP(AVERAGE($Y$22:$Y$28),1) -> 94.9
A23: 공주 | B23: 1 | C23: 0 | D23: 1 | E23: 6 | F23: 0 | G23: 4 | H23: =D23+E23+F23+G23 -> 11 | I23: 2 | J23: 1 | K23: =I23+J23 -> 3 | L23: =+B23+C23+H23+K23 -> 15 | M23: =B23*6*11 -> 66 | N23: =C23*4*11 -> 0 | O23: =SUM(D23:G23)*8 -> 88 | P23: =SUM(I23:J23)*4 -> 12 | Q23: =M23+N23+O23+P23 -> 166 | R23: 95.063278 | S23: 94.289347 | T23: 93.665304 | U23: =R23*0.5+S23*0.3+T23*0.2 -> 94.551504 | V23: =(B23*$B$7)*M23/Q23+(C23*$C$7)*N23/Q23+(D23*$D$7+E23*$E$7+F23*$F$7+G23*$G$7)*O23/Q23/H23+(I23*$I$7+J23*$J$7)*P23/Q23/K23 -> 94.960383 | W23: =B23*$B$8*M23/Q23+C23*$C$8*N23/Q23+(D23*$D$8+E23*$E$8+F23*$F$8+G23*$G$8)*O23/Q23/H23+(I23*$I$8+J23*$J$8)*P23/Q23/K23 -> 94.601742 | X23: =B23*$B$9*M23/Q23+C23*$C$9*N23/Q23+(D23*$D$9+E23*$E$9+F23*$F$9+G23*$G$9)*O23/Q23/H23+(I23*$I$9+J23*$J$9)*P23/Q23/K23 -> 94.530652 | Y23: =V23*0.5+W23*0.3+X23*0.2 -> 94.766845 | Z23: =RANK(Y23,$Y$11:$Y$42) -> 20 | AB23: =ROUNDUP(AVERAGE($Y$22:$Y$28),1) -> 94.9
A24: 충주 | B24: 1 | C24: 0 | D24: 5 | E24: 5 | F24: 0 | G24: 8 | H24: =D24+E24+F24+G24 -> 18 | I24: 1 | J24: 1 | K24: =I24+J24 -> 2 | L24: =+B24+C24+H24+K24 -> 21 | M24: =B24*6*11 -> 66 | N24: =C24*4*11 -> 0 | O24: =SUM(D24:G24)*8 -> 144 | P24: =SUM(I24:J24)*4 -> 8 | Q24: =M24+N24+O24+P24 -> 218 | R24: 94.589681 | S24: 94.489447 | T24: 95.526501 | U24: =R24*0.5+S24*0.3+T24*0.2 -> 94.746975 | V24: =(B24*$B$7)*M24/Q24+(C24*$C$7)*N24/Q24+(D24*$D$7+E24*$E$7+F24*$F$7+G24*$G$7)*O24/Q24/H24+(I24*$I$7+J24*$J$7)*P24/Q24/K24 -> 95.025807 | W24: =B24*$B$8*M24/Q24+C24*$C$8*N24/Q24+(D24*$D$8+E24*$E$8+F24*$F$8+G24*$G$8)*O24/Q24/H24+(I24*$I$8+J24*$J$8)*P24/Q24/K24 -> 94.6101 | X24: =B24*$B$9*M24/Q24+C24*$C$9*N24/Q24+(D24*$D$9+E24*$E$9+F24*$F$9+G24*$G$9)*O24/Q24/H24+(I24*$I$9+J24*$J$9)*P24/Q24/K24 -> 94.545186 | Y24: =V24*0.5+W24*0.3+X24*0.2 -> 94.804971 | Z24: =RANK(Y24,$Y$11:$Y$42) -> 19 | AB24: =ROUNDUP(AVERAGE($Y$22:$Y$28),1) -> 94.9
A25: 보령 | B25: 1 | C25: 0 | D25: 2 | E25: 3 | F25: 0 | G25: 5 | H25: =D25+E25+F25+G25 -> 10 | I25: 3 | J25: 0 | K25: =I25+J25 -> 3 | L25: =+B25+C25+H25+K25 -> 14 | M25: =B25*4*11 -> 44 | N25: =C25*4*11 -> 0 | O25: =SUM(D25:G25)*8 -> 80 | P25: =SUM(I25:J25)*4 -> 12 | Q25: =M25+N25+O25+P25 -> 136 | R25: 96.426774 | S25: 96.751774 | T25: 94.966569 | U25: =R25*0.5+S25*0.3+T25*0.2 -> 96.232233 | V25: =(B25*$B$7)*M25/Q25+(C25*$C$7)*N25/Q25+(D25*$D$7+E25*$E$7+F25*$F$7+G25*$G$7)*O25/Q25/H25+(I25*$I$7+J25*$J$7)*P25/Q25/K25 -> 95.052574 | W25: =B25*$B$8*M25/Q25+C25*$C$8*N25/Q25+(D25*$D$8+E25*$E$8+F25*$F$8+G25*$G$8)*O25/Q25/H25+(I25*$I$8+J25*$J$8)*P25/Q25/K25 -> 94.62908 | X25: =B25*$B$9*M25/Q25+C25*$C$9*N25/Q25+(D25*$D$9+E25*$E$9+F25*$F$9+G25*$G$9)*O25/Q25/H25+(I25*$I$9+J25*$J$9)*P25/Q25/K25 -> 94.574762 | Y25: =V25*0.5+W25*0.3+X25*0.2 -> 94.829963 | Z25: =RANK(Y25,$Y$11:$Y$42) -> 18 | AB25: =ROUNDUP(AVERAGE($Y$22:$Y$28),1) -> 94.9
A26: 아산 | B26: 1 | C26: 0 | D26: 3 | E26: 4 | F26: 0 | G26: 8 | H26: =D26+E26+F26+G26 -> 15 | I26: 1 | J26: 2 | K26: =I26+J26 -> 3 | L26: =+B26+C26+H26+K26 -> 19 | M26: =B26*6*11 -> 66 | N26: =C26*4*11 -> 0 | O26: =SUM(D26:G26)*8 -> 120 | P26: =SUM(I26:J26)*4 -> 12 | Q26: =M26+N26+O26+P26 -> 198 | R26: 94.86094 | S26: 94.36249 | T26: 94.767812 | U26: =R26*0.5+S26*0.3+T26*0.2 -> 94.69278 | V26: =(B26*$B$7)*M26/Q26+(C26*$C$7)*N26/Q26+(D26*$D$7+E26*$E$7+F26*$F$7+G26*$G$7)*O26/Q26/H26+(I26*$I$7+J26*$J$7)*P26/Q26/K26 -> 95.125147 | W26: =B26*$B$8*M26/Q26+C26*$C$8*N26/Q26+(D26*$D$8+E26*$E$8+F26*$F$8+G26*$G$8)*O26/Q26/H26+(I26*$I$8+J26*$J$8)*P26/Q26/K26 -> 94.730486 | X26: =B26*$B$9*M26/Q26+C26*$C$9*N26/Q26+(D26*$D$9+E26*$E$9+F26*$F$9+G26*$G$9)*O26/Q26/H26+(I26*$I$9+J26*$J$9)*P26/Q26/K26 -> 94.693452 | Y26: =V26*0.5+W26*0.3+X26*0.2 -> 94.92041 | Z26: =RANK(Y26,$Y$11:$Y$42) -> 17 | AB26: =ROUNDUP(AVERAGE($Y$22:$Y$28),1) -> 94.9
A27: 논산 | B27: 1 | C27: 0 | D27: 2 | E27: 8 | F27: 0 | G27: 8 | H27: =D27+E27+F27+G27 -> 18 | I27: 3 | J27: 1 | K27: =I27+J27 -> 4 | L27: =+B27+C27+H27+K27 -> 23 | M27: =B27*6*11 -> 66 | N27: =C27*4*11 -> 0 | O27: =SUM(D27:G27)*8 -> 144 | P27: =SUM(I27:J27)*4 -> 16 | Q27: =M27+N27+O27+P27 -> 226 | R27: 94.687889 | S27: 94.771503 | T27: 95.033507 | U27: =R27*0.5+S27*0.3+T27*0.2 -> 94.782097 | V27: =(B27*$B$7)*M27/Q27+(C27*$C$7)*N27/Q27+(D27*$D$7+E27*$E$7+F27*$F$7+G27*$G$7)*O27/Q27/H27+(I27*$I$7+J27*$J$7)*P27/Q27/K27 -> 95.159639 | W27: =B27*$B$8*M27/Q27+C27*$C$8*N27/Q27+(D27*$D$8+E27*$E$8+F27*$F$8+G27*$G$8)*O27/Q27/H27+(I27*$I$8+J27*$J$8)*P27/Q27/K27 -> 94.793082 | X27: =B27*$B$9*M27/Q27+C27*$C$9*N27/Q27+(D27*$D$9+E27*$E$9+F27*$F$9+G27*$G$9)*O27/Q27/H27+(I27*$I$9+J27*$J$9)*P27/Q27/K27 -> 94.759869 | Y27: =V27*0.5+W27*0.3+X27*0.2 -> 94.969718 | Z27: =RANK(Y27,$Y$11:$Y$42) -> 16 | AB27: =ROUNDUP(AVERAGE($Y$22:$Y$28),1) -> 94.9
A28: 당진 | B28: 1 | C28: 0 | D28: 0 | E28: 5 | F28: 0 | G28: 6 | H28: =D28+E28+F28+G28 -> 11 | I28: 0 | J28: 3 | K28: =I28+J28 -> 3 | L28: =+B28+C28+H28+K28 -> 15 | M28: =B28*4*11 -> 44 | N28: =C28*4*11 -> 0 | O28: =SUM(D28:G28)*8 -> 88 | P28: =SUM(I28:J28)*4 -> 12 | Q28: =M28+N28+O28+P28 -> 144 | R28: 94.463314 | S28: 93.536161 | T28: 93.537258 | U28: =R28*0.5+S28*0.3+T28*0.2 -> 93.999957 | V28: =(B28*$B$7)*M28/Q28+(C28*$C$7)*N28/Q28+(D28*$D$7+E28*$E$7+F28*$F$7+G28*$G$7)*O28/Q28/H28+(I28*$I$7+J28*$J$7)*P28/Q28/K28 -> 95.355068 | W28: =B28*$B$8*M28/Q28+C28*$C$8*N28/Q28+(D28*$D$8+E28*$E$8+F28*$F$8+G28*$G$8)*O28/Q28/H28+(I28*$I$8+J28*$J$8)*P28/Q28/K28 -> 95.029642 | X28: =B28*$B$9*M28/Q28+C28*$C$9*N28/Q28+(D28*$D$9+E28*$E$9+F28*$F$9+G28*$G$9)*O28/Q28/H28+(I28*$I$9+J28*$J$9)*P28/Q28/K28 -> 95.084312 | Y28: =V28*0.5+W28*0.3+X28*0.2 -> 95.203289 | Z28: =RANK(Y28,$Y$11:$Y$42) -> 15 | AB28: =ROUNDUP(AVERAGE($Y$22:$Y$28),1) -> 94.9
A29: 단양 | B29: 0 | C29: 1 | D29: 0 | E29: 3 | F29: 0 | G29: 1 | H29: =D29+E29+F29+G29 -> 4 | I29: 0 | J29: 2 | K29: =I29+J29 -> 2 | L29: =+B29+C29+H29+K29 -> 7 | M29: =B29*6*11 -> 0 | N29: =C29*4*11 -> 44 | O29: =SUM(D29:G29)*8 -> 32 | P29: =SUM(I29:J29)*4 -> 8 | Q29: =M29+N29+O29+P29 -> 84 | R29: 96.831818 | S29: 94.517934 | T29: 96.088316 | U29: =R29*0.5+S29*0.3+T29*0.2 -> 95.988953 | V29: =(B29*$B$7)*M29/Q29+(C29*$C$7)*N29/Q29+(D29*$D$7+E29*$E$7+F29*$F$7+G29*$G$7)*O29/Q29/H29+(I29*$I$7+J29*$J$7)*P29/Q29/K29 -> 95.526974 | W29: =B29*$B$8*M29/Q29+C29*$C$8*N29/Q29+(D29*$D$8+E29*$E$8+F29*$F$8+G29*$G$8)*O29/Q29/H29+(I29*$I$8+J29*$J$8)*P29/Q29/K29 -> 95.014845 | X29: =B29*$B$9*M29/Q29+C29*$C$9*N29/Q29+(D29*$D$9+E29*$E$9+F29*$F$9+G29*$G$9)*O29/Q29/H29+(I29*$I$9+J29*$J$9)*P29/Q29/K29 -> 95.085044 | Y29: =V29*0.5+W29*0.3+X29*0.2 -> 95.284949 | Z29: =RANK(Y29,$Y$11:$Y$42) -> 14 | AA29: D | AB29: =ROUNDUP(AVERAGE($Y$29:$Y$42),1) -> 95.6
A30: 진천 | B30: 0 | C30: 1 | D30: 0 | E30: 4 | F30: 0 | G30: 2 | H30: =D30+E30+F30+G30 -> 6 | I30: 0 | J30: 0 | K30: =I30+J30 -> 0 | L30: =+B30+C30+H30+K30 -> 7 | M30: =B30*6*11 -> 0 | N30: =C30*4*11 -> 44 | O30: =SUM(D30:G30)*8 -> 48 | P30: =SUM(I30:J30)*4 -> 0 | Q30: =M30+N30+O30+P30 -> 92 | R30: 95.240934 | S30: 93.773237 | T30: 94.744264 | U30: =R30*0.5+S30*0.3+T30*0.2 -> 94.701291 | V30: =(B30*$B$7)*M30/Q30+(C30*$C$7)*N30/Q30+(D30*$D$7+E30*$E$7+F30*$F$7+G30*$G$7)*O30/Q30/H30 -> 95.619137 | W30: =B30*$B$8*M30/Q30+C30*$C$8*N30/Q30+(D30*$D$8+E30*$E$8+F30*$F$8+G30*$G$8)*O30/Q30/H30 -> 95.2379 | X30: =B30*$B$9*M30/Q30+C30*$C$9*N30/Q30+(D30*$D$9+E30*$E$9+F30*$F$9+G30*$G$9)*O30/Q30/H30 -> 95.040745 | Y30: =V30*0.5+W30*0.3+X30*0.2 -> 95.389087 | Z30: =RANK(Y30,$Y$11:$Y$42) -> 13 | AB30: =ROUNDUP(AVERAGE($Y$29:$Y$42),1) -> 95.6
A31: 영동 | B31: 0 | C31: 1 | D31: 0 | E31: 7 | F31: 0 | G31: 4 | H31: =D31+E31+F31+G31 -> 11 | I31: 0 | J31: 2 | K31: =I31+J31 -> 2 | L31: =+B31+C31+H31+K31 -> 14 | M31: =B31*6*11 -> 0 | N31: =C31*4*11 -> 44 | O31: =SUM(D31:G31)*8 -> 88 | P31: =SUM(I31:J31)*4 -> 8 | Q31: =M31+N31+O31+P31 -> 140 | R31: 96.153996 | S31: 96.739966 | T31: 95.889469 | U31: =R31*0.5+S31*0.3+T31*0.2 -> 96.276882 | V31: =(B31*$B$7)*M31/Q31+(C31*$C$7)*N31/Q31+(D31*$D$7+E31*$E$7+F31*$F$7+G31*$G$7)*O31/Q31/H31+(I31*$I$7+J31*$J$7)*P31/Q31/K31 -> 95.635075 | W31: =B31*$B$8*M31/Q31+C31*$C$8*N31/Q31+(D31*$D$8+E31*$E$8+F31*$F$8+G31*$G$8)*O31/Q31/H31+(I31*$I$8+J31*$J$8)*P31/Q31/K31 -> 95.243007 | X31: =B31*$B$9*M31/Q31+C31*$C$9*N31/Q31+(D31*$D$9+E31*$E$9+F31*$F$9+G31*$G$9)*O31/Q31/H31+(I31*$I$9+J31*$J$9)*P31/Q31/K31 -> 95.281023 | Y31: =V31*0.5+W31*0.3+X31*0.2 -> 95.446644 | Z31: =RANK(Y31,$Y$11:$Y$42) -> 12 | AB31: =ROUNDUP(AVERAGE($Y$29:$Y$42),1) -> 95.6
A32: 태안 | B32: 0 | C32: 1 | D32: 0 | E32: 2 | F32: 0 | G32: 3 | H32: =D32+E32+F32+G32 -> 5 | I32: 0 | J32: 0 | K32: =I32+J32 -> 0 | L32: =+B32+C32+H32+K32 -> 6 | M32: =B32*6*11 -> 0 | N32: =C32*4*11 -> 44 | O32: =SUM(D32:G32)*8 -> 40 | P32: =SUM(I32:J32)*4 -> 0 | Q32: =M32+N32+O32+P32 -> 84 | R32: 95.548279 | S32: 96.246554 | T32: 96.110944 | U32: =R32*0.5+S32*0.3+T32*0.2 -> 95.870294 | V32: =(B32*$B$7)*M32/Q32+(C32*$C$7)*N32/Q32+(D32*$D$7+E32*$E$7+F32*$F$7+G32*$G$7)*O32/Q32/H32 -> 95.795199 | W32: =B32*$B$8*M32/Q32+C32*$C$8*N32/Q32+(D32*$D$8+E32*$E$8+F32*$F$8+G32*$G$8)*O32/Q32/H32 -> 95.404151 | X32: =B32*$B$9*M32/Q32+C32*$C$9*N32/Q32+(D32*$D$9+E32*$E$9+F32*$F$9+G32*$G$9)*O32/Q32/H32 -> 95.156667 | Y32: =V32*0.5+W32*0.3+X32*0.2 -> 95.550178 | Z32: =RANK(Y32,$Y$11:$Y$42) -> 11 | AB32: =ROUNDUP(AVERAGE($Y$29:$Y$42),1) -> 95.6
A33: 음성 | B33: 0 | C33: 1 | D33: 0 | E33: 3 | F33: 0 | G33: 4 | H33: =D33+E33+F33+G33 -> 7 | I33: 0 | J33: 1 | K33: =I33+J33 -> 1 | L33: =+B33+C33+H33+K33 -> 9 | M33: =B33*6*11 -> 0 | N33: =C33*4*11 -> 44 | O33: =SUM(D33:G33)*8 -> 56 | P33: =SUM(I33:J33)*4 -> 4 | Q33: =M33+N33+O33+P33 -> 104 | R33: 96.3632 | S33: 95.88493 | T33: 94.404883 | U33: =R33*0.5+S33*0.3+T33*0.2 -> 95.828056 | V33: =(B33*$B$7)*M33/Q33+(C33*$C$7)*N33/Q33+(D33*$D$7+E33*$E$7+F33*$F$7+G33*$G$7)*O33/Q33/H33+(I33*$I$7+J33*$J$7)*P33/Q33/K33 -> 95.788605 | W33: =B33*$B$8*M33/Q33+C33*$C$8*N33/Q33+(D33*$D$8+E33*$E$8+F33*$F$8+G33*$G$8)*O33/Q33/H33+(I33*$I$8+J33*$J$8)*P33/Q33/K33 -> 95.386407 | X33: =B33*$B$9*M33/Q33+C33*$C$9*N33/Q33+(D33*$D$9+E33*$E$9+F33*$F$9+G33*$G$9)*O33/Q33/H33+(I33*$I$9+J33*$J$9)*P33/Q33/K33 -> 95.295761 | Y33: =V33*0.5+W33*0.3+X33*0.2 -> 95.569377 | Z33: =RANK(Y33,$Y$11:$Y$42) -> 10 | AB33: =ROUNDUP(AVERAGE($Y$29:$Y$42),1) -> 95.6
A34: 옥천 | B34: 0 | C34: 1 | D34: 0 | E34: 3 | F34: 0 | G34: 4 | H34: =D34+E34+F34+G34 -> 7 | I34: 0 | J34: 0 | K34: =I34+J34 -> 0 | L34: =+B34+C34+H34+K34 -> 8 | M34: =B34*6*11 -> 0 | N34: =C34*4*11 -> 44 | O34: =SUM(D34:G34)*8 -> 56 | P34: =SUM(I34:J34)*4 -> 0 | Q34: =M34+N34+O34+P34 -> 100 | R34: 96.330503 | S34: 94.027655 | T34: 94.690154 | U34: =R34*0.5+S34*0.3+T34*0.2 -> 95.311579 | V34: =(B34*$B$7)*M34/Q34+(C34*$C$7)*N34/Q34+(D34*$D$7+E34*$E$7+F34*$F$7+G34*$G$7)*O34/Q34/H34 -> 95.811738 | W34: =B34*$B$8*M34/Q34+C34*$C$8*N34/Q34+(D34*$D$8+E34*$E$8+F34*$F$8+G34*$G$8)*O34/Q34/H34 -> 95.449871 | X34: =B34*$B$9*M34/Q34+C34*$C$9*N34/Q34+(D34*$D$9+E34*$E$9+F34*$F$9+G34*$G$9)*O34/Q34/H34 -> 95.237611 | Y34: =V34*0.5+W34*0.3+X34*0.2 -> 95.588352 | Z34: =RANK(Y34,$Y$11:$Y$42) -> 9 | AB34: =ROUNDUP(AVERAGE($Y$29:$Y$42),1) -> 95.6
A35: 홍성 | B35: 0 | C35: 1 | D35: 0 | E35: 4 | F35: 0 | G35: 6 | H35: =D35+E35+F35+G35 -> 10 | I35: 0 | J35: 3 | K35: =I35+J35 -> 3 | L35: =+B35+C35+H35+K35 -> 14 | M35: =B35*6*11 -> 0 | N35: =C35*4*11 -> 44 | O35: =SUM(D35:G35)*8 -> 80 | P35: =SUM(I35:J35)*4 -> 12 | Q35: =M35+N35+O35+P35 -> 136 | R35: 95.518006 | S35: 94.728295 | T35: 94.887215 | U35: =R35*0.5+S35*0.3+T35*0.2 -> 95.154934 | V35: =(B35*$B$7)*M35/Q35+(C35*$C$7)*N35/Q35+(D35*$D$7+E35*$E$7+F35*$F$7+G35*$G$7)*O35/Q35/H35+(I35*$I$7+J35*$J$7)*P35/Q35/K35 -> 95.815718 | W35: =B35*$B$8*M35/Q35+C35*$C$8*N35/Q35+(D35*$D$8+E35*$E$8+F35*$F$8+G35*$G$8)*O35/Q35/H35+(I35*$I$8+J35*$J$8)*P35/Q35/K35 -> 95.389727 | X35: =B35*$B$9*M35/Q35+C35*$C$9*N35/Q35+(D35*$D$9+E35*$E$9+F35*$F$9+G35*$G$9)*O35/Q35/H35+(I35*$I$9+J35*$J$9)*P35/Q35/K35 -> 95.482065 | Y35: =V35*0.5+W35*0.3+X35*0.2 -> 95.62119 | Z35: =RANK(Y35,$Y$11:$Y$42) -> 8 | AB35: =ROUNDUP(AVERAGE($Y$29:$Y$42),1) -> 95.6
A36: 예산 | B36: 0 | C36: 1 | D36: 0 | E36: 5 | F36: 0 | G36: 6 | H36: =D36+E36+F36+G36 -> 11 | I36: 0 | J36: 0 | K36: =I36+J36 -> 0 | L36: =+B36+C36+H36+K36 -> 12 | M36: =B36*6*11 -> 0 | N36: =C36*4*11 -> 44 | O36: =SUM(D36:G36)*8 -> 88 | P36: =SUM(I36:J36)*4 -> 0 | Q36: =M36+N36+O36+P36 -> 132 | R36: 95.176461 | S36: 96.720315 | T36: 96.757188 | U36: =R36*0.5+S36*0.3+T36*0.2 -> 95.955763 | V36: =(B36*$B$7)*M36/Q36+(C36*$C$7)*N36/Q36+(D36*$D$7+E36*$E$7+F36*$F$7+G36*$G$7)*O36/Q36/H36 -> 95.832787 | W36: =B36*$B$8*M36/Q36+C36*$C$8*N36/Q36+(D36*$D$8+E36*$E$8+F36*$F$8+G36*$G$8)*O36/Q36/H36 -> 95.50806 | X36: =B36*$B$9*M36/Q36+C36*$C$9*N36/Q36+(D36*$D$9+E36*$E$9+F36*$F$9+G36*$G$9)*O36/Q36/H36 -> 95.340629 | Y36: =V36*0.5+W36*0.3+X36*0.2 -> 95.636937 | Z36: =RANK(Y36,$Y$11:$Y$42) -> 7 | AB36: =ROUNDUP(AVERAGE($Y$29:$Y$42),1) -> 95.6
A37: 서천 | B37: 0 | C37: 1 | D37: 0 | E37: 5 | F37: 0 | G37: 7 | H37: =D37+E37+F37+G37 -> 12 | I37: 0 | J37: 2 | K37: =I37+J37 -> 2 | L37: =+B37+C37+H37+K37 -> 15 | M37: =B37*6*11 -> 0 | N37: =C37*4*11 -> 44 | O37: =SUM(D37:G37)*8 -> 96 | P37: =SUM(I37:J37)*4 -> 8 | Q37: =M37+N37+O37+P37 -> 148 | R37: 95.707107 | S37: 95.297779 | T37: 95.629444 | U37: =R37*0.5+S37*0.3+T37*0.2 -> 95.568776 | V37: =(B37*$B$7)*M37/Q37+(C37*$C$7)*N37/Q37+(D37*$D$7+E37*$E$7+F37*$F$7+G37*$G$7)*O37/Q37/H37+(I37*$I$7+J37*$J$7)*P37/Q37/K37 -> 95.841037 | W37: =B37*$B$8*M37/Q37+C37*$C$8*N37/Q37+(D37*$D$8+E37*$E$8+F37*$F$8+G37*$G$8)*O37/Q37/H37+(I37*$I$8+J37*$J$8)*P37/Q37/K37 -> 95.465149 | X37: =B37*$B$9*M37/Q37+C37*$C$9*N37/Q37+(D37*$D$9+E37*$E$9+F37*$F$9+G37*$G$9)*O37/Q37/H37+(I37*$I$9+J37*$J$9)*P37/Q37/K37 -> 95.467323 | Y37: =V37*0.5+W37*0.3+X37*0.2 -> 95.653528 | Z37: =RANK(Y37,$Y$11:$Y$42) -> 6 | AB37: =ROUNDUP(AVERAGE($Y$29:$Y$42),1) -> 95.6
A38: 보은 | B38: 0 | C38: 1 | D38: 0 | E38: 3 | F38: 0 | G38: 5 | H38: =D38+E38+F38+G38 -> 8 | I38: 0 | J38: 0 | K38: =I38+J38 -> 0 | L38: =+B38+C38+H38+K38 -> 9 | M38: =B38*6*11 -> 0 | N38: =C38*4*11 -> 44 | O38: =SUM(D38:G38)*8 -> 64 | P38: =SUM(I38:J38)*4 -> 0 | Q38: =M38+N38+O38+P38 -> 108 | R38: 96.146259 | S38: 97.17372 | T38: 97.19799 | U38: =R38*0.5+S38*0.3+T38*0.2 -> 96.664844 | V38: =(C38*$C$7)*N38/Q38+(E38*$E$7+G38*$G$7)*O38/Q38/H38 -> 95.870715 | W38: =B38*$B$8*M38/Q38+C38*$C$8*N38/Q38+(D38*$D$8+E38*$E$8+F38*$F$8+G38*$G$8)*O38/Q38/H38 -> 95.521913 | X38: =B38*$B$9*M38/Q38+C38*$C$9*N38/Q38+(D38*$D$9+E38*$E$9+F38*$F$9+G38*$G$9)*O38/Q38/H38 -> 95.314496 | Y38: =V38*0.5+W38*0.3+X38*0.2 -> 95.654831 | Z38: =RANK(Y38,$Y$11:$Y$42) -> 5 | AB38: =ROUNDUP(AVERAGE($Y$29:$Y$42),1) -> 95.6
A39: 금산 | B39: 0 | C39: 1 | D39: 0 | E39: 2 | F39: 0 | G39: 5 | H39: =D39+E39+F39+G39 -> 7 | I39: 0 | J39: 1 | K39: =I39+J39 -> 1 | L39: =+B39+C39+H39+K39 -> 9 | M39: =B39*6*11 -> 0 | N39: =C39*4*11 -> 44 | O39: =SUM(D39:G39)*8 -> 56 | P39: =SUM(I39:J39)*4 -> 4 | Q39: =M39+N39+O39+P39 -> 104 | R39: 95.672242 | S39: 94.880222 | T39: 94.723515 | U39: =R39*0.5+S39*0.3+T39*0.2 -> 95.24489 | V39: =(B39*$B$7)*M39/Q39+(C39*$C$7)*N39/Q39+(D39*$D$7+E39*$E$7+F39*$F$7+G39*$G$7)*O39/Q39/H39+(I39*$I$7+J39*$J$7)*P39/Q39/K39 -> 95.897737 | W39: =B39*$B$8*M39/Q39+C39*$C$8*N39/Q39+(D39*$D$8+E39*$E$8+F39*$F$8+G39*$G$8)*O39/Q39/H39+(I39*$I$8+J39*$J$8)*P39/Q39/K39 -> 95.499107 | X39: =B39*$B$9*M39/Q39+C39*$C$9*N39/Q39+(D39*$D$9+E39*$E$9+F39*$F$9+G39*$G$9)*O39/Q39/H39+(I39*$I$9+J39*$J$9)*P39/Q39/K39 -> 95.390069 | Y39: =V39*0.5+W39*0.3+X39*0.2 -> 95.676614 | Z39: =RANK(Y39,$Y$11:$Y$42) -> 4 | AB39: =ROUNDUP(AVERAGE($Y$29:$Y$42),1) -> 95.6
A40: 부여 | B40: 0 | C40: 1 | D40: 0 | E40: 6 | F40: 0 | G40: 8 | H40: =D40+E40+F40+G40 -> 14 | I40: 0 | J40: 1 | K40: =I40+J40 -> 1 | L40: =+B40+C40+H40+K40 -> 16 | M40: =B40*6*11 -> 0 | N40: =C40*4*11 -> 44 | O40: =SUM(D40:G40)*8 -> 112 | P40: =SUM(I40:J40)*4 -> 4 | Q40: =M40+N40+O40+P40 -> 160 | R40: 97.115855 | S40: 96.823947 | T40: 95.602116 | U40: =R40*0.5+S40*0.3+T40*0.2 -> 96.725535 | V40: =(B40*$B$7)*M40/Q40+(C40*$C$7)*N40/Q40+(D40*$D$7+E40*$E$7+F40*$F$7+G40*$G$7)*O40/Q40/H40+(I40*$I$7+J40*$J$7)*P40/Q40/K40 -> 95.862559 | W40: =B40*$B$8*M40/Q40+C40*$C$8*N40/Q40+(D40*$D$8+E40*$E$8+F40*$F$8+G40*$G$8)*O40/Q40/H40+(I40*$I$8+J40*$J$8)*P40/Q40/K40 -> 95.529257 | X40: =B40*$B$9*M40/Q40+C40*$C$9*N40/Q40+(D40*$D$9+E40*$E$9+F40*$F$9+G40*$G$9)*O40/Q40/H40+(I40*$I$9+J40*$J$9)*P40/Q40/K40 -> 95.454792 | Y40: =V40*0.5+W40*0.3+X40*0.2 -> 95.681015 | Z40: =RANK(Y40,$Y$11:$Y$42) -> 3 | AB40: =ROUNDUP(AVERAGE($Y$29:$Y$42),1) -> 95.6
A41: 괴산 | B41: 0 | C41: 1 | D41: 0 | E41: 5 | F41: 0 | G41: 7 | H41: =D41+E41+F41+G41 -> 12 | I41: 0 | J41: 0 | K41: =I41+J41 -> 0 | L41: =+B41+C41+H41+K41 -> 13 | M41: =B41*6*11 -> 0 | N41: =C41*4*11 -> 44 | O41: =SUM(D41:G41)*8 -> 96 | P41: =SUM(I41:J41)*4 -> 0 | Q41: =M41+N41+O41+P41 -> 140 | R41: 96.802574 | S41: 94.708507 | T41: 95.522168 | U41: =R41*0.5+S41*0.3+T41*0.2 -> 95.918272 | V41: =(B41*$B$7)*M41/Q41+(C41*$C$7)*N41/Q41+(D41*$D$7+E41*$E$7+F41*$F$7+G41*$G$7)*O41/Q41/H41 -> 95.877081 | W41: =B41*$B$8*M41/Q41+C41*$C$8*N41/Q41+(D41*$D$8+E41*$E$8+F41*$F$8+G41*$G$8)*O41/Q41/H41 -> 95.560311 | X41: =B41*$B$9*M41/Q41+C41*$C$9*N41/Q41+(D41*$D$9+E41*$E$9+F41*$F$9+G41*$G$9)*O41/Q41/H41 -> 95.394054 | Y41: =V41*0.5+W41*0.3+X41*0.2 -> 95.685444 | Z41: =RANK(Y41,$Y$11:$Y$42) -> 2 | AB41: =ROUNDUP(AVERAGE($Y$29:$Y$42),1) -> 95.6
A42: 청양 | B42: 0 | C42: 1 | D42: 0 | E42: 3 | F42: 0 | G42: 6 | H42: =D42+E42+F42+G42 -> 9 | I42: 0 | J42: 0 | K42: =I42+J42 -> 0 | L42: =+B42+C42+H42+K42 -> 10 | M42: =B42*6*11 -> 0 | N42: =C42*4*11 -> 44 | O42: =SUM(D42:G42)*8 -> 72 | P42: =SUM(I42:J42)*4 -> 0 | Q42: =M42+N42+O42+P42 -> 116 | R42: 96.961404 | S42: 96.363114 | T42: 96.891149 | U42: =R42*0.5+S42*0.3+T42*0.2 -> 96.767866 | V42: =(B42*$B$7)*M42/Q42+(C42*$C$7)*N42/Q42+(D42*$D$7+E42*$E$7+F42*$F$7+G42*$G$7)*O42/Q42/H42 -> 95.921557 | W42: =B42*$B$8*M42/Q42+C42*$C$8*N42/Q42+(D42*$D$8+E42*$E$8+F42*$F$8+G42*$G$8)*O42/Q42/H42 -> 95.584019 | X42: =B42*$B$9*M42/Q42+C42*$C$9*N42/Q42+(D42*$D$9+E42*$E$9+F42*$F$9+G42*$G$9)*O42/Q42/H42 -> 95.380777 | Y42: =V42*0.5+W42*0.3+X42*0.2 -> 95.71214 | Z42: =RANK(Y42,$Y$11:$Y$42) -> 1 | AB42: =ROUNDUP(AVERAGE($Y$29:$Y$42),1) -> 95.6
A43: 표본 | B43: 66 | C43: 44 | D43: 8 | E43: 8 | F43: 8 | G43: 8 | I43: 4 | J43: 4 | Q43: =SUM(M43:P44) -> 0
B44: 1144 | C44: =C10*C43 -> 616 | D44: =D10*D43 -> 760 | E44: =E10*E43 -> 872 | F44: =F10*F43 -> 48 | G44: =G10*G43 -> 1032 | I44: =I10*I43 -> 304 | J44: =J10*J43 -> 108 | L44: =SUM(B44:J44) -> 4884 | Q44: =SUM(M44:P45) -> 0

Sheet 비교(창구)
A1: 2016년 창구종합 KPCSI 목표배정 검토안 비교자료
A7: 국명 | B7: 2015년 | C7: 2014년 | D7: 2013년 | E7: 가중실적 (5:3:2) | F7: 12.23.(안) | G7: 창구목표 (안) | H7: 비교 | K7: 달성전망
H8: 가중실적 | I8: 12.23.(안)
A9: 대전 | B9: =VLOOKUP($A9,연도별!$A$2:$AH$36,6,0) -> 94.819162 | C9: =VLOOKUP($A9,연도별!$A$2:$AH$36,15,0) -> 92.556869 | D9: =VLOOKUP($A9,연도별!$A$2:$AH$36,23,0) -> 94.263374 | E9: =B9*0.5+C9*0.3+D9*0.2 -> 94.029316 | F9: =VLOOKUP($A9,'[1](창구)목표'!$A$3:$O$39,15,0) -> 94.25 | G9: =VLOOKUP($A9,'목표(창구)'!$A$3:$AB$42,28,0) -> 93.8 | H9: =G9-E9 -> -0.22931638 | I9: =G9-F9 -> -0.45 | K9: =B9/G9*100 -> 101.08653
A10: 서대전 | B10: =VLOOKUP($A10,연도별!$A$2:$AH$36,6,0) -> 93.616139 | C10: =VLOOKUP($A10,연도별!$A$2:$AH$36,15,0) -> 93.07468 | D10: =VLOOKUP($A10,연도별!$A$2:$AH$36,23,0) -> 92.754363 | E10: =B10*0.5+C10*0.3+D10*0.2 -> 93.281346 | F10: =VLOOKUP($A10,'[1](창구)목표'!$A$3:$O$39,15,0) -> 94.11875 | G10: =VLOOKUP($A10,'목표(창구)'!$A$3:$AB$42,28,0) -> 93.8 | H10: =G10-E10 -> 0.51865378 | I10: =G10-F10 -> -0.31875 | K10: =B10/G10*100 -> 99.803986
A11: 대전유성 | B11: =VLOOKUP($A11,연도별!$A$2:$AH$36,6,0) -> 93.608385 | C11: =VLOOKUP($A11,연도별!$A$2:$AH$36,15,0) -> 94.10484 | D11: =VLOOKUP($A11,연도별!$A$2:$AH$36,23,0) -> 95.089142 | E11: =B11*0.5+C11*0.3+D11*0.2 -> 94.053473 | F11: =VLOOKUP($A11,'[1](창구)목표'!$A$3:$O$39,15,0) -> 94.1675 | G11: =VLOOKUP($A11,'목표(창구)'!$A$3:$AB$42,28,0) -> 93.8 | H11: =G11-E11 -> -0.2534729 | I11: =G11-F11 -> -0.3675 | K11: =B11/G11*100 -> 99.79572
A12: 대전대덕 | B12: =VLOOKUP($A12,연도별!$A$2:$AH$36,6,0) -> 94.527128 | C12: =VLOOKUP($A12,연도별!$A$2:$AH$36,15,0) -> 93.960515 | D12: =VLOOKUP($A12,연도별!$A$2:$AH$36,23,0) -> 92.977914 | E12: =B12*0.5+C12*0.3+D12*0.2 -> 94.047301 | F12: =VLOOKUP($A12,'[1](창구)목표'!$A$3:$O$39,15,0) -> 94.222105 | G12: =VLOOKUP($A12,'목표(창구)'!$A$3:$AB$42,28,0) -> 93.8 | H12: =G12-E12 -> -0.24730115 | I12: =G12-F12 -> -0.42210526 | K12: =B12/G12*100 -> 100.77519
A13: 대전둔산 | B13: =VLOOKUP($A13,연도별!$A$2:$AH$36,6,0) -> 93.620039 | C13: =VLOOKUP($A13,연도별!$A$2:$AH$36,15,0) -> 92.226064 | D13: =VLOOKUP($A13,연도별!$A$2:$AH$36,23,0) -> 91.622326 | E13: =B13*0.5+C13*0.3+D13*0.2 -> 92.802304 | F13: =VLOOKUP($A13,'[1](창구)목표'!$A$3:$O$39,15,0) -> 94.066667 | G13: =VLOOKUP($A13,'목표(창구)'!$A$3:$AB$42,28,0) -> 93.8 | H13: =G13-E13 -> 0.99769589 | I13: =G13-F13 -> -0.26666667 | K13: =B13/G13*100 -> 99.808144
A14: 천안 | B14: =VLOOKUP($A14,연도별!$A$2:$AH$36,6,0) -> 93.871052 | C14: =VLOOKUP($A14,연도별!$A$2:$AH$36,15,0) -> 91.719229 | D14: =VLOOKUP($A14,연도별!$A$2:$AH$36,23,0) -> 91.604614 | E14: =B14*0.5+C14*0.3+D14*0.2 -> 92.772217 | F14: =VLOOKUP($A14,'[1](창구)목표'!$A$3:$O$39,15,0) -> 94.819167 | G14: =VLOOKUP($A14,'목표(창구)'!$A$3:$AB$42,28,0) -> 94.4 | H14: =G14-E14 -> 1.6277828 | I14: =G14-F14 -> -0.41916667 | K14: =B14/G14*100 -> 99.439673
A15: 동천안 | B15: =VLOOKUP($A15,연도별!$A$2:$AH$36,6,0) -> 94.777071 | C15: =VLOOKUP($A15,연도별!$A$2:$AH$36,15,0) -> 93.574372 | D15: =VLOOKUP($A15,연도별!$A$2:$AH$36,23,0) -> 93.3146 | E15: =B15*0.5+C15*0.3+D15*0.2 -> 94.123767 | F15: =VLOOKUP($A15,'[1](창구)목표'!$A$3:$O$39,15,0) -> 94.96 | G15: =VLOOKUP($A15,'목표(창구)'!$A$3:$AB$42,28,0) -> 94.4 | H15: =G15-E15 -> 0.27623306 | I15: =G15-F15 -> -0.56 | K15: =B15/G15*100 -> 100.39944
A16: 공주 | B16: =VLOOKUP($A16,연도별!$A$2:$AH$36,6,0) -> 95.063278 | C16: =VLOOKUP($A16,연도별!$A$2:$AH$36,15,0) -> 94.289347 | D16: =VLOOKUP($A16,연도별!$A$2:$AH$36,23,0) -> 93.665304 | E16: =B16*0.5+C16*0.3+D16*0.2 -> 94.551504 | F16: =VLOOKUP($A16,'[1](창구)목표'!$A$3:$O$39,15,0) -> 95.318 | G16: =VLOOKUP($A16,'목표(창구)'!$A$3:$AB$42,28,0) -> 94.9 | H16: =G16-E16 -> 0.34849603 | I16: =G16-F16 -> -0.418 | K16: =B16/G16*100 -> 100.17205
A17: 아산 | B17: =VLOOKUP($A17,연도별!$A$2:$AH$36,6,0) -> 94.86094 | C17: =VLOOKUP($A17,연도별!$A$2:$AH$36,15,0) -> 94.36249 | D17: =VLOOKUP($A17,연도별!$A$2:$AH$36,23,0) -> 94.767812 | E17: =B17*0.5+C17*0.3+D17*0.2 -> 94.69278 | F17: =VLOOKUP($A17,'[1](창구)목표'!$A$3:$O$39,15,0) -> 95.475789 | G17: =VLOOKUP($A17,'목표(창구)'!$A$3:$AB$42,28,0) -> 94.9 | H17: =G17-E17 -> 0.20722042 | I17: =G17-F17 -> -0.57578947 | K17: =B17/G17*100 -> 99.958841
A18: 논산 | B18: =VLOOKUP($A18,연도별!$A$2:$AH$36,6,0) -> 94.687889 | C18: =VLOOKUP($A18,연도별!$A$2:$AH$36,15,0) -> 94.771503 | D18: =VLOOKUP($A18,연도별!$A$2:$AH$36,23,0) -> 95.033507 | E18: =B18*0.5+C18*0.3+D18*0.2 -> 94.782097 | F18: =VLOOKUP($A18,'[1](창구)목표'!$A$3:$O$39,15,0) -> 95.42913 | G18: =VLOOKUP($A18,'목표(창구)'!$A$3:$AB$42,28,0) -> 94.9 | H18: =G18-E18 -> 0.1179031 | I18: =G18-F18 -> -0.52913043 | K18: =B18/G18*100 -> 99.77649
A19: 청주 | B19: =VLOOKUP($A19,연도별!$A$2:$AH$36,6,0) -> 94.161831 | C19: =VLOOKUP($A19,연도별!$A$2:$AH$36,15,0) -> 94.96481 | D19: =VLOOKUP($A19,연도별!$A$2:$AH$36,23,0) -> 94.986506 | E19: =B19*0.5+C19*0.3+D19*0.2 -> 94.56766 | F19: =VLOOKUP($A19,'[1](창구)목표'!$A$3:$O$39,15,0) -> 94.709524 | G19: =VLOOKUP($A19,'목표(창구)'!$A$3:$AB$42,28,0) -> 94.4 | H19: =G19-E19 -> -0.16765981 | I19: =G19-F19 -> -0.30952381 | K19: =B19/G19*100 -> 99.747702
A20: 서청주 | B20: =VLOOKUP($A20,연도별!$A$2:$AH$36,6,0) -> 93.899841 | C20: =VLOOKUP($A20,연도별!$A$2:$AH$36,15,0) -> 93.347098 | D20: =VLOOKUP($A20,연도별!$A$2:$AH$36,23,0) -> 92.996413 | E20: =B20*0.5+C20*0.3+D20*0.2 -> 93.553333 | F20: =VLOOKUP($A20,'[1](창구)목표'!$A$3:$O$39,15,0) -> 94.514167 | G20: =VLOOKUP($A20,'목표(창구)'!$A$3:$AB$42,28,0) -> 94.4 | H20: =G20-E20 -> 0.84666742 | I20: =G20-F20 -> -0.11416667 | K20: =B20/G20*100 -> 99.47017
... A40: 보은 | B40: =VLOOKUP($A40,연도별!$A$2:$AH$36,6,0) -> 96.146259 | C40: =VLOOKUP($A40,연도별!$A$2:$AH$36,15,0) -> 97.17372 | D40: =VLOOKUP($A40,연도별!$A$2:$AH$36,23,0) -> 97.19799 | E40: =B40*0.5+C40*0.3+D40*0.2 -> 96.664844 | F40: =VLOOKUP($A40,'[1](창구)목표'!$A$3:$O$39,15,0) -> 96.021111 | G40: =VLOOKUP($A40,'목표(창구)'!$A$3:$AB$42,28,0) -> 95.6 | H40: =G40-E40 -> -1.0648438 | I40: =G40-F40 -> -0.42111111 | K40: =B40/G40*100 -> 100.5714
A41: 평균 | B41: =AVERAGE(B9:B40) -> 95.210871 | C41: =AVERAGE(C9:C40) -> 94.677661 | D41: =AVERAGE(D9:D40) -> 94.636272 | E41: =AVERAGE(E9:E40) -> 94.935988 | F41: =AVERAGE(F9:F40) -> 95.289438 | G41: =AVERAGE(G9:G40) -> 94.940625 | H41: =AVERAGE(H9:H40) -> 0.0046365936 | I41: =AVERAGE(I9:I40) -> -0.34881266 | K41: =B41/G41*100 -> 100.28465
A43: <표준편차>
A44: 구분 | B44: 가중실적 | C44: 창구목표
A45: 4급관서 | B45: =STDEV(E9:E24) -> 0.69519695 | C45: =STDEV(G9:G24) -> 0.44976846
A46: 5급관서 | B46: =STDEV(E25:E40) -> 0.75175807 | C46: =STDEV(G25:G40) -> 0.23909552

Sheet 목표(집배)
A1: 2016년 우정서비스고객만족도(KPCSI) 목표배정(안) - <집배>
A2: * 실적기준: 연도별 집배분야 KPCSI
A3: 국명 | B3: 관서급 | C3: 지역특성 | D3: 2015년 | E3: 2014년 | F3: 2013년 | G3: ①가중실적 | H3: 부하율 | I3: ②2016년 | J3: 달성전망 | K3: 전년실적대비 | L3: 5:3:2 대비
D4: (A) | E4: (B) | F4: (C) | G4: (5:3:2) | H4: (%) | I4: 목표(안) | J4: (%) | K4: ②-(A) | L4: ②-①
A5: 천안 | B5: 4급 | C5: 대도시 | D5: =VLOOKUP($A5,[1]연도별!$A$2:$AA$35,10,0) -> 95.48971 | E5: =VLOOKUP($A5,[1]연도별!$A$2:$AA$35,19,0) -> 93.981834 | F5: =VLOOKUP($A5,[1]연도별!$A$2:$AA$35,27,0) -> 92.971839 | G5: =D5*0.5+E5*0.3+F5*0.2 -> 94.533773 | H5: =VLOOKUP($A5,[5]관서별배달부하량분석!$B$2:$I$38,8,0) -> 127.56489 | I5: =ROUNDUP(AVERAGE($G$5:$G$15),1) -> 94.8 | J5: =D5/I5*100 -> 100.72754 | K5: =I5-D5 -> -0.6897096 | L5: =I5-G5 -> 0.26622708
A6: 대전유성 | B6: 4급 | C6: 대도시 | D6: =VLOOKUP($A6,[1]연도별!$A$2:$AA$35,10,0) -> 93.653251 | E6: =VLOOKUP($A6,[1]연도별!$A$2:$AA$35,19,0) -> 92.563075 | F6: =VLOOKUP($A6,[1]연도별!$A$2:$AA$35,27,0) -> 95.378524 | G6: =D6*0.5+E6*0.3+F6*0.2 -> 93.671253 | H6: =VLOOKUP($A6,[5]관서별배달부하량분석!$B$2:$I$38,8,0) -> 121.673 | I6: =ROUNDUP(AVERAGE($G$5:$G$15),1) -> 94.8 | J6: =D6/I6*100 -> 98.790349 | K6: =I6-D6 -> 1.1467487 | L6: =I6-G6 -> 1.1287471
A7: 아산 | B7: 4급 | C7: 대도시 | D7: =VLOOKUP($A7,[1]연도별!$A$2:$AA$35,10,0) -> 97.485006 | E7: =VLOOKUP($A7,[1]연도별!$A$2:$AA$35,19,0) -> 93.268718 | F7: =VLOOKUP($A7,[1]연도별!$A$2:$AA$35,27,0) -> 94.136183 | G7: =D7*0.5+E7*0.3+F7*0.2 -> 95.550355 | H7: =VLOOKUP($A7,[5]관서별배달부하량분석!$B$2:$I$38,8,0) -> 119.73828 | I7: =ROUNDUP(AVERAGE($G$5:$G$15),1) -> 94.8 | J7: =D7/I7*100 -> 102.83229 | K7: =I7-D7 -> -2.6850063 | L7: =I7-G7 -> -0.75035527 | N7: =RANK(D7,$D$5:$D$20) -> 1
A8: 서청주 | B8: 4급 | C8: 대도시 | D8: =VLOOKUP($A8,[1]연도별!$A$2:$AA$35,10,0) -> 94.688289 | E8: =VLOOKUP($A8,[1]연도별!$A$2:$AA$35,19,0) -> 94.500079 | F8: =VLOOKUP($A8,[1]연도별!$A$2:$AA$35,27,0) -> 93.333538 | G8: =D8*0.5+E8*0.3+F8*0.2 -> 94.360876 | H8: =VLOOKUP($A8,[5]관서별배달부하량분석!$B$2:$I$38,8,0) -> 116.11635 | I8: =ROUNDUP(AVERAGE($G$5:$G$15),1) -> 94.8 | J8: =D8/I8*100 -> 99.882162 | K8: =I8-D8 -> 0.11171086 | L8: =I8-G8 -> 0.43912423
A9: 동천안 | B9: 4급 | C9: 대도시 | D9: =VLOOKUP($A9,[1]연도별!$A$2:$AA$35,10,0) -> 95.731976 | E9: =VLOOKUP($A9,[1]연도별!$A$2:$AA$35,19,0) -> 92.050018 | F9: =VLOOKUP($A9,[1]연도별!$A$2:$AA$35,27,0) -> 95.723117 | G9: =D9*0.5+E9*0.3+F9*0.2 -> 94.625617 | H9: =VLOOKUP($A9,[5]관서별배달부하량분석!$B$2:$I$38,8,0) -> 114.62451 | I9: =ROUNDUP(AVERAGE($G$5:$G$15),1) -> 94.8 | J9: =D9/I9*100 -> 100.9831 | K9: =I9-D9 -> -0.93197601 | L9: =I9-G9 -> 0.17438322
A10: 세종 | B10: 4급 | C10: 대도시 | D10: =VLOOKUP($A10,[1]연도별!$A$2:$AA$35,10,0) -> 96.291959 | E10: =VLOOKUP($A10,[1]연도별!$A$2:$AA$35,19,0) -> 94.128622 | F10: =VLOOKUP($A10,[1]연도별!$A$2:$AA$35,27,0) -> 94.424892 | G10: =D10*0.5+E10*0.3+F10*0.2 -> 95.269545 | H10: =VLOOKUP($A10,[5]관서별배달부하량분석!$B$2:$I$38,8,0) -> 114.35115 | I10: =ROUNDUP(AVERAGE($G$5:$G$15),1) -> 94.8 | J10: =D10/I10*100 -> 101.5738 | K10: =I10-D10 -> -1.4919591 | L10: =I10-G10 -> -0.46954451
A11: 대전둔산 | B11: 4급 | C11: 대도시 | D11: =VLOOKUP($A11,[1]연도별!$A$2:$AA$35,10,0) -> 96.948106 | E11: =VLOOKUP($A11,[1]연도별!$A$2:$AA$35,19,0) -> 93.523003 | F11: =VLOOKUP($A11,[1]연도별!$A$2:$AA$35,27,0) -> 92.109669 | G11: =D11*0.5+E11*0.3+F11*0.2 -> 94.952888 | H11: =VLOOKUP($A11,[5]관서별배달부하량분석!$B$2:$I$38,8,0) -> 110.31008 | I11: =ROUNDUP(AVERAGE($G$5:$G$15),1) -> 94.8 | J11: =D11/I11*100 -> 102.26593 | K11: =I11-D11 -> -2.1481061 | L11: =I11-G11 -> -0.15288777
A12: 청주 | B12: 4급 | C12: 대도시 | D12: =VLOOKUP($A12,[1]연도별!$A$2:$AA$35,10,0) -> 94.191509 | E12: =VLOOKUP($A12,[1]연도별!$A$2:$AA$35,19,0) -> 93.017186 | F12: =VLOOKUP($A12,[1]연도별!$A$2:$AA$35,27,0) -> 94.149179 | G12: =D12*0.5+E12*0.3+F12*0.2 -> 93.830746 | H12: =VLOOKUP($A12,[5]관서별배달부하량분석!$B$2:$I$38,8,0) -> 108.72211 | I12: =ROUNDUP(AVERAGE($G$5:$G$15),1) -> 94.8 | J12: =D12/I12*100 -> 99.358132 | K12: =I12-D12 -> 0.60849116 | L12: =I12-G12 -> 0.96925393
A13: 대전대덕 | B13: 4급 | C13: 대도시 | D13: =VLOOKUP($A13,[1]연도별!$A$2:$AA$35,10,0) -> 96.506597 | E13: =VLOOKUP($A13,[1]연도별!$A$2:$AA$35,19,0) -> 90.835721 | F13: =VLOOKUP($A13,[1]연도별!$A$2:$AA$35,27,0) -> 98.305351 | G13: =D13*0.5+E13*0.3+F13*0.2 -> 95.165085 | H13: =VLOOKUP($A13,[5]관서별배달부하량분석!$B$2:$I$38,8,0) -> 107.51748 | I13: =ROUNDUP(AVERAGE($G$5:$G$15),1) -> 94.8 | J13: =D13/I13*100 -> 101.80021 | K13: =I13-D13 -> -1.7065972 | L13: =I13-G13 -> -0.36508492
A14: 서대전 | B14: 4급 | C14: 대도시 | D14: =VLOOKUP($A14,[1]연도별!$A$2:$AA$35,10,0) -> 96.542708 | E14: =VLOOKUP($A14,[1]연도별!$A$2:$AA$35,19,0) -> 94.32662 | F14: =VLOOKUP($A14,[1]연도별!$A$2:$AA$35,27,0) -> 93.362843 | G14: =D14*0.5+E14*0.3+F14*0.2 -> 95.241909 | H14: =VLOOKUP($A14,[5]관서별배달부하량분석!$B$2:$I$38,8,0) -> 103.78151 | I14: =ROUNDUP(AVERAGE($G$5:$G$15),1) -> 94.8 | J14: =D14/I14*100 -> 101.8383 | K14: =I14-D14 -> -1.7427083 | L14: =I14-G14 -> -0.44190882
A15: 대전 | B15: 4급 | C15: 대도시 | D15: =VLOOKUP($A15,[1]연도별!$A$2:$AA$35,10,0) -> 96.10363 | E15: =VLOOKUP($A15,[1]연도별!$A$2:$AA$35,19,0) -> 94.598409 | F15: =VLOOKUP($A15,[1]연도별!$A$2:$AA$35,27,0) -> 91.9402 | G15: =D15*0.5+E15*0.3+F15*0.2 -> 94.819378 | H15: =VLOOKUP($A15,[5]관서별배달부하량분석!$B$2:$I$38,8,0) -> 103.13901 | I15: =ROUNDUP(AVERAGE($G$5:$G$15),1) -> 94.8 | J15: =D15/I15*100 -> 101.37514 | K15: =I15-D15 -> -1.3036301 | L15: =I15-G15 -> -0.019377602
A16: 서산 | B16: 4급 | C16: 중소도시 | D16: =VLOOKUP($A16,[1]연도별!$A$2:$AA$35,10,0) -> 96.237281 | E16: =VLOOKUP($A16,[1]연도별!$A$2:$AA$35,19,0) -> 94.900263 | F16: =VLOOKUP($A16,[1]연도별!$A$2:$AA$35,27,0) -> 92.193063 | G16: =D16*0.5+E16*0.3+F16*0.2 -> 95.027332 | H16: =VLOOKUP($A16,[5]관서별배달부하량분석!$B$2:$I$38,8,0) -> 109.75976 | I16: =ROUNDUP(AVERAGE($G$16:$G$24),1) -> 95.6 | J16: =D16/I16*100 -> 100.66661 | K16: =I16-D16 -> -0.6372807 | L16: =I16-G16 -> 0.57266832
A17: 충주 | B17: 4급 | C17: 중소도시 | D17: =VLOOKUP($A17,[1]연도별!$A$2:$AA$35,10,0) -> 97.213005 | E17: =VLOOKUP($A17,[1]연도별!$A$2:$AA$35,19,0) -> 95.267643 | F17: =VLOOKUP($A17,[1]연도별!$A$2:$AA$35,27,0) -> 93.593139 | G17: =D17*0.5+E17*0.3+F17*0.2 -> 95.905423 | H17: =VLOOKUP($A17,[5]관서별배달부하량분석!$B$2:$I$38,8,0) -> 109.5 | I17: =ROUNDUP(AVERAGE($G$17:$G$24),1) -> 95.6 | J17: =D17/I17*100 -> 101.68724 | K17: =I17-D17 -> -1.6130051 | L17: =I17-G17 -> -0.30542343
A18: 제천 | B18: 4급 | C18: 중소도시 | D18: =VLOOKUP($A18,[1]연도별!$A$2:$AA$35,10,0) -> 96.812058 | E18: =VLOOKUP($A18,[1]연도별!$A$2:$AA$35,19,0) -> 95.487196 | F18: =VLOOKUP($A18,[1]연도별!$A$2:$AA$35,27,0) -> 94.720021 | G18: =D18*0.5+E18*0.3+F18*0.2 -> 95.996192 | H18: =VLOOKUP($A18,[5]관서별배달부하량분석!$B$2:$I$38,8,0) -> 107.92793 | I18: =ROUNDUP(AVERAGE($G$17:$G$24),1) -> 95.6 | J18: =D18/I18*100 -> 101.26784 | K18: =I18-D18 -> -1.2120581 | L18: =I18-G18 -> -0.39619204
A19: 공주 | B19: 4급 | C19: 중소도시 | D19: =VLOOKUP($A19,[1]연도별!$A$2:$AA$35,10,0) -> 96.353598 | E19: =VLOOKUP($A19,[1]연도별!$A$2:$AA$35,19,0) -> 93.827846 | F19: =VLOOKUP($A19,[1]연도별!$A$2:$AA$35,27,0) -> 96.51508 | G19: =D19*0.5+E19*0.3+F19*0.2 -> 95.628169 | H19: =VLOOKUP($A19,[5]관서별배달부하량분석!$B$2:$I$38,8,0) -> 105.1756 | I19: =ROUNDUP(AVERAGE($G$17:$G$24),1) -> 95.6 | J19: =D19/I19*100 -> 100.78828 | K19: =I19-D19 -> -0.75359849 | L19: =I19-G19 -> -0.028169131
A20: 논산 | B20: 4급 | C20: 중소도시 | D20: =VLOOKUP($A20,[1]연도별!$A$2:$AA$35,10,0) -> 96.803819 | E20: =VLOOKUP($A20,[1]연도별!$A$2:$AA$35,19,0) -> 94.486198 | F20: =VLOOKUP($A20,[1]연도별!$A$2:$AA$35,27,0) -> 92.34209 | G20: =D20*0.5+E20*0.3+F20*0.2 -> 95.216187 | H20: =VLOOKUP($A20,[5]관서별배달부하량분석!$B$2:$I$38,8,0) -> 102.17077 | I20: =ROUNDUP(AVERAGE($G$17:$G$24),1) -> 95.6 | J20: =D20/I20*100 -> 101.25923 | K20: =I20-D20 -> -1.2038194 | L20: =I20-G20 -> 0.38381278
A21: 당진 | B21: 5급 | C21: 중소도시 | D21: =VLOOKUP($A21,[1]연도별!$A$2:$AA$35,10,0) -> 95.633081 | E21: =VLOOKUP($A21,[1]연도별!$A$2:$AA$35,19,0) -> 92.801078 | F21: =VLOOKUP($A21,[1]연도별!$A$2:$AA$35,27,0) -> 95.114521 | G21: =D21*0.5+E21*0.3+F21*0.2 -> 94.679768 | H21: =VLOOKUP($A21,[5]관서별배달부하량분석!$B$2:$I$38,8,0) -> 113.51744 | I21: =ROUNDUP(AVERAGE($G$17:$G$24),1) -> 95.6 | J21: =D21/I21*100 -> 100.0346 | K21: =I21-D21 -> -0.033080808 | L21: =I21-G21 -> 0.92023195
A22: 보령 | B22: 5급 | C22: 중소도시 | D22: =VLOOKUP($A22,[1]연도별!$A$2:$AA$35,10,0) -> 98.427862 | E22: =VLOOKUP($A22,[1]연도별!$A$2:$AA$35,19,0) -> 94.25223 | F22: =VLOOKUP($A22,[1]연도별!$A$2:$AA$35,27,0) -> 96.091486 | G22: =D22*0.5+E22*0.3+F22*0.2 -> 96.707897 | H22: =VLOOKUP($A22,[5]관서별배달부하량분석!$B$2:$I$38,8,0) -> 104.2735 | I22: =ROUNDUP(AVERAGE($G$17:$G$24),1) -> 95.6 | J22: =D22/I22*100 -> 102.95801 | K22: =I22-D22 -> -2.827862 | L22: =I22-G22 -> -1.1078972
A23: 진천 | B23: 5급 | C23: 군지역 | D23: =VLOOKUP($A23,[1]연도별!$A$2:$AA$35,10,0) -> 95.488342 | E23: =VLOOKUP($A23,[1]연도별!$A$2:$AA$35,19,0) -> 93.942319 | F23: =VLOOKUP($A23,[1]연도별!$A$2:$AA$35,27,0) -> 94.21509 | G23: =D23*0.5+E23*0.3+F23*0.2 -> 94.769884 | H23: =VLOOKUP($A23,[5]관서별배달부하량분석!$B$2:$I$38,8,0) -> 115.98639 | I23: =ROUNDUP(AVERAGE($G$17:$G$24),1) -> 95.6 | J23: =D23/I23*100 -> 99.883203 | K23: =I23-D23 -> 0.11165825 | L23: =I23-G23 -> 0.8301155
A24: 음성 | B24: 5급 | C24: 군지역 | D24: =VLOOKUP($A24,[1]연도별!$A$2:$AA$35,10,0) -> 96.465067 | E24: =VLOOKUP($A24,[1]연도별!$A$2:$AA$35,19,0) -> 94.534291 | F24: =VLOOKUP($A24,[1]연도별!$A$2:$AA$35,27,0) -> 95.892837 | G24: =D24*0.5+E24*0.3+F24*0.2 -> 95.771388 | H24: =VLOOKUP($A24,[5]관서별배달부하량분석!$B$2:$I$38,8,0) -> 113.67713 | I24: =ROUNDUP(AVERAGE($G$17:$G$24),1) -> 95.6 | J24: =D24/I24*100 -> 100.90488 | K24: =I24-D24 -> -0.86506734 | L24: =I24-G24 -> -0.1713883
A25: 홍성 | B25: 5급 | C25: 군지역 | D25: =VLOOKUP($A25,[1]연도별!$A$2:$AA$35,10,0) -> 97.640025 | E25: =VLOOKUP($A25,[1]연도별!$A$2:$AA$35,19,0) -> 96.291944 | F25: =VLOOKUP($A25,[1]연도별!$A$2:$AA$35,27,0) -> 96.421296 | G25: =D25*0.5+E25*0.3+F25*0.2 -> 96.991855 | H25: =VLOOKUP($A25,[5]관서별배달부하량분석!$B$2:$I$38,8,0) -> 108.92116 | I25: =ROUNDUP(AVERAGE($G$25:$G$36),1) -> 96.6 | J25: =D25/I25*100 -> 101.07663 | K25: =I25-D25 -> -1.0400253 | L25: =I25-G25 -> -0.39185509
A26: 태안 | B26: 5급 | C26: 군지역 | D26: =VLOOKUP($A26,[1]연도별!$A$2:$AA$35,10,0) -> 96.157113 | E26: =VLOOKUP($A26,[1]연도별!$A$2:$AA$35,19,0) -> 96.784583 | F26: =VLOOKUP($A26,[1]연도별!$A$2:$AA$35,27,0) -> 94.964037 | G26: =D26*0.5+E26*0.3+F26*0.2 -> 96.106739 | H26: =VLOOKUP($A26,[5]관서별배달부하량분석!$B$2:$I$38,8,0) -> 105.41311 | I26: =ROUNDUP(AVERAGE($G$25:$G$36),1) -> 96.6 | J26: =D26/I26*100 -> 99.541525 | K26: =I26-D26 -> 0.4428872 | L26: =I26-G26 -> 0.49326138
A27: 괴산 | B27: 5급 | C27: 군지역 | D27: =VLOOKUP($A27,[1]연도별!$A$2:$AA$35,10,0) -> 95.620412 | E27: =VLOOKUP($A27,[1]연도별!$A$2:$AA$35,19,0) -> 96.055911 | F27: =VLOOKUP($A27,[1]연도별!$A$2:$AA$35,27,0) -> 97.577292 | G27: =D27*0.5+E27*0.3+F27*0.2 -> 96.142438 | H27: =VLOOKUP($A27,[5]관서별배달부하량분석!$B$2:$I$38,8,0) -> 105.32995 | I27: =ROUNDUP(AVERAGE($G$25:$G$36),1) -> 96.6 | J27: =D27/I27*100 -> 98.985934 | K27: =I27-D27 -> 0.97958754 | L27: =I27-G27 -> 0.45756207
A28: 금산 | B28: 5급 | C28: 군지역 | D28: =VLOOKUP($A28,[1]연도별!$A$2:$AA$35,10,0) -> 95.740362 | E28: =VLOOKUP($A28,[1]연도별!$A$2:$AA$35,19,0) -> 95.899165 | F28: =VLOOKUP($A28,[1]연도별!$A$2:$AA$35,27,0) -> 95.959355 | G28: =D28*0.5+E28*0.3+F28*0.2 -> 95.831802 | H28: =VLOOKUP($A28,[5]관서별배달부하량분석!$B$2:$I$38,8,0) -> 102.90323 | I28: =ROUNDUP(AVERAGE($G$25:$G$36),1) -> 96.6 | J28: =D28/I28*100 -> 99.110106 | K28: =I28-D28 -> 0.85963805 | L28: =I28-G28 -> 0.76819843
A29: 예산 | B29: 5급 | C29: 군지역 | D29: =VLOOKUP($A29,[1]연도별!$A$2:$AA$35,10,0) -> 98.12197 | E29: =VLOOKUP($A29,[1]연도별!$A$2:$AA$35,19,0) -> 97.147075 | F29: =VLOOKUP($A29,[1]연도별!$A$2:$AA$35,27,0) -> 95.690152 | G29: =D29*0.5+E29*0.3+F29*0.2 -> 97.343138 | H29: =VLOOKUP($A29,[5]관서별배달부하량분석!$B$2:$I$38,8,0) -> 101.60643 | I29: =ROUNDUP(AVERAGE($G$25:$G$36),1) -> 96.6 | J29: =D29/I29*100 -> 101.57554 | K29: =I29-D29 -> -1.5219697 | L29: =I29-G29 -> -0.74313773
A30: 영동 | B30: 5급 | C30: 군지역 | D30: =VLOOKUP($A30,[1]연도별!$A$2:$AA$35,10,0) -> 97.105556 | E30: =VLOOKUP($A30,[1]연도별!$A$2:$AA$35,19,0) -> 95.530891 | F30: =VLOOKUP($A30,[1]연도별!$A$2:$AA$35,27,0) -> 97.783358 | G30: =D30*0.5+E30*0.3+F30*0.2 -> 96.768717 | H30: =VLOOKUP($A30,[5]관서별배달부하량분석!$B$2:$I$38,8,0) -> 100.29674 | I30: =ROUNDUP(AVERAGE($G$25:$G$36),1) -> 96.6 | J30: =D30/I30*100 -> 100.52335 | K30: =I30-D30 -> -0.50555556 | L30: =I30-G30 -> -0.16871665
A31: 서천 | B31: 5급 | C31: 군지역 | D31: =VLOOKUP($A31,[1]연도별!$A$2:$AA$35,10,0) -> 98.069402 | E31: =VLOOKUP($A31,[1]연도별!$A$2:$AA$35,19,0) -> 94.655029 | F31: =VLOOKUP($A31,[1]연도별!$A$2:$AA$35,27,0) -> 93.883815 | G31: =D31*0.5+E31*0.3+F31*0.2 -> 96.207973 | H31: =VLOOKUP($A31,[5]관서별배달부하량분석!$B$2:$I$38,8,0) -> 98.055556 | I31: =ROUNDUP(AVERAGE($G$25:$G$36),1) -> 96.6 | J31: =D31/I31*100 -> 101.52112 | K31: =I31-D31 -> -1.4694024 | L31: =I31-G31 -> 0.39202708
A32: 옥천 | B32: 5급 | C32: 군지역 | D32: =VLOOKUP($A32,[1]연도별!$A$2:$AA$35,10,0) -> 96.324242 | E32: =VLOOKUP($A32,[1]연도별!$A$2:$AA$35,19,0) -> 95.322051 | F32: =VLOOKUP($A32,[1]연도별!$A$2:$AA$35,27,0) -> 92.480763 | G32: =D32*0.5+E32*0.3+F32*0.2 -> 95.254889 | H32: =VLOOKUP($A32,[5]관서별배달부하량분석!$B$2:$I$38,8,0) -> 97.810219 | I32: =ROUNDUP(AVERAGE($G$25:$G$36),1) -> 96.6 | J32: =D32/I32*100 -> 99.714537 | K32: =I32-D32 -> 0.27575757 | L32: =I32-G32 -> 1.3451109
A33: 청양 | B33: 5급 | C33: 군지역 | D33: =VLOOKUP($A33,[1]연도별!$A$2:$AA$35,10,0) -> 98.278998 | E33: =VLOOKUP($A33,[1]연도별!$A$2:$AA$35,19,0) -> 96.36618 | F33: =VLOOKUP($A33,[1]연도별!$A$2:$AA$35,27,0) -> 95.12383 | G33: =D33*0.5+E33*0.3+F33*0.2 -> 97.074119 | H33: =VLOOKUP($A33,[5]관서별배달부하량분석!$B$2:$I$38,8,0) -> 97.57085 | I33: =ROUNDUP(AVERAGE($G$25:$G$36),1) -> 96.6 | J33: =D33/I33*100 -> 101.73809 | K33: =I33-D33 -> -1.6789983 | L33: =I33-G33 -> -0.47411907
A34: 부여 | B34: 5급 | C34: 군지역 | D34: =VLOOKUP($A34,[1]연도별!$A$2:$AA$35,10,0) -> 99.197727 | E34: =VLOOKUP($A34,[1]연도별!$A$2:$AA$35,19,0) -> 96.507818 | F34: =VLOOKUP($A34,[1]연도별!$A$2:$AA$35,27,0) -> 94.792719 | G34: =D34*0.5+E34*0.3+F34*0.2 -> 97.509753 | H34: =VLOOKUP($A34,[5]관서별배달부하량분석!$B$2:$I$38,8,0) -> 97.560976 | I34: =ROUNDUP(AVERAGE($G$25:$G$36),1) -> 96.6 | J34: =D34/I34*100 -> 102.68916 | K34: =I34-D34 -> -2.5977273 | L34: =I34-G34 -> -0.90975283
A35: 단양 | B35: 5급 | C35: 군지역 | D35: =VLOOKUP($A35,[1]연도별!$A$2:$AA$35,10,0) -> 97.46915 | E35: =VLOOKUP($A35,[1]연도별!$A$2:$AA$35,19,0) -> 95.208766 | F35: =VLOOKUP($A35,[1]연도별!$A$2:$AA$35,27,0) -> 96.558589 | G35: =D35*0.5+E35*0.3+F35*0.2 -> 96.608923 | H35: =VLOOKUP($A35,[5]관서별배달부하량분석!$B$2:$I$38,8,0) -> 95.854922 | I35: =ROUNDUP(AVERAGE($G$25:$G$36),1) -> 96.6 | J35: =D35/I35*100 -> 100.89974 | K35: =I35-D35 -> -0.86914983 | L35: =I35-G35 -> -0.0089226524
A36: 보은 | B36: 5급 | C36: 군지역 | D36: =VLOOKUP($A36,[1]연도별!$A$2:$AA$35,10,0) -> 97.799285 | E36: =VLOOKUP($A36,[1]연도별!$A$2:$AA$35,19,0) -> 93.963344 | F36: =VLOOKUP($A36,[1]연도별!$A$2:$AA$35,27,0) -> 95.648162 | G36: =D36*0.5+E36*0.3+F36*0.2 -> 96.218278 | H36: =VLOOKUP($A36,[5]관서별배달부하량분석!$B$2:$I$38,8,0) -> 90.640394 | I36: =ROUNDUP(AVERAGE($G$25:$G$36),1) -> 96.6 | J36: =D36/I36*100 -> 101.2415 | K36: =I36-D36 -> -1.1992845 | L36: =I36-G36 -> 0.38172223
A37: 평균 | D37: =AVERAGE(D5:D36) -> 96.580972 | E37: =AVERAGE(E5:E36) -> 94.563285 | F37: =AVERAGE(F5:F36) -> 94.793626 | G37: =AVERAGE(G5:G36) -> 95.618196 | H37: =AVERAGE(H5:H36) -> 107.23408 | I37: =AVERAGE(I5:I36) -> 95.7 | J37: =D37/I37*100 -> 100.92056 | K37: =I37-D37 -> -0.88097181 | L37: =I37-G37 -> 0.081803535
A39: <표준편차>
A40: 구분 | B40: 가중실적 | D40: 집배목표(안)
A41: 4급관서 | B41: =STDEV(G5:G20) -> 0.66565922 | D41: =STDEV(I5:I20) -> 0.38297084
A42: 5급관서 | B42: =STDEV(G21:G36) -> 0.84476593 | D42: =STDEV(I21:I36) -> 0.4472136

Sheet ※그룹
A1: 2016년 우정서비스 고객만족도(KPCSI) 목표배정 기준(요약)
A3: 창구 | H3: 집배 | N3: 종합
A4: 그룹 | B4: 총괄국 | C4: 산출점수 | D4: 순위 | E4: 목표(안) | F4: 기준 | H4: 그룹 | I4: 국명 | J4: 산출점수 (5:3:2) | K4: 목표(안) | L4: 기준 | N4: 그룹 | O4: 국명 | P4: 산출점수 | Q4: 목표(안) | R4: 기준
A5: A그룹 대도시1 (5국) | B5: 대전둔산 | C5: 93.640725 | D5: =RANK(C5,$C$5:$C$36) -> 32 | E5: =93.8 -> 93.8 | F5: 산출점수 94.0점 미만 (대도시1) | H5: <가>그룹 대도시 (11국) | I5: 천안 | J5: 94.533773 | K5: 94.8 | L5: 지역특성 (부하률과 만족도는 상관관계 찾기 어려움) | N5: 1그룹 (5국) | O5: 대전유성 | P5: =VLOOKUP($O5,'목표(창구+집배)'!$A$3:$K$37,10,0) -> 93.357 | Q5: =ROUNDUP(AVERAGE($P$5:$P$9),1) -> 93.4 | R5: 산출점수 93.5점미만
B6: 서대전 | C6: 93.709426 | D6: =RANK(C6,$C$5:$C$36) -> 31 | I6: 대전유성 | J6: 93.671253 | O6: 대전둔산 | P6: =VLOOKUP($O6,'목표(창구+집배)'!$A$3:$K$37,10,0) -> 93.357
B7: 대전대덕 | C7: 93.766589 | D7: =RANK(C7,$C$5:$C$36) -> 30 | I7: 아산 | J7: 95.550355 | O7: 대전 | P7: =VLOOKUP($O7,'목표(창구+집배)'!$A$3:$K$37,10,0) -> 93.357
B8: 대전유성 | C8: 93.794206 | D8: =RANK(C8,$C$5:$C$36) -> 29 | I8: 서청주 | J8: 94.360876 | O8: 서대전 | P8: =VLOOKUP($O8,'목표(창구+집배)'!$A$3:$K$37,10,0) -> 93.357
B9: 대전 | C9: 93.800562 | D9: =RANK(C9,$C$5:$C$36) -> 28 | I9: 동천안 | J9: 94.625617 | O9: 대전대덕 | P9: =VLOOKUP($O9,'목표(창구+집배)'!$A$3:$K$37,10,0) -> 93.357
A10: B그룹 대도시2 (6국) | B10: 서청주 | C10: 94.098093 | D10: =RANK(C10,$C$5:$C$36) -> 27 | E10: 94.4 | F10: 산출점수 94.5점 미만 (대도시2) | I10: 세종 | J10: 95.269545 | N10: 2그룹 (6국) | O10: 천안 | P10: =VLOOKUP($O10,'목표(창구+집배)'!$A$3:$K$37,10,0) -> 93.654 | Q10: =ROUNDUP(AVERAGE($P$10:$P$15),1) -> 93.7 | R10: 산출점수 94.0점미만
B11: 제천 | C11: 94.238645 | D11: =RANK(C11,$C$5:$C$36) -> 26 | I11: 대전둔산 | J11: 94.952888 | O11: 동천안 | P11: =VLOOKUP($O11,'목표(창구+집배)'!$A$3:$K$37,10,0) -> 93.654
B12: 청주 | C12: 94.286213 | D12: =RANK(C12,$C$5:$C$36) -> 25 | I12: 청주 | J12: 93.830746 | O12: 서청주 | P12: =VLOOKUP($O12,'목표(창구+집배)'!$A$3:$K$37,10,0) -> 93.654
B13: 천안 | C13: 94.303472 | D13: =RANK(C13,$C$5:$C$36) -> 24 | I13: 대전대덕 | J13: 95.165085 | O13: 청주 | P13: =VLOOKUP($O13,'목표(창구+집배)'!$A$3:$K$37,10,0) -> 93.654
B14: 세종 | C14: 94.474388 | D14: =RANK(C14,$C$5:$C$36) -> 23 | I14: 서대전 | J14: 95.241909 | O14: 세종 | P14: =VLOOKUP($O14,'목표(창구+집배)'!$A$3:$K$37,10,0) -> 93.654
B15: 동천안 | C15: 94.477351 | D15: =RANK(C15,$C$5:$C$36) -> 22 | I15: 대전 | J15: 94.819378 | O15: 아산 | P15: =VLOOKUP($O15,'목표(창구+집배)'!$A$3:$K$37,10,0) -> 93.9015
A16: C그룹 중소도시 (7국) | B16: 서산 | C16: 94.755961 | D16: =RANK(C16,$C$5:$C$36) -> 21 | E16: 94.9 | F16: 산출점수 95.2점미만 (중소도시) | H16: <나>그룹 중소도시 (진천, 음성 포함) (9국) | I16: 서산 | J16: 95.027332 | K16: 95.6 | L16: 지역특성 (중소도시) 부하률 (진천,음성) | N16: 3그룹 (7국) | O16: 제천 | P16: =VLOOKUP($O16,'목표(창구+집배)'!$A$3:$K$37,10,0) -> 94.05 | Q16: =ROUNDUP(AVERAGE($P$15:$P$22),1) -> 94.3 | R16: 산출점수 94.5점미만
B17: 공주 | C17: 94.766845 | D17: =RANK(C17,$C$5:$C$36) -> 20 | I17: 충주 | J17: 95.905423 | O17: 공주 | P17: =VLOOKUP($O17,'목표(창구+집배)'!$A$3:$K$37,10,0) -> 94.2975
B18: 충주 | C18: 94.804971 | D18: =RANK(C18,$C$5:$C$36) -> 19 | I18: 제천 | J18: 95.996192 | O18: 충주 | P18: =VLOOKUP($O18,'목표(창구+집배)'!$A$3:$K$37,10,0) -> 94.2975
B19: 보령 | C19: 94.829963 | D19: =RANK(C19,$C$5:$C$36) -> 18 | I19: 공주 | J19: 95.628169 | O19: 서산 | P19: =VLOOKUP($O19,'목표(창구+집배)'!$A$3:$K$37,10,0) -> 94.2975
B20: 아산 | C20: 94.92041 | D20: =RANK(C20,$C$5:$C$36) -> 17 | I20: 논산 | J20: 95.216187 | O20: 논산 | P20: =VLOOKUP($O20,'목표(창구+집배)'!$A$3:$K$37,10,0) -> 94.2975
B21: 논산 | C21: 94.969718 | D21: =RANK(C21,$C$5:$C$36) -> 16 | I21: 당진 | J21: 94.679768 | O21: 당진 | P21: =VLOOKUP($O21,'목표(창구+집배)'!$A$3:$K$37,10,0) -> 94.2975
B22: 당진 | C22: 95.203289 | D22: =RANK(C22,$C$5:$C$36) -> 15 | I22: 보령 | J22: 96.707897 | O22: 보령 | P22: =VLOOKUP($O22,'목표(창구+집배)'!$A$3:$K$37,10,0) -> 94.2975
A23: D그룹 군지역 (14국) | B23: 단양 | C23: 95.284949 | D23: =RANK(C23,$C$5:$C$36) -> 14 | E23: 95.6 | F23: 산출점수 96.0점 미만 (군지역) | I23: 진천 | J23: 94.769884 | N23: 4그룹 (2국) | O23: 진천 | P23: =VLOOKUP($O23,'목표(창구+집배)'!$A$3:$K$37,10,0) -> 94.644 | Q23: =ROUNDUP(AVERAGE(P23:P24),1) -> 94.7 | R23: 산출점수 95.0점미만
B24: 진천 | C24: 95.389087 | D24: =RANK(C24,$C$5:$C$36) -> 13 | I24: 음성 | J24: 95.771388 | O24: 음성 | P24: =VLOOKUP($O24,'목표(창구+집배)'!$A$3:$K$37,10,0) -> 94.644
B25: 영동 | C25: 95.446644 | D25: =RANK(C25,$C$5:$C$36) -> 12 | H25: <다>그룹 군지역 (12국) | I25: 홍성 | J25: 96.991855 | K25: 96.6 | L25: 지역특성 (군지역) | N25: 5그룹 (12국) | O25: 홍성 | P25: =VLOOKUP($O25,'목표(창구+집배)'!$A$3:$K$37,10,0) -> 95.139 | Q25: =ROUNDUP(AVERAGE($P$25:$P$36),1) -> 95.2 | R25: 산출점수 95.5점이상
B26: 태안 | C26: 95.550178 | D26: =RANK(C26,$C$5:$C$36) -> 11 | I26: 태안 | J26: 96.106739 | O26: 금산 | P26: =VLOOKUP($O26,'목표(창구+집배)'!$A$3:$K$37,10,0) -> 95.139
B27: 음성 | C27: 95.569377 | D27: =RANK(C27,$C$5:$C$36) -> 10 | I27: 괴산 | J27: 96.142438 | O27: 예산 | P27: =VLOOKUP($O27,'목표(창구+집배)'!$A$3:$K$37,10,0) -> 95.139
B28: 옥천 | C28: 95.588352 | D28: =RANK(C28,$C$5:$C$36) -> 9 | I28: 금산 | J28: 95.831802 | O28: 서천 | P28: =VLOOKUP($O28,'목표(창구+집배)'!$A$3:$K$37,10,0) -> 95.139
B29: 홍성 | C29: 95.62119 | D29: =RANK(C29,$C$5:$C$36) -> 8 | I29: 예산 | J29: 97.343138 | O29: 청양 | P29: =VLOOKUP($O29,'목표(창구+집배)'!$A$3:$K$37,10,0) -> 95.139
B30: 예산 | C30: 95.636937 | D30: =RANK(C30,$C$5:$C$36) -> 7 | I30: 영동 | J30: 96.768717 | O30: 부여 | P30: =VLOOKUP($O30,'목표(창구+집배)'!$A$3:$K$37,10,0) -> 95.139
B31: 서천 | C31: 95.653528 | D31: =RANK(C31,$C$5:$C$36) -> 6 | I31: 서천 | J31: 96.207973 | O31: 태안 | P31: =VLOOKUP($O31,'목표(창구+집배)'!$A$3:$K$37,10,0) -> 95.139
B32: 보은 | C32: 95.654831 | D32: =RANK(C32,$C$5:$C$36) -> 5 | I32: 옥천 | J32: 95.254889 | O32: 단양 | P32: =VLOOKUP($O32,'목표(창구+집배)'!$A$3:$K$37,10,0) -> 95.139
B33: 금산 | C33: 95.676614 | D33: =RANK(C33,$C$5:$C$36) -> 4 | I33: 청양 | J33: 97.074119 | O33: 괴산 | P33: =VLOOKUP($O33,'목표(창구+집배)'!$A$3:$K$37,10,0) -> 95.139
B34: 부여 | C34: 95.681015 | D34: =RANK(C34,$C$5:$C$36) -> 3 | I34: 부여 | J34: 97.509753 | O34: 옥천 | P34: =VLOOKUP($O34,'목표(창구+집배)'!$A$3:$K$37,10,0) -> 95.139
B35: 괴산 | C35: 95.685444 | D35: =RANK(C35,$C$5:$C$36) -> 2 | I35: 단양 | J35: 96.608923 | O35: 영동 | P35: =VLOOKUP($O35,'목표(창구+집배)'!$A$3:$K$37,10,0) -> 95.139
B36: 청양 | C36: 95.71214 | D36: =RANK(C36,$C$5:$C$36) -> 1 | I36: 보은 | J36: 96.218278 | O36: 보은 | P36: =VLOOKUP($O36,'목표(창구+집배)'!$A$3:$K$37,10,0) -> 95.139
A38: - 총괄국 vs 관내국 표본비율 고려 요청사항 반영 - 최근 3년간 가중실적 고려 요청사항 반영 (관서급/동읍면/3년가중) - 창구분야는 전체 32국을 4개 그룹으로 세분(점수기준) - 유사 지역간 목표 표준편차 최소화 | H38: - 세종지역 인구증가 추세 및 지역특성 반영하여 중소도시→대도시로 재분류 - 집배부하률은 고객만족도와의 상관관계 참고자료로 활용(제한적 고려) - 집배분야는 32개 총괄국을 3개 그룹으로 세분(지역특성 및 부하률 기준) - 유사 지역간 목표 표준편차 최소화 | N38: - 산출목표의 유사 지역간 목표점수 단순화 요구사항 반영 - 종합목표는 32개 총괄국이 5개 목표로 세분(점수기준) - 유사 지역간 목표 표준편차 최소화

Sheet 연도별
A1: 1 | B1: 2 | C1: 3 | D1: 4 | E1: 5 | F1: 6 | G1: 7 | H1: 8 | I1: 9 | J1: 10 | K1: 11 | L1: 12 | M1: 13 | N1: 14 | O1: 15 | P1: 16 | Q1: 17 | R1: 18 | S1: 19 | T1: 20 | U1: 21 | V1: 22 | W1: 23 | X1: 24 | Y1: 25 | Z1: 26 | AA1: 27 | AB1: 28 | AC1: 29 | AD1: 30 | AE1: 31 | AF1: 32 | AG1: 33 | AH1: 34
A2: 국명 | B2: 관서급 | C2: 2015년 | L2: 2014년 | U2: 2013년 | AB2: 2012
C3: 목표 | D3: 종합 | E3: 이용고객 | F3: 창구종합 | G3: 우편 | H3: 예금 | I3: 보험 | J3: 집배 | K3: MOT | L3: 목표 | M3: 종합 | N3: 이용고객 | O3: 창구종합 | P3: 우편 | Q3: 예금 | R3: 보험 | S3: 집배 | T3: MOT | U3: 목표 | V3: 종합 | W3: 창구종합 | X3: 우편 | Y3: 예금 | Z3: 보험 | AA3: 집배 | AB3: 목표 | AC3: 종합 | AD3: 창구종합 | AE3: 우편 | AF3: 예금 | AG3: 보험 | AH3: 집배
A4: 대전 | B4: 4급 | C4: =VLOOKUP($A4,'2015'!$C$111:$U$142,19,0) -> 93.311679 | D4: =VLOOKUP($A4,'2015'!$C$111:$U$142,6,0) -> 95.638326 | E4: =VLOOKUP($A4,'2015'!$C$111:$U$142,7,0) -> 95.461396 | F4: =VLOOKUP($A4,'2015'!$C$111:$U$142,8,0) -> 94.819162 | G4: =VLOOKUP($A4,'2015'!$C$111:$U$142,9,0) -> 93.913096 | H4: =VLOOKUP($A4,'2015'!$C$111:$U$142,10,0) -> 97.239674 | I4: =VLOOKUP($A4,'2015'!$C$111:$U$142,11,0) -> 94.3 | J4: =VLOOKUP($A4,'2015'!$C$111:$U$142,12,0) -> 96.10363 | K4: =VLOOKUP($A4,'2015'!$C$111:$U$142,13,0) -> 99 | L4: =VLOOKUP($A4,'2014'!$B$3:$P$38,15,0) -> 90.78883 | M4: =VLOOKUP($A4,'2014'!$B$3:$P$38,6,0) -> 93.867507 | N4: =VLOOKUP($A4,'2014'!$B$3:$P$38,7,0) -> 93.577639 | O4: =VLOOKUP($A4,'2014'!$B$3:$P$38,8,0) -> 92.556869 | P4: =VLOOKUP($A4,'2014'!$B$3:$P$38,9,0) -> 92.741878 | Q4: =VLOOKUP($A4,'2014'!$B$3:$P$38,10,0) -> 91.156817 | R4: =VLOOKUP($A4,'2014'!$B$3:$P$38,11,0) -> 95.179846 | S4: =VLOOKUP($A4,'2014'!$B$3:$P$38,12,0) -> 94.598409 | T4: =VLOOKUP($A4,'2014'!$B$3:$P$38,13,0) -> 99.375 | U4: =VLOOKUP($A4,'2013'!$B$117:$N$152,13,0) -> 91.33 | V4: =VLOOKUP($A4,'2013'!$B$117:$N$152,6,0) -> 93.101787 | W4: =VLOOKUP($A4,'2013'!$B$117:$N$152,7,0) -> 94.263374 | X4: =VLOOKUP($A4,'2013'!$B$117:$N$152,8,0) -> 93.405114 | Y4: =VLOOKUP($A4,'2013'!$B$117:$N$152,9,0) -> 96.018099 | Z4: =VLOOKUP($A4,'2013'!$B$117:$N$152,10,0) -> 94.542301 | AA4: =VLOOKUP($A4,'2013'!$B$117:$N$152,11,0) -> 91.9402 | AB4: =VLOOKUP($A4,'2012'!$B$117:$N$153,13,0) -> 89.63 | AC4: =VLOOKUP($A4,'2012'!$B$117:$N$153,6,0) -> 92.239629 | AD4: =VLOOKUP($A4,'2012'!$B$117:$N$153,7,0) -> 88.732209 | AE4: =VLOOKUP($A4,'2012'!$B$117:$N$153,8,0) -> 87.57194 | AF4: =VLOOKUP($A4,'2012'!$B$117:$N$153,9,0) -> 90.525046 | AG4: =VLOOKUP($A4,'2012'!$B$117:$N$153,10,0) -> 88.825825 | AH4: =VLOOKUP($A4,'2012'!$B$117:$N$153,11,0) -> 95.747049
A5: 서대전 | B5: 4급 | C5: =VLOOKUP($A5,'2015'!$C$111:$U$142,19,0) -> 92.858965 | D5: =VLOOKUP($A5,'2015'!$C$111:$U$142,6,0) -> 95.300453 | E5: =VLOOKUP($A5,'2015'!$C$111:$U$142,7,0) -> 95.079424 | F5: =VLOOKUP($A5,'2015'!$C$111:$U$142,8,0) -> 93.616139 | G5: =VLOOKUP($A5,'2015'!$C$111:$U$142,9,0) -> 95.53629 | H5: =VLOOKUP($A5,'2015'!$C$111:$U$142,10,0) -> 90.758696 | I5: =VLOOKUP($A5,'2015'!$C$111:$U$142,11,0) -> 91.135526 | J5: =VLOOKUP($A5,'2015'!$C$111:$U$142,12,0) -> 96.542708 | K5: =VLOOKUP($A5,'2015'!$C$111:$U$142,13,0) -> 99.5 | L5: =VLOOKUP($A5,'2014'!$B$3:$P$38,15,0) -> 90.155944 | M5: =VLOOKUP($A5,'2014'!$B$3:$P$38,6,0) -> 93.953118 | N5: =VLOOKUP($A5,'2014'!$B$3:$P$38,7,0) -> 93.70065 | O5: =VLOOKUP($A5,'2014'!$B$3:$P$38,8,0) -> 93.07468 | P5: =VLOOKUP($A5,'2014'!$B$3:$P$38,9,0) -> 92.950591 | Q5: =VLOOKUP($A5,'2014'!$B$3:$P$38,10,0) -> 91.938758 | R5: =VLOOKUP($A5,'2014'!$B$3:$P$38,11,0) -> 96.459519 | S5: =VLOOKUP($A5,'2014'!$B$3:$P$38,12,0) -> 94.32662 | T5: =VLOOKUP($A5,'2014'!$B$3:$P$38,13,0) -> 98.75 | U5: =VLOOKUP($A5,'2013'!$B$117:$N$152,13,0) -> 90.362255 | V5: =VLOOKUP($A5,'2013'!$B$117:$N$152,6,0) -> 93.058603 | W5: =VLOOKUP($A5,'2013'!$B$117:$N$152,7,0) -> 92.754363 | X5: =VLOOKUP($A5,'2013'!$B$117:$N$152,8,0) -> 93.691362 | Y5: =VLOOKUP($A5,'2013'!$B$117:$N$152,9,0) -> 92.20959 | Z5: =VLOOKUP($A5,'2013'!$B$117:$N$152,10,0) -> 89.997284 | AA5: =VLOOKUP($A5,'2013'!$B$117:$N$152,11,0) -> 93.362843 | AB5: =VLOOKUP($A5,'2012'!$B$117:$N$153,13,0) -> 89.06 | AC5: =VLOOKUP($A5,'2012'!$B$117:$N$153,6,0) -> 89.822033 | AD5: =VLOOKUP($A5,'2012'!$B$117:$N$153,7,0) -> 86.810536 | AE5: =VLOOKUP($A5,'2012'!$B$117:$N$153,8,0) -> 87.698091 | AF5: =VLOOKUP($A5,'2012'!$B$117:$N$153,9,0) -> 85.292919 | AG5: =VLOOKUP($A5,'2012'!$B$117:$N$153,10,0) -> 87.078857 | AH5: =VLOOKUP($A5,'2012'!$B$117:$N$153,11,0) -> 92.833529
A6: 대전유성 | B6: 4급 | C6: =VLOOKUP($A6,'2015'!$C$111:$U$142,19,0) -> 93.534346 | D6: =VLOOKUP($A6,'2015'!$C$111:$U$142,6,0) -> 93.924277 | E6: =VLOOKUP($A6,'2015'!$C$111:$U$142,7,0) -> 93.630818 | F6: =VLOOKUP($A6,'2015'!$C$111:$U$142,8,0) -> 93.608385 | G6: =VLOOKUP($A6,'2015'!$C$111:$U$142,9,0) -> 93.32191 | H6: =VLOOKUP($A6,'2015'!$C$111:$U$142,10,0) -> 94.352941 | I6: =VLOOKUP($A6,'2015'!$C$111:$U$142,11,0) -> 93.014286 | J6: =VLOOKUP($A6,'2015'!$C$111:$U$142,12,0) -> 93.653251 | K6: =VLOOKUP($A6,'2015'!$C$111:$U$142,13,0) -> 99.5 | L6: =VLOOKUP($A6,'2014'!$B$3:$P$38,15,0) -> 91.134028 | M6: =VLOOKUP($A6,'2014'!$B$3:$P$38,6,0) -> 93.66726 | N6: =VLOOKUP($A6,'2014'!$B$3:$P$38,7,0) -> 93.333958 | O6: =VLOOKUP($A6,'2014'!$B$3:$P$38,8,0) -> 94.10484 | P6: =VLOOKUP($A6,'2014'!$B$3:$P$38,9,0) -> 94.514707 | Q6: =VLOOKUP($A6,'2014'!$B$3:$P$38,10,0) -> 92.459555 | R6: =VLOOKUP($A6,'2014'!$B$3:$P$38,11,0) -> 96.953949 | S6: =VLOOKUP($A6,'2014'!$B$3:$P$38,12,0) -> 92.563075 | T6: =VLOOKUP($A6,'2014'!$B$3:$P$38,13,0) -> 100 | U6: =VLOOKUP($A6,'2013'!$B$117:$N$152,13,0) -> 90.286741 | V6: =VLOOKUP($A6,'2013'!$B$117:$N$152,6,0) -> 95.233833 | W6: =VLOOKUP($A6,'2013'!$B$117:$N$152,7,0) -> 95.089142 | X6: =VLOOKUP($A6,'2013'!$B$117:$N$152,8,0) -> 95.601038 | Y6: =VLOOKUP($A6,'2013'!$B$117:$N$152,9,0) -> 93.033674 | Z6: =VLOOKUP($A6,'2013'!$B$117:$N$152,10,0) -> 97.798953 | AA6: =VLOOKUP($A6,'2013'!$B$117:$N$152,11,0) -> 95.378524 | AB6: =VLOOKUP($A6,'2012'!$B$117:$N$153,13,0) -> 88.9 | AC6: =VLOOKUP($A6,'2012'!$B$117:$N$153,6,0) -> 90.65858 | AD6: =VLOOKUP($A6,'2012'!$B$117:$N$153,7,0) -> 87.835307 | AE6: =VLOOKUP($A6,'2012'!$B$117:$N$153,8,0) -> 88.999335 | AF6: =VLOOKUP($A6,'2012'!$B$117:$N$153,9,0) -> 87.791099 | AG6: =VLOOKUP($A6,'2012'!$B$117:$N$153,10,0) -> 84.867606 | AH6: =VLOOKUP($A6,'2012'!$B$117:$N$153,11,0) -> 93.481853
A7: 대전대덕 | B7: 4급 | C7: =VLOOKUP($A7,'2015'!$C$111:$U$142,19,0) -> 92.778212 | D7: =VLOOKUP($A7,'2015'!$C$111:$U$142,6,0) -> 95.621019 | E7: =VLOOKUP($A7,'2015'!$C$111:$U$142,7,0) -> 95.516863 | F7: =VLOOKUP($A7,'2015'!$C$111:$U$142,8,0) -> 94.527128 | G7: =VLOOKUP($A7,'2015'!$C$111:$U$142,9,0) -> 94.636667 | H7: =VLOOKUP($A7,'2015'!$C$111:$U$142,10,0) -> 95.411336 | I7: =VLOOKUP($A7,'2015'!$C$111:$U$142,11,0) -> 91.825 | J7: =VLOOKUP($A7,'2015'!$C$111:$U$142,12,0) -> 96.506597 | K7: =VLOOKUP($A7,'2015'!$C$111:$U$142,13,0) -> 97.6 | L7: =VLOOKUP($A7,'2014'!$B$3:$P$38,15,0) -> 91.307663 | M7: =VLOOKUP($A7,'2014'!$B$3:$P$38,6,0) -> 92.778212 | N7: =VLOOKUP($A7,'2014'!$B$3:$P$38,7,0) -> 92.398118 | O7: =VLOOKUP($A7,'2014'!$B$3:$P$38,8,0) -> 93.960515 | P7: =VLOOKUP($A7,'2014'!$B$3:$P$38,9,0) -> 93.918668 | Q7: =VLOOKUP($A7,'2014'!$B$3:$P$38,10,0) -> 93.431291 | R7: =VLOOKUP($A7,'2014'!$B$3:$P$38,11,0) -> 95.525351 | S7: =VLOOKUP($A7,'2014'!$B$3:$P$38,12,0) -> 90.835721 | T7: =VLOOKUP($A7,'2014'!$B$3:$P$38,13,0) -> 100 | U7: =VLOOKUP($A7,'2013'!$B$117:$N$152,13,0) -> 90.329389 | V7: =VLOOKUP($A7,'2013'!$B$117:$N$152,6,0) -> 95.641632 | W7: =VLOOKUP($A7,'2013'!$B$117:$N$152,7,0) -> 92.977914 | X7: =VLOOKUP($A7,'2013'!$B$117:$N$152,8,0) -> 93.636861 | Y7: =VLOOKUP($A7,'2013'!$B$117:$N$152,9,0) -> 91.509897 | Z7: =VLOOKUP($A7,'2013'!$B$117:$N$152,10,0) -> 92.838862 | AA7: =VLOOKUP($A7,'2013'!$B$117:$N$152,11,0) -> 98.305351 | AB7: =VLOOKUP($A7,'2012'!$B$117:$N$153,13,0) -> 88.77 | AC7: =VLOOKUP($A7,'2012'!$B$117:$N$153,6,0) -> 91.33321 | AD7: =VLOOKUP($A7,'2012'!$B$117:$N$153,7,0) -> 88.845513 | AE7: =VLOOKUP($A7,'2012'!$B$117:$N$153,8,0) -> 90.691574 | AF7: =VLOOKUP($A7,'2012'!$B$117:$N$153,9,0) -> 89.446308 | AG7: =VLOOKUP($A7,'2012'!$B$117:$N$153,10,0) -> 83.193232 | AH7: =VLOOKUP($A7,'2012'!$B$117:$N$153,11,0) -> 93.820906
A8: 대전둔산 | B8: 4급 | C8: =VLOOKUP($A8,'2015'!$C$111:$U$142,19,0) -> 92.076079 | D8: =VLOOKUP($A8,'2015'!$C$111:$U$142,6,0) -> 95.519869 | E8: =VLOOKUP($A8,'2015'!$C$111:$U$142,7,0) -> 95.284073 | F8: =VLOOKUP($A8,'2015'!$C$111:$U$142,8,0) -> 93.620039 | G8: =VLOOKUP($A8,'2015'!$C$111:$U$142,9,0) -> 93.722993 | H8: =VLOOKUP($A8,'2015'!$C$111:$U$142,10,0) -> 93.116748 | I8: =VLOOKUP($A8,'2015'!$C$111:$U$142,11,0) -> 94.446429 | J8: =VLOOKUP($A8,'2015'!$C$111:$U$142,12,0) -> 96.948106 | K8: =VLOOKUP($A8,'2015'!$C$111:$U$142,13,0) -> 100 | L8: =VLOOKUP($A8,'2014'!$B$3:$P$38,15,0) -> 89.649463 | M8: =VLOOKUP($A8,'2014'!$B$3:$P$38,6,0) -> 92.880807 | N8: =VLOOKUP($A8,'2014'!$B$3:$P$38,7,0) -> 92.874534 | O8: =VLOOKUP($A8,'2014'!$B$3:$P$38,8,0) -> 92.226064 | P8: =VLOOKUP($A8,'2014'!$B$3:$P$38,9,0) -> 93.528043 | Q8: =VLOOKUP($A8,'2014'!$B$3:$P$38,10,0) -> 89.287093 | R8: =VLOOKUP($A8,'2014'!$B$3:$P$38,11,0) -> 94.069949 | S8: =VLOOKUP($A8,'2014'!$B$3:$P$38,12,0) -> 93.523003 | T8: =VLOOKUP($A8,'2014'!$B$3:$P$38,13,0) -> 93 | U8: =VLOOKUP($A8,'2013'!$B$117:$N$152,13,0) -> 90.504807 | V8: =VLOOKUP($A8,'2013'!$B$117:$N$152,6,0) -> 91.865997 | W8: =VLOOKUP($A8,'2013'!$B$117:$N$152,7,0) -> 91.622326 | X8: =VLOOKUP($A8,'2013'!$B$117:$N$152,8,0) -> 90.001847 | Y8: =VLOOKUP($A8,'2013'!$B$117:$N$152,9,0) -> 94.424972 | Z8: =VLOOKUP($A8,'2013'!$B$117:$N$152,10,0) -> 92.05192 | AA8: =VLOOKUP($A8,'2013'!$B$117:$N$152,11,0) -> 92.109669 | AB8: =VLOOKUP($A8,'2012'!$B$117:$N$153,13,0) -> 88.91 | AC8: =VLOOKUP($A8,'2012'!$B$117:$N$153,6,0) -> 90.373379 | AD8: =VLOOKUP($A8,'2012'!$B$117:$N$153,7,0) -> 87.336323 | AE8: =VLOOKUP($A8,'2012'!$B$117:$N$153,8,0) -> 89.882642 | AF8: =VLOOKUP($A8,'2012'!$B$117:$N$153,9,0) -> 85.676685 | AG8: =VLOOKUP($A8,'2012'!$B$117:$N$153,10,0) -> 83.502953 | AH8: =VLOOKUP($A8,'2012'!$B$117:$N$153,11,0) -> 93.410434
A9: 천안 | B9: 4급 | C9: =VLOOKUP($A9,'2015'!$C$111:$U$142,19,0) -> 92.53136 | D9: =VLOOKUP($A9,'2015'!$C$111:$U$142,6,0) -> 94.906362 | E9: =VLOOKUP($A9,'2015'!$C$111:$U$142,7,0) -> 94.680381 | F9: =VLOOKUP($A9,'2015'!$C$111:$U$142,8,0) -> 93.871052 | G9: =VLOOKUP($A9,'2015'!$C$111:$U$142,9,0) -> 93.446753 | H9: =VLOOKUP($A9,'2015'!$C$111:$U$142,10,0) -> 93.978787 | I9: =VLOOKUP($A9,'2015'!$C$111:$U$142,11,0) -> 95.434722 | J9: =VLOOKUP($A9,'2015'!$C$111:$U$142,12,0) -> 95.48971 | K9: =VLOOKUP($A9,'2015'!$C$111:$U$142,13,0) -> 99.2 | L9: =VLOOKUP($A9,'2014'!$B$3:$P$38,15,0) -> 89.687291 | M9: =VLOOKUP($A9,'2014'!$B$3:$P$38,6,0) -> 93.101755 | N9: =VLOOKUP($A9,'2014'!$B$3:$P$38,7,0) -> 92.850532 | O9: =VLOOKUP($A9,'2014'!$B$3:$P$38,8,0) -> 91.719229 | P9: =VLOOKUP($A9,'2014'!$B$3:$P$38,9,0) -> 92.525765 | Q9: =VLOOKUP($A9,'2014'!$B$3:$P$38,10,0) -> 90.235951 | R9: =VLOOKUP($A9,'2014'!$B$3:$P$38,11,0) -> 91.812428 | S9: =VLOOKUP($A9,'2014'!$B$3:$P$38,12,0) -> 93.981834 | T9: =VLOOKUP($A9,'2014'!$B$3:$P$38,13,0) -> 97.875 | U9: =VLOOKUP($A9,'2013'!$B$117:$N$152,13,0) -> 90.407786 | V9: =VLOOKUP($A9,'2013'!$B$117:$N$152,6,0) -> 92.288226 | W9: =VLOOKUP($A9,'2013'!$B$117:$N$152,7,0) -> 91.604614 | X9: =VLOOKUP($A9,'2013'!$B$117:$N$152,8,0) -> 90.472293 | Y9: =VLOOKUP($A9,'2013'!$B$117:$N$152,9,0) -> 92.25897 | Z9: =VLOOKUP($A9,'2013'!$B$117:$N$152,10,0) -> 94.49215 | AA9: =VLOOKUP($A9,'2013'!$B$117:$N$152,11,0) -> 92.971839 | AB9: =VLOOKUP($A9,'2012'!$B$117:$N$153,13,0) -> 87.87 | AC9: =VLOOKUP($A9,'2012'!$B$117:$N$153,6,0) -> 91.467411 | AD9: =VLOOKUP($A9,'2012'!$B$117:$N$153,7,0) -> 87.201836 | AE9: =VLOOKUP($A9,'2012'!$B$117:$N$153,8,0) -> 87.32856 | AF9: =VLOOKUP($A9,'2012'!$B$117:$N$153,9,0) -> 89.1229 | AG9: =VLOOKUP($A9,'2012'!$B$117:$N$153,10,0) -> 83.630797 | AH9: =VLOOKUP($A9,'2012'!$B$117:$N$153,11,0) -> 95.732986
A10: 동천안 | B10: 4급 | C10: =VLOOKUP($A10,'2015'!$C$111:$U$142,19,0) -> 93.127835 | D10: =VLOOKUP($A10,'2015'!$C$111:$U$142,6,0) -> 95.426797 | E10: =VLOOKUP($A10,'2015'!$C$111:$U$142,7,0) -> 95.254523 | F10: =VLOOKUP($A10,'2015'!$C$111:$U$142,8,0) -> 94.777071 | G10: =VLOOKUP($A10,'2015'!$C$111:$U$142,9,0) -> 94.533565 | H10: =VLOOKUP($A10,'2015'!$C$111:$U$142,10,0) -> 95.703182 | I10: =VLOOKUP($A10,'2015'!$C$111:$U$142,11,0) -> 93.603856 | J10: =VLOOKUP($A10,'2015'!$C$111:$U$142,12,0) -> 95.731976 | K10: =VLOOKUP($A10,'2015'!$C$111:$U$142,13,0) -> 98.7 | L10: =VLOOKUP($A10,'2014'!$B$3:$P$38,15,0) -> 90.845338 | M10: =VLOOKUP($A10,'2014'!$B$3:$P$38,6,0) -> 93.127835 | N10: =VLOOKUP($A10,'2014'!$B$3:$P$38,7,0) -> 92.812195 | O10: =VLOOKUP($A10,'2014'!$B$3:$P$38,8,0) -> 93.574372 | P10: =VLOOKUP($A10,'2014'!$B$3:$P$38,9,0) -> 93.811343 | Q10: =VLOOKUP($A10,'2014'!$B$3:$P$38,10,0) -> 92.836148 | R10: =VLOOKUP($A10,'2014'!$B$3:$P$38,11,0) -> 94.486105 | S10: =VLOOKUP($A10,'2014'!$B$3:$P$38,12,0) -> 92.050018 | T10: =VLOOKUP($A10,'2014'!$B$3:$P$38,13,0) -> 99.125 | U10: =VLOOKUP($A10,'2013'!$B$117:$N$152,13,0) -> 90.50848 | V10: =VLOOKUP($A10,'2013'!$B$117:$N$152,6,0) -> 94.518859 | W10: =VLOOKUP($A10,'2013'!$B$117:$N$152,7,0) -> 93.3146 | X10: =VLOOKUP($A10,'2013'!$B$117:$N$152,8,0) -> 93.739426 | Y10: =VLOOKUP($A10,'2013'!$B$117:$N$152,9,0) -> 92.475314 | Z10: =VLOOKUP($A10,'2013'!$B$117:$N$152,10,0) -> 93.426212 | AA10: =VLOOKUP($A10,'2013'!$B$117:$N$152,11,0) -> 95.723117 | AB10: =VLOOKUP($A10,'2012'!$B$117:$N$153,13,0) -> #N/A | AC10: =VLOOKUP($A10,'2012'!$B$117:$N$153,6,0) -> 91.649892 | AD10: =VLOOKUP($A10,'2012'!$B$117:$N$153,7,0) -> 89.864301 | AE10: =VLOOKUP($A10,'2012'!$B$117:$N$153,8,0) -> 90.894039 | AF10: =VLOOKUP($A10,'2012'!$B$117:$N$153,9,0) -> 89.177111 | AG10: =VLOOKUP($A10,'2012'!$B$117:$N$153,10,0) -> 88.38718 | AH10: =VLOOKUP($A10,'2012'!$B$117:$N$153,11,0) -> 93.435483
A11: 공주 | B11: 4급 | C11: =VLOOKUP($A11,'2015'!$C$111:$U$142,19,0) -> 94.07 | D11: =VLOOKUP($A11,'2015'!$C$111:$U$142,6,0) -> 95.923016 | E11: =VLOOKUP($A11,'2015'!$C$111:$U$142,7,0) -> 95.708438 | F11: =VLOOKUP($A11,'2015'!$C$111:$U$142,8,0) -> 95.063278 | G11: =VLOOKUP($A11,'2015'!$C$111:$U$142,9,0) -> 94.179213 | H11: =VLOOKUP($A11,'2015'!$C$111:$U$142,10,0) -> 96.148636 | I11: =VLOOKUP($A11,'2015'!$C$111:$U$142,11,0) -> 95.967423 | J11: =VLOOKUP($A11,'2015'!$C$111:$U$142,12,0) -> 96.353598 | K11: =VLOOKUP($A11,'2015'!$C$111:$U$142,13,0) -> 100 | L11: =VLOOKUP($A11,'2014'!$B$3:$P$38,15,0) -> 92.025606 | M11: =VLOOKUP($A11,'2014'!$B$3:$P$38,6,0) -> 94.261917 | N11: =VLOOKUP($A11,'2014'!$B$3:$P$38,7,0) -> 94.058597 | O11: =VLOOKUP($A11,'2014'!$B$3:$P$38,8,0) -> 94.289347 | P11: =VLOOKUP($A11,'2014'!$B$3:$P$38,9,0) -> 94.296786 | Q11: =VLOOKUP($A11,'2014'!$B$3:$P$38,10,0) -> 94.763177 | R11: =VLOOKUP($A11,'2014'!$B$3:$P$38,11,0) -> 92.923577 | S11: =VLOOKUP($A11,'2014'!$B$3:$P$38,12,0) -> 93.827846 | T11: =VLOOKUP($A11,'2014'!$B$3:$P$38,13,0) -> 98.125 | U11: =VLOOKUP($A11,'2013'!$B$117:$N$152,13,0) -> 91.273333 | V11: =VLOOKUP($A11,'2013'!$B$117:$N$152,6,0) -> 95.090192 | W11: =VLOOKUP($A11,'2013'!$B$117:$N$152,7,0) -> 93.665304 | X11: =VLOOKUP($A11,'2013'!$B$117:$N$152,8,0) -> 91.995208 | Y11: =VLOOKUP($A11,'2013'!$B$117:$N$152,9,0) -> 94.902911 | Z11: =VLOOKUP($A11,'2013'!$B$117:$N$152,10,0) -> 96.896029 | AA11: =VLOOKUP($A11,'2013'!$B$117:$N$152,11,0) -> 96.51508 | AB11: =VLOOKUP($A11,'2012'!$B$117:$N$153,13,0) -> 90.07 | AC11: =VLOOKUP($A11,'2012'!$B$117:$N$153,6,0) -> 92.080526 | AD11: =VLOOKUP($A11,'2012'!$B$117:$N$153,7,0) -> 89.722902 | AE11: =VLOOKUP($A11,'2012'!$B$117:$N$153,8,0) -> 90.886817 | AF11: =VLOOKUP($A11,'2012'!$B$117:$N$153,9,0) -> 88.506585 | AG11: =VLOOKUP($A11,'2012'!$B$117:$N$153,10,0) -> 89.140023 | AH11: =VLOOKUP($A11,'2012'!$B$117:$N$153,11,0) -> 94.43815
A12: 아산 | B12: 4급 | C12: =VLOOKUP($A12,'2015'!$C$111:$U$142,19,0) -> 93.545055 | D12: =VLOOKUP($A12,'2015'!$C$111:$U$142,6,0) -> 96.344325 | E12: =VLOOKUP($A12,'2015'!$C$111:$U$142,7,0) -> 96.172973 | F12: =VLOOKUP($A12,'2015'!$C$111:$U$142,8,0) -> 94.86094 | G12: =VLOOKUP($A12,'2015'!$C$111:$U$142,9,0) -> 94.573165 | H12: =VLOOKUP($A12,'2015'!$C$111:$U$142,10,0) -> 95.063955 | I12: =VLOOKUP($A12,'2015'!$C$111:$U$142,11,0) -> 95.544231 | J12: =VLOOKUP($A12,'2015'!$C$111:$U$142,12,0) -> 97.485006 | K12: =VLOOKUP($A12,'2015'!$C$111:$U$142,13,0) -> 99.6 | L12: =VLOOKUP($A12,'2014'!$B$3:$P$38,15,0) -> 91.158546 | M12: =VLOOKUP($A12,'2014'!$B$3:$P$38,6,0) -> 94.062324 | N12: =VLOOKUP($A12,'2014'!$B$3:$P$38,7,0) -> 93.815604 | O12: =VLOOKUP($A12,'2014'!$B$3:$P$38,8,0) -> 94.36249 | P12: =VLOOKUP($A12,'2014'!$B$3:$P$38,9,0) -> 93.996946 | Q12: =VLOOKUP($A12,'2014'!$B$3:$P$38,10,0) -> 94.386684 | R12: =VLOOKUP($A12,'2014'!$B$3:$P$38,11,0) -> 95.722422 | S12: =VLOOKUP($A12,'2014'!$B$3:$P$38,12,0) -> 93.268718 | T12: =VLOOKUP($A12,'2014'!$B$3:$P$38,13,0) -> 98.75 | U12: =VLOOKUP($A12,'2013'!$B$117:$N$152,13,0) -> 90.875217 | V12: =VLOOKUP($A12,'2013'!$B$117:$N$152,6,0) -> 94.451998 | W12: =VLOOKUP($A12,'2013'!$B$117:$N$152,7,0) -> 94.767812 | X12: =VLOOKUP($A12,'2013'!$B$117:$N$152,8,0) -> 94.476201 | Y12: =VLOOKUP($A12,'2013'!$B$117:$N$152,9,0) -> 94.451085 | Z12: =VLOOKUP($A12,'2013'!$B$117:$N$152,10,0) -> 96.340904 | AA12: =VLOOKUP($A12,'2013'!$B$117:$N$152,11,0) -> 94.136183 | AB12: =VLOOKUP($A12,'2012'!$B$117:$N$153,13,0) -> 89.18 | AC12: =VLOOKUP($A12,'2012'!$B$117:$N$153,6,0) -> 90.894464 | AD12: =VLOOKUP($A12,'2012'!$B$117:$N$153,7,0) -> 88.255827 | AE12: =VLOOKUP($A12,'2012'!$B$117:$N$153,8,0) -> 87.399582 | AF12: =VLOOKUP($A12,'2012'!$B$117:$N$153,9,0) -> 89.346239 | AG12: =VLOOKUP($A12,'2012'!$B$117:$N$153,10,0) -> 88.410336 | AH12: =VLOOKUP($A12,'2012'!$B$117:$N$153,11,0) -> 93.5331
A13: 논산 | B13: 4급 | C13: =VLOOKUP($A13,'2015'!$C$111:$U$142,19,0) -> 94.058535 | D13: =VLOOKUP($A13,'2015'!$C$111:$U$142,6,0) -> 95.783561 | E13: =VLOOKUP($A13,'2015'!$C$111:$U$142,7,0) -> 95.745854 | F13: =VLOOKUP($A13,'2015'!$C$111:$U$142,8,0) -> 94.687889 | G13: =VLOOKUP($A13,'2015'!$C$111:$U$142,9,0) -> 95.145661 | H13: =VLOOKUP($A13,'2015'!$C$111:$U$142,10,0) -> 93.804333 | I13: =VLOOKUP($A13,'2015'!$C$111:$U$142,11,0) -> 95.062931 | J13: =VLOOKUP($A13,'2015'!$C$111:$U$142,12,0) -> 96.803819 | K13: =VLOOKUP($A13,'2015'!$C$111:$U$142,13,0) -> 96.5 | L13: =VLOOKUP($A13,'2014'!$B$3:$P$38,15,0) -> 91.489981 | M13: =VLOOKUP($A13,'2014'!$B$3:$P$38,6,0) -> 94.834908 | N13: =VLOOKUP($A13,'2014'!$B$3:$P$38,7,0) -> 94.628851 | O13: =VLOOKUP($A13,'2014'!$B$3:$P$38,8,0) -> 94.771503 | P13: =VLOOKUP($A13,'2014'!$B$3:$P$38,9,0) -> 95.020531 | Q13: =VLOOKUP($A13,'2014'!$B$3:$P$38,10,0) -> 94.108947 | R13: =VLOOKUP($A13,'2014'!$B$3:$P$38,11,0) -> 95.334112 | S13: =VLOOKUP($A13,'2014'!$B$3:$P$38,12,0) -> 94.486198 | T13: =VLOOKUP($A13,'2014'!$B$3:$P$38,13,0) -> 98.75 | U13: =VLOOKUP($A13,'2013'!$B$117:$N$152,13,0) -> 92.515601 | V13: =VLOOKUP($A13,'2013'!$B$117:$N$152,6,0) -> 93.687798 | W13: =VLOOKUP($A13,'2013'!$B$117:$N$152,7,0) -> 95.033507 | X13: =VLOOKUP($A13,'2013'!$B$117:$N$152,8,0) -> 95.706401 | Y13: =VLOOKUP($A13,'2013'!$B$117:$N$152,9,0) -> 94.542517 | Z13: =VLOOKUP($A13,'2013'!$B$117:$N$152,10,0) -> 93.435407 | AA13: =VLOOKUP($A13,'2013'!$B$117:$N$152,11,0) -> 92.34209 | AB13: =VLOOKUP($A13,'2012'!$B$117:$N$153,13,0) -> 91.04 | AC13: =VLOOKUP($A13,'2012'!$B$117:$N$153,6,0) -> 92.670406 | AD13: =VLOOKUP($A13,'2012'!$B$117:$N$153,7,0) -> 89.063382 | AE13: =VLOOKUP($A13,'2012'!$B$117:$N$153,8,0) -> 89.969784 | AF13: =VLOOKUP($A13,'2012'!$B$117:$N$153,9,0) -> 86.624047 | AG13: =VLOOKUP($A13,'2012'!$B$117:$N$153,10,0) -> 91.178912 | AH13: =VLOOKUP($A13,'2012'!$B$117:$N$153,11,0) -> 96.27743
A14: 청주 | B14: 4급 | C14: =VLOOKUP($A14,'2015'!$C$111:$U$142,19,0) -> 93.947698 | D14: =VLOOKUP($A14,'2015'!$C$111:$U$142,6,0) -> 94.407836 | E14: =VLOOKUP($A14,'2015'!$C$111:$U$142,7,0) -> 94.17667 | F14: =VLOOKUP($A14,'2015'!$C$111:$U$142,8,0) -> 94.161831 | G14: =VLOOKUP($A14,'2015'!$C$111:$U$142,9,0) -> 94.663496 | H14: =VLOOKUP($A14,'2015'!$C$111:$U$142,10,0) -> 92.723437 | I14: =VLOOKUP($A14,'2015'!$C$111:$U$142,11,0) -> 95.576594 | J14: =VLOOKUP($A14,'2015'!$C$111:$U$142,12,0) -> 94.191509 | K14: =VLOOKUP($A14,'2015'!$C$111:$U$142,13,0) -> 98.8 | L14: =VLOOKUP($A14,'2014'!$B$3:$P$38,15,0) -> 91.631887 | M14: =VLOOKUP($A14,'2014'!$B$3:$P$38,6,0) -> 94.291448 | N14: =VLOOKUP($A14,'2014'!$B$3:$P$38,7,0) -> 93.990998 | O14: =VLOOKUP($A14,'2014'!$B$3:$P$38,8,0) -> 94.96481 | P14: =VLOOKUP($A14,'2014'!$B$3:$P$38,9,0) -> 95.359709 | Q14: =VLOOKUP($A14,'2014'!$B$3:$P$38,10,0) -> 93.539426 | R14: =VLOOKUP($A14,'2014'!$B$3:$P$38,11,0) -> 97.048896 | S14: =VLOOKUP($A14,'2014'!$B$3:$P$38,12,0) -> 93.017186 | T14: =VLOOKUP($A14,'2014'!$B$3:$P$38,13,0) -> 100 | U14: =VLOOKUP($A14,'2013'!$B$117:$N$152,13,0) -> 91.3 | V14: =VLOOKUP($A14,'2013'!$B$117:$N$152,6,0) -> 94.567843 | W14: =VLOOKUP($A14,'2013'!$B$117:$N$152,7,0) -> 94.986506 | X14: =VLOOKUP($A14,'2013'!$B$117:$N$152,8,0) -> 94.979624 | Y14: =VLOOKUP($A14,'2013'!$B$117:$N$152,9,0) -> 94.963303 | Z14: =VLOOKUP($A14,'2013'!$B$117:$N$152,10,0) -> 95.063978 | AA14: =VLOOKUP($A14,'2013'!$B$117:$N$152,11,0) -> 94.149179 | AB14: =VLOOKUP($A14,'2012'!$B$117:$N$153,13,0) -> 89.09 | AC14: =VLOOKUP($A14,'2012'!$B$117:$N$153,6,0) -> 92.154871 | AD14: =VLOOKUP($A14,'2012'!$B$117:$N$153,7,0) -> 90.475109 | AE14: =VLOOKUP($A14,'2012'!$B$117:$N$153,8,0) -> 90.748711 | AF14: =VLOOKUP($A14,'2012'!$B$117:$N$153,9,0) -> 90.331104 | AG14: =VLOOKUP($A14,'2012'!$B$117:$N$153,10,0) -> 90.000305 | AH14: =VLOOKUP($A14,'2012'!$B$117:$N$153,11,0) -> 93.834633
A15: 서청주 | B15: 4급 | C15: =VLOOKUP($A15,'2015'!$C$111:$U$142,19,0) -> 93.366279 | D15: =VLOOKUP($A15,'2015'!$C$111:$U$142,6,0) -> 94.464362 | E15: =VLOOKUP($A15,'2015'!$C$111:$U$142,7,0) -> 94.294065 | F15: =VLOOKUP($A15,'2015'!$C$111:$U$142,8,0) -> 93.899841 | G15: =VLOOKUP($A15,'2015'!$C$111:$U$142,9,0) -> 94.560593 | H15: =VLOOKUP($A15,'2015'!$C$111:$U$142,10,0) -> 91.843959 | I15: =VLOOKUP($A15,'2015'!$C$111:$U$142,11,0) -> 96.236607 | J15: =VLOOKUP($A15,'2015'!$C$111:$U$142,12,0) -> 94.688289 | K15: =VLOOKUP($A15,'2015'!$C$111:$U$142,13,0) -> 97.7 | L15: =VLOOKUP($A15,'2014'!$B$3:$P$38,15,0) -> 90.52138 | M15: =VLOOKUP($A15,'2014'!$B$3:$P$38,6,0) -> 94.164909 | N15: =VLOOKUP($A15,'2014'!$B$3:$P$38,7,0) -> 93.923589 | O15: =VLOOKUP($A15,'2014'!$B$3:$P$38,8,0) -> 93.347098 | P15: =VLOOKUP($A15,'2014'!$B$3:$P$38,9,0) -> 93.721678 | Q15: =VLOOKUP($A15,'2014'!$B$3:$P$38,10,0) -> 92.005331 | R15: =VLOOKUP($A15,'2014'!$B$3:$P$38,11,0) -> 95.529652 | S15: =VLOOKUP($A15,'2014'!$B$3:$P$38,12,0) -> 94.500079 | T15: =VLOOKUP($A15,'2014'!$B$3:$P$38,13,0) -> 98.75 | U15: =VLOOKUP($A15,'2013'!$B$117:$N$152,13,0) -> 91.016458 | V15: =VLOOKUP($A15,'2013'!$B$117:$N$152,6,0) -> 93.164976 | W15: =VLOOKUP($A15,'2013'!$B$117:$N$152,7,0) -> 92.996413 | X15: =VLOOKUP($A15,'2013'!$B$117:$N$152,8,0) -> 92.838474 | Y15: =VLOOKUP($A15,'2013'!$B$117:$N$152,9,0) -> 93.925623 | Z15: =VLOOKUP($A15,'2013'!$B$117:$N$152,10,0) -> 91.597862 | AA15: =VLOOKUP($A15,'2013'!$B$117:$N$152,11,0) -> 93.333538 | AB15: =VLOOKUP($A15,'2012'!$B$117:$N$153,13,0) -> 88.41 | AC15: =VLOOKUP($A15,'2012'!$B$117:$N$153,6,0) -> 91.679123 | AD15: =VLOOKUP($A15,'2012'!$B$117:$N$153,7,0) -> 88.311259 | AE15: =VLOOKUP($A15,'2012'!$B$117:$N$153,8,0) -> 87.407869 | AF15: =VLOOKUP($A15,'2012'!$B$117:$N$153,9,0) -> 87.751107 | AG15: =VLOOKUP($A15,'2012'!$B$117:$N$153,10,0) -> 91.823281 | AH15: =VLOOKUP($A15,'2012'!$B$117:$N$153,11,0) -> 95.046987
... A35: 보은 | B35: 5급 | C35: =VLOOKUP($A35,'2015'!$C$111:$U$142,19,0) -> 95.701518 | D35: =VLOOKUP($A35,'2015'!$C$111:$U$142,6,0) -> 96.999133 | E35: =VLOOKUP($A35,'2015'!$C$111:$U$142,7,0) -> 96.972772 | F35: =VLOOKUP($A35,'2015'!$C$111:$U$142,8,0) -> 96.146259 | G35: =VLOOKUP($A35,'2015'!$C$111:$U$142,9,0) -> 96.422299 | H35: =VLOOKUP($A35,'2015'!$C$111:$U$142,10,0) -> 95.443376 | I35: =VLOOKUP($A35,'2015'!$C$111:$U$142,11,0) -> 96.595313 | J35: =VLOOKUP($A35,'2015'!$C$111:$U$142,12,0) -> 97.799285 | K35: =VLOOKUP($A35,'2015'!$C$111:$U$142,13,0) -> 97.5 | L35: =VLOOKUP($A35,'2014'!$B$3:$P$38,15,0) -> 94.189414 | M35: =VLOOKUP($A35,'2014'!$B$3:$P$38,6,0) -> 95.752606 | N35: =VLOOKUP($A35,'2014'!$B$3:$P$38,7,0) -> 95.568532 | O35: =VLOOKUP($A35,'2014'!$B$3:$P$38,8,0) -> 97.17372 | P35: =VLOOKUP($A35,'2014'!$B$3:$P$38,9,0) -> 96.532658 | Q35: =VLOOKUP($A35,'2014'!$B$3:$P$38,10,0) -> 97.185293 | R35: =VLOOKUP($A35,'2014'!$B$3:$P$38,11,0) -> 99.243682 | S35: =VLOOKUP($A35,'2014'!$B$3:$P$38,12,0) -> 93.963344 | T35: =VLOOKUP($A35,'2014'!$B$3:$P$38,13,0) -> 99.25 | U35: =VLOOKUP($A35,'2013'!$B$117:$N$152,13,0) -> 93.546667 | V35: =VLOOKUP($A35,'2013'!$B$117:$N$152,6,0) -> 96.423076 | W35: =VLOOKUP($A35,'2013'!$B$117:$N$152,7,0) -> 97.19799 | X35: =VLOOKUP($A35,'2013'!$B$117:$N$152,8,0) -> 96.577378 | Y35: =VLOOKUP($A35,'2013'!$B$117:$N$152,9,0) -> 97.39174 | Z35: =VLOOKUP($A35,'2013'!$B$117:$N$152,10,0) -> 100 | AA35: =VLOOKUP($A35,'2013'!$B$117:$N$152,11,0) -> 95.648162 | AB35: =VLOOKUP($A35,'2012'!$B$117:$N$153,13,0) -> 92.91 | AC35: =VLOOKUP($A35,'2012'!$B$117:$N$153,6,0) -> 94.496075 | AD35: =VLOOKUP($A35,'2012'!$B$117:$N$153,7,0) -> 93.854318 | AE35: =VLOOKUP($A35,'2012'!$B$117:$N$153,8,0) -> 93.192814 | AF35: =VLOOKUP($A35,'2012'!$B$117:$N$153,9,0) -> 94.893705 | AG35: =VLOOKUP($A35,'2012'!$B$117:$N$153,10,0) -> 93.453282 | AH35: =VLOOKUP($A35,'2012'!$B$117:$N$153,11,0) -> 95.137833
A36: 연기 | B36: 5급 | AB36: =VLOOKUP($A36,'2012'!$B$117:$N$153,13,0) -> #N/A | AC36: =VLOOKUP($A36,'2012'!$B$117:$N$153,6,0) -> 93.832029 | AD36: =VLOOKUP($A36,'2012'!$B$117:$N$153,7,0) -> 92.731887 | AE36: =VLOOKUP($A36,'2012'!$B$117:$N$153,8,0) -> 95.737377 | AF36: =VLOOKUP($A36,'2012'!$B$117:$N$153,9,0) -> 90.843117 | AG36: =VLOOKUP($A36,'2012'!$B$117:$N$153,10,0) -> 86.562358 | AH36: =VLOOKUP($A36,'2012'!$B$117:$N$153,11,0) -> 94.932172

Sheet 2015
B1: 종합
J3: 47.5 | N3: 47.5 | O3: 5
B4: 구분 | C4: 총괄국 | D4: 급수 | E4: 전체순위 | F4: 급내순위 | G4: 청내순위 | H4: 종합 KPCSI | I4: 1) 이용고객 종합 | J4: 창구 | N4: 집배 | O4: 2) 현장 모니터링 | Q4: 전체순위 | R4: 급내순위
J5: 창구종합 | K5: 우편 | L5: 예금 | M5: 보험 | R5: 4급 | S5: 5급 | U5: 목표
B6: 전체 | H6: {=SUMPRODUCT($J$3:$O$3,J6:O6)/SUM(($J$3:$O$3)*(J6:O6<>"."))} -> 95.481801 | I6: {=SUMPRODUCT($J$3:$N$3,J6:N6)/SUM(($J$3:$N$3)*(J6:N6<>"."))} -> 95.406588 | J6: 95.058443 | K6: 94.967424 | L6: 95.243772 | M6: 95.472119 | N6: 95.754733 | O6: 96.91086
B7: 청 합계 | D7: - | E7: - | F7: - | G7: - | H7: {=SUMPRODUCT($J$3:$O$3,J7:O7)/SUM(($J$3:$O$3)*(J7:O7<>"."))} -> 93.766098 | I7: {=SUMPRODUCT($J$3:$N$3,J7:N7)/SUM(($J$3:$N$3)*(J7:N7<>"."))} -> 93.706658 | J7: 92.542106 | K7: 92.529709 | L7: 92.21507 | M7: 93.406497 | N7: 94.871211 | O7: 94.895455 | Q7: . | R7: =IF($D7=R$5,H7,".") -> . | S7: =IF($D7=S$5,H7,".") -> .
B8: 서울 | C8: 서울중앙 | D8: 4급 | E8: =RANK(H8,$Q$8:$Q$238) -> 168 | F8: =IF(D8="4급",RANK(H8,$R$8:$R$238),IF(D8="5급",RANK(H8,$S$8:$S$238),"-")) -> 66 | G8: =RANK(H8,$H$8:$H$29) -> 7 | H8: {=SUMPRODUCT($J$3:$O$3,J8:O8)/SUM(($J$3:$O$3)*(J8:O8<>"."))} -> 94.404464 | I8: {=SUMPRODUCT($J$3:$N$3,J8:N8)/SUM(($J$3:$N$3)*(J8:N8<>"."))} -> 94.394172 | J8: 93.160662 | K8: 91.865062 | L8: 94.422449 | M8: 96.093821 | N8: 95.627683 | O8: 94.6 | Q8: =H8 -> 94.404464 | R8: =IF($D8=R$5,H8,".") -> 94.404464 | S8: =IF($D8=S$5,H8,".") -> .
C9: 광화문 | D9: 4급 | E9: =RANK(H9,$Q$8:$Q$238) -> 144 | F9: =IF(D9="4급",RANK(H9,$R$8:$R$238),IF(D9="5급",RANK(H9,$S$8:$S$238),"-")) -> 49 | G9: =RANK(H9,$H$8:$H$29) -> 2 | H9: {=SUMPRODUCT($J$3:$O$3,J9:O9)/SUM(($J$3:$O$3)*(J9:O9<>"."))} -> 94.821751 | I9: {=SUMPRODUCT($J$3:$N$3,J9:N9)/SUM(($J$3:$N$3)*(J9:N9<>"."))} -> 94.749212 | J9: 93.493878 | K9: 93.784402 | L9: 91.923661 | M9: 95.83913 | N9: 96.004545 | O9: 96.2 | Q9: =H9 -> 94.821751 | R9: =IF($D9=R$5,H9,".") -> 94.821751 | S9: =IF($D9=S$5,H9,".") -> .
C10: 서대문 | D10: 4급 | E10: =RANK(H10,$Q$8:$Q$238) -> 164 | F10: =IF(D10="4급",RANK(H10,$R$8:$R$238),IF(D10="5급",RANK(H10,$S$8:$S$238),"-")) -> 63 | G10: =RANK(H10,$H$8:$H$29) -> 5 | H10: {=SUMPRODUCT($J$3:$O$3,J10:O10)/SUM(($J$3:$O$3)*(J10:O10<>"."))} -> 94.448075 | I10: {=SUMPRODUCT($J$3:$N$3,J10:N10)/SUM(($J$3:$N$3)*(J10:N10<>"."))} -> 94.419027 | J10: 94.085118 | K10: 94.525773 | L10: 93.718947 | M10: 92.606341 | N10: 94.752936 | O10: 95 | Q10: =H10 -> 94.448075 | R10: =IF($D10=R$5,H10,".") -> 94.448075 | S10: =IF($D10=S$5,H10,".") -> .
C11: 동대문 | D11: 4급 | E11: =RANK(H11,$Q$8:$Q$238) -> 214 | F11: =IF(D11="4급",RANK(H11,$R$8:$R$238),IF(D11="5급",RANK(H11,$S$8:$S$238),"-")) -> 104 | G11: =RANK(H11,$H$8:$H$29) -> 18 | H11: {=SUMPRODUCT($J$3:$O$3,J11:O11)/SUM(($J$3:$O$3)*(J11:O11<>"."))} -> 93.04167 | I11: {=SUMPRODUCT($J$3:$N$3,J11:N11)/SUM(($J$3:$N$3)*(J11:N11<>"."))} -> 92.933337 | J11: 91.657488 | K11: 91.836295 | L11: 89.836283 | M11: 95.32375 | N11: 94.209186 | O11: 95.1 | Q11: =H11 -> 93.04167 | R11: =IF($D11=R$5,H11,".") -> 93.04167 | S11: =IF($D11=S$5,H11,".") -> .
C12: 서울광진 | D12: 4급 | E12: =RANK(H12,$Q$8:$Q$238) -> 199 | F12: =IF(D12="4급",RANK(H12,$R$8:$R$238),IF(D12="5급",RANK(H12,$S$8:$S$238),"-")) -> 92 | G12: =RANK(H12,$H$8:$H$29) -> 13 | H12: {=SUMPRODUCT($J$3:$O$3,J12:O12)/SUM(($J$3:$O$3)*(J12:O12<>"."))} -> 93.639489 | I12: {=SUMPRODUCT($J$3:$N$3,J12:N12)/SUM(($J$3:$N$3)*(J12:N12<>"."))} -> 93.667883 | J12: 91.534504 | K12: 89.2526 | L12: 94.409616 | M12: 96.68587 | N12: 95.801263 | O12: 93.1 | Q12: =H12 -> 93.639489 | R12: =IF($D12=R$5,H12,".") -> 93.639489 | S12: =IF($D12=S$5,H12,".") -> .
C13: 서울마포 | D13: 4급 | E13: =RANK(H13,$Q$8:$Q$238) -> 173 | F13: =IF(D13="4급",RANK(H13,$R$8:$R$238),IF(D13="5급",RANK(H13,$S$8:$S$238),"-")) -> 70 | G13: =RANK(H13,$H$8:$H$29) -> 9 | H13: {=SUMPRODUCT($J$3:$O$3,J13:O13)/SUM(($J$3:$O$3)*(J13:O13<>"."))} -> 94.33728 | I13: {=SUMPRODUCT($J$3:$N$3,J13:N13)/SUM(($J$3:$N$3)*(J13:N13<>"."))} -> 94.439243 | J13: 93.187671 | K13: 94.313095 | L13: 90.689808 | M13: 92.884211 | N13: 95.690814 | O13: 92.4 | Q13: =H13 -> 94.33728 | R13: =IF($D13=R$5,H13,".") -> 94.33728 | S13: =IF($D13=S$5,H13,".") -> .
C14: 서울도봉 | D14: 4급 | E14: =RANK(H14,$Q$8:$Q$238) -> 158 | F14: =IF(D14="4급",RANK(H14,$R$8:$R$238),IF(D14="5급",RANK(H14,$S$8:$S$238),"-")) -> 58 | G14: =RANK(H14,$H$8:$H$29) -> 4 | H14: {=SUMPRODUCT($J$3:$O$3,J14:O14)/SUM(($J$3:$O$3)*(J14:O14<>"."))} -> 94.563033 | I14: {=SUMPRODUCT($J$3:$N$3,J14:N14)/SUM(($J$3:$N$3)*(J14:N14<>"."))} -> 94.734771 | J14: 93.441228 | K14: 94.72677 | L14: 90.838362 | M14: 93.689055 | N14: 96.028314 | O14: 91.3 | Q14: =H14 -> 94.563033 | R14: =IF($D14=R$5,H14,".") -> 94.563033 | S14: =IF($D14=S$5,H14,".") -> .
C15: 서울관악 | D15: 4급 | E15: =RANK(H15,$Q$8:$Q$238) -> 198 | F15: =IF(D15="4급",RANK(H15,$R$8:$R$238),IF(D15="5급",RANK(H15,$S$8:$S$238),"-")) -> 91 | G15: =RANK(H15,$H$8:$H$29) -> 12 | H15: {=SUMPRODUCT($J$3:$O$3,J15:O15)/SUM(($J$3:$O$3)*(J15:O15<>"."))} -> 93.64282 | I15: {=SUMPRODUCT($J$3:$N$3,J15:N15)/SUM(($J$3:$N$3)*(J15:N15<>"."))} -> 93.418758 | J15: 91.376563 | K15: 90.271053 | L15: 93.334375 | M15: 92.907813 | N15: 95.460953 | O15: 97.9 | Q15: =H15 -> 93.64282 | R15: =IF($D15=R$5,H15,".") -> 93.64282 | S15: =IF($D15=S$5,H15,".") -> .
C16: 여의도 | D16: 4급 | E16: =RANK(H16,$Q$8:$Q$238) -> 204 | F16: =IF(D16="4급",RANK(H16,$R$8:$R$238),IF(D16="5급",RANK(H16,$S$8:$S$238),"-")) -> 97 | G16: =RANK(H16,$H$8:$H$29) -> 15 | H16: {=SUMPRODUCT($J$3:$O$3,J16:O16)/SUM(($J$3:$O$3)*(J16:O16<>"."))} -> 93.559434 | I16: {=SUMPRODUCT($J$3:$N$3,J16:N16)/SUM(($J$3:$N$3)*(J16:N16<>"."))} -> 93.373088 | J16: 91.276795 | K16: 89.563459 | L16: 93.47963 | M16: 95.293182 | N16: 95.469381 | O16: 97.1 | Q16: =H16 -> 93.559434 | R16: =IF($D16=R$5,H16,".") -> 93.559434 | S16: =IF($D16=S$5,H16,".") -> .
C17: 서울강남 | D17: 4급 | E17: =RANK(H17,$Q$8:$Q$238) -> 185 | F17: =IF(D17="4급",RANK(H17,$R$8:$R$238),IF(D17="5급",RANK(H17,$S$8:$S$238),"-")) -> 80 | G17: =RANK(H17,$H$8:$H$29) -> 10 | H17: {=SUMPRODUCT($J$3:$O$3,J17:O17)/SUM(($J$3:$O$3)*(J17:O17<>"."))} -> 94.042923 | I17: {=SUMPRODUCT($J$3:$N$3,J17:N17)/SUM(($J$3:$N$3)*(J17:N17<>"."))} -> 93.934656 | J17: 92.647342 | K17: 92.846133 | L17: 91.821501 | M17: 93.322251 | N17: 95.22197 | O17: 96.1 | Q17: =H17 -> 94.042923 | R17: =IF($D17=R$5,H17,".") -> 94.042923 | S17: =IF($D17=S$5,H17,".") -> .
C18: 서울은평 | D18: 4급 | E18: =RANK(H18,$Q$8:$Q$238) -> 212 | F18: =IF(D18="4급",RANK(H18,$R$8:$R$238),IF(D18="5급",RANK(H18,$S$8:$S$238),"-")) -> 103 | G18: =RANK(H18,$H$8:$H$29) -> 17 | H18: {=SUMPRODUCT($J$3:$O$3,J18:O18)/SUM(($J$3:$O$3)*(J18:O18<>"."))} -> 93.234766 | I18: {=SUMPRODUCT($J$3:$N$3,J18:N18)/SUM(($J$3:$N$3)*(J18:N18<>"."))} -> 92.941859 | J18: 92.687631 | K18: 93.121914 | L18: 91.347329 | M18: 93.772059 | N18: 93.196086 | O18: 98.8 | Q18: =H18 -> 93.234766 | R18: =IF($D18=R$5,H18,".") -> 93.234766 | S18: =IF($D18=S$5,H18,".") -> .
C19: 서울금천 | D19: 4급 | E19: =RANK(H19,$Q$8:$Q$238) -> 216 | F19: =IF(D19="4급",RANK(H19,$R$8:$R$238),IF(D19="5급",RANK(H19,$S$8:$S$238),"-")) -> 106 | G19: =RANK(H19,$H$8:$H$29) -> 20 | H19: {=SUMPRODUCT($J$3:$O$3,J19:O19)/SUM(($J$3:$O$3)*(J19:O19<>"."))} -> 92.922504 | I19: {=SUMPRODUCT($J$3:$N$3,J19:N19)/SUM(($J$3:$N$3)*(J19:N19<>"."))} -> 92.823688 | J19: 91.681656 | K19: 91.409091 | L19: 91.368516 | M19: 94.027547 | N19: 93.96572 | O19: 94.8 | Q19: =H19 -> 92.922504 | R19: =IF($D19=R$5,H19,".") -> 92.922504 | S19: =IF($D19=S$5,H19,".") -> .
C20: 서울성북 | D20: 4급 | E20: =RANK(H20,$Q$8:$Q$238) -> 197 | F20: =IF(D20="4급",RANK(H20,$R$8:$R$238),IF(D20="5급",RANK(H20,$S$8:$S$238),"-")) -> 90 | G20: =RANK(H20,$H$8:$H$29) -> 11 | H20: {=SUMPRODUCT($J$3:$O$3,J20:O20)/SUM(($J$3:$O$3)*(J20:O20<>"."))} -> 93.643401 | I20: {=SUMPRODUCT($J$3:$N$3,J20:N20)/SUM(($J$3:$N$3)*(J20:N20<>"."))} -> 93.866738 | J20: 93.220566 | K20: 93.57886 | L20: 92.785465 | M20: 92.329167 | N20: 94.51291 | O20: 89.4 | Q20: =H20 -> 93.643401 | R20: =IF($D20=R$5,H20,".") -> 93.643401 | S20: =IF($D20=S$5,H20,".") -> .
... C29: 서울중랑 | D29: 4급 | E29: =RANK(H29,$Q$8:$Q$238) -> 123 | F29: =IF(D29="4급",RANK(H29,$R$8:$R$238),IF(D29="5급",RANK(H29,$S$8:$S$238),"-")) -> 30 | G29: =RANK(H29,$H$8:$H$29) -> 1 | H29: {=SUMPRODUCT($J$3:$O$3,J29:O29)/SUM(($J$3:$O$3)*(J29:O29<>"."))} -> 95.137694 | I29: {=SUMPRODUCT($J$3:$N$3,J29:N29)/SUM(($J$3:$N$3)*(J29:N29<>"."))} -> 95.518626 | J29: 94.044543 | K29: 96.39726 | L29: 90.22289 | M29: 92.933824 | N29: 96.992708 | O29: 87.9 | Q29: =H29 -> 95.137694 | R29: =IF($D29=R$5,H29,".") -> 95.137694 | S29: =IF($D29=S$5,H29,".") -> .
B30: 청 합계 | D30: - | E30: - | F30: - | G30: - | H30: {=SUMPRODUCT($J$3:$O$3,J30:O30)/SUM(($J$3:$O$3)*(J30:O30<>"."))} -> 94.109151 | I30: {=SUMPRODUCT($J$3:$N$3,J30:N30)/SUM(($J$3:$N$3)*(J30:N30<>"."))} -> 94.02358 | J30: 93.140066 | K30: 93.209671 | L30: 93.143487 | M30: 92.836 | N30: 94.907093 | O30: 95.735 | Q30: . | R30: =IF($D30=R$5,H30,".") -> . | S30: =IF($D30=S$5,H30,".") -> .
B31: 경인 | C31: 인천 | D31: 4급 | E31: =RANK(H31,$Q$8:$Q$238) -> 174 | F31: =IF(D31="4급",RANK(H31,$R$8:$R$238),IF(D31="5급",RANK(H31,$S$8:$S$238),"-")) -> 71 | G31: =RANK(H31,$H$31:$H$70) -> 18 | H31: {=SUMPRODUCT($J$3:$O$3,J31:O31)/SUM(($J$3:$O$3)*(J31:O31<>"."))} -> 94.313887 | I31: {=SUMPRODUCT($J$3:$N$3,J31:N31)/SUM(($J$3:$N$3)*(J31:N31<>"."))} -> 94.061986 | J31: 93.192944 | K31: 93.448652 | L31: 91.966216 | M31: 95.545516 | N31: 94.931029 | O31: 99.1 | Q31: =H31 -> 94.313887 | R31: =IF($D31=R$5,H31,".") -> 94.313887 | S31: =IF($D31=S$5,H31,".") -> .
C32: 서인천 | D32: 4급 | E32: =RANK(H32,$Q$8:$Q$238) -> 209 | F32: =IF(D32="4급",RANK(H32,$R$8:$R$238),IF(D32="5급",RANK(H32,$S$8:$S$238),"-")) -> 102 | G32: =RANK(H32,$H$31:$H$70) -> 33 | H32: {=SUMPRODUCT($J$3:$O$3,J32:O32)/SUM(($J$3:$O$3)*(J32:O32<>"."))} -> 93.33541 | I32: {=SUMPRODUCT($J$3:$N$3,J32:N32)/SUM(($J$3:$N$3)*(J32:N32<>"."))} -> 93.395168 | J32: 93.460949 | K32: 92.944481 | L32: 93.029167 | M32: 96.677778 | N32: 93.329388 | O32: 92.2 | Q32: =H32 -> 93.33541 | R32: =IF($D32=R$5,H32,".") -> 93.33541 | S32: =IF($D32=S$5,H32,".") -> .
C33: 부평 | D33: 4급 | E33: =RANK(H33,$Q$8:$Q$238) -> 132 | F33: =IF(D33="4급",RANK(H33,$R$8:$R$238),IF(D33="5급",RANK(H33,$S$8:$S$238),"-")) -> 38 | G33: =RANK(H33,$H$31:$H$70) -> 7 | H33: {=SUMPRODUCT($J$3:$O$3,J33:O33)/SUM(($J$3:$O$3)*(J33:O33<>"."))} -> 95.048239 | I33: {=SUMPRODUCT($J$3:$N$3,J33:N33)/SUM(($J$3:$N$3)*(J33:N33<>"."))} -> 94.961305 | J33: 93.780343 | K33: 94.254954 | L33: 93.483654 | M33: 92.480952 | N33: 96.142266 | O33: 96.7 | Q33: =H33 -> 95.048239 | R33: =IF($D33=R$5,H33,".") -> 95.048239 | S33: =IF($D33=S$5,H33,".") -> .
C34: 인천계양 | D34: 4급 | E34: =RANK(H34,$Q$8:$Q$238) -> 161 | F34: =IF(D34="4급",RANK(H34,$R$8:$R$238),IF(D34="5급",RANK(H34,$S$8:$S$238),"-")) -> 60 | G34: =RANK(H34,$H$31:$H$70) -> 15 | H34: {=SUMPRODUCT($J$3:$O$3,J34:O34)/SUM(($J$3:$O$3)*(J34:O34<>"."))} -> 94.513158 | I34: {=SUMPRODUCT($J$3:$N$3,J34:N34)/SUM(($J$3:$N$3)*(J34:N34<>"."))} -> 94.477009 | J34: 92.670463 | K34: 93.390686 | L34: 92.577941 | M34: 90.143333 | N34: 96.283554 | O34: 95.2 | Q34: =H34 -> 94.513158 | R34: =IF($D34=R$5,H34,".") -> 94.513158 | S34: =IF($D34=S$5,H34,".") -> .
C35: 남인천 | D35: 4급 | E35: =RANK(H35,$Q$8:$Q$238) -> 217 | F35: =IF(D35="4급",RANK(H35,$R$8:$R$238),IF(D35="5급",RANK(H35,$S$8:$S$238),"-")) -> 107 | G35: =RANK(H35,$H$31:$H$70) -> 36 | H35: {=SUMPRODUCT($J$3:$O$3,J35:O35)/SUM(($J$3:$O$3)*(J35:O35<>"."))} -> 92.869067 | I35: {=SUMPRODUCT($J$3:$N$3,J35:N35)/SUM(($J$3:$N$3)*(J35:N35<>"."))} -> 92.820071 | J35: 92.209239 | K35: 91.562512 | L35: 92.825566 | M35: 94.444792 | N35: 93.430903 | O35: 93.8 | Q35: =H35 -> 92.869067 | R35: =IF($D35=R$5,H35,".") -> 92.869067 | S35: =IF($D35=S$5,H35,".") -> .
C36: 의정부 | D36: 4급 | E36: =RANK(H36,$Q$8:$Q$238) -> 159 | F36: =IF(D36="4급",RANK(H36,$R$8:$R$238),IF(D36="5급",RANK(H36,$S$8:$S$238),"-")) -> 59 | G36: =RANK(H36,$H$31:$H$70) -> 13 | H36: {=SUMPRODUCT($J$3:$O$3,J36:O36)/SUM(($J$3:$O$3)*(J36:O36<>"."))} -> 94.544882 | I36: {=SUMPRODUCT($J$3:$N$3,J36:N36)/SUM(($J$3:$N$3)*(J36:N36<>"."))} -> 94.578823 | J36: 93.782078 | K36: 95.4 | L36: 91.615909 | M36: 92.652273 | N36: 95.375568 | O36: 93.9 | Q36: =H36 -> 94.544882 | R36: =IF($D36=R$5,H36,".") -> 94.544882 | S36: =IF($D36=S$5,H36,".") -> .
C37: 수원 | D37: 4급 | E37: =RANK(H37,$Q$8:$Q$238) -> 194 | F37: =IF(D37="4급",RANK(H37,$R$8:$R$238),IF(D37="5급",RANK(H37,$S$8:$S$238),"-")) -> 87 | G37: =RANK(H37,$H$31:$H$70) -> 26 | H37: {=SUMPRODUCT($J$3:$O$3,J37:O37)/SUM(($J$3:$O$3)*(J37:O37<>"."))} -> 93.740426 | I37: {=SUMPRODUCT($J$3:$N$3,J37:N37)/SUM(($J$3:$N$3)*(J37:N37<>"."))} -> 93.479395 | J37: 92.620817 | K37: 92.144706 | L37: 94.396196 | M37: 90.332041 | N37: 94.337973 | O37: 98.7 | Q37: =H37 -> 93.740426 | R37: =IF($D37=R$5,H37,".") -> 93.740426 | S37: =IF($D37=S$5,H37,".") -> .
C38: 동수원 | D38: 4급 | E38: =RANK(H38,$Q$8:$Q$238) -> 208 | F38: =IF(D38="4급",RANK(H38,$R$8:$R$238),IF(D38="5급",RANK(H38,$S$8:$S$238),"-")) -> 101 | G38: =RANK(H38,$H$31:$H$70) -> 32 | H38: {=SUMPRODUCT($J$3:$O$3,J38:O38)/SUM(($J$3:$O$3)*(J38:O38<>"."))} -> 93.351686 | I38: {=SUMPRODUCT($J$3:$N$3,J38:N38)/SUM(($J$3:$N$3)*(J38:N38<>"."))} -> 93.191249 | J38: 92.497586 | K38: 95.317284 | L38: 88.712222 | M38: 89.442105 | N38: 93.884912 | O38: 96.4 | Q38: =H38 -> 93.351686 | R38: =IF($D38=R$5,H38,".") -> 93.351686 | S38: =IF($D38=S$5,H38,".") -> .
C39: 서수원 | D39: 4급 | E39: =RANK(H39,$Q$8:$Q$238) -> 126 | F39: =IF(D39="4급",RANK(H39,$R$8:$R$238),IF(D39="5급",RANK(H39,$S$8:$S$238),"-")) -> 33 | G39: =RANK(H39,$H$31:$H$70) -> 6 | H39: {=SUMPRODUCT($J$3:$O$3,J39:O39)/SUM(($J$3:$O$3)*(J39:O39<>"."))} -> 95.10364 | I39: {=SUMPRODUCT($J$3:$N$3,J39:N39)/SUM(($J$3:$N$3)*(J39:N39<>"."))} -> 94.998568 | J39: 95.296569 | K39: 94.368966 | L39: 96.445968 | M39: 96.694231 | N39: 94.700568 | O39: 97.1 | Q39: =H39 -> 95.10364 | R39: =IF($D39=R$5,H39,".") -> 95.10364 | S39: =IF($D39=S$5,H39,".") -> .
C40: 군포 | D40: 4급 | E40: =RANK(H40,$Q$8:$Q$238) -> 169 | F40: =IF(D40="4급",RANK(H40,$R$8:$R$238),IF(D40="5급",RANK(H40,$S$8:$S$238),"-")) -> 67 | G40: =RANK(H40,$H$31:$H$70) -> 16 | H40: {=SUMPRODUCT($J$3:$O$3,J40:O40)/SUM(($J$3:$O$3)*(J40:O40<>"."))} -> 94.365944 | I40: {=SUMPRODUCT($J$3:$N$3,J40:N40)/SUM(($J$3:$N$3)*(J40:N40<>"."))} -> 94.179942 | J40: 93.874119 | K40: 94.002353 | L40: 92.806893 | M40: 95.818056 | N40: 94.485764 | O40: 97.9 | Q40: =H40 -> 94.365944 | R40: =IF($D40=R$5,H40,".") -> 94.365944 | S40: =IF($D40=S$5,H40,".") -> .
C41: 안양 | D41: 4급 | E41: =RANK(H41,$Q$8:$Q$238) -> 176 | F41: =IF(D41="4급",RANK(H41,$R$8:$R$238),IF(D41="5급",RANK(H41,$S$8:$S$238),"-")) -> 73 | G41: =RANK(H41,$H$31:$H$70) -> 19 | H41: {=SUMPRODUCT($J$3:$O$3,J41:O41)/SUM(($J$3:$O$3)*(J41:O41<>"."))} -> 94.285669 | I41: {=SUMPRODUCT($J$3:$N$3,J41:N41)/SUM(($J$3:$N$3)*(J41:N41<>"."))} -> 94.032284 | J41: 91.323437 | K41: 92.272677 | L41: 91.588725 | M41: 84.865947 | N41: 96.74113 | O41: 99.1 | Q41: =H41 -> 94.285669 | R41: =IF($D41=R$5,H41,".") -> 94.285669 | S41: =IF($D41=S$5,H41,".") -> .
C42: 성남 | D42: 4급 | E42: =RANK(H42,$Q$8:$Q$238) -> 207 | F42: =IF(D42="4급",RANK(H42,$R$8:$R$238),IF(D42="5급",RANK(H42,$S$8:$S$238),"-")) -> 100 | G42: =RANK(H42,$H$31:$H$70) -> 31 | H42: {=SUMPRODUCT($J$3:$O$3,J42:O42)/SUM(($J$3:$O$3)*(J42:O42<>"."))} -> 93.464402 | I42: {=SUMPRODUCT($J$3:$N$3,J42:N42)/SUM(($J$3:$N$3)*(J42:N42<>"."))} -> 93.425686 | J42: 94.056171 | K42: 94.663056 | L42: 93.856655 | M42: 91.358837 | N42: 92.795202 | O42: 94.2 | Q42: =H42 -> 93.464402 | R42: =IF($D42=R$5,H42,".") -> 93.464402 | S42: =IF($D42=S$5,H42,".") -> .
C43: 성남분당 | D43: 4급 | E43: =RANK(H43,$Q$8:$Q$238) -> 200 | F43: =IF(D43="4급",RANK(H43,$R$8:$R$238),IF(D43="5급",RANK(H43,$S$8:$S$238),"-")) -> 93 | G43: =RANK(H43,$H$31:$H$70) -> 28 | H43: {=SUMPRODUCT($J$3:$O$3,J43:O43)/SUM(($J$3:$O$3)*(J43:O43<>"."))} -> 93.630705 | I43: {=SUMPRODUCT($J$3:$N$3,J43:N43)/SUM(($J$3:$N$3)*(J43:N43<>"."))} -> 93.490216 | J43: 91.810167 | K43: 91.156471 | L43: 93.089674 | M43: 91.636842 | N43: 95.170265 | O43: 96.3 | Q43: =H43 -> 93.630705 | R43: =IF($D43=R$5,H43,".") -> 93.630705 | S43: =IF($D43=S$5,H43,".") -> .
... C70: 하남 | D70: 5급 | E70: =RANK(H70,$Q$8:$Q$238) -> 218 | F70: =IF(D70="4급",RANK(H70,$R$8:$R$238),IF(D70="5급",RANK(H70,$S$8:$S$238),"-")) -> 111 | G70: =RANK(H70,$H$31:$H$70) -> 37 | H70: {=SUMPRODUCT($J$3:$O$3,J70:O70)/SUM(($J$3:$O$3)*(J70:O70<>"."))} -> 92.867882 | I70: {=SUMPRODUCT($J$3:$N$3,J70:N70)/SUM(($J$3:$N$3)*(J70:N70<>"."))} -> 92.776718 | J70: 92.486979 | K70: 92.922059 | L70: 91.306864 | M70: 92.892308 | N70: 93.066456 | O70: 94.6 | Q70: =H70 -> 92.867882 | R70: =IF($D70=R$5,H70,".") -> . | S70: =IF($D70=S$5,H70,".") -> 92.867882
B71: 청 합계 | D71: - | E71: - | F71: - | G71: - | H71: {=SUMPRODUCT($J$3:$O$3,J71:O71)/SUM(($J$3:$O$3)*(J71:O71<>"."))} -> 95.335848 | I71: {=SUMPRODUCT($J$3:$N$3,J71:N71)/SUM(($J$3:$N$3)*(J71:N71<>"."))} -> 95.227347 | J71: 94.842174 | K71: 95.243299 | L71: 94.207971 | M71: 94.613868 | N71: 95.61252 | O71: 97.397368 | Q71: . | R71: =IF($D71=R$5,H71,".") -> . | S71: =IF($D71=S$5,H71,".") -> .
B72: 부산 | C72: 부산 | D72: 4급 | E72: =RANK(H72,$Q$8:$Q$238) -> 106 | F72: =IF(D72="4급",RANK(H72,$R$8:$R$238),IF(D72="5급",RANK(H72,$S$8:$S$238),"-")) -> 22 | G72: =RANK(H72,$H$72:$H$109) -> 18 | H72: {=SUMPRODUCT($J$3:$O$3,J72:O72)/SUM(($J$3:$O$3)*(J72:O72<>"."))} -> 95.531179 | I72: {=SUMPRODUCT($J$3:$N$3,J72:N72)/SUM(($J$3:$N$3)*(J72:N72<>"."))} -> 95.406504 | J72: 94.159126 | K72: 95.334208 | L72: 91.38314 | M72: 95.502778 | N72: 96.653883 | O72: 97.9 | Q72: =H72 -> 95.531179 | R72: =IF($D72=R$5,H72,".") -> 95.531179 | S72: =IF($D72=S$5,H72,".") -> .
C73: 동래 | D73: 4급 | E73: =RANK(H73,$Q$8:$Q$238) -> 202 | F73: =IF(D73="4급",RANK(H73,$R$8:$R$238),IF(D73="5급",RANK(H73,$S$8:$S$238),"-")) -> 95 | G73: =RANK(H73,$H$72:$H$109) -> 37 | H73: {=SUMPRODUCT($J$3:$O$3,J73:O73)/SUM(($J$3:$O$3)*(J73:O73<>"."))} -> 93.579194 | I73: {=SUMPRODUCT($J$3:$N$3,J73:N73)/SUM(($J$3:$N$3)*(J73:N73<>"."))} -> 93.378099 | J73: 93.276969 | K73: 93.705471 | L73: 92.360638 | M73: 93.189706 | N73: 93.47923 | O73: 97.4 | Q73: =H73 -> 93.579194 | R73: =IF($D73=R$5,H73,".") -> 93.579194 | S73: =IF($D73=S$5,H73,".") -> .
C74: 남부산 | D74: 4급 | E74: =RANK(H74,$Q$8:$Q$238) -> 122 | F74: =IF(D74="4급",RANK(H74,$R$8:$R$238),IF(D74="5급",RANK(H74,$S$8:$S$238),"-")) -> 29 | G74: =RANK(H74,$H$72:$H$109) -> 22 | H74: {=SUMPRODUCT($J$3:$O$3,J74:O74)/SUM(($J$3:$O$3)*(J74:O74<>"."))} -> 95.174057 | I74: {=SUMPRODUCT($J$3:$N$3,J74:N74)/SUM(($J$3:$N$3)*(J74:N74<>"."))} -> 95.051639 | J74: 94.112368 | K74: 93.987821 | L74: 94.128846 | M74: 94.765476 | N74: 95.990909 | O74: 97.5 | Q74: =H74 -> 95.174057 | R74: =IF($D74=R$5,H74,".") -> 95.174057 | S74: =IF($D74=S$5,H74,".") -> .
C75: 부산사상 | D75: 4급 | E75: =RANK(H75,$Q$8:$Q$238) -> 143 | F75: =IF(D75="4급",RANK(H75,$R$8:$R$238),IF(D75="5급",RANK(H75,$S$8:$S$238),"-")) -> 48 | G75: =RANK(H75,$H$72:$H$109) -> 27 | H75: {=SUMPRODUCT($J$3:$O$3,J75:O75)/SUM(($J$3:$O$3)*(J75:O75<>"."))} -> 94.841426 | I75: {=SUMPRODUCT($J$3:$N$3,J75:N75)/SUM(($J$3:$N$3)*(J75:N75<>"."))} -> 94.706765 | J75: 94.445821 | K75: 94.849485 | L75: 93.18391 | M75: 95.111765 | N75: 94.967708 | O75: 97.4 | Q75: =H75 -> 94.841426 | R75: =IF($D75=R$5,H75,".") -> 94.841426 | S75: =IF($D75=S$5,H75,".") -> .
C76: 부산금정 | D76: 4급 | E76: =RANK(H76,$Q$8:$Q$238) -> 89 | F76: =IF(D76="4급",RANK(H76,$R$8:$R$238),IF(D76="5급",RANK(H76,$S$8:$S$238),"-")) -> 14 | G76: =RANK(H76,$H$72:$H$109) -> 12 | H76: {=SUMPRODUCT($J$3:$O$3,J76:O76)/SUM(($J$3:$O$3)*(J76:O76<>"."))} -> 95.853575 | I76: {=SUMPRODUCT($J$3:$N$3,J76:N76)/SUM(($J$3:$N$3)*(J76:N76<>"."))} -> 95.81429 | J76: 96.474949 | K76: 96.17682 | L76: 96.214744 | M76: 98.685294 | N76: 95.15363 | O76: 96.6 | Q76: =H76 -> 95.853575 | R76: =IF($D76=R$5,H76,".") -> 95.853575 | S76: =IF($D76=S$5,H76,".") -> .
C77: 부산사하 | D77: 4급 | E77: =RANK(H77,$Q$8:$Q$238) -> 152 | F77: =IF(D77="4급",RANK(H77,$R$8:$R$238),IF(D77="5급",RANK(H77,$S$8:$S$238),"-")) -> 55 | G77: =RANK(H77,$H$72:$H$109) -> 30 | H77: {=SUMPRODUCT($J$3:$O$3,J77:O77)/SUM(($J$3:$O$3)*(J77:O77<>"."))} -> 94.624566 | I77: {=SUMPRODUCT($J$3:$N$3,J77:N77)/SUM(($J$3:$N$3)*(J77:N77<>"."))} -> 94.467964 | J77: 93.560107 | K77: 93.857292 | L77: 92.72398 | M77: 94.182132 | N77: 95.375821 | O77: 97.6 | Q77: =H77 -> 94.624566 | R77: =IF($D77=R$5,H77,".") -> 94.624566 | S77: =IF($D77=S$5,H77,".") -> .
C78: 해운대 | D78: 4급 | E78: =RANK(H78,$Q$8:$Q$238) -> 108 | F78: =IF(D78="4급",RANK(H78,$R$8:$R$238),IF(D78="5급",RANK(H78,$S$8:$S$238),"-")) -> 24 | G78: =RANK(H78,$H$72:$H$109) -> 19 | H78: {=SUMPRODUCT($J$3:$O$3,J78:O78)/SUM(($J$3:$O$3)*(J78:O78<>"."))} -> 95.475659 | I78: {=SUMPRODUCT($J$3:$N$3,J78:N78)/SUM(($J$3:$N$3)*(J78:N78<>"."))} -> 95.405957 | J78: 94.905316 | K78: 96.175641 | L78: 94.053125 | M78: 91.141805 | N78: 95.906597 | O78: 96.8 | Q78: =H78 -> 95.475659 | R78: =IF($D78=R$5,H78,".") -> 95.475659 | S78: =IF($D78=S$5,H78,".") -> .
C79: 북부산 | D79: 4급 | E79: =RANK(H79,$Q$8:$Q$238) -> 183 | F79: =IF(D79="4급",RANK(H79,$R$8:$R$238),IF(D79="5급",RANK(H79,$S$8:$S$238),"-")) -> 78 | G79: =RANK(H79,$H$72:$H$109) -> 33 | H79: {=SUMPRODUCT($J$3:$O$3,J79:O79)/SUM(($J$3:$O$3)*(J79:O79<>"."))} -> 94.111363 | I79: {=SUMPRODUCT($J$3:$N$3,J79:N79)/SUM(($J$3:$N$3)*(J79:N79<>"."))} -> 93.896172 | J79: 93.248973 | K79: 93.809118 | L79: 92.044186 | M79: 93.481944 | N79: 94.543371 | O79: 98.2 | Q79: =H79 -> 94.111363 | R79: =IF($D79=R$5,H79,".") -> 94.111363 | S79: =IF($D79=S$5,H79,".") -> .
C80: 부산연제 | D80: 4급 | E80: =RANK(H80,$Q$8:$Q$238) -> 134 | F80: =IF(D80="4급",RANK(H80,$R$8:$R$238),IF(D80="5급",RANK(H80,$S$8:$S$238),"-")) -> 40 | G80: =RANK(H80,$H$72:$H$109) -> 25 | H80: {=SUMPRODUCT($J$3:$O$3,J80:O80)/SUM(($J$3:$O$3)*(J80:O80<>"."))} -> 95.021242 | I80: {=SUMPRODUCT($J$3:$N$3,J80:N80)/SUM(($J$3:$N$3)*(J80:N80<>"."))} -> 94.832886 | J80: 94.303841 | K80: 95.292673 | L80: 91.179792 | M80: 96.356944 | N80: 95.361932 | O80: 98.6 | Q80: =H80 -> 95.021242 | R80: =IF($D80=R$5,H80,".") -> 95.021242 | S80: =IF($D80=S$5,H80,".") -> .
C81: 부산진 | D81: 4급 | E81: =RANK(H81,$Q$8:$Q$238) -> 195 | F81: =IF(D81="4급",RANK(H81,$R$8:$R$238),IF(D81="5급",RANK(H81,$S$8:$S$238),"-")) -> 88 | G81: =RANK(H81,$H$72:$H$109) -> 36 | H81: {=SUMPRODUCT($J$3:$O$3,J81:O81)/SUM(($J$3:$O$3)*(J81:O81<>"."))} -> 93.730933 | I81: {=SUMPRODUCT($J$3:$N$3,J81:N81)/SUM(($J$3:$N$3)*(J81:N81<>"."))} -> 93.74835 | J81: 92.66807 | K81: 91.67677 | L81: 93.684698 | M81: 95.218182 | N81: 94.82863 | O81: 93.4 | Q81: =H81 -> 93.730933 | R81: =IF($D81=R$5,H81,".") -> 93.730933 | S81: =IF($D81=S$5,H81,".") -> .
C82: 울산 | D82: 4급 | E82: =RANK(H82,$Q$8:$Q$238) -> 193 | F82: =IF(D82="4급",RANK(H82,$R$8:$R$238),IF(D82="5급",RANK(H82,$S$8:$S$238),"-")) -> 86 | G82: =RANK(H82,$H$72:$H$109) -> 35 | H82: {=SUMPRODUCT($J$3:$O$3,J82:O82)/SUM(($J$3:$O$3)*(J82:O82<>"."))} -> 93.790635 | I82: {=SUMPRODUCT($J$3:$N$3,J82:N82)/SUM(($J$3:$N$3)*(J82:N82<>"."))} -> 93.658563 | J82: 94.033446 | K82: 94.314147 | L82: 94.474254 | M82: 91.504808 | N82: 93.283681 | O82: 96.3 | Q82: =H82 -> 93.790635 | R82: =IF($D82=R$5,H82,".") -> 93.790635 | S82: =IF($D82=S$5,H82,".") -> .
C83: 남울산 | D83: 4급 | E83: =RANK(H83,$Q$8:$Q$238) -> 125 | F83: =IF(D83="4급",RANK(H83,$R$8:$R$238),IF(D83="5급",RANK(H83,$S$8:$S$238),"-")) -> 32 | G83: =RANK(H83,$H$72:$H$109) -> 23 | H83: {=SUMPRODUCT($J$3:$O$3,J83:O83)/SUM(($J$3:$O$3)*(J83:O83<>"."))} -> 95.134037 | I83: {=SUMPRODUCT($J$3:$N$3,J83:N83)/SUM(($J$3:$N$3)*(J83:N83<>"."))} -> 95.08846 | J83: 93.357381 | K83: 94.314957 | L83: 92.526866 | M83: 91.188462 | N83: 96.819539 | O83: 96 | Q83: =H83 -> 95.134037 | R83: =IF($D83=R$5,H83,".") -> 95.134037 | S83: =IF($D83=S$5,H83,".") -> .
C84: 마산 | D84: 4급 | E84: =RANK(H84,$Q$8:$Q$238) -> 56 | F84: =IF(D84="4급",RANK(H84,$R$8:$R$238),IF(D84="5급",RANK(H84,$S$8:$S$238),"-")) -> 3 | G84: =RANK(H84,$H$72:$H$109) -> 7 | H84: {=SUMPRODUCT($J$3:$O$3,J84:O84)/SUM(($J$3:$O$3)*(J84:O84<>"."))} -> 96.402169 | I84: {=SUMPRODUCT($J$3:$N$3,J84:N84)/SUM(($J$3:$N$3)*(J84:N84<>"."))} -> 96.29702 | J84: 94.227941 | K84: 95.817327 | L84: 92.239796 | M84: 91.0725 | N84: 98.366098 | O84: 98.4 | Q84: =H84 -> 96.402169 | R84: =IF($D84=R$5,H84,".") -> 96.402169 | S84: =IF($D84=S$5,H84,".") -> .
... C109: 합천 | D109: 5급 | E109: =RANK(H109,$Q$8:$Q$238) -> 148 | F109: =IF(D109="4급",RANK(H109,$R$8:$R$238),IF(D109="5급",RANK(H109,$S$8:$S$238),"-")) -> 96 | G109: =RANK(H109,$H$72:$H$109) -> 29 | H109: {=SUMPRODUCT($J$3:$O$3,J109:O109)/SUM(($J$3:$O$3)*(J109:O109<>"."))} -> 94.677015 | I109: {=SUMPRODUCT($J$3:$N$3,J109:N109)/SUM(($J$3:$N$3)*(J109:N109<>"."))} -> 94.491595 | J109: 95.86265 | K109: 96.145122 | L109: 94.678744 | M109: 97.747619 | N109: 93.120539 | O109: 98.2 | Q109: =H109 -> 94.677015 | R109: =IF($D109=R$5,H109,".") -> . | S109: =IF($D109=S$5,H109,".") -> 94.677015
B110: 청 합계 | D110: - | E110: - | F110: - | G110: - | H110: {=SUMPRODUCT($J$3:$O$3,J110:O110)/SUM(($J$3:$O$3)*(J110:O110<>"."))} -> 95.904216 | I110: {=SUMPRODUCT($J$3:$N$3,J110:N110)/SUM(($J$3:$N$3)*(J110:N110<>"."))} -> 95.774504 | J110: 95.039247 | K110: 95.200331 | L110: 94.667167 | M110: 95.251783 | N110: 96.509761 | O110: 98.36875 | Q110: . | R110: =IF($D110=R$5,H110,".") -> . | S110: =IF($D110=S$5,H110,".") -> . | W110: 구분 | X110: 배정목표
B111: 충청 | C111: 공주 | D111: 4급 | E111: =RANK(H111,$Q$8:$Q$238) -> 86 | F111: =IF(D111="4급",RANK(H111,$R$8:$R$238),IF(D111="5급",RANK(H111,$S$8:$S$238),"-")) -> 12 | G111: =RANK(H111,$H$111:$H$142) -> 17 | H111: {=SUMPRODUCT($J$3:$O$3,J111:O111)/SUM(($J$3:$O$3)*(J111:O111<>"."))} -> 95.923016 | I111: {=SUMPRODUCT($J$3:$N$3,J111:N111)/SUM(($J$3:$N$3)*(J111:N111<>"."))} -> 95.708438 | J111: 95.063278 | K111: 94.179213 | L111: 96.148636 | M111: 95.967423 | N111: 96.353598 | O111: 100 | Q111: =H111 -> 95.923016 | R111: =IF($D111=R$5,H111,".") -> 95.923016 | S111: =IF($D111=S$5,H111,".") -> . | U111: =VLOOKUP(C111,$W$110:$X$145,2,0) -> 94.07 | W111: 대전 | X111: 93.311679
C112: 대전 | D112: 4급 | E112: =RANK(H112,$Q$8:$Q$238) -> 100 | F112: =IF(D112="4급",RANK(H112,$R$8:$R$238),IF(D112="5급",RANK(H112,$S$8:$S$238),"-")) -> 19 | G112: =RANK(H112,$H$111:$H$142) -> 20 | H112: {=SUMPRODUCT($J$3:$O$3,J112:O112)/SUM(($J$3:$O$3)*(J112:O112<>"."))} -> 95.638326 | I112: {=SUMPRODUCT($J$3:$N$3,J112:N112)/SUM(($J$3:$N$3)*(J112:N112<>"."))} -> 95.461396 | J112: 94.819162 | K112: 93.913096 | L112: 97.239674 | M112: 94.3 | N112: 96.10363 | O112: 99 | Q112: =H112 -> 95.638326 | R112: =IF($D112=R$5,H112,".") -> 95.638326 | S112: =IF($D112=S$5,H112,".") -> . | U112: =VLOOKUP(C112,$W$110:$X$145,2,0) -> 93.311679 | W112: 서대전 | X112: 92.858965
C113: 대전대덕 | D113: 4급 | E113: =RANK(H113,$Q$8:$Q$238) -> 103 | F113: =IF(D113="4급",RANK(H113,$R$8:$R$238),IF(D113="5급",RANK(H113,$S$8:$S$238),"-")) -> 21 | G113: =RANK(H113,$H$111:$H$142) -> 22 | H113: {=SUMPRODUCT($J$3:$O$3,J113:O113)/SUM(($J$3:$O$3)*(J113:O113<>"."))} -> 95.621019 | I113: {=SUMPRODUCT($J$3:$N$3,J113:N113)/SUM(($J$3:$N$3)*(J113:N113<>"."))} -> 95.516863 | J113: 94.527128 | K113: 94.636667 | L113: 95.411336 | M113: 91.825 | N113: 96.506597 | O113: 97.6 | Q113: =H113 -> 95.621019 | R113: =IF($D113=R$5,H113,".") -> 95.621019 | S113: =IF($D113=S$5,H113,".") -> . | U113: =VLOOKUP(C113,$W$110:$X$145,2,0) -> 92.778212 | W113: 대전유성 | X113: 93.534346
C114: 대전둔산 | D114: 4급 | E114: =RANK(H114,$Q$8:$Q$238) -> 107 | F114: =IF(D114="4급",RANK(H114,$R$8:$R$238),IF(D114="5급",RANK(H114,$S$8:$S$238),"-")) -> 23 | G114: =RANK(H114,$H$111:$H$142) -> 23 | H114: {=SUMPRODUCT($J$3:$O$3,J114:O114)/SUM(($J$3:$O$3)*(J114:O114<>"."))} -> 95.519869 | I114: {=SUMPRODUCT($J$3:$N$3,J114:N114)/SUM(($J$3:$N$3)*(J114:N114<>"."))} -> 95.284073 | J114: 93.620039 | K114: 93.722993 | L114: 93.116748 | M114: 94.446429 | N114: 96.948106 | O114: 100 | Q114: =H114 -> 95.519869 | R114: =IF($D114=R$5,H114,".") -> 95.519869 | S114: =IF($D114=S$5,H114,".") -> . | U114: =VLOOKUP(C114,$W$110:$X$145,2,0) -> 92.076079 | W114: 대전대덕 | X114: 92.778212
C115: 대전유성 | D115: 4급 | E115: =RANK(H115,$Q$8:$Q$238) -> 189 | F115: =IF(D115="4급",RANK(H115,$R$8:$R$238),IF(D115="5급",RANK(H115,$S$8:$S$238),"-")) -> 84 | G115: =RANK(H115,$H$111:$H$142) -> 32 | H115: {=SUMPRODUCT($J$3:$O$3,J115:O115)/SUM(($J$3:$O$3)*(J115:O115<>"."))} -> 93.924277 | I115: {=SUMPRODUCT($J$3:$N$3,J115:N115)/SUM(($J$3:$N$3)*(J115:N115<>"."))} -> 93.630818 | J115: 93.608385 | K115: 93.32191 | L115: 94.352941 | M115: 93.014286 | N115: 93.653251 | O115: 99.5 | Q115: =H115 -> 93.924277 | R115: =IF($D115=R$5,H115,".") -> 93.924277 | S115: =IF($D115=S$5,H115,".") -> . | U115: =VLOOKUP(C115,$W$110:$X$145,2,0) -> 93.534346 | W115: 대전둔산 | X115: 92.076079
C116: 서대전 | D116: 4급 | E116: =RANK(H116,$Q$8:$Q$238) -> 116 | F116: =IF(D116="4급",RANK(H116,$R$8:$R$238),IF(D116="5급",RANK(H116,$S$8:$S$238),"-")) -> 26 | G116: =RANK(H116,$H$111:$H$142) -> 27 | H116: {=SUMPRODUCT($J$3:$O$3,J116:O116)/SUM(($J$3:$O$3)*(J116:O116<>"."))} -> 95.300453 | I116: {=SUMPRODUCT($J$3:$N$3,J116:N116)/SUM(($J$3:$N$3)*(J116:N116<>"."))} -> 95.079424 | J116: 93.616139 | K116: 95.53629 | L116: 90.758696 | M116: 91.135526 | N116: 96.542708 | O116: 99.5 | Q116: =H116 -> 95.300453 | R116: =IF($D116=R$5,H116,".") -> 95.300453 | S116: =IF($D116=S$5,H116,".") -> . | U116: =VLOOKUP(C116,$W$110:$X$145,2,0) -> 92.858965 | W116: 천안 | X116: 92.53136
C117: 서청주 | D117: 4급 | E117: =RANK(H117,$Q$8:$Q$238) -> 163 | F117: =IF(D117="4급",RANK(H117,$R$8:$R$238),IF(D117="5급",RANK(H117,$S$8:$S$238),"-")) -> 62 | G117: =RANK(H117,$H$111:$H$142) -> 30 | H117: {=SUMPRODUCT($J$3:$O$3,J117:O117)/SUM(($J$3:$O$3)*(J117:O117<>"."))} -> 94.464362 | I117: {=SUMPRODUCT($J$3:$N$3,J117:N117)/SUM(($J$3:$N$3)*(J117:N117<>"."))} -> 94.294065 | J117: 93.899841 | K117: 94.560593 | L117: 91.843959 | M117: 96.236607 | N117: 94.688289 | O117: 97.7 | Q117: =H117 -> 94.464362 | R117: =IF($D117=R$5,H117,".") -> 94.464362 | S117: =IF($D117=S$5,H117,".") -> . | U117: =VLOOKUP(C117,$W$110:$X$145,2,0) -> 93.366279 | W117: 동천안 | X117: 93.127835
C118: 아산 | D118: 4급 | E118: =RANK(H118,$Q$8:$Q$238) -> 60 | F118: =IF(D118="4급",RANK(H118,$R$8:$R$238),IF(D118="5급",RANK(H118,$S$8:$S$238),"-")) -> 6 | G118: =RANK(H118,$H$111:$H$142) -> 13 | H118: {=SUMPRODUCT($J$3:$O$3,J118:O118)/SUM(($J$3:$O$3)*(J118:O118<>"."))} -> 96.344325 | I118: {=SUMPRODUCT($J$3:$N$3,J118:N118)/SUM(($J$3:$N$3)*(J118:N118<>"."))} -> 96.172973 | J118: 94.86094 | K118: 94.573165 | L118: 95.063955 | M118: 95.544231 | N118: 97.485006 | O118: 99.6 | Q118: =H118 -> 96.344325 | R118: =IF($D118=R$5,H118,".") -> 96.344325 | S118: =IF($D118=S$5,H118,".") -> . | U118: =VLOOKUP(C118,$W$110:$X$145,2,0) -> 93.545055 | W118: 공주 | X118: 94.07
C119: 제천 | D119: 4급 | E119: =RANK(H119,$Q$8:$Q$238) -> 74 | F119: =IF(D119="4급",RANK(H119,$R$8:$R$238),IF(D119="5급",RANK(H119,$S$8:$S$238),"-")) -> 8 | G119: =RANK(H119,$H$111:$H$142) -> 14 | H119: {=SUMPRODUCT($J$3:$O$3,J119:O119)/SUM(($J$3:$O$3)*(J119:O119<>"."))} -> 96.092395 | I119: {=SUMPRODUCT($J$3:$N$3,J119:N119)/SUM(($J$3:$N$3)*(J119:N119<>"."))} -> 95.939363 | J119: 95.066668 | K119: 96.554395 | L119: 94.059166 | M119: 90.565278 | N119: 96.812058 | O119: 99 | Q119: =H119 -> 96.092395 | R119: =IF($D119=R$5,H119,".") -> 96.092395 | S119: =IF($D119=S$5,H119,".") -> . | U119: =VLOOKUP(C119,$W$110:$X$145,2,0) -> 94.074064 | W119: 아산 | X119: 93.545055
C120: 동천안 | D120: 4급 | E120: =RANK(H120,$Q$8:$Q$238) -> 109 | F120: =IF(D120="4급",RANK(H120,$R$8:$R$238),IF(D120="5급",RANK(H120,$S$8:$S$238),"-")) -> 25 | G120: =RANK(H120,$H$111:$H$142) -> 24 | H120: {=SUMPRODUCT($J$3:$O$3,J120:O120)/SUM(($J$3:$O$3)*(J120:O120<>"."))} -> 95.426797 | I120: {=SUMPRODUCT($J$3:$N$3,J120:N120)/SUM(($J$3:$N$3)*(J120:N120<>"."))} -> 95.254523 | J120: 94.777071 | K120: 94.533565 | L120: 95.703182 | M120: 93.603856 | N120: 95.731976 | O120: 98.7 | Q120: =H120 -> 95.426797 | R120: =IF($D120=R$5,H120,".") -> 95.426797 | S120: =IF($D120=S$5,H120,".") -> . | U120: =VLOOKUP(C120,$W$110:$X$145,2,0) -> 93.127835 | W120: 논산 | X120: 94.058535
C121: 천안 | D121: 4급 | E121: =RANK(H121,$Q$8:$Q$238) -> 139 | F121: =IF(D121="4급",RANK(H121,$R$8:$R$238),IF(D121="5급",RANK(H121,$S$8:$S$238),"-")) -> 45 | G121: =RANK(H121,$H$111:$H$142) -> 29 | H121: {=SUMPRODUCT($J$3:$O$3,J121:O121)/SUM(($J$3:$O$3)*(J121:O121<>"."))} -> 94.906362 | I121: {=SUMPRODUCT($J$3:$N$3,J121:N121)/SUM(($J$3:$N$3)*(J121:N121<>"."))} -> 94.680381 | J121: 93.871052 | K121: 93.446753 | L121: 93.978787 | M121: 95.434722 | N121: 95.48971 | O121: 99.2 | Q121: =H121 -> 94.906362 | R121: =IF($D121=R$5,H121,".") -> 94.906362 | S121: =IF($D121=S$5,H121,".") -> . | U121: =VLOOKUP(C121,$W$110:$X$145,2,0) -> 92.53136 | W121: 청주 | X121: 93.947698
C122: 청주 | D122: 4급 | E122: =RANK(H122,$Q$8:$Q$238) -> 167 | F122: =IF(D122="4급",RANK(H122,$R$8:$R$238),IF(D122="5급",RANK(H122,$S$8:$S$238),"-")) -> 65 | G122: =RANK(H122,$H$111:$H$142) -> 31 | H122: {=SUMPRODUCT($J$3:$O$3,J122:O122)/SUM(($J$3:$O$3)*(J122:O122<>"."))} -> 94.407836 | I122: {=SUMPRODUCT($J$3:$N$3,J122:N122)/SUM(($J$3:$N$3)*(J122:N122<>"."))} -> 94.17667 | J122: 94.161831 | K122: 94.663496 | L122: 92.723437 | M122: 95.576594 | N122: 94.191509 | O122: 98.8 | Q122: =H122 -> 94.407836 | R122: =IF($D122=R$5,H122,".") -> 94.407836 | S122: =IF($D122=S$5,H122,".") -> . | U122: =VLOOKUP(C122,$W$110:$X$145,2,0) -> 93.947698 | W122: 서청주 | X122: 93.366279
C123: 충주 | D123: 4급 | E123: =RANK(H123,$Q$8:$Q$238) -> 77 | F123: =IF(D123="4급",RANK(H123,$R$8:$R$238),IF(D123="5급",RANK(H123,$S$8:$S$238),"-")) -> 10 | G123: =RANK(H123,$H$111:$H$142) -> 15 | H123: {=SUMPRODUCT($J$3:$O$3,J123:O123)/SUM(($J$3:$O$3)*(J123:O123<>"."))} -> 96.066276 | I123: {=SUMPRODUCT($J$3:$N$3,J123:N123)/SUM(($J$3:$N$3)*(J123:N123<>"."))} -> 95.901343 | J123: 94.589681 | K123: 94.237611 | L123: 94.99228 | M123: 94.932143 | N123: 97.213005 | O123: 99.2 | Q123: =H123 -> 96.066276 | R123: =IF($D123=R$5,H123,".") -> 96.066276 | S123: =IF($D123=S$5,H123,".") -> . | U123: =VLOOKUP(C123,$W$110:$X$145,2,0) -> 94.074064 | W123: 충주 | X123: 94.074064
... C142: 홍성 | D142: 5급 | E142: =RANK(H142,$Q$8:$Q$238) -> 46 | F142: =IF(D142="4급",RANK(H142,$R$8:$R$238),IF(D142="5급",RANK(H142,$S$8:$S$238),"-")) -> 46 | G142: =RANK(H142,$H$111:$H$142) -> 9 | H142: {=SUMPRODUCT($J$3:$O$3,J142:O142)/SUM(($J$3:$O$3)*(J142:O142<>"."))} -> 96.580065 | I142: {=SUMPRODUCT($J$3:$N$3,J142:N142)/SUM(($J$3:$N$3)*(J142:N142<>"."))} -> 96.579015 | J142: 95.518006 | K142: 95.514064 | L142: 95.607895 | M142: 95.344444 | N142: 97.640025 | O142: 96.6 | Q142: =H142 -> 96.580065 | R142: =IF($D142=R$5,H142,".") -> . | S142: =IF($D142=S$5,H142,".") -> 96.580065 | U142: =VLOOKUP(C142,$W$110:$X$145,2,0) -> 95.14256 | W142: 영동 | X142: 95.71356
B143: 청 합계 | D143: - | E143: - | F143: - | G143: - | H143: {=SUMPRODUCT($J$3:$O$3,J143:O143)/SUM(($J$3:$O$3)*(J143:O143<>"."))} -> 96.316114 | I143: {=SUMPRODUCT($J$3:$N$3,J143:N143)/SUM(($J$3:$N$3)*(J143:N143<>"."))} -> 96.314226 | J143: 95.841279 | K143: 96.086068 | L143: 95.360974 | M143: 96.032205 | N143: 96.787172 | O143: 96.352 | Q143: . | R143: =IF($D143=R$5,H143,".") -> . | S143: =IF($D143=S$5,H143,".") -> . | W143: 보은 | X143: 95.701518
B144: 전남 | C144: 광주 | D144: 4급 | E144: =RANK(H144,$Q$8:$Q$238) -> 137 | F144: =IF(D144="4급",RANK(H144,$R$8:$R$238),IF(D144="5급",RANK(H144,$S$8:$S$238),"-")) -> 43 | G144: =RANK(H144,$H$144:$H$169) -> 25 | H144: {=SUMPRODUCT($J$3:$O$3,J144:O144)/SUM(($J$3:$O$3)*(J144:O144<>"."))} -> 94.97465 | I144: {=SUMPRODUCT($J$3:$N$3,J144:N144)/SUM(($J$3:$N$3)*(J144:N144<>"."))} -> 94.978579 | J144: 93.535157 | K144: 94.261979 | L144: 93.695683 | M144: 89.242593 | N144: 96.422001 | O144: 94.9 | Q144: =H144 -> 94.97465 | R144: =IF($D144=R$5,H144,".") -> 94.97465 | S144: =IF($D144=S$5,H144,".") -> . | W144: 5급평균 | X144: 94.997879
C145: 북광주 | D145: 4급 | E145: =RANK(H145,$Q$8:$Q$238) -> 127 | F145: =IF(D145="4급",RANK(H145,$R$8:$R$238),IF(D145="5급",RANK(H145,$S$8:$S$238),"-")) -> 34 | G145: =RANK(H145,$H$144:$H$169) -> 22 | H145: {=SUMPRODUCT($J$3:$O$3,J145:O145)/SUM(($J$3:$O$3)*(J145:O145<>"."))} -> 95.091801 | I145: {=SUMPRODUCT($J$3:$N$3,J145:N145)/SUM(($J$3:$N$3)*(J145:N145<>"."))} -> 95.170317 | J145: 94.79379 | K145: 95.129959 | L145: 93.912083 | M145: 95.303204 | N145: 95.546843 | O145: 93.6 | Q145: =H145 -> 95.091801 | R145: =IF($D145=R$5,H145,".") -> 95.091801 | S145: =IF($D145=S$5,H145,".") -> . | W145: 청평균 | X145: 94.291125
C146: 서광주 | D146: 4급 | E146: =RANK(H146,$Q$8:$Q$238) -> 179 | F146: =IF(D146="4급",RANK(H146,$R$8:$R$238),IF(D146="5급",RANK(H146,$S$8:$S$238),"-")) -> 76 | G146: =RANK(H146,$H$144:$H$169) -> 26 | H146: {=SUMPRODUCT($J$3:$O$3,J146:O146)/SUM(($J$3:$O$3)*(J146:O146<>"."))} -> 94.205878 | I146: {=SUMPRODUCT($J$3:$N$3,J146:N146)/SUM(($J$3:$N$3)*(J146:N146<>"."))} -> 94.164082 | J146: 91.595431 | K146: 91.650485 | L146: 90.303227 | M146: 94.568182 | N146: 96.732734 | O146: 95 | Q146: =H146 -> 94.205878 | R146: =IF($D146=R$5,H146,".") -> 94.205878 | S146: =IF($D146=S$5,H146,".") -> .
C147: 광주광산 | D147: 4급 | E147: =RANK(H147,$Q$8:$Q$238) -> 133 | F147: =IF(D147="4급",RANK(H147,$R$8:$R$238),IF(D147="5급",RANK(H147,$S$8:$S$238),"-")) -> 39 | G147: =RANK(H147,$H$144:$H$169) -> 24 | H147: {=SUMPRODUCT($J$3:$O$3,J147:O147)/SUM(($J$3:$O$3)*(J147:O147<>"."))} -> 95.027009 | I147: {=SUMPRODUCT($J$3:$N$3,J147:N147)/SUM(($J$3:$N$3)*(J147:N147<>"."))} -> 94.938957 | J147: 95.030786 | K147: 96.224683 | L147: 93.105078 | M147: 94.942708 | N147: 94.847128 | O147: 96.7 | Q147: =H147 -> 95.027009 | R147: =IF($D147=R$5,H147,".") -> 95.027009 | S147: =IF($D147=S$5,H147,".") -> .
C148: 목포 | D148: 4급 | E148: =RANK(H148,$Q$8:$Q$238) -> 131 | F148: =IF(D148="4급",RANK(H148,$R$8:$R$238),IF(D148="5급",RANK(H148,$S$8:$S$238),"-")) -> 37 | G148: =RANK(H148,$H$144:$H$169) -> 23 | H148: {=SUMPRODUCT($J$3:$O$3,J148:O148)/SUM(($J$3:$O$3)*(J148:O148<>"."))} -> 95.048268 | I148: {=SUMPRODUCT($J$3:$N$3,J148:N148)/SUM(($J$3:$N$3)*(J148:N148<>"."))} -> 94.998177 | J148: 95.273722 | K148: 94.878333 | L148: 95.521859 | M148: 96.491898 | N148: 94.722633 | O148: 96 | Q148: =H148 -> 95.048268 | R148: =IF($D148=R$5,H148,".") -> 95.048268 | S148: =IF($D148=S$5,H148,".") -> .
C149: 여수 | D149: 4급 | E149: =RANK(H149,$Q$8:$Q$238) -> 95 | F149: =IF(D149="4급",RANK(H149,$R$8:$R$238),IF(D149="5급",RANK(H149,$S$8:$S$238),"-")) -> 18 | G149: =RANK(H149,$H$144:$H$169) -> 21 | H149: {=SUMPRODUCT($J$3:$O$3,J149:O149)/SUM(($J$3:$O$3)*(J149:O149<>"."))} -> 95.756714 | I149: {=SUMPRODUCT($J$3:$N$3,J149:N149)/SUM(($J$3:$N$3)*(J149:N149<>"."))} -> 95.696541 | J149: 95.644376 | K149: 96.822461 | L149: 94.192035 | M149: 94.715404 | N149: 95.748706 | O149: 96.9 | Q149: =H149 -> 95.756714 | R149: =IF($D149=R$5,H149,".") -> 95.756714 | S149: =IF($D149=S$5,H149,".") -> .
C150: 순천 | D150: 4급 | E150: =RANK(H150,$Q$8:$Q$238) -> 91 | F150: =IF(D150="4급",RANK(H150,$R$8:$R$238),IF(D150="5급",RANK(H150,$S$8:$S$238),"-")) -> 16 | G150: =RANK(H150,$H$144:$H$169) -> 20 | H150: {=SUMPRODUCT($J$3:$O$3,J150:O150)/SUM(($J$3:$O$3)*(J150:O150<>"."))} -> 95.814413 | I150: {=SUMPRODUCT($J$3:$N$3,J150:N150)/SUM(($J$3:$N$3)*(J150:N150<>"."))} -> 95.683592 | J150: 95.033978 | K150: 95.411905 | L150: 94.553618 | M150: 94.916383 | N150: 96.333207 | O150: 98.3 | Q150: =H150 -> 95.814413 | R150: =IF($D150=R$5,H150,".") -> 95.814413 | S150: =IF($D150=S$5,H150,".") -> .
C151: 강진 | D151: 5급 | E151: =RANK(H151,$Q$8:$Q$238) -> 10 | F151: =IF(D151="4급",RANK(H151,$R$8:$R$238),IF(D151="5급",RANK(H151,$S$8:$S$238),"-")) -> 10 | G151: =RANK(H151,$H$144:$H$169) -> 5 | H151: {=SUMPRODUCT($J$3:$O$3,J151:O151)/SUM(($J$3:$O$3)*(J151:O151<>"."))} -> 97.497746 | I151: {=SUMPRODUCT($J$3:$N$3,J151:N151)/SUM(($J$3:$N$3)*(J151:N151<>"."))} -> 97.43447 | J151: 96.651263 | K151: 96.727941 | L151: 95.6925 | M151: 98.031944 | N151: 98.217677 | O151: 98.7 | Q151: =H151 -> 97.497746 | R151: =IF($D151=R$5,H151,".") -> . | S151: =IF($D151=S$5,H151,".") -> 97.497746
C152: 장흥 | D152: 5급 | E152: =RANK(H152,$Q$8:$Q$238) -> 3 | F152: =IF(D152="4급",RANK(H152,$R$8:$R$238),IF(D152="5급",RANK(H152,$S$8:$S$238),"-")) -> 3 | G152: =RANK(H152,$H$144:$H$169) -> 1 | H152: {=SUMPRODUCT($J$3:$O$3,J152:O152)/SUM(($J$3:$O$3)*(J152:O152<>"."))} -> 98.054642 | I152: {=SUMPRODUCT($J$3:$N$3,J152:N152)/SUM(($J$3:$N$3)*(J152:N152<>"."))} -> 98.152255 | J152: 97.975217 | K152: 98.547845 | L152: 96.415132 | M152: 99.347368 | N152: 98.329293 | O152: 96.2 | Q152: =H152 -> 98.054642 | R152: =IF($D152=R$5,H152,".") -> . | S152: =IF($D152=S$5,H152,".") -> 98.054642
C153: 화순 | D153: 5급 | E153: =RANK(H153,$Q$8:$Q$238) -> 70 | F153: =IF(D153="4급",RANK(H153,$R$8:$R$238),IF(D153="5급",RANK(H153,$S$8:$S$238),"-")) -> 63 | G153: =RANK(H153,$H$144:$H$169) -> 18 | H153: {=SUMPRODUCT($J$3:$O$3,J153:O153)/SUM(($J$3:$O$3)*(J153:O153<>"."))} -> 96.1882 | I153: {=SUMPRODUCT($J$3:$N$3,J153:N153)/SUM(($J$3:$N$3)*(J153:N153<>"."))} -> 96.124421 | J153: 96.112857 | K153: 96.018403 | L153: 97.006383 | M153: 94.436905 | N153: 96.135985 | O153: 97.4 | Q153: =H153 -> 96.1882 | R153: =IF($D153=R$5,H153,".") -> . | S153: =IF($D153=S$5,H153,".") -> 96.1882
C154: 곡성 | D154: 5급 | E154: =RANK(H154,$Q$8:$Q$238) -> 12 | F154: =IF(D154="4급",RANK(H154,$R$8:$R$238),IF(D154="5급",RANK(H154,$S$8:$S$238),"-")) -> 12 | G154: =RANK(H154,$H$144:$H$169) -> 6 | H154: {=SUMPRODUCT($J$3:$O$3,J154:O154)/SUM(($J$3:$O$3)*(J154:O154<>"."))} -> 97.4957 | I154: {=SUMPRODUCT($J$3:$N$3,J154:N154)/SUM(($J$3:$N$3)*(J154:N154<>"."))} -> 97.663894 | J154: 98.417183 | K154: 98.675 | L154: 97.479714 | M154: 100 | N154: 96.910606 | O154: 94.3 | Q154: =H154 -> 97.4957 | R154: =IF($D154=R$5,H154,".") -> . | S154: =IF($D154=S$5,H154,".") -> 97.4957
C155: 담양 | D155: 5급 | E155: =RANK(H155,$Q$8:$Q$238) -> 22 | F155: =IF(D155="4급",RANK(H155,$R$8:$R$238),IF(D155="5급",RANK(H155,$S$8:$S$238),"-")) -> 22 | G155: =RANK(H155,$H$144:$H$169) -> 8 | H155: {=SUMPRODUCT($J$3:$O$3,J155:O155)/SUM(($J$3:$O$3)*(J155:O155<>"."))} -> 97.281985 | I155: {=SUMPRODUCT($J$3:$N$3,J155:N155)/SUM(($J$3:$N$3)*(J155:N155<>"."))} -> 97.275773 | J155: 97.631008 | K155: 98.203788 | L155: 96.383523 | M155: 98.530263 | N155: 96.920539 | O155: 97.4 | Q155: =H155 -> 97.281985 | R155: =IF($D155=R$5,H155,".") -> . | S155: =IF($D155=S$5,H155,".") -> 97.281985
C156: 장성 | D156: 5급 | E156: =RANK(H156,$Q$8:$Q$238) -> 25 | F156: =IF(D156="4급",RANK(H156,$R$8:$R$238),IF(D156="5급",RANK(H156,$S$8:$S$238),"-")) -> 25 | G156: =RANK(H156,$H$144:$H$169) -> 10 | H156: {=SUMPRODUCT($J$3:$O$3,J156:O156)/SUM(($J$3:$O$3)*(J156:O156<>"."))} -> 97.171682 | I156: {=SUMPRODUCT($J$3:$N$3,J156:N156)/SUM(($J$3:$N$3)*(J156:N156<>"."))} -> 97.291245 | J156: 96.038508 | K156: 96.11553 | L156: 96.350369 | M156: 95.081579 | N156: 98.543981 | O156: 94.9 | Q156: =H156 -> 97.171682 | R156: =IF($D156=R$5,H156,".") -> . | S156: =IF($D156=S$5,H156,".") -> 97.171682
C157: 영광 | D157: 5급 | E157: =RANK(H157,$Q$8:$Q$238) -> 79 | F157: =IF(D157="4급",RANK(H157,$R$8:$R$238),IF(D157="5급",RANK(H157,$S$8:$S$238),"-")) -> 68 | G157: =RANK(H157,$H$144:$H$169) -> 19 | H157: {=SUMPRODUCT($J$3:$O$3,J157:O157)/SUM(($J$3:$O$3)*(J157:O157<>"."))} -> 96.043846 | I157: {=SUMPRODUCT($J$3:$N$3,J157:N157)/SUM(($J$3:$N$3)*(J157:N157<>"."))} -> 96.15668 | J157: 96.269 | K157: 96.733077 | L157: 96.904878 | M157: 93.309211 | N157: 96.04436 | O157: 93.9 | Q157: =H157 -> 96.043846 | R157: =IF($D157=R$5,H157,".") -> . | S157: =IF($D157=S$5,H157,".") -> 96.043846
... C168: 보성 | D168: 5급 | E168: =RANK(H168,$Q$8:$Q$238) -> 52 | F168: =IF(D168="4급",RANK(H168,$R$8:$R$238),IF(D168="5급",RANK(H168,$S$8:$S$238),"-")) -> 51 | G168: =RANK(H168,$H$144:$H$169) -> 14 | H168: {=SUMPRODUCT($J$3:$O$3,J168:O168)/SUM(($J$3:$O$3)*(J168:O168<>"."))} -> 96.451206 | I168: {=SUMPRODUCT($J$3:$N$3,J168:N168)/SUM(($J$3:$N$3)*(J168:N168<>"."))} -> 96.359164 | J168: 95.965129 | K168: 95.695455 | L168: 95.455914 | M168: 98.31875 | N168: 96.753199 | O168: 98.2 | Q168: =H168 -> 96.451206 | R168: =IF($D168=R$5,H168,".") -> . | S168: =IF($D168=S$5,H168,".") -> 96.451206
C169: 영암우편집중국 | D169: 5급 | E169: =RANK(H169,$Q$8:$Q$238) -> 9 | F169: =IF(D169="4급",RANK(H169,$R$8:$R$238),IF(D169="5급",RANK(H169,$S$8:$S$238),"-")) -> 9 | G169: =RANK(H169,$H$144:$H$169) -> 4 | H169: {=SUMPRODUCT($J$3:$O$3,J169:O169)/SUM(($J$3:$O$3)*(J169:O169<>"."))} -> 97.589099 | I169: {=SUMPRODUCT($J$3:$N$3,J169:N169)/SUM(($J$3:$N$3)*(J169:N169<>"."))} -> 97.589099 | J169: . | K169: . | L169: . | M169: . | N169: 97.589099 | O169: . | Q169: =H169 -> 97.589099 | R169: =IF($D169=R$5,H169,".") -> . | S169: =IF($D169=S$5,H169,".") -> 97.589099
B170: 청 합계 | D170: - | E170: - | F170: - | G170: - | H170: {=SUMPRODUCT($J$3:$O$3,J170:O170)/SUM(($J$3:$O$3)*(J170:O170<>"."))} -> 95.780121 | I170: {=SUMPRODUCT($J$3:$N$3,J170:N170)/SUM(($J$3:$N$3)*(J170:N170<>"."))} -> 95.648373 | J170: 95.618822 | K170: 95.993889 | L170: 95.118704 | M170: 95.325761 | N170: 95.677924 | O170: 98.283333 | Q170: . | R170: =IF($D170=R$5,H170,".") -> . | S170: =IF($D170=S$5,H170,".") -> .
B171: 경북 | C171: 대구 | D171: 4급 | E171: =RANK(H171,$Q$8:$Q$238) -> 53 | F171: =IF(D171="4급",RANK(H171,$R$8:$R$238),IF(D171="5급",RANK(H171,$S$8:$S$238),"-")) -> 2 | G171: =RANK(H171,$H$171:$H$200) -> 11 | H171: {=SUMPRODUCT($J$3:$O$3,J171:O171)/SUM(($J$3:$O$3)*(J171:O171<>"."))} -> 96.445397 | I171: {=SUMPRODUCT($J$3:$N$3,J171:N171)/SUM(($J$3:$N$3)*(J171:N171<>"."))} -> 96.342523 | J171: 95.44199 | K171: 95.12146 | L171: 96.300746 | M171: 94.622115 | N171: 97.243056 | O171: 98.4 | Q171: =H171 -> 96.445397 | R171: =IF($D171=R$5,H171,".") -> 96.445397 | S171: =IF($D171=S$5,H171,".") -> .
C172: 동대구 | D172: 4급 | E172: =RANK(H172,$Q$8:$Q$238) -> 128 | F172: =IF(D172="4급",RANK(H172,$R$8:$R$238),IF(D172="5급",RANK(H172,$S$8:$S$238),"-")) -> 35 | G172: =RANK(H172,$H$171:$H$200) -> 22 | H172: {=SUMPRODUCT($J$3:$O$3,J172:O172)/SUM(($J$3:$O$3)*(J172:O172<>"."))} -> 95.0872 | I172: {=SUMPRODUCT($J$3:$N$3,J172:N172)/SUM(($J$3:$N$3)*(J172:N172<>"."))} -> 94.86021 | J172: 93.282794 | K172: 93.732258 | L172: 92.031818 | M172: 94.510227 | N172: 96.437626 | O172: 99.4 | Q172: =H172 -> 95.0872 | R172: =IF($D172=R$5,H172,".") -> 95.0872 | S172: =IF($D172=S$5,H172,".") -> .
C173: 서대구 | D173: 4급 | E173: =RANK(H173,$Q$8:$Q$238) -> 58 | F173: =IF(D173="4급",RANK(H173,$R$8:$R$238),IF(D173="5급",RANK(H173,$S$8:$S$238),"-")) -> 4 | G173: =RANK(H173,$H$171:$H$200) -> 13 | H173: {=SUMPRODUCT($J$3:$O$3,J173:O173)/SUM(($J$3:$O$3)*(J173:O173<>"."))} -> 96.400545 | I173: {=SUMPRODUCT($J$3:$N$3,J173:N173)/SUM(($J$3:$N$3)*(J173:N173<>"."))} -> 96.232152 | J173: 95.741104 | K173: 96.643354 | L173: 94.290244 | M173: 95.085961 | N173: 96.723201 | O173: 99.6 | Q173: =H173 -> 96.400545 | R173: =IF($D173=R$5,H173,".") -> 96.400545 | S173: =IF($D173=S$5,H173,".") -> .
C174: 북대구 | D174: 4급 | E174: =RANK(H174,$Q$8:$Q$238) -> 101 | F174: =IF(D174="4급",RANK(H174,$R$8:$R$238),IF(D174="5급",RANK(H174,$S$8:$S$238),"-")) -> 20 | G174: =RANK(H174,$H$171:$H$200) -> 19 | H174: {=SUMPRODUCT($J$3:$O$3,J174:O174)/SUM(($J$3:$O$3)*(J174:O174<>"."))} -> 95.63724 | I174: {=SUMPRODUCT($J$3:$N$3,J174:N174)/SUM(($J$3:$N$3)*(J174:N174<>"."))} -> 95.554989 | J174: 94.75619 | K174: 94.98569 | L174: 92.914352 | M174: 98.244318 | N174: 96.353788 | O174: 97.2 | Q174: =H174 -> 95.63724 | R174: =IF($D174=R$5,H174,".") -> 95.63724 | S174: =IF($D174=S$5,H174,".") -> .
C175: 대구달서 | D175: 4급 | E175: =RANK(H175,$Q$8:$Q$238) -> 178 | F175: =IF(D175="4급",RANK(H175,$R$8:$R$238),IF(D175="5급",RANK(H175,$S$8:$S$238),"-")) -> 75 | G175: =RANK(H175,$H$171:$H$200) -> 28 | H175: {=SUMPRODUCT($J$3:$O$3,J175:O175)/SUM(($J$3:$O$3)*(J175:O175<>"."))} -> 94.239155 | I175: {=SUMPRODUCT($J$3:$N$3,J175:N175)/SUM(($J$3:$N$3)*(J175:N175<>"."))} -> 94.093848 | J175: 93.468219 | K175: 94.261384 | L175: 92.148733 | M175: 93.355833 | N175: 94.719476 | O175: 97 | Q175: =H175 -> 94.239155 | R175: =IF($D175=R$5,H175,".") -> 94.239155 | S175: =IF($D175=S$5,H175,".") -> .
C176: 대구수성 | D176: 4급 | E176: =RANK(H176,$Q$8:$Q$238) -> 118 | F176: =IF(D176="4급",RANK(H176,$R$8:$R$238),IF(D176="5급",RANK(H176,$S$8:$S$238),"-")) -> 27 | G176: =RANK(H176,$H$171:$H$200) -> 21 | H176: {=SUMPRODUCT($J$3:$O$3,J176:O176)/SUM(($J$3:$O$3)*(J176:O176<>"."))} -> 95.25128 | I176: {=SUMPRODUCT($J$3:$N$3,J176:N176)/SUM(($J$3:$N$3)*(J176:N176<>"."))} -> 95.032926 | J176: 94.940189 | K176: 94.95344 | L176: 95.325355 | M176: 93.901042 | N176: 95.125663 | O176: 99.4 | Q176: =H176 -> 95.25128 | R176: =IF($D176=R$5,H176,".") -> 95.25128 | S176: =IF($D176=S$5,H176,".") -> .
C177: 포항 | D177: 4급 | E177: =RANK(H177,$Q$8:$Q$238) -> 172 | F177: =IF(D177="4급",RANK(H177,$R$8:$R$238),IF(D177="5급",RANK(H177,$S$8:$S$238),"-")) -> 69 | G177: =RANK(H177,$H$171:$H$200) -> 27 | H177: {=SUMPRODUCT($J$3:$O$3,J177:O177)/SUM(($J$3:$O$3)*(J177:O177<>"."))} -> 94.340677 | I177: {=SUMPRODUCT($J$3:$N$3,J177:N177)/SUM(($J$3:$N$3)*(J177:N177<>"."))} -> 94.184923 | J177: 94.601602 | K177: 94.624083 | L177: 93.862408 | M177: 96.602273 | N177: 93.768245 | O177: 97.3 | Q177: =H177 -> 94.340677 | R177: =IF($D177=R$5,H177,".") -> 94.340677 | S177: =IF($D177=S$5,H177,".") -> .
C178: 경주 | D178: 4급 | E178: =RANK(H178,$Q$8:$Q$238) -> 142 | F178: =IF(D178="4급",RANK(H178,$R$8:$R$238),IF(D178="5급",RANK(H178,$S$8:$S$238),"-")) -> 47 | G178: =RANK(H178,$H$171:$H$200) -> 23 | H178: {=SUMPRODUCT($J$3:$O$3,J178:O178)/SUM(($J$3:$O$3)*(J178:O178<>"."))} -> 94.848834 | I178: {=SUMPRODUCT($J$3:$N$3,J178:N178)/SUM(($J$3:$N$3)*(J178:N178<>"."))} -> 94.898772 | J178: 94.524407 | K178: 93.779202 | L178: 95.260127 | M178: 95.526724 | N178: 95.273138 | O178: 93.9 | Q178: =H178 -> 94.848834 | R178: =IF($D178=R$5,H178,".") -> 94.848834 | S178: =IF($D178=S$5,H178,".") -> .
C179: 안동 | D179: 4급 | E179: =RANK(H179,$Q$8:$Q$238) -> 50 | F179: =IF(D179="4급",RANK(H179,$R$8:$R$238),IF(D179="5급",RANK(H179,$S$8:$S$238),"-")) -> 1 | G179: =RANK(H179,$H$171:$H$200) -> 10 | H179: {=SUMPRODUCT($J$3:$O$3,J179:O179)/SUM(($J$3:$O$3)*(J179:O179<>"."))} -> 96.508838 | I179: {=SUMPRODUCT($J$3:$N$3,J179:N179)/SUM(($J$3:$N$3)*(J179:N179<>"."))} -> 96.414567 | J179: 96.757416 | K179: 97.329552 | L179: 96.51875 | M179: 94.872222 | N179: 96.071717 | O179: 98.3 | Q179: =H179 -> 96.508838 | R179: =IF($D179=R$5,H179,".") -> 96.508838 | S179: =IF($D179=S$5,H179,".") -> .
C180: 구미 | D180: 4급 | E180: =RANK(H180,$Q$8:$Q$238) -> 150 | F180: =IF(D180="4급",RANK(H180,$R$8:$R$238),IF(D180="5급",RANK(H180,$S$8:$S$238),"-")) -> 54 | G180: =RANK(H180,$H$171:$H$200) -> 24 | H180: {=SUMPRODUCT($J$3:$O$3,J180:O180)/SUM(($J$3:$O$3)*(J180:O180<>"."))} -> 94.661525 | I180: {=SUMPRODUCT($J$3:$N$3,J180:N180)/SUM(($J$3:$N$3)*(J180:N180<>"."))} -> 94.554237 | J180: 95.489471 | K180: 95.649622 | L180: 96.049658 | M180: 93.30463 | N180: 93.619003 | O180: 96.7 | Q180: =H180 -> 94.661525 | R180: =IF($D180=R$5,H180,".") -> 94.661525 | S180: =IF($D180=S$5,H180,".") -> .
C181: 경산 | D181: 4급 | E181: =RANK(H181,$Q$8:$Q$238) -> 187 | F181: =IF(D181="4급",RANK(H181,$R$8:$R$238),IF(D181="5급",RANK(H181,$S$8:$S$238),"-")) -> 82 | G181: =RANK(H181,$H$171:$H$200) -> 30 | H181: {=SUMPRODUCT($J$3:$O$3,J181:O181)/SUM(($J$3:$O$3)*(J181:O181<>"."))} -> 93.974355 | I181: {=SUMPRODUCT($J$3:$N$3,J181:N181)/SUM(($J$3:$N$3)*(J181:N181<>"."))} -> 93.699321 | J181: 95.117835 | K181: 94.887109 | L181: 94.815 | M181: 97.105457 | N181: 92.280808 | O181: 99.2 | Q181: =H181 -> 93.974355 | R181: =IF($D181=R$5,H181,".") -> 93.974355 | S181: =IF($D181=S$5,H181,".") -> .
C182: 영주 | D182: 5급 | E182: =RANK(H182,$Q$8:$Q$238) -> 66 | F182: =IF(D182="4급",RANK(H182,$R$8:$R$238),IF(D182="5급",RANK(H182,$S$8:$S$238),"-")) -> 60 | G182: =RANK(H182,$H$171:$H$200) -> 14 | H182: {=SUMPRODUCT($J$3:$O$3,J182:O182)/SUM(($J$3:$O$3)*(J182:O182<>"."))} -> 96.25877 | I182: {=SUMPRODUCT($J$3:$N$3,J182:N182)/SUM(($J$3:$N$3)*(J182:N182<>"."))} -> 96.061863 | J182: 95.894048 | K182: 97.262333 | L182: 94.036538 | M182: 95.5925 | N182: 96.229678 | O182: 100 | Q182: =H182 -> 96.25877 | R182: =IF($D182=R$5,H182,".") -> . | S182: =IF($D182=S$5,H182,".") -> 96.25877
C183: 상주 | D183: 5급 | E183: =RANK(H183,$Q$8:$Q$238) -> 45 | F183: =IF(D183="4급",RANK(H183,$R$8:$R$238),IF(D183="5급",RANK(H183,$S$8:$S$238),"-")) -> 45 | G183: =RANK(H183,$H$171:$H$200) -> 8 | H183: {=SUMPRODUCT($J$3:$O$3,J183:O183)/SUM(($J$3:$O$3)*(J183:O183<>"."))} -> 96.607968 | I183: {=SUMPRODUCT($J$3:$N$3,J183:N183)/SUM(($J$3:$N$3)*(J183:N183<>"."))} -> 96.608388 | J183: 96.752631 | K183: 97.318204 | L183: 96.117026 | M183: 96.069318 | N183: 96.464145 | O183: 96.6 | Q183: =H183 -> 96.607968 | R183: =IF($D183=R$5,H183,".") -> . | S183: =IF($D183=S$5,H183,".") -> 96.607968
... C200: 울릉 | D200: 5급 | E200: =RANK(H200,$Q$8:$Q$238) -> 166 | F200: =IF(D200="4급",RANK(H200,$R$8:$R$238),IF(D200="5급",RANK(H200,$S$8:$S$238),"-")) -> 102 | G200: =RANK(H200,$H$171:$H$200) -> 26 | H200: {=SUMPRODUCT($J$3:$O$3,J200:O200)/SUM(($J$3:$O$3)*(J200:O200<>"."))} -> 94.411379 | I200: {=SUMPRODUCT($J$3:$N$3,J200:N200)/SUM(($J$3:$N$3)*(J200:N200<>"."))} -> 94.433031 | J200: 95.231466 | K200: 96.647794 | L200: 92.068421 | M200: 97.62 | N200: 93.634596 | O200: 94 | Q200: =H200 -> 94.411379 | R200: =IF($D200=R$5,H200,".") -> . | S200: =IF($D200=S$5,H200,".") -> 94.411379
B201: 청 합계 | D201: - | E201: - | F201: - | G201: - | H201: {=SUMPRODUCT($J$3:$O$3,J201:O201)/SUM(($J$3:$O$3)*(J201:O201<>"."))} -> 95.714905 | I201: {=SUMPRODUCT($J$3:$N$3,J201:N201)/SUM(($J$3:$N$3)*(J201:N201<>"."))} -> 95.759198 | J201: 95.351119 | K201: 95.710927 | L201: 94.587227 | M201: 95.770193 | N201: 96.167278 | O201: 94.873333 | Q201: . | R201: =IF($D201=R$5,H201,".") -> . | S201: =IF($D201=S$5,H201,".") -> .
B202: 전북 | C202: 전주 | D202: 4급 | E202: =RANK(H202,$Q$8:$Q$238) -> 145 | F202: =IF(D202="4급",RANK(H202,$R$8:$R$238),IF(D202="5급",RANK(H202,$S$8:$S$238),"-")) -> 50 | G202: =RANK(H202,$H$202:$H$216) -> 13 | H202: {=SUMPRODUCT($J$3:$O$3,J202:O202)/SUM(($J$3:$O$3)*(J202:O202<>"."))} -> 94.753457 | I202: {=SUMPRODUCT($J$3:$N$3,J202:N202)/SUM(($J$3:$N$3)*(J202:N202<>"."))} -> 94.787849 | J202: 93.496026 | K202: 92.889024 | L202: 94.47638 | M202: 94.196875 | N202: 96.079672 | O202: 94.1 | Q202: =H202 -> 94.753457 | R202: =IF($D202=R$5,H202,".") -> 94.753457 | S202: =IF($D202=S$5,H202,".") -> .
C203: 동전주 | D203: 4급 | E203: =RANK(H203,$Q$8:$Q$238) -> 76 | F203: =IF(D203="4급",RANK(H203,$R$8:$R$238),IF(D203="5급",RANK(H203,$S$8:$S$238),"-")) -> 9 | G203: =RANK(H203,$H$202:$H$216) -> 7 | H203: {=SUMPRODUCT($J$3:$O$3,J203:O203)/SUM(($J$3:$O$3)*(J203:O203<>"."))} -> 96.072747 | I203: {=SUMPRODUCT($J$3:$N$3,J203:N203)/SUM(($J$3:$N$3)*(J203:N203<>"."))} -> 96.055523 | J203: 95.163918 | K203: 96.55429 | L203: 93.294712 | M203: 93.370238 | N203: 96.947128 | O203: 96.4 | Q203: =H203 -> 96.072747 | R203: =IF($D203=R$5,H203,".") -> 96.072747 | S203: =IF($D203=S$5,H203,".") -> .
...

Sheet 2014
A1: 종합
A3: 구분 | B3: 총괄국 | C3: 급수 | D3: 전체순위 | E3: 급내순위 | F3: 청내순위 | G3: 종합 KCSI | H3: 1) 이용고객 종합 | I3: 창구 | M3: 집배 | N3: 현장 모니터링
I4: 창구종합 | J4: 우편 | K4: 예금 | L4: 보험
G5: CSI | H5: CSI | I5: CSI | J5: CSI | K5: CSI | L5: CSI | M5: CSI | N5: MI | P5: 목표
A6: 청평균 | B6: - | C6: - | D6: - | E6: - | F6: - | G6: 94.460677 | H6: 94.238007 | I6: 94.540823 | J6: 94.56271 | K6: 94.103244 | L6: 95.484137 | M6: 94.452642 | N6: 98.691406 | Q6: 구분 | R6: 배정목표
A7: 충청 | B7: 대전 | C7: 4 | D7: 127 | E7: 34 | F7: 26 | G7: 93.867507 | H7: 93.577639 | I7: 92.556869 | J7: 92.741878 | K7: 91.156817 | L7: 95.179846 | M7: 94.598409 | N7: 99.375 | P7: =VLOOKUP(B7,$Q$6:$R$41,2,0) -> 90.78883 | Q7: 대전 | R7: 90.78883
B8: 서대전 | C8: 4 | D8: 124 | E8: 31 | F8: 25 | G8: 93.953118 | H8: 93.70065 | I8: 93.07468 | J8: 92.950591 | K8: 91.938758 | L8: 96.459519 | M8: 94.32662 | N8: 98.75 | P8: =VLOOKUP(B8,$Q$6:$R$41,2,0) -> 90.155944 | Q8: 서대전 | R8: 90.155944
B9: 대전유성 | C9: 4 | D9: 135 | E9: 38 | F9: 27 | G9: 93.66726 | H9: 93.333958 | I9: 94.10484 | J9: 94.514707 | K9: 92.459555 | L9: 96.953949 | M9: 92.563075 | N9: 100 | P9: =VLOOKUP(B9,$Q$6:$R$41,2,0) -> 91.134028 | Q9: 대전유성 | R9: 91.134028
B10: 대전대덕 | C10: 4 | D10: 175 | E10: 69 | F10: 32 | G10: 92.778212 | H10: 92.398118 | I10: 93.960515 | J10: 93.918668 | K10: 93.431291 | L10: 95.525351 | M10: 90.835721 | N10: 100 | P10: =VLOOKUP(B10,$Q$6:$R$41,2,0) -> 91.307663 | Q10: 대전대덕 | R10: 91.307663
B11: 대전둔산 | C11: 4 | D11: 170 | E11: 65 | F11: 31 | G11: 92.880807 | H11: 92.874534 | I11: 92.226064 | J11: 93.528043 | K11: 89.287093 | L11: 94.069949 | M11: 93.523003 | N11: 93 | P11: =VLOOKUP(B11,$Q$6:$R$41,2,0) -> 89.649463 | Q11: 대전둔산 | R11: 89.649463
B12: 천안 | C12: 4 | D12: 160 | E12: 57 | F12: 30 | G12: 93.101755 | H12: 92.850532 | I12: 91.719229 | J12: 92.525765 | K12: 90.235951 | L12: 91.812428 | M12: 93.981834 | N12: 97.875 | P12: =VLOOKUP(B12,$Q$6:$R$41,2,0) -> 89.687291 | Q12: 천안 | R12: 89.687291
B13: 동천안 | C13: 4 | D13: 159 | E13: 56 | F13: 29 | G13: 93.127835 | H13: 92.812195 | I13: 93.574372 | J13: 93.811343 | K13: 92.836148 | L13: 94.486105 | M13: 92.050018 | N13: 99.125 | P13: =VLOOKUP(B13,$Q$6:$R$41,2,0) -> 90.845338 | Q13: 동천안 | R13: 90.845338
B14: 공주 | C14: 4 | D14: 105 | E14: 21 | F14: 20 | G14: 94.261917 | H14: 94.058597 | I14: 94.289347 | J14: 94.296786 | K14: 94.763177 | L14: 92.923577 | M14: 93.827846 | N14: 98.125 | P14: =VLOOKUP(B14,$Q$6:$R$41,2,0) -> 92.025606 | Q14: 공주 | R14: 92.025606
B15: 아산 | C15: 4 | D15: 119 | E15: 26 | F15: 24 | G15: 94.062324 | H15: 93.815604 | I15: 94.36249 | J15: 93.996946 | K15: 94.386684 | L15: 95.722422 | M15: 93.268718 | N15: 98.75 | P15: =VLOOKUP(B15,$Q$6:$R$41,2,0) -> 91.158546 | Q15: 아산 | R15: 91.158546
B16: 논산 | C16: 4 | D16: 82 | E16: 9 | F16: 18 | G16: 94.834908 | H16: 94.628851 | I16: 94.771503 | J16: 95.020531 | K16: 94.108947 | L16: 95.334112 | M16: 94.486198 | N16: 98.75 | P16: =VLOOKUP(B16,$Q$6:$R$41,2,0) -> 91.489981 | Q16: 청주 | R16: 91.631887
B17: 청주 | C17: 4 | D17: 102 | E17: 19 | F17: 19 | G17: 94.291448 | H17: 93.990998 | I17: 94.96481 | J17: 95.359709 | K17: 93.539426 | L17: 97.048896 | M17: 93.017186 | N17: 100 | P17: =VLOOKUP(B17,$Q$6:$R$41,2,0) -> 91.631887 | Q17: 서청주 | R17: 90.52138
B18: 서청주 | C18: 4 | D18: 109 | E18: 23 | F18: 21 | G18: 94.164909 | H18: 93.923589 | I18: 93.347098 | J18: 93.721678 | K18: 92.005331 | L18: 95.529652 | M18: 94.500079 | N18: 98.75 | P18: =VLOOKUP(B18,$Q$6:$R$41,2,0) -> 90.52138 | Q18: 충주 | R18: 90.985155
B19: 충주 | C19: 4 | D19: 68 | E19: 5 | F19: 15 | G19: 95.134618 | H19: 94.878545 | I19: 94.489447 | J19: 93.764902 | K19: 94.407835 | L19: 97.543173 | M19: 95.267643 | N19: 100 | P19: =VLOOKUP(B19,$Q$6:$R$41,2,0) -> 90.985155 | Q19: 제천 | R19: 91.483225
... B38: 보은 | C38: 5 | D38: 35 | E38: 35 | F38: 6 | G38: 95.752606 | H38: 95.568532 | I38: 97.17372 | J38: 96.532658 | K38: 97.185293 | L38: 99.243682 | M38: 93.963344 | N38: 99.25 | P38: =VLOOKUP(B38,$Q$6:$R$41,2,0) -> 94.189414 | Q38: 영동 | R38: 93.162808
Q39: 보은 | R39: 94.189414
A40: 구분 | B40: 총괄국 | C40: 급수 | D40: 전체순위 | E40: 급내순위 | F40: 청내순위 | G40: 종합 KCSI | H40: 1) 이용고객 종합 | I40: 창구 | M40: 집배 | N40: 현장 모니터링 | Q40: 5급평균 | R40: 92.586171
I41: 창구종합 | J41: 우편 | K41: 예금 | L41: 보험 | Q41: 청평균 | R41: 91.890988
G42: CSI | H42: CSI | I42: CSI | J42: CSI | K42: CSI | L42: CSI | M42: CSI | N42: MI
A43: 청평균 | B43: - | C43: - | D43: - | E43: - | F43: - | G43: 95.058736 | H43: 94.816301 | I43: 94.722082 | J43: 94.843525 | K43: 94.32551 | L43: 95.193653 | M43: 95.055049 | N43: 99.665
A44: 전남 | B44: 광주 | C44: 4 | D44: 158 | E44: 55 | F44: 25 | G44: 93.15885 | H44: 92.871157 | I44: 92.400976 | J44: 91.954984 | K44: 92.662523 | L44: 93.889305 | M44: 93.341339 | N44: 98.625
B45: 북광주 | C45: 4 | D45: 78 | E45: 7 | F45: 18 | G45: 94.890782 | H45: 94.766613 | I45: 93.301868 | J45: 93.641677 | K45: 91.809572 | L45: 95.537165 | M45: 96.231357 | N45: 97.25
B46: 서광주 | C46: 4 | D46: 144 | E46: 44 | F46: 24 | G46: 93.49542 | H46: 93.153073 | I46: 91.863422 | J46: 91.579918 | K46: 91.439027 | L46: 94.380593 | M46: 94.442724 | N46: 100
B47: 광주광산 | C47: 4 | D47: 95 | E47: 14 | F47: 20 | G47: 94.462951 | H47: 94.237317 | I47: 93.213408 | J47: 93.563623 | K47: 92.073643 | L47: 94.73391 | M47: 95.261225 | N47: 98.75
B48: 목포 | C48: 4 | D48: 133 | E48: 37 | F48: 22 | G48: 93.713423 | H48: 93.382551 | I48: 93.156154 | J48: 93.626788 | K48: 91.729954 | L48: 94.990229 | M48: 93.608947 | N48: 100
B49: 여수 | C49: 4 | D49: 125 | E49: 32 | F49: 21 | G49: 93.944279 | H49: 93.658451 | I49: 94.5686 | J49: 94.799013 | K49: 94.73501 | L49: 93.009709 | M49: 92.748303 | N49: 99.375
B50: 순천 | C50: 4 | D50: 137 | E50: 40 | F50: 23 | G50: 93.653682 | H50: 93.332823 | I50: 93.187204 | J50: 92.995681 | K50: 93.97503 | L50: 91.795166 | M50: 93.478442 | N50: 99.75
B51: 보성 | C51: 5 | D51: 50 | E51: 49 | F51: 14 | G51: 95.413934 | H51: 95.172562 | I51: 95.49998 | J51: 95.598071 | K51: 95.933667 | L51: 94.104279 | M51: 94.845145 | N51: 100
B52: 장흥 | C52: 5 | D52: 16 | E52: 16 | F52: 6 | G52: 96.232651 | H52: 96.034369 | I52: 97.48296 | J52: 97.871376 | K52: 97.61468 | L52: 96.171136 | M52: 94.585778 | N52: 100
B53: 화순 | C53: 5 | D53: 23 | E53: 23 | F53: 8 | G53: 96.054874 | H53: 95.847236 | I53: 94.794815 | J53: 94.757843 | K53: 95.230389 | L53: 93.986442 | M53: 96.899657 | N53: 100
B54: 곡성 | C54: 5 | D54: 2 | E54: 2 | F54: 1 | G54: 97.019457 | H54: 96.862586 | I54: 98.168647 | J54: 97.98807 | K54: 98.112625 | L54: 99.107502 | M54: 95.556525 | N54: 100
B55: 구례 | C55: 5 | D55: 13 | E55: 13 | F55: 3 | G55: 96.269824 | H55: 96.139289 | I55: 96.610547 | J55: 96.093001 | K55: 97.376922 | L55: 96.691325 | M55: 95.66803 | N55: 98.75
B56: 나주 | C56: 5 | D56: 24 | E56: 24 | F56: 9 | G56: 96.020272 | H56: 95.843708 | I56: 96.284573 | J56: 96.878156 | K56: 95.432324 | L56: 96.291368 | M56: 95.402842 | N56: 99.375
... B68: 진도 | C68: 5 | D68: 27 | E68: 27 | F68: 11 | G68: 95.962274 | H68: 95.749762 | I68: 96.326595 | J68: 95.101936 | K68: 98.72686 | L68: 95.54581 | M68: 95.172929 | N68: 100
A70: 구분 | B70: 총괄국 | C70: 급수 | D70: 전체순위 | E70: 급내순위 | F70: 청내순위 | G70: 종합 KCSI | H70: 1) 이용고객 종합 | I70: 창구 | M70: 집배 | N70: 현장 모니터링
I71: 창구종합 | J71: 우편 | K71: 예금 | L71: 보험
G72: CSI | H72: CSI | I72: CSI | J72: CSI | K72: CSI | L72: CSI | M72: CSI | N72: MI
A73: 청평균 | B73: - | C73: - | D73: - | E73: - | F73: - | G73: 94.404706 | H73: 94.184885 | I73: 94.835459 | J73: 95.0861 | K73: 94.328713 | L73: 95.07979 | M73: 93.711676 | N73: 98.581301
A74: 경북 | B74: 대구 | C74: 4 | D74: 90 | E74: 13 | F74: 15 | G74: 94.58255 | H74: 94.363211 | I74: 95.582711 | J74: 95.726766 | K74: 94.357455 | L74: 98.023795 | M74: 93.14371 | N74: 98.75
B75: 동대구 | C75: 4 | D75: 148 | E75: 47 | F75: 27 | G75: 93.327389 | H75: 93.180146 | I75: 93.706986 | J75: 94.633996 | K75: 92.432709 | L75: 92.97396 | M75: 92.653306 | N75: 96.125
B76: 서대구 | C76: 4 | D76: 101 | E76: 18 | F76: 18 | G76: 94.342579 | H76: 94.110609 | I76: 93.293139 | J76: 94.219167 | K76: 92.528481 | L76: 91.00414 | M76: 94.92808 | N76: 98.75
B77: 북대구 | C77: 4 | D77: 143 | E77: 43 | F77: 26 | G77: 93.532525 | H77: 93.192132 | I77: 94.976565 | J77: 94.272926 | K77: 95.782566 | L77: 95.956293 | M77: 91.407699 | N77: 100
B78: 대구달서 | C78: 4 | D78: 162 | E78: 58 | F78: 28 | G78: 93.083841 | H78: 92.719833 | I78: 93.156851 | J78: 92.261954 | K78: 93.745972 | L78: 95.594008 | M78: 92.282815 | N78: 100
B79: 대구수성 | C79: 4 | D79: 166 | E79: 61 | F79: 29 | G79: 92.966444 | H79: 92.787046 | I79: 94.389154 | J79: 94.687856 | K79: 93.693463 | L79: 94.83794 | M79: 91.184939 | N79: 96.375
B80: 포항 | C80: 4 | D80: 121 | E80: 28 | F80: 21 | G80: 93.980842 | H80: 93.782466 | I80: 94.636809 | J80: 94.709865 | K80: 95.062003 | L80: 93.21377 | M80: 92.928122 | N80: 97.75
B81: 경주 | C81: 4 | D81: 122 | E81: 29 | F81: 22 | G81: 93.969652 | H81: 93.968054 | I81: 93.143486 | J81: 93.686393 | K81: 93.003553 | L81: 91.306538 | M81: 94.792623 | N81: 94
B82: 안동 | C82: 4 | D82: 99 | E82: 17 | F82: 17 | G82: 94.377963 | H82: 94.082066 | I82: 94.401821 | J82: 95.696813 | K82: 91.445893 | L82: 97.037189 | M82: 93.762312 | N82: 100
B83: 구미 | C83: 4 | D83: 168 | E83: 63 | F83: 30 | G83: 92.905522 | H83: 92.578181 | I83: 92.705932 | J83: 93.507712 | K83: 91.965882 | L83: 91.376569 | M83: 92.45043 | N83: 99.125
B84: 경산 | C84: 4 | D84: 136 | E84: 39 | F84: 25 | G84: 93.655075 | H84: 93.321132 | I84: 92.850243 | J84: 92.763732 | K84: 93.21895 | L84: 92.273401 | M84: 93.792021 | N84: 100
B85: 영주 | C85: 5 | D85: 55 | E85: 54 | F85: 10 | G85: 95.314025 | H85: 95.133184 | I85: 94.548564 | J85: 94.247832 | K85: 93.557507 | L85: 97.646057 | M85: 95.717805 | N85: 98.75
B86: 상주 | C86: 5 | D86: 3 | E86: 3 | F86: 1 | G86: 96.808427 | H86: 96.640449 | I86: 97.544161 | J86: 98.370349 | K86: 95.696455 | L86: 99.066088 | M86: 95.736738 | N86: 100
B87: 남대구 | C87: 5 | D87: - | E87: - | F87: - | G87: 93.561127 | H87: 93.309958 | I87: 93.309958 | J87: 96.924478 | K87: 91.248057 | L87: 85.652975 | M87: - | N87: 98.333333
B88: 달성 | C88: 5 | D88: 93 | E88: 80 | F88: 16 | G88: 94.556328 | H88: 94.302713 | I88: 93.891651 | J88: 93.648217 | K88: 92.716659 | L88: 96.351376 | M88: 94.713775 | N88: 99.375
B89: 김천 | C89: 5 | D89: 130 | E89: 95 | F89: 24 | G89: 93.762501 | H89: 93.565791 | I89: 95.836087 | J89: 96.749022 | K89: 93.994968 | L89: 96.909204 | M89: 91.295495 | N89: 97.5
B90: 영천 | C90: 5 | D90: 128 | E90: 94 | F90: 23 | G90: 93.837299 | H90: 93.526104 | I90: 96.247953 | J90: 95.63789 | K90: 96.392434 | L90: 98.201011 | M90: 90.804255 | N90: 99.75
B91: 의성 | C91: 5 | D91: 80 | E91: 72 | F91: 13 | G91: 94.852202 | H91: 94.67995 | I91: 95.994789 | J91: 97.68095 | K91: 93.20582 | L91: 96.787286 | M91: 93.36511 | N91: 98.125
B92: 문경 | C92: 5 | D92: 52 | E92: 51 | F92: 9 | G92: 95.38736 | H92: 95.276168 | I92: 95.588196 | J92: 95.427053 | K92: 96.441217 | L92: 94.108191 | M92: 94.964141 | N92: 97.5
B93: 울진 | C93: 5 | D93: 28 | E93: 28 | F93: 5 | G93: 95.953025 | H93: 95.772921 | I93: 96.750863 | J93: 96.702258 | K93: 97.044538 | L93: 96.31711 | M93: 94.794979 | N93: 99.375
B94: 예천 | C94: 5 | D94: 51 | E94: 50 | F94: 8 | G94: 95.400428 | H94: 95.25703 | I94: 95.866333 | J94: 95.809443 | K94: 94.552962 | L94: 99.399216 | M94: 94.647726 | N94: 98.125
B95: 영덕 | C95: 5 | D95: 46 | E95: 45 | F95: 7 | G95: 95.526287 | H95: 95.382934 | I95: 95.267492 | J95: 93.208677 | K95: 97.627989 | L95: 96.740688 | M95: 95.498375 | N95: 98.25
B96: 칠곡 | C96: 5 | D96: 112 | E96: 88 | F96: 19 | G96: 94.115748 | H96: 93.957366 | I96: 95.018219 | J96: 94.860536 | K96: 95.201481 | L96: 95.147946 | M96: 92.896514 | N96: 97.125
B97: 봉화 | C97: 5 | D97: 11 | E97: 11 | F97: 3 | G97: 96.458009 | H97: 96.337378 | I97: 97.319961 | J97: 98.581504 | K97: 95.868311 | L97: 96.389665 | M97: 95.354796 | N97: 98.75
B98: 청도 | C98: 5 | D98: 66 | E98: 62 | F98: 11 | G98: 95.165431 | H98: 94.91098 | I98: 95.136752 | J98: 94.54956 | K98: 96.727156 | L98: 93.810238 | M98: 94.685207 | N98: 100
B99: 청송 | C99: 5 | D99: 41 | E99: 40 | F99: 6 | G99: 95.601669 | H99: 95.370178 | I99: 95.567313 | J99: 94.484081 | K99: 97.537921 | L99: 95.403188 | M99: 95.173043 | N99: 100
... B104: 울릉 | C104: 5 | D104: 115 | E104: 91 | F104: 20 | G104: 94.10631 | H104: 93.796116 | I104: 96.022492 | J104: 97.814051 | K104: 96.076156 | L104: 88.722098 | M104: 91.56974 | N104: 100
A106: 구분 | B106: 총괄국 | C106: 급수 | D106: 전체순위 | E106: 급내순위 | F106: 청내순위 | G106: 종합 KCSI | H106: 1) 이용고객 종합 | I106: 창구 | M106: 집배 | N106: 현장 모니터링
I107: 창구종합 | J107: 우편 | K107: 예금 | L107: 보험
G108: CSI | H108: CSI | I108: CSI | J108: CSI | K108: CSI | L108: CSI | M108: CSI | N108: MI
A109: 청평균 | B109: - | C109: - | D109: - | E109: - | F109: - | G109: 95.109173 | H109: 94.860533 | I109: 94.849728 | J109: 94.873868 | K109: 94.582436 | L109: 95.395563 | M109: 94.841818 | N109: 99.833333
A110: 전북 | B110: 전주 | C110: 4 | D110: 186 | E110: 80 | F110: 15 | G110: 92.572873 | H110: 92.247761 | I110: 91.888648 | J110: 92.038469 | K110: 89.87454 | L110: 96.221083 | M110: 92.606874 | N110: 98.75
B111: 동전주 | C111: 4 | D111: 120 | E111: 27 | F111: 14 | G111: 94.060443 | H111: 93.747835 | I111: 92.7403 | J111: 93.066807 | K111: 94.300229 | L111: 87.303591 | M111: 94.75537 | N111: 100
B112: 군산 | C112: 4 | D112: 37 | E112: 1 | F112: 5 | G112: 95.711883 | H112: 95.486193 | I112: 95.828816 | J112: 95.244327 | K112: 97.358692 | L112: 93.927691 | M112: 95.14357 | N112: 100
B113: 익산 | C113: 4 | D113: 88 | E113: 12 | F113: 13 | G113: 94.639951 | H113: 94.357843 | I113: 94.148277 | J113: 93.878175 | K113: 94.337465 | L113: 94.744378 | M113: 94.56741 | N113: 100
B114: 정읍 | C114: 4 | D114: 56 | E114: 2 | F114: 8 | G114: 95.307374 | H114: 95.060394 | I114: 94.86052 | J114: 95.714311 | K114: 92.848485 | L114: 96.78137 | M114: 95.260268 | N114: 100
B115: 남원 | C115: 5 | D115: 17 | E115: 17 | F115: 2 | G115: 96.223405 | H115: 96.024637 | I115: 96.059351 | J115: 95.782833 | K115: 96.455467 | L115: 96.171393 | M115: 95.989923 | N115: 100
B116: 김제 | C116: 5 | D116: 87 | E116: 76 | F116: 12 | G116: 94.701949 | H116: 94.423104 | I116: 95.080778 | J116: 95.288768 | K116: 93.956183 | L116: 96.959288 | M116: 93.76543 | N116: 100
B117: 부안 | C117: 5 | D117: 81 | E117: 73 | F117: 11 | G117: 94.836018 | H117: 94.56423 | I117: 95.808858 | J117: 94.376737 | K117: 97.222918 | L117: 97.590003 | M117: 93.319601 | N117: 100
B118: 무주 | C118: 5 | D118: 7 | E118: 7 | F118: 1 | G118: 96.584889 | H118: 96.405147 | I118: 96.685548 | J118: 98.020949 | K118: 94.812646 | L118: 95.889733 | M118: 96.124746 | N118: 100
B119: 임실 | C119: 5 | D119: 30 | E119: 30 | F119: 4 | G119: 95.876585 | H119: 95.659563 | I119: 96.39973 | J119: 97.657391 | K119: 94.438732 | L119: 96.116016 | M119: 94.919396 | N119: 100
B120: 진안 | C120: 5 | D120: 65 | E120: 61 | F120: 9 | G120: 95.192425 | H120: 94.939395 | I120: 94.032806 | J120: 94.036206 | K120: 93.647968 | L120: 94.948544 | M120: 95.845985 | N120: 100
B121: 순창 | C121: 5 | D121: 19 | E121: 19 | F121: 3 | G121: 96.141613 | H121: 95.938541 | I121: 96.688285 | J121: 96.978504 | K121: 95.593239 | L121: 98.077366 | M121: 95.188796 | N121: 100
B122: 고창 | C122: 5 | D122: 45 | E122: 44 | F122: 7 | G122: 95.563756 | H122: 95.330269 | I122: 94.891088 | J122: 94.594378 | K122: 93.625384 | L122: 98.467556 | M122: 95.76945 | N122: 100
... B124: 완주 | C124: 4 | D124: 70 | E124: 6 | F124: 10 | G124: 95.066116 | H124: 94.806438 | I124: 94.889694 | J124: 94.936633 | K124: 95.073877 | L124: 94.285797 | M124: 94.723183 | N124: 100
A126: 구분 | B126: 총괄국 | C126: 급수 | D126: 전체순위 | E126: 급내순위 | F126: 청내순위 | G126: 종합 KCSI | H126: 1) 이용고객 종합 | I126: 창구 | M126: 집배 | N126: 현장 모니터링
I127: 창구종합 | J127: 우편 | K127: 예금 | L127: 보험
G128: CSI | H128: CSI | I128: CSI | J128: CSI | K128: CSI | L128: CSI | M128: CSI | N128: MI
A129: 청평균 | B129: - | C129: - | D129: - | E129: - | F129: - | G129: 94.755891 | H129: 94.548384 | I129: 94.52227 | J129: 94.49468 | K129: 94.42211 | L129: 94.834427 | M129: 94.720669 | N129: 98.698529
A130: 강원 | B130: 춘천 | C130: 4 | D130: 107 | E130: 22 | F130: 12 | G130: 94.254819 | H130: 94.018231 | I130: 93.543118 | J130: 93.778171 | K130: 92.148362 | L130: 96.261895 | M130: 94.493344 | N130: 98.75
B131: 원주 | C131: 4 | D131: 123 | E131: 30 | F131: 15 | G131: 93.958522 | H131: 93.64055 | I131: 93.853333 | J131: 93.046312 | K131: 94.733875 | L131: 95.097069 | M131: 93.427766 | N131: 100
B132: 강릉 | C132: 4 | D132: 85 | E132: 11 | F132: 10 | G132: 94.730639 | H132: 94.558567 | I132: 94.34249 | J132: 94.725126 | K132: 93.214859 | L132: 95.517727 | M132: 94.774645 | N132: 98
B133: 동해 | C133: 4 | D133: 117 | E133: 25 | F133: 14 | G133: 94.086353 | H133: 93.775108 | I133: 91.767506 | J133: 92.392522 | K133: 90.594855 | L133: 92.252644 | M133: 95.782711 | N133: 100
B134: 삼척 | C134: 5 | D134: 91 | E134: 78 | F134: 11 | G134: 94.577748 | H134: 94.325261 | I134: 93.862344 | J134: 93.631674 | K134: 92.79811 | L134: 96.679912 | M134: 94.788178 | N134: 99.375
B135: 속초 | C135: 4 | D135: 126 | E135: 33 | F135: 16 | G135: 93.940083 | H135: 93.818508 | I135: 94.894324 | J135: 94.645076 | K135: 94.705252 | L135: 96.242241 | M135: 92.742692 | N135: 96.25
B136: 양구 | C136: 5 | D136: 36 | E136: 36 | F136: 4 | G136: 95.732011 | H136: 95.638959 | I136: 94.734152 | J136: 93.872511 | K136: 95.177859 | L136: 96.236627 | M136: 96.543767 | N136: 97.5
B137: 양양 | C137: 5 | D137: 71 | E137: 65 | F137: 8 | G137: 95.064723 | H137: 94.897077 | I137: 94.807477 | J137: 93.34576 | K137: 96.417544 | L137: 95.889276 | M137: 94.986678 | N137: 98.25
B138: 영월 | C138: 5 | D138: 57 | E138: 55 | F138: 5 | G138: 95.288251 | H138: 95.040264 | I138: 94.650213 | J138: 94.562199 | K138: 95.655443 | L138: 92.714639 | M138: 95.430316 | N138: 100
...

Sheet 2013
A1: 종합
A3: 구분 | B3: 총괄국 | C3: 급수 | D3: 전체순위 | E3: 급내순위 | F3: 청내순위 | G3: 종합 | H3: 창구 | L3: 집배
H4: 창구종합 | I4: 우편 | J4: 예금 | K4: 보험
G5: CSI | H5: CSI | I5: CSI | J5: CSI | K5: CSI | L5: CSI
A6: 청평균 | B6: - | C6: - | D6: - | E6: - | F6: - | G6: 91.287155 | H6: 91.108529 | I6: 91.491796 | J6: 90.455007 | K6: 90.744016 | L6: 91.705749
A7: 서울 | B7: 서울중앙 | C7: 4 | D7: 211 | E7: 93 | F7: 15 | G7: 91.007903 | H7: 90.382137 | I7: 90.168109 | J7: 89.780456 | K7: 92.358018 | L7: 91.63367
B8: 광화문 | C8: 4 | D8: 212 | E8: 94 | F8: 16 | G8: 90.957233 | H8: 93.434892 | I8: 93.094236 | J8: 93.455479 | K8: 94.895472 | L8: 88.479574
B9: 서대문 | C9: 4 | D9: 180 | E9: 66 | F9: 3 | G9: 92.294606 | H9: 92.887535 | I9: 92.329639 | J9: 95.408367 | K9: 89.514063 | L9: 91.701677
B10: 동대문 | C10: 4 | D10: 216 | E10: 98 | F10: 20 | G10: 90.460862 | H10: 89.093454 | I10: 89.032119 | J10: 86.631582 | K10: 95.108856 | L10: 91.82827
B11: 서울광진 | C11: 4 | D11: 206 | E11: 89 | F11: 12 | G11: 91.391127 | H11: 92.821497 | I11: 94.120418 | J11: 90.461168 | K11: 91.4579 | L11: 89.960757
B12: 서울강북 | C12: 4 | D12: 201 | E12: 85 | F12: 8 | G12: 91.610091 | H12: 91.862133 | I12: 92.639335 | J12: 91.437171 | K12: 89.700397 | L12: 91.358049
B13: 서울마포 | C13: 4 | D13: 148 | E13: 42 | F13: 1 | G13: 93.346315 | H13: 92.10041 | I13: 92.866204 | J13: 90.00179 | K13: 93.231035 | L13: 94.592219
B14: 서울관악 | C14: 4 | D14: 215 | E14: 97 | F14: 19 | G14: 90.627417 | H14: 90.124586 | I14: 90.971367 | J14: 90.19907 | K14: 85.562429 | L14: 91.130248
B15: 서울은평 | C15: 4 | D15: 184 | E15: 70 | F15: 5 | G15: 92.180504 | H15: 92.11494 | I15: 91.047196 | J15: 92.022964 | K15: 96.903538 | L15: 92.246067
B16: 여의도 | C16: 4 | D16: 198 | E16: 82 | F16: 7 | G16: 91.667045 | H16: 90.005012 | I16: 89.949047 | J16: 89.07042 | K16: 92.130034 | L16: 93.329079
B17: 서울강남 | C17: 4 | D17: 207 | E17: 90 | F17: 13 | G17: 91.330795 | H17: 90.054001 | I17: 89.916176 | J17: 91.200115 | K17: 88.525017 | L17: 92.607589
B18: 서울금천 | C18: 4 | D18: 219 | E18: 101 | F18: 22 | G18: 90.194209 | H18: 88.563699 | I18: 87.695278 | J18: 88.293073 | K18: 93.322992 | L18: 91.824718
B19: 서울성북 | C19: 4 | D19: 175 | E19: 61 | F19: 2 | G19: 92.593034 | H19: 92.126947 | I19: 93.912722 | J19: 91.716862 | K19: 85.487868 | L19: 93.059122
... B28: 서울노원 | C28: 4 | D28: 214 | E28: 96 | F28: 18 | G28: 90.736441 | H28: 92.545586 | I28: 93.666752 | J28: 89.868505 | K28: 93.584617 | L28: 88.927296
A30: 구분 | B30: 총괄국 | C30: 급수 | D30: 전체순위 | E30: 급내순위 | F30: 청내순위 | G30: 종합 | H30: 창구 | L30: 집배
H31: 창구종합 | I31: 우편 | J31: 예금 | K31: 보험
G32: CSI | H32: CSI | I32: CSI | J32: CSI | K32: CSI | L32: CSI
A33: 청평균 | B33: - | C33: - | D33: - | E33: - | F33: - | G33: 92.547819 | H33: 92.314508 | I33: 92.377728 | J33: 92.333917 | K33: 92.044496 | L33: 93.025464
A34: 경인 | B34: 인천 | C34: 4 | D34: 194 | E34: 78 | F34: 32 | G34: 91.867232 | H34: 91.256545 | I34: 92.724737 | J34: 90.577638 | K34: 87.094843 | L34: 92.477919
B35: 인천계양 | C35: 4 | D35: 189 | E35: 74 | F35: 28 | G35: 91.984516 | H35: 91.976371 | I35: 92.677322 | J35: 90.778957 | K35: 91.967939 | L35: 91.992661
B36: 서인천 | C36: 4 | D36: 182 | E36: 68 | F36: 25 | G36: 92.242752 | H36: 93.486452 | I36: 92.913548 | J36: 95.730612 | K36: 91.121248 | L36: 90.999053
B37: 남인천 | C37: 4 | D37: 178 | E37: 64 | F37: 24 | G37: 92.50664 | H37: 91.479904 | I37: 91.991657 | J37: 88.913742 | K37: 94.413316 | L37: 93.533375
B38: 수원 | C38: 4 | D38: 141 | E38: 37 | F38: 15 | G38: 93.429766 | H38: 92.313768 | I38: 90.554037 | J38: 94.48525 | K38: 94.574242 | L38: 94.545764
B39: 동수원 | C39: 4 | D39: 157 | E39: 46 | F39: 21 | G39: 93.138031 | H39: 91.486457 | I39: 90.909915 | J39: 93.464018 | K39: 89.798154 | L39: 94.789606
B40: 의정부 | C40: 4 | D40: 154 | E40: 44 | F40: 20 | G40: 93.179366 | H40: 93.434321 | I40: 94.188434 | J40: 92.323645 | K40: 93.051931 | L40: 92.924412
B41: 성남 | C41: 4 | D41: 144 | E41: 39 | F41: 16 | G41: 93.384089 | H41: 92.722039 | I41: 92.225338 | J41: 92.551958 | K41: 95.222848 | L41: 94.04614
B42: 성남분당 | C42: 4 | D42: 220 | E42: 102 | F42: 38 | G42: 89.800596 | H42: 89.786428 | I42: 89.041648 | J42: 91.519184 | K42: 89.300036 | L42: 89.814763
B43: 안산 | C43: 4 | D43: 176 | E43: 62 | F43: 23 | G43: 92.585439 | H43: 92.119451 | I43: 93.403723 | J43: 89.84499 | K43: 91.531283 | L43: 93.051427
B44: 군포 | C44: 4 | D44: 137 | E44: 34 | F44: 14 | G44: 93.481469 | H44: 92.410375 | I44: 92.374675 | J44: 94.019715 | K44: 89.3366 | L44: 94.552562
B45: 안양 | C45: 4 | D45: 199 | E45: 83 | F45: 33 | G45: 91.656668 | H45: 90.64493 | I45: 90.601141 | J45: 88.614065 | K45: 94.916847 | L45: 92.668405
B46: 부천 | C46: 4 | D46: 192 | E46: 76 | F46: 31 | G46: 91.913854 | H46: 92.440955 | I46: 93.246284 | J46: 92.292026 | K46: 89.548471 | L46: 91.386753
... B72: 하남 | C72: 5 | D72: 102 | E72: 81 | F72: 5 | G72: 94.268163 | H72: 92.349888 | I72: 94.071251 | J72: 88.497861 | K72: 93.064516 | L72: 96.186437
A74: 구분 | B74: 총괄국 | C74: 급수 | D74: 전체순위 | E74: 급내순위 | F74: 청내순위 | G74: 종합 | H74: 창구 | L74: 집배
H75: 창구종합 | I75: 우편 | J75: 예금 | K75: 보험
G76: CSI | H76: CSI | I76: CSI | J76: CSI | K76: CSI | L76: CSI
A77: 청평균 | B77: - | C77: - | D77: - | E77: - | F77: - | G77: 93.893037 | H77: 93.563757 | I77: 93.594189 | J77: 93.640775 | K77: 93.29234 | L77: 94.339153
A78: 부산 | B78: 부산 | C78: 4 | D78: 118 | E78: 28 | F78: 20 | G78: 93.985926 | H78: 94.655984 | I78: 96.296835 | J78: 90.622413 | K78: 96.211028 | L78: 93.315868
B79: 동래 | C79: 4 | D79: 170 | E79: 58 | F79: 31 | G79: 92.716085 | H79: 93.031872 | I79: 93.576924 | J79: 91.290873 | K79: 94.061134 | L79: 92.400298
B80: 남부산 | C80: 4 | D80: 166 | E80: 55 | F80: 30 | G80: 92.925029 | H80: 90.506401 | I80: 90.049811 | J80: 92.594031 | K80: 87.911335 | L80: 95.343658
B81: 부산사상 | C81: 4 | D81: 179 | E81: 65 | F81: 35 | G81: 92.443688 | H81: 92.375518 | I81: 92.479586 | J81: 92.403641 | K81: 91.846279 | L81: 92.511858
B82: 부산금정 | C82: 4 | D82: 177 | E82: 63 | F82: 34 | G82: 92.560768 | H82: 91.690868 | I82: 93.602024 | J82: 89.091998 | K82: 88.775692 | L82: 93.430667
B83: 부산사하 | C83: 4 | D83: 164 | E83: 53 | F83: 29 | G83: 92.975451 | H83: 93.466054 | I83: 94.278052 | J83: 93.929977 | K83: 89.155913 | L83: 92.484848
B84: 해운대 | C84: 4 | D84: 193 | E84: 77 | F84: 36 | G84: 91.897569 | H84: 92.606469 | I84: 93.965016 | J84: 89.995977 | K84: 92.732899 | L84: 91.188669
B85: 북부산 | C85: 4 | D85: 122 | E85: 30 | F85: 22 | G85: 93.841759 | H85: 93.412926 | I85: 94.112172 | J85: 93.518518 | K85: 90.40476 | L85: 94.270593
B86: 부산연제 | C86: 4 | D86: 132 | E86: 32 | F86: 25 | G86: 93.604135 | H86: 92.98365 | I86: 92.80699 | J86: 93.650615 | K86: 92.31946 | L86: 94.224621
B87: 부산진 | C87: 4 | D87: 196 | E87: 80 | F87: 37 | G87: 91.862523 | H87: 92.353422 | I87: 91.670882 | J87: 92.995602 | K87: 93.718948 | L87: 91.371624
B88: 울산 | C88: 4 | D88: 64 | E88: 8 | F88: 10 | G88: 95.015544 | H88: 94.932621 | I88: 93.854929 | J88: 97.643712 | K88: 93.819857 | L88: 95.098467
B89: 남울산 | C89: 4 | D89: 80 | E89: 12 | F89: 15 | G89: 94.614871 | H89: 92.858211 | I89: 92.292647 | J89: 93.143611 | K89: 94.402094 | L89: 96.371531
B90: 마산 | C90: 4 | D90: 160 | E90: 49 | F90: 27 | G90: 93.037683 | H90: 91.939075 | I90: 92.106915 | J90: 90.985052 | K90: 93.142195 | L90: 94.136291
... B115: 마산합포 | C115: 5 | D115: 155 | E115: 111 | F115: 26 | G115: 93.172954 | H115: 92.333729 | I115: 92.991632 | J115: 89.438952 | K115: 94.358613 | L115: 94.012179
A117: 구분 | B117: 총괄국 | C117: 급수 | D117: 전체순위 | E117: 급내순위 | F117: 청내순위 | G117: 종합 | H117: 창구 | L117: 집배
H118: 창구종합 | I118: 우편 | J118: 예금 | K118: 보험
G119: CSI | H119: CSI | I119: CSI | J119: CSI | K119: CSI | L119: CSI | N119: 목표
A120: 청평균 | B120: - | C120: - | D120: - | E120: - | F120: - | G120: 94.570441 | H120: 94.462215 | I120: 94.487955 | J120: 94.434316 | K120: 94.424375 | L120: 94.728266 | P120: 구분 | Q120: 목표배정 (1안,3안,4안)/3
A121: 충청 | B121: 대전 | C121: 4 | D121: 158 | E121: 47 | F121: 29 | G121: 93.101787 | H121: 94.263374 | I121: 93.405114 | J121: 96.018099 | K121: 94.542301 | L121: 91.9402 | N121: =VLOOKUP(B121,$P$120:$Q$155,2,0) -> 91.33 | P121: 대전 | Q121: 91.33
B122: 서대전 | C122: 4 | D122: 159 | E122: 48 | F122: 30 | G122: 93.058603 | H122: 92.754363 | I122: 93.691362 | J122: 92.20959 | K122: 89.997284 | L122: 93.362843 | N122: =VLOOKUP(B122,$P$120:$Q$155,2,0) -> 90.362255 | P122: 서대전 | Q122: 90.362255
B123: 대전유성 | C123: 4 | D123: 52 | E123: 5 | F123: 12 | G123: 95.233833 | H123: 95.089142 | I123: 95.601038 | J123: 93.033674 | K123: 97.798953 | L123: 95.378524 | N123: =VLOOKUP(B123,$P$120:$Q$155,2,0) -> 90.286741 | P123: 대전유성 | Q123: 90.286741
B124: 대전대덕 | C124: 4 | D124: 29 | E124: 1 | F124: 8 | G124: 95.641632 | H124: 92.977914 | I124: 93.636861 | J124: 91.509897 | K124: 92.838862 | L124: 98.305351 | N124: =VLOOKUP(B124,$P$120:$Q$155,2,0) -> 90.329389 | P124: 대전대덕 | Q124: 90.329389
B125: 대전둔산 | C125: 4 | D125: 195 | E125: 79 | F125: 32 | G125: 91.865997 | H125: 91.622326 | I125: 90.001847 | J125: 94.424972 | K125: 92.05192 | L125: 92.109669 | N125: =VLOOKUP(B125,$P$120:$Q$155,2,0) -> 90.504807 | P125: 대전둔산 | Q125: 90.504807
B126: 천안 | C126: 4 | D126: 181 | E126: 67 | F126: 31 | G126: 92.288226 | H126: 91.604614 | I126: 90.472293 | J126: 92.25897 | K126: 94.49215 | L126: 92.971839 | N126: =VLOOKUP(B126,$P$120:$Q$155,2,0) -> 90.407786 | P126: 천안 | Q126: 90.407786
B127: 공주 | C127: 4 | D127: 60 | E127: 6 | F127: 15 | G127: 95.090192 | H127: 93.665304 | I127: 91.995208 | J127: 94.902911 | K127: 96.896029 | L127: 96.51508 | N127: =VLOOKUP(B127,$P$120:$Q$155,2,0) -> 91.273333 | P127: 동천안 | Q127: 90.50848
B128: 청주 | C128: 4 | D128: 84 | E128: 13 | F128: 17 | G128: 94.567843 | H128: 94.986506 | I128: 94.979624 | J128: 94.963303 | K128: 95.063978 | L128: 94.149179 | N128: =VLOOKUP(B128,$P$120:$Q$155,2,0) -> 91.3 | P128: 아산 | Q128: 90.875217
B129: 서청주 | C129: 4 | D129: 156 | E129: 45 | F129: 28 | G129: 93.164976 | H129: 92.996413 | I129: 92.838474 | J129: 93.925623 | K129: 91.597862 | L129: 93.333538 | N129: =VLOOKUP(B129,$P$120:$Q$155,2,0) -> 91.016458 | P129: 공주 | Q129: 91.273333
B130: 충주 | C130: 4 | D130: 86 | E130: 14 | F130: 18 | G130: 94.55982 | H130: 95.526501 | I130: 96.275744 | J130: 94.979639 | K130: 93.802602 | L130: 93.593139 | N130: =VLOOKUP(B130,$P$120:$Q$155,2,0) -> 90.589847 | P130: 청주 | Q130: 91.3
B131: 제천 | C131: 4 | D131: 99 | E131: 21 | F131: 22 | G131: 94.330965 | H131: 93.94191 | I131: 93.278844 | J131: 95.266562 | K131: 93.800532 | L131: 94.720021 | N131: =VLOOKUP(B131,$P$120:$Q$155,2,0) -> 91.356667 | P131: 서청주 | Q131: 91.016458
B132: 아산 | C132: 4 | D132: 93 | E132: 17 | F132: 21 | G132: 94.451998 | H132: 94.767812 | I132: 94.476201 | J132: 94.451085 | K132: 96.340904 | L132: 94.136183 | N132: =VLOOKUP(B132,$P$120:$Q$155,2,0) -> 90.875217 | P132: 충주 | Q132: 90.589847
B133: 동천안 | C133: 4 | D133: 90 | E133: 16 | F133: 19 | G133: 94.518859 | H133: 93.3146 | I133: 93.739426 | J133: 92.475314 | K133: 93.426212 | L133: 95.723117 | N133: =VLOOKUP(B133,$P$120:$Q$155,2,0) -> 90.50848 | P133: 제천 | Q133: 91.356667
... B152: 보은 | C152: 5 | D152: 6 | E152: 6 | F152: 3 | G152: 96.423076 | H152: 97.19799 | I152: 96.577378 | J152: 97.39174 | K152: 100 | L152: 95.648162 | N152: =VLOOKUP(B152,$P$120:$Q$155,2,0) -> 93.546667 | P152: 영동 | Q152: 92.64454
P153: 보은 | Q153: 93.546667
A154: 구분 | B154: 총괄국 | C154: 급수 | D154: 전체순위 | E154: 급내순위 | F154: 청내순위 | G154: 종합 | H154: 창구 | L154: 집배 | P154: 5급평균 | Q154: 92.976065
H155: 창구종합 | I155: 우편 | J155: 예금 | K155: 보험 | P155: 청평균 | Q155: 92.083944
G156: CSI | H156: CSI | I156: CSI | J156: CSI | K156: CSI | L156: CSI
A157: 청평균 | B157: - | C157: - | D157: - | E157: - | F157: - | G157: 94.582704 | H157: 94.738505 | I157: 94.763124 | J157: 94.730544 | K157: 94.667177 | L157: 94.37889
A158: 전남 | B158: 광주 | C158: 4 | D158: 143 | E158: 38 | F158: 22 | G158: 93.423549 | H158: 93.644383 | I158: 94.563512 | J158: 91.849324 | K158: 93.455855 | L158: 93.202716
B159: 북광주 | C159: 4 | D159: 197 | E159: 81 | F159: 25 | G159: 91.74747 | H159: 91.434977 | I159: 91.492694 | J159: 91.535586 | K159: 91.002889 | L159: 92.059963
B160: 서광주 | C160: 4 | D160: 165 | E160: 54 | F160: 23 | G160: 92.973547 | H160: 92.718442 | I160: 91.584968 | J160: 94.65769 | K160: 93.697694 | L160: 93.228651
B161: 광주광산 | C161: 4 | D161: 174 | E161: 60 | F161: 24 | G161: 92.603385 | H161: 92.72466 | I161: 92.14497 | J161: 93.944701 | K161: 92.232336 | L161: 92.48211
B162: 목포 | C162: 4 | D162: 139 | E162: 35 | F162: 21 | G162: 93.452051 | H162: 93.438574 | I162: 93.675003 | J162: 93.299369 | K162: 92.74523 | L162: 93.465529
B163: 여수 | C163: 4 | D163: 75 | E163: 11 | F163: 14 | G163: 94.734087 | H163: 95.503467 | I163: 96.223883 | J163: 94.361535 | K163: 95.125291 | L163: 93.964708
B164: 순천 | C164: 4 | D164: 103 | E164: 22 | F164: 17 | G164: 94.238744 | H164: 95.42998 | I164: 94.515816 | J164: 95.537292 | K164: 98.164679 | L164: 93.047508
B165: 보성 | C165: 5 | D165: 23 | E165: 23 | F165: 6 | G165: 95.944951 | H165: 95.920531 | I165: 95.275124 | J165: 97.594524 | K165: 95.077045 | L165: 95.969371
B166: 장흥 | C166: 5 | D166: 59 | E166: 54 | F166: 12 | G166: 95.107182 | H166: 97.360308 | I166: 97.382751 | J166: 96.530611 | K166: 98.592345 | L166: 92.854055
B167: 화순 | C167: 5 | D167: 16 | E167: 16 | F167: 2 | G167: 96.151606 | H167: 96.323593 | I167: 98.193344 | J167: 93.436302 | K167: 94.759834 | L167: 95.97962
B168: 곡성 | C168: 5 | D168: 26 | E168: 26 | F168: 8 | G168: 95.825843 | H168: 96.017484 | I168: 96.567884 | J168: 95.395954 | K168: 95.282497 | L168: 95.634201
B169: 구례 | C169: 5 | D169: 40 | E169: 39 | F169: 11 | G169: 95.471882 | H169: 95.674114 | I169: 97.169868 | J169: 94.928036 | K169: 91.725854 | L169: 95.269651
B170: 나주 | C170: 5 | D170: 69 | E170: 60 | F170: 13 | G170: 94.940211 | H170: 94.666709 | I170: 95.001667 | J170: 94.306766 | K170: 94.318037 | L170: 95.213714
... B182: 진도 | C182: 5 | D182: 125 | E182: 95 | F182: 20 | G182: 93.730519 | H182: 94.94316 | I182: 94.308371 | J182: 98.365632 | K182: 90.480286 | L182: 92.517879
A184: 구분 | B184: 총괄국 | C184: 급수 | D184: 전체순위 | E184: 급내순위 | F184: 청내순위 | G184: 종합 | H184: 창구 | L184: 집배
H185: 창구종합 | I185: 우편 | J185: 예금 | K185: 보험
G186: CSI | H186: CSI | I186: CSI | J186: CSI | K186: CSI | L186: CSI
A187: 청평균 | B187: - | C187: - | D187: - | E187: - | F187: - | G187: 94.683719 | H187: 94.825376 | I187: 95.055132 | J187: 94.775054 | K187: 94.034627 | L187: 94.470062
A188: 경북 | B188: 대구 | C188: 4 | D188: 161 | E188: 50 | F188: 28 | G188: 93.029089 | H188: 94.784609 | I188: 94.666458 | J188: 96.685064 | K188: 91.356807 | L188: 91.27357
B189: 동대구 | C189: 4 | D189: 62 | E189: 7 | F189: 13 | G189: 95.03905 | H189: 95.114477 | I189: 95.274261 | J189: 94.962448 | K189: 94.834544 | L189: 94.963623
B190: 서대구 | C190: 4 | D190: 98 | E190: 20 | F190: 20 | G190: 94.371864 | H190: 93.631204 | I190: 93.755299 | J190: 94.138653 | K190: 92.134526 | L190: 95.112523
B191: 북대구 | C191: 4 | D191: 116 | E191: 27 | F191: 24 | G191: 94.015577 | H191: 94.194549 | I191: 93.612881 | J191: 95.981193 | K191: 92.745613 | L191: 93.836606
...

Sheet 2012
A1: 종합
A3: 구분 | B3: 총괄국 | C3: 급수 | D3: 전체순위 | E3: 급내순위 | F3: 청내순위 | G3: 종합 | H3: 창구 | L3: 집배
H4: 창구종합 | I4: 우편 | J4: 예금 | K4: 보험
G5: CSI | H5: CSI | I5: CSI | J5: CSI | K5: CSI | L5: CSI
A6: 청평균 | B6: - | C6: - | D6: - | E6: - | F6: - | G6: 88.148422 | H6: 85.070931 | I6: 85.855672 | J6: 84.173947 | K6: 84.346765 | L6: 91.56287
A7: 서울 | B7: 서울중앙 | C7: 4 | D7: 220 | E7: 102 | F7: 21 | G7: =AVERAGE(H7,L7) -> 86.133758 | H7: 81.251265 | I7: 80.979526 | J7: 79.754504 | K7: 84.711424 | L7: 91.016252
B8: 광화문 | C8: 4 | D8: 214 | E8: 96 | F8: 18 | G8: =AVERAGE(H8,L8) -> 87.508098 | H8: 83.813842 | I8: 84.034107 | J8: 82.852666 | K8: 84.824535 | L8: 91.202354
B9: 서대문 | C9: 4 | D9: 205 | E9: 87 | F9: 13 | G9: =AVERAGE(H9,L9) -> 88.454352 | H9: 85.415915 | I9: 85.134681 | J9: 85.316508 | K9: 86.422547 | L9: 91.492789
B10: 동대문 | C10: 4 | D10: 211 | E10: 93 | F10: 16 | G10: =AVERAGE(H10,L10) -> 88.058324 | H10: 85.666685 | I10: 86.750599 | J10: 84.489273 | K10: 84.946766 | L10: 90.449962
B11: 서울광진 | C11: 4 | D11: 179 | E11: 65 | F11: 2 | G11: =AVERAGE(H11,L11) -> 89.482531 | H11: 87.040304 | I11: 87.584757 | J11: 85.785163 | K11: 87.536399 | L11: 91.924758
B12: 서울강북 | C12: 4 | D12: 197 | E12: 79 | F12: 7 | G12: =AVERAGE(H12,L12) -> 88.836164 | H12: 86.156432 | I12: 87.670862 | J12: 84.277566 | K12: 85.331962 | L12: 91.515896
B13: 서울마포 | C13: 4 | D13: 201 | E13: 83 | F13: 10 | G13: =AVERAGE(H13,L13) -> 88.620016 | H13: 86.238861 | I13: 86.526109 | J13: 84.858736 | K13: 87.729834 | L13: 91.001171
