Workbook

Sheet 목표(창구+집배)
A1: 2016년도 우정서비스 고객만족도(KPCSI) 목표배정(안)
A3: 국명 | B3: 관서급 | C3: 그룹 | D3: 2015년 | H3: 2016년 목표배정(안)
D4: 목표 | E4: 실적 | F4: 창구종합 | G4: 집배 | H4: 창구종합 | I4: 집배 | J4: 산출목표 | K4: 최종(안)
A5: 대전유성 | B5: 4급 | C5: 1그룹 | D5: =VLOOKUP($A5,연도별!$A$2:$K$36,3,0) -> 93.534346 | E5: =VLOOKUP($A5,연도별!$A$2:$K$36,4,0) -> 93.924277 | F5: =VLOOKUP($A5,연도별!$A$2:$K$36,6,0) -> 93.608385 | G5: =VLOOKUP($A5,연도별!$A$2:$K$36,10,0) -> 93.653251 | H5: =VLOOKUP($A5,'목표(창구)'!$A$11:$AB$42,28,0) -> 93.8 | I5: =VLOOKUP($A5,'목표(집배)'!$A$3:$L$37,9,0) -> 94.8 | J5: =(H5*0.5+I5*0.5)*0.99 -> 93.357 | K5: =ROUNDUP(AVERAGE($J$5:$J$9),1) -> 93.4
A6: 대전둔산 | B6: 4급 | C6: 1그룹 | D6: =VLOOKUP($A6,연도별!$A$2:$K$36,3,0) -> 92.076079 | E6: =VLOOKUP($A6,연도별!$A$2:$K$36,4,0) -> 95.519869 | F6: =VLOOKUP($A6,연도별!$A$2:$K$36,6,0) -> 93.620039 | G6: =VLOOKUP($A6,연도별!$A$2:$K$36,10,0) -> 96.948106 | H6: =VLOOKUP($A6,'목표(창구)'!$A$11:$AB$42,28,0) -> 93.8 | I6: =VLOOKUP($A6,'목표(집배)'!$A$3:$L$37,9,0) -> 94.8 | J6: =(H6*0.5+I6*0.5)*0.99 -> 93.357 | K6: =ROUNDUP(AVERAGE($J$5:$J$9),1) -> 93.4
A7: 대전 | B7: 4급 | C7: 1그룹 | D7: =VLOOKUP($A7,연도별!$A$2:$K$36,3,0) -> 93.311679 | E7: =VLOOKUP($A7,연도별!$A$2:$K$36,4,0) -> 95.638326 | F7: =VLOOKUP($A7,연도별!$A$2:$K$36,6,0) -> 94.819162 | G7: =VLOOKUP($A7,연도별!$A$2:$K$36,10,0) -> 96.10363 | H7: =VLOOKUP($A7,'목표(창구)'!$A$11:$AB$42,28,0) -> 93.8 | I7: =VLOOKUP($A7,'목표(집배)'!$A$3:$L$37,9,0) -> 94.8 | J7: =(H7*0.5+I7*0.5)*0.99 -> 93.357 | K7: =ROUNDUP(AVERAGE($J$5:$J$9),1) -> 93.4
A8: 서대전 | B8: 4급 | C8: 1그룹 | D8: =VLOOKUP($A8,연도별!$A$2:$K$36,3,0) -> 92.858965 | E8: =VLOOKUP($A8,연도별!$A$2:$K$36,4,0) -> 95.300453 | F8: =VLOOKUP($A8,연도별!$A$2:$K$36,6,0) -> 93.616139 | G8: =VLOOKUP($A8,연도별!$A$2:$K$36,10,0) -> 96.542708 | H8: =VLOOKUP($A8,'목표(창구)'!$A$11:$AB$42,28,0) -> 93.8 | I8: =VLOOKUP($A8,'목표(집배)'!$A$3:$L$37,9,0) -> 94.8 | J8: =(H8*0.5+I8*0.5)*0.99 -> 93.357 | K8: =ROUNDUP(AVERAGE($J$5:$J$9),1) -> 93.4
A9: 대전대덕 | B9: 4급 | C9: 1그룹 | D9: =VLOOKUP($A9,연도별!$A$2:$K$36,3,0) -> 92.778212 | E9: =VLOOKUP($A9,연도별!$A$2:$K$36,4,0) -> 95.621019 | F9: =VLOOKUP($A9,연도별!$A$2:$K$36,6,0) -> 94.527128 | G9: =VLOOKUP($A9,연도별!$A$2:$K$36,10,0) -> 96.506597 | H9: =VLOOKUP($A9,'목표(창구)'!$A$11:$AB$42,28,0) -> 93.8 | I9: =VLOOKUP($A9,'목표(집배)'!$A$3:$L$37,9,0) -> 94.8 | J9: =(H9*0.5+I9*0.5)*0.99 -> 93.357 | K9: =ROUNDUP(AVERAGE($J$5:$J$9),1) -> 93.4
A10: 천안 | B10: 4급 | C10: 2그룹 | D10: =VLOOKUP($A10,연도별!$A$2:$K$36,3,0) -> 92.53136 | E10: =VLOOKUP($A10,연도별!$A$2:$K$36,4,0) -> 94.906362 | F10: =VLOOKUP($A10,연도별!$A$2:$K$36,6,0) -> 93.871052 | G10: =VLOOKUP($A10,연도별!$A$2:$K$36,10,0) -> 95.48971 | H10: =VLOOKUP($A10,'목표(창구)'!$A$11:$AB$42,28,0) -> 94.4 | I10: =VLOOKUP($A10,'목표(집배)'!$A$3:$L$37,9,0) -> 94.8 | J10: =(H10*0.5+I10*0.5)*0.99 -> 93.654 | K10: =ROUNDUP(AVERAGE($J$10:$J$15),1) -> 93.7
A11: 동천안 | B11: 4급 | C11: 2그룹 | D11: =VLOOKUP($A11,연도별!$A$2:$K$36,3,0) -> 93.127835 | E11: =VLOOKUP($A11,연도별!$A$2:$K$36,4,0) -> 95.426797 | F11: =VLOOKUP($A11,연도별!$A$2:$K$36,6,0) -> 94.777071 | G11: =VLOOKUP($A11,연도별!$A$2:$K$36,10,0) -> 95.731976 | H11: =VLOOKUP($A11,'목표(창구)'!$A$11:$AB$42,28,0) -> 94.4 | I11: =VLOOKUP($A11,'목표(집배)'!$A$3:$L$37,9,0) -> 94.8 | J11: =(H11*0.5+I11*0.5)*0.99 -> 93.654 | K11: =ROUNDUP(AVERAGE($J$10:$J$15),1) -> 93.7
A12: 서청주 | B12: 4급 | C12: 2그룹 | D12: =VLOOKUP($A12,연도별!$A$2:$K$36,3,0) -> 93.366279 | E12: =VLOOKUP($A12,연도별!$A$2:$K$36,4,0) -> 94.464362 | F12: =VLOOKUP($A12,연도별!$A$2:$K$36,6,0) -> 93.899841 | G12: =VLOOKUP($A12,연도별!$A$2:$K$36,10,0) -> 94.688289 | H12: =VLOOKUP($A12,'목표(창구)'!$A$11:$AB$42,28,0) -> 94.4 | I12: =VLOOKUP($A12,'목표(집배)'!$A$3:$L$37,9,0) -> 94.8 | J12: =(H12*0.5+I12*0.5)*0.99 -> 93.654 | K12: =ROUNDUP(AVERAGE($J$10:$J$15),1) -> 93.7
A13: 청주 | B13: 4급 | C13: 2그룹 | D13: =VLOOKUP($A13,연도별!$A$2:$K$36,3,0) -> 93.947698 | E13: =VLOOKUP($A13,연도별!$A$2:$K$36,4,0) -> 94.407836 | F13: =VLOOKUP($A13,연도별!$A$2:$K$36,6,0) -> 94.161831 | G13: =VLOOKUP($A13,연도별!$A$2:$K$36,10,0) -> 94.191509 | H13: =VLOOKUP($A13,'목표(창구)'!$A$11:$AB$42,28,0) -> 94.4 | I13: =VLOOKUP($A13,'목표(집배)'!$A$3:$L$37,9,0) -> 94.8 | J13: =(H13*0.5+I13*0.5)*0.99 -> 93.654 | K13: =ROUNDUP(AVERAGE($J$10:$J$15),1) -> 93.7
A14: 세종 | B14: 4급 | C14: 2그룹 | D14: =VLOOKUP($A14,연도별!$A$2:$K$36,3,0) -> 94.036741 | E14: =VLOOKUP($A14,연도별!$A$2:$K$36,4,0) -> 95.380964 | F14: =VLOOKUP($A14,연도별!$A$2:$K$36,6,0) -> 94.394281 | G14: =VLOOKUP($A14,연도별!$A$2:$K$36,10,0) -> 96.291959 | H14: =VLOOKUP($A14,'목표(창구)'!$A$11:$AB$42,28,0) -> 94.4 | I14: =VLOOKUP($A14,'목표(집배)'!$A$3:$L$37,9,0) -> 94.8 | J14: =(H14*0.5+I14*0.5)*0.99 -> 93.654 | K14: =ROUNDUP(AVERAGE($J$10:$J$15),1) -> 93.7
A15: 아산 | B15: 4급 | C15: 2그룹 | D15: =VLOOKUP($A15,연도별!$A$2:$K$36,3,0) -> 93.545055 | E15: =VLOOKUP($A15,연도별!$A$2:$K$36,4,0) -> 96.344325 | F15: =VLOOKUP($A15,연도별!$A$2:$K$36,6,0) -> 94.86094 | G15: =VLOOKUP($A15,연도별!$A$2:$K$36,10,0) -> 97.485006 | H15: =VLOOKUP($A15,'목표(창구)'!$A$11:$AB$42,28,0) -> 94.9 | I15: =VLOOKUP($A15,'목표(집배)'!$A$3:$L$37,9,0) -> 94.8 | J15: =(H15*0.5+I15*0.5)*0.99 -> 93.9015 | K15: =ROUNDUP(AVERAGE($J$10:$J$15),1) -> 93.7
A16: 제천 | B16: 4급 | C16: 3그룹 | D16: =VLOOKUP($A16,연도별!$A$2:$K$36,3,0) -> 94.074064 | E16: =VLOOKUP($A16,연도별!$A$2:$K$36,4,0) -> 96.092395 | F16: =VLOOKUP($A16,연도별!$A$2:$K$36,6,0) -> 95.066668 | G16: =VLOOKUP($A16,연도별!$A$2:$K$36,10,0) -> 96.812058 | H16: =VLOOKUP($A16,'목표(창구)'!$A$11:$AB$42,28,0) -> 94.4 | I16: =VLOOKUP($A16,'목표(집배)'!$A$3:$L$37,9,0) -> 95.6 | J16: =(H16*0.5+I16*0.5)*0.99 -> 94.05 | K16: =ROUNDUP(AVERAGE($J$16:$J$22),1) -> 94.3
A17: 공주 | B17: 4급 | C17: 3그룹 | D17: =VLOOKUP($A17,연도별!$A$2:$K$36,3,0) -> 94.07 | E17: =VLOOKUP($A17,연도별!$A$2:$K$36,4,0) -> 95.923016 | F17: =VLOOKUP($A17,연도별!$A$2:$K$36,6,0) -> 95.063278 | G17: =VLOOKUP($A17,연도별!$A$2:$K$36,10,0) -> 96.353598 | H17: =VLOOKUP($A17,'목표(창구)'!$A$11:$AB$42,28,0) -> 94.9 | I17: =VLOOKUP($A17,'목표(집배)'!$A$3:$L$37,9,0) -> 95.6 | J17: =(H17*0.5+I17*0.5)*0.99 -> 94.2975 | K17: =ROUNDUP(AVERAGE($J$16:$J$22),1) -> 94.3
A18: 충주 | B18: 4급 | C18: 3그룹 | D18: =VLOOKUP($A18,연도별!$A$2:$K$36,3,0) -> 94.074064 | E18: =VLOOKUP($A18,연도별!$A$2:$K$36,4,0) -> 96.066276 | F18: =VLOOKUP($A18,연도별!$A$2:$K$36,6,0) -> 94.589681 | G18: =VLOOKUP($A18,연도별!$A$2:$K$36,10,0) -> 97.213005 | H18: =VLOOKUP($A18,'목표(창구)'!$A$11:$AB$42,28,0) -> 94.9 | I18: =VLOOKUP($A18,'목표(집배)'!$A$3:$L$37,9,0) -> 95.6 | J18: =(H18*0.5+I18*0.5)*0.99 -> 94.2975 | K18: =ROUNDUP(AVERAGE($J$16:$J$22),1) -> 94.3
A19: 서산 | B19: 4급 | C19: 3그룹 | D19: =VLOOKUP($A19,연도별!$A$2:$K$36,3,0) -> 94.469224 | E19: =VLOOKUP($A19,연도별!$A$2:$K$36,4,0) -> 95.632448 | F19: =VLOOKUP($A19,연도별!$A$2:$K$36,6,0) -> 94.725768 | G19: =VLOOKUP($A19,연도별!$A$2:$K$36,10,0) -> 96.237281 | H19: =VLOOKUP($A19,'목표(창구)'!$A$11:$AB$42,28,0) -> 94.9 | I19: =VLOOKUP($A19,'목표(집배)'!$A$3:$L$37,9,0) -> 95.6 | J19: =(H19*0.5+I19*0.5)*0.99 -> 94.2975 | K19: =ROUNDUP(AVERAGE($J$16:$J$22),1) -> 94.3
A20: 논산 | B20: 4급 | C20: 3그룹 | D20: =VLOOKUP($A20,연도별!$A$2:$K$36,3,0) -> 94.058535 | E20: =VLOOKUP($A20,연도별!$A$2:$K$36,4,0) -> 95.783561 | F20: =VLOOKUP($A20,연도별!$A$2:$K$36,6,0) -> 94.687889 | G20: =VLOOKUP($A20,연도별!$A$2:$K$36,10,0) -> 96.803819 | H20: =VLOOKUP($A20,'목표(창구)'!$A$11:$AB$42,28,0) -> 94.9 | I20: =VLOOKUP($A20,'목표(집배)'!$A$3:$L$37,9,0) -> 95.6 | J20: =(H20*0.5+I20*0.5)*0.99 -> 94.2975 | K20: =ROUNDUP(AVERAGE($J$16:$J$22),1) -> 94.3
A21: 당진 | B21: 5급 | C21: 3그룹 | D21: =VLOOKUP($A21,연도별!$A$2:$K$36,3,0) -> 93.413246 | E21: =VLOOKUP($A21,연도별!$A$2:$K$36,4,0) -> 95.195788 | F21: =VLOOKUP($A21,연도별!$A$2:$K$36,6,0) -> 94.463314 | G21: =VLOOKUP($A21,연도별!$A$2:$K$36,10,0) -> 95.633081 | H21: =VLOOKUP($A21,'목표(창구)'!$A$11:$AB$42,28,0) -> 94.9 | I21: =VLOOKUP($A21,'목표(집배)'!$A$3:$L$37,9,0) -> 95.6 | J21: =(H21*0.5+I21*0.5)*0.99 -> 94.2975 | K21: =ROUNDUP(AVERAGE($J$16:$J$22),1) -> 94.3
A22: 보령 | B22: 5급 | C22: 3그룹 | D22: =VLOOKUP($A22,연도별!$A$2:$K$36,3,0) -> 94.840296 | E22: =VLOOKUP($A22,연도별!$A$2:$K$36,4,0) -> 97.495952 | F22: =VLOOKUP($A22,연도별!$A$2:$K$36,6,0) -> 96.426774 | G22: =VLOOKUP($A22,연도별!$A$2:$K$36,10,0) -> 98.427862 | H22: =VLOOKUP($A22,'목표(창구)'!$A$11:$AB$42,28,0) -> 94.9 | I22: =VLOOKUP($A22,'목표(집배)'!$A$3:$L$37,9,0) -> 95.6 | J22: =(H22*0.5+I22*0.5)*0.99 -> 94.2975 | K22: =ROUNDUP(AVERAGE($J$16:$J$22),1) -> 94.3
A23: 진천 | B23: 5급 | C23: 4그룹 | D23: =VLOOKUP($A23,연도별!$A$2:$K$36,3,0) -> 94.164889 | E23: =VLOOKUP($A23,연도별!$A$2:$K$36,4,0) -> 95.386406 | F23: =VLOOKUP($A23,연도별!$A$2:$K$36,6,0) -> 95.240934 | G23: =VLOOKUP($A23,연도별!$A$2:$K$36,10,0) -> 95.488342 | H23: =VLOOKUP($A23,'목표(창구)'!$A$11:$AB$42,28,0) -> 95.6 | I23: =VLOOKUP($A23,'목표(집배)'!$A$3:$L$37,9,0) -> 95.6 | J23: =(H23*0.5+I23*0.5)*0.99 -> 94.644 | K23: =ROUNDUP(AVERAGE($J$23:$J$24),1) -> 94.7
A24: 음성 | B24: 5급 | C24: 4그룹 | D24: =VLOOKUP($A24,연도별!$A$2:$K$36,3,0) -> 94.88904 | E24: =VLOOKUP($A24,연도별!$A$2:$K$36,4,0) -> 96.568427 | F24: =VLOOKUP($A24,연도별!$A$2:$K$36,6,0) -> 96.3632 | G24: =VLOOKUP($A24,연도별!$A$2:$K$36,10,0) -> 96.465067 | H24: =VLOOKUP($A24,'목표(창구)'!$A$11:$AB$42,28,0) -> 95.6 | I24: =VLOOKUP($A24,'목표(집배)'!$A$3:$L$37,9,0) -> 95.6 | J24: =(H24*0.5+I24*0.5)*0.99 -> 94.644 | K24: =ROUNDUP(AVERAGE($J$23:$J$24),1) -> 94.7
A25: 홍성 | B25: 5급 | C25: 5그룹 | D25: =VLOOKUP($A25,연도별!$A$2:$K$36,3,0) -> 95.14256 | E25: =VLOOKUP($A25,연도별!$A$2:$K$36,4,0) -> 96.580065 | F25: =VLOOKUP($A25,연도별!$A$2:$K$36,6,0) -> 95.518006 | G25: =VLOOKUP($A25,연도별!$A$2:$K$36,10,0) -> 97.640025 | H25: =VLOOKUP($A25,'목표(창구)'!$A$11:$AB$42,28,0) -> 95.6 | I25: =VLOOKUP($A25,'목표(집배)'!$A$3:$L$37,9,0) -> 96.6 | J25: =(H25*0.5+I25*0.5)*0.99 -> 95.139 | K25: =ROUNDUP(AVERAGE($J$25:$J$36),1) -> 95.2
A26: 금산 | B26: 5급 | C26: 5그룹 | D26: =VLOOKUP($A26,연도별!$A$2:$K$36,3,0) -> 95.10371 | E26: =VLOOKUP($A26,연도별!$A$2:$K$36,4,0) -> 95.870987 | F26: =VLOOKUP($A26,연도별!$A$2:$K$36,6,0) -> 95.672242 | G26: =VLOOKUP($A26,연도별!$A$2:$K$36,10,0) -> 95.740362 | H26: =VLOOKUP($A26,'목표(창구)'!$A$11:$AB$42,28,0) -> 95.6 | I26: =VLOOKUP($A26,'목표(집배)'!$A$3:$L$37,9,0) -> 96.6 | J26: =(H26*0.5+I26*0.5)*0.99 -> 95.139 | K26: =ROUNDUP(AVERAGE($J$25:$J$36),1) -> 95.2
A27: 예산 | B27: 5급 | C27: 5그룹 | D27: =VLOOKUP($A27,연도별!$A$2:$K$36,3,0) -> 95.71356 | E27: =VLOOKUP($A27,연도별!$A$2:$K$36,4,0) -> 96.726755 | F27: =VLOOKUP($A27,연도별!$A$2:$K$36,6,0) -> 95.176461 | G27: =VLOOKUP($A27,연도별!$A$2:$K$36,10,0) -> 98.12197 | H27: =VLOOKUP($A27,'목표(창구)'!$A$11:$AB$42,28,0) -> 95.6 | I27: =VLOOKUP($A27,'목표(집배)'!$A$3:$L$37,9,0) -> 96.6 | J27: =(H27*0.5+I27*0.5)*0.99 -> 95.139 | K27: =ROUNDUP(AVERAGE($J$25:$J$36),1) -> 95.2
A28: 서천 | B28: 5급 | C28: 5그룹 | D28: =VLOOKUP($A28,연도별!$A$2:$K$36,3,0) -> 94.955503 | E28: =VLOOKUP($A28,연도별!$A$2:$K$36,4,0) -> 96.718842 | F28: =VLOOKUP($A28,연도별!$A$2:$K$36,6,0) -> 95.707107 | G28: =VLOOKUP($A28,연도별!$A$2:$K$36,10,0) -> 98.069402 | H28: =VLOOKUP($A28,'목표(창구)'!$A$11:$AB$42,28,0) -> 95.6 | I28: =VLOOKUP($A28,'목표(집배)'!$A$3:$L$37,9,0) -> 96.6 | J28: =(H28*0.5+I28*0.5)*0.99 -> 95.139 | K28: =ROUNDUP(AVERAGE($J$25:$J$36),1) -> 95.2
A29: 청양 | B29: 5급 | C29: 5그룹 | D29: =VLOOKUP($A29,연도별!$A$2:$K$36,3,0) -> 95.71356 | E29: =VLOOKUP($A29,연도별!$A$2:$K$36,4,0) -> 97.634191 | F29: =VLOOKUP($A29,연도별!$A$2:$K$36,6,0) -> 96.961404 | G29: =VLOOKUP($A29,연도별!$A$2:$K$36,10,0) -> 98.278998 | H29: =VLOOKUP($A29,'목표(창구)'!$A$11:$AB$42,28,0) -> 95.6 | I29: =VLOOKUP($A29,'목표(집배)'!$A$3:$L$37,9,0) -> 96.6 | J29: =(H29*0.5+I29*0.5)*0.99 -> 95.139 | K29: =ROUNDUP(AVERAGE($J$25:$J$36),1) -> 95.2
A30: 부여 | B30: 5급 | C30: 5그룹 | D30: =VLOOKUP($A30,연도별!$A$2:$K$36,3,0) -> 95.71356 | E30: =VLOOKUP($A30,연도별!$A$2:$K$36,4,0) -> 98.118952 | F30: =VLOOKUP($A30,연도별!$A$2:$K$36,6,0) -> 97.115855 | G30: =VLOOKUP($A30,연도별!$A$2:$K$36,10,0) -> 99.197727 | H30: =VLOOKUP($A30,'목표(창구)'!$A$11:$AB$42,28,0) -> 95.6 | I30: =VLOOKUP($A30,'목표(집배)'!$A$3:$L$37,9,0) -> 96.6 | J30: =(H30*0.5+I30*0.5)*0.99 -> 95.139 | K30: =ROUNDUP(AVERAGE($J$25:$J$36),1) -> 95.2
A31: 태안 | B31: 5급 | C31: 5그룹 | D31: =VLOOKUP($A31,연도별!$A$2:$K$36,3,0) -> 95.605274 | E31: =VLOOKUP($A31,연도별!$A$2:$K$36,4,0) -> 95.995061 | F31: =VLOOKUP($A31,연도별!$A$2:$K$36,6,0) -> 95.548279 | G31: =VLOOKUP($A31,연도별!$A$2:$K$36,10,0) -> 96.157113 | H31: =VLOOKUP($A31,'목표(창구)'!$A$11:$AB$42,28,0) -> 95.6 | I31: =VLOOKUP($A31,'목표(집배)'!$A$3:$L$37,9,0) -> 96.6 | J31: =(H31*0.5+I31*0.5)*0.99 -> 95.139 | K31: =ROUNDUP(AVERAGE($J$25:$J$36),1) -> 95.2
A32: 단양 | B32: 5급 | C32: 5그룹 | D32: =VLOOKUP($A32,연도별!$A$2:$K$36,3,0) -> 95.057683 | E32: =VLOOKUP($A32,연도별!$A$2:$K$36,4,0) -> 97.29296 | F32: =VLOOKUP($A32,연도별!$A$2:$K$36,6,0) -> 96.831818 | G32: =VLOOKUP($A32,연도별!$A$2:$K$36,10,0) -> 97.46915 | H32: =VLOOKUP($A32,'목표(창구)'!$A$11:$AB$42,28,0) -> 95.6 | I32: =VLOOKUP($A32,'목표(집배)'!$A$3:$L$37,9,0) -> 96.6 | J32: =(H32*0.5+I32*0.5)*0.99 -> 95.139 | K32: =ROUNDUP(AVERAGE($J$25:$J$36),1) -> 95.2
A33: 괴산 | B33: 5급 | C33: 5그룹 | D33: =VLOOKUP($A33,연도별!$A$2:$K$36,3,0) -> 95.376524 | E33: =VLOOKUP($A33,연도별!$A$2:$K$36,4,0) -> 96.400918 | F33: =VLOOKUP($A33,연도별!$A$2:$K$36,6,0) -> 96.802574 | G33: =VLOOKUP($A33,연도별!$A$2:$K$36,10,0) -> 95.620412 | H33: =VLOOKUP($A33,'목표(창구)'!$A$11:$AB$42,28,0) -> 95.6 | I33: =VLOOKUP($A33,'목표(집배)'!$A$3:$L$37,9,0) -> 96.6 | J33: =(H33*0.5+I33*0.5)*0.99 -> 95.139 | K33: =ROUNDUP(AVERAGE($J$25:$J$36),1) -> 95.2
A34: 옥천 | B34: 5급 | C34: 5그룹 | D34: =VLOOKUP($A34,연도별!$A$2:$K$36,3,0) -> 94.351368 | E34: =VLOOKUP($A34,연도별!$A$2:$K$36,4,0) -> 96.431004 | F34: =VLOOKUP($A34,연도별!$A$2:$K$36,6,0) -> 96.330503 | G34: =VLOOKUP($A34,연도별!$A$2:$K$36,10,0) -> 96.324242 | H34: =VLOOKUP($A34,'목표(창구)'!$A$11:$AB$42,28,0) -> 95.6 | I34: =VLOOKUP($A34,'목표(집배)'!$A$3:$L$37,9,0) -> 96.6 | J34: =(H34*0.5+I34*0.5)*0.99 -> 95.139 | K34: =ROUNDUP(AVERAGE($J$25:$J$36),1) -> 95.2
A35: 영동 | B35: 5급 | C35: 5그룹 | D35: =VLOOKUP($A35,연도별!$A$2:$K$36,3,0) -> 95.71356 | E35: =VLOOKUP($A35,연도별!$A$2:$K$36,4,0) -> 96.778287 | F35: =VLOOKUP($A35,연도별!$A$2:$K$36,6,0) -> 96.153996 | G35: =VLOOKUP($A35,연도별!$A$2:$K$36,10,0) -> 97.105556 | H35: =VLOOKUP($A35,'목표(창구)'!$A$11:$AB$42,28,0) -> 95.6 | I35: =VLOOKUP($A35,'목표(집배)'!$A$3:$L$37,9,0) -> 96.6 | J35: =(H35*0.5+I35*0.5)*0.99 -> 95.139 | K35: =ROUNDUP(AVERAGE($J$25:$J$36),1) -> 95.2
A36: 보은 | B36: 5급 | C36: 5그룹 | D36: =VLOOKUP($A36,연도별!$A$2:$K$36,3,0) -> 95.701518 | E36: =VLOOKUP($A36,연도별!$A$2:$K$36,4,0) -> 96.999133 | F36: =VLOOKUP($A36,연도별!$A$2:$K$36,6,0) -> 96.146259 | G36: =VLOOKUP($A36,연도별!$A$2:$K$36,10,0) -> 97.799285 | H36: =VLOOKUP($A36,'목표(창구)'!$A$11:$AB$42,28,0) -> 95.6 | I36: =VLOOKUP($A36,'목표(집배)'!$A$3:$L$37,9,0) -> 96.6 | J36: =(H36*0.5+I36*0.5)*0.99 -> 95.139 | K36: =ROUNDUP(AVERAGE($J$25:$J$36),1) -> 95.2
A37: 평균 | D37: =AVERAGE(D5:D36) -> 94.291125 | E37: =AVERAGE(E5:E36) -> 96.019563 | F37: =AVERAGE(F5:F36) -> 95.210871 | G37: =AVERAGE(G5:G36) -> 96.580972 | H37: =AVERAGE(H5:H36) -> 94.940625 | I37: =AVERAGE(I5:I36) -> 95.7 | J37: =AVERAGE(J5:J36) -> 94.367109 | K37: =AVERAGE(K5:K36) -> 94.409375

Sheet 비교(최종)
A1: 2016년도 우정서비스 고객만족도(KPCSI) 목표배정(안)
A3: 국명 | B3: 관서급 | C3: 2015년 | G3: 2016년 최종목표 (안) | H3: 전년대비 | J3: 당초안 (12.23) 대비 | K3: 달성전망 (2015실적) | M3: 가중실적(안)- 산출목표*99% 수준
C4: 목표 | D4: 실적 | E4: 창구종합 | F4: 집배 | H4: 목표 | I4: 실적 | M4: 2015 | N4: 2014 | O4: 2013 | P4: 가중실적 | Q4: 비교
A5: 대전 | B5: 4급 | C5: =VLOOKUP($A5,연도별!$A$2:$K$36,3,0) -> 93.311679 | D5: =VLOOKUP($A5,연도별!$A$2:$K$36,4,0) -> 95.638326 | E5: =VLOOKUP($A5,연도별!$A$2:$K$36,6,0) -> 94.819162 | F5: =VLOOKUP($A5,연도별!$A$2:$K$36,10,0) -> 96.10363 | G5: =VLOOKUP($A5,'목표(창구+집배)'!$A$3:$K$37,11,0) -> 93.4 | H5: =G5-C5 -> 0.088320793 | I5: =G5-D5 -> -2.2383263 | J5: =G5-'[1]16 목표배정안'!J5 -> -1.105 | K5: =D5/G5*100 -> 102.39649 | M5: =VLOOKUP($A5,연도별!$A$2:$AH$36,4,0) -> 95.638326 | N5: =VLOOKUP($A5,연도별!$A$2:$AH$36,13,0) -> 93.867507 | O5: =VLOOKUP($A5,연도별!$A$2:$AH$36,22,0) -> 93.101787 | P5: =(M5*0.5+N5*0.3+O5*0.2)*0.99 -> 93.653775 | Q5: =G5-P5 -> -0.25377478
A6: 서대전 | B6: 4급 | C6: =VLOOKUP($A6,연도별!$A$2:$K$36,3,0) -> 92.858965 | D6: =VLOOKUP($A6,연도별!$A$2:$K$36,4,0) -> 95.300453 | E6: =VLOOKUP($A6,연도별!$A$2:$K$36,6,0) -> 93.616139 | F6: =VLOOKUP($A6,연도별!$A$2:$K$36,10,0) -> 96.542708 | G6: =VLOOKUP($A6,'목표(창구+집배)'!$A$3:$K$37,11,0) -> 93.4 | H6: =G6-C6 -> 0.54103465 | I6: =G6-D6 -> -1.9004526 | J6: =G6-'[1]16 목표배정안'!J6 -> -1.039375 | K6: =D6/G6*100 -> 102.03475 | M6: =VLOOKUP($A6,연도별!$A$2:$AH$36,4,0) -> 95.300453 | N6: =VLOOKUP($A6,연도별!$A$2:$AH$36,13,0) -> 93.953118 | O6: =VLOOKUP($A6,연도별!$A$2:$AH$36,22,0) -> 93.058603 | P6: =(M6*0.5+N6*0.3+O6*0.2)*0.99 -> 93.503403 | Q6: =G6-P6 -> -0.10340335
A7: 대전유성 | B7: 4급 | C7: =VLOOKUP($A7,연도별!$A$2:$K$36,3,0) -> 93.534346 | D7: =VLOOKUP($A7,연도별!$A$2:$K$36,4,0) -> 93.924277 | E7: =VLOOKUP($A7,연도별!$A$2:$K$36,6,0) -> 93.608385 | F7: =VLOOKUP($A7,연도별!$A$2:$K$36,10,0) -> 93.653251 | G7: =VLOOKUP($A7,'목표(창구+집배)'!$A$3:$K$37,11,0) -> 93.4 | H7: =G7-C7 -> -0.13434588 | I7: =G7-D7 -> -0.52427727 | J7: =G7-'[1]16 목표배정안'!J7 -> -0.99375 | K7: =D7/G7*100 -> 100.56132 | M7: =VLOOKUP($A7,연도별!$A$2:$AH$36,4,0) -> 93.924277 | N7: =VLOOKUP($A7,연도별!$A$2:$AH$36,13,0) -> 93.66726 | O7: =VLOOKUP($A7,연도별!$A$2:$AH$36,22,0) -> 95.233833 | P7: =(M7*0.5+N7*0.3+O7*0.2)*0.99 -> 93.167992 | Q7: =G7-P7 -> 0.23200774
A8: 대전대덕 | B8: 4급 | C8: =VLOOKUP($A8,연도별!$A$2:$K$36,3,0) -> 92.778212 | D8: =VLOOKUP($A8,연도별!$A$2:$K$36,4,0) -> 95.621019 | E8: =VLOOKUP($A8,연도별!$A$2:$K$36,6,0) -> 94.527128 | F8: =VLOOKUP($A8,연도별!$A$2:$K$36,10,0) -> 96.506597 | G8: =VLOOKUP($A8,'목표(창구+집배)'!$A$3:$K$37,11,0) -> 93.4 | H8: =G8-C8 -> 0.62178833 | I8: =G8-D8 -> -2.2210194 | J8: =G8-'[1]16 목표배정안'!J8 -> -1.0910526 | K8: =D8/G8*100 -> 102.37797 | M8: =VLOOKUP($A8,연도별!$A$2:$AH$36,4,0) -> 95.621019 | N8: =VLOOKUP($A8,연도별!$A$2:$AH$36,13,0) -> 92.778212 | O8: =VLOOKUP($A8,연도별!$A$2:$AH$36,22,0) -> 95.641632 | P8: =(M8*0.5+N8*0.3+O8*0.2)*0.99 -> 93.824577 | Q8: =G8-P8 -> -0.42457671
A9: 대전둔산 | B9: 4급 | C9: =VLOOKUP($A9,연도별!$A$2:$K$36,3,0) -> 92.076079 | D9: =VLOOKUP($A9,연도별!$A$2:$K$36,4,0) -> 95.519869 | E9: =VLOOKUP($A9,연도별!$A$2:$K$36,6,0) -> 93.620039 | F9: =VLOOKUP($A9,연도별!$A$2:$K$36,10,0) -> 96.948106 | G9: =VLOOKUP($A9,'목표(창구+집배)'!$A$3:$K$37,11,0) -> 93.4 | H9: =G9-C9 -> 1.3239207 | I9: =G9-D9 -> -2.119869 | J9: =G9-'[1]16 목표배정안'!J9 -> -0.94333333 | K9: =D9/G9*100 -> 102.26967 | M9: =VLOOKUP($A9,연도별!$A$2:$AH$36,4,0) -> 95.519869 | N9: =VLOOKUP($A9,연도별!$A$2:$AH$36,13,0) -> 92.880807 | O9: =VLOOKUP($A9,연도별!$A$2:$AH$36,22,0) -> 91.865997 | P9: =(M9*0.5+N9*0.3+O9*0.2)*0.99 -> 93.057402 | Q9: =G9-P9 -> 0.34259764
A10: 천안 | B10: 4급 | C10: =VLOOKUP($A10,연도별!$A$2:$K$36,3,0) -> 92.53136 | D10: =VLOOKUP($A10,연도별!$A$2:$K$36,4,0) -> 94.906362 | E10: =VLOOKUP($A10,연도별!$A$2:$K$36,6,0) -> 93.871052 | F10: =VLOOKUP($A10,연도별!$A$2:$K$36,10,0) -> 95.48971 | G10: =VLOOKUP($A10,'목표(창구+집배)'!$A$3:$K$37,11,0) -> 93.7 | H10: =G10-C10 -> 1.1686404 | I10: =G10-D10 -> -1.2063616 | J10: =G10-'[1]16 목표배정안'!J10 -> -1.0195833 | K10: =D10/G10*100 -> 101.28747 | M10: =VLOOKUP($A10,연도별!$A$2:$AH$36,4,0) -> 94.906362 | N10: =VLOOKUP($A10,연도별!$A$2:$AH$36,13,0) -> 93.101755 | O10: =VLOOKUP($A10,연도별!$A$2:$AH$36,22,0) -> 92.288226 | P10: =(M10*0.5+N10*0.3+O10*0.2)*0.99 -> 92.902939 | Q10: =G10-P10 -> 0.79706097
A11: 동천안 | B11: 4급 | C11: =VLOOKUP($A11,연도별!$A$2:$K$36,3,0) -> 93.127835 | D11: =VLOOKUP($A11,연도별!$A$2:$K$36,4,0) -> 95.426797 | E11: =VLOOKUP($A11,연도별!$A$2:$K$36,6,0) -> 94.777071 | F11: =VLOOKUP($A11,연도별!$A$2:$K$36,10,0) -> 95.731976 | G11: =VLOOKUP($A11,'목표(창구+집배)'!$A$3:$K$37,11,0) -> 93.7 | H11: =G11-C11 -> 0.57216472 | I11: =G11-D11 -> -1.7267971 | J11: =G11-'[1]16 목표배정안'!J11 -> -1.09 | K11: =D11/G11*100 -> 101.8429 | M11: =VLOOKUP($A11,연도별!$A$2:$AH$36,4,0) -> 95.426797 | N11: =VLOOKUP($A11,연도별!$A$2:$AH$36,13,0) -> 93.127835 | O11: =VLOOKUP($A11,연도별!$A$2:$AH$36,22,0) -> 94.518859 | P11: =(M11*0.5+N11*0.3+O11*0.2)*0.99 -> 93.609966 | Q11: =G11-P11 -> 0.090034355
A12: 공주 | B12: 4급 | C12: =VLOOKUP($A12,연도별!$A$2:$K$36,3,0) -> 94.07 | D12: =VLOOKUP($A12,연도별!$A$2:$K$36,4,0) -> 95.923016 | E12: =VLOOKUP($A12,연도별!$A$2:$K$36,6,0) -> 95.063278 | F12: =VLOOKUP($A12,연도별!$A$2:$K$36,10,0) -> 96.353598 | G12: =VLOOKUP($A12,'목표(창구+집배)'!$A$3:$K$37,11,0) -> 94.3 | H12: =G12-C12 -> 0.23 | I12: =G12-D12 -> -1.6230164 | J12: =G12-'[1]16 목표배정안'!J12 -> -1.234 | K12: =D12/G12*100 -> 101.72112 | M12: =VLOOKUP($A12,연도별!$A$2:$AH$36,4,0) -> 95.923016 | N12: =VLOOKUP($A12,연도별!$A$2:$AH$36,13,0) -> 94.261917 | O12: =VLOOKUP($A12,연도별!$A$2:$AH$36,22,0) -> 95.090192 | P12: =(M12*0.5+N12*0.3+O12*0.2)*0.99 -> 94.30554 | Q12: =G12-P12 -> -0.0055404293
A13: 아산 | B13: 4급 | C13: =VLOOKUP($A13,연도별!$A$2:$K$36,3,0) -> 93.545055 | D13: =VLOOKUP($A13,연도별!$A$2:$K$36,4,0) -> 96.344325 | E13: =VLOOKUP($A13,연도별!$A$2:$K$36,6,0) -> 94.86094 | F13: =VLOOKUP($A13,연도별!$A$2:$K$36,10,0) -> 97.485006 | G13: =VLOOKUP($A13,'목표(창구+집배)'!$A$3:$K$37,11,0) -> 93.7 | H13: =G13-C13 -> 0.15494532 | I13: =G13-D13 -> -2.6443247 | J13: =G13-'[1]16 목표배정안'!J13 -> -1.3478947 | K13: =D13/G13*100 -> 102.82212 | M13: =VLOOKUP($A13,연도별!$A$2:$AH$36,4,0) -> 96.344325 | N13: =VLOOKUP($A13,연도별!$A$2:$AH$36,13,0) -> 94.062324 | O13: =VLOOKUP($A13,연도별!$A$2:$AH$36,22,0) -> 94.451998 | P13: =(M13*0.5+N13*0.3+O13*0.2)*0.99 -> 94.328446 | Q13: =G13-P13 -> -0.62844644
A14: 논산 | B14: 4급 | C14: =VLOOKUP($A14,연도별!$A$2:$K$36,3,0) -> 94.058535 | D14: =VLOOKUP($A14,연도별!$A$2:$K$36,4,0) -> 95.783561 | E14: =VLOOKUP($A14,연도별!$A$2:$K$36,6,0) -> 94.687889 | F14: =VLOOKUP($A14,연도별!$A$2:$K$36,10,0) -> 96.803819 | G14: =VLOOKUP($A14,'목표(창구+집배)'!$A$3:$K$37,11,0) -> 94.3 | H14: =G14-C14 -> 0.24146457 | I14: =G14-D14 -> -1.4835615 | J14: =G14-'[1]16 목표배정안'!J14 -> -1.2895652 | K14: =D14/G14*100 -> 101.57324 | M14: =VLOOKUP($A14,연도별!$A$2:$AH$36,4,0) -> 95.783561 | N14: =VLOOKUP($A14,연도별!$A$2:$AH$36,13,0) -> 94.834908 | O14: =VLOOKUP($A14,연도별!$A$2:$AH$36,22,0) -> 93.687798 | P14: =(M14*0.5+N14*0.3+O14*0.2)*0.99 -> 94.129015 | Q14: =G14-P14 -> 0.17098519
A15: 청주 | B15: 4급 | C15: =VLOOKUP($A15,연도별!$A$2:$K$36,3,0) -> 93.947698 | D15: =VLOOKUP($A15,연도별!$A$2:$K$36,4,0) -> 94.407836 | E15: =VLOOKUP($A15,연도별!$A$2:$K$36,6,0) -> 94.161831 | F15: =VLOOKUP($A15,연도별!$A$2:$K$36,10,0) -> 94.191509 | G15: =VLOOKUP($A15,'목표(창구+집배)'!$A$3:$K$37,11,0) -> 93.7 | H15: =G15-C15 -> -0.24769836 | I15: =G15-D15 -> -0.70783639 | J15: =G15-'[1]16 목표배정안'!J15 -> -1.0347619 | K15: =D15/G15*100 -> 100.75543 | M15: =VLOOKUP($A15,연도별!$A$2:$AH$36,4,0) -> 94.407836 | N15: =VLOOKUP($A15,연도별!$A$2:$AH$36,13,0) -> 94.291448 | O15: =VLOOKUP($A15,연도별!$A$2:$AH$36,22,0) -> 94.567843 | P15: =(M15*0.5+N15*0.3+O15*0.2)*0.99 -> 93.460872 | Q15: =G15-P15 -> 0.23912799
A16: 서청주 | B16: 4급 | C16: =VLOOKUP($A16,연도별!$A$2:$K$36,3,0) -> 93.366279 | D16: =VLOOKUP($A16,연도별!$A$2:$K$36,4,0) -> 94.464362 | E16: =VLOOKUP($A16,연도별!$A$2:$K$36,6,0) -> 93.899841 | F16: =VLOOKUP($A16,연도별!$A$2:$K$36,10,0) -> 94.688289 | G16: =VLOOKUP($A16,'목표(창구+집배)'!$A$3:$K$37,11,0) -> 93.7 | H16: =G16-C16 -> 0.33372086 | I16: =G16-D16 -> -0.76436172 | J16: =G16-'[1]16 목표배정안'!J16 -> -0.86708333 | K16: =D16/G16*100 -> 100.81575 | M16: =VLOOKUP($A16,연도별!$A$2:$AH$36,4,0) -> 94.464362 | N16: =VLOOKUP($A16,연도별!$A$2:$AH$36,13,0) -> 94.164909 | O16: =VLOOKUP($A16,연도별!$A$2:$AH$36,22,0) -> 93.164976 | P16: =(M16*0.5+N16*0.3+O16*0.2)*0.99 -> 93.173502 | Q16: =G16-P16 -> 0.52649776
... A36: 보은 | B36: 5급 | C36: =VLOOKUP($A36,연도별!$A$2:$K$36,3,0) -> 95.701518 | D36: =VLOOKUP($A36,연도별!$A$2:$K$36,4,0) -> 96.999133 | E36: =VLOOKUP($A36,연도별!$A$2:$K$36,6,0) -> 96.146259 | F36: =VLOOKUP($A36,연도별!$A$2:$K$36,10,0) -> 97.799285 | G36: =VLOOKUP($A36,'목표(창구+집배)'!$A$3:$K$37,11,0) -> 95.2 | H36: =G36-C36 -> -0.50151786 | I36: =G36-D36 -> -1.7991334 | J36: =G36-'[1]16 목표배정안'!J36 -> -1.0405556 | K36: =D36/G36*100 -> 101.88985 | M36: =VLOOKUP($A36,연도별!$A$2:$AH$36,4,0) -> 96.999133 | N36: =VLOOKUP($A36,연도별!$A$2:$AH$36,13,0) -> 95.752606 | O36: =VLOOKUP($A36,연도별!$A$2:$AH$36,22,0) -> 96.423076 | P36: =(M36*0.5+N36*0.3+O36*0.2)*0.99 -> 95.544864 | Q36: =G36-P36 -> -0.34486387
A37: 평균 | C37: =AVERAGE(C5:C36) -> 94.291125 | D37: =AVERAGE(D5:D36) -> 96.019563 | E37: =AVERAGE(E5:E36) -> 95.210871 | F37: =AVERAGE(F5:F36) -> 96.580972 | G37: =AVERAGE(G5:G36) -> 94.409375 | H37: =AVERAGE(H5:H36) -> 0.11825049 | I37: =AVERAGE(I5:I36) -> -1.6101879 | J37: =AVERAGE(J5:J36) -> -1.0444063 | K37: =D37/G37*100 -> 101.70554 | M37: =AVERAGE(M5:M36) -> 96.019563 | N37: =AVERAGE(N5:N36) -> 94.82402 | O37: =AVERAGE(O5:O36) -> 94.714949 | P37: =AVERAGE(P5:P36) -> 94.445977 | Q37: =G37-P37 -> -0.036602375
A39: <표준편차>
A40: 구분 | B40: 가중실적 | C40: 최종(안)
A41: 4급관서 | B41: =STDEV(P5:P20) -> 0.53102539 | C41: =STDEV(G5:G20) -> 0.375
A42: 5급관서 | B42: =STDEV(P21:P36) -> 0.71699041 | C42: =STDEV(G21:G36) -> 0.32964628

Sheet 목표(창구)
A1: 2016년 우정서비스 고객만족도(KPCSI) 목표배정(안) - <창구종합>
A2: 1 | B2: 2 | C2: 3 | D2: 4 | E2: 5 | F2: 6 | G2: 7 | H2: 8 | I2: 9 | J2: 10 | K2: 11 | L2: 12 | M2: 13 | N2: 14 | O2: 15 | P2: 16 | Q2: 17 | R2: 18 | S2: 19 | T2: 20 | U2: 21 | V2: 22 | W2: 23 | X2: 24 | Y2: 25 | Z2: 26 | AA2: 27 | AB2: 28
A3: 구분 | B3: 관서급/행정구역별 KPCSI | M3: 표본수 | R3: 목표배정 검토 및 비교자료
B4: 총괄국 | D4: 우체국 | I4: 취급국 | L4: 합계 | M4: 총괄국 | O4: 우체국 | P4: 취급국 | Q4: 합계 | R4: 최근3년 창구종합 KPCSI ① | V4: 환산 KPCSI(관서급/행정구역/표본비율 반영) ②
D5: 일반국 | F5: 별정국 | H5: 소계 | R5: 2015년 | S5: 2014년 | T5: 2013년 | U5: 가중실적 (5:3:2) | V5: 15년 | W5: 14년 | X5: 13년 | Y5: 가중실적 (5:3:2) | Z5: 순위 | AA5: 그룹 | AB5: 2016년 창구목표 (안)
B6: 시 | C6: 군 | D6: 동 | E6: 읍/면 | F6: 동 | G6: 읍/면 | I6: 동 | J6: 읍/면 | K6: 소계 | M6: 시 | N6: 군
A7: 2015년 | B7: =VLOOKUP($A$7,[2]정리!$A$4:$N$4,8,FALSE) -> 94.178585 | C7: =VLOOKUP($A$7,[2]정리!$A$4:$N$4,9,FALSE) -> 95.572255 | D7: =VLOOKUP($A$7,[2]정리!$A$4:$N$4,5,FALSE) -> 93.760904 | E7: =VLOOKUP($A$7,[2]정리!$A$4:$N$4,6,FALSE) -> 95.189204 | F7: =VLOOKUP($A$7,[2]정리!$A$4:$N$4,2,FALSE) -> 94.779167 | G7: =VLOOKUP($A$7,[2]정리!$A$4:$N$4,3,FALSE) -> 96.607927 | H7: 95.3 | I7: =VLOOKUP($A$7,[2]정리!$A$4:$N$4,11,FALSE) -> 94.521656 | J7: =VLOOKUP($A$7,[2]정리!$A$4:$N$4,12,FALSE) -> 95.21028 | K7: =VLOOKUP($A$7,[2]정리!$A$4:$N$4,13,FALSE) -> 94.696675 | L7: =VLOOKUP($A$7,[2]정리!$A$4:$N$4,14,FALSE) -> 95.04131 | M7: =SUM(M11:M42) -> 1144 | N7: =SUM(N11:N42) -> 616 | O7: =SUM(O11:O42) -> 2712 | P7: =SUM(P11:P42) -> 412 | Q7: =M7+N7+O7+P7 -> 4884 | R7: =L7 -> 95.04131 | S7: =L8 -> 94.541338 | T7: =L9 -> 94.462245 | U7: =R7*0.5+S7*0.3+T7*0.2 -> 94.775505 | V7: =(B7*M7/Q7+C7*N7/Q7+(D7*D10+E7*E10+F7*F10+G7*G10)*O7/Q7/H10+(I10*I7+J10*J7)*P7/Q7/K10) -> 95.033202 | W7: =B8*M10+C8*N10+(D8*D10+E8*E10+F8*F10+G8*G10)*O10/H10+(I8*I10+J8*J10)*P10/K10 -> 94.536467 | X7: =B9*M10+C9*N10+(D9*D10+E9*E10+F9*F10+G9*G10)*O10/H10+(I9*I10+J9*J10)*P10/K10 -> 94.534971 | Y7: =V7*0.5+W7*0.3+X7*0.2 -> 94.784535 | AB7: =ROUNDUP(AVERAGE(AB11:AB42),1) -> 95
A8: 2014년 | B8: =VLOOKUP($A$8,[3]정리!$A$3:$N$3,2,FALSE) -> 93.911342 | C8: =VLOOKUP($A$8,[3]정리!$A$3:$N$3,3,FALSE) -> 95.011189 | D8: =VLOOKUP($A$8,[3]정리!$A$3:$N$3,5,FALSE) -> 92.744115 | E8: =VLOOKUP($A$8,[3]정리!$A$3:$N$3,6,FALSE) -> 94.957356 | F8: =VLOOKUP($A$8,[3]정리!$A$3:$N$3,8,FALSE) -> 94.03125 | G8: =VLOOKUP($A$8,[3]정리!$A$3:$N$3,9,FALSE) -> 96.422445 | H8: 94.85 | I8: =VLOOKUP($A$8,[3]정리!$A$3:$N$3,11,FALSE) -> 93.139635 | J8: =VLOOKUP($A$8,[3]정리!$A$3:$N$3,12,FALSE) -> 93.799818 | K8: =VLOOKUP($A$8,[3]정리!$A$3:$N$3,13,FALSE) -> 93.305057 | L8: =VLOOKUP($A$8,[3]정리!$A$3:$N$3,14,FALSE) -> 94.541338 | M8: 1144 | N8: 616 | O8: 2744 | P8: 412 | Q8: 4916
A9: 2013년 | B9: =VLOOKUP($A$9,[4]정리!$A$4:$N$4,8,FALSE) -> 93.362207 | C9: =VLOOKUP($A$9,[4]정리!$A$4:$N$4,9,FALSE) -> 94.585307 | D9: =VLOOKUP($A$9,[4]정리!$A$4:$N$4,5,FALSE) -> 93.009291 | E9: =VLOOKUP($A$9,[4]정리!$A$4:$N$4,6,FALSE) -> 95.049561 | F9: =VLOOKUP($A$9,[4]정리!$A$4:$N$4,2,FALSE) -> 94.532778 | G9: =VLOOKUP($A$9,[4]정리!$A$4:$N$4,3,FALSE) -> 96.275565 | H9: 94.82 | I9: =VLOOKUP($A$9,[4]정리!$A$4:$N$4,11,FALSE) -> 94.489153 | J9: =VLOOKUP($A$9,[4]정리!$A$4:$N$4,12,FALSE) -> 96.749524 | K9: =VLOOKUP($A$9,[4]정리!$A$4:$N$4,13,FALSE) -> 95.054246 | L9: =VLOOKUP($A$9,[4]정리!$A$4:$N$4,14,FALSE) -> 94.462245 | M9: 1144 | N9: 616 | O9: 2744 | P9: 412 | Q9: 4916
A10: 관서수 | B10: =SUM(B11:B42) -> 18 | C10: =SUM(C11:C42) -> 14 | D10: =SUM(D11:D42) -> 95 | E10: =SUM(E11:E42) -> 109 | F10: =SUM(F11:F42) -> 6 | G10: =SUM(G11:G42) -> 129 | H10: =D10+E10+F10+G10 -> 339 | I10: =SUM(I11:I42) -> 76 | J10: =SUM(J11:J42) -> 27 | K10: =I10+J10 -> 103 | L10: =+B10+C10+H10+K10 -> 474 | M10: =M7/$Q$7 -> 0.23423423 | N10: =N7/$Q$7 -> 0.12612613 | O10: =O7/$Q$7 -> 0.55528256 | P10: =P7/$Q$7 -> 0.084357084 | Q10: =Q7/$Q$7 -> 1
A11: 대전둔산 | B11: 1 | C11: 0 | D11: 16 | E11: 0 | F11: 1 | G11: 0 | H11: =D11+E11+F11+G11 -> 17 | I11: 9 | J11: 0 | K11: =I11+J11 -> 9 | L11: =+B11+C11+H11+K11 -> 27 | M11: =B11*6*11 -> 66 | N11: =C11*4*11 -> 0 | O11: =SUM(D11:G11)*8 -> 136 | P11: =SUM(I11:J11)*4 -> 36 | Q11: =M11+N11+O11+P11 -> 238 | R11: 93.620039 | S11: 92.226064 | T11: 91.622326 | U11: =R11*0.5+S11*0.3+T11*0.2 -> 92.802304 | V11: =(B11*$B$7)*M11/Q11+(C11*$C$7)*N11/Q11+(D11*$D$7+E11*$E$7+F11*$F$7+G11*$G$7)*O11/Q11/H11+(I11*$I$7+J11*$J$7)*P11/Q11/K11 -> 94.026031 | W11: =B11*$B$8*M11/Q11+C11*$C$8*N11/Q11+(D11*$D$8+E11*$E$8+F11*$F$8+G11*$G$8)*O11/Q11/H11+(I11*$I$8+J11*$J$8)*P11/Q11/K11 -> 93.170892 | X11: =B11*$B$9*M11/Q11+C11*$C$9*N11/Q11+(D11*$D$9+E11*$E$9+F11*$F$9+G11*$G$9)*O11/Q11/H11+(I11*$I$9+J11*$J$9)*P11/Q11/K11 -> 93.382213 | Y11: =V11*0.5+W11*0.3+X11*0.2 -> 93.640725 | Z11: =RANK(Y11,$Y$11:$Y$42) -> 32 | AA11: A | AB11: =ROUNDUP(AVERAGE($Y$11:$Y$15),1) -> 93.8
A12: 서대전 | B12: 1 | C12: 0 | D12: 8 | E12: 0 | F12: 0 | G12: 0 | H12: =D12+E12+F12+G12 -> 8 | I12: 7 | J12: 0 | K12: =I12+J12 -> 7 | L12: =+B12+C12+H12+K12 -> 16 | M12: =B12*6*11 -> 66 | N12: =C12*4*11 -> 0 | O12: =SUM(D12:G12)*8 -> 64 | P12: =SUM(I12:J12)*4 -> 28 | Q12: =M12+N12+O12+P12 -> 158 | R12: 93.616139 | S12: 93.07468 | T12: 92.754363 | U12: =R12*0.5+S12*0.3+T12*0.2 -> 93.281346 | V12: =(B12*$B$7)*M12/Q12+(C12*$C$7)*N12/Q12+(D12*$D$7+E12*$E$7+F12*$F$7+G12*$G$7)*O12/Q12/H12+(I12*$I$7+J12*$J$7)*P12/Q12/K12 -> 94.070195 | W12: =B12*$B$8*M12/Q12+C12*$C$8*N12/Q12+(D12*$D$8+E12*$E$8+F12*$F$8+G12*$G$8)*O12/Q12/H12+(I12*$I$8+J12*$J$8)*P12/Q12/K12 -> 93.301783 | X12: =B12*$B$9*M12/Q12+C12*$C$9*N12/Q12+(D12*$D$9+E12*$E$9+F12*$F$9+G12*$G$9)*O12/Q12/H12+(I12*$I$9+J12*$J$9)*P12/Q12/K12 -> 93.418966 | Y12: =V12*0.5+W12*0.3+X12*0.2 -> 93.709426 | Z12: =RANK(Y12,$Y$11:$Y$42) -> 31 | AB12: =ROUNDUP(AVERAGE($Y$11:$Y$15),1) -> 93.8
A13: 대전대덕 | B13: 1 | C13: 0 | D13: 7 | E13: 0 | F13: 0 | G13: 0 | H13: =D13+E13+F13+G13 -> 7 | I13: 11 | J13: 0 | K13: =I13+J13 -> 11 | L13: =+B13+C13+H13+K13 -> 19 | M13: =B13*6*11 -> 66 | N13: =C13*4*11 -> 0 | O13: =SUM(D13:G13)*8 -> 56 | P13: =SUM(I13:J13)*4 -> 44 | Q13: =M13+N13+O13+P13 -> 166 | R13: 94.527128 | S13: 93.960515 | T13: 92.977914 | U13: =R13*0.5+S13*0.3+T13*0.2 -> 94.047301 | V13: =(B13*$B$7)*M13/Q13+(C13*$C$7)*N13/Q13+(D13*$D$7+E13*$E$7+F13*$F$7+G13*$G$7)*O13/Q13/H13+(I13*$I$7+J13*$J$7)*P13/Q13/K13 -> 94.128615 | W13: =B13*$B$8*M13/Q13+C13*$C$8*N13/Q13+(D13*$D$8+E13*$E$8+F13*$F$8+G13*$G$8)*O13/Q13/H13+(I13*$I$8+J13*$J$8)*P13/Q13/K13 -> 93.31303 | X13: =B13*$B$9*M13/Q13+C13*$C$9*N13/Q13+(D13*$D$9+E13*$E$9+F13*$F$9+G13*$G$9)*O13/Q13/H13+(I13*$I$9+J13*$J$9)*P13/Q13/K13 -> 93.54186 | Y13: =V13*0.5+W13*0.3+X13*0.2 -> 93.766589 | Z13: =RANK(Y13,$Y$11:$Y$42) -> 30 | AB13: =ROUNDUP(AVERAGE($Y$11:$Y$15),1) -> 93.8
A14: 대전유성 | B14: 1 | C14: 0 | D14: 8 | E14: 0 | F14: 3 | G14: 0 | H14: =D14+E14+F14+G14 -> 11 | I14: 4 | J14: 0 | K14: =I14+J14 -> 4 | L14: =+B14+C14+H14+K14 -> 16 | M14: =B14*6*11 -> 66 | N14: =C14*4*11 -> 0 | O14: =SUM(D14:G14)*8 -> 88 | P14: =SUM(I14:J14)*4 -> 16 | Q14: =M14+N14+O14+P14 -> 170 | R14: 93.608385 | S14: 94.10484 | T14: 95.089142 | U14: =R14*0.5+S14*0.3+T14*0.2 -> 94.053473 | V14: =(B14*$B$7)*M14/Q14+(C14*$C$7)*N14/Q14+(D14*$D$7+E14*$E$7+F14*$F$7+G14*$G$7)*O14/Q14/H14+(I14*$I$7+J14*$J$7)*P14/Q14/K14 -> 94.138417 | W14: =B14*$B$8*M14/Q14+C14*$C$8*N14/Q14+(D14*$D$8+E14*$E$8+F14*$F$8+G14*$G$8)*O14/Q14/H14+(I14*$I$8+J14*$J$8)*P14/Q14/K14 -> 93.416213 | X14: =B14*$B$9*M14/Q14+C14*$C$9*N14/Q14+(D14*$D$9+E14*$E$9+F14*$F$9+G14*$G$9)*O14/Q14/H14+(I14*$I$9+J14*$J$9)*P14/Q14/K14 -> 93.500667 | Y14: =V14*0.5+W14*0.3+X14*0.2 -> 93.794206 | Z14: =RANK(Y14,$Y$11:$Y$42) -> 29 | AB14: =ROUNDUP(AVERAGE($Y$11:$Y$15),1) -> 93.8
A15: 대전 | B15: 1 | C15: 0 | D15: 7 | E15: 0 | F15: 1 | G15: 0 | H15: =D15+E15+F15+G15 -> 8 | I15: 11 | J15: 0 | K15: =I15+J15 -> 11 | L15: =+B15+C15+H15+K15 -> 20 | M15: =B15*6*11 -> 66 | N15: =C15*4*11 -> 0 | O15: =SUM(D15:G15)*8 -> 64 | P15: =SUM(I15:J15)*4 -> 44 | Q15: =M15+N15+O15+P15 -> 174 | R15: 94.819162 | S15: 92.556869 | T15: 94.263374 | U15: =R15*0.5+S15*0.3+T15*0.2 -> 94.029316 | V15: =(B15*$B$7)*M15/Q15+(C15*$C$7)*N15/Q15+(D15*$D$7+E15*$E$7+F15*$F$7+G15*$G$7)*O15/Q15/H15+(I15*$I$7+J15*$J$7)*P15/Q15/K15 -> 94.158526 | W15: =B15*$B$8*M15/Q15+C15*$C$8*N15/Q15+(D15*$D$8+E15*$E$8+F15*$F$8+G15*$G$8)*O15/Q15/H15+(I15*$I$8+J15*$J$8)*P15/Q15/K15 -> 93.346052 | X15: =B15*$B$9*M15/Q15+C15*$C$9*N15/Q15+(D15*$D$9+E15*$E$9+F15*$F$9+G15*$G$9)*O15/Q15/H15+(I15*$I$9+J15*$J$9)*P15/Q15/K15 -> 93.587419 | Y15: =V15*0.5+W15*0.3+X15*0.2 -> 93.800562 | Z15: =RANK(Y15,$Y$11:$Y$42) -> 28 | AB15: =ROUNDUP(AVERAGE($Y$11:$Y$15),1) -> 93.8
A16: 서청주 | B16: 1 | C16: 0 | D16: 11 | E16: 2 | F16: 1 | G16: 3 | H16: =D16+E16+F16+G16 -> 17 | I16: 5 | J16: 1 | K16: =I16+J16 -> 6 | L16: =+B16+C16+H16+K16 -> 24 | M16: =B16*6*11 -> 66 | N16: =C16*4*11 -> 0 | O16: =SUM(D16:G16)*8 -> 136 | P16: =SUM(I16:J16)*4 -> 24 | Q16: =M16+N16+O16+P16 -> 226 | R16: 93.899841 | S16: 93.347098 | T16: 92.996413 | U16: =R16*0.5+S16*0.3+T16*0.2 -> 93.553333 | V16: =(B16*$B$7)*M16/Q16+(C16*$C$7)*N16/Q16+(D16*$D$7+E16*$E$7+F16*$F$7+G16*$G$7)*O16/Q16/H16+(I16*$I$7+J16*$J$7)*P16/Q16/K16 -> 94.41536 | W16: =B16*$B$8*M16/Q16+C16*$C$8*N16/Q16+(D16*$D$8+E16*$E$8+F16*$F$8+G16*$G$8)*O16/Q16/H16+(I16*$I$8+J16*$J$8)*P16/Q16/K16 -> 93.731545 | X16: =B16*$B$9*M16/Q16+C16*$C$9*N16/Q16+(D16*$D$9+E16*$E$9+F16*$F$9+G16*$G$9)*O16/Q16/H16+(I16*$I$9+J16*$J$9)*P16/Q16/K16 -> 93.854749 | Y16: =V16*0.5+W16*0.3+X16*0.2 -> 94.098093 | Z16: =RANK(Y16,$Y$11:$Y$42) -> 27 | AA16: B | AB16: =ROUNDUP(AVERAGE($Y$16:$Y$21),1) -> 94.4
A17: 제천 | B17: 1 | C17: 0 | D17: 4 | E17: 5 | F17: 0 | G17: 1 | H17: =D17+E17+F17+G17 -> 10 | I17: 4 | J17: 0 | K17: =I17+J17 -> 4 | L17: =+B17+C17+H17+K17 -> 15 | M17: =B17*6*11 -> 66 | N17: =C17*4*11 -> 0 | O17: =SUM(D17:G17)*8 -> 80 | P17: =SUM(I17:J17)*4 -> 16 | Q17: =M17+N17+O17+P17 -> 162 | R17: 95.066668 | S17: 94.664013 | T17: 93.94191 | U17: =R17*0.5+S17*0.3+T17*0.2 -> 94.72092 | V17: =(B17*$B$7)*M17/Q17+(C17*$C$7)*N17/Q17+(D17*$D$7+E17*$E$7+F17*$F$7+G17*$G$7)*O17/Q17/H17+(I17*$I$7+J17*$J$7)*P17/Q17/K17 -> 94.499467 | W17: =B17*$B$8*M17/Q17+C17*$C$8*N17/Q17+(D17*$D$8+E17*$E$8+F17*$F$8+G17*$G$8)*O17/Q17/H17+(I17*$I$8+J17*$J$8)*P17/Q17/K17 -> 93.986841 | X17: =B17*$B$9*M17/Q17+C17*$C$9*N17/Q17+(D17*$D$9+E17*$E$9+F17*$F$9+G17*$G$9)*O17/Q17/H17+(I17*$I$9+J17*$J$9)*P17/Q17/K17 -> 93.964299 | Y17: =V17*0.5+W17*0.3+X17*0.2 -> 94.238645 | Z17: =RANK(Y17,$Y$11:$Y$42) -> 26 | AB17: =ROUNDUP(AVERAGE($Y$16:$Y$21),1) -> 94.4
A18: 청주 | B18: 1 | C18: 0 | D18: 7 | E18: 4 | F18: 0 | G18: 3 | H18: =D18+E18+F18+G18 -> 14 | I18: 5 | J18: 1 | K18: =I18+J18 -> 6 | L18: =+B18+C18+H18+K18 -> 21 | M18: =B18*6*11 -> 66 | N18: =C18*4*11 -> 0 | O18: =SUM(D18:G18)*8 -> 112 | P18: =SUM(I18:J18)*4 -> 24 | Q18: =M18+N18+O18+P18 -> 202 | R18: 94.161831 | S18: 94.96481 | T18: 94.986506 | U18: =R18*0.5+S18*0.3+T18*0.2 -> 94.56766 | V18: =(B18*$B$7)*M18/Q18+(C18*$C$7)*N18/Q18+(D18*$D$7+E18*$E$7+F18*$F$7+G18*$G$7)*O18/Q18/H18+(I18*$I$7+J18*$J$7)*P18/Q18/K18 -> 94.565922 | W18: =B18*$B$8*M18/Q18+C18*$C$8*N18/Q18+(D18*$D$8+E18*$E$8+F18*$F$8+G18*$G$8)*O18/Q18/H18+(I18*$I$8+J18*$J$8)*P18/Q18/K18 -> 93.973194 | X18: =B18*$B$9*M18/Q18+C18*$C$9*N18/Q18+(D18*$D$9+E18*$E$9+F18*$F$9+G18*$G$9)*O18/Q18/H18+(I18*$I$9+J18*$J$9)*P18/Q18/K18 -> 94.056468 | Y18: =V18*0.5+W18*0.3+X18*0.2 -> 94.286213 | Z18: =RANK(Y18,$Y$11:$Y$42) -> 25 | AB18: =ROUNDUP(AVERAGE($Y$16:$Y$21),1) -> 94.4
A19: 천안 | B19: 1 | C19: 0 | D19: 3 | E19: 2 | F19: 0 | G19: 2 | H19: =D19+E19+F19+G19 -> 7 | I19: 3 | J19: 1 | K19: =I19+J19 -> 4 | L19: =+B19+C19+H19+K19 -> 12 | M19: =B19*6*11 -> 66 | N19: =C19*4*11 -> 0 | O19: =SUM(D19:G19)*8 -> 56 | P19: =SUM(I19:J19)*4 -> 16 | Q19: =M19+N19+O19+P19 -> 138 | R19: 93.871052 | S19: 91.719229 | T19: 91.604614 | U19: =R19*0.5+S19*0.3+T19*0.2 -> 92.772217 | V19: =(B19*$B$7)*M19/Q19+(C19*$C$7)*N19/Q19+(D19*$D$7+E19*$E$7+F19*$F$7+G19*$G$7)*O19/Q19/H19+(I19*$I$7+J19*$J$7)*P19/Q19/K19 -> 94.564517 | W19: =B19*$B$8*M19/Q19+C19*$C$8*N19/Q19+(D19*$D$8+E19*$E$8+F19*$F$8+G19*$G$8)*O19/Q19/H19+(I19*$I$8+J19*$J$8)*P19/Q19/K19 -> 94.050428 | X19: =B19*$B$9*M19/Q19+C19*$C$9*N19/Q19+(D19*$D$9+E19*$E$9+F19*$F$9+G19*$G$9)*O19/Q19/H19+(I19*$I$9+J19*$J$9)*P19/Q19/K19 -> 94.030424 | Y19: =V19*0.5+W19*0.3+X19*0.2 -> 94.303472 | Z19: =RANK(Y19,$Y$11:$Y$42) -> 24 | AB19: =ROUNDUP(AVERAGE($Y$16:$Y$21),1) -> 94.4
A20: 세종 | B20: 1 | C20: 0 | D20: 4 | E20: 4 | F20: 0 | G20: 3 | H20: =D20+E20+F20+G20 -> 11 | I20: 0 | J20: 2 | K20: =I20+J20 -> 2 | L20: =+B20+C20+H20+K20 -> 14 | M20: =B20*6*11 -> 66 | N20: =C20*4*11 -> 0 | O20: =SUM(D20:G20)*8 -> 88 | P20: =SUM(I20:J20)*4 -> 8 | Q20: =M20+N20+O20+P20 -> 162 | R20: 94.394281 | S20: 93.597258 | T20: 93.794578 | U20: =R20*0.5+S20*0.3+T20*0.2 -> 94.035234 | V20: =(B20*$B$7)*M20/Q20+(C20*$C$7)*N20/Q20+(D20*$D$7+E20*$E$7+F20*$F$7+G20*$G$7)*O20/Q20/H20+(I20*$I$7+J20*$J$7)*P20/Q20/K20 -> 94.706559 | W20: =B20*$B$8*M20/Q20+C20*$C$8*N20/Q20+(D20*$D$8+E20*$E$8+F20*$F$8+G20*$G$8)*O20/Q20/H20+(I20*$I$8+J20*$J$8)*P20/Q20/K20 -> 94.253907 | X20: =B20*$B$9*M20/Q20+C20*$C$9*N20/Q20+(D20*$D$9+E20*$E$9+F20*$F$9+G20*$G$9)*O20/Q20/H20+(I20*$I$9+J20*$J$9)*P20/Q20/K20 -> 94.224683 | Y20: =V20*0.5+W20*0.3+X20*0.2 -> 94.474388 | Z20: =RANK(Y20,$Y$11:$Y$42) -> 23 | AB20: =ROUNDUP(AVERAGE($Y$16:$Y$21),1) -> 94.4
A21: 동천안 | B21: 1 | C21: 0 | D21: 5 | E21: 1 | F21: 0 | G21: 5 | H21: =D21+E21+F21+G21 -> 11 | I21: 5 | J21: 2 | K21: =I21+J21 -> 7 | L21: =+B21+C21+H21+K21 -> 19 | M21: =B21*6*11 -> 66 | N21: =C21*4*11 -> 0 | O21: =SUM(D21:G21)*8 -> 88 | P21: =SUM(I21:J21)*4 -> 28 | Q21: =M21+N21+O21+P21 -> 182 | R21: 94.777071 | S21: 93.574372 | T21: 93.3146 | U21: =R21*0.5+S21*0.3+T21*0.2 -> 94.123767 | V21: =(B21*$B$7)*M21/Q21+(C21*$C$7)*N21/Q21+(D21*$D$7+E21*$E$7+F21*$F$7+G21*$G$7)*O21/Q21/H21+(I21*$I$7+J21*$J$7)*P21/Q21/K21 -> 94.74818 | W21: =B21*$B$8*M21/Q21+C21*$C$8*N21/Q21+(D21*$D$8+E21*$E$8+F21*$F$8+G21*$G$8)*O21/Q21/H21+(I21*$I$8+J21*$J$8)*P21/Q21/K21 -> 94.162973 | X21: =B21*$B$9*M21/Q21+C21*$C$9*N21/Q21+(D21*$D$9+E21*$E$9+F21*$F$9+G21*$G$9)*O21/Q21/H21+(I21*$I$9+J21*$J$9)*P21/Q21/K21 -> 94.271844 | Y21: =V21*0.5+W21*0.3+X21*0.2 -> 94.477351 | Z21: =RANK(Y21,$Y$11:$Y$42) -> 22 | AB21: =ROUNDUP(AVERAGE($Y$16:$Y$21),1) -> 94.4
A22: 서산 | B22: 1 | C22: 0 | D22: 2 | E22: 5 | F22: 0 | G22: 5 | H22: =D22+E22+F22+G22 -> 12 | I22: 2 | J22: 0 | K22: =I22+J22 -> 2 | L22: =+B22+C22+H22+K22 -> 15 | M22: =B22*6*11 -> 66 | N22: =C22*4*11 -> 0 | O22: =SUM(D22:G22)*8 -> 96 | P22: =SUM(I22:J22)*4 -> 8 | Q22: =M22+N22+O22+P22 -> 170 | R22: 94.725768 | S22: 95.808518 | T22: 94.379194 | U22: =R22*0.5+S22*0.3+T22*0.2 -> 94.981278 | V22: =(B22*$B$7)*M22/Q22+(C22*$C$7)*N22/Q22+(D22*$D$7+E22*$E$7+F22*$F$7+G22*$G$7)*O22/Q22/H22+(I22*$I$7+J22*$J$7)*P22/Q22/K22 -> 94.964821 | W22: =B22*$B$8*M22/Q22+C22*$C$8*N22/Q22+(D22*$D$8+E22*$E$8+F22*$F$8+G22*$G$8)*O22/Q22/H22+(I22*$I$8+J22*$J$8)*P22/Q22/K22 -> 94.602139 | X22: =B22*$B$9*M22/Q22+C22*$C$9*N22/Q22+(D22*$D$9+E22*$E$9+F22*$F$9+G22*$G$9)*O22/Q22/H22+(I22*$I$9+J22*$J$9)*P22/Q22/K22 -> 94.464544 | Y22: =V22*0.5+W22*0.3+X22*0.2 -> 94.755961 | Z22: =RANK(Y22,$Y$11:$Y$42) -> 21 | AA22: C | AB22: =ROUNDUP(AVERAGE($Y$22:$Y$28),1) -> 94.9
A23: 공주 | B23: 1 | C23: 0 | D23: 1 | E23: 6 | F23: 0 | G23: 4 | H23: =D23+E23+F23+G23 -> 11 | I23: 2 | J23: 1 | K23: =I23+J23 -> 3 | L23: =+B23+C23+H23+K23 -> 15 | M23: =B23*6*11 -> 66 | N23: =C23*4*11 -> 0 | O23: =SUM(D23:G23)*8 -> 88 | P23: =SUM(I23:J23)*4 -> 12 | Q23: =M23+N23+O23+P23 -> 166 | R23: 95.063278 | S23: 94.289347 | T23: 93.665304 | U23: =R23*0.5+S23*0.3+T23*0.2 -> 94.551504 | V23: =(B23*$B$7)*M23/Q23+(C23*$C$7)*N23/Q23+(D23*$D$7+E23*$E$7+F23*$F$7+G23*$G$7)*O23/Q23/H23+(I23*$I$7+J23*$J$7)*P23/Q23/K23 -> 94.960383 | W23: =B23*$B$8*M23/Q23+C23*$C$8*N23/Q23+(D23*$D$8+E23*$E$8+F23*$F$8+G23*$G$8)*O23/Q23/H23+(I23*$I$8+J23*$J$8)*P23/Q23/K23 -> 94.601742 | X23: =B23*$B$9*M23/Q23+C23*$C$9*N23/Q23+(D23*$D$9+E23*$E$9+F23*$F$9+G23*$G$9)*O23/Q23/H23+(I23*$I$9+J23*$J$9)*P23/Q23/K23 -> 94.530652 | Y23: =V23*0.5+W23*0.3+X23*0.2 -> 94.766845 | Z23: =RANK(Y23,$Y$11:$Y$42) -> 20 | AB23: =ROUNDUP(AVERAGE($Y$22:$Y$28),1) -> 94.9
A24: 충주 | B24: 1 | C24: 0 | D24: 5 | E24: 5 | F24: 0 | G24: 8 | H24: =D24+E24+F24+G24 -> 18 | I24: 1 | J24: 1 | K24: =I24+J24 -> 2 | L24: =+B24+C24+H24+K24 -> 21 | M24: =B24*6*11 -> 66 | N24: =C24*4*11 -> 0 | O24: =SUM(D24:G24)*8 -> 144 | P24: =SUM(I24:J24)*4 -> 8 | Q24: =M24+N24+O24+P24 -> 218 | R24: 94.589681 | S24: 94.489447 | T24: 95.526501 | U24: =R24*0.5+S24*0.3+T24*0.2 -> 94.746975 | V24: =(B24*$B$7)*M24/Q24+(C24*$C$7)*N24/Q24+(D24*$D$7+E24*$E$7+F24*$F$7+G24*$G$7)*O24/Q24/H24+(I24*$I$7+J24*$J$7)*P24/Q24/K24 -> 95.025807 | W24: =B24*$B$8*M24/Q24+C24*$C$8*N24/Q24+(D24*$D$8+E24*$E$8+F24*$F$8+G24*$G$8)*O24/Q24/H24+(I24*$I$8+J24*$J$8)*P24/Q24/K24 -> 94.6101 | X24: =B24*$B$9*M24/Q24+C24*$C$9*N24/Q24+(D24*$D$9+E24*$E$9+F24*$F$9+G24*$G$9)*O24/Q24/H24+(I24*$I$9+J24*$J$9)*P24/Q24/K24 -> 94.545186 | Y24: =V24*0.5+W24*0.3+X24*0.2 -> 94.804971 | Z24: =RANK(Y24,$Y$11:$Y$42) -> 19 | AB24: =ROUNDUP(AVERAGE($Y$22:$Y$28),1) -> 94.9
A25: 보령 | B25: 1 | C25: 0 | D25: 2 | E25: 3 | F25: 0 | G25: 5 | H25: =D25+E25+F25+G25 -> 10 | I25: 3 | J25: 0 | K25: =I25+J25 -> 3 | L25: =+B25+C25+H25+K25 -> 14 | M25: =B25*4*11 -> 44 | N25: =C25*4*11 -> 0 | O25: =SUM(D25:G25)*8 -> 80 | P25: =SUM(I25:J25)*4 -> 12 | Q25: =M25+N25+O25+P25 -> 136 | R25: 96.426774 | S25: 96.751774 | T25: 94.966569 | U25: =R25*0.5+S25*0.3+T25*0.2 -> 96.232233 | V25: =(B25*$B$7)*M25/Q25+(C25*$C$7)*N25/Q25+(D25*$D$7+E25*$E$7+F25*$F$7+G25*$G$7)*O25/Q25/H25+(I25*$I$7+J25*$J$7)*P25/Q25/K25 -> 95.052574 | W25: =B25*$B$8*M25/Q25+C25*$C$8*N25/Q25+(D25*$D$8+E25*$E$8+F25*$F$8+G25*$G$8)*O25/Q25/H25+(I25*$I$8+J25*$J$8)*P25/Q25/K25 -> 94.62908 | X25: =B25*$B$9*M25/Q25+C25*$C$9*N25/Q25+(D25*$D$9+E25*$E$9+F25*$F$9+G25*$G$9)*O25/Q25/H25+(I25*$I$9+J25*$J$9)*P25/Q25/K25 -> 94.574762 | Y25: =V25*0.5+W25*0.3+X25*0.2 -> 94.829963 | Z25: =RANK(Y25,$Y$11:$Y$42) -> 18 | AB25: =ROUNDUP(AVERAGE($Y$22:$Y$28),1) -> 94.9
A26: 아산 | B26: 1 | C26: 0 | D26: 3 | E26: 4 | F26: 0 | G26: 8 | H26: =D26+E26+F26+G26 -> 15 | I26: 1 | J26: 2 | K26: =I26+J26 -> 3 | L26: =+B26+C26+H26+K26 -> 19 | M26: =B26*6*11 -> 66 | N26: =C26*4*11 -> 0 | O26: =SUM(D26:G26)*8 -> 120 | P26: =SUM(I26:J26)*4 -> 12 | Q26: =M26+N26+O26+P26 -> 198 | R26: 94.86094 | S26: 94.36249 | T26: 94.767812 | U26: =R26*0.5+S26*0.3+T26*0.2 -> 94.69278 | V26: =(B26*$B$7)*M26/Q26+(C26*$C$7)*N26/Q26+(D26*$D$7+E26*$E$7+F26*$F$7+G26*$G$7)*O26/Q26/H26+(I26*$I$7+J26*$J$7)*P26/Q26/K26 -> 95.125147 | W26: =B26*$B$8*M26/Q26+C26*$C$8*N26/Q26+(D26*$D$8+E26*$E$8+F26*$F$8+G26*$G$8)*O26/Q26/H26+(I26*$I$8+J26*$J$8)*P26/Q26/K26 -> 94.730486 | X26: =B26*$B$9*M26/Q26+C26*$C$9*N26/Q26+(D26*$D$9+E26*$E$9+F26*$F$9+G26*$G$9)*O26/Q26/H26+(I26*$I$9+J26*$J$9)*P26/Q26/K26 -> 94.693452 | Y26: =V26*0.5+W26*0.3+X26*0.2 -> 94.92041 | Z26: =RANK(Y26,$Y$11:$Y$42) -> 17 | AB26: =ROUNDUP(AVERAGE($Y$22:$Y$28),1) -> 94.9
A27: 논산 | B27: 1 | C27: 0 | D27: 2 | E27: 8 | F27: 0 | G27: 8 | H27: =D27+E27+F27+G27 -> 18 | I27: 3 | J27: 1 | K27: =I27+J27 -> 4 | L27: =+B27+C27+H27+K27 -> 23 | M27: =B27*6*11 -> 66 | N27: =C27*4*11 -> 0 | O27: =SUM(D27:G27)*8 -> 144 | P27: =SUM(I27:J27)*4 -> 16 | Q27: =M27+N27+O27+P27 -> 226 | R27: 94.687889 | S27: 94.771503 | T27: 95.033507 | U27: =R27*0.5+S27*0.3+T27*0.2 -> 94.782097 | V27: =(B27*$B$7)*M27/Q27+(C27*$C$7)*N27/Q27+(D27*$D$7+E27*$E$7+F27*$F$7+G27*$G$7)*O27/Q27/H27+(I27*$I$7+J27*$J$7)*P27/Q27/K27 -> 95.159639 | W27: =B27*$B$8*M27/Q27+C27*$C$8*N27/Q27+(D27*$D$8+E27*$E$8+F27*$F$8+G27*$G$8)*O27/Q27/H27+(I27*$I$8+J27*$J$8)*P27/Q27/K27 -> 94.793082 | X27: =B27*$B$9*M27/Q27+C27*$C$9*N27/Q27+(D27*$D$9+E27*$E$9+F27*$F$9+G27*$G$9)*O27/Q27/H27+(I27*$I$9+J27*$J$9)*P27/Q27/K27 -> 94.759869 | Y27: =V27*0.5+W27*0.3+X27*0.2 -> 94.969718 | Z27: =RANK(Y27,$Y$11:$Y$42) -> 16 | AB27: =ROUNDUP(AVERAGE($Y$22:$Y$28),1) -> 94.9
A28: 당진 | B28: 1 | C28: 0 | D28: 0 | E28: 5 | F28: 0 | G28: 6 | H28: =D28+E28+F28+G28 -> 11 | I28: 0 | J28: 3 | K28: =I28+J28 -> 3 | L28: =+B28+C28+H28+K28 -> 15 | M28: =B28*4*11 -> 44 | N28: =C28*4*11 -> 0 | O28: =SUM(D28:G28)*8 -> 88 | P28: =SUM(I28:J28)*4 -> 12 | Q28: =M28+N28+O28+P28 -> 144 | R28: 94.463314 | S28: 93.536161 | T28: 93.537258 | U28: =R28*0.5+S28*0.3+T28*0.2 -> 93.999957 | V28: =(B28*$B$7)*M28/Q28+(C28*$C$7)*N28/Q28+(D28*$D$7+E28*$E$7+F28*$F$7+G28*$G$7)*O28/Q28/H28+(I28*$I$7+J28*$J$7)*P28/Q28/K28 -> 95.355068 | W28: =B28*$B$8*M28/Q28+C28*$C$8*N28/Q28+(D28*$D$8+E28*$E$8+F28*$F$8+G28*$G$8)*O28/Q28/H28+(I28*$I$8+J28*$J$8)*P28/Q28/K28 -> 95.029642 | X28: =B28*$B$9*M28/Q28+C28*$C$9*N28/Q28+(D28*$D$9+E28*$E$9+F28*$F$9+G28*$G$9)*O28/Q28/H28+(I28*$I$9+J28*$J$9)*P28/Q28/K28 -> 95.084312 | Y28: =V28*0.5+W28*0.3+X28*0.2 -> 95.203289 | Z28: =RANK(Y28,$Y$11:$Y$42) -> 15 | AB28: =ROUNDUP(AVERAGE($Y$22:$Y$28),1) -> 94.9
A29: 단양 | B29: 0 | C29: 1 | D29: 0 | E29: 3 | F29: 0 | G29: 1 | H29: =D29+E29+F29+G29 -> 4 | I29: 0 | J29: 2 | K29: =I29+J29 -> 2 | L29: =+B29+C29+H29+K29 -> 7 | M29: =B29*6*11 -> 0 | N29: =C29*4*11 -> 44 | O29: =SUM(D29:G29)*8 -> 32 | P29: =SUM(I29:J29)*4 -> 8 | Q29: =M29+N29+O29+P29 -> 84 | R29: 96.831818 | S29: 94.517934 | T29: 96.088316 | U29: =R29*0.5+S29*0.3+T29*0.2 -> 95.988953 | V29: =(B29*$B$7)*M29/Q29+(C29*$C$7)*N29/Q29+(D29*$D$7+E29*$E$7+F29*$F$7+G29*$G$7)*O29/Q29/H29+(I29*$I$7+J29*$J$7)*P29/Q29/K29 -> 95.526974 | W29: =B29*$B$8*M29/Q29+C29*$C$8*N29/Q29+(D29*$D$8+E29*$E$8+F29*$F$8+G29*$G$8)*O29/Q29/H29+(I29*$I$8+J29*$J$8)*P29/Q29/K29 -> 95.014845 | X29: =B29*$B$9*M29/Q29+C29*$C$9*N29/Q29+(D29*$D$9+E29*$E$9+F29*$F$9+G29*$G$9)*O29/Q29/H29+(I29*$I$9+J29*$J$9)*P29/Q29/K29 -> 95.085044 | Y29: =V29*0.5+W29*0.3+X29*0.2 -> 95.284949 | Z29: =RANK(Y29,$Y$11:$Y$42) -> 14 | AA29: D | AB29: =ROUNDUP(AVERAGE($Y$29:$Y$42),1) -> 95.6
A30: 진천 | B30: 0 | C30: 1 | D30: 0 | E30: 4 | F30: 0 | G30: 2 | H30: =D30+E30+F30+G30 -> 6 | I30: 0 | J30: 0 | K30: =I30+J30 -> 0 | L30: =+B30+C30+H30+K30 -> 7 | M30: =B30*6*11 -> 0 | N30: =C30*4*11 -> 44 | O30: =SUM(D30:G30)*8 -> 48 | P30: =SUM(I30:J30)*4 -> 0 | Q30: =M30+N30+O30+P30 -> 92 | R30: 95.240934 | S30: 93.773237 | T30: 94.744264 | U30: =R30*0.5+S30*0.3+T30*0.2 -> 94.701291 | V30: =(B30*$B$7)*M30/Q30+(C30*$C$7)*N30/Q30+(D30*$D$7+E30*$E$7+F30*$F$7+G30*$G$7)*O30/Q30/H30 -> 95.619137 | W30: =B30*$B$8*M30/Q30+C30*$C$8*N30/Q30+(D30*$D$8+E30*$E$8+F30*$F$8+G30*$G$8)*O30/Q30/H30 -> 95.2379 | X30: =B30*$B$9*M30/Q30+C30*$C$9*N30/Q30+(D30*$D$9+E30*$E$9+F30*$F$9+G30*$G$9)*O30/Q30/H30 -> 95.040745 | Y30: =V30*0.5+W30*0.3+X30*0.2 -> 95.389087 | Z30: =RANK(Y30,$Y$11:$Y$42) -> 13 | AB30: =ROUNDUP(AVERAGE($Y$29:$Y$42),1) -> 95.6
A31: 영동 | B31: 0 | C31: 1 | D31: 0 | E31: 7 | F31: 0 | G31: 4 | H31: =D31+E31+F31+G31 -> 11 | I31: 0 | J31: 2 | K31: =I31+J31 -> 2 | L31: =+B31+C31+H31+K31 -> 14 | M31: =B31*6*11 -> 0 | N31: =C31*4*11 -> 44 | O31: =SUM(D31:G31)*8 -> 88 | P31: =SUM(I31:J31)*4 -> 8 | Q31: =M31+N31+O31+P31 -> 140 | R31: 96.153996 | S31: 96.739966 | T31: 95.889469 | U31: =R31*0.5+S31*0.3+T31*0.2 -> 96.276882 | V31: =(B31*$B$7)*M31/Q31+(C31*$C$7)*N31/Q31+(D31*$D$7+E31*$E$7+F31*$F$7+G31*$G$7)*O31/Q31/H31+(I31*$I$7+J31*$J$7)*P31/Q31/K31 -> 95.635075 | W31: =B31*$B$8*M31/Q31+C31*$C$8*N31/Q31+(D31*$D$8+E31*$E$8+F31*$F$8+G31*$G$8)*O31/Q31/H31+(I31*$I$8+J31*$J$8)*P31/Q31/K31 -> 95.243007 | X31: =B31*$B$9*M31/Q31+C31*$C$9*N31/Q31+(D31*$D$9+E31*$E$9+F31*$F$9+G31*$G$9)*O31/Q31/H31+(I31*$I$9+J31*$J$9)*P31/Q31/K31 -> 95.281023 | Y31: =V31*0.5+W31*0.3+X31*0.2 -> 95.446644 | Z31: =RANK(Y31,$Y$11:$Y$42) -> 12 | AB31: =ROUNDUP(AVERAGE($Y$29:$Y$42),1) -> 95.6
A32: 태안 | B32: 0 | C32: 1 | D32: 0 | E32: 2 | F32: 0 | G32: 3 | H32: =D32+E32+F32+G32 -> 5 | I32: 0 | J32: 0 | K32: =I32+J32 -> 0 | L32: =+B32+C32+H32+K32 -> 6 | M32: =B32*6*11 -> 0 | N32: =C32*4*11 -> 44 | O32: =SUM(D32:G32)*8 -> 40 | P32: =SUM(I32:J32)*4 -> 0 | Q32: =M32+N32+O32+P32 -> 84 | R32: 95.548279 | S32: 96.246554 | T32: 96.110944 | U32: =R32*0.5+S32*0.3+T32*0.2 -> 95.870294 | V32: =(B32*$B$7)*M32/Q32+(C32*$C$7)*N32/Q32+(D32*$D$7+E32*$E$7+F32*$F$7+G32*$G$7)*O32/Q32/H32 -> 95.795199 | W32: =B32*$B$8*M32/Q32+C32*$C$8*N32/Q32+(D32*$D$8+E32*$E$8+F32*$F$8+G32*$G$8)*O32/Q32/H32 -> 95.404151 | X32: =B32*$B$9*M32/Q32+C32*$C$9*N32/Q32+(D32*$D$9+E32*$E$9+F32*$F$9+G32*$G$9)*O32/Q32/H32 -> 95.156667 | Y32: =V32*0.5+W32*0.3+X32*0.2 -> 95.550178 | Z32: =RANK(Y32,$Y$11:$Y$42) -> 11 | AB32: =ROUNDUP(AVERAGE($Y$29:$Y$42),1) -> 95.6
A33: 음성 | B33: 0 | C33: 1 | D33: 0 | E33: 3 | F33: 0 | G33: 4 | H33: =D33+E33+F33+G33 -> 7 | I33: 0 | J33: 1 | K33: =I33+J33 -> 1 | L33: =+B33+C33+H33+K33 -> 9 | M33: =B33*6*11 -> 0 | N33: =C33*4*11 -> 44 | O33: =SUM(D33:G33)*8 -> 56 | P33: =SUM(I33:J33)*4 -> 4 | Q33: =M33+N33+O33+P33 -> 104 | R33: 96.3632 | S33: 95.88493 | T33: 94.404883 | U33: =R33*0.5+S33*0.3+T33*0.2 -> 95.828056 | V33: =(B33*$B$7)*M33/Q33+(C33*$C$7)*N33/Q33+(D33*$D$7+E33*$E$7+F33*$F$7+G33*$G$7)*O33/Q33/H33+(I33*$I$7+J33*$J$7)*P33/Q33/K33 -> 95.788605 | W33: =B33*$B$8*M33/Q33+C33*$C$8*N33/Q33+(D33*$D$8+E33*$E$8+F33*$F$8+G33*$G$8)*O33/Q33/H33+(I33*$I$8+J33*$J$8)*P33/Q33/K33 -> 95.386407 | X33: =B33*$B$9*M33/Q33+C33*$C$9*N33/Q33+(D33*$D$9+E33*$E$9+F33*$F$9+G33*$G$9)*O33/Q33/H33+(I33*$I$9+J33*$J$9)*P33/Q33/K33 -> 95.295761 | Y33: =V33*0.5+W33*0.3+X33*0.2 -> 95.569377 | Z33: =RANK(Y33,$Y$11:$Y$42) -> 10 | AB33: =ROUNDUP(AVERAGE($Y$29:$Y$42),1) -> 95.6
A34: 옥천 | B34: 0 | C34: 1 | D34: 0 | E34: 3 | F34: 0 | G34: 4 | H34: =D34+E34+F34+G34 -> 7 | I34: 0 | J34: 0 | K34: =I34+J34 -> 0 | L34: =+B34+C34+H34+K34 -> 8 | M34: =B34*6*11 -> 0 | N34: =C34*4*11 -> 44 | O34: =SUM(D34:G34)*8 -> 56 | P34: =SUM(I34:J34)*4 -> 0 | Q34: =M34+N34+O34+P34 -> 100 | R34: 96.330503 | S34: 94.027655 | T34: 94.690154 | U34: =R34*0.5+S34*0.3+T34*0.2 -> 95.311579 | V34: =(B34*$B$7)*M34/Q34+(C34*$C$7)*N34/Q34+(D34*$D$7+E34*$E$7+F34*$F$7+G34*$G$7)*O34/Q34/H34 -> 95.811738 | W34: =B34*$B$8*M34/Q34+C34*$C$8*N34/Q34+(D34*$D$8+E34*$E$8+F34*$F$8+G34*$G$8)*O34/Q34/H34 -> 95.449871 | X34: =B34*$B$9*M34/Q34+C34*$C$9*N34/Q34+(D34*$D$9+E34*$E$9+F34*$F$9+G34*$G$9)*O34/Q34/H34 -> 95.237611 | Y34: =V34*0.5+W34*0.3+X34*0.2 -> 95.588352 | Z34: =RANK(Y34,$Y$11:$Y$42) -> 9 | AB34: =ROUNDUP(AVERAGE($Y$29:$Y$42),1) -> 95.6
A35: 홍성 | B35: 0 | C35: 1 | D35: 0 | E35: 4 | F35: 0 | G35: 6 | H35: =D35+E35+F35+G35 -> 10 | I35: 0 | J35: 3 | K35: =I35+J35 -> 3 | L35: =+B35+C35+H35+K35 -> 14 | M35: =B35*6*11 -> 0 | N35: =C35*4*11 -> 44 | O35: =SUM(D35:G35)*8 -> 80 | P35: =SUM(I35:J35)*4 -> 12 | Q35: =M35+N35+O35+P35 -> 136 | R35: 95.518006 | S35: 94.728295 | T35: 94.887215 | U35: =R35*0.5+S35*0.3+T35*0.2 -> 95.154934 | V35: =(B35*$B$7)*M35/Q35+(C35*$C$7)*N35/Q35+(D35*$D$7+E35*$E$7+F35*$F$7+G35*$G$7)*O35/Q35/H35+(I35*$I$7+J35*$J$7)*P35/Q35/K35 -> 95.815718 | W35: =B35*$B$8*M35/Q35+C35*$C$8*N35/Q35+(D35*$D$8+E35*$E$8+F35*$F$8+G35*$G$8)*O35/Q35/H35+(I35*$I$8+J35*$J$8)*P35/Q35/K35 -> 95.389727 | X35: =B35*$B$9*M35/Q35+C35*$C$9*N35/Q35+(D35*$D$9+E35*$E$9+F35*$F$9+G35*$G$9)*O35/Q35/H35+(I35*$I$9+J35*$J$9)*P35/Q35/K35 -> 95.482065 | Y35: =V35*0.5+W35*0.3+X35*0.2 -> 95.62119 | Z35: =RANK(Y35,$Y$11:$Y$42) -> 8 | AB35: =ROUNDUP(AVERAGE($Y$29:$Y$42),1) -> 95.6
A36: 예산 | B36: 0 | C36: 1 | D36: 0 | E36: 5 | F36: 0 | G36: 6 | H36: =D36+E36+F36+G36 -> 11 | I36: 0 | J36: 0 | K36: =I36+J36 -> 0 | L36: =+B36+C36+H36+K36 -> 12 | M36: =B36*6*11 -> 0 | N36: =C36*4*11 -> 44 | O36: =SUM(D36:G36)*8 -> 88 | P36: =SUM(I36:J36)*4 -> 0 | Q36: =M36+N36+O36+P36 -> 132 | R36: 95.176461 | S36: 96.720315 | T36: 96.757188 | U36: =R36*0.5+S36*0.3+T36*0.2 -> 95.955763 | V36: =(B36*$B$7)*M36/Q36+(C36*$C$7)*N36/Q36+(D36*$D$7+E36*$E$7+F36*$F$7+G36*$G$7)*O36/Q36/H36 -> 95.832787 | W36: =B36*$B$8*M36/Q36+C36*$C$8*N36/Q36+(D36*$D$8+E36*$E$8+F36*$F$8+G36*$G$8)*O36/Q36/H36 -> 95.50806 | X36: =B36*$B$9*M36/Q36+C36*$C$9*N36/Q36+(D36*$D$9+E36*$E$9+F36*$F$9+G36*$G$9)*O36/Q36/H36 -> 95.340629 | Y36: =V36*0.5+W36*0.3+X36*0.2 -> 95.636937 | Z36: =RANK(Y36,$Y$11:$Y$42) -> 7 | AB36: =ROUNDUP(AVERAGE($Y$29:$Y$42),1) -> 95.6
A37: 서천 | B37: 0 | C37: 1 | D37: 0 | E37: 5 | F37: 0 | G37: 7 | H37: =D37+E37+F37+G37 -> 12 | I37: 0 | J37: 2 | K37: =I37+J37 -> 2 | L37: =+B37+C37+H37+K37 -> 15 | M37: =B37*6*11 -> 0 | N37: =C37*4*11 -> 44 | O37: =SUM(D37:G37)*8 -> 96 | P37: =SUM(I37:J37)*4 -> 8 | Q37: =M37+N37+O37+P37 -> 148 | R37: 95.707107 | S37: 95.297779 | T37: 95.629444 | U37: =R37*0.5+S37*0.3+T37*0.2 -> 95.568776 | V37: =(B37*$B$7)*M37/Q37+(C37*$C$7)*N37/Q37+(D37*$D$7+E37*$E$7+F37*$F$7+G37*$G$7)*O37/Q37/H37+(I37*$I$7+J37*$J$7)*P37/Q37/K37 -> 95.841037 | W37: =B37*$B$8*M37/Q37+C37*$C$8*N37/Q37+(D37*$D$8+E37*$E$8+F37*$F$8+G37*$G$8)*O37/Q37/H37+(I37*$I$8+J37*$J$8)*P37/Q37/K37 -> 95.465149 | X37: =B37*$B$9*M37/Q37+C37*$C$9*N37/Q37+(D37*$D$9+E37*$E$9+F37*$F$9+G37*$G$9)*O37/Q37/H37+(I37*$I$9+J37*$J$9)*P37/Q37/K37 -> 95.467323 | Y37: =V37*0.5+W37*0.3+X37*0.2 -> 95.653528 | Z37: =RANK(Y37,$Y$11:$Y$42) -> 6 | AB37: =ROUNDUP(AVERAGE($Y$29:$Y$42),1) -> 95.6
A38: 보은 | B38: 0 | C38: 1 | D38: 0 | E38: 3 | F38: 0 | G38: 5 | H38: =D38+E38+F38+G38 -> 8 | I38: 0 | J38: 0 | K38: =I38+J38 -> 0 | L38: =+B38+C38+H38+K38 -> 9 | M38: =B38*6*11 -> 0 | N38: =C38*4*11 -> 44 | O38: =SUM(D38:G38)*8 -> 64 | P38: =SUM(I38:J38)*4 -> 0 | Q38: =M38+N38+O38+P38 -> 108 | R38: 96.146259 | S38: 97.17372 | T38: 97.19799 | U38: =R38*0.5+S38*0.3+T38*0.2 -> 96.664844 | V38: =(C38*$C$7)*N38/Q38+(E38*$E$7+G38*$G$7)*O38/Q38/H38 -> 95.870715 | W38: =B38*$B$8*M38/Q38+C38*$C$8*N38/Q38+(D38*$D$8+E38*$E$8+F38*$F$8+G38*$G$8)*O38/Q38/H38 -> 95.521913 | X38: =B38*$B$9*M38/Q38+C38*$C$9*N38/Q38+(D38*$D$9+E38*$E$9+F38*$F$9+G38*$G$9)*O38/Q38/H38 -> 95.314496 | Y38: =V38*0.5+W38*0.3+X38*0.2 -> 95.654831 | Z38: =RANK(Y38,$Y$11:$Y$42) -> 5 | AB38: =ROUNDUP(AVERAGE($Y$29:$Y$42),1) -> 95.6
A39: 금산 | B39: 0 | C39: 1 | D39: 0 | E39: 2 | F39: 0 | G39: 5 | H39: =D39+E39+F39+G39 -> 7 | I39: 0 | J39: 1 | K39: =I39+J39 -> 1 | L39: =+B39+C39+H39+K39 -> 9 | M39: =B39*6*11 -> 0 | N39: =C39*4*11 -> 44 | O39: =SUM(D39:G39)*8 -> 56 | P39: =SUM(I39:J39)*4 -> 4 | Q39: =M39+N39+O39+P39 -> 104 | R39: 95.672242 | S39: 94.880222 | T39: 94.723515 | U39: =R39*0.5+S39*0.3+T39*0.2 -> 95.24489 | V39: =(B39*$B$7)*M39/Q39+(C39*$C$7)*N39/Q39+(D39*$D$7+E39*$E$7+F39*$F$7+G39*$G$7)*O39/Q39/H39+(I39*$I$7+J39*$J$7)*P39/Q39/K39 -> 95.897737 | W39: =B39*$B$8*M39/Q39+C39*$C$8*N39/Q39+(D39*$D$8+E39*$E$8+F39*$F$8+G39*$G$8)*O39/Q39/H39+(I39*$I$8+J39*$J$8)*P39/Q39/K39 -> 95.499107 | X39: =B39*$B$9*M39/Q39+C39*$C$9*N39/Q39+(D39*$D$9+E39*$E$9+F39*$F$9+G39*$G$9)*O39/Q39/H39+(I39*$I$9+J39*$J$9)*P39/Q39/K39 -> 95.390069 | Y39: =V39*0.5+W39*0.3+X39*0.2 -> 95.676614 | Z39: =RANK(Y39,$Y$11:$Y$42) -> 4 | AB39: =ROUNDUP(AVERAGE($Y$29:$Y$42),1) -> 95.6
A40: 부여 | B40: 0 | C40: 1 | D40: 0 | E40: 6 | F40: 0 | G40: 8 | H40: =D40+E40+F40+G40 -> 14 | I40: 0 | J40: 1 | K40: =I40+J40 -> 1 | L40: =+B40+C40+H40+K40 -> 16 | M40: =B40*6*11 -> 0 | N40: =C40*4*11 -> 44 | O40: =SUM(D40:G40)*8 -> 112 | P40: =SUM(I40:J40)*4 -> 4 | Q40: =M40+N40+O40+P40 -> 160 | R40: 97.115855 | S40: 96.823947 | T40: 95.602116 | U40: =R40*0.5+S40*0.3+T40*0.2 -> 96.725535 | V40: =(B40*$B$7)*M40/Q40+(C40*$C$7)*N40/Q40+(D40*$D$7+E40*$E$7+F40*$F$7+G40*$G$7)*O40/Q40/H40+(I40*$I$7+J40*$J$7)*P40/Q40/K40 -> 95.862559 | W40: =B40*$B$8*M40/Q40+C40*$C$8*N40/Q40+(D40*$D$8+E40*$E$8+F40*$F$8+G40*$G$8)*O40/Q40/H40+(I40*$I$8+J40*$J$8)*P40/Q40/K40 -> 95.529257 | X40: =B40*$B$9*M40/Q40+C40*$C$9*N40/Q40+(D40*$D$9+E40*$E$9+F40*$F$9+G40*$G$9)*O40/Q40/H40+(I40*$I$9+J40*$J$9)*P40/Q40/K40 -> 95.454792 | Y40: =V40*0.5+W40*0.3+X40*0.2 -> 95.681015 | Z40: =RANK(Y40,$Y$11:$Y$42) -> 3 | AB40: =ROUNDUP(AVERAGE($Y$29:$Y$42),1) -> 95.6
...

Sheet 비교(창구)
A1: 2016년 창구종합 KPCSI 목표배정 검토안 비교자료
A7: 국명 | B7: 2015년 | C7: 2014년 | D7: 2013년 | E7: 가중실적 (5:3:2) | F7: 12.23.(안) | G7: 창구목표 (안) | H7: 비교 | K7: 달성전망
H8: 가중실적 | I8: 12.23.(안)
A9: 대전 | B9: =VLOOKUP($A9,연도별!$A$2:$AH$36,6,0) -> 94.819162 | C9: =VLOOKUP($A9,연도별!$A$2:$AH$36,15,0) -> 92.556869 | D9: =VLOOKUP($A9,연도별!$A$2:$AH$36,23,0) -> 94.263374 | E9: =B9*0.5+C9*0.3+D9*0.2 -> 94.029316 | F9: =VLOOKUP($A9,'[1](창구)목표'!$A$3:$O$39,15,0) -> 94.25 | G9: =VLOOKUP($A9,'목표(창구)'!$A$3:$AB$42,28,0) -> 93.8 | H9: =G9-E9 -> -0.22931638 | I9: =G9-F9 -> -0.45 | K9: =B9/G9*100 -> 101.08653
A10: 서대전 | B10: =VLOOKUP($A10,연도별!$A$2:$AH$36,6,0) -> 93.616139 | C10: =VLOOKUP($A10,연도별!$A$2:$AH$36,15,0) -> 93.07468 | D10: =VLOOKUP($A10,연도별!$A$2:$AH$36,23,0) -> 92.754363 | E10: =B10*0.5+C10*0.3+D10*0.2 -> 93.281346 | F10: =VLOOKUP($A10,'[1](창구)목표'!$A$3:$O$39,15,0) -> 94.11875 | G10: =VLOOKUP($A10,'목표(창구)'!$A$3:$AB$42,28,0) -> 93.8 | H10: =G10-E10 -> 0.51865378 | I10: =G10-F10 -> -0.31875 | K10: =B10/G10*100 -> 99.803986
A11: 대전유성 | B11: =VLOOKUP($A11,연도별!$A$2:$AH$36,6,0) -> 93.608385 | C11: =VLOOKUP($A11,연도별!$A$2:$AH$36,15,0) -> 94.10484 | D11: =VLOOKUP($A11,연도별!$A$2:$AH$36,23,0) -> 95.089142 | E11: =B11*0.5+C11*0.3+D11*0.2 -> 94.053473 | F11: =VLOOKUP($A11,'[1](창구)목표'!$A$3:$O$39,15,0) -> 94.1675 | G11: =VLOOKUP($A11,'목표(창구)'!$A$3:$AB$42,28,0) -> 93.8 | H11: =G11-E11 -> -0.2534729 | I11: =G11-F11 -> -0.3675 | K11: =B11/G11*100 -> 99.79572
A12: 대전대덕 | B12: =VLOOKUP($A12,연도별!$A$2:$AH$36,6,0) -> 94.527128 | C12: =VLOOKUP($A12,연도별!$A$2:$AH$36,15,0) -> 93.960515 | D12: =VLOOKUP($A12,연도별!$A$2:$AH$36,23,0) -> 92.977914 | E12: =B12*0.5+C12*0.3+D12*0.2 -> 94.047301 | F12: =VLOOKUP($A12,'[1](창구)목표'!$A$3:$O$39,15,0) -> 94.222105 | G12: =VLOOKUP($A12,'목표(창구)'!$A$3:$AB$42,28,0) -> 93.8 | H12: =G12-E12 -> -0.24730115 | I12: =G12-F12 -> -0.42210526 | K12: =B12/G12*100 -> 100.77519
A13: 대전둔산 | B13: =VLOOKUP($A13,연도별!$A$2:$AH$36,6,0) -> 93.620039 | C13: =VLOOKUP($A13,연도별!$A$2:$AH$36,15,0) -> 92.226064 | D13: =VLOOKUP($A13,연도별!$A$2:$AH$36,23,0) -> 91.622326 | E13: =B13*0.5+C13*0.3+D13*0.2 -> 92.802304 | F13: =VLOOKUP($A13,'[1](창구)목표'!$A$3:$O$39,15,0) -> 94.066667 | G13: =VLOOKUP($A13,'목표(창구)'!$A$3:$AB$42,28,0) -> 93.8 | H13: =G13-E13 -> 0.99769589 | I13: =G13-F13 -> -0.26666667 | K13: =B13/G13*100 -> 99.808144
A14: 천안 | B14: =VLOOKUP($A14,연도별!$A$2:$AH$36,6,0) -> 93.871052 | C14: =VLOOKUP($A14,연도별!$A$2:$AH$36,15,0) -> 91.719229 | D14: =VLOOKUP($A14,연도별!$A$2:$AH$36,23,0) -> 91.604614 | E14: =B14*0.5+C14*0.3+D14*0.2 -> 92.772217 | F14: =VLOOKUP($A14,'[1](창구)목표'!$A$3:$O$39,15,0) -> 94.819167 | G14: =VLOOKUP($A14,'목표(창구)'!$A$3:$AB$42,28,0) -> 94.4 | H14: =G14-E14 -> 1.6277828 | I14: =G14-F14 -> -0.41916667 | K14: =B14/G14*100 -> 99.439673
A15: 동천안 | B15: =VLOOKUP($A15,연도별!$A$2:$AH$36,6,0) -> 94.777071 | C15: =VLOOKUP($A15,연도별!$A$2:$AH$36,15,0) -> 93.574372 | D15: =VLOOKUP($A15,연도별!$A$2:$AH$36,23,0) -> 93.3146 | E15: =B15*0.5+C15*0.3+D15*0.2 -> 94.123767 | F15: =VLOOKUP($A15,'[1](창구)목표'!$A$3:$O$39,15,0) -> 94.96 | G15: =VLOOKUP($A15,'목표(창구)'!$A$3:$AB$42,28,0) -> 94.4 | H15: =G15-E15 -> 0.27623306 | I15: =G15-F15 -> -0.56 | K15: =B15/G15*100 -> 100.39944
A16: 공주 | B16: =VLOOKUP($A16,연도별!$A$2:$AH$36,6,0) -> 95.063278 | C16: =VLOOKUP($A16,연도별!$A$2:$AH$36,15,0) -> 94.289347 | D16: =VLOOKUP($A16,연도별!$A$2:$AH$36,23,0) -> 93.665304 | E16: =B16*0.5+C16*0.3+D16*0.2 -> 94.551504 | F16: =VLOOKUP($A16,'[1](창구)목표'!$A$3:$O$39,15,0) -> 95.318 | G16: =VLOOKUP($A16,'목표(창구)'!$A$3:$AB$42,28,0) -> 94.9 | H16: =G16-E16 -> 0.34849603 | I16: =G16-F16 -> -0.418 | K16: =B16/G16*100 -> 100.17205
A17: 아산 | B17: =VLOOKUP($A17,연도별!$A$2:$AH$36,6,0) -> 94.86094 | C17: =VLOOKUP($A17,연도별!$A$2:$AH$36,15,0) -> 94.36249 | D17: =VLOOKUP($A17,연도별!$A$2:$AH$36,23,0) -> 94.767812 | E17: =B17*0.5+C17*0.3+D17*0.2 -> 94.69278 | F17: =VLOOKUP($A17,'[1](창구)목표'!$A$3:$O$39,15,0) -> 95.475789 | G17: =VLOOKUP($A17,'목표(창구)'!$A$3:$AB$42,28,0) -> 94.9 | H17: =G17-E17 -> 0.20722042 | I17: =G17-F17 -> -0.57578947 | K17: =B17/G17*100 -> 99.958841
