Workbook

Sheet 인천남동,서수원FC이동
A1: 남인천->인천남동 이동
A2: 청 | B2: 청명 | C2: 보안총괄국 | D2: 총괄국명 | E2: 모집자 | F2: 성명 | G2: 2013년 합계 | H2: 2014년 합계
A3: 11 | B3: 경인청 | C3: 103556 | D3: 남인천우체국 | E3: 01000791 | F3: 조원애 | G3: 28569323 | H3: 22196387
A4: 11 | B4: 경인청 | C4: 103556 | D4: 남인천우체국 | E4: 01015614 | F4: 유호정 | G4: 25560540 | H4: 24451524
A5: 11 | B5: 경인청 | C5: 103556 | D5: 남인천우체국 | E5: 01020739 | F5: 기경옥 | G5: 59997785 | H5: 65279157
A6: 11 | B6: 경인청 | C6: 103556 | D6: 남인천우체국 | E6: 01024278 | F6: 김민자 | G6: 7094933 | H6: 17803811
F7: 만수동우체국 | G7: 24918006 | H7: 16349265
A8: 합계 | G8: =SUM(G3:G7) -> 146140587 | H8: =SUM(H3:H7) -> 146080144
A11: 동수원->서수원
A12: 청 | B12: 청명 | C12: 보안총괄국 | D12: 총괄국명 | E12: 모집자 | F12: 성명 | G12: 2013년 합계 | H12: 2014년 합계
A13: 11 | B13: 경인청 | C13: 104604 | D13: 동수원우체국 | E13: 01006254 | F13: 송인순 | G13: 101912536 | H13: 93025653
A14: 11 | B14: 경인청 | C14: 104604 | D14: 동수원우체국 | E14: 01015169 | F14: 위재분 | G14: 41842785 | H14: 42250294
A15: 11 | B15: 경인청 | C15: 104604 | D15: 동수원우체국 | E15: 01021841 | F15: 양승자 | G15: 41466572 | H15: 33895458
A16: 11 | B16: 경인청 | C16: 104604 | D16: 동수원우체국 | E16: 01023611 | F16: 조화영 | G16: 12102143 | H16: 8301980
A17: 11 | B17: 경인청 | C17: 104604 | D17: 동수원우체국 | E17: 01023707 | F17: 진선미 | G17: 18079514 | H17: 16736150
A18: 합계 | G18: =SUM(G13:G17) -> 215403550 | H18: =SUM(H13:H17) -> 194209535
A20: 수원->서수원
A21: 청 | B21: 청명 | C21: 보안총괄국 | D21: 총괄국명 | E21: 모집자 | F21: 성명 | G21: 2013년 합계 | H21: 2014년 합계
A22: 11 | B22: 경인청 | C22: 100941 | D22: 수원우체국 | E22: 1004825 | F22: 최채옥 | G22: 23266007 | H22: 20694245
A23: 11 | B23: 경인청 | C23: 100941 | D23: 수원우체국 | E23: 1013789 | F23: 남명희 | G23: 12125531 | H23: 7910279
A24: 11 | B24: 경인청 | C24: 100941 | D24: 수원우체국 | E24: 1016898 | F24: 김영호 | G24: 23470029 | H24: 22375777
A25: 11 | B25: 경인청 | C25: 100941 | D25: 수원우체국 | E25: 1021932 | F25: 이성자 | G25: 36302099 | H25: 26963543
A26: 11 | B26: 경인청 | C26: 100941 | D26: 수원우체국 | E26: 1022869 | F26: 고경자 | G26: 29442360 | H26: 27797889
A27: 합계 | G27: =SUM(G22:G26) -> 124606026 | H27: =SUM(H22:H26) -> 105741733
A30: 2015년
A31: 변동 세부내용
A32: 소 계 | B32: 81170.987
A33: 만수동우체국 | B33: 13343.532
A34: 조원애 | B34: 10156.236
A35: 유호정 | B35: 10283.636
A36: 기경옥 | B36: 33583.311
A37: 김민자 | B37: 9943.936
A38: 임경애 | B38: 3860.336

Sheet 목표배정
A1: 2016년 1분기 권텀이벤트 목표 배정
O2: (단위 : 천 원, %, 명)
A3: 구 분 | B3: 관서급 | C3: 배정기준 | L3: 2016년 목표 | Q3: 1분기 목표
C4: 최근3년간 실적(90%, 일시납제외) | H4: 사업환경(10%) | K4: 점유율 | L4: 산출금액 (A) | M4: 조정1 (그룹별 감소율 적용) (B) | N4: 차액 (C=A-B) | O4: 배정액 | P4: 점유비
C5: 2013년 (18%) | D5: 2014년 (27%) | E5: 2015년 (45%) | F5: 2015년 일시납포함 | G5: 2015년 일시납제외 | H5: 관서수 (3%) | I5: 보험모집 희망직원(3%) | J5: 우체국FC수 (4%)
C6: =SUM(C7:C47) -> 35315446 | D6: =SUM(D7:D47) -> 26988781 | E6: =SUM(E7:E47) -> 25947624 | F6: =SUM(F7:F47) -> 28016091 | G6: =SUM(G7:G47) -> 25947624 | H6: 391 | I6: 3229 | J6: 851 | K6: =SUM(K7:K47) -> 100 | L6: =SUM(L7:L47) -> 27704927 | M6: =SUM(M7:M47) -> #REF! | N6: =SUM(N7:N47) -> 0 | O6: =SUM(O7:O47) -> 27600000 | P6: 100 | Q6: =O6*40% -> 11040000
A7: 평택우체국 | B7: 4 | C7: =VLOOKUP(A7,'2013년실적'!$D$10:$G$50,4,0)/1000 -> 1113891.3 | D7: =VLOOKUP(A7,'2014년실적'!$D$10:$G$50,4,0)/1000 -> 844745.68 | E7: 801658.74 | F7: =VLOOKUP(A7,'2015년실적'!$D$10:$J$50,6,0)/1000 -> 875478.7 | G7: =VLOOKUP(A7,'2015년실적'!$D$10:$J$50,7,0)/1000 -> 801658.74 | H7: =VLOOKUP(A7,관서수!$A$3:$H$44,8,0) -> 19 | I7: =VLOOKUP(A7,보험모집희망직원!$B$14:$H$54,3,0) -> 147 | J7: =IFERROR(VLOOKUP(A7,우체국FC수!$B$3:$C$41,2,0),0) -> 15.5 | K7: =((C7/$C$6*0.18)+(D7/$D$6*0.27)+(E7/$E$6*0.45)+(H7/$H$6*0.03)+(I7/$I$6*0.03)+(J7/$J$6*0.04))*100 -> 3.1583356 | L7: =(K7*(27600000-$L$49))/(100-$K$49) -> 871700.61 | M7: =IF(#REF!<-10,#REF!*0.9,IF(AND(#REF!>=-10,#REF!<0),#REF!*0.92,IF(#REF!>0,#REF!*0.935))) -> #REF! | N7: =$M$49*K7/(100-$N$49) -> 0 | O7: 893767.12 | P7: =O7/$O$6*100 -> 3.2382867 | Q7: =O7*40% -> 357506.85
A8: 인천우체국 | B8: 4 | C8: =VLOOKUP(A8,'2013년실적'!$D$10:$G$50,4,0)/1000 -> 1012601.7 | D8: =VLOOKUP(A8,'2014년실적'!$D$10:$G$50,4,0)/1000 -> 724103.51 | E8: 659209.23 | F8: =VLOOKUP(A8,'2015년실적'!$D$10:$J$50,6,0)/1000 -> 710645.67 | G8: =VLOOKUP(A8,'2015년실적'!$D$10:$J$50,7,0)/1000 -> 659209.23 | H8: =VLOOKUP(A8,관서수!$A$3:$H$44,8,0) -> 19 | I8: =VLOOKUP(A8,보험모집희망직원!$B$14:$H$54,3,0) -> 116 | J8: =IFERROR(VLOOKUP(A8,우체국FC수!$B$3:$C$41,2,0),0) -> 23.852941 | K8: =((C8/$C$6*0.18)+(D8/$D$6*0.27)+(E8/$E$6*0.45)+(H8/$H$6*0.03)+(I8/$I$6*0.03)+(J8/$J$6*0.04))*100 -> 2.7494322 | L8: =(K8*(27600000-$L$49))/(100-$K$49) -> 758843.28 | M8: =IF(#REF!<-10,#REF!*0.9,IF(AND(#REF!>=-10,#REF!<0),#REF!*0.92,IF(#REF!>0,#REF!*0.935))) -> #REF! | N8: =$M$49*K8/(100-$N$49) -> 0 | O8: 772196.36 | P8: =O8/$O$6*100 -> 2.7978129 | Q8: =O8*40% -> 308878.54
A9: 부평우체국 | B9: 4 | C9: =VLOOKUP(A9,'2013년실적'!$D$10:$G$50,4,0)/1000 -> 1037177.4 | D9: =VLOOKUP(A9,'2014년실적'!$D$10:$G$50,4,0)/1000 -> 808004.23 | E9: 745040.92 | F9: =VLOOKUP(A9,'2015년실적'!$D$10:$J$50,6,0)/1000 -> 808721.08 | G9: =VLOOKUP(A9,'2015년실적'!$D$10:$J$50,7,0)/1000 -> 745040.92 | H9: =VLOOKUP(A9,관서수!$A$3:$H$44,8,0) -> 11 | I9: =VLOOKUP(A9,보험모집희망직원!$B$14:$H$54,3,0) -> 91 | J9: =IFERROR(VLOOKUP(A9,우체국FC수!$B$3:$C$41,2,0),0) -> 24.147059 | K9: =((C9/$C$6*0.18)+(D9/$D$6*0.27)+(E9/$E$6*0.45)+(H9/$H$6*0.03)+(I9/$I$6*0.03)+(J9/$J$6*0.04))*100 -> 2.9115229 | L9: =(K9*(27600000-$L$49))/(100-$K$49) -> 803580.31 | M9: =IF(#REF!<-10,#REF!*0.9,IF(AND(#REF!>=-10,#REF!<0),#REF!*0.92,IF(#REF!>0,#REF!*0.935))) -> #REF! | N9: =$M$49*K9/(100-$N$49) -> 0 | O9: 822235.7 | P9: =O9/$O$6*100 -> 2.9791148 | Q9: =O9*40% -> 328894.28
A10: 오산우체국 | B10: 5 | C10: =VLOOKUP(A10,'2013년실적'!$D$10:$G$50,4,0)/1000 -> 348306.45 | D10: =VLOOKUP(A10,'2014년실적'!$D$10:$G$50,4,0)/1000 -> 307578.13 | E10: 319610.49 | F10: =VLOOKUP(A10,'2015년실적'!$D$10:$J$50,6,0)/1000 -> 326797.95 | G10: =VLOOKUP(A10,'2015년실적'!$D$10:$J$50,7,0)/1000 -> 319610.49 | H10: =VLOOKUP(A10,관서수!$A$3:$H$44,8,0) -> 3 | I10: =VLOOKUP(A10,보험모집희망직원!$B$14:$H$54,3,0) -> 40 | J10: =IFERROR(VLOOKUP(A10,우체국FC수!$B$3:$C$41,2,0),0) -> 12.147059 | K10: =((C10/$C$6*0.18)+(D10/$D$6*0.27)+(E10/$E$6*0.45)+(H10/$H$6*0.03)+(I10/$I$6*0.03)+(J10/$J$6*0.04))*100 -> 1.1568002 | L10: =(K10*(27600000-$L$49))/(100-$K$49) -> 319276.84 | M10: =IF(#REF!<-10,#REF!*0.9,IF(AND(#REF!>=-10,#REF!<0),#REF!*0.92,IF(#REF!>0,#REF!*0.935))) -> #REF! | N10: =$M$49*K10/(100-$N$49) -> 0 | O10: 310881.31 | P10: =O10/$O$6*100 -> 1.1263816 | Q10: =O10*40% -> 124352.53
A11: 안성우체국 | B11: 4 | C11: =VLOOKUP(A11,'2013년실적'!$D$10:$G$50,4,0)/1000 -> 362447.49 | D11: =VLOOKUP(A11,'2014년실적'!$D$10:$G$50,4,0)/1000 -> 245304.02 | E11: 307020.3 | F11: =VLOOKUP(A11,'2015년실적'!$D$10:$J$50,6,0)/1000 -> 325288.3 | G11: =VLOOKUP(A11,'2015년실적'!$D$10:$J$50,7,0)/1000 -> 307020.3 | H11: =VLOOKUP(A11,관서수!$A$3:$H$44,8,0) -> 14 | I11: =VLOOKUP(A11,보험모집희망직원!$B$14:$H$54,3,0) -> 99 | J11: =IFERROR(VLOOKUP(A11,우체국FC수!$B$3:$C$41,2,0),0) -> 8.8823529 | K11: =((C11/$C$6*0.18)+(D11/$D$6*0.27)+(E11/$E$6*0.45)+(H11/$H$6*0.03)+(I11/$I$6*0.03)+(J11/$J$6*0.04))*100 -> 1.2037425 | L11: =(K11*(27600000-$L$49))/(100-$K$49) -> 332232.92 | M11: =IF(#REF!<-10,#REF!*0.9,IF(AND(#REF!>=-10,#REF!<0),#REF!*0.92,IF(#REF!>0,#REF!*0.935))) -> #REF! | N11: =$M$49*K11/(100-$N$49) -> 0 | O11: 257866.17 | P11: =O11/$O$6*100 -> 0.9342977 | Q11: =O11*40% -> 103146.47
A12: 가평우체국 | B12: 5 | C12: =VLOOKUP(A12,'2013년실적'!$D$10:$G$50,4,0)/1000 -> 156740.8 | D12: =VLOOKUP(A12,'2014년실적'!$D$10:$G$50,4,0)/1000 -> 82485.018 | E12: 89750.796 | F12: =VLOOKUP(A12,'2015년실적'!$D$10:$J$50,6,0)/1000 -> 106304.7 | G12: =VLOOKUP(A12,'2015년실적'!$D$10:$J$50,7,0)/1000 -> 89750.796 | H12: =VLOOKUP(A12,관서수!$A$3:$H$44,8,0) -> 6 | I12: =VLOOKUP(A12,보험모집희망직원!$B$14:$H$54,3,0) -> 64 | J12: =IFERROR(VLOOKUP(A12,우체국FC수!$B$3:$C$41,2,0),0) -> 1.5294118 | K12: =((C12/$C$6*0.18)+(D12/$D$6*0.27)+(E12/$E$6*0.45)+(H12/$H$6*0.03)+(I12/$I$6*0.03)+(J12/$J$6*0.04))*100 -> 0.43074602 | L12: =(K12*(27600000-$L$49))/(100-$K$49) -> 118885.9 | M12: =IF(#REF!<-10,#REF!*0.9,IF(AND(#REF!>=-10,#REF!<0),#REF!*0.92,IF(#REF!>0,#REF!*0.935))) -> #REF! | N12: =$M$49*K12/(100-$N$49) -> 0 | O12: 93864.265 | P12: =O12/$O$6*100 -> 0.34008792 | Q12: =O12*40% -> 37545.706
A13: 파주우체국 | B13: 4 | C13: =VLOOKUP(A13,'2013년실적'!$D$10:$G$50,4,0)/1000 -> 506501.05 | D13: =VLOOKUP(A13,'2014년실적'!$D$10:$G$50,4,0)/1000 -> 367571.43 | E13: 390301.29 | F13: =VLOOKUP(A13,'2015년실적'!$D$10:$J$50,6,0)/1000 -> 402374.92 | G13: =VLOOKUP(A13,'2015년실적'!$D$10:$J$50,7,0)/1000 -> 390301.29 | H13: =VLOOKUP(A13,관서수!$A$3:$H$44,8,0) -> 16 | I13: =VLOOKUP(A13,보험모집희망직원!$B$14:$H$54,3,0) -> 131 | J13: =IFERROR(VLOOKUP(A13,우체국FC수!$B$3:$C$41,2,0),0) -> 14.676471 | K13: =((C13/$C$6*0.18)+(D13/$D$6*0.27)+(E13/$E$6*0.45)+(H13/$H$6*0.03)+(I13/$I$6*0.03)+(J13/$J$6*0.04))*100 -> 1.616225 | L13: =(K13*(27600000-$L$49))/(100-$K$49) -> 446078.1 | M13: =IF(#REF!<-10,#REF!*0.9,IF(AND(#REF!>=-10,#REF!<0),#REF!*0.92,IF(#REF!>0,#REF!*0.935))) -> #REF! | N13: =$M$49*K13/(100-$N$49) -> 0 | O13: 397338.86 | P13: =O13/$O$6*100 -> 1.4396336 | Q13: =O13*40% -> 158935.54
A14: 강화우체국 | B14: 5 | C14: =VLOOKUP(A14,'2013년실적'!$D$10:$G$50,4,0)/1000 -> 249800.98 | D14: =VLOOKUP(A14,'2014년실적'!$D$10:$G$50,4,0)/1000 -> 109339.73 | E14: 87771.787 | F14: =VLOOKUP(A14,'2015년실적'!$D$10:$J$50,6,0)/1000 -> 105697.79 | G14: =VLOOKUP(A14,'2015년실적'!$D$10:$J$50,7,0)/1000 -> 87771.787 | H14: =VLOOKUP(A14,관서수!$A$3:$H$44,8,0) -> 13 | I14: =VLOOKUP(A14,보험모집희망직원!$B$14:$H$54,3,0) -> 88 | J14: =IFERROR(VLOOKUP(A14,우체국FC수!$B$3:$C$41,2,0),0) -> 2.7941176 | K14: =((C14/$C$6*0.18)+(D14/$D$6*0.27)+(E14/$E$6*0.45)+(H14/$H$6*0.03)+(I14/$I$6*0.03)+(J14/$J$6*0.04))*100 -> 0.58356273 | L14: =(K14*(27600000-$L$49))/(100-$K$49) -> 161063.31 | M14: =IF(#REF!<-10,#REF!*0.9,IF(AND(#REF!>=-10,#REF!<0),#REF!*0.92,IF(#REF!>0,#REF!*0.935))) -> #REF! | N14: =$M$49*K14/(100-$N$49) -> 0 | O14: 90435 | P14: =O14/$O$6*100 -> 0.32766304 | Q14: =O14*40% -> 36174
A15: 양평우체국 | B15: 5 | C15: =VLOOKUP(A15,'2013년실적'!$D$10:$G$50,4,0)/1000 -> 227113.06 | D15: =VLOOKUP(A15,'2014년실적'!$D$10:$G$50,4,0)/1000 -> 117588.84 | E15: 131958.89 | F15: =VLOOKUP(A15,'2015년실적'!$D$10:$J$50,6,0)/1000 -> 140041.85 | G15: =VLOOKUP(A15,'2015년실적'!$D$10:$J$50,7,0)/1000 -> 131958.89 | H15: =VLOOKUP(A15,관서수!$A$3:$H$44,8,0) -> 12 | I15: =VLOOKUP(A15,보험모집희망직원!$B$14:$H$54,3,0) -> 79 | J15: =IFERROR(VLOOKUP(A15,우체국FC수!$B$3:$C$41,2,0),0) -> 0.35294118 | K15: =((C15/$C$6*0.18)+(D15/$D$6*0.27)+(E15/$E$6*0.45)+(H15/$H$6*0.03)+(I15/$I$6*0.03)+(J15/$J$6*0.04))*100 -> 0.62937472 | L15: =(K15*(27600000-$L$49))/(100-$K$49) -> 173707.42 | M15: =IF(#REF!<-10,#REF!*0.9,IF(AND(#REF!>=-10,#REF!<0),#REF!*0.92,IF(#REF!>0,#REF!*0.935))) -> #REF! | N15: =$M$49*K15/(100-$N$49) -> 0 | O15: 131872.5 | P15: =O15/$O$6*100 -> 0.47779891 | Q15: =O15*40% -> 52748.999
A16: 경기광주우체국 | B16: 4 | C16: =VLOOKUP(A16,'2013년실적'!$D$10:$G$50,4,0)/1000 -> 464028.47 | D16: =VLOOKUP(A16,'2014년실적'!$D$10:$G$50,4,0)/1000 -> 356895.42 | E16: 336374.76 | F16: =VLOOKUP(A16,'2015년실적'!$D$10:$J$50,6,0)/1000 -> 350323.42 | G16: =VLOOKUP(A16,'2015년실적'!$D$10:$J$50,7,0)/1000 -> 336374.76 | H16: =VLOOKUP(A16,관서수!$A$3:$H$44,8,0) -> 7 | I16: =VLOOKUP(A16,보험모집희망직원!$B$14:$H$54,3,0) -> 45 | J16: =IFERROR(VLOOKUP(A16,우체국FC수!$B$3:$C$41,2,0),0) -> 14.205882 | K16: =((C16/$C$6*0.18)+(D16/$D$6*0.27)+(E16/$E$6*0.45)+(H16/$H$6*0.03)+(I16/$I$6*0.03)+(J16/$J$6*0.04))*100 -> 1.3392073 | L16: =(K16*(27600000-$L$49))/(100-$K$49) -> 369621.22 | M16: =IF(#REF!<-10,#REF!*0.9,IF(AND(#REF!>=-10,#REF!<0),#REF!*0.92,IF(#REF!>0,#REF!*0.935))) -> #REF! | N16: =$M$49*K16/(100-$N$49) -> 0 | O16: 360468.94 | P16: =O16/$O$6*100 -> 1.3060469 | Q16: =O16*40% -> 144187.58
A17: 여주우체국 | B17: 5 | C17: =VLOOKUP(A17,'2013년실적'!$D$10:$G$50,4,0)/1000 -> 293047.32 | D17: =VLOOKUP(A17,'2014년실적'!$D$10:$G$50,4,0)/1000 -> 223156.89 | E17: 220329.09 | F17: =VLOOKUP(A17,'2015년실적'!$D$10:$J$50,6,0)/1000 -> 231575.75 | G17: =VLOOKUP(A17,'2015년실적'!$D$10:$J$50,7,0)/1000 -> 220329.09 | H17: =VLOOKUP(A17,관서수!$A$3:$H$44,8,0) -> 9 | I17: =VLOOKUP(A17,보험모집희망직원!$B$14:$H$54,3,0) -> 86 | J17: =IFERROR(VLOOKUP(A17,우체국FC수!$B$3:$C$41,2,0),0) -> 6.9705882 | K17: =((C17/$C$6*0.18)+(D17/$D$6*0.27)+(E17/$E$6*0.45)+(H17/$H$6*0.03)+(I17/$I$6*0.03)+(J17/$J$6*0.04))*100 -> 0.93644091 | L17: =(K17*(27600000-$L$49))/(100-$K$49) -> 258457.69 | M17: =IF(#REF!<-10,#REF!*0.9,IF(AND(#REF!>=-10,#REF!<0),#REF!*0.92,IF(#REF!>0,#REF!*0.935))) -> #REF! | N17: =$M$49*K17/(100-$N$49) -> 0 | O17: 229887.81 | P17: =O17/$O$6*100 -> 0.83292685 | Q17: =O17*40% -> 91955.124
A18: 김포우체국 | B18: 4 | C18: =VLOOKUP(A18,'2013년실적'!$D$10:$G$50,4,0)/1000 -> 480601.03 | D18: =VLOOKUP(A18,'2014년실적'!$D$10:$G$50,4,0)/1000 -> 421034.6 | E18: 440041.59 | F18: =VLOOKUP(A18,'2015년실적'!$D$10:$J$50,6,0)/1000 -> 453285.17 | G18: =VLOOKUP(A18,'2015년실적'!$D$10:$J$50,7,0)/1000 -> 440041.59 | H18: =VLOOKUP(A18,관서수!$A$3:$H$44,8,0) -> 8 | I18: =VLOOKUP(A18,보험모집희망직원!$B$14:$H$54,3,0) -> 51 | J18: =IFERROR(VLOOKUP(A18,우체국FC수!$B$3:$C$41,2,0),0) -> 14.617647 | K18: =((C18/$C$6*0.18)+(D18/$D$6*0.27)+(E18/$E$6*0.45)+(H18/$H$6*0.03)+(I18/$I$6*0.03)+(J18/$J$6*0.04))*100 -> 1.6067881 | L18: =(K18*(27600000-$L$49))/(100-$K$49) -> 443473.53 | M18: =IF(#REF!<-10,#REF!*0.9,IF(AND(#REF!>=-10,#REF!<0),#REF!*0.92,IF(#REF!>0,#REF!*0.935))) -> #REF! | N18: =$M$49*K18/(100-$N$49) -> 0 | O18: 426691.57 | P18: =O18/$O$6*100 -> 1.5459839 | Q18: =O18*40% -> 170676.63
... A30: 광명우체국 | B30: 4 | C30: =VLOOKUP(A30,'2013년실적'!$D$10:$G$50,4,0)/1000 -> 1151300.2 | D30: =VLOOKUP(A30,'2014년실적'!$D$10:$G$50,4,0)/1000 -> 947904.9 | E30: 770271.48 | F30: =VLOOKUP(A30,'2015년실적'!$D$10:$J$50,6,0)/1000 -> 836978.23 | G30: =VLOOKUP(A30,'2015년실적'!$D$10:$J$50,7,0)/1000 -> 770271.48 | H30: =VLOOKUP(A30,관서수!$A$3:$H$44,8,0) -> 7 | I30: =VLOOKUP(A30,보험모집희망직원!$B$14:$H$54,3,0) -> 51 | J30: =IFERROR(VLOOKUP(A30,우체국FC수!$B$3:$C$41,2,0),0) -> 29.882353 | K30: =((C30/$C$6*0.18)+(D30/$D$6*0.27)+(E30/$E$6*0.45)+(H30/$H$6*0.03)+(I30/$I$6*0.03)+(J30/$J$6*0.04))*100 -> 3.1125097 | L30: =(K30*(27600000-$L$49))/(100-$K$49) -> 859052.68 | M30: =IF(#REF!<-10,#REF!*0.9,IF(AND(#REF!>=-10,#REF!<0),#REF!*0.92,IF(#REF!>0,#REF!*0.935))) -> #REF! | N30: =$M$49*K30/(100-$N$49) -> 0 | O30: 927822.99 | P30: =O30/$O$6*100 -> 3.3616775 | Q30: =O30*40% -> 371129.2
A31: 남인천우체국 | B31: 4 | C31: 1059098 | D31: 669546 | E31: 591528 | F31: =VLOOKUP(A31,'2015년실적'!$D$10:$J$50,6,0)/1000 -> 708860.01 | G31: 591528 | H31: =VLOOKUP(A31,관서수!$A$3:$H$44,8,0) -> 6 | I31: =VLOOKUP(A31,보험모집희망직원!$B$14:$H$54,3,0) -> 62 | J31: =IFERROR(VLOOKUP(A31,우체국FC수!$B$3:$C$41,2,0),0) -> 25.588235 | K31: =((C31/$C$6*0.18)+(D31/$D$6*0.27)+(E31/$E$6*0.45)+(H31/$H$6*0.03)+(I31/$I$6*0.03)+(J31/$J$6*0.04))*100 -> 2.4594156 | L31: =(K31*(27600000-$L$49))/(100-$K$49) -> 678798.71 | M31: 677163.98 | O31: 676151 | P31: =O31/$O$6*100 -> 2.4498225 | Q31: =O31*40% -> 270460.4
A32: 인천남동우체국 | B32: 4 | C32: 356726.17 | D32: 267702.53 | E32: 257353.66 | F32: =VLOOKUP(A32,'2015년실적'!$D$10:$J$50,6,0)/1000 -> 212270.79 | G32: 257353.66 | H32: =VLOOKUP(A32,관서수!$A$3:$H$44,8,0) -> 9 | I32: =VLOOKUP(A32,보험모집희망직원!$B$14:$H$54,3,0) -> 55 | J32: =IFERROR(VLOOKUP(A32,우체국FC수!$B$3:$C$41,2,0),0) -> 8.6666667 | K32: =((C32/$C$6*0.18)+(D32/$D$6*0.27)+(E32/$E$6*0.45)+(H32/$H$6*0.03)+(I32/$I$6*0.03)+(J32/$J$6*0.04))*100 -> 1.0568427 | L32: =신설관서참고자료!F8/1000 -> 318432.19 | M32: 318432.19 | O32: 318432.19 | P32: =O32/$O$6*100 -> 1.1537398 | Q32: =O32*40% -> 127372.88
A33: 안산우체국 | B33: 4 | C33: =VLOOKUP(A33,'2013년실적'!$D$10:$G$50,4,0)/1000 -> 2149842.8 | D33: =VLOOKUP(A33,'2014년실적'!$D$10:$G$50,4,0)/1000 -> 1766157.4 | E33: 1586634.7 | F33: =VLOOKUP(A33,'2015년실적'!$D$10:$J$50,6,0)/1000 -> 1708669.1 | G33: =VLOOKUP(A33,'2015년실적'!$D$10:$J$50,7,0)/1000 -> 1586634.7 | H33: =VLOOKUP(A33,관서수!$A$3:$H$44,8,0) -> 14 | I33: =VLOOKUP(A33,보험모집희망직원!$B$14:$H$54,3,0) -> 93 | J33: =IFERROR(VLOOKUP(A33,우체국FC수!$B$3:$C$41,2,0),0) -> 47.411765 | K33: =((C33/$C$6*0.18)+(D33/$D$6*0.27)+(E33/$E$6*0.45)+(H33/$H$6*0.03)+(I33/$I$6*0.03)+(J33/$J$6*0.04))*100 -> 6.0309641 | L33: =(K33*(27600000-$L$49))/(100-$K$49) -> 1664546.1 | M33: =IF(#REF!<-10,#REF!*0.9,IF(AND(#REF!>=-10,#REF!<0),#REF!*0.92,IF(#REF!>0,#REF!*0.935))) -> #REF! | N33: =$M$49*K33/(100-$N$49) -> 0 | O33: 1745105.6 | P33: =O33/$O$6*100 -> 6.3228465 | Q33: =O33*40% -> 698042.26
A34: 수원우체국 | B34: 4 | C34: 1428596 | D34: 1194488 | E34: 1215798.7 | F34: 1268938.8 | G34: 1215798.7 | H34: =VLOOKUP(A34,관서수!$A$3:$H$44,8,0) -> 9 | I34: =VLOOKUP(A34,보험모집희망직원!$B$14:$H$54,3,0) -> 82 | J34: =IFERROR(VLOOKUP(A34,우체국FC수!$B$3:$C$41,2,0),0) -> 40.529412 | K34: =((C34/$C$6*0.18)+(D34/$D$6*0.27)+(E34/$E$6*0.45)+(H34/$H$6*0.03)+(I34/$I$6*0.03)+(J34/$J$6*0.04))*100 -> 4.3673837 | L34: =(K34*(27600000-$L$49))/(100-$K$49) -> 1205397.9 | M34: =IF(#REF!<-10,#REF!*0.9,IF(AND(#REF!>=-10,#REF!<0),#REF!*0.92,IF(#REF!>0,#REF!*0.935))) -> #REF! | N34: =$M$49*K34/(100-$N$49) -> 0 | O34: 1205752.5 | P34: =O34/$O$6*100 -> 4.3686684 | Q34: =O34*40% -> 482300.99
A35: 서수원우체국 | B35: 4 | C35: 401709.87 | D35: 316118.51 | E35: 441454.31 | F35: 459323.07 | G35: 441454.31 | H35: =VLOOKUP(A35,관서수!$A$3:$H$44,8,0) -> 4 | I35: =VLOOKUP(A35,보험모집희망직원!$B$14:$H$54,3,0) -> 98 | J35: =IFERROR(VLOOKUP(A35,우체국FC수!$B$3:$C$41,2,0),0) -> 11.333333 | K35: =((C35/$C$6*0.18)+(D35/$D$6*0.27)+(E35/$E$6*0.45)+(H35/$H$6*0.03)+(I35/$I$6*0.03)+(J35/$J$6*0.04))*100 -> 1.4616071 | L35: =신설관서참고자료!F5/1000 -> 481586.52 | M35: 481586.52 | O35: 481586.52 | P35: =O35/$O$6*100 -> 1.7448787 | Q35: =O35*40% -> 192634.61
A36: 동수원우체국 | B36: 4 | C36: 1437204 | D36: 1139477 | E36: 1148126.6 | F36: 1191618.6 | G36: 1148126.6 | H36: =VLOOKUP(A36,관서수!$A$3:$H$44,8,0) -> 9 | I36: =VLOOKUP(A36,보험모집희망직원!$B$14:$H$54,3,0) -> 58 | J36: =IFERROR(VLOOKUP(A36,우체국FC수!$B$3:$C$41,2,0),0) -> 46.882353 | K36: =((C36/$C$6*0.18)+(D36/$D$6*0.27)+(E36/$E$6*0.45)+(H36/$H$6*0.03)+(I36/$I$6*0.03)+(J36/$J$6*0.04))*100 -> 4.2069393 | L36: =(K36*(27600000-$L$49))/(100-$K$49) -> 1161115.2 | M36: =IF(#REF!<-10,#REF!*0.9,IF(AND(#REF!>=-10,#REF!<0),#REF!*0.92,IF(#REF!>0,#REF!*0.935))) -> #REF! | N36: =$M$49*K36/(100-$N$49) -> 0 | O36: 1130668.6 | P36: =O36/$O$6*100 -> 4.0966254 | Q36: =O36*40% -> 452267.44
A37: 군포우체국 | B37: 4 | C37: =VLOOKUP(A37,'2013년실적'!$D$10:$G$50,4,0)/1000 -> 1271157.7 | D37: =VLOOKUP(A37,'2014년실적'!$D$10:$G$50,4,0)/1000 -> 1003124.4 | E37: 858731.9 | F37: =VLOOKUP(A37,'2015년실적'!$D$10:$J$50,6,0)/1000 -> 930794.13 | G37: =VLOOKUP(A37,'2015년실적'!$D$10:$J$50,7,0)/1000 -> 858731.9 | H37: =VLOOKUP(A37,관서수!$A$3:$H$44,8,0) -> 8 | I37: =VLOOKUP(A37,보험모집희망직원!$B$14:$H$54,3,0) -> 84 | J37: =IFERROR(VLOOKUP(A37,우체국FC수!$B$3:$C$41,2,0),0) -> 32.794118 | K37: =((C37/$C$6*0.18)+(D37/$D$6*0.27)+(E37/$E$6*0.45)+(H37/$H$6*0.03)+(I37/$I$6*0.03)+(J37/$J$6*0.04))*100 -> 3.4342748 | L37: =(K37*(27600000-$L$49))/(100-$K$49) -> 947859.84 | M37: =IF(#REF!<-10,#REF!*0.9,IF(AND(#REF!>=-10,#REF!<0),#REF!*0.92,IF(#REF!>0,#REF!*0.935))) -> #REF! | N37: =$M$49*K37/(100-$N$49) -> 0 | O37: 994985.92 | P37: =O37/$O$6*100 -> 3.6050215 | Q37: =O37*40% -> 397994.37
A38: 안양우체국 | B38: 4 | C38: =VLOOKUP(A38,'2013년실적'!$D$10:$G$50,4,0)/1000 -> 1924020.6 | D38: =VLOOKUP(A38,'2014년실적'!$D$10:$G$50,4,0)/1000 -> 1622562.1 | E38: 1585468.7 | F38: =VLOOKUP(A38,'2015년실적'!$D$10:$J$50,6,0)/1000 -> 1723781.4 | G38: =VLOOKUP(A38,'2015년실적'!$D$10:$J$50,7,0)/1000 -> 1585468.7 | H38: =VLOOKUP(A38,관서수!$A$3:$H$44,8,0) -> 10 | I38: =VLOOKUP(A38,보험모집희망직원!$B$14:$H$54,3,0) -> 83 | J38: =IFERROR(VLOOKUP(A38,우체국FC수!$B$3:$C$41,2,0),0) -> 41.352941 | K38: =((C38/$C$6*0.18)+(D38/$D$6*0.27)+(E38/$E$6*0.45)+(H38/$H$6*0.03)+(I38/$I$6*0.03)+(J38/$J$6*0.04))*100 -> 5.7017273 | L38: =(K38*(27600000-$L$49))/(100-$K$49) -> 1573676.7 | M38: =IF(#REF!<-10,#REF!*0.9,IF(AND(#REF!>=-10,#REF!<0),#REF!*0.92,IF(#REF!>0,#REF!*0.935))) -> #REF! | N38: =$M$49*K38/(100-$N$49) -> 0 | O38: 1609939.3 | P38: =O38/$O$6*100 -> 5.8331135 | Q38: =O38*40% -> 643975.73
A39: 성남분당우체국 | B39: 4 | C39: =VLOOKUP(A39,'2013년실적'!$D$10:$G$50,4,0)/1000 -> 1081765 | D39: =VLOOKUP(A39,'2014년실적'!$D$10:$G$50,4,0)/1000 -> 832904.3 | E39: 747250.54 | F39: =VLOOKUP(A39,'2015년실적'!$D$10:$J$50,6,0)/1000 -> 916830.92 | G39: =VLOOKUP(A39,'2015년실적'!$D$10:$J$50,7,0)/1000 -> 747250.54 | H39: =VLOOKUP(A39,관서수!$A$3:$H$44,8,0) -> 9 | I39: =VLOOKUP(A39,보험모집희망직원!$B$14:$H$54,3,0) -> 88 | J39: =IFERROR(VLOOKUP(A39,우체국FC수!$B$3:$C$41,2,0),0) -> 26.911765 | K39: =((C39/$C$6*0.18)+(D39/$D$6*0.27)+(E39/$E$6*0.45)+(H39/$H$6*0.03)+(I39/$I$6*0.03)+(J39/$J$6*0.04))*100 -> 2.9578539 | L39: =(K39*(27600000-$L$49))/(100-$K$49) -> 816367.67 | M39: =IF(#REF!<-10,#REF!*0.9,IF(AND(#REF!>=-10,#REF!<0),#REF!*0.92,IF(#REF!>0,#REF!*0.935))) -> #REF! | N39: =$M$49*K39/(100-$N$49) -> 0 | O39: 826699.17 | P39: =O39/$O$6*100 -> 2.9952868 | Q39: =O39*40% -> 330679.67
A40: 고양일산우체국 | B40: 4 | C40: =VLOOKUP(A40,'2013년실적'!$D$10:$G$50,4,0)/1000 -> 1219680.1 | D40: =VLOOKUP(A40,'2014년실적'!$D$10:$G$50,4,0)/1000 -> 976659.48 | E40: 941360.33 | F40: =VLOOKUP(A40,'2015년실적'!$D$10:$J$50,6,0)/1000 -> 1027317.7 | G40: =VLOOKUP(A40,'2015년실적'!$D$10:$J$50,7,0)/1000 -> 941360.33 | H40: =VLOOKUP(A40,관서수!$A$3:$H$44,8,0) -> 9 | I40: =VLOOKUP(A40,보험모집희망직원!$B$14:$H$54,3,0) -> 85 | J40: =IFERROR(VLOOKUP(A40,우체국FC수!$B$3:$C$41,2,0),0) -> 29.941176 | K40: =((C40/$C$6*0.18)+(D40/$D$6*0.27)+(E40/$E$6*0.45)+(H40/$H$6*0.03)+(I40/$I$6*0.03)+(J40/$J$6*0.04))*100 -> 3.5200525 | L40: =(K40*(27600000-$L$49))/(100-$K$49) -> 971534.49 | M40: =IF(#REF!<-10,#REF!*0.9,IF(AND(#REF!>=-10,#REF!<0),#REF!*0.92,IF(#REF!>0,#REF!*0.935))) -> #REF! | N40: =$M$49*K40/(100-$N$49) -> 0 | O40: 989503.72 | P40: =O40/$O$6*100 -> 3.5851584 | Q40: =O40*40% -> 395801.49
A41: 서인천우체국 | B41: 4 | C41: =VLOOKUP(A41,'2013년실적'!$D$10:$G$50,4,0)/1000 -> 1218594.2 | D41: =VLOOKUP(A41,'2014년실적'!$D$10:$G$50,4,0)/1000 -> 909598.83 | E41: 843996.75 | F41: =VLOOKUP(A41,'2015년실적'!$D$10:$J$50,6,0)/1000 -> 869203.18 | G41: =VLOOKUP(A41,'2015년실적'!$D$10:$J$50,7,0)/1000 -> 843996.75 | H41: =VLOOKUP(A41,관서수!$A$3:$H$44,8,0) -> 8 | I41: =VLOOKUP(A41,보험모집희망직원!$B$14:$H$54,3,0) -> 59 | J41: =IFERROR(VLOOKUP(A41,우체국FC수!$B$3:$C$41,2,0),0) -> 30.441176 | K41: =((C41/$C$6*0.18)+(D41/$D$6*0.27)+(E41/$E$6*0.45)+(H41/$H$6*0.03)+(I41/$I$6*0.03)+(J41/$J$6*0.04))*100 -> 3.2540779 | L41: =(K41*(27600000-$L$49))/(100-$K$49) -> 898125.5 | M41: =IF(#REF!<-10,#REF!*0.9,IF(AND(#REF!>=-10,#REF!<0),#REF!*0.92,IF(#REF!>0,#REF!*0.935))) -> #REF! | N41: =$M$49*K41/(100-$N$49) -> 0 | O41: 956844.12 | P41: =O41/$O$6*100 -> 3.4668265 | Q41: =O41*40% -> 382737.65
A42: 부천우체국 | B42: 4 | C42: =VLOOKUP(A42,'2013년실적'!$D$10:$G$50,4,0)/1000 -> 2143872.4 | D42: =VLOOKUP(A42,'2014년실적'!$D$10:$G$50,4,0)/1000 -> 1592701.8 | E42: 1544030.5 | F42: =VLOOKUP(A42,'2015년실적'!$D$10:$J$50,6,0)/1000 -> 1818866.2 | G42: =VLOOKUP(A42,'2015년실적'!$D$10:$J$50,7,0)/1000 -> 1544030.5 | H42: =VLOOKUP(A42,관서수!$A$3:$H$44,8,0) -> 16 | I42: =VLOOKUP(A42,보험모집희망직원!$B$14:$H$54,3,0) -> 110 | J42: =IFERROR(VLOOKUP(A42,우체국FC수!$B$3:$C$41,2,0),0) -> 44.441176 | K42: =((C42/$C$6*0.18)+(D42/$D$6*0.27)+(E42/$E$6*0.45)+(H42/$H$6*0.03)+(I42/$I$6*0.03)+(J42/$J$6*0.04))*100 -> 5.7976834 | L42: =(K42*(27600000-$L$49))/(100-$K$49) -> 1600160.6 | M42: =IF(#REF!<-10,#REF!*0.9,IF(AND(#REF!>=-10,#REF!<0),#REF!*0.92,IF(#REF!>0,#REF!*0.935))) -> #REF! | N42: =$M$49*K42/(100-$N$49) -> 0 | O42: 1664572 | P42: =O42/$O$6*100 -> 6.0310581 | Q42: =O42*40% -> 665828.82
A43: 고양덕양우체국 | B43: 4 | C43: =VLOOKUP(A43,'2013년실적'!$D$10:$G$50,4,0)/1000 -> 929047.17 | D43: =VLOOKUP(A43,'2014년실적'!$D$10:$G$50,4,0)/1000 -> 589333.77 | E43: 574219.05 | F43: =VLOOKUP(A43,'2015년실적'!$D$10:$J$50,6,0)/1000 -> 633797.8 | G43: =VLOOKUP(A43,'2015년실적'!$D$10:$J$50,7,0)/1000 -> 574219.05 | H43: =VLOOKUP(A43,관서수!$A$3:$H$44,8,0) -> 10 | I43: =VLOOKUP(A43,보험모집희망직원!$B$14:$H$54,3,0) -> 82 | J43: =IFERROR(VLOOKUP(A43,우체국FC수!$B$3:$C$41,2,0),0) -> 21.794118 | K43: =((C43/$C$6*0.18)+(D43/$D$6*0.27)+(E43/$E$6*0.45)+(H43/$H$6*0.03)+(I43/$I$6*0.03)+(J43/$J$6*0.04))*100 -> 2.3143043 | L43: =(K43*(27600000-$L$49))/(100-$K$49) -> 638748 | M43: =IF(#REF!<-10,#REF!*0.9,IF(AND(#REF!>=-10,#REF!<0),#REF!*0.92,IF(#REF!>0,#REF!*0.935))) -> #REF! | N43: =$M$49*K43/(100-$N$49) -> 0 | O43: 622652.66 | P43: =O43/$O$6*100 -> 2.2559879 | Q43: =O43*40% -> 249061.06
A44: 인천계양우체국 | B44: 4 | C44: =VLOOKUP(A44,'2013년실적'!$D$10:$G$50,4,0)/1000 -> 598113.05 | D44: =VLOOKUP(A44,'2014년실적'!$D$10:$G$50,4,0)/1000 -> 451701.62 | E44: 433496.33 | F44: =VLOOKUP(A44,'2015년실적'!$D$10:$J$50,6,0)/1000 -> 468711.87 | G44: =VLOOKUP(A44,'2015년실적'!$D$10:$J$50,7,0)/1000 -> 433496.33 | H44: =VLOOKUP(A44,관서수!$A$3:$H$44,8,0) -> 5 | I44: =VLOOKUP(A44,보험모집희망직원!$B$14:$H$54,3,0) -> 56 | J44: =IFERROR(VLOOKUP(A44,우체국FC수!$B$3:$C$41,2,0),0) -> 17.558824 | K44: =((C44/$C$6*0.18)+(D44/$D$6*0.27)+(E44/$E$6*0.45)+(H44/$H$6*0.03)+(I44/$I$6*0.03)+(J44/$J$6*0.04))*100 -> 1.6814637 | L44: =(K44*(27600000-$L$49))/(100-$K$49) -> 464083.98 | M44: =IF(#REF!<-10,#REF!*0.9,IF(AND(#REF!>=-10,#REF!<0),#REF!*0.92,IF(#REF!>0,#REF!*0.935))) -> #REF! | N44: =$M$49*K44/(100-$N$49) -> 0 | O44: 472050.26 | P44: =O44/$O$6*100 -> 1.710327 | Q44: =O44*40% -> 188820.1
A45: 용인수지우체국 | B45: 4 | C45: =VLOOKUP(A45,'2013년실적'!$D$10:$G$50,4,0)/1000 -> 580388.72 | D45: =VLOOKUP(A45,'2014년실적'!$D$10:$G$50,4,0)/1000 -> 462487.4 | E45: 422213.53 | F45: =VLOOKUP(A45,'2015년실적'!$D$10:$J$50,6,0)/1000 -> 491352.31 | G45: =VLOOKUP(A45,'2015년실적'!$D$10:$J$50,7,0)/1000 -> 422213.53 | H45: =VLOOKUP(A45,관서수!$A$3:$H$44,8,0) -> 6 | I45: =VLOOKUP(A45,보험모집희망직원!$B$14:$H$54,3,0) -> 70 | J45: =IFERROR(VLOOKUP(A45,우체국FC수!$B$3:$C$41,2,0),0) -> 18.617647 | K45: =((C45/$C$6*0.18)+(D45/$D$6*0.27)+(E45/$E$6*0.45)+(H45/$H$6*0.03)+(I45/$I$6*0.03)+(J45/$J$6*0.04))*100 -> 1.6893093 | L45: =(K45*(27600000-$L$49))/(100-$K$49) -> 466249.36 | M45: =IF(#REF!<-10,#REF!*0.9,IF(AND(#REF!>=-10,#REF!<0),#REF!*0.92,IF(#REF!>0,#REF!*0.935))) -> #REF! | N45: =$M$49*K45/(100-$N$49) -> 0 | O45: 468456.24 | P45: =O45/$O$6*100 -> 1.6973052 | Q45: =O45*40% -> 187382.49
A46: 남양주우체국 | B46: 4 | C46: =VLOOKUP(A46,'2013년실적'!$D$10:$G$50,4,0)/1000 -> 1022872.9 | D46: =VLOOKUP(A46,'2014년실적'!$D$10:$G$50,4,0)/1000 -> 756404.94 | E46: 667232.58 | F46: =VLOOKUP(A46,'2015년실적'!$D$10:$J$50,6,0)/1000 -> 706440.07 | G46: =VLOOKUP(A46,'2015년실적'!$D$10:$J$50,7,0)/1000 -> 667232.58 | H46: =VLOOKUP(A46,관서수!$A$3:$H$44,8,0) -> 10 | I46: =VLOOKUP(A46,보험모집희망직원!$B$14:$H$54,3,0) -> 77 | J46: =IFERROR(VLOOKUP(A46,우체국FC수!$B$3:$C$41,2,0),0) -> 25.323529 | K46: =((C46/$C$6*0.18)+(D46/$D$6*0.27)+(E46/$E$6*0.45)+(H46/$H$6*0.03)+(I46/$I$6*0.03)+(J46/$J$6*0.04))*100 -> 2.7025212 | L46: =(K46*(27600000-$L$49))/(100-$K$49) -> 745895.84 | M46: =IF(#REF!<-10,#REF!*0.9,IF(AND(#REF!>=-10,#REF!<0),#REF!*0.92,IF(#REF!>0,#REF!*0.935))) -> #REF! | N46: =$M$49*K46/(100-$N$49) -> 0 | O46: 792119.85 | P46: =O46/$O$6*100 -> 2.8699995 | Q46: =O46*40% -> 316847.94
A47: 화성우체국 | B47: 4 | C47: =VLOOKUP(A47,'2013년실적'!$D$10:$G$50,4,0)/1000 -> 771217.92 | D47: =VLOOKUP(A47,'2014년실적'!$D$10:$G$50,4,0)/1000 -> 574114.85 | E47: 558759.03 | F47: =VLOOKUP(A47,'2015년실적'!$D$10:$J$50,6,0)/1000 -> 592792.65 | G47: =VLOOKUP(A47,'2015년실적'!$D$10:$J$50,7,0)/1000 -> 558759.03 | H47: =VLOOKUP(A47,관서수!$A$3:$H$44,8,0) -> 17 | I47: =VLOOKUP(A47,보험모집희망직원!$B$14:$H$54,3,0) -> 165 | J47: =IFERROR(VLOOKUP(A47,우체국FC수!$B$3:$C$41,2,0),0) -> 18.264706 | K47: =((C47/$C$6*0.18)+(D47/$D$6*0.27)+(E47/$E$6*0.45)+(H47/$H$6*0.03)+(I47/$I$6*0.03)+(J47/$J$6*0.04))*100 -> 2.3060557 | L47: =(K47*(27600000-$L$49))/(100-$K$49) -> 636471.37 | M47: 590128 | O47: 593989 | P47: =O47/$O$6*100 -> 2.1521341 | Q47: =O47*40% -> 237595.6

Sheet FC 이동실적 반영
C1: 2016년도 경인청 보험사업 영업목표 산출근거
A4: 구 분 | B4: 배정기준 | I4: 2016년 목표액
B5: 최근3년간 실적 | E5: 관서수 (3%) | F5: 보험모집 희망직원 (3%) | G5: 우체국FC수 (4%) | H5: 점유율 | I5: 16년 목표 | J5: 15년 목표대비 | O5: 15년 실적대비 (1~11월정산,12월환산)
B6: 2013년 (18%) | C6: 2014년 (27%) | D6: 2015년 (45%) | J6: 금액 | K6: 점유율 | L6: 점유율증감 | M6: 금액 | N6: 증감률 | O6: 실적 (12월만 환산) | P6: 금액 | Q6: 금액증감률
A7: 합 계 | B7: =SUM(B8:B31,B34:B35,B39:B50) -> 35315446 | C7: =SUM(C8:C31,C34:C35,C39:C50) -> 26988781 | D7: =SUM(D8:D31,D34:D35,D39:D50) -> 28016091 | E7: =SUM(E8:E31,E34:E35,E39:E50) -> 391 | F7: =SUM(F8:F31,F34:F35,F39:F50) -> 3229 | G7: =SUM(G8:G31,G34:G35,G39:G50) -> 851 | H7: =SUM(H8:H31,H34:H35,H39:H50) -> 100 | I7: =SUM(I8:I31,I34:I35,I39:I50) -> 27600000 | ... K7: =SUM(K8:K31,K34:K35,K39:K50) -> 100 | M7: =SUM(M8:M31,M34:M35,M39:M50) -> -2500000 | O7: =SUM(O8:O31,O34:O35,O39:O50) -> 29516514 | P7: =SUM(P8:P31,P34:P35,P39:P50) -> -1916514
A8: 평택우체국 | B8: 1113891.3 | C8: 844745.68 | D8: 875478.7 | E8: =VLOOKUP(A8,관서수!$A$3:$H$44,8,0) -> 19 | F8: =VLOOKUP(A8,보험모집희망직원!$B$14:$H$54,3,0) -> 147 | G8: =IFERROR(VLOOKUP(A8,우체국FC수!$B$3:$C$41,2,0),0) -> 15.5 | H8: =((B8/$B$7*0.18)+(C8/$C$7*0.27)+(D8/$D$7*0.45)+(E8/$E$7*0.03)+(F8/$F$7*0.03)+(G8/$G$7*0.04))*100 -> 3.1742598 | I8: =H8*27600000/100 -> 876095.71 | J8: =VLOOKUP(A8,'2015년목표'!$B$2:$C$43,2,0) -> 960602 | K8: =J8/30100000% -> 3.1913688 | L8: =H8-K8 -> -0.017108951 | M8: =I8-J8 -> -84506.29 | N8: =M8/J8% -> -8.7972219 | O8: =VLOOKUP(A8,[1]관서별실적!$S$5:$V$45,4,0)/1000 -> 925132.11 | P8: =I8-O8 -> -49036.405 | Q8: =P8/O8% -> -5.3004759
A9: 인천우체국 | B9: 1012601.7 | C9: 724103.51 | D9: 710645.67 | E9: =VLOOKUP(A9,관서수!$A$3:$H$44,8,0) -> 19 | F9: =VLOOKUP(A9,보험모집희망직원!$B$14:$H$54,3,0) -> 116 | G9: =IFERROR(VLOOKUP(A9,우체국FC수!$B$3:$C$41,2,0),0) -> 23.852941 | H9: =((B9/$B$7*0.18)+(C9/$C$7*0.27)+(D9/$D$7*0.45)+(E9/$E$7*0.03)+(F9/$F$7*0.03)+(G9/$G$7*0.04))*100 -> 2.7476432 | I9: =H9*27600000/100 -> 758349.53 | J9: =VLOOKUP(A9,'2015년목표'!$B$2:$C$43,2,0) -> 829869 | K9: =J9/30100000% -> 2.7570399 | L9: =H9-K9 -> -0.0093966302 | M9: =I9-J9 -> -71519.467 | N9: =M9/J9% -> -8.6181634 | O9: =VLOOKUP(A9,[1]관서별실적!$S$5:$V$45,4,0)/1000 -> 750918.56 | P9: =I9-O9 -> 7430.9764 | Q9: =P9/O9% -> 0.98958486
A10: 부평우체국 | B10: 1037177.4 | C10: 808004.23 | D10: 808721.08 | E10: =VLOOKUP(A10,관서수!$A$3:$H$44,8,0) -> 11 | F10: =VLOOKUP(A10,보험모집희망직원!$B$14:$H$54,3,0) -> 91 | G10: =IFERROR(VLOOKUP(A10,우체국FC수!$B$3:$C$41,2,0),0) -> 24.147059 | H10: =((B10/$B$7*0.18)+(C10/$C$7*0.27)+(D10/$D$7*0.45)+(E10/$E$7*0.03)+(F10/$F$7*0.03)+(G10/$G$7*0.04))*100 -> 2.9184099 | I10: =H10*27600000/100 -> 805481.13 | J10: =VLOOKUP(A10,'2015년목표'!$B$2:$C$43,2,0) -> 883701 | K10: =J10/30100000% -> 2.9358837 | L10: =H10-K10 -> -0.017473824 | M10: =I10-J10 -> -78219.869 | N10: =M10/J10% -> -8.8513953 | O10: =VLOOKUP(A10,[1]관서별실적!$S$5:$V$45,4,0)/1000 -> 859158.87 | P10: =I10-O10 -> -53677.739 | Q10: =P10/O10% -> -6.2477081
A11: 오산우체국 | B11: 348306.45 | C11: 307578.13 | D11: 326797.95 | E11: =VLOOKUP(A11,관서수!$A$3:$H$44,8,0) -> 3 | F11: =VLOOKUP(A11,보험모집희망직원!$B$14:$H$54,3,0) -> 40 | G11: =IFERROR(VLOOKUP(A11,우체국FC수!$B$3:$C$41,2,0),0) -> 12.147059 | H11: =((B11/$B$7*0.18)+(C11/$C$7*0.27)+(D11/$D$7*0.45)+(E11/$E$7*0.03)+(F11/$F$7*0.03)+(G11/$G$7*0.04))*100 -> 1.1274209 | I11: =H11*27600000/100 -> 311168.17 | J11: =VLOOKUP(A11,'2015년목표'!$B$2:$C$43,2,0) -> 333928 | K11: =J11/30100000% -> 1.1093953 | L11: =H11-K11 -> 0.01802556 | M11: =I11-J11 -> -22759.829 | N11: =M11/J11% -> -6.8157894 | O11: =VLOOKUP(A11,[1]관서별실적!$S$5:$V$45,4,0)/1000 -> 341160.02 | P11: =I11-O11 -> -29991.845 | Q11: =P11/O11% -> -8.7911372
A12: 안성우체국 | B12: 362447.49 | C12: 245304.02 | D12: 325288.3 | E12: =VLOOKUP(A12,관서수!$A$3:$H$44,8,0) -> 14 | F12: =VLOOKUP(A12,보험모집희망직원!$B$14:$H$54,3,0) -> 99 | G12: =IFERROR(VLOOKUP(A12,우체국FC수!$B$3:$C$41,2,0),0) -> 8.8823529 | H12: =((B12/$B$7*0.18)+(C12/$C$7*0.27)+(D12/$D$7*0.45)+(E12/$E$7*0.03)+(F12/$F$7*0.03)+(G12/$G$7*0.04))*100 -> 1.1937731 | I12: =H12*27600000/100 -> 329481.37 | J12: =VLOOKUP(A12,'2015년목표'!$B$2:$C$43,2,0) -> 271711 | K12: =J12/30100000% -> 0.90269435 | L12: =H12-K12 -> 0.29107873 | M12: =I12-J12 -> 57770.371 | N12: =M12/J12% -> 21.261698 | O12: =VLOOKUP(A12,[1]관서별실적!$S$5:$V$45,4,0)/1000 -> 346815.47 | P12: =I12-O12 -> -17334.103 | Q12: =P12/O12% -> -4.9980765
A13: 가평우체국 | B13: 156740.8 | C13: 82485.018 | D13: 106304.7 | E13: =VLOOKUP(A13,관서수!$A$3:$H$44,8,0) -> 6 | F13: =VLOOKUP(A13,보험모집희망직원!$B$14:$H$54,3,0) -> 64 | G13: =IFERROR(VLOOKUP(A13,우체국FC수!$B$3:$C$41,2,0),0) -> 1.5294118 | H13: =((B13/$B$7*0.18)+(C13/$C$7*0.27)+(D13/$D$7*0.45)+(E13/$E$7*0.03)+(F13/$F$7*0.03)+(G13/$G$7*0.04))*100 -> 0.44584327 | I13: =H13*27600000/100 -> 123052.74 | J13: =VLOOKUP(A13,'2015년목표'!$B$2:$C$43,2,0) -> 98929 | K13: =J13/30100000% -> 0.32866777 | L13: =H13-K13 -> 0.11717549 | M13: =I13-J13 -> 24123.742 | N13: =M13/J13% -> 24.384904 | O13: =VLOOKUP(A13,[1]관서별실적!$S$5:$V$45,4,0)/1000 -> 107554.16 | P13: =I13-O13 -> 15498.58 | Q13: =P13/O13% -> 14.410023
A14: 파주우체국 | B14: 506501.05 | C14: 367571.43 | D14: 402374.92 | E14: =VLOOKUP(A14,관서수!$A$3:$H$44,8,0) -> 16 | F14: =VLOOKUP(A14,보험모집희망직원!$B$14:$H$54,3,0) -> 131 | G14: =IFERROR(VLOOKUP(A14,우체국FC수!$B$3:$C$41,2,0),0) -> 14.676471 | H14: =((B14/$B$7*0.18)+(C14/$C$7*0.27)+(D14/$D$7*0.45)+(E14/$E$7*0.03)+(F14/$F$7*0.03)+(G14/$G$7*0.04))*100 -> 1.5856426 | I14: =H14*27600000/100 -> 437637.35 | J14: =VLOOKUP(A14,'2015년목표'!$B$2:$C$43,2,0) -> 419481 | K14: =J14/30100000% -> 1.3936246 | L14: =H14-K14 -> 0.19201797 | M14: =I14-J14 -> 18156.346 | N14: =M14/J14% -> 4.328288 | O14: =VLOOKUP(A14,[1]관서별실적!$S$5:$V$45,4,0)/1000 -> 427038.22 | P14: =I14-O14 -> 10599.125 | Q14: =P14/O14% -> 2.4820084
A15: 강화우체국 | B15: 249800.98 | C15: 109339.73 | D15: 105697.79 | E15: =VLOOKUP(A15,관서수!$A$3:$H$44,8,0) -> 13 | F15: =VLOOKUP(A15,보험모집희망직원!$B$14:$H$54,3,0) -> 88 | G15: =IFERROR(VLOOKUP(A15,우체국FC수!$B$3:$C$41,2,0),0) -> 2.7941176 | H15: =((B15/$B$7*0.18)+(C15/$C$7*0.27)+(D15/$D$7*0.45)+(E15/$E$7*0.03)+(F15/$F$7*0.03)+(G15/$G$7*0.04))*100 -> 0.60111726 | I15: =H15*27600000/100 -> 165908.36 | J15: =VLOOKUP(A15,'2015년목표'!$B$2:$C$43,2,0) -> 129862 | K15: =J15/30100000% -> 0.43143522 | L15: =H15-K15 -> 0.16968205 | M15: =I15-J15 -> 36046.364 | N15: =M15/J15% -> 27.757438 | O15: =VLOOKUP(A15,[1]관서별실적!$S$5:$V$45,4,0)/1000 -> 108126.51 | P15: =I15-O15 -> 57781.856 | Q15: =P15/O15% -> 53.439122
A16: 양평우체국 | B16: 227113.06 | C16: 117588.84 | D16: 140041.85 | E16: =VLOOKUP(A16,관서수!$A$3:$H$44,8,0) -> 12 | F16: =VLOOKUP(A16,보험모집희망직원!$B$14:$H$54,3,0) -> 79 | G16: =IFERROR(VLOOKUP(A16,우체국FC수!$B$3:$C$41,2,0),0) -> 0.35294118 | H16: =((B16/$B$7*0.18)+(C16/$C$7*0.27)+(D16/$D$7*0.45)+(E16/$E$7*0.03)+(F16/$F$7*0.03)+(G16/$G$7*0.04))*100 -> 0.6254613 | I16: =H16*27600000/100 -> 172627.32 | J16: =VLOOKUP(A16,'2015년목표'!$B$2:$C$43,2,0) -> 138906 | K16: =J16/30100000% -> 0.46148173 | L16: =H16-K16 -> 0.16397958 | M16: =I16-J16 -> 33721.32 | N16: =M16/J16% -> 24.27636 | O16: =VLOOKUP(A16,[1]관서별실적!$S$5:$V$45,4,0)/1000 -> 141260.38 | P16: =I16-O16 -> 31366.939 | Q16: =P16/O16% -> 22.205051
A17: 경기광주우체국 | B17: 464028.47 | C17: 356895.42 | D17: 350323.42 | E17: =VLOOKUP(A17,관서수!$A$3:$H$44,8,0) -> 7 | F17: =VLOOKUP(A17,보험모집희망직원!$B$14:$H$54,3,0) -> 45 | G17: =IFERROR(VLOOKUP(A17,우체국FC수!$B$3:$C$41,2,0),0) -> 14.205882 | H17: =((B17/$B$7*0.18)+(C17/$C$7*0.27)+(D17/$D$7*0.45)+(E17/$E$7*0.03)+(F17/$F$7*0.03)+(G17/$G$7*0.04))*100 -> 1.3185415 | I17: =H17*27600000/100 -> 363917.45 | J17: =VLOOKUP(A17,'2015년목표'!$B$2:$C$43,2,0) -> 387199 | K17: =J17/30100000% -> 1.2863754 | L17: =H17-K17 -> 0.032166086 | M17: =I17-J17 -> -23281.546 | N17: =M17/J17% -> -6.0128114 | O17: =VLOOKUP(A17,[1]관서별실적!$S$5:$V$45,4,0)/1000 -> 366614.36 | P17: =I17-O17 -> -2696.9097 | Q17: =P17/O17% -> -0.73562576
A18: 여주우체국 | B18: 293047.32 | C18: 223156.89 | D18: 231575.75 | E18: =VLOOKUP(A18,관서수!$A$3:$H$44,8,0) -> 9 | F18: =VLOOKUP(A18,보험모집희망직원!$B$14:$H$54,3,0) -> 86 | G18: =IFERROR(VLOOKUP(A18,우체국FC수!$B$3:$C$41,2,0),0) -> 6.9705882 | H18: =((B18/$B$7*0.18)+(C18/$C$7*0.27)+(D18/$D$7*0.45)+(E18/$E$7*0.03)+(F18/$F$7*0.03)+(G18/$G$7*0.04))*100 -> 0.92629391 | I18: =H18*27600000/100 -> 255657.12 | J18: =VLOOKUP(A18,'2015년목표'!$B$2:$C$43,2,0) -> 242694 | K18: =J18/30100000% -> 0.80629236 | L18: =H18-K18 -> 0.12000155 | M18: =I18-J18 -> 12963.119 | N18: =M18/J18% -> 5.3413432 | O18: =VLOOKUP(A18,[1]관서별실적!$S$5:$V$45,4,0)/1000 -> 252051.81 | P18: =I18-O18 -> 3605.3104 | Q18: =P18/O18% -> 1.4303847
A19: 김포우체국 | B19: 480601.03 | C19: 421034.6 | D19: 453285.17 | E19: =VLOOKUP(A19,관서수!$A$3:$H$44,8,0) -> 8 | F19: =VLOOKUP(A19,보험모집희망직원!$B$14:$H$54,3,0) -> 51 | G19: =IFERROR(VLOOKUP(A19,우체국FC수!$B$3:$C$41,2,0),0) -> 14.617647 | H19: =((B19/$B$7*0.18)+(C19/$C$7*0.27)+(D19/$D$7*0.45)+(E19/$E$7*0.03)+(F19/$F$7*0.03)+(G19/$G$7*0.04))*100 -> 1.571716 | I19: =H19*27600000/100 -> 433793.61 | J19: =VLOOKUP(A19,'2015년목표'!$B$2:$C$43,2,0) -> 458258 | K19: =J19/30100000% -> 1.5224518 | L19: =H19-K19 -> 0.049264163 | M19: =I19-J19 -> -24464.387 | N19: =M19/J19% -> -5.3385618 | O19: =VLOOKUP(A19,[1]관서별실적!$S$5:$V$45,4,0)/1000 -> 479534.79 | P19: =I19-O19 -> -45741.175 | Q19: =P19/O19% -> -9.5386562
... A31: 광명우체국 | B31: 1151300.2 | C31: 947904.9 | D31: 836978.23 | E31: =VLOOKUP(A31,관서수!$A$3:$H$44,8,0) -> 7 | F31: =VLOOKUP(A31,보험모집희망직원!$B$14:$H$54,3,0) -> 51 | G31: =IFERROR(VLOOKUP(A31,우체국FC수!$B$3:$C$41,2,0),0) -> 29.882353 | H31: =((B31/$B$7*0.18)+(C31/$C$7*0.27)+(D31/$D$7*0.45)+(E31/$E$7*0.03)+(F31/$F$7*0.03)+(G31/$G$7*0.04))*100 -> 3.1210275 | I31: =H31*27600000/100 -> 861403.6 | J31: =VLOOKUP(A31,'2015년목표'!$B$2:$C$43,2,0) -> 1031061 | K31: =J31/30100000% -> 3.4254518 | L31: =H31-K31 -> -0.30442429 | M31: =I31-J31 -> -169657.4 | N31: =M31/J31% -> -16.454642 | O31: =VLOOKUP(A31,[1]관서별실적!$S$5:$V$45,4,0)/1000 -> 885683.29 | P31: =I31-O31 -> -24279.695 | Q31: =P31/O31% -> -2.7413518
A32: 남인천우체국 | B32: 1059098 | C32: 669546 | D32: 627689 | E32: =VLOOKUP(A32,관서수!$A$3:$H$44,8,0) -> 6 | F32: =VLOOKUP(A32,보험모집희망직원!$B$14:$H$54,3,0) -> 62 | G32: =IFERROR(VLOOKUP(A32,우체국FC수!$B$3:$C$41,2,0),0) -> 25.588235 | H32: =((B32/$B$7*0.18)+(C32/$C$7*0.27)+(D32/$D$7*0.45)+(E32/$E$7*0.03)+(F32/$F$7*0.03)+(G32/$G$7*0.04))*100 -> 2.4417571 | I32: =H32*27600000/100 -> 673924.96 | J32: =VLOOKUP(A32,'2015년목표'!$B$2:$C$43,2,0) -> 0 | K32: =J32/30100000% -> 0 | L32: =H32-K32 -> 2.4417571 | M32: =I32-J32 -> 673924.96 | O32: =VLOOKUP(A32,[1]관서별실적!$S$5:$V$45,4,0)/1000 -> 745674.72 | P32: =I32-O32 -> -71749.764 | Q32: =P32/O32% -> -9.6221264
A33: 인천남동우체국 | B33: =B34-B32 -> 356726.17 | C33: =C34-C32 -> 267702.53 | D33: =D34-D32 -> 293441.8 | E33: =VLOOKUP(A33,관서수!$A$3:$H$44,8,0) -> 9 | F33: =VLOOKUP(A33,보험모집희망직원!$B$14:$H$54,3,0) -> 55 | G33: =IFERROR(VLOOKUP(A33,우체국FC수!$B$3:$C$41,2,0),0) -> 8.6666667 | H33: =((B33/$B$7*0.18)+(C33/$C$7*0.27)+(D33/$D$7*0.45)+(E33/$E$7*0.03)+(F33/$F$7*0.03)+(G33/$G$7*0.04))*100 -> 1.0818558 | I33: =H33*27600000/100 -> 298592.2 | J33: =VLOOKUP(A33,'2015년목표'!$B$2:$C$43,2,0) -> 0 | K33: =J33/30100000% -> 0 | L33: =H33-K33 -> 1.0818558 | M33: =I33-J33 -> 298592.2 | O33: =VLOOKUP(A33,[1]관서별실적!$S$5:$V$45,4,0)/1000 -> 233275.99 | P33: =I33-O33 -> 65316.215 | Q33: =P33/O33% -> 27.999545
A34: 소 계 | B34: 1415824.2 | C34: 937248.53 | D34: 921130.8 | E34: =E32+E33 -> 15 | F34: =SUM(F32:F33) -> 117 | G34: =SUM(G32:G33) -> 34.254902 | H34: =((B34/$B$7*0.18)+(C34/$C$7*0.27)+(D34/$D$7*0.45)+(E34/$E$7*0.03)+(F34/$F$7*0.03)+(G34/$G$7*0.04))*100 -> 3.5236129 | I34: =H34*27600000/100 -> 972517.16 | J34: 1035533 | K34: =J34/30100000% -> 3.440309 | L34: =H34-K34 -> 0.083303936 | M34: =I34-J34 -> -63015.838 | N34: =M34/J34% -> -6.0853529 | O34: =SUM(O32:O33) -> 978950.71 | P34: =I34-O34 -> -6433.5489 | Q34: =P34/O34% -> -0.65718823
A35: 안산우체국 | B35: 2149842.8 | C35: 1766157.4 | D35: 1708669.1 | E35: =VLOOKUP(A35,관서수!$A$3:$H$44,8,0) -> 14 | F35: =VLOOKUP(A35,보험모집희망직원!$B$14:$H$54,3,0) -> 93 | G35: =IFERROR(VLOOKUP(A35,우체국FC수!$B$3:$C$41,2,0),0) -> 47.411765 | H35: =((B35/$B$7*0.18)+(C35/$C$7*0.27)+(D35/$D$7*0.45)+(E35/$E$7*0.03)+(F35/$F$7*0.03)+(G35/$G$7*0.04))*100 -> 6.0238206 | I35: =H35*27600000/100 -> 1662574.5 | J35: =VLOOKUP(A35,'2015년목표'!$B$2:$C$43,2,0) -> 1917761 | K35: =J35/30100000% -> 6.371299 | L35: =H35-K35 -> -0.34747836 | M35: =I35-J35 -> -255186.5 | N35: =M35/J35% -> -13.306481 | O35: =VLOOKUP(A35,[1]관서별실적!$S$5:$V$45,4,0)/1000 -> 1794997.9 | P35: =I35-O35 -> -132423.41 | Q35: =P35/O35% -> -7.3773571
A36: 수원우체국 | B36: 1428596 | C36: 1194488 | D36: 1268938.8 | E36: =VLOOKUP(A36,관서수!$A$3:$H$44,8,0) -> 9 | F36: =VLOOKUP(A36,보험모집희망직원!$B$14:$H$54,3,0) -> 82 | G36: =IFERROR(VLOOKUP(A36,우체국FC수!$B$3:$C$41,2,0),0) -> 40.529412 | H36: =((B36/$B$7*0.18)+(C36/$C$7*0.27)+(D36/$D$7*0.45)+(E36/$E$7*0.03)+(F36/$F$7*0.03)+(G36/$G$7*0.04))*100 -> 4.2970638 | I36: =H36*27600000/100 -> 1185989.6 | J36: =VLOOKUP(A36,'2015년목표'!$B$2:$C$43,2,0) -> 1295550 | K36: =J36/30100000% -> 4.3041528 | L36: =H36-K36 -> -0.0070889813 | M36: =I36-J36 -> -109560.38 | N36: =M36/J36% -> -8.4566693 | O36: =VLOOKUP(A36,[1]관서별실적!$S$5:$V$45,4,0)/1000 -> 1357008.3 | P36: =I36-O36 -> -171018.71 | Q36: =P36/O36% -> -12.602628
A37: 서수원우체국 | B37: =B39-B36-B38 -> 401709.87 | C37: =C39-C36-C38 -> 316118.51 | D37: 459323.07 | E37: =VLOOKUP(A37,관서수!$A$3:$H$44,8,0) -> 4 | F37: =VLOOKUP(A37,보험모집희망직원!$B$14:$H$54,3,0) -> 98 | G37: =IFERROR(VLOOKUP(A37,우체국FC수!$B$3:$C$41,2,0),0) -> 11.333333 | H37: =((B37/$B$7*0.18)+(C37/$C$7*0.27)+(D37/$D$7*0.45)+(E37/$E$7*0.03)+(F37/$F$7*0.03)+(G37/$G$7*0.04))*100 -> 1.4337831 | I37: =H37*27600000/100 -> 395724.13 | J37: =VLOOKUP(A37,'2015년목표'!$B$2:$C$43,2,0) -> 556360 | K37: =J37/30100000% -> 1.8483721 | L37: =H37-K37 -> -0.414589 | M37: =I37-J37 -> -160635.87 | N37: =M37/J37% -> -28.872648 | O37: =VLOOKUP(A37,[1]관서별실적!$S$5:$V$45,4,0)/1000 -> 493474.38 | P37: =I37-O37 -> -97750.246 | Q37: =P37/O37% -> -19.808576
A38: 동수원우체국 | B38: 1437204 | C38: 1139477 | D38: 1191618.6 | E38: =VLOOKUP(A38,관서수!$A$3:$H$44,8,0) -> 9 | F38: =VLOOKUP(A38,보험모집희망직원!$B$14:$H$54,3,0) -> 58 | G38: =IFERROR(VLOOKUP(A38,우체국FC수!$B$3:$C$41,2,0),0) -> 46.882353 | H38: =((B38/$B$7*0.18)+(C38/$C$7*0.27)+(D38/$D$7*0.45)+(E38/$E$7*0.03)+(F38/$F$7*0.03)+(G38/$G$7*0.04))*100 -> 4.1297874 | I38: =H38*27600000/100 -> 1139821.3 | J38: =VLOOKUP(A38,'2015년목표'!$B$2:$C$43,2,0) -> 1214490 | K38: =J38/30100000% -> 4.0348505 | L38: =H38-K38 -> 0.094936899 | M38: =I38-J38 -> -74668.678 | N38: =M38/J38% -> -6.1481509 | O38: =VLOOKUP(A38,[1]관서별실적!$S$5:$V$45,4,0)/1000 -> 1261980.3 | P38: =I38-O38 -> -122158.97 | Q38: =P38/O38% -> -9.6799429
A39: 소 계 | B39: 3267509.9 | C39: 2650083.5 | D39: 2919880.4 | E39: =SUM(E36:E38) -> 22 | F39: =SUM(F36:F38) -> 238 | G39: =SUM(G36:G38) -> 98.745098 | H39: =((B39/$B$7*0.18)+(C39/$C$7*0.27)+(D39/$D$7*0.45)+(E39/$E$7*0.03)+(F39/$F$7*0.03)+(G39/$G$7*0.04))*100 -> 9.8606343 | I39: =H39*27600000/100 -> 2721535.1 | J39: =SUM(J36:J38) -> 3066400 | K39: =J39/30100000% -> 10.187375 | L39: =H39-K39 -> -0.32674108 | M39: =SUM(M36:M38) -> -344864.92 | N39: =M39/J39% -> -11.246573 | O39: =SUM(O36:O38) -> 3112463 | P39: =I39-O39 -> -390927.93 | Q39: =P39/O39% -> -12.560083
A40: 군포우체국 | B40: 1271157.7 | C40: 1003124.4 | D40: 930794.13 | E40: =VLOOKUP(A40,관서수!$A$3:$H$44,8,0) -> 8 | F40: =VLOOKUP(A40,보험모집희망직원!$B$14:$H$54,3,0) -> 84 | G40: =IFERROR(VLOOKUP(A40,우체국FC수!$B$3:$C$41,2,0),0) -> 32.794118 | H40: =((B40/$B$7*0.18)+(C40/$C$7*0.27)+(D40/$D$7*0.45)+(E40/$E$7*0.03)+(F40/$F$7*0.03)+(G40/$G$7*0.04))*100 -> 3.4400679 | I40: =H40*27600000/100 -> 949458.75 | J40: =VLOOKUP(A40,'2015년목표'!$B$2:$C$43,2,0) -> 1093442 | K40: =J40/30100000% -> 3.6326977 | L40: =H40-K40 -> -0.19262973 | M40: =I40-J40 -> -143983.25 | N40: =M40/J40% -> -13.167891 | O40: =VLOOKUP(A40,[1]관서별실적!$S$5:$V$45,4,0)/1000 -> 997188.34 | P40: =I40-O40 -> -47729.588 | Q40: =P40/O40% -> -4.7864166
A41: 안양우체국 | B41: 1924020.6 | C41: 1622562.1 | D41: 1723781.4 | E41: =VLOOKUP(A41,관서수!$A$3:$H$44,8,0) -> 10 | F41: =VLOOKUP(A41,보험모집희망직원!$B$14:$H$54,3,0) -> 83 | G41: =IFERROR(VLOOKUP(A41,우체국FC수!$B$3:$C$41,2,0),0) -> 41.352941 | H41: =((B41/$B$7*0.18)+(C41/$C$7*0.27)+(D41/$D$7*0.45)+(E41/$E$7*0.03)+(F41/$F$7*0.03)+(G41/$G$7*0.04))*100 -> 5.7208797 | I41: =H41*27600000/100 -> 1578962.8 | J41: =VLOOKUP(A41,'2015년목표'!$B$2:$C$43,2,0) -> 1768736 | K41: =J41/30100000% -> 5.8761993 | L41: =H41-K41 -> -0.15531962 | M41: =I41-J41 -> -189773.2 | N41: =M41/J41% -> -10.729312 | O41: =VLOOKUP(A41,[1]관서별실적!$S$5:$V$45,4,0)/1000 -> 1812400.3 | P41: =I41-O41 -> -233437.53 | Q41: =P41/O41% -> -12.88002
A42: 성남분당우체국 | B42: 1081765 | C42: 832904.3 | D42: 916830.92 | E42: =VLOOKUP(A42,관서수!$A$3:$H$44,8,0) -> 9 | F42: =VLOOKUP(A42,보험모집희망직원!$B$14:$H$54,3,0) -> 88 | G42: =IFERROR(VLOOKUP(A42,우체국FC수!$B$3:$C$41,2,0),0) -> 26.911765 | H42: =((B42/$B$7*0.18)+(C42/$C$7*0.27)+(D42/$D$7*0.45)+(E42/$E$7*0.03)+(F42/$F$7*0.03)+(G42/$G$7*0.04))*100 -> 3.134557 | I42: =H42*27600000/100 -> 865137.74 | J42: =VLOOKUP(A42,'2015년목표'!$B$2:$C$43,2,0) -> 908135 | K42: =J42/30100000% -> 3.0170598 | L42: =H42-K42 -> 0.11749722 | M42: =I42-J42 -> -42997.263 | N42: =M42/J42% -> -4.7346774 | O42: =VLOOKUP(A42,[1]관서별실적!$S$5:$V$45,4,0)/1000 -> 943484.86 | P42: =I42-O42 -> -78347.127 | Q42: =P42/O42% -> -8.3040152
A43: 고양일산우체국 | B43: 1219680.1 | C43: 976659.48 | D43: 1027317.7 | E43: =VLOOKUP(A43,관서수!$A$3:$H$44,8,0) -> 9 | F43: =VLOOKUP(A43,보험모집희망직원!$B$14:$H$54,3,0) -> 85 | G43: =IFERROR(VLOOKUP(A43,우체국FC수!$B$3:$C$41,2,0),0) -> 29.941176 | H43: =((B43/$B$7*0.18)+(C43/$C$7*0.27)+(D43/$D$7*0.45)+(E43/$E$7*0.03)+(F43/$F$7*0.03)+(G43/$G$7*0.04))*100 -> 3.5375843 | I43: =H43*27600000/100 -> 976373.26 | J43: =VLOOKUP(A43,'2015년목표'!$B$2:$C$43,2,0) -> 1063417 | K43: =J43/30100000% -> 3.5329468 | L43: =H43-K43 -> 0.0046374391 | M43: =I43-J43 -> -87043.738 | N43: =M43/J43% -> -8.1852874 | O43: =VLOOKUP(A43,[1]관서별실적!$S$5:$V$45,4,0)/1000 -> 1079619.4 | P43: =I43-O43 -> -103246.14 | Q43: =P43/O43% -> -9.5631976
A44: 서인천우체국 | B44: 1218594.2 | C44: 909598.83 | D44: 869203.18 | E44: =VLOOKUP(A44,관서수!$A$3:$H$44,8,0) -> 8 | F44: =VLOOKUP(A44,보험모집희망직원!$B$14:$H$54,3,0) -> 59 | G44: =IFERROR(VLOOKUP(A44,우체국FC수!$B$3:$C$41,2,0),0) -> 30.441176 | H44: =((B44/$B$7*0.18)+(C44/$C$7*0.27)+(D44/$D$7*0.45)+(E44/$E$7*0.03)+(F44/$F$7*0.03)+(G44/$G$7*0.04))*100 -> 3.1864971 | I44: =H44*27600000/100 -> 879473.19 | J44: =VLOOKUP(A44,'2015년목표'!$B$2:$C$43,2,0) -> 1051697 | K44: =J44/30100000% -> 3.49401 | L44: =H44-K44 -> -0.30751289 | M44: =I44-J44 -> -172223.81 | N44: =M44/J44% -> -16.375801 | O44: =VLOOKUP(A44,[1]관서별실적!$S$5:$V$45,4,0)/1000 -> 915048.36 | P44: =I44-O44 -> -35575.171 | Q44: =P44/O44% -> -3.8877913
A45: 부천우체국 | B45: 2143872.4 | C45: 1592701.8 | D45: 1818866.2 | E45: =VLOOKUP(A45,관서수!$A$3:$H$44,8,0) -> 16 | F45: =VLOOKUP(A45,보험모집희망직원!$B$14:$H$54,3,0) -> 110 | G45: =IFERROR(VLOOKUP(A45,우체국FC수!$B$3:$C$41,2,0),0) -> 44.441176 | H45: =((B45/$B$7*0.18)+(C45/$C$7*0.27)+(D45/$D$7*0.45)+(E45/$E$7*0.03)+(F45/$F$7*0.03)+(G45/$G$7*0.04))*100 -> 6.0414276 | I45: =H45*27600000/100 -> 1667434 | J45: =VLOOKUP(A45,'2015년목표'!$B$2:$C$43,2,0) -> 1829101 | K45: =J45/30100000% -> 6.0767475 | L45: =H45-K45 -> -0.035319891 | M45: =I45-J45 -> -161666.98 | N45: =M45/J45% -> -8.8386031 | O45: =VLOOKUP(A45,[1]관서별실적!$S$5:$V$45,4,0)/1000 -> 1873412.7 | P45: =I45-O45 -> -205978.7 | Q45: =P45/O45% -> -10.994838
A46: 고양덕양우체국 | B46: 929047.17 | C46: 589333.77 | D46: 633797.8 | E46: =VLOOKUP(A46,관서수!$A$3:$H$44,8,0) -> 10 | F46: =VLOOKUP(A46,보험모집희망직원!$B$14:$H$54,3,0) -> 82 | G46: =IFERROR(VLOOKUP(A46,우체국FC수!$B$3:$C$41,2,0),0) -> 21.794118 | H46: =((B46/$B$7*0.18)+(C46/$C$7*0.27)+(D46/$D$7*0.45)+(E46/$E$7*0.03)+(F46/$F$7*0.03)+(G46/$G$7*0.04))*100 -> 2.3364762 | I46: =H46*27600000/100 -> 644867.42 | J46: =VLOOKUP(A46,'2015년목표'!$B$2:$C$43,2,0) -> 668821 | K46: =J46/30100000% -> 2.2219967 | L46: =H46-K46 -> 0.1144795 | M46: =I46-J46 -> -23953.575 | N46: =M46/J46% -> -3.5814628 | O46: =VLOOKUP(A46,[1]관서별실적!$S$5:$V$45,4,0)/1000 -> 671663.54 | P46: =I46-O46 -> -26796.111 | Q46: =P46/O46% -> -3.9895141
A47: 인천계양우체국 | B47: 598113.05 | C47: 451701.62 | D47: 468711.87 | E47: =VLOOKUP(A47,관서수!$A$3:$H$44,8,0) -> 5 | F47: =VLOOKUP(A47,보험모집희망직원!$B$14:$H$54,3,0) -> 56 | G47: =IFERROR(VLOOKUP(A47,우체국FC수!$B$3:$C$41,2,0),0) -> 17.558824 | H47: =((B47/$B$7*0.18)+(C47/$C$7*0.27)+(D47/$D$7*0.45)+(E47/$E$7*0.03)+(F47/$F$7*0.03)+(G47/$G$7*0.04))*100 -> 1.6825214 | I47: =H47*27600000/100 -> 464375.91 | J47: =VLOOKUP(A47,'2015년목표'!$B$2:$C$43,2,0) -> 518577 | K47: =J47/30100000% -> 1.7228472 | L47: =H47-K47 -> -0.040325753 | M47: =I47-J47 -> -54201.087 | N47: =M47/J47% -> -10.451888 | O47: =VLOOKUP(A47,[1]관서별실적!$S$5:$V$45,4,0)/1000 -> 496009.2 | P47: =I47-O47 -> -31633.286 | Q47: =P47/O47% -> -6.3775604
A48: 용인수지우체국 | B48: 580388.72 | C48: 462487.4 | D48: 491352.31 | E48: =VLOOKUP(A48,관서수!$A$3:$H$44,8,0) -> 6 | F48: =VLOOKUP(A48,보험모집희망직원!$B$14:$H$54,3,0) -> 70 | G48: =IFERROR(VLOOKUP(A48,우체국FC수!$B$3:$C$41,2,0),0) -> 18.617647 | H48: =((B48/$B$7*0.18)+(C48/$C$7*0.27)+(D48/$D$7*0.45)+(E48/$E$7*0.03)+(F48/$F$7*0.03)+(G48/$G$7*0.04))*100 -> 1.7462999 | I48: =H48*27600000/100 -> 481978.76 | J48: =VLOOKUP(A48,'2015년목표'!$B$2:$C$43,2,0) -> 503370 | K48: =J48/30100000% -> 1.6723256 | L48: =H48-K48 -> 0.07397428 | M48: =I48-J48 -> -21391.238 | N48: =M48/J48% -> -4.2496053 | O48: =VLOOKUP(A48,[1]관서별실적!$S$5:$V$45,4,0)/1000 -> 509805.98 | P48: =I48-O48 -> -27827.223 | Q48: =P48/O48% -> -5.4583948
A49: 남양주우체국 | B49: 1022872.9 | C49: 756404.94 | D49: 706440.07 | E49: =VLOOKUP(A49,관서수!$A$3:$H$44,8,0) -> 10 | F49: =VLOOKUP(A49,보험모집희망직원!$B$14:$H$54,3,0) -> 77 | G49: =IFERROR(VLOOKUP(A49,우체국FC수!$B$3:$C$41,2,0),0) -> 25.323529 | H49: =((B49/$B$7*0.18)+(C49/$C$7*0.27)+(D49/$D$7*0.45)+(E49/$E$7*0.03)+(F49/$F$7*0.03)+(G49/$G$7*0.04))*100 -> 2.6800626 | I49: =H49*27600000/100 -> 739697.26 | J49: =VLOOKUP(A49,'2015년목표'!$B$2:$C$43,2,0) -> 870613 | K49: =J49/30100000% -> 2.892402 | L49: =H49-K49 -> -0.21233944 | M49: =I49-J49 -> -130915.74 | N49: =M49/J49% -> -15.037191 | O49: =VLOOKUP(A49,[1]관서별실적!$S$5:$V$45,4,0)/1000 -> 746969.09 | P49: =I49-O49 -> -7271.8265 | Q49: =P49/O49% -> -0.97351103
A50: 화성우체국 | B50: 771217.92 | C50: 574114.85 | D50: 592792.65 | E50: =VLOOKUP(A50,관서수!$A$3:$H$44,8,0) -> 17 | F50: =VLOOKUP(A50,보험모집희망직원!$B$14:$H$54,3,0) -> 165 | G50: =IFERROR(VLOOKUP(A50,우체국FC수!$B$3:$C$41,2,0),0) -> 18.264706 | H50: =((B50/$B$7*0.18)+(C50/$C$7*0.27)+(D50/$D$7*0.45)+(E50/$E$7*0.03)+(F50/$F$7*0.03)+(G50/$G$7*0.04))*100 -> 2.289176 | I50: =H50*27600000/100 -> 631812.57 | J50: =VLOOKUP(A50,'2015년목표'!$B$2:$C$43,2,0) -> 658835 | K50: =J50/30100000% -> 2.1888206 | L50: =H50-K50 -> 0.10035537 | M50: =I50-J50 -> -27022.432 | N50: =M50/J50% -> -4.1015478 | O50: =VLOOKUP(A50,[1]관서별실적!$S$5:$V$45,4,0)/1000 -> 621914.09 | P50: =I50-O50 -> 9898.4818 | Q50: =P50/O50% -> 1.5916156

Sheet 신설관서참고자료
B2: 실적
B3: 총괄국 | D3: 합계 | E3: 월평균 | F3: 목표실적 | G3: 2015년1월 | H3: 2015년2월 | I3: 2015년3월 | J3: 2015년4월 | K3: 2015년5월 | L3: 2015년6월 | M3: 2015년7월 | N3: 2015년8월 | O3: 2015년9월 | P3: 2015년10월 | Q3: 2015년11월
B4: 서수원 | C4: 일시납포함 | D4: =SUM(G4:Q4) -> 459454597 | G4: 34731035 | H4: 31194054 | I4: 59493721 | J4: 33316058 | K4: 35014817 | L4: 43606101 | M4: 39513161 | N4: 49970776 | O4: 36572458 | P4: 47008514 | Q4: 49033902
C5: 일시납제외 | D5: =SUM(G5:Q5) -> 441454309 | E5: =D5/11 -> 40132210 | F5: =E5*12 -> 4.8158652e+08 | G5: 34731035 | H5: 31194054 | I5: 59229532 | J5: 33316058 | K5: 35014817 | L5: 43606101 | M5: 39513161 | N5: 43330776 | O5: 32223568 | P5: 40392832 | Q5: 48902375
C6: 평균 | D6: =SUM(D4:D5)/2 -> 450454453 | E6: =D6/11 -> 40950405 | F6: =E6*12 -> 4.9140486e+08
B7: 인천남동 | C7: 일시납포함 | D7: =SUM(N7:Q7) -> 142231903 | N7: 29760470 | O7: 38828497 | P7: 45240269 | Q7: 28402667
C8: 일시납제외 | D8: =SUM(N8:Q8) -> 106144064 | E8: =D8/4 -> 26536016 | F8: =E8*12 -> 318432192 | N8: 23786470 | O8: 28506497 | P8: 25448430 | Q8: 28402667
C9: 평균 | D9: =SUM(D7:D8)/2 -> 1.2418798e+08 | E9: =D9/4 -> 31046996 | F9: =E9*12 -> 3.7256395e+08
B10: ※ 서수원우체국 2014년 10월 1일 개국 | I10: 남인천 | J10: 일시납포함 | K10: =SUM(N10:Q10) -> 227964232 | N10: 56796117 | O10: 44553477 | P10: 67978985 | Q10: 58635653
B11: ※ 인천남동우체국 2015년 8월 3일 개국 | J11: 일시납제외 | K11: =SUM(N11:Q11) -> 192271381 | N11: 46147266 | O11: 40002477 | P11: 47485985 | Q11: 58635653
J12: 평균 | K12: =SUM(K10:K11)/2 -> 2.1011781e+08 | L12: =K12/4 -> 52529452 | M12: =L12*12 -> 6.3035342e+08
M13: =M12*1.1 -> 6.9338876e+08
B14: FC월별현황
B15: 총괄국 | D15: 평균 | H15: 2015년1월 | I15: 2015년2월 | J15: 2015년3월 | K15: 2015년4월 | L15: 2015년5월 | M15: 2015년6월 | N15: 2015년7월 | O15: 2015년8월 | P15: 2015년9월 | Q15: 2015년10월
B16: 103960 | C16: 서수원 | D16: =SUM(H16:T16)/10 -> 12.4 | H16: 11 | I16: 11 | J16: 11 | K16: 12 | L16: 13 | M16: 14 | N16: 13 | O16: 13 | P16: 13 | Q16: 13
B17: 103556 | C17: 남인천 | D17: =SUM(H17:T17)/10 -> 22.8 | H17: 23 | I17: 23 | J17: 23 | K17: 24 | L17: 25 | M17: 25 | N17: 24 | O17: 20 | P17: 20 | Q17: 21
B18: 104711 | C18: 인천남동 | D18: =SUM(H18:T18)/3 -> 8.6666667 | H18: 0 | I18: 0 | J18: 0 | K18: 0 | L18: 0 | M18: 0 | N18: 0 | O18: 5 | P18: 10 | Q18: 11

Sheet 2013년실적
A1: 04. 관서별정산초회보험료현황(본부)->총괄국
A3: 리포트 필터:
A4: ("201301" 와 "201312" 사이 기준월 (ID)) 와 (청 = 11:경인청)
A6: 쪽 표시:
A7: 기준월: Total
A9: 청 | C9: 보안총괄국 | E9: 메트릭 | F9: 정산초회보험료 | G9: 저축성일시납제외 정산초회보험료
A10: 11 | B10: 경인청 | C10: 100057 | D10: 평택우체국 | F10: 1173066565 | G10: 1113891278
C11: 100073 | D11: 인천우체국 | F11: 1072932472 | G11: 1012601748
C12: 100115 | D12: 부평우체국 | F12: 1103632929 | G12: 1037177389
C13: 100131 | D13: 오산우체국 | F13: 373655216 | G13: 348306449
C14: 100164 | D14: 안성우체국 | F14: 375441347 | G14: 362447489
C15: 100354 | D15: 가평우체국 | F15: 172016350 | G15: 156740802
C16: 100362 | D16: 파주우체국 | F16: 516533971 | G16: 506501054
C17: 100479 | D17: 강화우체국 | F17: 269819605 | G17: 249800981
C18: 100487 | D18: 양평우체국 | F18: 238355919 | G18: 227113057
C19: 100495 | D19: 경기광주우체국 | F19: 481053403 | G19: 464028472
C20: 100503 | D20: 여주우체국 | F20: 315872699 | G20: 293047324
C21: 100529 | D21: 김포우체국 | F21: 513116575 | G21: 480601030
C22: 100552 | D22: 포천우체국 | F22: 449864988 | G22: 440878273
... C50: 107482 | D50: 화성우체국 | F50: 815042625 | G50: 771217923
C51: Total | F51: 38794638381 | G51: 35315446233
A52: Total | F52: 38794638381 | G52: 35315446233

Sheet 2014년실적
A1: 04. 관서별정산초회보험료현황(본부)->총괄국
A3: 리포트 필터:
A4: ("201401" 와 "201412" 사이 기준월 (ID)) 와 (청 = 11:경인청)
A6: 쪽 표시:
A7: 기준월: Total
A9: 청 | C9: 보안총괄국 | E9: 메트릭 | F9: 정산초회보험료 | G9: 저축성일시납제외 정산초회보험료
A10: 11 | B10: 경인청 | C10: 100057 | D10: 평택우체국 | F10: 845222222 | G10: 844745682
C11: 100073 | D11: 인천우체국 | F11: 724788068 | G11: 724103511
C12: 100115 | D12: 부평우체국 | F12: 807944270 | G12: 808004231
C13: 100131 | D13: 오산우체국 | F13: 307711621 | G13: 307578134
C14: 100164 | D14: 안성우체국 | F14: 245258516 | G14: 245304016
C15: 100354 | D15: 가평우체국 | F15: 83399916 | G15: 82485018
C16: 100362 | D16: 파주우체국 | F16: 367581433 | G16: 367571433
C17: 100479 | D17: 강화우체국 | F17: 109327731 | G17: 109339731
C18: 100487 | D18: 양평우체국 | F18: 117588838 | G18: 117588838
C19: 100495 | D19: 경기광주우체국 | F19: 357423772 | G19: 356895423
C20: 100503 | D20: 여주우체국 | F20: 223845017 | G20: 223156887
C21: 100529 | D21: 김포우체국 | F21: 421162613 | G21: 421034600
C22: 100552 | D22: 포천우체국 | F22: 292627009 | G22: 292280703
... C50: 107482 | D50: 화성우체국 | F50: 574114848 | G50: 574114848
C51: Total | F51: 27092179003 | G51: 26988781454
A52: Total | F52: 27092179003 | G52: 26988781454

Sheet 2015년실적
A1: 04. 관서별정산초회보험료현황(본부)->총괄국
A3: 리포트 필터:
A4: ("201501" 와 "201510" 사이 기준월 (ID)) 와 (청 = 11:경인청)
A6: 쪽 표시:
A7: 기준월: Total
A9: 청 | C9: 보안총괄국 | E9: 메트릭 | F9: 정산초회보험료 | G9: 저축성일시납제외 정산초회보험료 | H9: 11월 정산 | I9: 일시납포합 | J9: 일시납제외
A10: 11 | B10: 경인청 | C10: 100057 | D10: 평택우체국 | F10: 807629429 | G10: 733809470 | H10: 67849269 | I10: =F10+H10 -> 875478698 | J10: =H10+G10 -> 801658739
C11: 100073 | D11: 인천우체국 | F11: 655569162 | G11: 604132726 | H11: 55076503 | I11: =F11+H11 -> 710645665 | J11: =H11+G11 -> 659209229
C12: 100115 | D12: 부평우체국 | F12: 735732503 | G12: 672052340 | H12: 72988580 | I12: =F12+H12 -> 808721083 | J12: =H12+G12 -> 745040920
C13: 100131 | D13: 오산우체국 | F13: 310311036 | G13: 303123574 | H13: 16486916 | I13: =F13+H13 -> 326797952 | J13: =H13+G13 -> 319610490
C14: 100164 | D14: 안성우체국 | F14: 295408238 | G14: 277140238 | H14: 29880060 | I14: =F14+H14 -> 325288298 | J14: =H14+G14 -> 307020298
C15: 100354 | D15: 가평우체국 | F15: 104202652 | G15: 87648747 | H15: 2102049 | I15: =F15+H15 -> 106304701 | J15: =H15+G15 -> 89750796
C16: 100362 | D16: 파주우체국 | F16: 372116283 | G16: 360042653 | H16: 30258633 | I16: =F16+H16 -> 402374916 | J16: =H16+G16 -> 390301286
C17: 100479 | D17: 강화우체국 | F17: 103248070 | G17: 85322070 | H17: 2449717 | I17: =F17+H17 -> 105697787 | J17: =H17+G17 -> 87771787
C18: 100487 | D18: 양평우체국 | F18: 138798132 | G18: 130715178 | H18: 1243713 | I18: =F18+H18 -> 140041845 | J18: =H18+G18 -> 131958891
C19: 100495 | D19: 경기광주우체국 | F19: 317981210 | G19: 304032541 | H19: 32342215 | I19: =F19+H19 -> 350323425 | J19: =H19+G19 -> 336374756
C20: 100503 | D20: 여주우체국 | F20: 205707063 | G20: 194460404 | H20: 25868689 | I20: =F20+H20 -> 231575752 | J20: =H20+G20 -> 220329093
C21: 100529 | D21: 김포우체국 | F21: 421123786 | G21: 407880203 | H21: 32161385 | I21: =F21+H21 -> 453285171 | J21: =H21+G21 -> 440041588
C22: 100552 | D22: 포천우체국 | F22: 261882677 | G22: 256338882 | H22: 27533672 | I22: =F22+H22 -> 289416349 | J22: =H22+G22 -> 283872554
... C34: 103432 | D34: 광명우체국 | F34: 769703166 | G34: 702996418 | H34: 67275060 | I34: =F34+H34 -> 836978226 | J34: =H34+G34 -> 770271478
C35: 103556 | D35: 남인천우체국 | F35: 650224358 | G35: 614063058 | H35: 58635653 | I35: =F35+H35 -> 708860011 | J35: =H35+G35 -> 672698711 | K35: =I35+I39 -> 921130796
C36: 103937 | D36: 안산우체국 | F36: 1576604965 | G36: 1454570569 | H36: 132064102 | I36: =F36+H36 -> 1708669067 | J36: =H36+G36 -> 1586634671
C37: 103960 | D37: 서수원우체국 | F37: 410420695 | G37: 392551934 | H37: 48902375 | I37: =F37+H37 -> 459323070 | J37: =H37+G37 -> 441454309
C38: 104604 | D38: 동수원우체국 | F38: 1100900996 | G38: 1057408981 | H38: 90717621 | I38: =F38+H38 -> 1191618617 | J38: =H38+G38 -> 1148126602
C39: 104711 | D39: 인천남동우체국 | F39: 183868118 | G39: 147780279 | H39: 28402667 | I39: =F39+H39 -> 212270785 | J39: =H39+G39 -> 176182946
C40: 104729 | D40: 군포우체국 | F40: 852463154 | G40: 780400918 | H40: 78330978 | I40: =F40+H40 -> 930794132 | J40: =H40+G40 -> 858731896
C41: 104851 | D41: 안양우체국 | F41: 1590993190 | G41: 1452680497 | H41: 132788204 | I41: =F41+H41 -> 1723781394 | J41: =H41+G41 -> 1585468701
C42: 104869 | D42: 성남분당우체국 | F42: 869435967 | G42: 699855583 | H42: 47394954 | I42: =F42+H42 -> 916830921 | J42: =H42+G42 -> 747250537
C43: 104877 | D43: 고양일산우체국 | F43: 950125448 | G43: 864168098 | H43: 77192235 | I43: =F43+H43 -> 1027317683 | J43: =H43+G43 -> 941360333
C44: 104885 | D44: 서인천우체국 | F44: 809897919 | G44: 784691488 | H44: 59305262 | I44: =F44+H44 -> 869203181 | J44: =H44+G44 -> 843996750
C45: 104976 | D45: 부천우체국 | F45: 1719664498 | G45: 1444828786 | H45: 99201743 | I45: =F45+H45 -> 1818866241 | J45: =H45+G45 -> 1544030529
C46: 104984 | D46: 고양덕양우체국 | F46: 587750553 | G46: 528171799 | H46: 46047248 | I46: =F46+H46 -> 633797801 | J46: =H46+G46 -> 574219047
C47: 107110 | D47: 인천계양우체국 | F47: 426209244 | G47: 390993707 | H47: 42502625 | I47: =F47+H47 -> 468711869 | J47: =H47+G47 -> 433496332
... C50: 107482 | D50: 화성우체국 | F50: 555884162 | G50: 521850540 | H50: 36908492 | I50: =F50+H50 -> 592792654 | J50: =H50+G50 -> 558759032
C51: Total | F51: 25882606334 | G51: 23814139565 | H51: =SUM(H10:H50) -> 2133484351 | I51: =F51+H51 -> 28016090685 | J51: =H51+G51 -> 25947623916
A52: Total | F52: 25882606334 | G52: 23814139565

Sheet 우체국FC수
A2: 총괄국 | C2: 평균 | D2: 2015.1. | E2: 2015.2. | F2: 2015.3. | G2: 2015.4. | H2: 2015.5. | I2: 2015.6. | J2: 2015.7. | K2: 2015.8. | L2: 2015.9. | M2: 2015.10. | N2: 2014.1. | O2: 2014.2. | P2: 2014.3. | Q2: 2014.4. | R2: 2014.5. | S2: 2014.6. | T2: 2014.7. | U2: 2014.8. | V2: 2014.9. | W2: 2014.10. | X2: 2014.11. | Y2: 2014.12. | Z2: 2013.1. | AA2: 2013.2. | AB2: 2013.3. | AC2: 2013.4. | AD2: 2013.5. | AE2: 2013.6. | AF2: 2013.7. | AG2: 2013.8. | AH2: 2013.9. | AI2: 2013.10. | AJ2: 2013.11. | AK2: 2013.12.
A3: 100057 | B3: 평택우체국 | C3: =SUM(D3:AK3)/34 -> 15.5 | D3: 14 | E3: 14 | F3: 13 | G3: 15 | H3: 16 | I3: 15 | J3: 15 | K3: 13 | L3: 13 | M3: 13 | N3: 18 | O3: 17 | P3: 14 | Q3: 13 | R3: 13 | S3: 13 | T3: 13 | U3: 13 | V3: 13 | W3: 13 | X3: 13 | Y3: 14 | Z3: 18 | AA3: 18 | AB3: 18 | AC3: 18 | AD3: 19 | AE3: 20 | AF3: 20 | AG3: 20 | AH3: 17 | AI3: 17 | AJ3: 17 | AK3: 17
