Workbook

Sheet 인천남동,서수원FC이동
A1: 남인천->인천남동 이동
A2: 청 | B2: 청명 | C2: 보안총괄국 | D2: 총괄국명 | E2: 모집자 | F2: 성명 | G2: 2013년 합계 | H2: 2014년 합계
A3: 11 | B3: 경인청 | C3: 103556 | D3: 남인천우체국 | E3: 01000791 | F3: 조원애 | G3: 28569323 | H3: 22196387
A4: 11 | B4: 경인청 | C4: 103556 | D4: 남인천우체국 | E4: 01015614 | F4: 유호정 | G4: 25560540 | H4: 24451524
A5: 11 | B5: 경인청 | C5: 103556 | D5: 남인천우체국 | E5: 01020739 | F5: 기경옥 | G5: 59997785 | H5: 65279157
A6: 11 | B6: 경인청 | C6: 103556 | D6: 남인천우체국 | E6: 01024278 | F6: 김민자 | G6: 7094933 | H6: 17803811
F7: 만수동우체국 | G7: 24918006 | H7: 16349265
A8: 합계 | G8: =SUM(G3:G7) -> 146140587 | H8: =SUM(H3:H7) -> 146080144
A11: 동수원->서수원
A12: 청 | B12: 청명 | C12: 보안총괄국 | D12: 총괄국명 | E12: 모집자 | F12: 성명 | G12: 2013년 합계 | H12: 2014년 합계
A13: 11 | B13: 경인청 | C13: 104604 | D13: 동수원우체국 | E13: 01006254 | F13: 송인순 | G13: 101912536 | H13: 93025653
A14: 11 | B14: 경인청 | C14: 104604 | D14: 동수원우체국 | E14: 01015169 | F14: 위재분 | G14: 41842785 | H14: 42250294
A15: 11 | B15: 경인청 | C15: 104604 | D15: 동수원우체국 | E15: 01021841 | F15: 양승자 | G15: 41466572 | H15: 33895458
A16: 11 | B16: 경인청 | C16: 104604 | D16: 동수원우체국 | E16: 01023611 | F16: 조화영 | G16: 12102143 | H16: 8301980
A17: 11 | B17: 경인청 | C17: 104604 | D17: 동수원우체국 | E17: 01023707 | F17: 진선미 | G17: 18079514 | H17: 16736150
A18: 합계 | G18: =SUM(G13:G17) -> 215403550 | H18: =SUM(H13:H17) -> 194209535
A20: 수원->서수원
A21: 청 | B21: 청명 | C21: 보안총괄국 | D21: 총괄국명 | E21: 모집자 | F21: 성명 | G21: 2013년 합계 | H21: 2014년 합계
A22: 11 | B22: 경인청 | C22: 100941 | D22: 수원우체국 | E22: 1004825 | F22: 최채옥 | G22: 23266007 | H22: 20694245
A23: 11 | B23: 경인청 | C23: 100941 | D23: 수원우체국 | E23: 1013789 | F23: 남명희 | G23: 12125531 | H23: 7910279
A24: 11 | B24: 경인청 | C24: 100941 | D24: 수원우체국 | E24: 1016898 | F24: 김영호 | G24: 23470029 | H24: 22375777
A25: 11 | B25: 경인청 | C25: 100941 | D25: 수원우체국 | E25: 1021932 | F25: 이성자 | G25: 36302099 | H25: 26963543
A26: 11 | B26: 경인청 | C26: 100941 | D26: 수원우체국 | E26: 1022869 | F26: 고경자 | G26: 29442360 | H26: 27797889
A27: 합계 | G27: =SUM(G22:G26) -> 124606026 | H27: =SUM(H22:H26) -> 105741733
A30: 2015년
A31: 변동 세부내용
A32: 소 계 | B32: 81170.987
A33: 만수동우체국 | B33: 13343.532
A34: 조원애 | B34: 10156.236
A35: 유호정 | B35: 10283.636
A36: 기경옥 | B36: 33583.311
A37: 김민자 | B37: 9943.936
A38: 임경애 | B38: 3860.336

Sheet 목표배정
A1: 2016년 1분기 권텀이벤트 목표 배정
O2: (단위 : 천 원, %, 명)
A3: 구 분 | B3: 관서급 | C3: 배정기준 | L3: 2016년 목표 | Q3: 1분기 목표
C4: 최근3년간 실적(90%, 일시납제외) | H4: 사업환경(10%) | K4: 점유율 | L4: 산출금액 (A) | M4: 조정1 (그룹별 감소율 적용) (B) | N4: 차액 (C=A-B) | O4: 배정액 | P4: 점유비
C5: 2013년 (18%) | D5: 2014년 (27%) | E5: 2015년 (45%) | F5: 2015년 일시납포함 | G5: 2015년 일시납제외 | H5: 관서수 (3%) | I5: 보험모집 희망직원(3%) | J5: 우체국FC수 (4%)
C6: =SUM(C7:C47) -> 35315446 | D6: =SUM(D7:D47) -> 26988781 | E6: =SUM(E7:E47) -> 25947624 | F6: =SUM(F7:F47) -> 28016091 | G6: =SUM(G7:G47) -> 25947624 | H6: 391 | I6: 3229 | J6: 851 | K6: =SUM(K7:K47) -> 100 | L6: =SUM(L7:L47) -> 27704927 | M6: =SUM(M7:M47) -> #REF! | N6: =SUM(N7:N47) -> 0 | O6: =SUM(O7:O47) -> 27600000 | P6: 100 | Q6: =O6*40% -> 11040000
A7: 평택우체국 | B7: 4 | C7: =VLOOKUP(A7,'2013년실적'!$D$10:$G$50,4,0)/1000 -> 1113891.3 | D7: =VLOOKUP(A7,'2014년실적'!$D$10:$G$50,4,0)/1000 -> 844745.68 | E7: 801658.74 | F7: =VLOOKUP(A7,'2015년실적'!$D$10:$J$50,6,0)/1000 -> 875478.7 | G7: =VLOOKUP(A7,'2015년실적'!$D$10:$J$50,7,0)/1000 -> 801658.74 | H7: =VLOOKUP(A7,관서수!$A$3:$H$44,8,0) -> 19 | I7: =VLOOKUP(A7,보험모집희망직원!$B$14:$H$54,3,0) -> 147 | J7: =IFERROR(VLOOKUP(A7,우체국FC수!$B$3:$C$41,2,0),0) -> 15.5 | K7: =((C7/$C$6*0.18)+(D7/$D$6*0.27)+(E7/$E$6*0.45)+(H7/$H$6*0.03)+(I7/$I$6*0.03)+(J7/$J$6*0.04))*100 -> 3.1583356 | L7: =(K7*(27600000-$L$49))/(100-$K$49) -> 871700.61 | M7: =IF(#REF!<-10,#REF!*0.9,IF(AND(#REF!>=-10,#REF!<0),#REF!*0.92,IF(#REF!>0,#REF!*0.935))) -> #REF! | N7: =$M$49*K7/(100-$N$49) -> 0 | O7: 893767.12 | P7: =O7/$O$6*100 -> 3.2382867 | Q7: =O7*40% -> 357506.85
A8: 인천우체국 | B8: 4 | C8: =VLOOKUP(A8,'2013년실적'!$D$10:$G$50,4,0)/1000 -> 1012601.7 | D8: =VLOOKUP(A8,'2014년실적'!$D$10:$G$50,4,0)/1000 -> 724103.51 | E8: 659209.23 | F8: =VLOOKUP(A8,'2015년실적'!$D$10:$J$50,6,0)/1000 -> 710645.67 | G8: =VLOOKUP(A8,'2015년실적'!$D$10:$J$50,7,0)/1000 -> 659209.23 | H8: =VLOOKUP(A8,관서수!$A$3:$H$44,8,0) -> 19 | I8: =VLOOKUP(A8,보험모집희망직원!$B$14:$H$54,3,0) -> 116 | J8: =IFERROR(VLOOKUP(A8,우체국FC수!$B$3:$C$41,2,0),0) -> 23.852941 | K8: =((C8/$C$6*0.18)+(D8/$D$6*0.27)+(E8/$E$6*0.45)+(H8/$H$6*0.03)+(I8/$I$6*0.03)+(J8/$J$6*0.04))*100 -> 2.7494322 | L8: =(K8*(27600000-$L$49))/(100-$K$49) -> 758843.28 | M8: =IF(#REF!<-10,#REF!*0.9,IF(AND(#REF!>=-10,#REF!<0),#REF!*0.92,IF(#REF!>0,#REF!*0.935))) -> #REF! | N8: =$M$49*K8/(100-$N$49) -> 0 | O8: 772196.36 | P8: =O8/$O$6*100 -> 2.7978129 | Q8: =O8*40% -> 308878.54
A9: 부평우체국 | B9: 4 | C9: =VLOOKUP(A9,'2013년실적'!$D$10:$G$50,4,0)/1000 -> 1037177.4 | D9: =VLOOKUP(A9,'2014년실적'!$D$10:$G$50,4,0)/1000 -> 808004.23 | E9: 745040.92 | F9: =VLOOKUP(A9,'2015년실적'!$D$10:$J$50,6,0)/1000 -> 808721.08 | G9: =VLOOKUP(A9,'2015년실적'!$D$10:$J$50,7,0)/1000 -> 745040.92 | H9: =VLOOKUP(A9,관서수!$A$3:$H$44,8,0) -> 11 | I9: =VLOOKUP(A9,보험모집희망직원!$B$14:$H$54,3,0) -> 91 | J9: =IFERROR(VLOOKUP(A9,우체국FC수!$B$3:$C$41,2,0),0) -> 24.147059 | K9: =((C9/$C$6*0.18)+(D9/$D$6*0.27)+(E9/$E$6*0.45)+(H9/$H$6*0.03)+(I9/$I$6*0.03)+(J9/$J$6*0.04))*100 -> 2.9115229 | L9: =(K9*(27600000-$L$49))/(100-$K$49) -> 803580.31 | M9: =IF(#REF!<-10,#REF!*0.9,IF(AND(#REF!>=-10,#REF!<0),#REF!*0.92,IF(#REF!>0,#REF!*0.935))) -> #REF! | N9: =$M$49*K9/(100-$N$49) -> 0 | O9: 822235.7 | P9: =O9/$O$6*100 -> 2.9791148 | Q9: =O9*40% -> 328894.28
A10: 오산우체국 | B10: 5 | C10: =VLOOKUP(A10,'2013년실적'!$D$10:$G$50,4,0)/1000 -> 348306.45 | D10: =VLOOKUP(A10,'2014년실적'!$D$10:$G$50,4,0)/1000 -> 307578.13 | E10: 319610.49 | F10: =VLOOKUP(A10,'2015년실적'!$D$10:$J$50,6,0)/1000 -> 326797.95 | G10: =VLOOKUP(A10,'2015년실적'!$D$10:$J$50,7,0)/1000 -> 319610.49 | H10: =VLOOKUP(A10,관서수!$A$3:$H$44,8,0) -> 3 | I10: =VLOOKUP(A10,보험모집희망직원!$B$14:$H$54,3,0) -> 40 | J10: =IFERROR(VLOOKUP(A10,우체국FC수!$B$3:$C$41,2,0),0) -> 12.147059 | K10: =((C10/$C$6*0.18)+(D10/$D$6*0.27)+(E10/$E$6*0.45)+(H10/$H$6*0.03)+(I10/$I$6*0.03)+(J10/$J$6*0.04))*100 -> 1.1568002 | L10: =(K10*(27600000-$L$49))/(100-$K$49) -> 319276.84 | M10: =IF(#REF!<-10,#REF!*0.9,IF(AND(#REF!>=-10,#REF!<0),#REF!*0.92,IF(#REF!>0,#REF!*0.935))) -> #REF! | N10: =$M$49*K10/(100-$N$49) -> 0 | O10: 310881.31 | P10: =O10/$O$6*100 -> 1.1263816 | Q10: =O10*40% -> 124352.53
A11: 안성우체국 | B11: 4 | C11: =VLOOKUP(A11,'2013년실적'!$D$10:$G$50,4,0)/1000 -> 362447.49 | D11: =VLOOKUP(A11,'2014년실적'!$D$10:$G$50,4,0)/1000 -> 245304.02 | E11: 307020.3 | F11: =VLOOKUP(A11,'2015년실적'!$D$10:$J$50,6,0)/1000 -> 325288.3 | G11: =VLOOKUP(A11,'2015년실적'!$D$10:$J$50,7,0)/1000 -> 307020.3 | H11: =VLOOKUP(A11,관서수!$A$3:$H$44,8,0) -> 14 | I11: =VLOOKUP(A11,보험모집희망직원!$B$14:$H$54,3,0) -> 99 | J11: =IFERROR(VLOOKUP(A11,우체국FC수!$B$3:$C$41,2,0),0) -> 8.8823529 | K11: =((C11/$C$6*0.18)+(D11/$D$6*0.27)+(E11/$E$6*0.45)+(H11/$H$6*0.03)+(I11/$I$6*0.03)+(J11/$J$6*0.04))*100 -> 1.2037425 | L11: =(K11*(27600000-$L$49))/(100-$K$49) -> 332232.92 | M11: =IF(#REF!<-10,#REF!*0.9,IF(AND(#REF!>=-10,#REF!<0),#REF!*0.92,IF(#REF!>0,#REF!*0.935))) -> #REF! | N11: =$M$49*K11/(100-$N$49) -> 0 | O11: 257866.17 | P11: =O11/$O$6*100 -> 0.9342977 | Q11: =O11*40% -> 103146.47
A12: 가평우체국 | B12: 5 | C12: =VLOOKUP(A12,'2013년실적'!$D$10:$G$50,4,0)/1000 -> 156740.8 | D12: =VLOOKUP(A12,'2014년실적'!$D$10:$G$50,4,0)/1000 -> 82485.018 | E12: 89750.796 | F12: =VLOOKUP(A12,'2015년실적'!$D$10:$J$50,6,0)/1000 -> 106304.7 | G12: =VLOOKUP(A12,'2015년실적'!$D$10:$J$50,7,0)/1000 -> 89750.796 | H12: =VLOOKUP(A12,관서수!$A$3:$H$44,8,0) -> 6 | I12: =VLOOKUP(A12,보험모집희망직원!$B$14:$H$54,3,0) -> 64 | J12: =IFERROR(VLOOKUP(A12,우체국FC수!$B$3:$C$41,2,0),0) -> 1.5294118 | K12: =((C12/$C$6*0.18)+(D12/$D$6*0.27)+(E12/$E$6*0.45)+(H12/$H$6*0.03)+(I12/$I$6*0.03)+(J12/$J$6*0.04))*100 -> 0.43074602 | L12: =(K12*(27600000-$L$49))/(100-$K$49) -> 118885.9 | M12: =IF(#REF!<-10,#REF!*0.9,IF(AND(#REF!>=-10,#REF!<0),#REF!*0.92,IF(#REF!>0,#REF!*0.935))) -> #REF! | N12: =$M$49*K12/(100-$N$49) -> 0 | O12: 93864.265 | P12: =O12/$O$6*100 -> 0.34008792 | Q12: =O12*40% -> 37545.706
A13: 파주우체국 | B13: 4 | C13: =VLOOKUP(A13,'2013년실적'!$D$10:$G$50,4,0)/1000 -> 506501.05 | D13: =VLOOKUP(A13,'2014년실적'!$D$10:$G$50,4,0)/1000 -> 367571.43 | E13: 390301.29 | F13: =VLOOKUP(A13,'2015년실적'!$D$10:$J$50,6,0)/1000 -> 402374.92 | G13: =VLOOKUP(A13,'2015년실적'!$D$10:$J$50,7,0)/1000 -> 390301.29 | H13: =VLOOKUP(A13,관서수!$A$3:$H$44,8,0) -> 16 | I13: =VLOOKUP(A13,보험모집희망직원!$B$14:$H$54,3,0) -> 131 | J13: =IFERROR(VLOOKUP(A13,우체국FC수!$B$3:$C$41,2,0),0) -> 14.676471 | K13: =((C13/$C$6*0.18)+(D13/$D$6*0.27)+(E13/$E$6*0.45)+(H13/$H$6*0.03)+(I13/$I$6*0.03)+(J13/$J$6*0.04))*100 -> 1.616225 | L13: =(K13*(27600000-$L$49))/(100-$K$49) -> 446078.1 | M13: =IF(#REF!<-10,#REF!*0.9,IF(AND(#REF!>=-10,#REF!<0),#REF!*0.92,IF(#REF!>0,#REF!*0.935))) -> #REF! | N13: =$M$49*K13/(100-$N$49) -> 0 | O13: 397338.86 | P13: =O13/$O$6*100 -> 1.4396336 | Q13: =O13*40% -> 158935.54
A14: 강화우체국 | B14: 5 | C14: =VLOOKUP(A14,'2013년실적'!$D$10:$G$50,4,0)/1000 -> 249800.98 | D14: =VLOOKUP(A14,'2014년실적'!$D$10:$G$50,4,0)/1000 -> 109339.73 | E14: 87771.787 | F14: =VLOOKUP(A14,'2015년실적'!$D$10:$J$50,6,0)/1000 -> 105697.79 | G14: =VLOOKUP(A14,'2015년실적'!$D$10:$J$50,7,0)/1000 -> 87771.787 | H14: =VLOOKUP(A14,관서수!$A$3:$H$44,8,0) -> 13 | I14: =VLOOKUP(A14,보험모집희망직원!$B$14:$H$54,3,0) -> 88 | J14: =IFERROR(VLOOKUP(A14,우체국FC수!$B$3:$C$41,2,0),0) -> 2.7941176 | K14: =((C14/$C$6*0.18)+(D14/$D$6*0.27)+(E14/$E$6*0.45)+(H14/$H$6*0.03)+(I14/$I$6*0.03)+(J14/$J$6*0.04))*100 -> 0.58356273 | L14: =(K14*(27600000-$L$49))/(100-$K$49) -> 161063.31 | M14: =IF(#REF!<-10,#REF!*0.9,IF(AND(#REF!>=-10,#REF!<0),#REF!*0.92,IF(#REF!>0,#REF!*0.935))) -> #REF! | N14: =$M$49*K14/(100-$N$49) -> 0 | O14: 90435 | P14: =O14/$O$6*100 -> 0.32766304 | Q14: =O14*40% -> 36174
A15: 양평우체국 | B15: 5 | C15: =VLOOKUP(A15,'2013년실적'!$D$10:$G$50,4,0)/1000 -> 227113.06 | D15: =VLOOKUP(A15,'2014년실적'!$D$10:$G$50,4,0)/1000 -> 117588.84 | E15: 131958.89 | F15: =VLOOKUP(A15,'2015년실적'!$D$10:$J$50,6,0)/1000 -> 140041.85 | G15: =VLOOKUP(A15,'2015년실적'!$D$10:$J$50,7,0)/1000 -> 131958.89 | H15: =VLOOKUP(A15,관서수!$A$3:$H$44,8,0) -> 12 | I15: =VLOOKUP(A15,보험모집희망직원!$B$14:$H$54,3,0) -> 79 | J15: =IFERROR(VLOOKUP(A15,우체국FC수!$B$3:$C$41,2,0),0) -> 0.35294118 | K15: =((C15/$C$6*0.18)+(D15/$D$6*0.27)+(E15/$E$6*0.45)+(H15/$H$6*0.03)+(I15/$I$6*0.03)+(J15/$J$6*0.04))*100 -> 0.62937472 | L15: =(K15*(27600000-$L$49))/(100-$K$49) -> 173707.42 | M15: =IF(#REF!<-10,#REF!*0.9,IF(AND(#REF!>=-10,#REF!<0),#REF!*0.92,IF(#REF!>0,#REF!*0.935))) -> #REF! | N15: =$M$49*K15/(100-$N$49) -> 0 | O15: 131872.5 | P15: =O15/$O$6*100 -> 0.47779891 | Q15: =O15*40% -> 52748.999
A16: 경기광주우체국 | B16: 4 | C16: =VLOOKUP(A16,'2013년실적'!$D$10:$G$50,4,0)/1000 -> 464028.47 | D16: =VLOOKUP(A16,'2014년실적'!$D$10:$G$50,4,0)/1000 -> 356895.42 | E16: 336374.76 | F16: =VLOOKUP(A16,'2015년실적'!$D$10:$J$50,6,0)/1000 -> 350323.42 | G16: =VLOOKUP(A16,'2015년실적'!$D$10:$J$50,7,0)/1000 -> 336374.76 | H16: =VLOOKUP(A16,관서수!$A$3:$H$44,8,0) -> 7 | I16: =VLOOKUP(A16,보험모집희망직원!$B$14:$H$54,3,0) -> 45 | J16: =IFERROR(VLOOKUP(A16,우체국FC수!$B$3:$C$41,2,0),0) -> 14.205882 | K16: =((C16/$C$6*0.18)+(D16/$D$6*0.27)+(E16/$E$6*0.45)+(H16/$H$6*0.03)+(I16/$I$6*0.03)+(J16/$J$6*0.04))*100 -> 1.3392073 | L16: =(K16*(27600000-$L$49))/(100-$K$49) -> 369621.22 | M16: =IF(#REF!<-10,#REF!*0.9,IF(AND(#REF!>=-10,#REF!<0),#REF!*0.92,IF(#REF!>0,#REF!*0.935))) -> #REF! | N16: =$M$49*K16/(100-$N$49) -> 0 | O16: 360468.94 | P16: =O16/$O$6*100 -> 1.3060469 | Q16: =O16*40% -> 144187.58
A17: 여주우체국 | B17: 5 | C17: =VLOOKUP(A17,'2013년실적'!$D$10:$G$50,4,0)/1000 -> 293047.32 | D17: =VLOOKUP(A17,'2014년실적'!$D$10:$G$50,4,0)/1000 -> 223156.89 | E17: 220329.09 | F17: =VLOOKUP(A17,'2015년실적'!$D$10:$J$50,6,0)/1000 -> 231575.75 | G17: =VLOOKUP(A17,'2015년실적'!$D$10:$J$50,7,0)/1000 -> 220329.09 | H17: =VLOOKUP(A17,관서수!$A$3:$H$44,8,0) -> 9 | I17: =VLOOKUP(A17,보험모집희망직원!$B$14:$H$54,3,0) -> 86 | J17: =IFERROR(VLOOKUP(A17,우체국FC수!$B$3:$C$41,2,0),0) -> 6.9705882 | K17: =((C17/$C$6*0.18)+(D17/$D$6*0.27)+(E17/$E$6*0.45)+(H17/$H$6*0.03)+(I17/$I$6*0.03)+(J17/$J$6*0.04))*100 -> 0.93644091 | L17: =(K17*(27600000-$L$49))/(100-$K$49) -> 258457.69 | M17: =IF(#REF!<-10,#REF!*0.9,IF(AND(#REF!>=-10,#REF!<0),#REF!*0.92,IF(#REF!>0,#REF!*0.935))) -> #REF! | N17: =$M$49*K17/(100-$N$49) -> 0 | O17: 229887.81 | P17: =O17/$O$6*100 -> 0.83292685 | Q17: =O17*40% -> 91955.124
A18: 김포우체국 | B18: 4 | C18: =VLOOKUP(A18,'2013년실적'!$D$10:$G$50,4,0)/1000 -> 480601.03 | D18: =VLOOKUP(A18,'2014년실적'!$D$10:$G$50,4,0)/1000 -> 421034.6 | E18: 440041.59 | F18: =VLOOKUP(A18,'2015년실적'!$D$10:$J$50,6,0)/1000 -> 453285.17 | G18: =VLOOKUP(A18,'2015년실적'!$D$10:$J$50,7,0)/1000 -> 440041.59 | H18: =VLOOKUP(A18,관서수!$A$3:$H$44,8,0) -> 8 | I18: =VLOOKUP(A18,보험모집희망직원!$B$14:$H$54,3,0) -> 51 | J18: =IFERROR(VLOOKUP(A18,우체국FC수!$B$3:$C$41,2,0),0) -> 14.617647 | K18: =((C18/$C$6*0.18)+(D18/$D$6*0.27)+(E18/$E$6*0.45)+(H18/$H$6*0.03)+(I18/$I$6*0.03)+(J18/$J$6*0.04))*100 -> 1.6067881 | L18: =(K18*(27600000-$L$49))/(100-$K$49) -> 443473.53 | M18: =IF(#REF!<-10,#REF!*0.9,IF(AND(#REF!>=-10,#REF!<0),#REF!*0.92,IF(#REF!>0,#REF!*0.935))) -> #REF! | N18: =$M$49*K18/(100-$N$49) -> 0 | O18: 426691.57 | P18: =O18/$O$6*100 -> 1.5459839 | Q18: =O18*40% -> 170676.63
... A30: 광명우체국 | B30: 4 | C30: =VLOOKUP(A30,'2013년실적'!$D$10:$G$50,4,0)/1000 -> 1151300.2 | D30: =VLOOKUP(A30,'2014년실적'!$D$10:$G$50,4,0)/1000 -> 947904.9 | E30: 770271.48 | F30: =VLOOKUP(A30,'2015년실적'!$D$10:$J$50,6,0)/1000 -> 836978.23 | G30: =VLOOKUP(A30,'2015년실적'!$D$10:$J$50,7,0)/1000 -> 770271.48 | H30: =VLOOKUP(A30,관서수!$A$3:$H$44,8,0) -> 7 | I30: =VLOOKUP(A30,보험모집희망직원!$B$14:$H$54,3,0) -> 51 | J30: =IFERROR(VLOOKUP(A30,우체국FC수!$B$3:$C$41,2,0),0) -> 29.882353 | K30: =((C30/$C$6*0.18)+(D30/$D$6*0.27)+(E30/$E$6*0.45)+(H30/$H$6*0.03)+(I30/$I$6*0.03)+(J30/$J$6*0.04))*100 -> 3.1125097 | L30: =(K30*(27600000-$L$49))/(100-$K$49) -> 859052.68 | M30: =IF(#REF!<-10,#REF!*0.9,IF(AND(#REF!>=-10,#REF!<0),#REF!*0.92,IF(#REF!>0,#REF!*0.935))) -> #REF! | N30: =$M$49*K30/(100-$N$49) -> 0 | O30: 927822.99 | P30: =O30/$O$6*100 -> 3.3616775 | Q30: =O30*40% -> 371129.2
A31: 남인천우체국 | B31: 4 | C31: 1059098 | D31: 669546 | E31: 591528 | F31: =VLOOKUP(A31,'2015년실적'!$D$10:$J$50,6,0)/1000 -> 708860.01 | G31: 591528 | H31: =VLOOKUP(A31,관서수!$A$3:$H$44,8,0) -> 6 | I31: =VLOOKUP(A31,보험모집희망직원!$B$14:$H$54,3,0) -> 62 | J31: =IFERROR(VLOOKUP(A31,우체국FC수!$B$3:$C$41,2,0),0) -> 25.588235 | K31: =((C31/$C$6*0.18)+(D31/$D$6*0.27)+(E31/$E$6*0.45)+(H31/$H$6*0.03)+(I31/$I$6*0.03)+(J31/$J$6*0.04))*100 -> 2.4594156 | L31: =(K31*(27600000-$L$49))/(100-$K$49) -> 678798.71 | M31: 677163.98 | O31: 676151 | P31: =O31/$O$6*100 -> 2.4498225 | Q31: =O31*40% -> 270460.4
A32: 인천남동우체국 | B32: 4 | C32: 356726.17 | D32: 267702.53 | E32: 257353.66 | F32: =VLOOKUP(A32,'2015년실적'!$D$10:$J$50,6,0)/1000 -> 212270.79 | G32: 257353.66 | H32: =VLOOKUP(A32,관서수!$A$3:$H$44,8,0) -> 9 | I32: =VLOOKUP(A32,보험모집희망직원!$B$14:$H$54,3,0) -> 55 | J32: =IFERROR(VLOOKUP(A32,우체국FC수!$B$3:$C$41,2,0),0) -> 8.6666667 | K32: =((C32/$C$6*0.18)+(D32/$D$6*0.27)+(E32/$E$6*0.45)+(H32/$H$6*0.03)+(I32/$I$6*0.03)+(J32/$J$6*0.04))*100 -> 1.0568427 | L32: =신설관서참고자료!F8/1000 -> 318432.19 | M32: 318432.19 | O32: 318432.19 | P32: =O32/$O$6*100 -> 1.1537398 | Q32: =O32*40% -> 127372.88
A33: 안산우체국 | B33: 4 | C33: =VLOOKUP(A33,'2013년실적'!$D$10:$G$50,4,0)/1000 -> 2149842.8 | D33: =VLOOKUP(A33,'2014년실적'!$D$10:$G$50,4,0)/1000 -> 1766157.4 | E33: 1586634.7 | F33: =VLOOKUP(A33,'2015년실적'!$D$10:$J$50,6,0)/1000 -> 1708669.1 | G33: =VLOOKUP(A33,'2015년실적'!$D$10:$J$50,7,0)/1000 -> 1586634.7 | H33: =VLOOKUP(A33,관서수!$A$3:$H$44,8,0) -> 14 | I33: =VLOOKUP(A33,보험모집희망직원!$B$14:$H$54,3,0) -> 93 | J33: =IFERROR(VLOOKUP(A33,우체국FC수!$B$3:$C$41,2,0),0) -> 47.411765 | K33: =((C33/$C$6*0.18)+(D33/$D$6*0.27)+(E33/$E$6*0.45)+(H33/$H$6*0.03)+(I33/$I$6*0.03)+(J33/$J$6*0.04))*100 -> 6.0309641 | L33: =(K33*(27600000-$L$49))/(100-$K$49) -> 1664546.1 | M33: =IF(#REF!<-10,#REF!*0.9,IF(AND(#REF!>=-10,#REF!<0),#REF!*0.92,IF(#REF!>0,#REF!*0.935))) -> #REF! | N33: =$M$49*K33/(100-$N$49) -> 0 | O33: 1745105.6 | P33: =O33/$O$6*100 -> 6.3228465 | Q33: =O33*40% -> 698042.26
A34: 수원우체국 | B34: 4 | C34: 1428596 | D34: 1194488 | E34: 1215798.7 | F34: 1268938.8 | G34: 1215798.7 | H34: =VLOOKUP(A34,관서수!$A$3:$H$44,8,0) -> 9 | I34: =VLOOKUP(A34,보험모집희망직원!$B$14:$H$54,3,0) -> 82 | J34: =IFERROR(VLOOKUP(A34,우체국FC수!$B$3:$C$41,2,0),0) -> 40.529412 | K34: =((C34/$C$6*0.18)+(D34/$D$6*0.27)+(E34/$E$6*0.45)+(H34/$H$6*0.03)+(I34/$I$6*0.03)+(J34/$J$6*0.04))*100 -> 4.3673837 | L34: =(K34*(27600000-$L$49))/(100-$K$49) -> 1205397.9 | M34: =IF(#REF!<-10,#REF!*0.9,IF(AND(#REF!>=-10,#REF!<0),#REF!*0.92,IF(#REF!>0,#REF!*0.935))) -> #REF! | N34: =$M$49*K34/(100-$N$49) -> 0 | O34: 1205752.5 | P34: =O34/$O$6*100 -> 4.3686684 | Q34: =O34*40% -> 482300.99
A35: 서수원우체국 | B35: 4 | C35: 401709.87 | D35: 316118.51 | E35: 441454.31 | F35: 459323.07 | G35: 441454.31 | H35: =VLOOKUP(A35,관서수!$A$3:$H$44,8,0) -> 4 | I35: =VLOOKUP(A35,보험모집희망직원!$B$14:$H$54,3,0) -> 98 | J35: =IFERROR(VLOOKUP(A35,우체국FC수!$B$3:$C$41,2,0),0) -> 11.333333 | K35: =((C35/$C$6*0.18)+(D35/$D$6*0.27)+(E35/$E$6*0.45)+(H35/$H$6*0.03)+(I35/$I$6*0.03)+(J35/$J$6*0.04))*100 -> 1.4616071 | L35: =신설관서참고자료!F5/1000 -> 481586.52 | M35: 481586.52 | O35: 481586.52 | P35: =O35/$O$6*100 -> 1.7448787 | Q35: =O35*40% -> 192634.61
A36: 동수원우체국 | B36: 4 | C36: 1437204 | D36: 1139477 | E36: 1148126.6 | F36: 1191618.6 | G36: 1148126.6 | H36: =VLOOKUP(A36,관서수!$A$3:$H$44,8,0) -> 9 | I36: =VLOOKUP(A36,보험모집희망직원!$B$14:$H$54,3,0) -> 58 | J36: =IFERROR(VLOOKUP(A36,우체국FC수!$B$3:$C$41,2,0),0) -> 46.882353 | K36: =((C36/$C$6*0.18)+(D36/$D$6*0.27)+(E36/$E$6*0.45)+(H36/$H$6*0.03)+(I36/$I$6*0.03)+(J36/$J$6*0.04))*100 -> 4.2069393 | L36: =(K36*(27600000-$L$49))/(100-$K$49) -> 1161115.2 | M36: =IF(#REF!<-10,#REF!*0.9,IF(AND(#REF!>=-10,#REF!<0),#REF!*0.92,IF(#REF!>0,#REF!*0.935))) -> #REF! | N36: =$M$49*K36/(100-$N$49) -> 0 | O36: 1130668.6 | P36: =O36/$O$6*100 -> 4.0966254 | Q36: =O36*40% -> 452267.44
A37: 군포우체국 | B37: 4 | C37: =VLOOKUP(A37,'2013년실적'!$D$10:$G$50,4,0)/1000 -> 1271157.7 | D37: =VLOOKUP(A37,'2014년실적'!$D$10:$G$50,4,0)/1000 -> 1003124.4 | E37: 858731.9 | F37: =VLOOKUP(A37,'2015년실적'!$D$10:$J$50,6,0)/1000 -> 930794.13 | G37: =VLOOKUP(A37,'2015년실적'!$D$10:$J$50,7,0)/1000 -> 858731.9 | H37: =VLOOKUP(A37,관서수!$A$3:$H$44,8,0) -> 8 | I37: =VLOOKUP(A37,보험모집희망직원!$B$14:$H$54,3,0) -> 84 | J37: =IFERROR(VLOOKUP(A37,우체국FC수!$B$3:$C$41,2,0),0) -> 32.794118 | K37: =((C37/$C$6*0.18)+(D37/$D$6*0.27)+(E37/$E$6*0.45)+(H37/$H$6*0.03)+(I37/$I$6*0.03)+(J37/$J$6*0.04))*100 -> 3.4342748 | L37: =(K37*(27600000-$L$49))/(100-$K$49) -> 947859.84 | M37: =IF(#REF!<-10,#REF!*0.9,IF(AND(#REF!>=-10,#REF!<0),#REF!*0.92,IF(#REF!>0,#REF!*0.935))) -> #REF! | N37: =$M$49*K37/(100-$N$49) -> 0 | O37: 994985.92 | P37: =O37/$O$6*100 -> 3.6050215 | Q37: =O37*40% -> 397994.37
A38: 안양우체국 | B38: 4 | C38: =VLOOKUP(A38,'2013년실적'!$D$10:$G$50,4,0)/1000 -> 1924020.6 | D38: =VLOOKUP(A38,'2014년실적'!$D$10:$G$50,4,0)/1000 -> 1622562.1 | E38: 1585468.7 | F38: =VLOOKUP(A38,'2015년실적'!$D$10:$J$50,6,0)/1000 -> 1723781.4 | G38: =VLOOKUP(A38,'2015년실적'!$D$10:$J$50,7,0)/1000 -> 1585468.7 | H38: =VLOOKUP(A38,관서수!$A$3:$H$44,8,0) -> 10 | I38: =VLOOKUP(A38,보험모집희망직원!$B$14:$H$54,3,0) -> 83 | J38: =IFERROR(VLOOKUP(A38,우체국FC수!$B$3:$C$41,2,0),0) -> 41.352941 | K38: =((C38/$C$6*0.18)+(D38/$D$6*0.27)+(E38/$E$6*0.45)+(H38/$H$6*0.03)+(I38/$I$6*0.03)+(J38/$J$6*0.04))*100 -> 5.7017273 | L38: =(K38*(27600000-$L$49))/(100-$K$49) -> 1573676.7 | M38: =IF(#REF!<-10,#REF!*0.9,IF(AND(#REF!>=-10,#REF!<0),#REF!*0.92,IF(#REF!>0,#REF!*0.935))) -> #REF! | N38: =$M$49*K38/(100-$N$49) -> 0 | O38: 1609939.3 | P38: =O38/$O$6*100 -> 5.8331135 | Q38: =O38*40% -> 643975.73
A39: 성남분당우체국 | B39: 4 | C39: =VLOOKUP(A39,'2013년실적'!$D$10:$G$50,4,0)/1000 -> 1081765 | D39: =VLOOKUP(A39,'2014년실적'!$D$10:$G$50,4,0)/1000 -> 832904.3 | E39: 747250.54 | F39: =VLOOKUP(A39,'2015년실적'!$D$10:$J$50,6,0)/1000 -> 916830.92 | G39: =VLOOKUP(A39,'2015년실적'!$D$10:$J$50,7,0)/1000 -> 747250.54 | H39: =VLOOKUP(A39,관서수!$A$3:$H$44,8,0) -> 9 | I39: =VLOOKUP(A39,보험모집희망직원!$B$14:$H$54,3,0) -> 88 | J39: =IFERROR(VLOOKUP(A39,우체국FC수!$B$3:$C$41,2,0),0) -> 26.911765 | K39: =((C39/$C$6*0.18)+(D39/$D$6*0.27)+(E39/$E$6*0.45)+(H39/$H$6*0.03)+(I39/$I$6*0.03)+(J39/$J$6*0.04))*100 -> 2.9578539 | L39: =(K39*(27600000-$L$49))/(100-$K$49) -> 816367.67 | M39: =IF(#REF!<-10,#REF!*0.9,IF(AND(#REF!>=-10,#REF!<0),#REF!*0.92,IF(#REF!>0,#REF!*0.935))) -> #REF! | N39: =$M$49*K39/(100-$N$49) -> 0 | O39: 826699.17 | P39: =O39/$O$6*100 -> 2.9952868 | Q39: =O39*40% -> 330679.67
A40: 고양일산우체국 | B40: 4 | C40: =VLOOKUP(A40,'2013년실적'!$D$10:$G$50,4,0)/1000 -> 1219680.1 | D40: =VLOOKUP(A40,'2014년실적'!$D$10:$G$50,4,0)/1000 -> 976659.48 | E40: 941360.33 | F40: =VLOOKUP(A40,'2015년실적'!$D$10:$J$50,6,0)/1000 -> 1027317.7 | G40: =VLOOKUP(A40,'2015년실적'!$D$10:$J$50,7,0)/1000 -> 941360.33 | H40: =VLOOKUP(A40,관서수!$A$3:$H$44,8,0) -> 9 | I40: =VLOOKUP(A40,보험모집희망직원!$B$14:$H$54,3,0) -> 85 | J40: =IFERROR(VLOOKUP(A40,우체국FC수!$B$3:$C$41,2,0),0) -> 29.941176 | K40: =((C40/$C$6*0.18)+(D40/$D$6*0.27)+(E40/$E$6*0.45)+(H40/$H$6*0.03)+(I40/$I$6*0.03)+(J40/$J$6*0.04))*100 -> 3.5200525 | L40: =(K40*(27600000-$L$49))/(100-$K$49) -> 971534.49 | M40: =IF(#REF!<-10,#REF!*0.9,IF(AND(#REF!>=-10,#REF!<0),#REF!*0.92,IF(#REF!>0,#REF!*0.935))) -> #REF! | N40: =$M$49*K40/(100-$N$49) -> 0 | O40: 989503.72 | P40: =O40/$O$6*100 -> 3.5851584 | Q40: =O40*40% -> 395801.49
A41: 서인천우체국 | B41: 4 | C41: =VLOOKUP(A41,'2013년실적'!$D$10:$G$50,4,0)/1000 -> 1218594.2 | D41: =VLOOKUP(A41,'2014년실적'!$D$10:$G$50,4,0)/1000 -> 909598.83 | E41: 843996.75 | F41: =VLOOKUP(A41,'2015년실적'!$D$10:$J$50,6,0)/1000 -> 869203.18 | G41: =VLOOKUP(A41,'2015년실적'!$D$10:$J$50,7,0)/1000 -> 843996.75 | H41: =VLOOKUP(A41,관서수!$A$3:$H$44,8,0) -> 8 | I41: =VLOOKUP(A41,보험모집희망직원!$B$14:$H$54,3,0) -> 59 | J41: =IFERROR(VLOOKUP(A41,우체국FC수!$B$3:$C$41,2,0),0) -> 30.441176 | K41: =((C41/$C$6*0.18)+(D41/$D$6*0.27)+(E41/$E$6*0.45)+(H41/$H$6*0.03)+(I41/$I$6*0.03)+(J41/$J$6*0.04))*100 -> 3.2540779 | L41: =(K41*(27600000-$L$49))/(100-$K$49) -> 898125.5 | M41: =IF(#REF!<-10,#REF!*0.9,IF(AND(#REF!>=-10,#REF!<0),#REF!*0.92,IF(#REF!>0,#REF!*0.935))) -> #REF! | N41: =$M$49*K41/(100-$N$49) -> 0 | O41: 956844.12 | P41: =O41/$O$6*100 -> 3.4668265 | Q41: =O41*40% -> 382737.65
A42: 부천우체국 | B42: 4 | C42: =VLOOKUP(A42,'2013년실적'!$D$10:$G$50,4,0)/1000 -> 2143872.4 | D42: =VLOOKUP(A42,'2014년실적'!$D$10:$G$50,4,0)/1000 -> 1592701.8 | E42: 1544030.5 | F42: =VLOOKUP(A42,'2015년실적'!$D$10:$J$50,6,0)/1000 -> 1818866.2 | G42: =VLOOKUP(A42,'2015년실적'!$D$10:$J$50,7,0)/1000 -> 1544030.5 | H42: =VLOOKUP(A42,관서수!$A$3:$H$44,8,0) -> 16 | I42: =VLOOKUP(A42,보험모집희망직원!$B$14:$H$54,3,0) -> 110 | J42: =IFERROR(VLOOKUP(A42,우체국FC수!$B$3:$C$41,2,0),0) -> 44.441176 | K42: =((C42/$C$6*0.18)+(D42/$D$6*0.27)+(E42/$E$6*0.45)+(H42/$H$6*0.03)+(I42/$I$6*0.03)+(J42/$J$6*0.04))*100 -> 5.7976834 | L42: =(K42*(27600000-$L$49))/(100-$K$49) -> 1600160.6 | M42: =IF(#REF!<-10,#REF!*0.9,IF(AND(#REF!>=-10,#REF!<0),#REF!*0.92,IF(#REF!>0,#REF!*0.935))) -> #REF! | N42: =$M$49*K42/(100-$N$49) -> 0 | O42: 1664572 | P42: =O42/$O$6*100 -> 6.0310581 | Q42: =O42*40% -> 665828.82
A43: 고양덕양우체국 | B43: 4 | C43: =VLOOKUP(A43,'2013년실적'!$D$10:$G$50,4,0)/1000 -> 929047.17 | D43: =VLOOKUP(A43,'2014년실적'!$D$10:$G$50,4,0)/1000 -> 589333.77 | E43: 574219.05 | F43: =VLOOKUP(A43,'2015년실적'!$D$10:$J$50,6,0)/1000 -> 633797.8 | G43: =VLOOKUP(A43,'2015년실적'!$D$10:$J$50,7,0)/1000 -> 574219.05 | H43: =VLOOKUP(A43,관서수!$A$3:$H$44,8,0) -> 10 | I43: =VLOOKUP(A43,보험모집희망직원!$B$14:$H$54,3,0) -> 82 | J43: =IFERROR(VLOOKUP(A43,우체국FC수!$B$3:$C$41,2,0),0) -> 21.794118 | K43: =((C43/$C$6*0.18)+(D43/$D$6*0.27)+(E43/$E$6*0.45)+(H43/$H$6*0.03)+(I43/$I$6*0.03)+(J43/$J$6*0.04))*100 -> 2.3143043 | L43: =(K43*(27600000-$L$49))/(100-$K$49) -> 638748 | M43: =IF(#REF!<-10,#REF!*0.9,IF(AND(#REF!>=-10,#REF!<0),#REF!*0.92,IF(#REF!>0,#REF!*0.935))) -> #REF! | N43: =$M$49*K43/(100-$N$49) -> 0 | O43: 622652.66 | P43: =O43/$O$6*100 -> 2.2559879 | Q43: =O43*40% -> 249061.06
A44: 인천계양우체국 | B44: 4 | C44: =VLOOKUP(A44,'2013년실적'!$D$10:$G$50,4,0)/1000 -> 598113.05 | D44: =VLOOKUP(A44,'2014년실적'!$D$10:$G$50,4,0)/1000 -> 451701.62 | E44: 433496.33 | F44: =VLOOKUP(A44,'2015년실적'!$D$10:$J$50,6,0)/1000 -> 468711.87 | G44: =VLOOKUP(A44,'2015년실적'!$D$10:$J$50,7,0)/1000 -> 433496.33 | H44: =VLOOKUP(A44,관서수!$A$3:$H$44,8,0) -> 5 | I44: =VLOOKUP(A44,보험모집희망직원!$B$14:$H$54,3,0) -> 56 | J44: =IFERROR(VLOOKUP(A44,우체국FC수!$B$3:$C$41,2,0),0) -> 17.558824 | K44: =((C44/$C$6*0.18)+(D44/$D$6*0.27)+(E44/$E$6*0.45)+(H44/$H$6*0.03)+(I44/$I$6*0.03)+(J44/$J$6*0.04))*100 -> 1.6814637 | L44: =(K44*(27600000-$L$49))/(100-$K$49) -> 464083.98 | M44: =IF(#REF!<-10,#REF!*0.9,IF(AND(#REF!>=-10,#REF!<0),#REF!*0.92,IF(#REF!>0,#REF!*0.935))) -> #REF! | N44: =$M$49*K44/(100-$N$49) -> 0 | O44: 472050.26 | P44: =O44/$O$6*100 -> 1.710327 | Q44: =O44*40% -> 188820.1
A45: 용인수지우체국 | B45: 4 | C45: =VLOOKUP(A45,'2013년실적'!$D$10:$G$50,4,0)/1000 -> 580388.72 | D45: =VLOOKUP(A45,'2014년실적'!$D$10:$G$50,4,0)/1000 -> 462487.4 | E45: 422213.53 | F45: =VLOOKUP(A45,'2015년실적'!$D$10:$J$50,6,0)/1000 -> 491352.31 | G45: =VLOOKUP(A45,'2015년실적'!$D$10:$J$50,7,0)/1000 -> 422213.53 | H45: =VLOOKUP(A45,관서수!$A$3:$H$44,8,0) -> 6 | I45: =VLOOKUP(A45,보험모집희망직원!$B$14:$H$54,3,0) -> 70 | J45: =IFERROR(VLOOKUP(A45,우체국FC수!$B$3:$C$41,2,0),0) -> 18.617647 | K45: =((C45/$C$6*0.18)+(D45/$D$6*0.27)+(E45/$E$6*0.45)+(H45/$H$6*0.03)+(I45/$I$6*0.03)+(J45/$J$6*0.04))*100 -> 1.6893093 | L45: =(K45*(27600000-$L$49))/(100-$K$49) -> 466249.36 | M45: =IF(#REF!<-10,#REF!*0.9,IF(AND(#REF!>=-10,#REF!<0),#REF!*0.92,IF(#REF!>0,#REF!*0.935))) -> #REF! | N45: =$M$49*K45/(100-$N$49) -> 0 | O45: 468456.24 | P45: =O45/$O$6*100 -> 1.6973052 | Q45: =O45*40% -> 187382.49
A46: 남양주우체국 | B46: 4 | C46: =VLOOKUP(A46,'2013년실적'!$D$10:$G$50,4,0)/1000 -> 1022872.9 | D46: =VLOOKUP(A46,'2014년실적'!$D$10:$G$50,4,0)/1000 -> 756404.94 | E46: 667232.58 | F46: =VLOOKUP(A46,'2015년실적'!$D$10:$J$50,6,0)/1000 -> 706440.07 | G46: =VLOOKUP(A46,'2015년실적'!$D$10:$J$50,7,0)/1000 -> 667232.58 | H46: =VLOOKUP(A46,관서수!$A$3:$H$44,8,0) -> 10 | I46: =VLOOKUP(A46,보험모집희망직원!$B$14:$H$54,3,0) -> 77 | J46: =IFERROR(VLOOKUP(A46,우체국FC수!$B$3:$C$41,2,0),0) -> 25.323529 | K46: =((C46/$C$6*0.18)+(D46/$D$6*0.27)+(E46/$E$6*0.45)+(H46/$H$6*0.03)+(I46/$I$6*0.03)+(J46/$J$6*0.04))*100 -> 2.7025212 | L46: =(K46*(27600000-$L$49))/(100-$K$49) -> 745895.84 | M46: =IF(#REF!<-10,#REF!*0.9,IF(AND(#REF!>=-10,#REF!<0),#REF!*0.92,IF(#REF!>0,#REF!*0.935))) -> #REF! | N46: =$M$49*K46/(100-$N$49) -> 0 | O46: 792119.85 | P46: =O46/$O$6*100 -> 2.8699995 | Q46: =O46*40% -> 316847.94
A47: 화성우체국 | B47: 4 | C47: =VLOOKUP(A47,'2013년실적'!$D$10:$G$50,4,0)/1000 -> 771217.92 | D47: =VLOOKUP(A47,'2014년실적'!$D$10:$G$50,4,0)/1000 -> 574114.85 | E47: 558759.03 | F47: =VLOOKUP(A47,'2015년실적'!$D$10:$J$50,6,0)/1000 -> 592792.65 | G47: =VLOOKUP(A47,'2015년실적'!$D$10:$J$50,7,0)/1000 -> 558759.03 | H47: =VLOOKUP(A47,관서수!$A$3:$H$44,8,0) -> 17 | I47: =VLOOKUP(A47,보험모집희망직원!$B$14:$H$54,3,0) -> 165 | J47: =IFERROR(VLOOKUP(A47,우체국FC수!$B$3:$C$41,2,0),0) -> 18.264706 | K47: =((C47/$C$6*0.18)+(D47/$D$6*0.27)+(E47/$E$6*0.45)+(H47/$H$6*0.03)+(I47/$I$6*0.03)+(J47/$J$6*0.04))*100 -> 2.3060557 | L47: =(K47*(27600000-$L$49))/(100-$K$49) -> 636471.37 | M47: 590128 | O47: 593989 | P47: =O47/$O$6*100 -> 2.1521341 | Q47: =O47*40% -> 237595.6

Sheet FC 이동실적 반영
C1: 2016년도 경인청 보험사업 영업목표 산출근거
A4: 구 분 | B4: 배정기준 | I4: 2016년 목표액
B5: 최근3년간 실적 | E5: 관서수 (3%) | F5: 보험모집 희망직원 (3%) | G5: 우체국FC수 (4%) | H5: 점유율 | I5: 16년 목표 | J5: 15년 목표대비 | O5: 15년 실적대비 (1~11월정산,12월환산)
B6: 2013년 (18%) | C6: 2014년 (27%) | D6: 2015년 (45%) | J6: 금액 | K6: 점유율 | L6: 점유율증감 | M6: 금액 | N6: 증감률 | O6: 실적 (12월만 환산) | P6: 금액 | Q6: 금액증감률
A7: 합 계 | B7: =SUM(B8:B31,B34:B35,B39:B50) -> 35315446 | C7: =SUM(C8:C31,C34:C35,C39:C50) -> 26988781 | D7: =SUM(D8:D31,D34:D35,D39:D50) -> 28016091 | E7: =SUM(E8:E31,E34:E35,E39:E50) -> 391 | F7: =SUM(F8:F31,F34:F35,F39:F50) -> 3229 | G7: =SUM(G8:G31,G34:G35,G39:G50) -> 851 | H7: =SUM(H8:H31,H34:H35,H39:H50) -> 100 | I7: =SUM(I8:I31,I34:I35,I39:I50) -> 27600000 | ... K7: =SUM(K8:K31,K34:K35,K39:K50) -> 100 | M7: =SUM(M8:M31,M34:M35,M39:M50) -> -2500000 | O7: =SUM(O8:O31,O34:O35,O39:O50) -> 29516514 | P7: =SUM(P8:P31,P34:P35,P39:P50) -> -1916514
A8: 평택우체국 | B8: 1113891.3 | C8: 844745.68 | D8: 875478.7 | E8: =VLOOKUP(A8,관서수!$A$3:$H$44,8,0) -> 19 | F8: =VLOOKUP(A8,보험모집희망직원!$B$14:$H$54,3,0) -> 147 | G8: =IFERROR(VLOOKUP(A8,우체국FC수!$B$3:$C$41,2,0),0) -> 15.5 | H8: =((B8/$B$7*0.18)+(C8/$C$7*0.27)+(D8/$D$7*0.45)+(E8/$E$7*0.03)+(F8/$F$7*0.03)+(G8/$G$7*0.04))*100 -> 3.1742598 | I8: =H8*27600000/100 -> 876095.71 | J8: =VLOOKUP(A8,'2015년목표'!$B$2:$C$43,2,0) -> 960602 | K8: =J8/30100000% -> 3.1913688 | L8: =H8-K8 -> -0.017108951 | M8: =I8-J8 -> -84506.29 | N8: =M8/J8% -> -8.7972219 | O8: =VLOOKUP(A8,[1]관서별실적!$S$5:$V$45,4,0)/1000 -> 925132.11 | P8: =I8-O8 -> -49036.405 | Q8: =P8/O8% -> -5.3004759
A9: 인천우체국 | B9: 1012601.7 | C9: 724103.51 | D9: 710645.67 | E9: =VLOOKUP(A9,관서수!$A$3:$H$44,8,0) -> 19 | F9: =VLOOKUP(A9,보험모집희망직원!$B$14:$H$54,3,0) -> 116 | G9: =IFERROR(VLOOKUP(A9,우체국FC수!$B$3:$C$41,2,0),0) -> 23.852941 | H9: =((B9/$B$7*0.18)+(C9/$C$7*0.27)+(D9/$D$7*0.45)+(E9/$E$7*0.03)+(F9/$F$7*0.03)+(G9/$G$7*0.04))*100 -> 2.7476432 | I9: =H9*27600000/100 -> 758349.53 | J9: =VLOOKUP(A9,'2015년목표'!$B$2:$C$43,2,0) -> 829869 | K9: =J9/30100000% -> 2.7570399 | L9: =H9-K9 -> -0.0093966302 | M9: =I9-J9 -> -71519.467 | N9: =M9/J9% -> -8.6181634 | O9: =VLOOKUP(A9,[1]관서별실적!$S$5:$V$45,4,0)/1000 -> 750918.56 | P9: =I9-O9 -> 7430.9764 | Q9: =P9/O9% -> 0.98958486
A10: 부평우체국 | B10: 1037177.4 | C10: 808004.23 | D10: 808721.08 | E10: =VLOOKUP(A10,관서수!$A$3:$H$44,8,0) -> 11 | F10: =VLOOKUP(A10,보험모집희망직원!$B$14:$H$54,3,0) -> 91 | G10: =IFERROR(VLOOKUP(A10,우체국FC수!$B$3:$C$41,2,0),0) -> 24.147059 | H10: =((B10/$B$7*0.18)+(C10/$C$7*0.27)+(D10/$D$7*0.45)+(E10/$E$7*0.03)+(F10/$F$7*0.03)+(G10/$G$7*0.04))*100 -> 2.9184099 | I10: =H10*27600000/100 -> 805481.13 | J10: =VLOOKUP(A10,'2015년목표'!$B$2:$C$43,2,0) -> 883701 | K10: =J10/30100000% -> 2.9358837 | L10: =H10-K10 -> -0.017473824 | M10: =I10-J10 -> -78219.869 | N10: =M10/J10% -> -8.8513953 | O10: =VLOOKUP(A10,[1]관서별실적!$S$5:$V$45,4,0)/1000 -> 859158.87 | P10: =I10-O10 -> -53677.739 | Q10: =P10/O10% -> -6.2477081
A11: 오산우체국 | B11: 348306.45 | C11: 307578.13 | D11: 326797.95 | E11: =VLOOKUP(A11,관서수!$A$3:$H$44,8,0) -> 3 | F11: =VLOOKUP(A11,보험모집희망직원!$B$14:$H$54,3,0) -> 40 | G11: =IFERROR(VLOOKUP(A11,우체국FC수!$B$3:$C$41,2,0),0) -> 12.147059 | H11: =((B11/$B$7*0.18)+(C11/$C$7*0.27)+(D11/$D$7*0.45)+(E11/$E$7*0.03)+(F11/$F$7*0.03)+(G11/$G$7*0.04))*100 -> 1.1274209 | I11: =H11*27600000/100 -> 311168.17 | J11: =VLOOKUP(A11,'2015년목표'!$B$2:$C$43,2,0) -> 333928 | K11: =J11/30100000% -> 1.1093953 | L11: =H11-K11 -> 0.01802556 | M11: =I11-J11 -> -22759.829 | N11: =M11/J11% -> -6.8157894 | O11: =VLOOKUP(A11,[1]관서별실적!$S$5:$V$45,4,0)/1000 -> 341160.02 | P11: =I11-O11 -> -29991.845 | Q11: =P11/O11% -> -8.7911372
A12: 안성우체국 | B12: 362447.49 | C12: 245304.02 | D12: 325288.3 | E12: =VLOOKUP(A12,관서수!$A$3:$H$44,8,0) -> 14 | F12: =VLOOKUP(A12,보험모집희망직원!$B$14:$H$54,3,0) -> 99 | G12: =IFERROR(VLOOKUP(A12,우체국FC수!$B$3:$C$41,2,0),0) -> 8.8823529 | H12: =((B12/$B$7*0.18)+(C12/$C$7*0.27)+(D12/$D$7*0.45)+(E12/$E$7*0.03)+(F12/$F$7*0.03)+(G12/$G$7*0.04))*100 -> 1.1937731 | I12: =H12*27600000/100 -> 329481.37 | J12: =VLOOKUP(A12,'2015년목표'!$B$2:$C$43,2,0) -> 271711 | K12: =J12/30100000% -> 0.90269435 | L12: =H12-K12 -> 0.29107873 | M12: =I12-J12 -> 57770.371 | N12: =M12/J12% -> 21.261698 | O12: =VLOOKUP(A12,[1]관서별실적!$S$5:$V$45,4,0)/1000 -> 346815.47 | P12: =I12-O12 -> -17334.103 | Q12: =P12/O12% -> -4.9980765
A13: 가평우체국 | B13: 156740.8 | C13: 82485.018 | D13: 106304.7 | E13: =VLOOKUP(A13,관서수!$A$3:$H$44,8,0) -> 6 | F13: =VLOOKUP(A13,보험모집희망직원!$B$14:$H$54,3,0) -> 64 | G13: =IFERROR(VLOOKUP(A13,우체국FC수!$B$3:$C$41,2,0),0) -> 1.5294118 | H13: =((B13/$B$7*0.18)+(C13/$C$7*0.27)+(D13/$D$7*0.45)+(E13/$E$7*0.03)+(F13/$F$7*0.03)+(G13/$G$7*0.04))*100 -> 0.44584327 | I13: =H13*27600000/100 -> 123052.74 | J13: =VLOOKUP(A13,'2015년목표'!$B$2:$C$43,2,0) -> 98929 | K13: =J13/30100000% -> 0.32866777 | L13: =H13-K13 -> 0.11717549 | M13: =I13-J13 -> 24123.742 | N13: =M13/J13% -> 24.384904 | O13: =VLOOKUP(A13,[1]관서별실적!$S$5:$V$45,4,0)/1000 -> 107554.16 | P13: =I13-O13 -> 15498.58 | Q13: =P13/O13% -> 14.410023
A14: 파주우체국 | B14: 506501.05 | C14: 367571.43 | D14: 402374.92 | E14: =VLOOKUP(A14,관서수!$A$3:$H$44,8,0) -> 16 | F14: =VLOOKUP(A14,보험모집희망직원!$B$14:$H$54,3,0) -> 131 | G14: =IFERROR(VLOOKUP(A14,우체국FC수!$B$3:$C$41,2,0),0) -> 14.676471 | H14: =((B14/$B$7*0.18)+(C14/$C$7*0.27)+(D14/$D$7*0.45)+(E14/$E$7*0.03)+(F14/$F$7*0.03)+(G14/$G$7*0.04))*100 -> 1.5856426 | I14: =H14*27600000/100 -> 437637.35 | J14: =VLOOKUP(A14,'2015년목표'!$B$2:$C$43,2,0) -> 419481 | K14: =J14/30100000% -> 1.3936246 | L14: =H14-K14 -> 0.19201797 | M14: =I14-J14 -> 18156.346 | N14: =M14/J14% -> 4.328288 | O14: =VLOOKUP(A14,[1]관서별실적!$S$5:$V$45,4,0)/1000 -> 427038.22 | P14: =I14-O14 -> 10599.125 | Q14: =P14/O14% -> 2.4820084
A15: 강화우체국 | B15: 249800.98 | C15: 109339.73 | D15: 105697.79 | E15: =VLOOKUP(A15,관서수!$A$3:$H$44,8,0) -> 13 | F15: =VLOOKUP(A15,보험모집희망직원!$B$14:$H$54,3,0) -> 88 | G15: =IFERROR(VLOOKUP(A15,우체국FC수!$B$3:$C$41,2,0),0) -> 2.7941176 | H15: =((B15/$B$7*0.18)+(C15/$C$7*0.27)+(D15/$D$7*0.45)+(E15/$E$7*0.03)+(F15/$F$7*0.03)+(G15/$G$7*0.04))*100 -> 0.60111726 | I15: =H15*27600000/100 -> 165908.36 | J15: =VLOOKUP(A15,'2015년목표'!$B$2:$C$43,2,0) -> 129862 | K15: =J15/30100000% -> 0.43143522 | L15: =H15-K15 -> 0.16968205 | M15: =I15-J15 -> 36046.364 | N15: =M15/J15% -> 27.757438 | O15: =VLOOKUP(A15,[1]관서별실적!$S$5:$V$45,4,0)/1000 -> 108126.51 | P15: =I15-O15 -> 57781.856 | Q15: =P15/O15% -> 53.439122
A16: 양평우체국 | B16: 227113.06 | C16: 117588.84 | D16: 140041.85 | E16: =VLOOKUP(A16,관서수!$A$3:$H$44,8,0) -> 12 | F16: =VLOOKUP(A16,보험모집희망직원!$B$14:$H$54,3,0) -> 79 | G16: =IFERROR(VLOOKUP(A16,우체국FC수!$B$3:$C$41,2,0),0) -> 0.35294118 | H16: =((B16/$B$7*0.18)+(C16/$C$7*0.27)+(D16/$D$7*0.45)+(E16/$E$7*0.03)+(F16/$F$7*0.03)+(G16/$G$7*0.04))*100 -> 0.6254613 | I16: =H16*27600000/100 -> 172627.32 | J16: =VLOOKUP(A16,'2015년목표'!$B$2:$C$43,2,0) -> 138906 | K16: =J16/30100000% -> 0.46148173 | L16: =H16-K16 -> 0.16397958 | M16: =I16-J16 -> 33721.32 | N16: =M16/J16% -> 24.27636 | O16: =VLOOKUP(A16,[1]관서별실적!$S$5:$V$45,4,0)/1000 -> 141260.38 | P16: =I16-O16 -> 31366.939 | Q16: =P16/O16% -> 22.205051
A17: 경기광주우체국 | B17: 464028.47 | C17: 356895.42 | D17: 350323.42 | E17: =VLOOKUP(A17,관서수!$A$3:$H$44,8,0) -> 7 | F17: =VLOOKUP(A17,보험모집희망직원!$B$14:$H$54,3,0) -> 45 | G17: =IFERROR(VLOOKUP(A17,우체국FC수!$B$3:$C$41,2,0),0) -> 14.205882 | H17: =((B17/$B$7*0.18)+(C17/$C$7*0.27)+(D17/$D$7*0.45)+(E17/$E$7*0.03)+(F17/$F$7*0.03)+(G17/$G$7*0.04))*100 -> 1.3185415 | I17: =H17*27600000/100 -> 363917.45 | J17: =VLOOKUP(A17,'2015년목표'!$B$2:$C$43,2,0) -> 387199 | K17: =J17/30100000% -> 1.2863754 | L17: =H17-K17 -> 0.032166086 | M17: =I17-J17 -> -23281.546 | N17: =M17/J17% -> -6.0128114 | O17: =VLOOKUP(A17,[1]관서별실적!$S$5:$V$45,4,0)/1000 -> 366614.36 | P17: =I17-O17 -> -2696.9097 | Q17: =P17/O17% -> -0.73562576
A18: 여주우체국 | B18: 293047.32 | C18: 223156.89 | D18: 231575.75 | E18: =VLOOKUP(A18,관서수!$A$3:$H$44,8,0) -> 9 | F18: =VLOOKUP(A18,보험모집희망직원!$B$14:$H$54,3,0) -> 86 | G18: =IFERROR(VLOOKUP(A18,우체국FC수!$B$3:$C$41,2,0),0) -> 6.9705882 | H18: =((B18/$B$7*0.18)+(C18/$C$7*0.27)+(D18/$D$7*0.45)+(E18/$E$7*0.03)+(F18/$F$7*0.03)+(G18/$G$7*0.04))*100 -> 0.92629391 | I18: =H18*27600000/100 -> 255657.12 | J18: =VLOOKUP(A18,'2015년목표'!$B$2:$C$43,2,0) -> 242694 | K18: =J18/30100000% -> 0.80629236 | L18: =H18-K18 -> 0.12000155 | M18: =I18-J18 -> 12963.119 | N18: =M18/J18% -> 5.3413432 | O18: =VLOOKUP(A18,[1]관서별실적!$S$5:$V$45,4,0)/1000 -> 252051.81 | P18: =I18-O18 -> 3605.3104 | Q18: =P18/O18% -> 1.4303847
A19: 김포우체국 | B19: 480601.03 | C19: 421034.6 | D19: 453285.17 | E19: =VLOOKUP(A19,관서수!$A$3:$H$44,8,0) -> 8 | F19: =VLOOKUP(A19,보험모집희망직원!$B$14:$H$54,3,0) -> 51 | G19: =IFERROR(VLOOKUP(A19,우체국FC수!$B$3:$C$41,2,0),0) -> 14.617647 | H19: =((B19/$B$7*0.18)+(C19/$C$7*0.27)+(D19/$D$7*0.45)+(E19/$E$7*0.03)+(F19/$F$7*0.03)+(G19/$G$7*0.04))*100 -> 1.571716 | I19: =H19*27600000/100 -> 433793.61 | J19: =VLOOKUP(A19,'2015년목표'!$B$2:$C$43,2,0) -> 458258 | K19: =J19/30100000% -> 1.5224518 | L19: =H19-K19 -> 0.049264163 | M19: =I19-J19 -> -24464.387 | N19: =M19/J19% -> -5.3385618 | O19: =VLOOKUP(A19,[1]관서별실적!$S$5:$V$45,4,0)/1000 -> 479534.79 | P19: =I19-O19 -> -45741.175 | Q19: =P19/O19% -> -9.5386562
... A31: 광명우체국 | B31: 1151300.2 | C31: 947904.9 | D31: 836978.23 | E31: =VLOOKUP(A31,관서수!$A$3:$H$44,8,0) -> 7 | F31: =VLOOKUP(A31,보험모집희망직원!$B$14:$H$54,3,0) -> 51 | G31: =IFERROR(VLOOKUP(A31,우체국FC수!$B$3:$C$41,2,0),0) -> 29.882353 | H31: =((B31/$B$7*0.18)+(C31/$C$7*0.27)+(D31/$D$7*0.45)+(E31/$E$7*0.03)+(F31/$F$7*0.03)+(G31/$G$7*0.04))*100 -> 3.1210275 | I31: =H31*27600000/100 -> 861403.6 | J31: =VLOOKUP(A31,'2015년목표'!$B$2:$C$43,2,0) -> 1031061 | K31: =J31/30100000% -> 3.4254518 | L31: =H31-K31 -> -0.30442429 | M31: =I31-J31 -> -169657.4 | N31: =M31/J31% -> -16.454642 | O31: =VLOOKUP(A31,[1]관서별실적!$S$5:$V$45,4,0)/1000 -> 885683.29 | P31: =I31-O31 -> -24279.695 | Q31: =P31/O31% -> -2.7413518
A32: 남인천우체국 | B32: 1059098 | C32: 669546 | D32: 627689 | E32: =VLOOKUP(A32,관서수!$A$3:$H$44,8,0) -> 6 | F32: =VLOOKUP(A32,보험모집희망직원!$B$14:$H$54,3,0) -> 62 | G32: =IFERROR(VLOOKUP(A32,우체국FC수!$B$3:$C$41,2,0),0) -> 25.588235 | H32: =((B32/$B$7*0.18)+(C32/$C$7*0.27)+(D32/$D$7*0.45)+(E32/$E$7*0.03)+(F32/$F$7*0.03)+(G32/$G$7*0.04))*100 -> 2.4417571 | I32: =H32*27600000/100 -> 673924.96 | J32: =VLOOKUP(A32,'2015년목표'!$B$2:$C$43,2,0) -> 0 | K32: =J32/30100000% -> 0 | L32: =H32-K32 -> 2.4417571 | M32: =I32-J32 -> 673924.96 | O32: =VLOOKUP(A32,[1]관서별실적!$S$5:$V$45,4,0)/1000 -> 745674.72 | P32: =I32-O32 -> -71749.764 | Q32: =P32/O32% -> -9.6221264
A33: 인천남동우체국 | B33: =B34-B32 -> 356726.17 | C33: =C34-C32 -> 267702.53 | D33: =D34-D32 -> 293441.8 | E33: =VLOOKUP(A33,관서수!$A$3:$H$44,8,0) -> 9 | F33: =VLOOKUP(A33,보험모집희망직원!$B$14:$H$54,3,0) -> 55 | G33: =IFERROR(VLOOKUP(A33,우체국FC수!$B$3:$C$41,2,0),0) -> 8.6666667 | H33: =((B33/$B$7*0.18)+(C33/$C$7*0.27)+(D33/$D$7*0.45)+(E33/$E$7*0.03)+(F33/$F$7*0.03)+(G33/$G$7*0.04))*100 -> 1.0818558 | I33: =H33*27600000/100 -> 298592.2 | J33: =VLOOKUP(A33,'2015년목표'!$B$2:$C$43,2,0) -> 0 | K33: =J33/30100000% -> 0 | L33: =H33-K33 -> 1.0818558 | M33: =I33-J33 -> 298592.2 | O33: =VLOOKUP(A33,[1]관서별실적!$S$5:$V$45,4,0)/1000 -> 233275.99 | P33: =I33-O33 -> 65316.215 | Q33: =P33/O33% -> 27.999545
A34: 소 계 | B34: 1415824.2 | C34: 937248.53 | D34: 921130.8 | E34: =E32+E33 -> 15 | F34: =SUM(F32:F33) -> 117 | G34: =SUM(G32:G33) -> 34.254902 | H34: =((B34/$B$7*0.18)+(C34/$C$7*0.27)+(D34/$D$7*0.45)+(E34/$E$7*0.03)+(F34/$F$7*0.03)+(G34/$G$7*0.04))*100 -> 3.5236129 | I34: =H34*27600000/100 -> 972517.16 | J34: 1035533 | K34: =J34/30100000% -> 3.440309 | L34: =H34-K34 -> 0.083303936 | M34: =I34-J34 -> -63015.838 | N34: =M34/J34% -> -6.0853529 | O34: =SUM(O32:O33) -> 978950.71 | P34: =I34-O34 -> -6433.5489 | Q34: =P34/O34% -> -0.65718823
A35: 안산우체국 | B35: 2149842.8 | C35: 1766157.4 | D35: 1708669.1 | E35: =VLOOKUP(A35,관서수!$A$3:$H$44,8,0) -> 14 | F35: =VLOOKUP(A35,보험모집희망직원!$B$14:$H$54,3,0) -> 93 | G35: =IFERROR(VLOOKUP(A35,우체국FC수!$B$3:$C$41,2,0),0) -> 47.411765 | H35: =((B35/$B$7*0.18)+(C35/$C$7*0.27)+(D35/$D$7*0.45)+(E35/$E$7*0.03)+(F35/$F$7*0.03)+(G35/$G$7*0.04))*100 -> 6.0238206 | I35: =H35*27600000/100 -> 1662574.5 | J35: =VLOOKUP(A35,'2015년목표'!$B$2:$C$43,2,0) -> 1917761 | K35: =J35/30100000% -> 6.371299 | L35: =H35-K35 -> -0.34747836 | M35: =I35-J35 -> -255186.5 | N35: =M35/J35% -> -13.306481 | O35: =VLOOKUP(A35,[1]관서별실적!$S$5:$V$45,4,0)/1000 -> 1794997.9 | P35: =I35-O35 -> -132423.41 | Q35: =P35/O35% -> -7.3773571
A36: 수원우체국 | B36: 1428596 | C36: 1194488 | D36: 1268938.8 | E36: =VLOOKUP(A36,관서수!$A$3:$H$44,8,0) -> 9 | F36: =VLOOKUP(A36,보험모집희망직원!$B$14:$H$54,3,0) -> 82 | G36: =IFERROR(VLOOKUP(A36,우체국FC수!$B$3:$C$41,2,0),0) -> 40.529412 | H36: =((B36/$B$7*0.18)+(C36/$C$7*0.27)+(D36/$D$7*0.45)+(E36/$E$7*0.03)+(F36/$F$7*0.03)+(G36/$G$7*0.04))*100 -> 4.2970638 | I36: =H36*27600000/100 -> 1185989.6 | J36: =VLOOKUP(A36,'2015년목표'!$B$2:$C$43,2,0) -> 1295550 | K36: =J36/30100000% -> 4.3041528 | L36: =H36-K36 -> -0.0070889813 | M36: =I36-J36 -> -109560.38 | N36: =M36/J36% -> -8.4566693 | O36: =VLOOKUP(A36,[1]관서별실적!$S$5:$V$45,4,0)/1000 -> 1357008.3 | P36: =I36-O36 -> -171018.71 | Q36: =P36/O36% -> -12.602628
A37: 서수원우체국 | B37: =B39-B36-B38 -> 401709.87 | C37: =C39-C36-C38 -> 316118.51 | D37: 459323.07 | E37: =VLOOKUP(A37,관서수!$A$3:$H$44,8,0) -> 4 | F37: =VLOOKUP(A37,보험모집희망직원!$B$14:$H$54,3,0) -> 98 | G37: =IFERROR(VLOOKUP(A37,우체국FC수!$B$3:$C$41,2,0),0) -> 11.333333 | H37: =((B37/$B$7*0.18)+(C37/$C$7*0.27)+(D37/$D$7*0.45)+(E37/$E$7*0.03)+(F37/$F$7*0.03)+(G37/$G$7*0.04))*100 -> 1.4337831 | I37: =H37*27600000/100 -> 395724.13 | J37: =VLOOKUP(A37,'2015년목표'!$B$2:$C$43,2,0) -> 556360 | K37: =J37/30100000% -> 1.8483721 | L37: =H37-K37 -> -0.414589 | M37: =I37-J37 -> -160635.87 | N37: =M37/J37% -> -28.872648 | O37: =VLOOKUP(A37,[1]관서별실적!$S$5:$V$45,4,0)/1000 -> 493474.38 | P37: =I37-O37 -> -97750.246 | Q37: =P37/O37% -> -19.808576
A38: 동수원우체국 | B38: 1437204 | C38: 1139477 | D38: 1191618.6 | E38: =VLOOKUP(A38,관서수!$A$3:$H$44,8,0) -> 9 | F38: =VLOOKUP(A38,보험모집희망직원!$B$14:$H$54,3,0) -> 58 | G38: =IFERROR(VLOOKUP(A38,우체국FC수!$B$3:$C$41,2,0),0) -> 46.882353 | H38: =((B38/$B$7*0.18)+(C38/$C$7*0.27)+(D38/$D$7*0.45)+(E38/$E$7*0.03)+(F38/$F$7*0.03)+(G38/$G$7*0.04))*100 -> 4.1297874 | I38: =H38*27600000/100 -> 1139821.3 | J38: =VLOOKUP(A38,'2015년목표'!$B$2:$C$43,2,0) -> 1214490 | K38: =J38/30100000% -> 4.0348505 | L38: =H38-K38 -> 0.094936899 | M38: =I38-J38 -> -74668.678 | N38: =M38/J38% -> -6.1481509 | O38: =VLOOKUP(A38,[1]관서별실적!$S$5:$V$45,4,0)/1000 -> 1261980.3 | P38: =I38-O38 -> -122158.97 | Q38: =P38/O38% -> -9.6799429
A39: 소 계 | B39: 3267509.9 | C39: 2650083.5 | D39: 2919880.4 | E39: =SUM(E36:E38) -> 22 | F39: =SUM(F36:F38) -> 238 | G39: =SUM(G36:G38) -> 98.745098 | H39: =((B39/$B$7*0.18)+(C39/$C$7*0.27)+(D39/$D$7*0.45)+(E39/$E$7*0.03)+(F39/$F$7*0.03)+(G39/$G$7*0.04))*100 -> 9.8606343 | I39: =H39*27600000/100 -> 2721535.1 | J39: =SUM(J36:J38) -> 3066400 | K39: =J39/30100000% -> 10.187375 | L39: =H39-K39 -> -0.32674108 | M39: =SUM(M36:M38) -> -344864.92 | N39: =M39/J39% -> -11.246573 | O39: =SUM(O36:O38) -> 3112463 | P39: =I39-O39 -> -390927.93 | Q39: =P39/O39% -> -12.560083
A40: 군포우체국 | B40: 1271157.7 | C40: 1003124.4 | D40: 930794.13 | E40: =VLOOKUP(A40,관서수!$A$3:$H$44,8,0) -> 8 | F40: =VLOOKUP(A40,보험모집희망직원!$B$14:$H$54,3,0) -> 84 | G40: =IFERROR(VLOOKUP(A40,우체국FC수!$B$3:$C$41,2,0),0) -> 32.794118 | H40: =((B40/$B$7*0.18)+(C40/$C$7*0.27)+(D40/$D$7*0.45)+(E40/$E$7*0.03)+(F40/$F$7*0.03)+(G40/$G$7*0.04))*100 -> 3.4400679 | I40: =H40*27600000/100 -> 949458.75 | J40: =VLOOKUP(A40,'2015년목표'!$B$2:$C$43,2,0) -> 1093442 | K40: =J40/30100000% -> 3.6326977 | L40: =H40-K40 -> -0.19262973 | M40: =I40-J40 -> -143983.25 | N40: =M40/J40% -> -13.167891 | O40: =VLOOKUP(A40,[1]관서별실적!$S$5:$V$45,4,0)/1000 -> 997188.34 | P40: =I40-O40 -> -47729.588 | Q40: =P40/O40% -> -4.7864166
A41: 안양우체국 | B41: 1924020.6 | C41: 1622562.1 | D41: 1723781.4 | E41: =VLOOKUP(A41,관서수!$A$3:$H$44,8,0) -> 10 | F41: =VLOOKUP(A41,보험모집희망직원!$B$14:$H$54,3,0) -> 83 | G41: =IFERROR(VLOOKUP(A41,우체국FC수!$B$3:$C$41,2,0),0) -> 41.352941 | H41: =((B41/$B$7*0.18)+(C41/$C$7*0.27)+(D41/$D$7*0.45)+(E41/$E$7*0.03)+(F41/$F$7*0.03)+(G41/$G$7*0.04))*100 -> 5.7208797 | I41: =H41*27600000/100 -> 1578962.8 | J41: =VLOOKUP(A41,'2015년목표'!$B$2:$C$43,2,0) -> 1768736 | K41: =J41/30100000% -> 5.8761993 | L41: =H41-K41 -> -0.15531962 | M41: =I41-J41 -> -189773.2 | N41: =M41/J41% -> -10.729312 | O41: =VLOOKUP(A41,[1]관서별실적!$S$5:$V$45,4,0)/1000 -> 1812400.3 | P41: =I41-O41 -> -233437.53 | Q41: =P41/O41% -> -12.88002
A42: 성남분당우체국 | B42: 1081765 | C42: 832904.3 | D42: 916830.92 | E42: =VLOOKUP(A42,관서수!$A$3:$H$44,8,0) -> 9 | F42: =VLOOKUP(A42,보험모집희망직원!$B$14:$H$54,3,0) -> 88 | G42: =IFERROR(VLOOKUP(A42,우체국FC수!$B$3:$C$41,2,0),0) -> 26.911765 | H42: =((B42/$B$7*0.18)+(C42/$C$7*0.27)+(D42/$D$7*0.45)+(E42/$E$7*0.03)+(F42/$F$7*0.03)+(G42/$G$7*0.04))*100 -> 3.134557 | I42: =H42*27600000/100 -> 865137.74 | J42: =VLOOKUP(A42,'2015년목표'!$B$2:$C$43,2,0) -> 908135 | K42: =J42/30100000% -> 3.0170598 | L42: =H42-K42 -> 0.11749722 | M42: =I42-J42 -> -42997.263 | N42: =M42/J42% -> -4.7346774 | O42: =VLOOKUP(A42,[1]관서별실적!$S$5:$V$45,4,0)/1000 -> 943484.86 | P42: =I42-O42 -> -78347.127 | Q42: =P42/O42% -> -8.3040152
A43: 고양일산우체국 | B43: 1219680.1 | C43: 976659.48 | D43: 1027317.7 | E43: =VLOOKUP(A43,관서수!$A$3:$H$44,8,0) -> 9 | F43: =VLOOKUP(A43,보험모집희망직원!$B$14:$H$54,3,0) -> 85 | G43: =IFERROR(VLOOKUP(A43,우체국FC수!$B$3:$C$41,2,0),0) -> 29.941176 | H43: =((B43/$B$7*0.18)+(C43/$C$7*0.27)+(D43/$D$7*0.45)+(E43/$E$7*0.03)+(F43/$F$7*0.03)+(G43/$G$7*0.04))*100 -> 3.5375843 | I43: =H43*27600000/100 -> 976373.26 | J43: =VLOOKUP(A43,'2015년목표'!$B$2:$C$43,2,0) -> 1063417 | K43: =J43/30100000% -> 3.5329468 | L43: =H43-K43 -> 0.0046374391 | M43: =I43-J43 -> -87043.738 | N43: =M43/J43% -> -8.1852874 | O43: =VLOOKUP(A43,[1]관서별실적!$S$5:$V$45,4,0)/1000 -> 1079619.4 | P43: =I43-O43 -> -103246.14 | Q43: =P43/O43% -> -9.5631976
A44: 서인천우체국 | B44: 1218594.2 | C44: 909598.83 | D44: 869203.18 | E44: =VLOOKUP(A44,관서수!$A$3:$H$44,8,0) -> 8 | F44: =VLOOKUP(A44,보험모집희망직원!$B$14:$H$54,3,0) -> 59 | G44: =IFERROR(VLOOKUP(A44,우체국FC수!$B$3:$C$41,2,0),0) -> 30.441176 | H44: =((B44/$B$7*0.18)+(C44/$C$7*0.27)+(D44/$D$7*0.45)+(E44/$E$7*0.03)+(F44/$F$7*0.03)+(G44/$G$7*0.04))*100 -> 3.1864971 | I44: =H44*27600000/100 -> 879473.19 | J44: =VLOOKUP(A44,'2015년목표'!$B$2:$C$43,2,0) -> 1051697 | K44: =J44/30100000% -> 3.49401 | L44: =H44-K44 -> -0.30751289 | M44: =I44-J44 -> -172223.81 | N44: =M44/J44% -> -16.375801 | O44: =VLOOKUP(A44,[1]관서별실적!$S$5:$V$45,4,0)/1000 -> 915048.36 | P44: =I44-O44 -> -35575.171 | Q44: =P44/O44% -> -3.8877913
A45: 부천우체국 | B45: 2143872.4 | C45: 1592701.8 | D45: 1818866.2 | E45: =VLOOKUP(A45,관서수!$A$3:$H$44,8,0) -> 16 | F45: =VLOOKUP(A45,보험모집희망직원!$B$14:$H$54,3,0) -> 110 | G45: =IFERROR(VLOOKUP(A45,우체국FC수!$B$3:$C$41,2,0),0) -> 44.441176 | H45: =((B45/$B$7*0.18)+(C45/$C$7*0.27)+(D45/$D$7*0.45)+(E45/$E$7*0.03)+(F45/$F$7*0.03)+(G45/$G$7*0.04))*100 -> 6.0414276 | I45: =H45*27600000/100 -> 1667434 | J45: =VLOOKUP(A45,'2015년목표'!$B$2:$C$43,2,0) -> 1829101 | K45: =J45/30100000% -> 6.0767475 | L45: =H45-K45 -> -0.035319891 | M45: =I45-J45 -> -161666.98 | N45: =M45/J45% -> -8.8386031 | O45: =VLOOKUP(A45,[1]관서별실적!$S$5:$V$45,4,0)/1000 -> 1873412.7 | P45: =I45-O45 -> -205978.7 | Q45: =P45/O45% -> -10.994838
A46: 고양덕양우체국 | B46: 929047.17 | C46: 589333.77 | D46: 633797.8 | E46: =VLOOKUP(A46,관서수!$A$3:$H$44,8,0) -> 10 | F46: =VLOOKUP(A46,보험모집희망직원!$B$14:$H$54,3,0) -> 82 | G46: =IFERROR(VLOOKUP(A46,우체국FC수!$B$3:$C$41,2,0),0) -> 21.794118 | H46: =((B46/$B$7*0.18)+(C46/$C$7*0.27)+(D46/$D$7*0.45)+(E46/$E$7*0.03)+(F46/$F$7*0.03)+(G46/$G$7*0.04))*100 -> 2.3364762 | I46: =H46*27600000/100 -> 644867.42 | J46: =VLOOKUP(A46,'2015년목표'!$B$2:$C$43,2,0) -> 668821 | K46: =J46/30100000% -> 2.2219967 | L46: =H46-K46 -> 0.1144795 | M46: =I46-J46 -> -23953.575 | N46: =M46/J46% -> -3.5814628 | O46: =VLOOKUP(A46,[1]관서별실적!$S$5:$V$45,4,0)/1000 -> 671663.54 | P46: =I46-O46 -> -26796.111 | Q46: =P46/O46% -> -3.9895141
A47: 인천계양우체국 | B47: 598113.05 | C47: 451701.62 | D47: 468711.87 | E47: =VLOOKUP(A47,관서수!$A$3:$H$44,8,0) -> 5 | F47: =VLOOKUP(A47,보험모집희망직원!$B$14:$H$54,3,0) -> 56 | G47: =IFERROR(VLOOKUP(A47,우체국FC수!$B$3:$C$41,2,0),0) -> 17.558824 | H47: =((B47/$B$7*0.18)+(C47/$C$7*0.27)+(D47/$D$7*0.45)+(E47/$E$7*0.03)+(F47/$F$7*0.03)+(G47/$G$7*0.04))*100 -> 1.6825214 | I47: =H47*27600000/100 -> 464375.91 | J47: =VLOOKUP(A47,'2015년목표'!$B$2:$C$43,2,0) -> 518577 | K47: =J47/30100000% -> 1.7228472 | L47: =H47-K47 -> -0.040325753 | M47: =I47-J47 -> -54201.087 | N47: =M47/J47% -> -10.451888 | O47: =VLOOKUP(A47,[1]관서별실적!$S$5:$V$45,4,0)/1000 -> 496009.2 | P47: =I47-O47 -> -31633.286 | Q47: =P47/O47% -> -6.3775604
A48: 용인수지우체국 | B48: 580388.72 | C48: 462487.4 | D48: 491352.31 | E48: =VLOOKUP(A48,관서수!$A$3:$H$44,8,0) -> 6 | F48: =VLOOKUP(A48,보험모집희망직원!$B$14:$H$54,3,0) -> 70 | G48: =IFERROR(VLOOKUP(A48,우체국FC수!$B$3:$C$41,2,0),0) -> 18.617647 | H48: =((B48/$B$7*0.18)+(C48/$C$7*0.27)+(D48/$D$7*0.45)+(E48/$E$7*0.03)+(F48/$F$7*0.03)+(G48/$G$7*0.04))*100 -> 1.7462999 | I48: =H48*27600000/100 -> 481978.76 | J48: =VLOOKUP(A48,'2015년목표'!$B$2:$C$43,2,0) -> 503370 | K48: =J48/30100000% -> 1.6723256 | L48: =H48-K48 -> 0.07397428 | M48: =I48-J48 -> -21391.238 | N48: =M48/J48% -> -4.2496053 | O48: =VLOOKUP(A48,[1]관서별실적!$S$5:$V$45,4,0)/1000 -> 509805.98 | P48: =I48-O48 -> -27827.223 | Q48: =P48/O48% -> -5.4583948
A49: 남양주우체국 | B49: 1022872.9 | C49: 756404.94 | D49: 706440.07 | E49: =VLOOKUP(A49,관서수!$A$3:$H$44,8,0) -> 10 | F49: =VLOOKUP(A49,보험모집희망직원!$B$14:$H$54,3,0) -> 77 | G49: =IFERROR(VLOOKUP(A49,우체국FC수!$B$3:$C$41,2,0),0) -> 25.323529 | H49: =((B49/$B$7*0.18)+(C49/$C$7*0.27)+(D49/$D$7*0.45)+(E49/$E$7*0.03)+(F49/$F$7*0.03)+(G49/$G$7*0.04))*100 -> 2.6800626 | I49: =H49*27600000/100 -> 739697.26 | J49: =VLOOKUP(A49,'2015년목표'!$B$2:$C$43,2,0) -> 870613 | K49: =J49/30100000% -> 2.892402 | L49: =H49-K49 -> -0.21233944 | M49: =I49-J49 -> -130915.74 | N49: =M49/J49% -> -15.037191 | O49: =VLOOKUP(A49,[1]관서별실적!$S$5:$V$45,4,0)/1000 -> 746969.09 | P49: =I49-O49 -> -7271.8265 | Q49: =P49/O49% -> -0.97351103
A50: 화성우체국 | B50: 771217.92 | C50: 574114.85 | D50: 592792.65 | E50: =VLOOKUP(A50,관서수!$A$3:$H$44,8,0) -> 17 | F50: =VLOOKUP(A50,보험모집희망직원!$B$14:$H$54,3,0) -> 165 | G50: =IFERROR(VLOOKUP(A50,우체국FC수!$B$3:$C$41,2,0),0) -> 18.264706 | H50: =((B50/$B$7*0.18)+(C50/$C$7*0.27)+(D50/$D$7*0.45)+(E50/$E$7*0.03)+(F50/$F$7*0.03)+(G50/$G$7*0.04))*100 -> 2.289176 | I50: =H50*27600000/100 -> 631812.57 | J50: =VLOOKUP(A50,'2015년목표'!$B$2:$C$43,2,0) -> 658835 | K50: =J50/30100000% -> 2.1888206 | L50: =H50-K50 -> 0.10035537 | M50: =I50-J50 -> -27022.432 | N50: =M50/J50% -> -4.1015478 | O50: =VLOOKUP(A50,[1]관서별실적!$S$5:$V$45,4,0)/1000 -> 621914.09 | P50: =I50-O50 -> 9898.4818 | Q50: =P50/O50% -> 1.5916156

Sheet 신설관서참고자료
B2: 실적
B3: 총괄국 | D3: 합계 | E3: 월평균 | F3: 목표실적 | G3: 2015년1월 | H3: 2015년2월 | I3: 2015년3월 | J3: 2015년4월 | K3: 2015년5월 | L3: 2015년6월 | M3: 2015년7월 | N3: 2015년8월 | O3: 2015년9월 | P3: 2015년10월 | Q3: 2015년11월
B4: 서수원 | C4: 일시납포함 | D4: =SUM(G4:Q4) -> 459454597 | G4: 34731035 | H4: 31194054 | I4: 59493721 | J4: 33316058 | K4: 35014817 | L4: 43606101 | M4: 39513161 | N4: 49970776 | O4: 36572458 | P4: 47008514 | Q4: 49033902
C5: 일시납제외 | D5: =SUM(G5:Q5) -> 441454309 | E5: =D5/11 -> 40132210 | F5: =E5*12 -> 4.8158652e+08 | G5: 34731035 | H5: 31194054 | I5: 59229532 | J5: 33316058 | K5: 35014817 | L5: 43606101 | M5: 39513161 | N5: 43330776 | O5: 32223568 | P5: 40392832 | Q5: 48902375
C6: 평균 | D6: =SUM(D4:D5)/2 -> 450454453 | E6: =D6/11 -> 40950405 | F6: =E6*12 -> 4.9140486e+08
B7: 인천남동 | C7: 일시납포함 | D7: =SUM(N7:Q7) -> 142231903 | N7: 29760470 | O7: 38828497 | P7: 45240269 | Q7: 28402667
C8: 일시납제외 | D8: =SUM(N8:Q8) -> 106144064 | E8: =D8/4 -> 26536016 | F8: =E8*12 -> 318432192 | N8: 23786470 | O8: 28506497 | P8: 25448430 | Q8: 28402667
C9: 평균 | D9: =SUM(D7:D8)/2 -> 1.2418798e+08 | E9: =D9/4 -> 31046996 | F9: =E9*12 -> 3.7256395e+08
B10: ※ 서수원우체국 2014년 10월 1일 개국 | I10: 남인천 | J10: 일시납포함 | K10: =SUM(N10:Q10) -> 227964232 | N10: 56796117 | O10: 44553477 | P10: 67978985 | Q10: 58635653
B11: ※ 인천남동우체국 2015년 8월 3일 개국 | J11: 일시납제외 | K11: =SUM(N11:Q11) -> 192271381 | N11: 46147266 | O11: 40002477 | P11: 47485985 | Q11: 58635653
J12: 평균 | K12: =SUM(K10:K11)/2 -> 2.1011781e+08 | L12: =K12/4 -> 52529452 | M12: =L12*12 -> 6.3035342e+08
M13: =M12*1.1 -> 6.9338876e+08
B14: FC월별현황
B15: 총괄국 | D15: 평균 | H15: 2015년1월 | I15: 2015년2월 | J15: 2015년3월 | K15: 2015년4월 | L15: 2015년5월 | M15: 2015년6월 | N15: 2015년7월 | O15: 2015년8월 | P15: 2015년9월 | Q15: 2015년10월
B16: 103960 | C16: 서수원 | D16: =SUM(H16:T16)/10 -> 12.4 | H16: 11 | I16: 11 | J16: 11 | K16: 12 | L16: 13 | M16: 14 | N16: 13 | O16: 13 | P16: 13 | Q16: 13
B17: 103556 | C17: 남인천 | D17: =SUM(H17:T17)/10 -> 22.8 | H17: 23 | I17: 23 | J17: 23 | K17: 24 | L17: 25 | M17: 25 | N17: 24 | O17: 20 | P17: 20 | Q17: 21
B18: 104711 | C18: 인천남동 | D18: =SUM(H18:T18)/3 -> 8.6666667 | H18: 0 | I18: 0 | J18: 0 | K18: 0 | L18: 0 | M18: 0 | N18: 0 | O18: 5 | P18: 10 | Q18: 11

Sheet 2013년실적
A1: 04. 관서별정산초회보험료현황(본부)->총괄국
A3: 리포트 필터:
A4: ("201301" 와 "201312" 사이 기준월 (ID)) 와 (청 = 11:경인청)
A6: 쪽 표시:
A7: 기준월: Total
A9: 청 | C9: 보안총괄국 | E9: 메트릭 | F9: 정산초회보험료 | G9: 저축성일시납제외 정산초회보험료
A10: 11 | B10: 경인청 | C10: 100057 | D10: 평택우체국 | F10: 1173066565 | G10: 1113891278
C11: 100073 | D11: 인천우체국 | F11: 1072932472 | G11: 1012601748
C12: 100115 | D12: 부평우체국 | F12: 1103632929 | G12: 1037177389
C13: 100131 | D13: 오산우체국 | F13: 373655216 | G13: 348306449
C14: 100164 | D14: 안성우체국 | F14: 375441347 | G14: 362447489
C15: 100354 | D15: 가평우체국 | F15: 172016350 | G15: 156740802
C16: 100362 | D16: 파주우체국 | F16: 516533971 | G16: 506501054
C17: 100479 | D17: 강화우체국 | F17: 269819605 | G17: 249800981
C18: 100487 | D18: 양평우체국 | F18: 238355919 | G18: 227113057
C19: 100495 | D19: 경기광주우체국 | F19: 481053403 | G19: 464028472
C20: 100503 | D20: 여주우체국 | F20: 315872699 | G20: 293047324
C21: 100529 | D21: 김포우체국 | F21: 513116575 | G21: 480601030
C22: 100552 | D22: 포천우체국 | F22: 449864988 | G22: 440878273
... C50: 107482 | D50: 화성우체국 | F50: 815042625 | G50: 771217923
C51: Total | F51: 38794638381 | G51: 35315446233
A52: Total | F52: 38794638381 | G52: 35315446233

Sheet 2014년실적
A1: 04. 관서별정산초회보험료현황(본부)->총괄국
A3: 리포트 필터:
A4: ("201401" 와 "201412" 사이 기준월 (ID)) 와 (청 = 11:경인청)
A6: 쪽 표시:
A7: 기준월: Total
A9: 청 | C9: 보안총괄국 | E9: 메트릭 | F9: 정산초회보험료 | G9: 저축성일시납제외 정산초회보험료
A10: 11 | B10: 경인청 | C10: 100057 | D10: 평택우체국 | F10: 845222222 | G10: 844745682
C11: 100073 | D11: 인천우체국 | F11: 724788068 | G11: 724103511
C12: 100115 | D12: 부평우체국 | F12: 807944270 | G12: 808004231
C13: 100131 | D13: 오산우체국 | F13: 307711621 | G13: 307578134
C14: 100164 | D14: 안성우체국 | F14: 245258516 | G14: 245304016
C15: 100354 | D15: 가평우체국 | F15: 83399916 | G15: 82485018
C16: 100362 | D16: 파주우체국 | F16: 367581433 | G16: 367571433
C17: 100479 | D17: 강화우체국 | F17: 109327731 | G17: 109339731
C18: 100487 | D18: 양평우체국 | F18: 117588838 | G18: 117588838
C19: 100495 | D19: 경기광주우체국 | F19: 357423772 | G19: 356895423
C20: 100503 | D20: 여주우체국 | F20: 223845017 | G20: 223156887
C21: 100529 | D21: 김포우체국 | F21: 421162613 | G21: 421034600
C22: 100552 | D22: 포천우체국 | F22: 292627009 | G22: 292280703
... C50: 107482 | D50: 화성우체국 | F50: 574114848 | G50: 574114848
C51: Total | F51: 27092179003 | G51: 26988781454
A52: Total | F52: 27092179003 | G52: 26988781454

Sheet 2015년실적
A1: 04. 관서별정산초회보험료현황(본부)->총괄국
A3: 리포트 필터:
A4: ("201501" 와 "201510" 사이 기준월 (ID)) 와 (청 = 11:경인청)
A6: 쪽 표시:
A7: 기준월: Total
A9: 청 | C9: 보안총괄국 | E9: 메트릭 | F9: 정산초회보험료 | G9: 저축성일시납제외 정산초회보험료 | H9: 11월 정산 | I9: 일시납포합 | J9: 일시납제외
A10: 11 | B10: 경인청 | C10: 100057 | D10: 평택우체국 | F10: 807629429 | G10: 733809470 | H10: 67849269 | I10: =F10+H10 -> 875478698 | J10: =H10+G10 -> 801658739
C11: 100073 | D11: 인천우체국 | F11: 655569162 | G11: 604132726 | H11: 55076503 | I11: =F11+H11 -> 710645665 | J11: =H11+G11 -> 659209229
C12: 100115 | D12: 부평우체국 | F12: 735732503 | G12: 672052340 | H12: 72988580 | I12: =F12+H12 -> 808721083 | J12: =H12+G12 -> 745040920
C13: 100131 | D13: 오산우체국 | F13: 310311036 | G13: 303123574 | H13: 16486916 | I13: =F13+H13 -> 326797952 | J13: =H13+G13 -> 319610490
C14: 100164 | D14: 안성우체국 | F14: 295408238 | G14: 277140238 | H14: 29880060 | I14: =F14+H14 -> 325288298 | J14: =H14+G14 -> 307020298
C15: 100354 | D15: 가평우체국 | F15: 104202652 | G15: 87648747 | H15: 2102049 | I15: =F15+H15 -> 106304701 | J15: =H15+G15 -> 89750796
C16: 100362 | D16: 파주우체국 | F16: 372116283 | G16: 360042653 | H16: 30258633 | I16: =F16+H16 -> 402374916 | J16: =H16+G16 -> 390301286
C17: 100479 | D17: 강화우체국 | F17: 103248070 | G17: 85322070 | H17: 2449717 | I17: =F17+H17 -> 105697787 | J17: =H17+G17 -> 87771787
C18: 100487 | D18: 양평우체국 | F18: 138798132 | G18: 130715178 | H18: 1243713 | I18: =F18+H18 -> 140041845 | J18: =H18+G18 -> 131958891
C19: 100495 | D19: 경기광주우체국 | F19: 317981210 | G19: 304032541 | H19: 32342215 | I19: =F19+H19 -> 350323425 | J19: =H19+G19 -> 336374756
C20: 100503 | D20: 여주우체국 | F20: 205707063 | G20: 194460404 | H20: 25868689 | I20: =F20+H20 -> 231575752 | J20: =H20+G20 -> 220329093
C21: 100529 | D21: 김포우체국 | F21: 421123786 | G21: 407880203 | H21: 32161385 | I21: =F21+H21 -> 453285171 | J21: =H21+G21 -> 440041588
C22: 100552 | D22: 포천우체국 | F22: 261882677 | G22: 256338882 | H22: 27533672 | I22: =F22+H22 -> 289416349 | J22: =H22+G22 -> 283872554
... C34: 103432 | D34: 광명우체국 | F34: 769703166 | G34: 702996418 | H34: 67275060 | I34: =F34+H34 -> 836978226 | J34: =H34+G34 -> 770271478
C35: 103556 | D35: 남인천우체국 | F35: 650224358 | G35: 614063058 | H35: 58635653 | I35: =F35+H35 -> 708860011 | J35: =H35+G35 -> 672698711 | K35: =I35+I39 -> 921130796
C36: 103937 | D36: 안산우체국 | F36: 1576604965 | G36: 1454570569 | H36: 132064102 | I36: =F36+H36 -> 1708669067 | J36: =H36+G36 -> 1586634671
C37: 103960 | D37: 서수원우체국 | F37: 410420695 | G37: 392551934 | H37: 48902375 | I37: =F37+H37 -> 459323070 | J37: =H37+G37 -> 441454309
C38: 104604 | D38: 동수원우체국 | F38: 1100900996 | G38: 1057408981 | H38: 90717621 | I38: =F38+H38 -> 1191618617 | J38: =H38+G38 -> 1148126602
C39: 104711 | D39: 인천남동우체국 | F39: 183868118 | G39: 147780279 | H39: 28402667 | I39: =F39+H39 -> 212270785 | J39: =H39+G39 -> 176182946
C40: 104729 | D40: 군포우체국 | F40: 852463154 | G40: 780400918 | H40: 78330978 | I40: =F40+H40 -> 930794132 | J40: =H40+G40 -> 858731896
C41: 104851 | D41: 안양우체국 | F41: 1590993190 | G41: 1452680497 | H41: 132788204 | I41: =F41+H41 -> 1723781394 | J41: =H41+G41 -> 1585468701
C42: 104869 | D42: 성남분당우체국 | F42: 869435967 | G42: 699855583 | H42: 47394954 | I42: =F42+H42 -> 916830921 | J42: =H42+G42 -> 747250537
C43: 104877 | D43: 고양일산우체국 | F43: 950125448 | G43: 864168098 | H43: 77192235 | I43: =F43+H43 -> 1027317683 | J43: =H43+G43 -> 941360333
C44: 104885 | D44: 서인천우체국 | F44: 809897919 | G44: 784691488 | H44: 59305262 | I44: =F44+H44 -> 869203181 | J44: =H44+G44 -> 843996750
C45: 104976 | D45: 부천우체국 | F45: 1719664498 | G45: 1444828786 | H45: 99201743 | I45: =F45+H45 -> 1818866241 | J45: =H45+G45 -> 1544030529
C46: 104984 | D46: 고양덕양우체국 | F46: 587750553 | G46: 528171799 | H46: 46047248 | I46: =F46+H46 -> 633797801 | J46: =H46+G46 -> 574219047
C47: 107110 | D47: 인천계양우체국 | F47: 426209244 | G47: 390993707 | H47: 42502625 | I47: =F47+H47 -> 468711869 | J47: =H47+G47 -> 433496332
... C50: 107482 | D50: 화성우체국 | F50: 555884162 | G50: 521850540 | H50: 36908492 | I50: =F50+H50 -> 592792654 | J50: =H50+G50 -> 558759032
C51: Total | F51: 25882606334 | G51: 23814139565 | H51: =SUM(H10:H50) -> 2133484351 | I51: =F51+H51 -> 28016090685 | J51: =H51+G51 -> 25947623916
A52: Total | F52: 25882606334 | G52: 23814139565

Sheet 우체국FC수
A2: 총괄국 | C2: 평균 | D2: 2015.1. | E2: 2015.2. | F2: 2015.3. | G2: 2015.4. | H2: 2015.5. | I2: 2015.6. | J2: 2015.7. | K2: 2015.8. | L2: 2015.9. | M2: 2015.10. | N2: 2014.1. | O2: 2014.2. | P2: 2014.3. | Q2: 2014.4. | R2: 2014.5. | S2: 2014.6. | T2: 2014.7. | U2: 2014.8. | V2: 2014.9. | W2: 2014.10. | X2: 2014.11. | Y2: 2014.12. | Z2: 2013.1. | AA2: 2013.2. | AB2: 2013.3. | AC2: 2013.4. | AD2: 2013.5. | AE2: 2013.6. | AF2: 2013.7. | AG2: 2013.8. | AH2: 2013.9. | AI2: 2013.10. | AJ2: 2013.11. | AK2: 2013.12.
A3: 100057 | B3: 평택우체국 | C3: =SUM(D3:AK3)/34 -> 15.5 | D3: 14 | E3: 14 | F3: 13 | G3: 15 | H3: 16 | I3: 15 | J3: 15 | K3: 13 | L3: 13 | M3: 13 | N3: 18 | O3: 17 | P3: 14 | Q3: 13 | R3: 13 | S3: 13 | T3: 13 | U3: 13 | V3: 13 | W3: 13 | X3: 13 | Y3: 14 | Z3: 18 | AA3: 18 | AB3: 18 | AC3: 18 | AD3: 19 | AE3: 20 | AF3: 20 | AG3: 20 | AH3: 17 | AI3: 17 | AJ3: 17 | AK3: 17
A4: 100073 | B4: 인천우체국 | C4: =SUM(D4:AK4)/34 -> 23.852941 | D4: 22 | E4: 24 | F4: 22 | G4: 21 | H4: 21 | I4: 21 | J4: 21 | K4: 21 | L4: 21 | M4: 21 | N4: 24 | O4: 26 | P4: 26 | Q4: 26 | R4: 26 | S4: 25 | T4: 24 | U4: 24 | V4: 24 | W4: 24 | X4: 23 | Y4: 22 | Z4: 23 | AA4: 24 | AB4: 25 | AC4: 26 | AD4: 26 | AE4: 26 | AF4: 26 | AG4: 26 | AH4: 26 | AI4: 25 | AJ4: 25 | AK4: 24
A5: 100115 | B5: 부평우체국 | C5: =SUM(D5:AK5)/34 -> 24.147059 | D5: 26 | E5: 25 | F5: 24 | G5: 24 | H5: 23 | I5: 23 | J5: 27 | K5: 27 | L5: 28 | M5: 29 | N5: 25 | O5: 24 | P5: 25 | Q5: 24 | R5: 25 | S5: 25 | T5: 25 | U5: 24 | V5: 26 | W5: 26 | X5: 25 | Y5: 25 | Z5: 18 | AA5: 19 | AB5: 20 | AC5: 21 | AD5: 22 | AE5: 22 | AF5: 23 | AG5: 23 | AH5: 23 | AI5: 25 | AJ5: 25 | AK5: 25
A6: 100131 | B6: 오산우체국 | C6: =SUM(D6:AK6)/34 -> 12.147059 | D6: 11 | E6: 11 | F6: 11 | G6: 12 | H6: 12 | I6: 12 | J6: 12 | K6: 12 | L6: 13 | M6: 13 | N6: 13 | O6: 13 | P6: 13 | Q6: 13 | R6: 13 | S6: 13 | T6: 13 | U6: 12 | V6: 12 | W6: 12 | X6: 11 | Y6: 11 | Z6: 11 | AA6: 11 | AB6: 12 | AC6: 12 | AD6: 12 | AE6: 12 | AF6: 12 | AG6: 12 | AH6: 12 | AI6: 13 | AJ6: 13 | AK6: 13
A7: 100164 | B7: 안성우체국 | C7: =SUM(D7:AK7)/34 -> 8.8823529 | D7: 6 | E7: 7 | F7: 9 | G7: 8 | H7: 12 | I7: 14 | J7: 17 | K7: 18 | L7: 18 | M7: 18 | N7: 7 | O7: 7 | P7: 7 | Q7: 8 | R7: 8 | S7: 6 | T7: 6 | U7: 6 | V7: 6 | W7: 6 | X7: 6 | Y7: 6 | Z7: 8 | AA7: 8 | AB7: 8 | AC7: 8 | AD7: 8 | AE7: 8 | AF7: 8 | AG7: 9 | AH7: 9 | AI7: 8 | AJ7: 7 | AK7: 7
A8: 100354 | B8: 가평우체국 | C8: =SUM(D8:AK8)/34 -> 1.5294118 | D8: 0 | E8: 0 | F8: 0 | G8: 0 | H8: 0 | I8: 0 | J8: 0 | K8: 0 | L8: 0 | M8: 0 | N8: 3 | O8: 3 | P8: 3 | Q8: 3 | R8: 1 | S8: 1 | T8: 0 | U8: 0 | V8: 0 | W8: 0 | X8: 0 | Y8: 0 | Z8: 4 | AA8: 4 | AB8: 3 | AC8: 3 | AD8: 3 | AE8: 3 | AF8: 3 | AG8: 3 | AH8: 3 | AI8: 3 | AJ8: 3 | AK8: 3
A9: 100362 | B9: 파주우체국 | C9: =SUM(D9:AK9)/34 -> 14.676471 | D9: 14 | E9: 14 | F9: 15 | G9: 14 | H9: 13 | I9: 12 | J9: 12 | K9: 12 | L9: 13 | M9: 13 | N9: 14 | O9: 17 | P9: 16 | Q9: 16 | R9: 15 | S9: 15 | T9: 15 | U9: 15 | V9: 13 | W9: 13 | X9: 13 | Y9: 13 | Z9: 15 | AA9: 14 | AB9: 16 | AC9: 17 | AD9: 17 | AE9: 18 | AF9: 17 | AG9: 17 | AH9: 16 | AI9: 15 | AJ9: 15 | AK9: 15
A10: 100479 | B10: 강화우체국 | C10: =SUM(D10:AK10)/34 -> 2.7941176 | D10: 1 | E10: 1 | F10: 1 | G10: 1 | H10: 1 | I10: 1 | J10: 1 | K10: 1 | L10: 1 | M10: 1 | N10: 5 | O10: 5 | P10: 5 | Q10: 5 | R10: 5 | S10: 2 | T10: 2 | U10: 2 | V10: 2 | W10: 2 | X10: 1 | Y10: 1 | Z10: 4 | AA10: 4 | AB10: 4 | AC10: 4 | AD10: 4 | AE10: 4 | AF10: 4 | AG10: 4 | AH10: 4 | AI10: 4 | AJ10: 4 | AK10: 4
A11: 100487 | B11: 양평우체국 | C11: =SUM(D11:AK11)/34 -> 0.35294118 | D11: 0 | E11: 0 | F11: 1 | G11: 1 | H11: 1 | I11: 1 | J11: 2 | K11: 2 | L11: 2 | M11: 2 | N11: 0 | O11: 0 | P11: 0 | Q11: 0 | R11: 0 | S11: 0 | T11: 0 | U11: 0 | V11: 0 | W11: 0 | X11: 0 | Y11: 0 | Z11: 0 | AA11: 0 | AB11: 0 | AC11: 0 | AD11: 0 | AE11: 0 | AF11: 0 | AG11: 0 | AH11: 0 | AI11: 0 | AJ11: 0 | AK11: 0
A12: 100495 | B12: 경기광주우체국 | C12: =SUM(D12:AK12)/34 -> 14.205882 | D12: 12 | E12: 12 | F12: 12 | G12: 12 | H12: 12 | I12: 12 | J12: 12 | K12: 12 | L12: 13 | M12: 13 | N12: 17 | O12: 17 | P12: 16 | Q12: 15 | R12: 15 | S12: 14 | T12: 13 | U12: 13 | V12: 13 | W12: 13 | X12: 13 | Y12: 12 | Z12: 14 | AA12: 16 | AB12: 16 | AC12: 16 | AD12: 16 | AE12: 16 | AF12: 16 | AG12: 16 | AH12: 16 | AI12: 16 | AJ12: 16 | AK12: 16
A13: 100503 | B13: 여주우체국 | C13: =SUM(D13:AK13)/34 -> 6.9705882 | D13: 8 | E13: 8 | F13: 8 | G13: 7 | H13: 7 | I13: 7 | J13: 7 | K13: 7 | L13: 7 | M13: 7 | N13: 7 | O13: 7 | P13: 7 | Q13: 6 | R13: 6 | S13: 5 | T13: 4 | U13: 4 | V13: 6 | W13: 7 | X13: 8 | Y13: 8 | Z13: 7 | AA13: 7 | AB13: 7 | AC13: 7 | AD13: 7 | AE13: 8 | AF13: 8 | AG13: 8 | AH13: 8 | AI13: 8 | AJ13: 7 | AK13: 7
A14: 100529 | B14: 김포우체국 | C14: =SUM(D14:AK14)/34 -> 14.617647 | D14: 15 | E14: 15 | F14: 15 | G14: 15 | H14: 15 | I14: 16 | J14: 16 | K14: 15 | L14: 16 | M14: 16 | N14: 17 | O14: 17 | P14: 16 | Q14: 16 | R14: 16 | S14: 15 | T14: 15 | U14: 15 | V14: 15 | W14: 15 | X14: 15 | Y14: 15 | Z14: 9 | AA14: 10 | AB14: 11 | AC14: 11 | AD14: 12 | AE14: 13 | AF14: 12 | AG14: 14 | AH14: 15 | AI14: 17 | AJ14: 16 | AK14: 16
... A27: 103937 | B27: 안산우체국 | C27: =SUM(D27:AK27)/34 -> 47.411765 | D27: 47 | E27: 47 | F27: 46 | G27: 44 | H27: 45 | I27: 46 | J27: 46 | K27: 45 | L27: 47 | M27: 47 | N27: 51 | O27: 51 | P27: 51 | Q27: 49 | R27: 51 | S27: 50 | T27: 48 | U27: 46 | V27: 47 | W27: 46 | X27: 46 | Y27: 46 | Z27: 43 | AA27: 42 | AB27: 43 | AC27: 44 | AD27: 44 | AE27: 47 | AF27: 48 | AG27: 50 | AH27: 53 | AI27: 53 | AJ27: 51 | AK27: 52
A28: 103960 | B28: 서수원우체국 | C28: =SUM(D28:M28,X28:Y28)/12 -> 11.333333 | D28: 11 | E28: 11 | F28: 11 | G28: 12 | H28: 13 | I28: 14 | J28: 13 | K28: 13 | L28: 13 | M28: 13 | N28: 0 | O28: 0 | P28: 0 | Q28: 0 | R28: 0 | S28: 0 | T28: 0 | U28: 0 | V28: 0 | W28: 0 | X28: 6 | Y28: 6 | Z28: 0 | AA28: 0 | AB28: 0 | AC28: 0 | AD28: 0 | AE28: 0 | AF28: 0 | AG28: 0 | AH28: 0 | AI28: 0 | AJ28: 0 | AK28: 0
A29: 104604 | B29: 동수원우체국 | C29: =SUM(D29:AK29)/34 -> 46.882353 | D29: 39 | E29: 39 | F29: 39 | G29: 39 | H29: 38 | I29: 39 | J29: 39 | K29: 39 | L29: 40 | M29: 40 | N29: 54 | O29: 52 | P29: 51 | Q29: 49 | R29: 51 | S29: 52 | T29: 49 | U29: 47 | V29: 46 | W29: 45 | X29: 43 | Y29: 42 | Z29: 38 | AA29: 43 | AB29: 50 | AC29: 51 | AD29: 52 | AE29: 51 | AF29: 56 | AG29: 56 | AH29: 56 | AI29: 56 | AJ29: 57 | AK29: 56
A30: 104711 | B30: 인천남동우체국 | C30: =SUM(K30:M30)/3 -> 8.6666667 | D30: 0 | E30: 0 | F30: 0 | G30: 0 | H30: 0 | I30: 0 | J30: 0 | K30: 5 | L30: 10 | M30: 11 | N30: 0 | O30: 0 | P30: 0 | Q30: 0 | R30: 0 | S30: 0 | T30: 0 | U30: 0 | V30: 0 | W30: 0 | X30: 0 | Y30: 0 | Z30: 0 | AA30: 0 | AB30: 0 | AC30: 0 | AD30: 0 | AE30: 0 | AF30: 0 | AG30: 0 | AH30: 0 | AI30: 0 | AJ30: 0 | AK30: 0
A31: 104729 | B31: 군포우체국 | C31: =SUM(D31:AK31)/34 -> 32.794118 | D31: 31 | E31: 30 | F31: 29 | G31: 28 | H31: 29 | I31: 31 | J31: 30 | K31: 29 | L31: 29 | M31: 29 | N31: 34 | O31: 34 | P31: 34 | Q31: 34 | R31: 35 | S31: 36 | T31: 36 | U31: 35 | V31: 35 | W31: 33 | X31: 33 | Y31: 31 | Z31: 31 | AA31: 32 | AB31: 31 | AC31: 35 | AD31: 35 | AE31: 38 | AF31: 37 | AG31: 35 | AH31: 35 | AI31: 34 | AJ31: 34 | AK31: 33
A32: 104851 | B32: 안양우체국 | C32: =SUM(D32:AK32)/34 -> 41.352941 | D32: 40 | E32: 41 | F32: 41 | G32: 41 | H32: 41 | I32: 40 | J32: 40 | K32: 40 | L32: 43 | M32: 44 | N32: 41 | O32: 41 | P32: 41 | Q32: 41 | R32: 42 | S32: 43 | T32: 41 | U32: 40 | V32: 41 | W32: 41 | X32: 42 | Y32: 42 | Z32: 38 | AA32: 38 | AB32: 39 | AC32: 42 | AD32: 43 | AE32: 45 | AF32: 44 | AG32: 44 | AH32: 43 | AI32: 41 | AJ32: 41 | AK32: 41
A33: 104869 | B33: 성남분당우체국 | C33: =SUM(D33:AK33)/34 -> 26.911765 | D33: 24 | E33: 25 | F33: 25 | G33: 26 | H33: 25 | I33: 26 | J33: 25 | K33: 25 | L33: 24 | M33: 24 | N33: 28 | O33: 28 | P33: 26 | Q33: 25 | R33: 26 | S33: 25 | T33: 26 | U33: 26 | V33: 23 | W33: 24 | X33: 23 | Y33: 23 | Z33: 28 | AA33: 28 | AB33: 31 | AC33: 31 | AD33: 30 | AE33: 31 | AF33: 32 | AG33: 32 | AH33: 32 | AI33: 30 | AJ33: 30 | AK33: 28
A34: 104877 | B34: 고양일산우체국 | C34: =SUM(D34:AK34)/34 -> 29.941176 | D34: 32 | E34: 31 | F34: 32 | G34: 33 | H34: 33 | I34: 33 | J34: 33 | K34: 32 | L34: 33 | M34: 33 | N34: 26 | O34: 28 | P34: 28 | Q34: 29 | R34: 30 | S34: 32 | T34: 31 | U34: 31 | V34: 31 | W34: 32 | X34: 32 | Y34: 32 | Z34: 27 | AA34: 27 | AB34: 27 | AC34: 28 | AD34: 28 | AE34: 28 | AF34: 28 | AG34: 28 | AH34: 28 | AI34: 28 | AJ34: 28 | AK34: 26
A35: 104885 | B35: 서인천우체국 | C35: =SUM(D35:AK35)/34 -> 30.441176 | D35: 29 | E35: 29 | F35: 29 | G35: 29 | H35: 29 | I35: 28 | J35: 28 | K35: 29 | L35: 29 | M35: 29 | N35: 33 | O35: 33 | P35: 33 | Q35: 32 | R35: 34 | S35: 32 | T35: 30 | U35: 30 | V35: 30 | W35: 30 | X35: 28 | Y35: 28 | Z35: 27 | AA35: 28 | AB35: 30 | AC35: 31 | AD35: 30 | AE35: 31 | AF35: 33 | AG35: 33 | AH35: 32 | AI35: 33 | AJ35: 33 | AK35: 33
A36: 104976 | B36: 부천우체국 | C36: =SUM(D36:AK36)/34 -> 44.441176 | D36: 45 | E36: 44 | F36: 44 | G36: 44 | H36: 45 | I36: 44 | J36: 44 | K36: 44 | L36: 44 | M36: 43 | N36: 47 | O36: 49 | P36: 48 | Q36: 46 | R36: 46 | S36: 46 | T36: 44 | U36: 43 | V36: 42 | W36: 42 | X36: 42 | Y36: 43 | Z36: 40 | AA36: 40 | AB36: 45 | AC36: 44 | AD36: 44 | AE36: 46 | AF36: 46 | AG36: 43 | AH36: 46 | AI36: 46 | AJ36: 46 | AK36: 46
A37: 104984 | B37: 고양덕양우체국 | C37: =SUM(D37:AK37)/34 -> 21.794118 | D37: 19 | E37: 19 | F37: 19 | G37: 19 | H37: 19 | I37: 19 | J37: 20 | K37: 20 | L37: 22 | M37: 22 | N37: 26 | O37: 26 | P37: 25 | Q37: 24 | R37: 24 | S37: 23 | T37: 21 | U37: 21 | V37: 19 | W37: 17 | X37: 17 | Y37: 17 | Z37: 19 | AA37: 19 | AB37: 22 | AC37: 22 | AD37: 25 | AE37: 25 | AF37: 25 | AG37: 25 | AH37: 25 | AI37: 24 | AJ37: 26 | AK37: 26
A38: 107110 | B38: 인천계양우체국 | C38: =SUM(D38:AK38)/34 -> 17.558824 | D38: 17 | E38: 16 | F38: 16 | G38: 17 | H38: 17 | I38: 16 | J38: 16 | K38: 17 | L38: 18 | M38: 18 | N38: 18 | O38: 17 | P38: 17 | Q38: 17 | R38: 18 | S38: 17 | T38: 17 | U38: 16 | V38: 16 | W38: 19 | X38: 19 | Y38: 17 | Z38: 17 | AA38: 17 | AB38: 18 | AC38: 18 | AD38: 19 | AE38: 19 | AF38: 19 | AG38: 19 | AH38: 19 | AI38: 20 | AJ38: 19 | AK38: 17
A39: 107250 | B39: 용인수지우체국 | C39: =SUM(D39:AK39)/34 -> 18.617647 | D39: 17 | E39: 18 | F39: 18 | G39: 18 | H39: 18 | I39: 18 | J39: 18 | K39: 17 | L39: 16 | M39: 16 | N39: 20 | O39: 21 | P39: 19 | Q39: 19 | R39: 19 | S39: 19 | T39: 19 | U39: 17 | V39: 17 | W39: 17 | X39: 17 | Y39: 17 | Z39: 19 | AA39: 19 | AB39: 20 | AC39: 20 | AD39: 20 | AE39: 20 | AF39: 21 | AG39: 20 | AH39: 20 | AI39: 20 | AJ39: 19 | AK39: 20
A40: 107458 | B40: 남양주우체국 | C40: =SUM(D40:AK40)/34 -> 25.323529 | D40: 23 | E40: 23 | F40: 24 | G40: 24 | H40: 23 | I40: 24 | J40: 24 | K40: 24 | L40: 24 | M40: 25 | N40: 27 | O40: 26 | P40: 25 | Q40: 25 | R40: 25 | S40: 24 | T40: 24 | U40: 24 | V40: 23 | W40: 22 | X40: 23 | Y40: 23 | Z40: 25 | AA40: 25 | AB40: 25 | AC40: 26 | AD40: 27 | AE40: 29 | AF40: 29 | AG40: 29 | AH40: 29 | AI40: 30 | AJ40: 30 | AK40: 28
A41: 107482 | B41: 화성우체국 | C41: =SUM(D41:AK41)/34 -> 18.264706 | D41: 16 | E41: 18 | F41: 17 | G41: 17 | H41: 18 | I41: 18 | J41: 18 | K41: 19 | L41: 18 | M41: 18 | N41: 19 | O41: 19 | P41: 18 | Q41: 18 | R41: 18 | S41: 18 | T41: 19 | U41: 18 | V41: 18 | W41: 18 | X41: 18 | Y41: 16 | Z41: 14 | AA41: 15 | AB41: 16 | AC41: 18 | AD41: 18 | AE41: 22 | AF41: 22 | AG41: 20 | AH41: 21 | AI41: 21 | AJ41: 21 | AK41: 19
A42: Total | C42: =SUM(D42:AK42)/34 -> 835.76471 | D42: 793 | E42: 795 | F42: 793 | G42: 795 | H42: 796 | I42: 800 | J42: 803 | K42: 797 | L42: 818 | M42: 821 | N42: 883 | O42: 885 | P42: 863 | Q42: 846 | R42: 857 | S42: 837 | T42: 823 | U42: 803 | V42: 796 | W42: 798 | X42: 794 | Y42: 782 | Z42: 781 | AA42: 791 | AB42: 840 | AC42: 858 | AD42: 866 | AE42: 898 | AF42: 913 | AG42: 907 | AH42: 901 | AI42: 903 | AJ42: 895 | AK42: 885

Sheet 보험모집희망직원
A1: 04. 월별 보험모집희망구분별 모집자현황->총괄국
A3: 리포트 필터:
A4: ("201510" 와 "201510" 사이 기준년월 (ID))
A5: 보기 필터:
A6: 직군 = 02:우정직(내근), 03:우정직(외근), 04:별정우체국직원, 05:행정직,기술직, 06:우편취급국장, 07:상시집배원, 08:관서
A8: 쪽 표시:
A9: 기준년월: 2015년10월
A10: 청: 11:경인청
A12: 총괄국 | C12: 희망비희망구분 | D12: 희망 | E12: 비희망 | F12: 무실적비희망 | G12: 기타 | H12: Total
C13: 메트릭 | D13: 인원수 | E13: 인원수 | F13: 인원수 | G13: 인원수 | H13: 인원수
A14: 100057 | B14: 평택우체국 | D14: 147 | E14: 0 | F14: 0 | G14: 84 | H14: 231
A15: 100073 | B15: 인천우체국 | D15: 116 | E15: 10 | F15: 0 | G15: 100 | H15: 226
A16: 100115 | B16: 부평우체국 | D16: 91 | E16: 21 | F16: 0 | G16: 109 | H16: 221
A17: 100131 | B17: 오산우체국 | D17: 40 | E17: 0 | F17: 0 | G17: 36 | H17: 76
A18: 100164 | B18: 안성우체국 | D18: 99 | E18: 0 | F18: 0 | G18: 39 | H18: 138
A19: 100354 | B19: 가평우체국 | D19: 64 | E19: 1 | F19: 0 | G19: 9 | H19: 74
A20: 100362 | B20: 파주우체국 | D20: 131 | E20: 0 | F20: 0 | G20: 65 | H20: 196
A21: 100479 | B21: 강화우체국 | D21: 88 | E21: 1 | F21: 0 | G21: 16 | H21: 105
A22: 100487 | B22: 양평우체국 | D22: 79 | E22: 1 | F22: 0 | G22: 36 | H22: 116
A23: 100495 | B23: 경기광주우체국 | D23: 45 | E23: 1 | F23: 0 | G23: 72 | H23: 118
A24: 100503 | B24: 여주우체국 | D24: 86 | E24: 0 | F24: 0 | G24: 15 | H24: 101
A25: 100529 | B25: 김포우체국 | D25: 51 | E25: 0 | F25: 0 | G25: 82 | H25: 133
... A54: 107482 | B54: 화성우체국 | D54: 165 | E54: 1 | F54: 0 | G54: 90 | H54: 256
A55: Total | D55: 3229 | E55: 431 | F55: 2 | G55: 3068 | H55: 6730

Sheet 2015년목표
C1: 2015년목표
A2: 안성 | B2: 안성우체국 | C2: 271711
A3: 용인 | B3: 용인우체국 | C3: 447346
A4: 의정부 | B4: 의정부우체국 | C4: 966712
A5: 성남 | B5: 성남우체국 | C5: 1786629
A6: 동수원 | B6: 동수원우체국 | C6: 1214490
A7: 성남분당 | B7: 성남분당우체국 | C7: 908135
A8: 김포 | B8: 김포우체국 | C8: 458258
A9: 수원 | B9: 수원우체국 | C9: 1295550
A10: 부천 | B10: 부천우체국 | C10: 1829101
A11: 이천 | B11: 이천우체국 | C11: 191440
A12: 안양 | B12: 안양우체국 | C12: 1768736
A13: 파주 | B13: 파주우체국 | C13: 419481
... A19: 평택 | B19: 평택우체국 | C19: 960602
A20: 남인천 | B20: 남인천우체국
A21: 인천남동 | B21: 인천남동우체국
A22: 소계 | C22: 1035533
A23: 화성 | B23: 화성우체국 | C23: 658835
A24: 안산 | B24: 안산우체국 | C24: 1917761
A25: 시흥 | B25: 시흥우체국 | C25: 1462908
A26: 인천 | B26: 인천우체국 | C26: 829869
A27: 서인천 | B27: 서인천우체국 | C27: 1051697
A28: 군포 | B28: 군포우체국 | C28: 1093442
A29: 서수원 | B29: 서수원우체국 | C29: 556360
A30: 남양주 | B30: 남양주우체국 | C30: 870613
A31: 광명 | B31: 광명우체국 | C31: 1031061
A32: 연천 | B32: 연천우체국 | C32: 36391
A33: 가평 | B33: 가평우체국 | C33: 98929
A34: 오산 | B34: 오산우체국 | C34: 333928
... A43: 강화 | B43: 강화우체국 | C43: 129862

Sheet 관서수
A1: 관서수 | B1: 관서급별
A2: 총괄국명 | B2: 4급 | C2: 5급 | D2: 6급 | E2: 7급 | F2: 별정국 | G2: 출장소 | H2: 총합계
A3: 가평우체국 | C3: 1 | D3: 4 | F3: 1 | H3: 6
A4: 강화우체국 | C4: 1 | D4: 3 | E4: 1 | F4: 8 | H4: 13
A5: 경기광주우체국 | B5: 1 | D5: 2 | F5: 4 | H5: 7
A6: 고양덕양우체국 | B6: 1 | D6: 9 | H6: 10
A7: 고양일산우체국 | B7: 1 | D7: 8 | H7: 9
A8: 광명우체국 | B8: 1 | D8: 6 | H8: 7
A9: 구리우체국 | B9: 1 | D9: 4 | H9: 5
A10: 군포우체국 | B10: 1 | D10: 7 | H10: 8
A11: 김포우체국 | B11: 1 | D11: 5 | F11: 2 | H11: 8
A12: 남양주우체국 | B12: 1 | C12: 1 | D12: 4 | F12: 4 | H12: 10
A13: 남인천우체국 | B13: 1 | D13: 5 | H13: 6
A14: 동두천우체국 | C14: 1 | D14: 3 | F14: 2 | G14: 1 | H14: 7
A15: 동수원우체국 | B15: 1 | D15: 8 | H15: 9
A16: 백령우체국 | C16: 1 | D16: 3 | H16: 4
A17: 부천우체국 | B17: 1 | C17: 1 | D17: 13 | F17: 1 | H17: 16
A18: 부평우체국 | B18: 1 | D18: 10 | H18: 11
A19: 서수원우체국 | B19: 1 | D19: 3 | H19: 4
A20: 서인천우체국 | B20: 1 | D20: 6 | F20: 1 | H20: 8
A21: 성남분당우체국 | B21: 1 | C21: 1 | D21: 7 | H21: 9
A22: 성남우체국 | B22: 1 | D22: 8 | F22: 1 | H22: 10
A23: 수원우체국 | B23: 1 | D23: 8 | H23: 9
A24: 시흥우체국 | B24: 1 | C24: 1 | D24: 4 | H24: 6
A25: 안산우체국 | B25: 1 | D25: 11 | F25: 2 | H25: 14
A26: 안성우체국 | B26: 1 | C26: 1 | D26: 5 | F26: 7 | H26: 14
A27: 안양우체국 | B27: 1 | C27: 2 | D27: 7 | H27: 10
A28: 양평우체국 | C28: 1 | D28: 4 | F28: 7 | H28: 12
A29: 여주우체국 | C29: 1 | D29: 5 | F29: 3 | H29: 9
A30: 연천우체국 | C30: 1 | D30: 3 | F30: 3 | G30: 1 | H30: 8
A31: 오산우체국 | C31: 1 | D31: 2 | H31: 3
A32: 용인수지우체국 | B32: 1 | D32: 3 | F32: 2 | H32: 6
A33: 용인우체국 | B33: 1 | D33: 7 | F33: 2 | H33: 10
A34: 의정부우체국 | B34: 1 | D34: 7 | F34: 4 | H34: 12
A35: 이천우체국 | B35: 1 | D35: 3 | F35: 7 | H35: 11
A36: 인천계양우체국 | B36: 1 | D36: 3 | F36: 1 | H36: 5
A37: 인천남동우체국 | B37: 1 | D37: 8 | H37: 9
A38: 인천우체국 | B38: 1 | C38: 2 | D38: 11 | E38: 1 | F38: 4 | H38: 19
A39: 파주우체국 | B39: 1 | C39: 1 | D39: 7 | F39: 6 | G39: 1 | H39: 16
A40: 평택우체국 | B40: 1 | C40: 2 | D40: 10 | F40: 6 | H40: 19
A41: 포천우체국 | B41: 1 | C41: 1 | D41: 5 | F41: 5 | H41: 12
A42: 하남우체국 | C42: 1 | D42: 1 | F42: 1 | H42: 3
A43: 화성우체국 | B43: 1 | C43: 3 | D43: 5 | F43: 8 | H43: 17
A44: 총합계 | B44: 32 | C44: 25 | D44: 237 | E44: 2 | F44: 92 | G44: 3 | H44: 391

Sheet 전국우체국세부현황
A1: 전국 우체국 세부현황
A2: 구분 | B2: 지방우정청 | C2: 우체국명 | D2: 총괄국명 | E2: 총괄국여부 | F2: 관서급 | G2: 건물유형 | H2: 업무유형 | I2: 군사우체국 여부 | J2: 금융업무 취급여부 | K2: 집배업무 수행여부 | L2: 도서벽지 | M2: 직원수 계(명) | N2: 정규직(명) | O2: 비정규직(명) | P2: 우편창구수(개) | Q2: 금융창구수(개) | R2: 기타창구수(개) | S2: 개국일 | T2: 건축년도 | U2: 대지면적(㎡) | V2: 건물연면적(㎡) | W2: 우편번호 | X2: 주소(지번) | Y2: 주소(도로명) | Z2: 전화번호 | AA2: 비고(리모델링)
A3: 442 | B3: 경인청 | C3: 인천우체국 | D3: 인천우체국 | E3: 총괄국 | F3: 4급 | G3: 투자국 | H3: 총괄국 | I3: 해당없음 | J3: 취급 | K3: 취급 | M3: 120 | N3: 82 | O3: 38 | P3: 3 | Q3: 5 | S3: 1884-11-18 | T3: 2003 | U3: 4628 | V3: 5433.92 | W3: 21935 | X3: 인천광역시 연수구 연수3동 581-1 | Y3: 인천광역시 연수구 함박뫼로 226 (연수동) | Z3: 032)850-8183 | AA3: 해당없음
A4: 443 | B4: 경인청 | C4: 인천항동우체국 | D4: 인천우체국 | F4: 6급 | G4: 투자국 | H4: 창구국 | I4: 해당없음 | J4: 취급 | K4: 미취급 | M4: 4 | N4: 4 | P4: 2 | Q4: 2 | S4: 29890 | T4: 1981 | U4: 403.3 | V4: 195.87 | W4: 22348 | X4: 인천광역시 중구 항동7가 87-7 | Y4: 인천광역시 중구 연안부두로 67 (항동) | Z4: 032)882-4494 | AA4: 해당없음
A5: 444 | B5: 경인청 | C5: 인천송림동우체국 | D5: 인천우체국 | F5: 6급 | G5: 투자국 | H5: 창구국 | I5: 해당없음 | J5: 취급 | K5: 미취급 | M5: 5 | N5: 5 | P5: 2 | Q5: 3 | S5: 27988 | T5: 1977 | U5: 901.2 | V5: 325.7 | W5: 22558 | X5: 인천광역시 동구 송림6동 60-3 | Y5: 인천광역시 동구 동산로 90 (송림동) | Z5: 032)762-0805 | AA5: 해당없음
A6: 445 | B6: 경인청 | C6: 인천만석동우체국 | D6: 인천우체국 | F6: 6급 | G6: 투자국 | H6: 창구국 | I6: 해당없음 | J6: 취급 | K6: 미취급 | M6: 3 | N6: 3 | P6: 2 | Q6: 1 | R6: 1 | S6: 22889 | T6: 1989 | U6: 184.1 | V6: 241.56 | W6: 22506 | X6: 인천광역시 동구 만석동 48-4 | Y6: 인천광역시 동구 제물량로 341 (만석동) | Z6: 032)762-0803 | AA6: 해당없음
A7: 446 | B7: 경인청 | C7: 동인천우체국 | D7: 인천우체국 | F7: 7급 | G7: 투자국 | H7: 창구국 | I7: 해당없음 | J7: 취급 | K7: 미취급 | M7: 3 | N7: 3 | P7: 2 | Q7: 1 | R7: 1 | S7: 9802 | T7: 1976 | U7: 222.1 | V7: 197.4 | W7: 22554 | X7: 인천광역시 동구 금곡동 33-3 | Y7: 인천광역시 동구 금곡로 19 (금곡동) | Z7: 032)773-4005 | AA7: 해당없음
A8: 447 | B8: 경인청 | C8: 인천화평동우체국 | D8: 인천우체국 | F8: 6급 | G8: 투자국 | H8: 창구국 | I8: 해당없음 | J8: 취급 | K8: 미취급 | M8: 4 | N8: 4 | P8: 2 | Q8: 2 | S8: 32132 | T8: 1987 | U8: 251.3 | V8: 233.59 | W8: 22519 | X8: 인천광역시 동구 화평동 430 | Y8: 인천광역시 동구 송화로 10 (화평동) | Z8: 032)763-2004 | AA8: 해당없음
A9: 448 | B9: 경인청 | C9: 덕적우체국 | D9: 인천우체국 | F9: 6급 | G9: 투자국 | H9: 집배센터국 | I9: 해당없음 | J9: 취급 | K9: 취급 | L9: 도서지역 | M9: 6 | N9: 5 | O9: 1 | P9: 1 | Q9: 1 | S9: 22463 | T9: 2000 | U9: 661 | V9: 740.09 | W9: 23130 | X9: 인천광역시 옹진군 덕적면 진리 393-2 | Y9: 인천광역시 옹진군 덕적면 덕적북로133번길 40 | Z9: 032)831-2105 | AA9: 해당없음
A10: 449 | B10: 경인청 | C10: 용유우체국 | D10: 인천우체국 | F10: 6급 | G10: 투자국 | H10: 집배센터국 | I10: 해당없음 | J10: 취급 | K10: 취급 | M10: 7 | N10: 6 | O10: 1 | P10: 1 | Q10: 1 | S10: 24471 | T10: 1989 | U10: 592 | V10: 179.41 | W10: 22384 | X10: 인천광역시 중구 남북동 94-8 | Y10: 인천광역시 중구 마시란로 314-32 (남북동) | Z10: 032)746-4566 | AA10: 해당없음
A11: 450 | B11: 경인청 | C11: 인천연수동우체국 | D11: 인천우체국 | F11: 6급 | G11: 투자국 | H11: 창구국 | I11: 해당없음 | J11: 취급 | K11: 미취급 | M11: 4 | N11: 4 | P11: 2 | Q11: 2 | R11: 1 | S11: 33968 | T11: 1992 | U11: 1012.5 | V11: 309.15 | W11: 21924 | X11: 인천광역시 연수구 연수1동 534-1 | Y11: 인천광역시 연수구 비류대로 436 (연수동) | Z11: 032)812-2105 | AA11: 해당없음
A12: 451 | B12: 경인청 | C12: 인천옥련동우체국 | D12: 인천우체국 | F12: 6급 | G12: 투자국 | H12: 창구국 | I12: 해당없음 | J12: 취급 | K12: 미취급 | M12: 5 | N12: 5 | P12: 2 | Q12: 3 | S12: 36495 | T12: 1999 | U12: 805 | V12: 354.34 | W12: 21950 | X12: 인천광역시 연수구 옥련동 238-5 | Y12: 인천광역시 연수구 한진로38번길 9 (옥련동) | Z12: 032)834-2105 | AA12: 해당없음
A13: 452 | B13: 경인청 | C13: 인천운서동우체국 | D13: 인천우체국 | F13: 5급 | G13: 투자국 | H13: 집배센터국 | I13: 해당없음 | J13: 취급 | K13: 취급 | M13: 35 | N13: 15 | O13: 20 | P13: 2 | Q13: 1 | R13: 1 | S13: 37604 | T13: 2002 | U13: 659.3 | V13: 672.82 | W13: 22371 | X13: 인천광역시 중구 운서동 2792-4 | Y13: 인천광역시 중구 흰바위로27번길 6 (운서동) | Z13: 032)752-2105 | AA13: 해당없음
A14: 453 | B14: 경인청 | C14: 인천중동우체국 | D14: 인천우체국 | F14: 5급 | G14: 투자국 | H14: 집배센터국 | I14: 해당없음 | J14: 취급 | K14: 취급 | M14: 49 | N14: 39 | O14: 10 | P14: 4 | Q14: 2 | S14: 38353 | T14: 1923 | U14: 1850.7 | V14: 2152.4 | W14: 22313 | X14: 인천광역시 중구 항동6가 1 | Y14: 인천광역시 중구 제물량로 183 (항동6가) | Z14: 032)773-2106 | AA14: (리)2004-09-28
A15: 454 | B15: 경인청 | C15: 인천송도동우체국 | D15: 인천우체국 | F15: 6급 | G15: 투자국 | H15: 창구국 | I15: 해당없음 | J15: 취급 | K15: 미취급 | M15: 6 | N15: 6 | P15: 4 | Q15: 2 | S15: 38716 | T15: 2005 | U15: 791.8 | V15: 757.83 | W15: 21996 | X15: 인천광역시 연수구 송도동 3-32 | Y15: 인천광역시 연수구 하모니로35번길 2 (송도동) | Z15: 032)858-6442 | AA15: 해당없음
A16: 455 | B16: 경인청 | C16: 인천공항우체국 | D16: 인천우체국 | F16: 6급 | G16: 유상임차 | H16: 창구국 | I16: 해당없음 | J16: 취급 | K16: 미취급 | M16: 5 | N16: 5 | P16: 3 | Q16: 1 | S16: 35737 | U16: 97 | V16: 97 | W16: 22382 | X16: 인천광역시 중구 운서동 2851 여객터미널 2층 | Y16: 인천광역시 중구 공항로 272, 2층 (운서동) | Z16: 032)740-2900 | AA16: 해당없음
A17: 456 | B17: 경인청 | C17: 인천송도G-타워우체국 | D17: 인천우체국 | F17: 6급 | G17: 무상임차 | H17: 창구국 | I17: 해당없음 | J17: 취급 | K17: 미취급 | M17: 3 | N17: 3 | P17: 2 | Q17: 1 | R17: 1 | S17: 41428 | U17: 24042 | V17: 257.62 | W17: 22004 | X17: 인천광역시 연수구 송도2동 24-2 | Y17: 인천광역시 연수구 아트센터대로 175, 1층 (송도동) | Z17: 032)858-0140 | AA17: 해당없음
A18: 457 | B18: 경인청 | C18: 북도우체국 | D18: 인천우체국 | F18: 별정국 | G18: 별정국 | H18: 집배센터국 | I18: 해당없음 | J18: 취급 | K18: 취급 | M18: 6 | N18: 5 | O18: 1 | P18: 1 | Q18: 1 | S18: 24421 | U18: 301 | V18: 103 | W18: 23114 | X18: 인천광역시 옹진군 북도면 시도리 291 | Y18: 인천광역시 옹진군 북도면 시도로 97 | Z18: 032)752-4009 | AA18: 해당없음
A19: 458 | B19: 경인청 | C19: 연평우체국 | D19: 인천우체국 | F19: 별정국 | G19: 별정국 | H19: 집배센터국 | I19: 해당없음 | J19: 취급 | K19: 취급 | M19: 5 | N19: 5 | P19: 1 | Q19: 1 | S19: 22782 | U19: 1140 | V19: 148 | W19: 23108 | X19: 인천광역시 옹진군 연평면 연평리 482-12 | Y19: 인천광역시 옹진군 연평면 연평로137번길 13 | Z19: 032)831-6520 | AA19: 해당없음
A20: 459 | B20: 경인청 | C20: 영종우체국 | D20: 인천우체국 | F20: 별정국 | G20: 별정국 | H20: 창구국 | I20: 해당없음 | J20: 취급 | K20: 미취급 | M20: 7 | N20: 6 | O20: 1 | P20: 3 | Q20: 2 | S20: 22812 | U20: 792 | V20: 106 | W20: 22372 | X20: 인천광역시 중구 운남동 1560-4 | Y20: 인천광역시 중구 운남로128번길 7 (운남동) | Z20: 032)746-0002 | AA20: 해당없음
A21: 460 | B21: 경인청 | C21: 영흥우체국 | D21: 인천우체국 | F21: 별정국 | G21: 별정국 | H21: 집배센터국 | I21: 해당없음 | J21: 취급 | K21: 취급 | M21: 6 | N21: 6 | P21: 1 | Q21: 1 | S21: 23162 | U21: 660 | V21: 93 | W21: 23119 | X21: 인천광역시 옹진군 영흥면 내리 238-52 | Y21: 인천광역시 옹진군 영흥면 영흥로 410 | Z21: 032)886-8200 | AA21: 해당없음
A22: 466 | B22: 경인청 | C22: 서인천우체국 | D22: 서인천우체국 | E22: 총괄국 | F22: 4급 | G22: 투자국 | H22: 총괄국 | I22: 해당없음 | J22: 취급 | K22: 취급 | M22: 224 | N22: 114 | O22: 110 | P22: 4 | Q22: 3 | R22: 2 | S22: 35139 | T22: 1996 | U22: 2987.1 | V22: 6412.37 | W22: 22713 | X22: 인천광역시 서구 심곡동 278-7 | Y22: 인천광역시 서구 서곶로 318(심곡동) | Z22: 032)590-9152 | AA22: 해당없음
A23: 467 | B23: 경인청 | C23: 인천석남동우체국 | D23: 서인천우체국 | F23: 6급 | G23: 투자국 | H23: 창구국 | I23: 해당없음 | J23: 취급 | K23: 미취급 | M23: 5 | N23: 4 | O23: 1 | P23: 2 | Q23: 2 | R23: 1 | S23: 31656 | T23: 1986 | U23: 430.1 | V23: 291.73 | W23: 22784 | X23: 인천광역시 서구 석남1동 456-7 | Y23: 인천공역시 서구 가정로 314(석남동) | Z23: 032)572-2155 | AA23: (증)2009-12-31
A24: 468 | B24: 경인청 | C24: 인천가좌2동우체국 | D24: 서인천우체국 | F24: 6급 | G24: 투자국 | H24: 창구국 | I24: 해당없음 | J24: 취급 | K24: 미취급 | M24: 6 | N24: 5 | O24: 1 | P24: 2 | Q24: 3 | R24: 0 | S24: 33373 | T24: 1991 | U24: 450.6 | V24: 296.2 | W24: 22810 | X24: 인천광역시 서구 가좌2동 12 | Y24: 인천광역시 서구 원적로 96번길 27(가좌동) | Z24: 032)575-2005 | AA24: (증)2009-12-31
A25: 469 | B25: 경인청 | C25: 인천공단우체국 | D25: 서인천우체국 | F25: 6급 | G25: 유상임차 | H25: 창구국 | I25: 해당없음 | J25: 취급 | K25: 미취급 | M25: 3 | N25: 3 | P25: 2 | Q25: 1 | R25: 1 | S25: 27881 | U25: 4443.60중 일부사용 | V25: 120 | W25: 22829 | X25: 인천광역시 서구 가좌동 539-1 | Y25: 인천광역시 서구 가재울로 72(가좌동) | Z25: 032)578-2105 | AA25: 해당없음
A26: 470 | B26: 경인청 | C26: 인천원당우체국 | D26: 서인천우체국 | F26: 6급 | G26: 투자국 | H26: 창구국 | I26: 해당없음 | J26: 취급 | K26: 미취급 | M26: 4 | N26: 4 | P26: 3 | Q26: 2 | R26: 1 | S26: 39447 | T26: 2007 | U26: 1268.5 | V26: 805.4 | W26: 22647 | X26: 인천광역시 서구 원당동 823-2,823-3 | Y26: 인천광역시 서구 고산후로 121번길 38(원당동) | Z26: 032)568-4991 | AA26: (증)2009-03-04
A27: 471 | B27: 경인청 | C27: 인천청라1동우체국 | D27: 서인천우체국 | F27: 6급 | G27: 투자국 | H27: 창구국 | I27: 해당없음 | J27: 취급 | K27: 미취급 | M27: 4 | N27: 4 | P27: 3 | Q27: 2 | R27: 0 | S27: 41267 | T27: 2012 | U27: 1000 | V27: 460.32 | W27: 22738 | X27: 인천광역시 서구 연희동 796-6 | Y27: 인천광역시 서구 청라라임로 52(연희동) | Z27: 032)562-1980 | AA27: 해당없음
A28: 472 | B28: 경인청 | C28: 인천검암동우체국 | D28: 서인천우체국 | F28: 6급 | G28: 투자국 | H28: 창구국 | I28: 해당없음 | J28: 취급 | K28: 미취급 | M28: 4 | N28: 4 | P28: 2 | Q28: 2 | R28: 0 | S28: 40905 | T28: 2011 | U28: 679.8 | V28: 335.16 | W28: 22698 | X28: 인천광역시 서구 검암동 660-2 | Y28: 인천광역시 서구 승학로 404(검암동) | Z28: 032)564-3018 | AA28: 해당없음
A29: 473 | B29: 경인청 | C29: 검단우체국 | D29: 서인천우체국 | F29: 별정국 | G29: 별정국 | H29: 창구국 | I29: 해당없음 | J29: 취급 | K29: 미취급 | M29: 5 | N29: 5 | P29: 2 | Q29: 2 | R29: 1 | S29: 23742 | U29: 208 | V29: 119.8 | W29: 22617 | X29: 인천광역시 서구 마전동 911-4 | Y29: 인천광역시 서구 검단로 487(마전동) | Z29: 032)563-5204 | AA29: 해당없음
A30: 478 | B30: 경인청 | C30: 부평우체국 | D30: 부평우체국 | E30: 총괄국 | F30: 4급 | G30: 투자국 | H30: 집중국/물류센터 | I30: 해당없음 | J30: 취급 | K30: 취급 | M30: 190 | N30: 148 | O30: 42 | P30: 4 | Q30: 3 | R30: 2 | S30: 41030 | T30: 2012 | U30: 23844 | V30: 26913.52 | W30: 21313 | X30: 인천광역시 부평구 청천동 327 | Y30: 인천광역시 부평구 길주로 415 (청천동) | Z30: 032)500-4000 | AA30: 해당없음
A31: 479 | B31: 경인청 | C31: 부평현대아파트우체국 | D31: 부평우체국 | F31: 6급 | G31: 투자국 | H31: 창구국 | I31: 해당없음 | J31: 취급 | K31: 미취급 | M31: 5 | N31: 5 | P31: 2 | Q31: 3 | S31: 31411 | T31: 1985 | U31: 762 | V31: 174 | W31: 21384 | X31: 인천광역시 부평구 산곡3동 369-482 | Y31: 인천광역시 부평구 경원대로 1269-1 (산곡동) | Z31: 032)523-7995 | AA31: 해당없음
A32: 480 | B32: 경인청 | C32: 인천갈산동우체국 | D32: 부평우체국 | F32: 6급 | G32: 투자국 | H32: 창구국 | I32: 해당없음 | J32: 취급 | K32: 미취급 | M32: 5 | N32: 5 | P32: 2 | Q32: 3 | S32: 34333 | T32: 1993 | U32: 736.9 | V32: 329.58 | W32: 21335 | X32: 인천광역시 부평구 갈산2동 365 | Y32: 인천광역시 부평구 주부토로 177 (갈산동) | Z32: 032)511-0050 | AA32: 해당없음
A33: 481 | B33: 경인청 | C33: 인천동암우체국 | D33: 부평우체국 | F33: 6급 | G33: 투자국 | H33: 창구국 | I33: 해당없음 | J33: 취급 | K33: 미취급 | M33: 5 | N33: 5 | P33: 2 | Q33: 3 | R33: 1 | S33: 32482 | T33: 1988년 | U33: 524 | V33: 255.06 | W33: 21452 | X33: 인천광역시 부평구 십정2동 419-7 | Y33: 인천광역시 부평구 열우물로 15 (십정동) | Z33: 032)439-2004 | AA33: 해당없음
A34: 482 | B34: 경인청 | C34: 인천부개동우체국 | D34: 부평우체국 | F34: 6급 | G34: 투자국 | H34: 창구국 | I34: 해당없음 | J34: 취급 | K34: 미취급 | M34: 5 | N34: 5 | P34: 2 | Q34: 3 | S34: 35408 | T34: 1996 | U34: 600.1 | V34: 322.83 | W34: 21348 | X34: 인천광역시 부평구 부개3동 498-14 | Y34: 인천광역시 부평구 부흥북로 153 (부개동) | Z34: 032)361-2005 | AA34: 해당없음
A35: 483 | B35: 경인청 | C35: 부평대로우체국 | D35: 부평우체국 | F35: 6급 | G35: 투자국 | H35: 창구국 | I35: 해당없음 | J35: 취급 | K35: 미취급 | M35: 6 | N35: 6 | P35: 3 | Q35: 3 | S35: 14685 | T35: 2007 | U35: 1324.3 | V35: 12092.37 | W35: 21359 | X35: 인천광역시 부평구 부평4동 442-15 | Y35: 인천광역시 부평구 부평대로 88 (부평동) | Z35: 032)524-2167 | AA35: 해당없음
A36: 484 | B36: 경인청 | C36: 인천부평6동우체국 | D36: 부평우체국 | F36: 6급 | G36: 투자국 | H36: 창구국 | I36: 해당없음 | J36: 취급 | K36: 미취급 | M36: 4 | N36: 4 | P36: 2 | Q36: 2 | S36: 32426 | T36: 1988 | U36: 703.3 | V36: 255.06 | W36: 21414 | X36: 인천광역시 부평구 부평6동 611-12 | Y36: 인천광역시 부평구 경인로 995 (부평6동) | Z36: 032)511-2005 | AA36: 해당없음
A37: 485 | B37: 경인청 | C37: 인천산곡2동우체국 | D37: 부평우체국 | F37: 6급 | G37: 투자국 | H37: 창구국 | I37: 해당없음 | J37: 취급 | K37: 미취급 | M37: 4 | N37: 4 | P37: 2 | Q37: 2 | S37: 36150 | T37: 1998 | U37: 350 | V37: 345.36 | W37: 21376 | X37: 인천광역시 부평구 산곡2동 145-9 | Y37: 인천광역시 부평구 마장로272번길 95 (산곡동) | Z37: 032)527-2005 | AA37: 해당없음
A38: 486 | B38: 경인청 | C38: 부평공단우체국 | D38: 부평우체국 | F38: 6급 | G38: 유상임차 | H38: 창구국 | I38: 해당없음 | J38: 취급 | K38: 미취급 | M38: 4 | N38: 4 | P38: 2 | Q38: 2 | S38: 30256 | V38: 164.36 | W38: 21314 | X38: 인천광역시 부평구 청천2동 409-2 | Y38: 인천광역시 부평구 안남로434번길 11 (청천동) | Z38: 032)524-7135 | AA38: 해당없음
A39: 487 | B39: 경인청 | C39: 북인천우체국 | D39: 부평우체국 | F39: 6급 | G39: 투자국 | H39: 창구국 | I39: 해당없음 | J39: 취급 | K39: 미취급 | M39: 7 | N39: 7 | P39: 4 | Q39: 3 | S39: 31623 | T39: 2010 | U39: 1933 | V39: 12903.04 | W39: 21389 | X39: 인천광역시 부평구 부평동 546-62 | Y39: 인천광역시 부평구 경원대로1373 (부평동) | Z39: 032)502-0004 | AA39: 해당없음
A40: 488 | B40: 경인청 | C40: 인천삼산동우체국 | D40: 부평우체국 | F40: 6급 | G40: 투자국 | H40: 창구국 | I40: 해당없음 | J40: 취급 | K40: 미취급 | M40: 4 | N40: 4 | P40: 2 | Q40: 2 | S40: 39426 | T40: 2007 | U40: 760 | V40: 720.83 | W40: 21327 | X40: 인천광역시 부평구 삼산동 451-2 | Y40: 인천광역시 부평구 굴포로 141 (삼산동) | Z40: 032)529-1780 | AA40: 해당없음
A41: 495 | B41: 경인청 | C41: 인천계양우체국 | D41: 인천계양우체국 | E41: 총괄국 | F41: 4급 | G41: 투자국 | H41: 총괄국 | I41: 해당없음 | J41: 취급 | K41: 취급 | M41: 136 | N41: 107 | O41: 29 | P41: 5 | Q41: 5 | R41: 1 | S41: 35674 | T41: 1997 | U41: 3998.9 | V41: 6155.73 | W41: 21066 | X41: 인천광역시 계양구 계산4동 1078-2 | Y41: 인천광역시 계양구 계산새로 76(계산4동) | Z41: 032)540-9401 | AA41: 해당없음
A42: 496 | B42: 경인청 | C42: 인천계산동우체국 | D42: 인천계양우체국 | F42: 6급 | G42: 투자국 | H42: 창구국 | I42: 해당없음 | J42: 취급 | K42: 미취급 | M42: 5 | N42: 5 | O42: 0 | P42: 2 | Q42: 3 | S42: 18275 | T42: 1981 | U42: 496.9 | V42: 482.27 | W42: 21039 | X42: 인천광역시 계양구 계산2동 931-55 | Y42: 인천광역시 계양구 경명대로 1053(계산동) | Z42: 032)542-2106 | AA42: (리)2006-11-08
A43: 497 | B43: 경인청 | C43: 인천작전동우체국 | D43: 인천계양우체국 | F43: 6급 | G43: 투자국 | H43: 창구국 | I43: 해당없음 | J43: 취급 | K43: 미취급 | M43: 5 | N43: 5 | O43: 0 | P43: 2 | Q43: 2 | R43: 1 | S43: 33141 | T43: 1990 | U43: 374.2 | V43: 306.7 | W43: 21119 | X43: 인천광역시 계양구 작전1동 381-9 | Y43: 인천광역시 계양구 효서로 292(작전동) | Z43: 032)544-7122 | AA43: 해당없음
A44: 498 | B44: 경인청 | C44: 인천효성동우체국 | D44: 인천계양우체국 | F44: 6급 | G44: 투자국 | H44: 창구국 | I44: 해당없음 | J44: 취급 | K44: 미취급 | M44: 4 | N44: 4 | O44: 0 | P44: 2 | Q44: 2 | S44: 32843 | T44: 1989 | U44: 627.9 | V44: 255.06 | W44: 21112 | X44: 인천광역시 계양구 효성2동 242-4 | Y44: 인천광역시 계양구 효서로 146(효성동) | Z44: 032)548-2005 | AA44: 해당없음
A45: 499 | B45: 경인청 | C45: 인천계양1동우체국 | D45: 인천계양우체국 | F45: 별정국 | G45: 별정국 | H45: 창구국 | I45: 해당없음 | J45: 취급 | K45: 미취급 | M45: 4 | N45: 4 | O45: 0 | P45: 2 | Q45: 2 | R45: 1 | S45: 23721 | U45: 150 | V45: 99.5 | W45: 21006 | X45: 인천광역시 계양구 장기동 152-13 | Y45: 인천광역시 계양구 장기로 4(장기동) | Z45: 032)515-4202 | AA45: 해당없음
A46: 502 | B46: 경인청 | C46: 남인천우체국 | D46: 남인천우체국 | E46: 총괄국 | F46: 4급 | G46: 투자국 | H46: 총괄국 | I46: 해당없음 | J46: 취급 | K46: 취급 | M46: 138 | N46: 109 | O46: 29 | P46: 3 | Q46: 3 | R46: 4 | S46: 28551 | T46: 1978 | U46: 3446 | V46: 4924.35 | W46: 21552 | X46: 인천광역시 남동구 간석1동 520-1 | Y46: 인천광역시 남동구 경인로 514 (간석1동) | Z46: 032)453-0500 | AA46: 리) 2004,7월 증) 2003,2007년
A47: 503 | B47: 경인청 | C47: 인천지방법원우체국 | D47: 남인천우체국 | F47: 6급 | G47: 무상임차 | H47: 창구국 | I47: 해당없음 | J47: 취급 | K47: 미취급 | M47: 6 | N47: 6 | P47: 3 | Q47: 2 | R47: 2(법원특송창구) | S47: 27211 | V47: 138.8 | W47: 22220 | X47: 인천광역시 남구 학익동 278-2 | Y47: 인천광역시 남구 소성로163번길 17 (학익동) | Z47: 032)862-2105
A48: 504 | B48: 경인청 | C48: 인천문학동우체국 | D48: 남인천우체국 | F48: 6급 | G48: 투자국 | H48: 창구국 | I48: 해당없음 | J48: 취급 | K48: 미취급 | M48: 4 | N48: 4 | P48: 2 | Q48: 3 | S48: 34185 | T48: 1993 | U48: 596.1 | V48: 255.06 | W48: 22235 | X48: 인천광역시 남구 문학동 385-4 | Y48: 인천광역시 남구 소성로 337 (문학동) | Z48: 032)424-2205 | AA48: 해당없음
A49: 505 | B49: 경인청 | C49: 인천숭의동우체국 | D49: 남인천우체국 | F49: 6급 | G49: 투자국 | H49: 창구국 | I49: 해당없음 | J49: 취급 | K49: 미취급 | M49: 5 | N49: 5 | P49: 3 | Q49: 3 | S49: 20121 | T49: 1985 | U49: 269.8 | V49: 247.4 | W49: 22171 | X49: 인천광역시 남구 숭의1동 433-3 | Y49: 인천광역시 남구 인중로 4 (숭의1동) | Z49: 032)882-2105 | AA49: 해당없음
A50: 506 | B50: 경인청 | C50: 주안우체국 | D50: 남인천우체국 | F50: 6급 | G50: 투자국 | H50: 창구국 | I50: 해당없음 | J50: 취급 | K50: 미취급 | M50: 5 | N50: 5 | P50: 2 | Q50: 3 | S50: 5199 | T50: 1997 | U50: 227.4 | V50: 326.39 | W50: 22153 | X50: 인천광역시 남구 도화1동 458-8 | Y50: 인천광역시 남구 제일로 32 (도화1동) | Z50: 032)862-2005 | AA50: 해당없음
A51: 507 | B51: 경인청 | C51: 인천학익동우체국 | D51: 남인천우체국 | F51: 6급 | G51: 투자국 | H51: 창구국 | I51: 해당없음 | J51: 취급 | K51: 미취급 | M51: 5 | N51: 5 | P51: 2 | Q51: 2 | S51: 31411 | T51: 1985 | U51: 431 | V51: 255.06 | W51: 22219 | X51: 인천광역시 남구 학익2동 295-13 | Y51: 인천광역시 남구 한나루로 430 (학익2동) | Z51: 032)863-2005 | AA51: 해당없음
A52: 516 | B52: 경인청 | C52: 인천남동우체국 | D52: 인천남동우체국 | E52: 총괄국 | F52: 4급 | G52: 투자국 | H52: 총괄국 | I52: 해당없음 | J52: 취급 | K52: 취급 | M52: 164 | N52: 118 | O52: 46 | P52: 4 | Q52: 4 | R52: 2(여유창구) | S52: 42209 | T52: 2015년 | U52: 6546.7 | V52: 14934.27 | W52: 21655 | X52: 인천광역시 남동구 논현동 638-1 | Y52: 인천광역시 남동구 논현로 46번길 7(논현동) | Z52: 032)725-0100 | AA52: 해당없음
A53: 517 | B53: 경인청 | C53: 인천간석동우체국 | D53: 인천남동우체국 | F53: 6급 | G53: 투자국 | H53: 창구국 | I53: 해당없음 | J53: 취급 | K53: 미취급 | M53: 5 | N53: 5 | P53: 2 | Q53: 2 | S53: 30560 | T53: 1983 | U53: 352.7 | V53: 255.6 | W53: 21545 | X53: 인천광역시 남동구 간석2동 133-2 | Y53: 인천광역시 남동구 용천로 145 (간석2동) | Z53: 032)421-2005 | AA53: (증)2007-09-17 365코너(4.51㎡)
A54: 518 | B54: 경인청 | C54: 인천구월동우체국 | D54: 인천남동우체국 | F54: 6급 | G54: 투자국 | H54: 창구국 | I54: 해당없음 | J54: 취급 | K54: 미취급 | M54: 7 | N54: 7 | P54: 4 | Q54: 2 | S54: 32083 | T54: 1987 | U54: 395.1 | V54: 255.06 | W54: 21569 | X54: 인천광역시 남동구 구월3동 1123 | Y54: 인천광역시 남동구 인주대로 554 (구월3동) | Z54: 032)433-3043 | AA54: 해당없음
A55: 519 | B55: 경인청 | C55: 인천남동공단우체국 | D55: 인천남동우체국 | F55: 6급 | G55: 투자국 | H55: 창구국 | I55: 해당없음 | J55: 취급 | K55: 미취급 | M55: 5 | N55: 5 | P55: 4 | Q55: 2 | S55: 33235 | T55: 1990 | U55: 1236.3 | V55: 767.53 | W55: 21632 | X55: 인천광역시 남동구 논현동 449-5 | Y55: 인천광역시 남동구 남동대로239번길 86 (논현동) | Z55: 032)815-2055 | AA55: 해당없음
A56: 520 | B56: 경인청 | C56: 인천만수1동우체국 | D56: 인천남동우체국 | F56: 6급 | G56: 투자국 | H56: 창구국 | I56: 해당없음 | J56: 취급 | K56: 미취급 | M56: 4 | N56: 4 | P56: 2 | Q56: 3 | S56: 33602 | T56: 1990 | U56: 330.1 | V56: 255.75 | W56: 21541 | X56: 인천광역시 남동구 만수1동 1005-5 | Y56: 인천광역시 남동구 인주대로 907 (만수1동) | Z56: 032)464-2005 | AA56: 해당없음
A57: 521 | B57: 경인청 | C57: 인천만수6동우체국 | D57: 인천남동우체국 | F57: 6급 | G57: 투자국 | H57: 창구국 | I57: 해당없음 | J57: 취급 | K57: 미취급 | M57: 5 | N57: 5 | P57: 2 | Q57: 2 | R57: 1(여유창구) | S57: 34333 | T57: 1993 | U57: 565.7 | V57: 247.18 | W57: 21594 | X57: 인천광역시 남동구 만수6동 1019-3 | Y57: 인천광역시 남동구 장승남로 43 (만수6동) | Z57: 032)465-2205 | AA57: 리) 2000.12월
A58: 522 | B58: 경인청 | C58: 인천만수단지우체국 | D58: 인천남동우체국 | F58: 6급 | G58: 투자국 | H58: 창구국 | I58: 해당없음 | J58: 취급 | K58: 미취급 | M58: 4 | N58: 4 | P58: 2 | Q58: 3 | S58: 32132 | T58: 1987 | U58: 603.2 | V58: 255.06 | W58: 21526 | X58: 인천광역시 남동구 만수4동 23 | Y58: 인천광역시 남동구 만수로50번길 31 (만수4동) | Z58: 032)462-2005 | AA58: 1987.11.05
A59: 523 | B59: 경인청 | C59: 인천논현동우체국 | D59: 인천남동우체국 | F59: 6급 | G59: 투자국 | H59: 창구국 | I59: 해당없음 | J59: 취급 | K59: 미취급 | M59: 4 | N59: 4 | P59: 2 | Q59: 2 | S59: 38334 | T59: 2004 | U59: 621.6 | V59: 749.6 | W59: 21636 | X59: 인천광역시 남동구 논현동 562-3 | Y59: 인천광역시 남동구 남동대로370번길 137 (논현동) | Z59: 032)441-2005 | AA59: 해당없음
A60: 524 | B60: 경인청 | C60: 인천한화지구우체국 | D60: 인천남동우체국 | F60: 6급 | G60: 투자국 | H60: 창구국 | I60: 해당없음 | J60: 취급 | K60: 미취급 | M60: 4 | N60: 4 | P60: 3 | Q60: 2 | S60: 40154 | T60: 2009 | U60: 961 | V60: 559.2 | W60: 21684 | X60: 인천광역시 남동구 논현동 733-130 | Y60: 인천광역시 남동구 에코중앙로 178 (논현동) | Z60: 032)434-2005 | AA60: 해당없음
A61: 528 | B61: 경인청 | C61: 의정부우체국 | D61: 의정부우체국 | E61: 총괄국 | F61: 4급 | G61: 투자국 | H61: 총괄국 | I61: 해당없음 | J61: 취급 | K61: 취급 | M61: 151 | N61: 114 | O61: 37 | P61: 4 | Q61: 6 | R61: 2 | S61: 2648 | T61: 2006 | U61: 4845.9 | V61: 8952.54 | W61: 11778 | X61: 경기도 의정부시 신곡동 811 | Y61: 경기도 의정부시 추동로 88 (신곡동) | Z61: 031)877-5553 | AA61: 해당없음
A62: 529 | B62: 경인청 | C62: 의정부가능동우체국 | D62: 의정부우체국 | F62: 6급 | G62: 투자국 | H62: 창구국 | I62: 해당없음 | J62: 취급 | K62: 미취급 | M62: 5 | N62: 5 | P62: 2 | Q62: 3 | S62: 31260 | T62: 1985 | U62: 523.7 | V62: 260.5 | W62: 11675 | X62: 경기도 의정부시 가능동 676-4 | Y62: 경기도 의정부시 의정로 169(가능동) | Z62: 031)873-4014 | AA62: 해당없음
A63: 530 | B63: 경인청 | C63: 의정부1동우체국 | D63: 의정부우체국 | F63: 6급 | G63: 유상임차 | H63: 창구국 | I63: 해당없음 | J63: 취급 | K63: 미취급 | M63: 4 | N63: 4 | P63: 2 | Q63: 2 | S63: 33770 | V63: 214.66 | W63: 11692 | X63: 경기도 의정부시 의정부1동 185-4 | Y63: 경기도 의정부시 호국로 1318(의정부동) | Z63: 031)856-2005 | AA63: 해당없음
A64: 531 | B64: 경인청 | C64: 의정부2동우체국 | D64: 의정부우체국 | F64: 6급 | G64: 투자국 | H64: 창구국 | I64: 해당없음 | J64: 취급 | K64: 미취급 | M64: 6 | N64: 6 | P64: 3 | Q64: 3 | S64: 34698 | T64: 1994 | U64: 570.1 | V64: 508.1 | W64: 11673 | X64: 경기도 의정부시 의정부2동 486-9 | Y64: 경기도 의정부시 시민로 35 (의정부동) | Z64: 031)877-2145 | AA64: 해당없음
A65: 532 | B65: 경인청 | C65: 의정부3동우체국 | D65: 의정부우체국 | F65: 6급 | G65: 투자국 | H65: 창구국 | I65: 해당없음 | J65: 취급 | K65: 미취급 | M65: 6 | N65: 6 | P65: 3 | Q65: 3 | S65: 2648 | T65: 1973 | U65: 1755.9 | V65: 2377.72 | W65: 11697 | X65: 경기도 의정부시 의정부3동 137-3 | Y65: 경기도 의정부시 평화로 482(의정부동) | Z65: 031)871-0100 | AA65: 해당없음
A66: 533 | B66: 경인청 | C66: 의정부신곡1동우체국 | D66: 의정부우체국 | F66: 6급 | G66: 투자국 | H66: 창구국 | I66: 해당없음 | J66: 취급 | K66: 미취급 | M66: 4 | N66: 4 | P66: 2 | Q66: 2 | S66: 36150 | T66: 1998 | U66: 617.8 | V66: 334.3 | W66: 11730 | X66: 경기도 의정부시 신곡1동 716-3 | Y66: 경기도 의정부시 발곡로 21(신곡동) | Z66: 031)826-7676 | AA66: 해당없음
A67: 534 | B67: 경인청 | C67: 의정부민락동우체국 | D67: 의정부우체국 | F67: 6급 | G67: 투자국 | H67: 창구국 | I67: 해당없음 | J67: 취급 | K67: 미취급 | M67: 5 | N67: 5 | P67: 3 | Q67: 2 | S67: 36880 | T67: 2000 | U67: 410.9 | V67: 389.4 | W67: 11805 | X67: 경기도 의정부시 민락동 692-6 | Y67: 경기도 의정부시 용현로 163-2(민락동) | Z67: 031)852-0100 | AA67: 해당없음
A68: 535 | B68: 경인청 | C68: 양주2동우체국 | D68: 의정부우체국 | F68: 6급 | G68: 투자국 | H68: 창구국 | I68: 해당없음 | J68: 취급 | K68: 미취급 | M68: 5 | N68: 5 | P68: 2 | Q68: 2 | S68: 40532 | T68: 2010 | U68: 665 | V68: 302.2 | W68: 11493 | X68: 경기도 양주시 만송동 695-2 | Y68: 경기도 양주시 고읍북로 3(만송동) | Z68: 031)845-2005 | AA68: 해당없음
A69: 536 | B69: 경인청 | C69: 양주장흥우체국 | D69: 의정부우체국 | F69: 별정국 | G69: 별정국 | H69: 집배센터국 | I69: 해당없음 | J69: 취급 | K69: 취급 | M69: 9 | N69: 9 | P69: 2 | Q69: 2 | S69: 24101 | U69: 222 | V69: 112 | W69: 11520 | X69: 경기도 양주시 장흥면 일영리 156-9 | Y69: 경기도 양주시 장흥면 호국로 168(일영리) | Z69: 031)855-5004 | AA69: 해당없음
A70: 537 | B70: 경인청 | C70: 광적우체국 | D70: 의정부우체국 | F70: 별정국 | G70: 별정국 | H70: 집배센터국 | I70: 해당없음 | J70: 취급 | K70: 취급 | M70: 12 | N70: 12 | P70: 2 | Q70: 2 | S70: 22782 | U70: 518 | V70: 176 | W70: 11419 | X70: 경기도 양주시 광적면 가납리 741-7 | Y70: 경기도 양주시 가래비6길 6(가납리) | Z70: 031)836-3004 | AA70: 해당없음
A71: 538 | B71: 경인청 | C71: 백석우체국 | D71: 의정부우체국 | F71: 별정국 | G71: 별정국 | H71: 집배센터국 | I71: 해당없음 | J71: 취급 | K71: 취급 | M71: 10 | N71: 10 | P71: 2 | Q71: 2 | S71: 24370 | U71: 225 | V71: 145.9 | W71: 11508 | X71: 경기도 양주시 백석읍 방성리 81-15 | Y71: 경기도 양주시 백석읍 부흥로 1036번길 26(방성리) | Z71: 031)879-2004 | AA71: 해당없음
A72: 539 | B72: 경인청 | C72: 양주1동우체국 | D72: 의정부우체국 | F72: 별정국 | G72: 별정국 | H72: 창구국 | I72: 해당없음 | J72: 취급 | K72: 미취급 | M72: 7 | N72: 7 | P72: 2 | Q72: 2 | S72: 25873 | U72: 990 | V72: 995.5 | W72: 11498 | X72: 경기도 양주시 남방동 17-2 | Y72: 경기도 양주시 평화로 1009(남방동) | Z72: 031)840-0004 | AA72: 해당없음
A73: 545 | B73: 경인청 | C73: 수원우체국 | D73: 수원우체국 | E73: 총괄국 | F73: 4급 | G73: 투자국 | H73: 총괄국 | I73: 해당없음 | J73: 취급 | K73: 취급 | M73: 246 | N73: 115 | O73: 131 | P73: 3 | Q73: 2 | R73: 1 | S73: 1895-09-28 | T73: 2008 | U73: 3300.1 | V73: 11326.5 | W73: 16326 | X73: 경기도 수원시 장안구 천천동 517 | Y73: 경기도 수원시 장안구 천천로 94 (천천동) | Z73: 031)888-1300 | AA73: 해당없음
A74: 546 | B74: 경인청 | C74: 수원북문우체국 | D74: 수원우체국 | F74: 6급 | G74: 투자국 | H74: 창구국 | I74: 해당없음 | J74: 취급 | K74: 미취급 | M74: 7 | N74: 6 | O74: 1 | P74: 3 | Q74: 2 | R74: 1 | S74: 32139 | T74: 1988 | U74: 458.19 | V74: 277.84 | W74: 16269 | X74: 경기도 수원시 장안구 영화동 300-14 | Y74: 경기도 수원시 장안구 수성로 360 (영화동 ) | Z74: 031)247-2005 | AA74: 해당없음
A75: 547 | B75: 경인청 | C75: 수원율전동우체국 | D75: 수원우체국 | F75: 6급 | G75: 투자국 | H75: 창구국 | I75: 해당없음 | J75: 취급 | K75: 미취급 | M75: 6 | N75: 5 | O75: 1 | P75: 2 | Q75: 2 | R75: 1 | S75: 36521 | T75: 1996 | U75: 588.2 | V75: 292.45 | W75: 16324 | X75: 경기도 수원시 장안구 천천동 557-2 | Y75: 경기도 수원시 장안구 하률로 6 (천천동) | Z75: 031)269-5511 | AA75: 해당없음
A76: 548 | B76: 경인청 | C76: 수원정자동우체국 | D76: 수원우체국 | F76: 6급 | G76: 투자국 | H76: 창구국 | I76: 해당없음 | J76: 취급 | K76: 미취급 | M76: 6 | N76: 4 | O76: 2 | P76: 1 | Q76: 2 | R76: 1 | S76: 36880 | T76: 2000 | U76: 700.1 | V76: 389.4 | W76: 16319 | X76: 경기도 수원시 장안구 정자동 882-3 | Y76: 경기도 수원시 장안구 정자천로 134번길 10 (정자동) | Z76: 031)269-2401 | AA76: 해당없음
A77: 550 | B77: 경인청 | C77: 수원연무동우체국 | D77: 수원우체국 | F77: 6급 | G77: 무상임차 | H77: 창구국 | I77: 해당없음 | J77: 취급 | K77: 미취급 | M77: 4 | N77: 4 | O77: 0 | P77: 1 | Q77: 2 | R77: 1 | S77: 23029 | V77: 99 | W77: 16291 | X77: 경기도 수원시 장안구 하광교동 423-7 | Y77: 경기도 수원시 장안구 광교산로 97 (하광교동) | Z77: 031)243-3265 | AA77: 해당없음
A78: 553 | B78: 경인청 | C78: 수원역전우체국 | D78: 수원우체국 | F78: 6급 | G78: 투자국 | H78: 창구국 | I78: 해당없음 | J78: 취급 | K78: 미취급 | M78: 7 | N78: 6 | O78: 1 | P78: 2 | Q78: 2 | R78: 2 | S78: 1309 | T78: 2000 | U78: 333 | V78: 370.35 | W78: 16455 | X78: 경기도 수원시 팔달구 매산로1가 2-43 | Y78: 경기도 수원시 팔달구 향교로 13 (매산로1가) | Z78: 031)256-2005 | AA78: 해당없음
A79: 554 | B79: 경인청 | C79: 수원화서동우체국 | D79: 수원우체국 | F79: 6급 | G79: 투자국 | H79: 창구국 | I79: 해당없음 | J79: 취급 | K79: 미취급 | M79: 5 | N79: 4 | O79: 1 | P79: 1 | Q79: 2 | R79: 1 | S79: 33176 | T79: 1990 | U79: 633.4 | V79: 275.06 | W79: 16440 | X79: 경기도 수원시 팔달구 화서동 58-1 | Y79: 경기도 수원시 팔달구 고화로 135 (화서동) | Z79: 031)251-2004 | AA79: 해당없음
A80: 555 | B80: 경인청 | C80: 수원지동우체국 | D80: 수원우체국 | F80: 6급 | G80: 유상임차 | H80: 창구국 | I80: 해당없음 | J80: 취급 | K80: 미취급 | M80: 4 | N80: 4 | O80: 0 | P80: 1 | Q80: 2 | R80: 1 | S80: 29890 | V80: 210 | W80: 16249 | X80: 경기도 수원시 팔달구 지동 482-3 | Y80: 경기도 수원시 팔달구 경수대로 603 (지동) | Z80: 031)241-2005 | AA80: 해당없음
A81: 556 | B81: 경인청 | C81: 수원교동우체국 | D81: 수원우체국 | F81: 6급 | G81: 무상임차 | H81: 창구국 | I81: 해당없음 | J81: 취급 | K81: 미취급 | M81: 4 | N81: 4 | O81: 0 | P81: 1 | Q81: 1 | R81: 2 | S81: 39419 | V81: 122.18 | W81: 16261 | X81: 경기도 수원시 팔달구 팔달로3가 94-5 | Y81: 경기도 수원시 팔달구 행궁로 63 (팔달로3가) | Z81: 031)253-8191 | AA81: 해당없음
A82: 559 | B82: 경인청 | C82: 동수원우체국 | D82: 동수원우체국 | E82: 총괄국 | F82: 4급 | G82: 투자국 | H82: 총괄국 | I82: 해당없음 | J82: 취급 | K82: 취급 | M82: 124 | N82: 95 | O82: 29 | P82: 6 | Q82: 4 | R82: 2 | S82: 34274 | T82: 1993 | U82: 1516.8 | V82: 4912.24 | W82: 16487 | X82: 경기도 수원시 팔달구 인계동 465-2 | Y82: 경기도 수원시 팔달구 인계로 143 (인계동) | Z82: 031)231-0534 | AA82: 해당없음
A83: 560 | B83: 경인청 | C83: 수원매탄1동우체국 | D83: 동수원우체국 | F83: 6급 | G83: 투자국 | H83: 창구국 | I83: 해당없음 | J83: 취급 | K83: 미취급 | M83: 5 | N83: 5 | P83: 3 | Q83: 2 | R83: 0 | S83: 33003 | T83: 1990 | U83: 539 | V83: 322.66 | W83: 16530 | X83: 경기도 수원시 영통구 매탄1동 153-110 | Y83: 경기도 수원시 영통구 중부대로 242 (매탄동) | Z83: 031)215-9115 | AA83: (리)2007-08-21
A84: 561 | B84: 경인청 | C84: 수원매탄2동우체국 | D84: 동수원우체국 | F84: 6급 | G84: 투자국 | H84: 창구국 | I84: 해당없음 | J84: 취급 | K84: 미취급 | M84: 4 | N84: 4 | P84: 2 | Q84: 2 | R84: 1 | S84: 34655 | T84: 1994 | U84: 700.1 | V84: 415.4 | W84: 16527 | X84: 경기도 수원시 영통구 매탄2동 1213-1 | Y84: 경기도 수원시 영통구 매영로 93-20 (매탄동) | Z84: 031)214-2001 | AA84: 해당없음
A85: 562 | B85: 경인청 | C85: 수원영통동우체국 | D85: 동수원우체국 | F85: 6급 | G85: 투자국 | H85: 창구국 | I85: 해당없음 | J85: 취급 | K85: 미취급 | M85: 6 | N85: 6 | P85: 3 | Q85: 2 | R85: 1 | S85: 35774 | T85: 1997 | U85: 590.1 | V85: 405.51 | W85: 16698 | X85: 경기도 수원시 영통구 영통동 975-1 | Y85: 경기도 수원시 영통구 영통로214번길1 (영통동) | Z85: 031)202-2005 | AA85: 해당없음
A86: 563 | B86: 경인청 | C86: 수원황곡우체국 | D86: 동수원우체국 | F86: 6급 | G86: 투자국 | H86: 창구국 | I86: 해당없음 | J86: 취급 | K86: 미취급 | M86: 4 | N86: 4 | P86: 3 | Q86: 2 | S86: 36495 | T86: 1999 | U86: 600.2 | V86: 359.02 | W86: 16712 | X86: 경기도 수원시 영통구 영통동 947-4 | Y86: 경기도 수원시 영통구 봉영로1759번길35 (영통동) | Z86: 031)206-2004 | AA86: 해당없음
A87: 564 | B87: 경인청 | C87: 수원청명우체국 | D87: 동수원우체국 | F87: 6급 | G87: 투자국 | H87: 창구국 | I87: 해당없음 | J87: 취급 | K87: 미취급 | M87: 6 | N87: 6 | P87: 3 | Q87: 2 | R87: 1 | S87: 36557 | T87: 2000 | U87: 159 | V87: 159 | W87: 16704 | X87: 경기도 수원시 영통구 영통동 997 | Y87: 경기도 수원시 영통구 청명남로 57 (영통동) | Z87: 031)206-4100 | AA87: 해당없음
A88: 565 | B88: 경인청 | C88: 수원지방법원우체국 | D88: 동수원우체국 | F88: 6급 | G88: 무상임차 | H88: 창구국 | I88: 해당없음 | J88: 취급 | K88: 미취급 | M88: 5 | N88: 5 | P88: 4 | Q88: 1 | R88: 0 | S88: 31213 | V88: 54 | W88: 16517 | X88: 경기도 수원시 영통구 원천동 80 | Y88: 경기도 수원시 영통구 월드컵로120 (원천동) | Z88: 031)213-7231 | AA88: 해당없음
A89: 566 | B89: 경인청 | C89: 수원매탄3동우체국 | D89: 동수원우체국 | F89: 6급 | G89: 투자국 | H89: 창구국 | I89: 해당없음 | J89: 취급 | K89: 미취급 | M89: 4 | N89: 4 | P89: 2 | Q89: 2 | R89: 0 | S89: 37970 | T89: 2003 | U89: 609 | V89: 447.36 | W89: 16548 | X89: 경기도 수원시 영통구 매탄3동 1279-4 | Y89: 경기도 수원시 영통구 동탄원천로881번길66 (매탄동) | Z89: 031)214-0250 | AA89: 해당없음
A90: 571 | B90: 경인청 | C90: 수원광교동우체국 | D90: 동수원우체국 | F90: 6급 | G90: 유상임차 | H90: 창구국 | I90: 해당없음 | J90: 취급 | K90: 미취급 | M90: 4 | N90: 4 | P90: 2 | Q90: 2 | S90: 41913 | V90: 157.98 | W90: 16509 | X90: 경기도 수원시 영통구 이의동 1369-3 | Y90: 경기도 수원시 영통구 혜령로 8(이의동) | Z90: 031)211-3180 | AA90: 해당없음
A91: 572 | B91: 경인청 | C91: 서수원우체국 | D91: 서수원우체국 | E91: 총괄국 | F91: 4급 | G91: 투자국 | H91: 총괄국 | I91: 해당없음 | J91: 취급 | K91: 취급 | M91: 117 | N91: 88 | O91: 29 | P91: 3 | Q91: 3 | R91: 3 | S91: 41913 | T91: 2014 | U91: 9763.8 | V91: 14464.94 | W91: 16626 | X91: 경기도 수원시 권선구 탑동 909 | Y91: 경기도 수원시 권선구 호매실로 22-55 | Z91: 031)8020-0701 | AA91: 해당없음
A92: 573 | B92: 경인청 | C92: 수원권선동우체국 | D92: 서수원우체국 | F92: 6급 | G92: 투자국 | H92: 창구국 | I92: 해당없음 | J92: 취급 | K92: 미취급 | M92: 5 | N92: 5 | O92: 0 | P92: 2 | Q92: 2 | R92: 0 | S92: 32690 | T92: 1989 | U92: 559.7 | V92: 374.25 | W92: 16571 | X92: 경기도 수원시 권선구 권선동 1008 | Y92: 경기도 수원시 권선구 경수대로 382 (권선동) | Z92: 031)224-1005 | AA92: (리)2011-05-11
A93: 574 | B93: 경인청 | C93: 수원세류동우체국 | D93: 서수원우체국 | F93: 6급 | G93: 투자국 | H93: 창구국 | I93: 해당없음 | J93: 취급 | K93: 미취급 | M93: 4 | N93: 4 | O93: 0 | P93: 2 | Q93: 2 | R93: 0 | S93: 34333 | T93: 1993 | U93: 642 | V93: 247.18 | W93: 16655 | X93: 경기도 수원시 권선구 세류2동 543-2 | Y93: 경기도 수원시 권선구 덕영대로 1084 (세류동) | Z93: 031)232-2004 | AA93: 해당없음
A94: 575 | B94: 경인청 | C94: 수원곡선동우체국 | D94: 서수원우체국 | F94: 6급 | G94: 투자국 | H94: 창구국 | I94: 해당없음 | J94: 취급 | K94: 미취급 | M94: 5 | N94: 4 | O94: 1 | P94: 2 | Q94: 2 | R94: 0 | S94: 35408 | T94: 1996 | U94: 1225.1 | V94: 292.45 | W94: 16558 | X94: 경기도 수원시 권선구 권선동 1268-1 | Y94: 경기도 수원시 권선구 권중로 81 (권선동) | Z94: 031)233-2434 | AA94: 해당없음
A95: 579 | B95: 경인청 | C95: 군포우체국 | D95: 군포우체국 | E95: 총괄국 | F95: 4급 | G95: 투자국 | H95: 총괄국 | I95: 해당없음 | J95: 취급 | K95: 취급 | M95: 175 | N95: 145 | O95: 30 | P95: 4 | Q95: 3 | R95: 1 | S95: 34814 | T95: 1995 | U95: 3629 | V95: 8176.86 | W95: 15829 | X95: 경기도 군포시 금정동 846 | Y95: 경기도 군포시 산본로 328(금정동) | Z95: 031)396-7652 | AA95: (증)2002-12.24 (증)2005-01-03 (증)2007-05-10 (증)2012-01-27 (증)2012-10-16
A96: 580 | B96: 경인청 | C96: 군포당동우체국 | D96: 군포우체국 | F96: 6급 | G96: 투자국 | H96: 창구국 | I96: 해당없음 | J96: 취급 | K96: 미취급 | M96: 5 | N96: 5 | O96: 0 | P96: 2 | Q96: 2 | S96: 19541 | T96: 1982 | U96: 400.7 | V96: 197.75 | W96: 15861 | X96: 경기도 군포시 당동 785-4 | Y96: 경기도 군포시 군포로 495(당동) | Z96: 031)396-1001 | AA96: 해당없음
A97: 581 | B97: 경인청 | C97: 군포금정동우체국 | D97: 군포우체국 | F97: 6급 | G97: 투자국 | H97: 창구국 | I97: 해당없음 | J97: 취급 | K97: 미취급 | M97: 4 | N97: 4 | O97: 0 | P97: 2 | Q97: 2 | S97: 33207 | T97: 1990 | U97: 514.2 | V97: 259.13 | W97: 15830 | X97: 경기도 군포시 금정동 770-2 | Y97: 경기도 군포시 당산로136번길 14(금정동) | Z97: 031)459-0205 | AA97: 해당없음
A98: 582 | B98: 경인청 | C98: 군포오금동우체국 | D98: 군포우체국 | F98: 6급 | G98: 투자국 | H98: 창구국 | I98: 해당없음 | J98: 취급 | K98: 미취급 | M98: 4 | N98: 4 | O98: 0 | P98: 2 | Q98: 2 | S98: 33724 | T98: 1992 | U98: 711.7 | V98: 393.15 | W98: 15870 | X98: 경기도 군포시 오금동 1156-7 | Y98: 경기도 군포시 번영로 382(오금동) | Z98: 031)391-2004 | AA98: 해당없음
A99: 583 | B99: 경인청 | C99: 군포산본2동우체국 | D99: 군포우체국 | F99: 6급 | G99: 투자국 | H99: 창구국 | I99: 해당없음 | J99: 취급 | K99: 미취급 | M99: 4 | N99: 4 | O99: 0 | P99: 2 | Q99: 2 | S99: 33968 | T99: 1992 | U99: 520 | V99: 309.15 | W99: 15814 | X99: 경기도 군포시 산본동 1062-1 | Y99: 경기도 군포시 산본로386번길 77(산본동) | Z99: 031)394-2004 | AA99: 해당없음
A100: 584 | B100: 경인청 | C100: 의왕우체국 | D100: 군포우체국 | F100: 6급 | G100: 투자국 | H100: 창구국 | I100: 해당없음 | J100: 취급 | K100: 미취급 | M100: 4 | N100: 4 | O100: 0 | P100: 2 | Q100: 2 | S100: 29118 | T100: 1979년 | U100: 371 | V100: 194.13 | W100: 16058 | X100: 경기도 의왕시 오전동 323-7 | Y100: 경기도 의왕시 효행로 45(오전동) | Z100: 031)451-2834 | AA100: (리)2009년
...
