Workbook
Name 박주열: #REF!

Sheet 최저기준
B2: 2016년<운수대통>이라고 전해라(FC평가 그룹)
B5: * 기준금액(1~11월 정산누계, 12월 환산실적)
B6: 모집제한자 확인요망 | I6: 단위 : 원
B7: 총괄국명 | C7: 모집자코드 | D7: 모집자명 | E7: 위탁일자 | F7: 기준금액 | G7: 15.11월 누적 | H7: 15.12월 환산 | I7: 비고 | K7: 국명 | L7: 총인원 | M7: 1그룹 | N7: 2그룹 | O7: 3그룹 | P7: 4그룹 | Q7: 5그룹
B8: 합계 | C8: =COUNTA(C9:C900)&"명" -> 843명 | K8: 합계 | L8: =SUM(L9:L46)&"명" -> 843명 | M8: =SUM(M9:M46) -> 61 | N8: =SUM(N9:N46) -> 66 | O8: =SUM(O9:O46) -> 156 | P8: =SUM(P9:P46) -> 185 | Q8: =SUM(Q9:Q46) -> 375
B9: 시흥 | C9: 01014846 | D9: 서정순 | E9: 2002/08/06 | F9: =SUM(G9:H9) -> 294887039 | G9: =IFERROR(VLOOKUP(C9,'1-11월'!$E$14:$H$1190,4,0),0) -> 232130839 | H9: =IFERROR(VLOOKUP(C9,'12월'!$E$12:$H$884,4,0),0) -> 62756200 | I9: 1그룹 | J9: =VLOOKUP(C9,'명부(현재)'!$D$9:$O$9755,11,0) -> - | K9: 인천 | L9: =SUM(M9:Q9) -> 23 | M9: =IFERROR(COUNTIF($B$9:$B$69,K9),0) -> 1 | N9: =COUNTIF($B$70:$B$135,K9) -> 0 | O9: =COUNTIF($B$136:$B$291,K9) -> 7 | P9: =COUNTIF($B$292:$B$476,K9) -> 2 | Q9: =COUNTIF($B$477:$B$851,K9) -> 13
B10: 인천 | C10: 01013246 | D10: 김오순 | E10: 2001/05/16 | F10: =SUM(G10:H10) -> 149165639 | G10: =IFERROR(VLOOKUP(C10,'1-11월'!$E$14:$H$1190,4,0),0) -> 117214305 | H10: =IFERROR(VLOOKUP(C10,'12월'!$E$12:$H$884,4,0),0) -> 31951334 | I10: 1그룹 | J10: =VLOOKUP(C10,'명부(현재)'!$D$9:$O$9755,11,0) -> - | K10: 서인천 | L10: =SUM(M10:Q10) -> 28 | M10: =IFERROR(COUNTIF($B$9:$B$69,K10),0) -> 2 | N10: =COUNTIF($B$70:$B$135,K10) -> 3 | O10: =COUNTIF($B$136:$B$291,K10) -> 6 | P10: =COUNTIF($B$292:$B$476,K10) -> 9 | Q10: =COUNTIF($B$477:$B$851,K10) -> 8
B11: 시흥 | C11: 01003026 | D11: 윤미화 | E11: 1996/07/11 | F11: =SUM(G11:H11) -> 146585329 | G11: =IFERROR(VLOOKUP(C11,'1-11월'!$E$14:$H$1190,4,0),0) -> 119870279 | H11: =IFERROR(VLOOKUP(C11,'12월'!$E$12:$H$884,4,0),0) -> 26715050 | I11: 1그룹 | J11: =VLOOKUP(C11,'명부(현재)'!$D$9:$O$9755,11,0) -> - | K11: 인천계양 | L11: =SUM(M11:Q11) -> 17 | M11: =IFERROR(COUNTIF($B$9:$B$69,K11),0) -> 1 | N11: =COUNTIF($B$70:$B$135,K11) -> 1 | O11: =COUNTIF($B$136:$B$291,K11) -> 2 | P11: =COUNTIF($B$292:$B$476,K11) -> 6 | Q11: =COUNTIF($B$477:$B$851,K11) -> 7
B12: 안양 | C12: 01007919 | D12: 안진순 | E12: 1999/08/05 | F12: =SUM(G12:H12) -> 128695858 | G12: =IFERROR(VLOOKUP(C12,'1-11월'!$E$14:$H$1190,4,0),0) -> 113875811 | H12: =IFERROR(VLOOKUP(C12,'12월'!$E$12:$H$884,4,0),0) -> 14820047 | I12: 1그룹 | J12: =VLOOKUP(C12,'명부(현재)'!$D$9:$O$9755,11,0) -> - | K12: 남인천 | L12: =SUM(M12:Q12) -> 23 | M12: =IFERROR(COUNTIF($B$9:$B$69,K12),0) -> 2 | N12: =COUNTIF($B$70:$B$135,K12) -> 1 | O12: =COUNTIF($B$136:$B$291,K12) -> 5 | P12: =COUNTIF($B$292:$B$476,K12) -> 3 | Q12: =COUNTIF($B$477:$B$851,K12) -> 12
B13: 안양 | C13: 01016347 | D13: 김은주 | E13: 2004/04/10 | F13: =SUM(G13:H13) -> 123999118 | G13: =IFERROR(VLOOKUP(C13,'1-11월'!$E$14:$H$1190,4,0),0) -> 104593970 | H13: =IFERROR(VLOOKUP(C13,'12월'!$E$12:$H$884,4,0),0) -> 19405148 | I13: 1그룹 | J13: =VLOOKUP(C13,'명부(현재)'!$D$9:$O$9755,11,0) -> - | K13: 인천남동 | L13: =SUM(M13:Q13) -> 11 | M13: =IFERROR(COUNTIF($B$9:$B$69,K13),0) -> 0 | N13: =COUNTIF($B$70:$B$135,K13) -> 0 | O13: =COUNTIF($B$136:$B$291,K13) -> 1 | P13: =COUNTIF($B$292:$B$476,K13) -> 0 | Q13: =COUNTIF($B$477:$B$851,K13) -> 10
B14: 수원 | C14: 01011399 | D14: 오영실 | E14: 2000/11/23 | F14: =SUM(G14:H14) -> 123875514 | G14: =IFERROR(VLOOKUP(C14,'1-11월'!$E$14:$H$1190,4,0),0) -> 108792144 | H14: =IFERROR(VLOOKUP(C14,'12월'!$E$12:$H$884,4,0),0) -> 15083370 | I14: 1그룹 | J14: =VLOOKUP(C14,'명부(현재)'!$D$9:$O$9755,11,0) -> - | K14: 부평 | L14: =SUM(M14:Q14) -> 28 | M14: =IFERROR(COUNTIF($B$9:$B$69,K14),0) -> 1 | N14: =COUNTIF($B$70:$B$135,K14) -> 0 | O14: =COUNTIF($B$136:$B$291,K14) -> 6 | P14: =COUNTIF($B$292:$B$476,K14) -> 6 | Q14: =COUNTIF($B$477:$B$851,K14) -> 15
B15: 시흥 | C15: 01010820 | D15: 김도돌 | E15: 2000/10/05 | F15: =SUM(G15:H15) -> 120408135 | G15: =IFERROR(VLOOKUP(C15,'1-11월'!$E$14:$H$1190,4,0),0) -> 99824891 | H15: =IFERROR(VLOOKUP(C15,'12월'!$E$12:$H$884,4,0),0) -> 20583244 | I15: 1그룹 | J15: =VLOOKUP(C15,'명부(현재)'!$D$9:$O$9755,11,0) -> - | K15: 의정부 | L15: =SUM(M15:Q15) -> 34 | M15: =IFERROR(COUNTIF($B$9:$B$69,K15),0) -> 1 | N15: =COUNTIF($B$70:$B$135,K15) -> 7 | O15: =COUNTIF($B$136:$B$291,K15) -> 5 | P15: =COUNTIF($B$292:$B$476,K15) -> 8 | Q15: =COUNTIF($B$477:$B$851,K15) -> 13
B16: 안양 | C16: 01010873 | D16: 배필선 | E16: 2000/10/06 | F16: =SUM(G16:H16) -> 118684846 | G16: =IFERROR(VLOOKUP(C16,'1-11월'!$E$14:$H$1190,4,0),0) -> 99756248 | H16: =IFERROR(VLOOKUP(C16,'12월'!$E$12:$H$884,4,0),0) -> 18928598 | I16: 1그룹 | J16: =VLOOKUP(C16,'명부(현재)'!$D$9:$O$9755,11,0) -> - | K16: 수원 | L16: =SUM(M16:Q16) -> 34 | M16: =IFERROR(COUNTIF($B$9:$B$69,K16),0) -> 6 | N16: =COUNTIF($B$70:$B$135,K16) -> 3 | O16: =COUNTIF($B$136:$B$291,K16) -> 4 | P16: =COUNTIF($B$292:$B$476,K16) -> 10 | Q16: =COUNTIF($B$477:$B$851,K16) -> 11
B17: 안양 | C17: 01014473 | D17: 정혜숙 | E17: 2002/04/11 | F17: =SUM(G17:H17) -> 118621287 | G17: =IFERROR(VLOOKUP(C17,'1-11월'!$E$14:$H$1190,4,0),0) -> 105103102 | H17: =IFERROR(VLOOKUP(C17,'12월'!$E$12:$H$884,4,0),0) -> 13518185 | I17: 1그룹 | J17: =VLOOKUP(C17,'명부(현재)'!$D$9:$O$9755,11,0) -> - | K17: 동수원 | L17: =SUM(M17:Q17) -> 39 | M17: =IFERROR(COUNTIF($B$9:$B$69,K17),0) -> 3 | N17: =COUNTIF($B$70:$B$135,K17) -> 6 | O17: =COUNTIF($B$136:$B$291,K17) -> 7 | P17: =COUNTIF($B$292:$B$476,K17) -> 8 | Q17: =COUNTIF($B$477:$B$851,K17) -> 15
B18: 평택 | C18: 01003748 | D18: 심점이 | E18: 1997/05/16 | F18: =SUM(G18:H18) -> 117904134 | G18: =IFERROR(VLOOKUP(C18,'1-11월'!$E$14:$H$1190,4,0),0) -> 104831009 | H18: =IFERROR(VLOOKUP(C18,'12월'!$E$12:$H$884,4,0),0) -> 13073125 | I18: 1그룹 | J18: =VLOOKUP(C18,'명부(현재)'!$D$9:$O$9755,11,0) -> - | K18: 서수원 | L18: =SUM(M18:Q18) -> 17 | M18: =IFERROR(COUNTIF($B$9:$B$69,K18),0) -> 1 | N18: =COUNTIF($B$70:$B$135,K18) -> 1 | O18: =COUNTIF($B$136:$B$291,K18) -> 1 | P18: =COUNTIF($B$292:$B$476,K18) -> 4 | Q18: =COUNTIF($B$477:$B$851,K18) -> 10
B19: 부천 | C19: 01012564 | D19: 이용임 | E19: 2001/03/08 | F19: =SUM(G19:H19) -> 114406817 | G19: =IFERROR(VLOOKUP(C19,'1-11월'!$E$14:$H$1190,4,0),0) -> 103656655 | H19: =IFERROR(VLOOKUP(C19,'12월'!$E$12:$H$884,4,0),0) -> 10750162 | I19: 1그룹 | J19: =VLOOKUP(C19,'명부(현재)'!$D$9:$O$9755,11,0) -> - | K19: 군포 | L19: =SUM(M19:Q19) -> 29 | M19: =IFERROR(COUNTIF($B$9:$B$69,K19),0) -> 2 | N19: =COUNTIF($B$70:$B$135,K19) -> 2 | O19: =COUNTIF($B$136:$B$291,K19) -> 5 | P19: =COUNTIF($B$292:$B$476,K19) -> 2 | Q19: =COUNTIF($B$477:$B$851,K19) -> 18
B20: 평택 | C20: 01012223 | D20: 문윤조 | E20: 2001/02/09 | F20: =SUM(G20:H20) -> 110907290 | G20: =IFERROR(VLOOKUP(C20,'1-11월'!$E$14:$H$1190,4,0),0) -> 98644855 | H20: =IFERROR(VLOOKUP(C20,'12월'!$E$12:$H$884,4,0),0) -> 12262435 | I20: 1그룹 | J20: =VLOOKUP(C20,'명부(현재)'!$D$9:$O$9755,11,0) -> - | K20: 안양 | L20: =SUM(M20:Q20) -> 44 | M20: =IFERROR(COUNTIF($B$9:$B$69,K20),0) -> 8 | N20: =COUNTIF($B$70:$B$135,K20) -> 3 | O20: =COUNTIF($B$136:$B$291,K20) -> 6 | P20: =COUNTIF($B$292:$B$476,K20) -> 12 | Q20: =COUNTIF($B$477:$B$851,K20) -> 15
... B46: 서인천 | C46: 01014582 | D46: 박명숙 | E46: 2002/05/10 | F46: =SUM(G46:H46) -> 74728462 | G46: =IFERROR(VLOOKUP(C46,'1-11월'!$E$14:$H$1190,4,0),0) -> 63201087 | H46: =IFERROR(VLOOKUP(C46,'12월'!$E$12:$H$884,4,0),0) -> 11527375 | I46: 1그룹 | J46: =VLOOKUP(C46,'명부(현재)'!$D$9:$O$9755,11,0) -> - | K46: 구리 | L46: =SUM(M46:Q46) -> 21 | M46: =IFERROR(COUNTIF($B$9:$B$69,K46),0) -> 5 | N46: =COUNTIF($B$70:$B$135,K46) -> 0 | O46: =COUNTIF($B$136:$B$291,K46) -> 6 | P46: =COUNTIF($B$292:$B$476,K46) -> 3 | Q46: =COUNTIF($B$477:$B$851,K46) -> 7
B47: 부평 | C47: 01020649 | D47: 김진희 | E47: 2009/03/09 | F47: =SUM(G47:H47) -> 74534997 | G47: =IFERROR(VLOOKUP(C47,'1-11월'!$E$14:$H$1190,4,0),0) -> 67334277 | H47: =IFERROR(VLOOKUP(C47,'12월'!$E$12:$H$884,4,0),0) -> 7200720 | I47: 1그룹 | J47: =VLOOKUP(C47,'명부(현재)'!$D$9:$O$9755,11,0) -> -
B48: 안양 | C48: 01021584 | D48: 김윤경 | E48: 2011/01/03 | F48: =SUM(G48:H48) -> 71729636 | G48: =IFERROR(VLOOKUP(C48,'1-11월'!$E$14:$H$1190,4,0),0) -> 62440510 | H48: =IFERROR(VLOOKUP(C48,'12월'!$E$12:$H$884,4,0),0) -> 9289126 | I48: 1그룹 | J48: =VLOOKUP(C48,'명부(현재)'!$D$9:$O$9755,11,0) -> -
B49: 동수원 | C49: 01021014 | D49: 김석분 | E49: 2010/01/04 | F49: =SUM(G49:H49) -> 71015748 | G49: =IFERROR(VLOOKUP(C49,'1-11월'!$E$14:$H$1190,4,0),0) -> 65493938 | H49: =IFERROR(VLOOKUP(C49,'12월'!$E$12:$H$884,4,0),0) -> 5521810 | I49: 1그룹 | J49: =VLOOKUP(C49,'명부(현재)'!$D$9:$O$9755,11,0) -> -
B50: 남인천 | C50: 01015989 | D50: 안현자 | E50: 2003/10/01 | F50: =SUM(G50:H50) -> 69554120 | G50: =IFERROR(VLOOKUP(C50,'1-11월'!$E$14:$H$1190,4,0),0) -> 62877520 | H50: =IFERROR(VLOOKUP(C50,'12월'!$E$12:$H$884,4,0),0) -> 6676600 | I50: 1그룹 | J50: =VLOOKUP(C50,'명부(현재)'!$D$9:$O$9755,11,0) -> -
B51: 부천 | C51: 01024102 | D51: 김순옥 | E51: 2013/07/23 | F51: =SUM(G51:H51) -> 67876969 | G51: =IFERROR(VLOOKUP(C51,'1-11월'!$E$14:$H$1190,4,0),0) -> 61273719 | H51: =IFERROR(VLOOKUP(C51,'12월'!$E$12:$H$884,4,0),0) -> 6603250 | I51: 1그룹 | J51: =VLOOKUP(C51,'명부(현재)'!$D$9:$O$9755,11,0) -> -
B52: 인천계양 | C52: 01024619 | D52: 문은희 | E52: 2014/04/01 | F52: =SUM(G52:H52) -> 66475112 | G52: =IFERROR(VLOOKUP(C52,'1-11월'!$E$14:$H$1190,4,0),0) -> 54634167 | H52: =IFERROR(VLOOKUP(C52,'12월'!$E$12:$H$884,4,0),0) -> 11840945 | I52: 1그룹 | J52: =VLOOKUP(C52,'명부(현재)'!$D$9:$O$9755,11,0) -> -
B53: 군포 | C53: 01023687 | D53: 신미영 | E53: 2013/04/01 | F53: =SUM(G53:H53) -> 66401704 | G53: =IFERROR(VLOOKUP(C53,'1-11월'!$E$14:$H$1190,4,0),0) -> 57020889 | H53: =IFERROR(VLOOKUP(C53,'12월'!$E$12:$H$884,4,0),0) -> 9380815 | I53: 1그룹 | J53: =VLOOKUP(C53,'명부(현재)'!$D$9:$O$9755,11,0) -> -
B54: 동수원 | C54: 01016324 | D54: 최계숙 | E54: 2004/04/08 | F54: =SUM(G54:H54) -> 66245858 | G54: =IFERROR(VLOOKUP(C54,'1-11월'!$E$14:$H$1190,4,0),0) -> 60195168 | H54: =IFERROR(VLOOKUP(C54,'12월'!$E$12:$H$884,4,0),0) -> 6050690 | I54: 1그룹 | J54: =VLOOKUP(C54,'명부(현재)'!$D$9:$O$9755,11,0) -> -
B55: 성남 | C55: 01014161 | D55: 박우식 | E55: 2002/01/15 | F55: =SUM(G55:H55) -> 66062020 | G55: =IFERROR(VLOOKUP(C55,'1-11월'!$E$14:$H$1190,4,0),0) -> 61611032 | H55: =IFERROR(VLOOKUP(C55,'12월'!$E$12:$H$884,4,0),0) -> 4450988 | I55: 1그룹 | J55: =VLOOKUP(C55,'명부(현재)'!$D$9:$O$9755,11,0) -> -
B56: 수원 | C56: 01020703 | D56: 송인이 | E56: 2009/04/06 | F56: =SUM(G56:H56) -> 65351221 | G56: =IFERROR(VLOOKUP(C56,'1-11월'!$E$14:$H$1190,4,0),0) -> 61150166 | H56: =IFERROR(VLOOKUP(C56,'12월'!$E$12:$H$884,4,0),0) -> 4201055 | I56: 1그룹 | J56: =VLOOKUP(C56,'명부(현재)'!$D$9:$O$9755,11,0) -> -
B57: 안산 | C57: 01014553 | D57: 전순복 | E57: 2002/05/01 | F57: =SUM(G57:H57) -> 64115177 | G57: =IFERROR(VLOOKUP(C57,'1-11월'!$E$14:$H$1190,4,0),0) -> 59137911 | H57: =IFERROR(VLOOKUP(C57,'12월'!$E$12:$H$884,4,0),0) -> 4977266 | I57: 1그룹 | J57: =VLOOKUP(C57,'명부(현재)'!$D$9:$O$9755,11,0) -> -
B58: 안산 | C58: 01010175 | D58: 김정옥 | E58: 2000/07/07 | F58: =SUM(G58:H58) -> 63991426 | G58: =IFERROR(VLOOKUP(C58,'1-11월'!$E$14:$H$1190,4,0),0) -> 58368121 | H58: =IFERROR(VLOOKUP(C58,'12월'!$E$12:$H$884,4,0),0) -> 5623305 | I58: 1그룹 | J58: =VLOOKUP(C58,'명부(현재)'!$D$9:$O$9755,11,0) -> -
... B851: 구리 | C851: 01025931 | D851: 박미선 | E851: 2015/12/24 | F851: =SUM(G851:H851) -> 0 | G851: =IFERROR(VLOOKUP(C851,'1-11월'!$E$14:$H$1190,4,0),0) -> 0 | H851: =IFERROR(VLOOKUP(C851,'12월'!$E$12:$H$884,4,0),0) -> 0 | I851: 5그룹 | J851: =VLOOKUP(C851,'명부(현재)'!$D$9:$O$9755,11,0) -> -
J852: =VLOOKUP(C852,'명부(현재)'!$D$9:$O$9755,11,0) -> #N/A
J853: =VLOOKUP(C853,'명부(현재)'!$D$9:$O$9755,11,0) -> #N/A
J854: =VLOOKUP(C854,'명부(현재)'!$D$9:$O$9755,11,0) -> #N/A
J855: =VLOOKUP(C855,'명부(현재)'!$D$9:$O$9755,11,0) -> #N/A
J856: =VLOOKUP(C856,'명부(현재)'!$D$9:$O$9755,11,0) -> #N/A
J857: =VLOOKUP(C857,'명부(현재)'!$D$9:$O$9755,11,0) -> #N/A
J858: =VLOOKUP(C858,'명부(현재)'!$D$9:$O$9755,11,0) -> #N/A
J859: =VLOOKUP(C859,'명부(현재)'!$D$9:$O$9755,11,0) -> #N/A

Sheet 명부(현재)
D3: 우체국FC 명부
J7: 실적
B8: 총괄국 | C8: 총괄국명 | D8: 모집자코드 | E8: 모집자명 | F8: 주민번호 | G8: 성별 | H8: 위탁일자 | I8: 근무월 | J8: 9~10월 | K8: 11월 | L8: 12월 | M8: 평균 | N8: 비고 | P8: 합계
B9: 100131 | C9: 오산 | D9: 01001401 | E9: 양승이 | F9: 571130-2****** | G9: 여자 | H9: 1985/06/03 | I9: 4 | J9: =IFERROR(VLOOKUP(D9,#REF!,3,0),0)+IFERROR(VLOOKUP(D9,#REF!,3,0),0) -> 0 | K9: =IFERROR(VLOOKUP(D9,#REF!,3,0),0) -> 0 | L9: =IFERROR(VLOOKUP(D9,'12월'!$A$8:$C$8154,3,0),0) -> 0 | M9: =(J9+K9)/I9 -> 0 | N9: =IFERROR(VLOOKUP(D9,#REF!,6,0),"-") -> - | O9: =+IF(M9<500000,"O"," ") -> O | P9: =+J9+K9+L9 -> 0
B10: 104851 | C10: 안양 | D10: 01001468 | E10: 윤태은 | F10: 580907-2****** | G10: 여자 | H10: 1987/10/29 | I10: 4 | J10: =IFERROR(VLOOKUP(D10,#REF!,3,0),0)+IFERROR(VLOOKUP(D10,#REF!,3,0),0) -> 0 | K10: =IFERROR(VLOOKUP(D10,#REF!,3,0),0) -> 0 | L10: =IFERROR(VLOOKUP(D10,'12월'!$A$8:$C$8154,3,0),0) -> 0 | M10: =(J10+K10)/I10 -> 0 | N10: =IFERROR(VLOOKUP(D10,#REF!,6,0),"-") -> - | O10: =+IF(M10<500000,"O"," ") -> O | P10: =+J10+K10+L10 -> 0
B11: 100057 | C11: 평택 | D11: 01000699 | E11: 최임순 | F11: 541229-2****** | G11: 여자 | H11: 1988/07/05 | I11: 4 | J11: =IFERROR(VLOOKUP(D11,#REF!,3,0),0)+IFERROR(VLOOKUP(D11,#REF!,3,0),0) -> 0 | K11: =IFERROR(VLOOKUP(D11,#REF!,3,0),0) -> 0 | L11: =IFERROR(VLOOKUP(D11,'12월'!$A$8:$C$8154,3,0),0) -> 0 | M11: =(J11+K11)/I11 -> 0 | N11: =IFERROR(VLOOKUP(D11,#REF!,6,0),"-") -> - | O11: =+IF(M11<500000,"O"," ") -> O | P11: =+J11+K11+L11 -> 0
B12: 100941 | C12: 수원 | D12: 01001471 | E12: 조서원 | F12: 610529-1****** | G12: 남자 | H12: 1989/03/27 | I12: 4 | J12: =IFERROR(VLOOKUP(D12,#REF!,3,0),0)+IFERROR(VLOOKUP(D12,#REF!,3,0),0) -> 0 | K12: =IFERROR(VLOOKUP(D12,#REF!,3,0),0) -> 0 | L12: =IFERROR(VLOOKUP(D12,'12월'!$A$8:$C$8154,3,0),0) -> 0 | M12: =(J12+K12)/I12 -> 0 | N12: =IFERROR(VLOOKUP(D12,#REF!,6,0),"-") -> - | O12: =+IF(M12<500000,"O"," ") -> O | P12: =+J12+K12+L12 -> 0
B13: 100529 | C13: 김포 | D13: 01001698 | E13: 강옥자 | F13: 471218-2****** | G13: 여자 | H13: 1989/10/16 | I13: 4 | J13: =IFERROR(VLOOKUP(D13,#REF!,3,0),0)+IFERROR(VLOOKUP(D13,#REF!,3,0),0) -> 0 | K13: =IFERROR(VLOOKUP(D13,#REF!,3,0),0) -> 0 | L13: =IFERROR(VLOOKUP(D13,'12월'!$A$8:$C$8154,3,0),0) -> 0 | M13: =(J13+K13)/I13 -> 0 | N13: =IFERROR(VLOOKUP(D13,#REF!,6,0),"-") -> - | O13: =+IF(M13<500000,"O"," ") -> O | P13: =+J13+K13+L13 -> 0
B14: 102152 | C14: 구리 | D14: 01003229 | E14: 양인준 | F14: 591217-1****** | G14: 남자 | H14: 1991/01/30 | I14: 4 | J14: =IFERROR(VLOOKUP(D14,#REF!,3,0),0)+IFERROR(VLOOKUP(D14,#REF!,3,0),0) -> 0 | K14: =IFERROR(VLOOKUP(D14,#REF!,3,0),0) -> 0 | L14: =IFERROR(VLOOKUP(D14,'12월'!$A$8:$C$8154,3,0),0) -> 0 | M14: =(J14+K14)/I14 -> 0 | N14: =IFERROR(VLOOKUP(D14,#REF!,6,0),"-") -> - | O14: =+IF(M14<500000,"O"," ") -> O | P14: =+J14+K14+L14 -> 0
B15: 100073 | C15: 인천 | D15: 01001795 | E15: 서경순 | F15: 551005-2****** | G15: 여자 | H15: 1991/12/30 | I15: 4 | J15: =IFERROR(VLOOKUP(D15,#REF!,3,0),0)+IFERROR(VLOOKUP(D15,#REF!,3,0),0) -> 0 | K15: =IFERROR(VLOOKUP(D15,#REF!,3,0),0) -> 0 | L15: =IFERROR(VLOOKUP(D15,'12월'!$A$8:$C$8154,3,0),0) -> 0 | M15: =(J15+K15)/I15 -> 0 | N15: =IFERROR(VLOOKUP(D15,#REF!,6,0),"-") -> - | O15: =+IF(M15<500000,"O"," ") -> O | P15: =+J15+K15+L15 -> 0
B16: 100941 | C16: 수원 | D16: 01002366 | E16: 김형기 | F16: 640910-1****** | G16: 남자 | H16: 1992/01/13 | I16: 4 | J16: =IFERROR(VLOOKUP(D16,#REF!,3,0),0)+IFERROR(VLOOKUP(D16,#REF!,3,0),0) -> 0 | K16: =IFERROR(VLOOKUP(D16,#REF!,3,0),0) -> 0 | L16: =IFERROR(VLOOKUP(D16,'12월'!$A$8:$C$8154,3,0),0) -> 0 | M16: =(J16+K16)/I16 -> 0 | N16: =IFERROR(VLOOKUP(D16,#REF!,6,0),"-") -> - | O16: =+IF(M16<500000,"O"," ") -> O | P16: =+J16+K16+L16 -> 0
B17: 100115 | C17: 부평 | D17: 01003247 | E17: 박순덕 | F17: 551123-2****** | G17: 여자 | H17: 1992/12/28 | I17: 4 | J17: =IFERROR(VLOOKUP(D17,#REF!,3,0),0)+IFERROR(VLOOKUP(D17,#REF!,3,0),0) -> 0 | K17: =IFERROR(VLOOKUP(D17,#REF!,3,0),0) -> 0 | L17: =IFERROR(VLOOKUP(D17,'12월'!$A$8:$C$8154,3,0),0) -> 0 | M17: =(J17+K17)/I17 -> 0 | N17: =IFERROR(VLOOKUP(D17,#REF!,6,0),"-") -> - | O17: =+IF(M17<500000,"O"," ") -> O | P17: =+J17+K17+L17 -> 0
B18: 100941 | C18: 수원 | D18: 01002469 | E18: 연기진 | F18: 520121-1****** | G18: 남자 | H18: 1993/02/11 | I18: 4 | J18: =IFERROR(VLOOKUP(D18,#REF!,3,0),0)+IFERROR(VLOOKUP(D18,#REF!,3,0),0) -> 0 | K18: =IFERROR(VLOOKUP(D18,#REF!,3,0),0) -> 0 | L18: =IFERROR(VLOOKUP(D18,'12월'!$A$8:$C$8154,3,0),0) -> 0 | M18: =(J18+K18)/I18 -> 0 | N18: =IFERROR(VLOOKUP(D18,#REF!,6,0),"-") -> - | O18: =+IF(M18<500000,"O"," ") -> O | P18: =+J18+K18+L18 -> 0
B19: 100735 | C19: 의정부 | D19: 01002062 | E19: 조복자 | F19: 550326-2****** | G19: 여자 | H19: 1993/10/27 | I19: 4 | J19: =IFERROR(VLOOKUP(D19,#REF!,3,0),0)+IFERROR(VLOOKUP(D19,#REF!,3,0),0) -> 0 | K19: =IFERROR(VLOOKUP(D19,#REF!,3,0),0) -> 0 | L19: =IFERROR(VLOOKUP(D19,'12월'!$A$8:$C$8154,3,0),0) -> 0 | M19: =(J19+K19)/I19 -> 0 | N19: =IFERROR(VLOOKUP(D19,#REF!,6,0),"-") -> - | O19: =+IF(M19<500000,"O"," ") -> O | P19: =+J19+K19+L19 -> 0
B20: 107110 | C20: 인천계양 | D20: 01001961 | E20: 서미경 | F20: 610129-2****** | G20: 여자 | H20: 1993/11/12 | I20: 4 | J20: =IFERROR(VLOOKUP(D20,#REF!,3,0),0)+IFERROR(VLOOKUP(D20,#REF!,3,0),0) -> 0 | K20: =IFERROR(VLOOKUP(D20,#REF!,3,0),0) -> 0 | L20: =IFERROR(VLOOKUP(D20,'12월'!$A$8:$C$8154,3,0),0) -> 0 | M20: =(J20+K20)/I20 -> 0 | N20: =IFERROR(VLOOKUP(D20,#REF!,6,0),"-") -> - | O20: =+IF(M20<500000,"O"," ") -> O | P20: =+J20+K20+L20 -> 0
... B851: 102087 | C851: 시흥 | D851: 01025959 | E851: 이득영 | F851: 600120-2 | G851: 여자 | H851: 2016/01/04 | I851: 1 | J851: =IFERROR(VLOOKUP(D851,#REF!,3,0),0)+IFERROR(VLOOKUP(D851,#REF!,3,0),0) -> 0 | K851: =IFERROR(VLOOKUP(D851,#REF!,3,0),0) -> 0 | L851: =IFERROR(VLOOKUP(D851,'12월'!$A$8:$C$8154,3,0),0) -> 0 | M851: =(J851+K851)/I851 -> 0 | N851: =IFERROR(VLOOKUP(D851,#REF!,6,0),"-") -> - | O851: =+IF(M851<500000,"O"," ") -> O | P851: =+J851+K851+L851 -> 0

Sheet 1-11월
A1: 04. 관서별정산초회보험료현황(본부)->총괄국->직군->보험상품->모집자
A3: 리포트 필터:
A4: ("201501" 와 "201511" 사이 기준월 (ID)) 와 (청 = 11:경인청)
A5: 보기 필터:
A6: (직군 = 01:우체국FC) 와 (보험상품 = 20059:무배당 우체국연금보험, 2005A:무배당 우체국연금보험, 20069:무배당 우체국연금보험IN, 2006A:무배당 우체국연금보험IN, 20074:플러스연금보험 1종(일반연금), 20075:플러스연금보험 1종(일반연금), 20076:무배당 플러스연금보험, 20077:무배당 플러스연금보험, 20100:어깨동무연금보험, 21055:플러스연금보험 2종(연금저축), 21080:우체국연금저축보험, 21081:우체국연금저축보험, 21082:우체국연금저축보험, 21091:우체국연금저축보험(이전형), 21092:우체국연금저축보험(이전형), 30097:무배당 에버리치복지보험(일반형), 30098:무배당 에버리치복지보험(일반형), 30099:무배당 에버리치복지보험(일반형), 30108:무배당 에버리치복지보험(생계형), 30109:무배당 에버리치복지보험(생계형), 3010A:무배당 에버리치복지보험(비과세종합저축), 30135:무배당 에버리치복지보험(일반형)IN, 30136:무배당 에버리치복지보험(일반형)IN, 30141:무배당 그린보너스저축보험(일반형), 30142:무배당 그린보너스저축보험(일반형), 30143:무배당 그린보너스저축보험(일반형), 30154:무배당 꿈나무보험(저축형), 30162:무배당 그린보너스저축보험(생계형), 30163:무배당 그린보너스저축보험(비과세종합저축), 30164:무배당 그린보너스저축보험(비과세종합저축), 30170:무배당 파워적립보험(1종 만기목돈형), 30171:무배당 파워적립보험(1종 만기목돈형), 30180:무배당 파워적립보험(2종 이자지급형), 30181:무배당 파워적립보험(2종 이자지급형), 40025:하이로정기보험(순수보장형), 40027:하이로정기보험(순수보장형), 40050:무배당 나눔의행복보험, 41048:무배당 어깨동무보험 1종(생활보장형), 41066:하이로정기보험(만기환급형), 41067:하이로정기보험(만기환급형), 41070:(무)우체국하나로OK보험, 41071:(무)우체국하나로OK보험(갱신형),
A7: 41072:무배당 우체국하나로OK보험(갱신형), 41073:무배당 우체국하나로OK보험, 41074:무배당 우체국하나로OK보험, 41080:무배당 우체국장제보험(1종 무심사형), 41090:무배당 우체국장제보험(2종 심사형), 41100:무배당 100세 종합보장보험, 50025:휴일재해보장보험, 50031:우체국안전벨트보험, 50032:우체국안전벨트보험, 50033:우체국안전벨트보험, 50034:우체국안전벨트보험, 50053:우체국 안전벨트보험IN, 50054:우체국 안전벨트보험IN, 50063:무배당 만원의행복보험, 51025:에버리치상해보험, 51026:에버리치상해보험, 51027:에버리치상해보험, 51028:에버리치상해보험, 51035:무배당 어깨동무보험 3종(상해보장형), 51037:무배당 어깨동무보험 3종(상해보장형), 51046:에버리치상해보험IN, 61059:무배당 어깨동무보험 2종(암보장형), 6105B:무배당 어깨동무보험 2종(암보장형), 61111:(무)우체국실손의료비보험(종합형), 61112:(무)우체국실손의료비보험(종합형)(갱신형), 61122:(무)우체국실손의료비보험(질병형)(갱신형), 61130:평생보장암보험, 61131:평생보장암보험(갱신형), 61132:평생보장암보험(갱신형), 61141:(무)우체국건강클리닉보험, 61142:(무)우체국건강클리닉보험(갱신형), 61143:무배당 우체국건강클리닉보험(갱신형), 61144:무배당 우체국건강클리닉보험(갱신형), 61145:무배당 우체국건강클리닉보험(갱신형), 61150:(무)우체국큰병큰보장보험, 61151:(무)우체국큰병큰보장보험(갱신형), 61152:무배당 우체국큰병큰보장보험(갱신형), 61153:무배당 우체국큰병큰보장보험(갱신형), 61160:우체국치아보험(갱신형), 61161:우체국치아보험(갱신형), 61162:우체국치아보험(갱신형), 61163:무배당 우체국치아보험(갱신형), 61170:우체국요양보험(갱신형), 61171:우체국요양보험(갱신형), 61172:우체국요양보험(갱신형),
A8: 61180:(무) 우체국실손의료비보험[2종(표준형),종합형](갱신형), 61190:(무) 우체국실손의료비보험[2종(표준형),질병형](갱신형), 61200:(무) 우체국실손의료비보험[1종(선택형),종합형](갱신형), 61210:(무) 우체국실손의료비보험[1종(선택형),질병형](갱신형), 61220:(무) 우체국실손의료비보험3종(종합형)(갱신형), 61230:(무) 우체국실손의료비보험3종(질병형)(갱신형), 61240:우체국암보험(갱신형), 71022:무배당 꿈나무보험(보장형), 71023:무배당 꿈나무보험(보장형), 71024:무배당 꿈나무보험(보장형), 71025:무배당 꿈나무보험, 71026:무배당 꿈나무보험, J1801:(무) 우체국실손의료비보험[2종(표준형),종합형](갱신형), J1901:(무) 우체국실손의료비보험[2종(표준형),질병형](갱신형), J2001:(무) 우체국실손의료비보험[1종(선택형),종합형](갱신형), J2002:(무) 우체국실손의료비보험[1종(선택형),종합형](갱신형), J2101:(무) 우체국실손의료비보험[1종(선택형),질병형](갱신형))
A10: 쪽 표시:
A11: 기준월: Total
A13: 청 | C13: 보안총괄국 | E13: 모집자 | G13: 메트릭 | H13: 정산초회보험료 | I13: 저축성일시납제외 정산초회보험료
A14: 11 | B14: 경인청 | C14: 100057 | D14: 평택우체국 | E14: 01000699 | F14: 최임순 | H14: 43601745 | I14: 40671745
A15: 11 | B15: 경인청 | C15: 100057 | D15: 평택우체국 | E15: 01002024 | F15: 조순옥 | H15: 56264702 | I15: 53920702
A16: 11 | B16: 경인청 | C16: 100057 | D16: 평택우체국 | E16: 01003601 | F16: 황규례 | H16: -59393 | I16: -59393
A17: 11 | B17: 경인청 | C17: 100057 | D17: 평택우체국 | E17: 01003748 | F17: 심점이 | H17: 104831009 | I17: 102250009
A18: 11 | B18: 경인청 | C18: 100057 | D18: 평택우체국 | E18: 01009735 | F18: 금경희 | H18: 517987 | I18: 517987
A19: 11 | B19: 경인청 | C19: 100057 | D19: 평택우체국 | E19: 01011798 | F19: 윤점복 | H19: 44710917 | I19: 40643917
A20: 11 | B20: 경인청 | C20: 100057 | D20: 평택우체국 | E20: 01012223 | F20: 문윤조 | H20: 98644855 | I20: 98014855
A21: 11 | B21: 경인청 | C21: 100057 | D21: 평택우체국 | E21: 01013697 | F21: 이근분 | H21: 54055973 | I21: 53041973
A22: 11 | B22: 경인청 | C22: 100057 | D22: 평택우체국 | E22: 01014860 | F22: 박영자 | H22: 35886500 | I22: 35886500
A23: 11 | B23: 경인청 | C23: 100057 | D23: 평택우체국 | E23: 01017609 | F23: 이충숙 | H23: -21946 | I23: -21946
A24: 11 | B24: 경인청 | C24: 100057 | D24: 평택우체국 | E24: 01019255 | F24: 이향자 | H24: 22512510 | I24: 21992510
A25: 11 | B25: 경인청 | C25: 100057 | D25: 평택우체국 | E25: 01019458 | F25: 오금희 | H25: -7378 | I25: -7378
... A35: 11 | B35: 경인청 | C35: 100057 | D35: 평택우체국 | E35: 01025329 | F35: 박종선 | H35: 3059420 | I35: 3059420
A36: 11 | B36: 경인청 | C36: 100057 | D36: 평택우체국 | E36: Total | H36: 585946887 | I36: 567855887
A37: 11 | B37: 경인청 | C37: 100073 | D37: 인천우체국 | E37: 01001795 | F37: 서경순 | H37: 26244495 | I37: 24929495
A38: 11 | B38: 경인청 | C38: 100073 | D38: 인천우체국 | E38: 01007242 | F38: 이재임 | H38: 36206780 | I38: 34856780
A39: 11 | B39: 경인청 | C39: 100073 | D39: 인천우체국 | E39: 01013246 | F39: 김오순 | H39: 117214305 | I39: 114964305
A40: 11 | B40: 경인청 | C40: 100073 | D40: 인천우체국 | E40: 01013961 | F40: 임원숙 | H40: 17014574 | I40: 17014574
A41: 11 | B41: 경인청 | C41: 100073 | D41: 인천우체국 | E41: 01013962 | F41: 함경희 | H41: 13905382 | I41: 13655382
A42: 11 | B42: 경인청 | C42: 100073 | D42: 인천우체국 | E42: 01014669 | F42: 박숙진 | H42: 30391118 | I42: 29761118
A43: 11 | B43: 경인청 | C43: 100073 | D43: 인천우체국 | E43: 01015303 | F43: 양영자 | H43: 8769818 | I43: 8249818
A44: 11 | B44: 경인청 | C44: 100073 | D44: 인천우체국 | E44: 01016198 | F44: 신현주 | H44: 15991088 | I44: 15666088
A45: 11 | B45: 경인청 | C45: 100073 | D45: 인천우체국 | E45: 01016440 | F45: 유승옥 | H45: 30433564 | I45: 28698564
A46: 11 | B46: 경인청 | C46: 100073 | D46: 인천우체국 | E46: 01016900 | F46: 박석순 | H46: 32231478 | I46: 31750478
A47: 11 | B47: 경인청 | C47: 100073 | D47: 인천우체국 | E47: 01018634 | F47: 김영란 | H47: 8792031 | I47: 8792031
A48: 11 | B48: 경인청 | C48: 100073 | D48: 인천우체국 | E48: 01018636 | F48: 채영옥 | H48: -306889 | I48: -306889
... A66: 11 | B66: 경인청 | C66: 100073 | D66: 인천우체국 | E66: 01025786 | F66: 이지혜 | H66: 446360 | I66: 446360
A67: 11 | B67: 경인청 | C67: 100073 | D67: 인천우체국 | E67: Total | H67: 511079624 | I67: 494267624
A68: 11 | B68: 경인청 | C68: 100115 | D68: 부평우체국 | E68: 01000364 | F68: 강순덕 | H68: -39179 | I68: -39179
A69: 11 | B69: 경인청 | C69: 100115 | D69: 부평우체국 | E69: 01003247 | F69: 박순덕 | H69: 20522853 | I69: 20392853
A70: 11 | B70: 경인청 | C70: 100115 | D70: 부평우체국 | E70: 01004218 | F70: 오은심 | H70: 37440232 | I70: 36180232
A71: 11 | B71: 경인청 | C71: 100115 | D71: 부평우체국 | E71: 01004590 | F71: 김옥순 | H71: 18984141 | I71: 18464141
A72: 11 | B72: 경인청 | C72: 100115 | D72: 부평우체국 | E72: 01005257 | F72: 하복실 | H72: -817556 | I72: -817556
A73: 11 | B73: 경인청 | C73: 100115 | D73: 부평우체국 | E73: 01007544 | F73: 김도화 | H73: 34085285 | I73: 33585285
A74: 11 | B74: 경인청 | C74: 100115 | D74: 부평우체국 | E74: 01010683 | F74: 차영진 | H74: 15929726 | I74: 15799726
A75: 11 | B75: 경인청 | C75: 100115 | D75: 부평우체국 | E75: 01013000 | F75: 가영숙 | H75: 16987907 | I75: 16987907
A76: 11 | B76: 경인청 | C76: 100115 | D76: 부평우체국 | E76: 01013106 | F76: 차향란 | H76: 19945337 | I76: 19945337
A77: 11 | B77: 경인청 | C77: 100115 | D77: 부평우체국 | E77: 01013136 | F77: 이미숙 | H77: 28774036 | I77: 28774036
A78: 11 | B78: 경인청 | C78: 100115 | D78: 부평우체국 | E78: 01013746 | F78: 김미경 | H78: 10507823 | I78: 10507823
A79: 11 | B79: 경인청 | C79: 100115 | D79: 부평우체국 | E79: 01016127 | F79: 최정희 | H79: 34848149 | I79: 33848149
... A106: 11 | B106: 경인청 | C106: 100115 | D106: 부평우체국 | E106: 01025661 | F106: 한재순 | H106: 1743500 | I106: 1743500
A107: 11 | B107: 경인청 | C107: 100115 | D107: 부평우체국 | E107: Total | H107: 567719907 | I107: 555349907
A108: 11 | B108: 경인청 | C108: 100131 | D108: 오산우체국 | E108: 01000334 | F108: 박경자 | H108: 11763947 | I108: 11763947
A109: 11 | B109: 경인청 | C109: 100131 | D109: 오산우체국 | E109: 01001401 | F109: 양승이 | H109: 37288620 | I109: 36768620
A110: 11 | B110: 경인청 | C110: 100131 | D110: 오산우체국 | E110: 01011733 | F110: 신복희 | H110: 23901571 | I110: 23901571
A111: 11 | B111: 경인청 | C111: 100131 | D111: 오산우체국 | E111: 01012539 | F111: 이영아 | H111: -201180 | I111: -201180
A112: 11 | B112: 경인청 | C112: 100131 | D112: 오산우체국 | E112: 01013916 | F112: 김정해 | H112: 34404724 | I112: 33904724
A113: 11 | B113: 경인청 | C113: 100131 | D113: 오산우체국 | E113: 01015284 | F113: 이순임 | H113: 31292543 | I113: 29292543
A114: 11 | B114: 경인청 | C114: 100131 | D114: 오산우체국 | E114: 01015743 | F114: 강효숙 | H114: 16602029 | I114: 15692029
A115: 11 | B115: 경인청 | C115: 100131 | D115: 오산우체국 | E115: 01016710 | F115: 진경희 | H115: 16523740 | I115: 16523740
A116: 11 | B116: 경인청 | C116: 100131 | D116: 오산우체국 | E116: 01020001 | F116: 신금옥 | H116: 19807651 | I116: 19742651
A117: 11 | B117: 경인청 | C117: 100131 | D117: 오산우체국 | E117: 01022348 | F117: 김간란 | H117: 41167153 | I117: 41167153
A118: 11 | B118: 경인청 | C118: 100131 | D118: 오산우체국 | E118: 01023099 | F118: 신명옥 | H118: 13563583 | I118: 13563583
A119: 11 | B119: 경인청 | C119: 100131 | D119: 오산우체국 | E119: 01023590 | F119: 김현숙 | H119: 27002071 | I119: 27002071
... A121: 11 | B121: 경인청 | C121: 100131 | D121: 오산우체국 | E121: 01025549 | F121: 최명희 | H121: 2113105 | I121: 2113105
A122: 11 | B122: 경인청 | C122: 100131 | D122: 오산우체국 | E122: Total | H122: 292934362 | I122: 287689362
A123: 11 | B123: 경인청 | C123: 100164 | D123: 안성우체국 | E123: 01001481 | F123: 고정원 | H123: 36291079 | I123: 36096079
A124: 11 | B124: 경인청 | C124: 100164 | D124: 안성우체국 | E124: 01002049 | F124: 박인순 | H124: 21414410 | I124: 21414410
A125: 11 | B125: 경인청 | C125: 100164 | D125: 안성우체국 | E125: 01002315 | F125: 배종선 | H125: 82571209 | I125: 74216209
A126: 11 | B126: 경인청 | C126: 100164 | D126: 안성우체국 | E126: 01015692 | F126: 이다금 | H126: -196093 | I126: -196093
A127: 11 | B127: 경인청 | C127: 100164 | D127: 안성우체국 | E127: 01021998 | F127: 장옥란 | H127: 15218923 | I127: 14768923
A128: 11 | B128: 경인청 | C128: 100164 | D128: 안성우체국 | E128: 01022239 | F128: 김동선 | H128: -51391 | I128: -51391
A129: 11 | B129: 경인청 | C129: 100164 | D129: 안성우체국 | E129: 01023255 | F129: 윤향숙 | H129: 27902838 | I129: 27772838
A130: 11 | B130: 경인청 | C130: 100164 | D130: 안성우체국 | E130: 01024579 | F130: 박동현 | H130: -63620 | I130: -63620
A131: 11 | B131: 경인청 | C131: 100164 | D131: 안성우체국 | E131: 01025186 | F131: 박지영 | H131: 14306299 | I131: 14206299
A132: 11 | B132: 경인청 | C132: 100164 | D132: 안성우체국 | E132: 01025246 | F132: 도경록 | H132: 9692718 | I132: 9692718
A133: 11 | B133: 경인청 | C133: 100164 | D133: 안성우체국 | E133: 01025247 | F133: 윤종우 | H133: 1355922 | I133: 1355922
A134: 11 | B134: 경인청 | C134: 100164 | D134: 안성우체국 | E134: 01025336 | F134: 박혜숙 | H134: 1853351 | I134: 1853351
... A145: 11 | B145: 경인청 | C145: 100164 | D145: 안성우체국 | E145: 01025665 | F145: 양경혜 | H145: 1504871 | I145: 1504871
A146: 11 | B146: 경인청 | C146: 100164 | D146: 안성우체국 | E146: Total | H146: 255352528 | I146: 243972528
A147: 11 | B147: 경인청 | C147: 100354 | D147: 가평우체국 | E147: 01009051 | F147: 남영순 | H147: -72290 | I147: -72290
A148: 11 | B148: 경인청 | C148: 100354 | D148: 가평우체국 | E148: 01020657 | F148: 윤춘화 | H148: -106526 | I148: -106526
A149: 11 | B149: 경인청 | C149: 100354 | D149: 가평우체국 | E149: Total | H149: -178816 | I149: -178816
A150: 11 | B150: 경인청 | C150: 100362 | D150: 파주우체국 | E150: 01013462 | F150: 황혜경 | H150: 22693640 | I150: 22693640
A151: 11 | B151: 경인청 | C151: 100362 | D151: 파주우체국 | E151: 01013711 | F151: 조성란 | H151: 35455858 | I151: 35455858
A152: 11 | B152: 경인청 | C152: 100362 | D152: 파주우체국 | E152: 01017463 | F152: 김춘옥 | H152: 38787666 | I152: 38787666
A153: 11 | B153: 경인청 | C153: 100362 | D153: 파주우체국 | E153: 01019582 | F153: 민우현 | H153: 13929025 | I153: 13679025
A154: 11 | B154: 경인청 | C154: 100362 | D154: 파주우체국 | E154: 01019940 | F154: 최명숙 | H154: 21784179 | I154: 21784179
A155: 11 | B155: 경인청 | C155: 100362 | D155: 파주우체국 | E155: 01020400 | F155: 최인숙 | H155: 27937438 | I155: 27937438
A156: 11 | B156: 경인청 | C156: 100362 | D156: 파주우체국 | E156: 01021422 | F156: 손순례 | H156: -46844 | I156: -46844
A157: 11 | B157: 경인청 | C157: 100362 | D157: 파주우체국 | E157: 01021877 | F157: 김복경 | H157: -3213 | I157: -3213
A158: 11 | B158: 경인청 | C158: 100362 | D158: 파주우체국 | E158: 01022001 | F158: 김향일 | H158: 12134276 | I158: 11744276
A159: 11 | B159: 경인청 | C159: 100362 | D159: 파주우체국 | E159: 01022505 | F159: 이은전 | H159: -281540 | I159: -281540
A160: 11 | B160: 경인청 | C160: 100362 | D160: 파주우체국 | E160: 01023278 | F160: 송영자 | H160: 15168145 | I160: 15168145
A161: 11 | B161: 경인청 | C161: 100362 | D161: 파주우체국 | E161: 01023540 | F161: 김남숙 | H161: -218952 | I161: -218952
... A170: 11 | B170: 경인청 | C170: 100362 | D170: 파주우체국 | E170: 01025597 | F170: 곽수연 | H170: 3218275 | I170: 3218275
A171: 11 | B171: 경인청 | C171: 100362 | D171: 파주우체국 | E171: Total | H171: 235298571 | I171: 233658571
A172: 11 | B172: 경인청 | C172: 100479 | D172: 강화우체국 | E172: 01013358 | F172: 이남옥 | H172: -6384 | I172: -6384
A173: 11 | B173: 경인청 | C173: 100479 | D173: 강화우체국 | E173: 01014784 | F173: 박은순 | H173: 85295 | I173: 85295
A174: 11 | B174: 경인청 | C174: 100479 | D174: 강화우체국 | E174: 01016358 | F174: 윤혜숙 | H174: 16482380 | I174: 16352380
...

Sheet 12월
A1: 1.일일-청별당월실적(관서별)->총괄국->모집자번호
A3: 리포트 필터:
A4: ("20151201" 와 "20151231" 사이 기준일자 (ID)) 와 (청 = 11:경인청)
A5: 보기 필터:
A6: (보험상품 = 2005A:무배당 우체국연금보험, 2006A:무배당 우체국연금보험IN, 20077:무배당 플러스연금보험, 20100:어깨동무연금보험, 21082:우체국연금저축보험, 21092:우체국연금저축보험(이전형), 30099:무배당 에버리치복지보험(일반형), 3010A:무배당 에버리치복지보험(비과세종합저축), 30136:무배당 에버리치복지보험(일반형)IN, 30143:무배당 그린보너스저축보험(일반형), 30164:무배당 그린보너스저축보험(비과세종합저축), 30171:무배당 파워적립보험(1종 만기목돈형), 30181:무배당 파워적립보험(2종 이자지급형), 40050:무배당 나눔의행복보험, 41048:무배당 어깨동무보험 1종(생활보장형), 41074:무배당 우체국하나로OK보험, 41080:무배당 우체국장제보험(1종 무심사형), 41090:무배당 우체국장제보험(2종 심사형), 41100:무배당 100세 종합보장보험, 50025:휴일재해보장보험, 50034:우체국안전벨트보험, 50054:우체국 안전벨트보험IN, 50063:무배당 만원의행복보험, 51028:에버리치상해보험, 51037:무배당 어깨동무보험 3종(상해보장형), 51046:에버리치상해보험IN, 6105B:무배당 어깨동무보험 2종(암보장형), 61145:무배당 우체국건강클리닉보험(갱신형), 61153:무배당 우체국큰병큰보장보험(갱신형), 61163:무배당 우체국치아보험(갱신형), 61172:우체국요양보험(갱신형), 61180:(무) 우체국실손의료비보험[2종(표준형),종합형](갱신형), 61190:(무) 우체국실손의료비보험[2종(표준형),질병형](갱신형), 61200:(무) 우체국실손의료비보험[1종(선택형),종합형](갱신형), 61210:(무) 우체국실손의료비보험[1종(선택형),질병형](갱신형), 61240:우체국암보험(갱신형), 71026:무배당 꿈나무보험) 와 (직군 = 01:우체국FC)
A8: 쪽 표시:
A9: 기준일자: 합계
A11: 청 | C11: 총괄국 | E11: 모집자번호 | G11: 메트릭 | H11: 환산초회보험료
A12: 11 | B12: 경인청 | C12: 100057 | D12: 평택우체국 | E12: 01000699 | F12: 최임순 | H12: 5487655
A13: 11 | B13: 경인청 | C13: 100057 | D13: 평택우체국 | E13: 01002024 | F13: 조순옥 | H13: 6234416
A14: 11 | B14: 경인청 | C14: 100057 | D14: 평택우체국 | E14: 01003748 | F14: 심점이 | H14: 13073125
A15: 11 | B15: 경인청 | C15: 100057 | D15: 평택우체국 | E15: 01011798 | F15: 윤점복 | H15: 4580872
A16: 11 | B16: 경인청 | C16: 100057 | D16: 평택우체국 | E16: 01012223 | F16: 문윤조 | H16: 12262435
A17: 11 | B17: 경인청 | C17: 100057 | D17: 평택우체국 | E17: 01013697 | F17: 이근분 | H17: 5640314
A18: 11 | B18: 경인청 | C18: 100057 | D18: 평택우체국 | E18: 01014860 | F18: 박영자 | H18: 3759230
A19: 11 | B19: 경인청 | C19: 100057 | D19: 평택우체국 | E19: 01019255 | F19: 이향자 | H19: 1530180
A20: 11 | B20: 경인청 | C20: 100057 | D20: 평택우체국 | E20: 01020340 | F20: 안미남 | H20: 4049225
A21: 11 | B21: 경인청 | C21: 100057 | D21: 평택우체국 | E21: 01022256 | F21: 한해숙 | H21: 7033473
A22: 11 | B22: 경인청 | C22: 100057 | D22: 평택우체국 | E22: 01024734 | F22: 서원주 | H22: 3529170
A23: 11 | B23: 경인청 | C23: 100057 | D23: 평택우체국 | E23: 01025275 | F23: 나미정 | H23: 2148155
A24: 11 | B24: 경인청 | C24: 100057 | D24: 평택우체국 | E24: 01025854 | F24: 문순진 | H24: 2507355
A25: 11 | B25: 경인청 | C25: 100057 | D25: 평택우체국 | E25: 합계 | H25: 71835605
A26: 11 | B26: 경인청 | C26: 100073 | D26: 인천우체국 | E26: 01001795 | F26: 서경순 | H26: 3783820
A27: 11 | B27: 경인청 | C27: 100073 | D27: 인천우체국 | E27: 01007242 | F27: 이재임 | H27: 7331840
A28: 11 | B28: 경인청 | C28: 100073 | D28: 인천우체국 | E28: 01013246 | F28: 김오순 | H28: 31951334
A29: 11 | B29: 경인청 | C29: 100073 | D29: 인천우체국 | E29: 01013961 | F29: 임원숙 | H29: 1994793
A30: 11 | B30: 경인청 | C30: 100073 | D30: 인천우체국 | E30: 01013962 | F30: 함경희 | H30: 3008590
A31: 11 | B31: 경인청 | C31: 100073 | D31: 인천우체국 | E31: 01014669 | F31: 박숙진 | H31: 3178035
A32: 11 | B32: 경인청 | C32: 100073 | D32: 인천우체국 | E32: 01015303 | F32: 양영자 | H32: 1404185
A33: 11 | B33: 경인청 | C33: 100073 | D33: 인천우체국 | E33: 01016198 | F33: 신현주 | H33: 1442590
A34: 11 | B34: 경인청 | C34: 100073 | D34: 인천우체국 | E34: 01016440 | F34: 유승옥 | H34: 3593345
A35: 11 | B35: 경인청 | C35: 100073 | D35: 인천우체국 | E35: 01016900 | F35: 박석순 | H35: 3114156
A36: 11 | B36: 경인청 | C36: 100073 | D36: 인천우체국 | E36: 01018634 | F36: 김영란 | H36: 1531310
A37: 11 | B37: 경인청 | C37: 100073 | D37: 인천우체국 | E37: 01019172 | F37: 김정순 | H37: 4001315
... A48: 11 | B48: 경인청 | C48: 100073 | D48: 인천우체국 | E48: 01025813 | F48: 유금 | H48: 721900
A49: 11 | B49: 경인청 | C49: 100073 | D49: 인천우체국 | E49: 합계 | H49: 88452635
A50: 11 | B50: 경인청 | C50: 100115 | D50: 부평우체국 | E50: 01003247 | F50: 박순덕 | H50: 1739375
A51: 11 | B51: 경인청 | C51: 100115 | D51: 부평우체국 | E51: 01004218 | F51: 오은심 | H51: 4272864
A52: 11 | B52: 경인청 | C52: 100115 | D52: 부평우체국 | E52: 01004590 | F52: 김옥순 | H52: 1256880
A53: 11 | B53: 경인청 | C53: 100115 | D53: 부평우체국 | E53: 01007544 | F53: 김도화 | H53: 2600190
A54: 11 | B54: 경인청 | C54: 100115 | D54: 부평우체국 | E54: 01010683 | F54: 차영진 | H54: 1695920
A55: 11 | B55: 경인청 | C55: 100115 | D55: 부평우체국 | E55: 01013000 | F55: 가영숙 | H55: 2094720
A56: 11 | B56: 경인청 | C56: 100115 | D56: 부평우체국 | E56: 01013106 | F56: 차향란 | H56: 2390070
A57: 11 | B57: 경인청 | C57: 100115 | D57: 부평우체국 | E57: 01013136 | F57: 이미숙 | H57: 3474380
A58: 11 | B58: 경인청 | C58: 100115 | D58: 부평우체국 | E58: 01013746 | F58: 김미경 | H58: 1201799
A59: 11 | B59: 경인청 | C59: 100115 | D59: 부평우체국 | E59: 01016127 | F59: 최정희 | H59: 3635847
A60: 11 | B60: 경인청 | C60: 100115 | D60: 부평우체국 | E60: 01019434 | F60: 곽경아 | H60: 569320
A61: 11 | B61: 경인청 | C61: 100115 | D61: 부평우체국 | E61: 01020649 | F61: 김진희 | H61: 7200720
... A78: 11 | B78: 경인청 | C78: 100115 | D78: 부평우체국 | E78: 01025661 | F78: 한재순 | H78: 1021875
A79: 11 | B79: 경인청 | C79: 100115 | D79: 부평우체국 | E79: 합계 | H79: 67813371
A80: 11 | B80: 경인청 | C80: 100131 | D80: 오산우체국 | E80: 01000334 | F80: 박경자 | H80: 1000095
A81: 11 | B81: 경인청 | C81: 100131 | D81: 오산우체국 | E81: 01001401 | F81: 양승이 | H81: 3206610
A82: 11 | B82: 경인청 | C82: 100131 | D82: 오산우체국 | E82: 01011733 | F82: 신복희 | H82: 3033180
A83: 11 | B83: 경인청 | C83: 100131 | D83: 오산우체국 | E83: 01013916 | F83: 김정해 | H83: 1053025
A84: 11 | B84: 경인청 | C84: 100131 | D84: 오산우체국 | E84: 01015284 | F84: 이순임 | H84: 1412435
A85: 11 | B85: 경인청 | C85: 100131 | D85: 오산우체국 | E85: 01015743 | F85: 강효숙 | H85: 2257140
A86: 11 | B86: 경인청 | C86: 100131 | D86: 오산우체국 | E86: 01016710 | F86: 진경희 | H86: 2667715
A87: 11 | B87: 경인청 | C87: 100131 | D87: 오산우체국 | E87: 01020001 | F87: 신금옥 | H87: 2342387
A88: 11 | B88: 경인청 | C88: 100131 | D88: 오산우체국 | E88: 01022348 | F88: 김간란 | H88: 3657595
A89: 11 | B89: 경인청 | C89: 100131 | D89: 오산우체국 | E89: 01023099 | F89: 신명옥 | H89: 1221110
A90: 11 | B90: 경인청 | C90: 100131 | D90: 오산우체국 | E90: 01023590 | F90: 김현숙 | H90: 2072925
A91: 11 | B91: 경인청 | C91: 100131 | D91: 오산우체국 | E91: 01025306 | F91: 최유진 | H91: 4797945
A92: 11 | B92: 경인청 | C92: 100131 | D92: 오산우체국 | E92: 01025549 | F92: 최명희 | H92: 1652787
A93: 11 | B93: 경인청 | C93: 100131 | D93: 오산우체국 | E93: 합계 | H93: 30374949
A94: 11 | B94: 경인청 | C94: 100164 | D94: 안성우체국 | E94: 01001481 | F94: 고정원 | H94: 4558240
A95: 11 | B95: 경인청 | C95: 100164 | D95: 안성우체국 | E95: 01002049 | F95: 박인순 | H95: 1318640
A96: 11 | B96: 경인청 | C96: 100164 | D96: 안성우체국 | E96: 01002315 | F96: 배종선 | H96: 6199587
A97: 11 | B97: 경인청 | C97: 100164 | D97: 안성우체국 | E97: 01021998 | F97: 장옥란 | H97: 2570160
A98: 11 | B98: 경인청 | C98: 100164 | D98: 안성우체국 | E98: 01023255 | F98: 윤향숙 | H98: 2763538
A99: 11 | B99: 경인청 | C99: 100164 | D99: 안성우체국 | E99: 01025186 | F99: 박지영 | H99: 2009005
A100: 11 | B100: 경인청 | C100: 100164 | D100: 안성우체국 | E100: 01025246 | F100: 도경록 | H100: 1587000
A101: 11 | B101: 경인청 | C101: 100164 | D101: 안성우체국 | E101: 01025341 | F101: 김한아 | H101: 1005015
A102: 11 | B102: 경인청 | C102: 100164 | D102: 안성우체국 | E102: 01025342 | F102: 최종미 | H102: 881185
A103: 11 | B103: 경인청 | C103: 100164 | D103: 안성우체국 | E103: 01025406 | F103: 이금자 | H103: 2175130
A104: 11 | B104: 경인청 | C104: 100164 | D104: 안성우체국 | E104: 01025409 | F104: 이성이 | H104: 125160
A105: 11 | B105: 경인청 | C105: 100164 | D105: 안성우체국 | E105: 01025466 | F105: 김선기 | H105: 482930
... A110: 11 | B110: 경인청 | C110: 100164 | D110: 안성우체국 | E110: 01025665 | F110: 양경혜 | H110: 1471060
A111: 11 | B111: 경인청 | C111: 100164 | D111: 안성우체국 | E111: 합계 | H111: 32278509
A112: 11 | B112: 경인청 | C112: 100362 | D112: 파주우체국 | E112: 01013462 | F112: 황혜경 | H112: 2394650
A113: 11 | B113: 경인청 | C113: 100362 | D113: 파주우체국 | E113: 01013711 | F113: 조성란 | H113: 5686108
A114: 11 | B114: 경인청 | C114: 100362 | D114: 파주우체국 | E114: 01017463 | F114: 김춘옥 | H114: 4638637
A115: 11 | B115: 경인청 | C115: 100362 | D115: 파주우체국 | E115: 01019582 | F115: 민우현 | H115: 1098880
A116: 11 | B116: 경인청 | C116: 100362 | D116: 파주우체국 | E116: 01019940 | F116: 최명숙 | H116: 1759290
A117: 11 | B117: 경인청 | C117: 100362 | D117: 파주우체국 | E117: 01020400 | F117: 최인숙 | H117: 2039850
A118: 11 | B118: 경인청 | C118: 100362 | D118: 파주우체국 | E118: 01022001 | F118: 김향일 | H118: 2166968
A119: 11 | B119: 경인청 | C119: 100362 | D119: 파주우체국 | E119: 01023278 | F119: 송영자 | H119: 2065145
A120: 11 | B120: 경인청 | C120: 100362 | D120: 파주우체국 | E120: 01023985 | F120: 김성정 | H120: 2391035
A121: 11 | B121: 경인청 | C121: 100362 | D121: 파주우체국 | E121: 01025102 | F121: 박정옥 | H121: 1020037
A122: 11 | B122: 경인청 | C122: 100362 | D122: 파주우체국 | E122: 01025597 | F122: 곽수연 | H122: 1021580
A123: 11 | B123: 경인청 | C123: 100362 | D123: 파주우체국 | E123: 합계 | H123: 26282180
A124: 11 | B124: 경인청 | C124: 100479 | D124: 강화우체국 | E124: 01016358 | F124: 윤혜숙 | H124: 1677075
A125: 11 | B125: 경인청 | C125: 100479 | D125: 강화우체국 | E125: 합계 | H125: 1677075
A126: 11 | B126: 경인청 | C126: 100495 | D126: 경기광주우체국 | E126: 01002465 | F126: 권명희 | H126: 1969325
A127: 11 | B127: 경인청 | C127: 100495 | D127: 경기광주우체국 | E127: 01007225 | F127: 권기분 | H127: 1785425
A128: 11 | B128: 경인청 | C128: 100495 | D128: 경기광주우체국 | E128: 01008964 | F128: 오경화 | H128: 2766005
A129: 11 | B129: 경인청 | C129: 100495 | D129: 경기광주우체국 | E129: 01013046 | F129: 김경자 | H129: 2600715
A130: 11 | B130: 경인청 | C130: 100495 | D130: 경기광주우체국 | E130: 01013196 | F130: 김민하 | H130: 7042512
A131: 11 | B131: 경인청 | C131: 100495 | D131: 경기광주우체국 | E131: 01013305 | F131: 박정애 | H131: 5374325
A132: 11 | B132: 경인청 | C132: 100495 | D132: 경기광주우체국 | E132: 01013691 | F132: 최미숙 | H132: 3055335
A133: 11 | B133: 경인청 | C133: 100495 | D133: 경기광주우체국 | E133: 01014440 | F133: 홍말숙 | H133: 2024300
...
