Workbook

Sheet 월별금액
A1: 2016년 경인지방우정청 월별 도급금액
F3: (단위:명, 원, 부가세포함)
A4: 월별 | B4: 인원 | C4: 계약금액 | D4: 증감액 | E4: 합계금액 | F4: 비 고
A5: 1월 | B5: =산출내역!$F$53 -> 295 | C5: =산출내역!$G$53 -> 848628950 | E5: =D5+C5 -> 848628950
A6: 2월 | B6: =산출내역!$F$53 -> 295 | C6: =산출내역!$G$53 -> 848628950 | E6: =D6+C6 -> 848628950
A7: 3월 | B7: =산출내역!$F$53 -> 295 | C7: =산출내역!$G$53 -> 848628950 | E7: =D7+C7 -> 848628950
A8: 4월 | B8: =산출내역!$F$53 -> 295 | C8: =산출내역!$G$53 -> 848628950 | E8: =D8+C8 -> 848628950
A9: 5월 | B9: =산출내역!$F$53 -> 295 | C9: =산출내역!$G$53 -> 848628950 | E9: =D9+C9 -> 848628950
A10: 6월 | B10: =산출내역!$F$53 -> 295 | C10: =산출내역!$G$53 -> 848628950 | E10: =D10+C10 -> 848628950
A11: 7월 | B11: =산출내역!$F$53 -> 295 | C11: =산출내역!$G$53 -> 848628950 | E11: =D11+C11 -> 848628950
A12: 8월 | B12: =산출내역!$F$53 -> 295 | C12: =산출내역!$G$53 -> 848628950 | E12: =D12+C12 -> 848628950
A13: 9월 | B13: =산출내역!$F$53 -> 295 | C13: =산출내역!$G$53 -> 848628950 | E13: =D13+C13 -> 848628950
A14: 10월 | B14: =산출내역!$F$53 -> 295 | C14: =산출내역!$G$53 -> 848628950 | E14: =D14+C14 -> 848628950
A15: 11월 | B15: =산출내역!$F$53 -> 295 | C15: =산출내역!$G$53 -> 848628950 | E15: =D15+C15 -> 848628950
A16: 12월 | B16: =산출내역!$F$53 -> 295 | C16: =산출내역!$G$53 -> 848628950 | E16: =D16+C16 -> 848628950
A17: 합계 | C17: =SUM(C5:C16) -> 10183547400 | D17: =SUM(D5:D16) -> 0 | E17: =SUM(E5:E16) -> 10183547400
A19: 월 계약금액 | C19: =NUMBERSTRING(C20,1) -> 팔억사천팔백육십이만팔천구백오십
C20: =C16 -> 848628950
A21: 연 계약금액 | C21: =NUMBERSTRING(C22,1) -> 일백일억팔천삼백오십사만칠천사백
C22: =E17 -> 10183547400

Sheet 산출내역
A1: "붙임 1"
A2: 위탁수수료 산출내역서
A3: ▣ 2016년 1월 ~ 12월 | H3: (단위 : 원, 부가세 포함)
A4: 직 종 / 구 분 | E4: 단 가 | F4: 인 원 | G4: 금 액 | H4: 비 고
G5: 월간금액
A6: 인건비 | B6: 기술 | C6: 우편기계팀장 | D6: 2교대 | E6: =참조!E6 -> 4604160 | F6: ='업무인원-별첨1'!E79 -> 1 | G6: =E6*F6 -> 4604160 | J6: 안양우편물류센터 | L6: 기술원 | M6: =AVERAGE(E11,E12,E15) -> 3672973.3 | N6: =M6*12 -> 44075680
C7: 우편기계기사 | E7: =참조!E11 -> 4063070 | F7: ='업무인원-별첨1'!F79 -> 5 | G7: =E7*F7 -> 20315350 | L7: 우편기계 | M7: =AVERAGE(E6:E7) -> 4333615 | N7: =M7*12 -> 52003380
C8: 팀장 | D8: 일근 | E8: =참조!E5 -> 3962860 | F8: ='업무인원-별첨1'!G79 -> 0 | G8: =E8*F8 -> 0 | L8: 미화원 | M8: =AVERAGE(E19,E20,E22,E23,E25,E27,E30,E31) -> 2503297.5 | N8: =M8*12 -> 30039570
C9: 대리 | D9: 일근 | E9: =참조!E7 -> 3857040 | F9: ='업무인원-별첨1'!H79 -> 0 | G9: =E9*F9 -> 0 | L9: 경비 | M9: =AVERAGE(E33,E35,E39,E40,E41) -> 2719706 | N9: =M9*12 -> 32636472
D10: 2교대 | E10: =참조!E8 -> 4109490 | F10: ='업무인원-별첨1'!I79 -> 0 | G10: =E10*F10 -> 0
C11: 기사 | D11: 일근 | E11: =참조!E9 -> 3558940 | F11: ='업무인원-별첨1'!J79 -> 30 | G11: =E11*F11 -> 106768200
D12: 2교대 | E12: =참조!E10 -> 3794450 | F12: ='업무인원-별첨1'!K79 -> 19 | G12: =E12*F12 -> 72094550
D13: 3교대A | E13: =참조!E12 -> 3457080 | F13: ='업무인원-별첨1'!L79 -> 0 | G13: =E13*F13 -> 0 | H13: 주간-당직-비번
C14: 수련원 | D14: 일근 | E14: =참조!E13 -> 3621750 | F14: ='업무인원-별첨1'!M79 -> 0 | G14: =E14*F14 -> 0
D15: 2교대 | E15: =참조!E14 -> 3665530 | F15: ='업무인원-별첨1'!N79 -> 3 | G15: =E15*F15 -> 10996590
D16: 3교대 | E16: =참조!E15 -> 3977820 | F16: ='업무인원-별첨1'!O79 -> 0 | G16: =E16*F16 -> 0 | H16: 주간-야간-비번
C17: 소 계 | F17: =SUM(F6:F16) -> 58 | G17: =SUM(G6:G16) -> 214778850
B18: 미 화 | C18: 우체국/직할 | D18: 감독 | E18: =참조!E16 -> 3402850 | F18: ='업무인원-별첨1'!P79 -> 0 | G18: =E18*F18 -> 0
D19: A | E19: =참조!E17 -> 2339920 | F19: ='업무인원-별첨1'!Q79 -> 8 | G19: =E19*F19 -> 18719360
D20: B | E20: =참조!E18 -> 2265230 | F20: ='업무인원-별첨1'!R79 -> 77 | G20: =E20*F20 -> 174422710
E21: =참조!E19 -> 1264010 | F21: ='업무인원-별첨1'!S79 -> 0 | G21: =E21*F21 -> 0 | H21: 4시간근무자
E22: =참조!E20 -> 1489290 | F22: ='업무인원-별첨1'!T79 -> 2 | G22: =E22*F22 -> 2978580 | H22: 5시간근무자 | J22: 화성봉담, 용인중앙동
C23: 집중국/물류 | D23: 감독 | E23: =참조!E21 -> 3594580 | F23: ='업무인원-별첨1'!U79 -> 7 | G23: =E23*F23 -> 25162060
E24: =참조!E22 -> 3682910 | F24: ='업무인원-별첨1'!Y79 -> 0 | G24: =E24*F24 -> 0 | H24: 국제우편물류센터
D25: A | E25: =참조!E23 -> 2469170 | F25: ='업무인원-별첨1'!V79 -> 9 | G25: =E25*F25 -> 22222530
E26: =참조!E24 -> 2558380 | F26: ='업무인원-별첨1'!Z79 -> 0 | G26: =E26*F26 -> 0 | H26: 국제우편물류센터
D27: B | E27: =참조!E26 -> 2389860 | F27: ='업무인원-별첨1'!W79 -> 61 | G27: =E27*F27 -> 145781460
E28: =참조!E27 -> 2479180 | F28: ='업무인원-별첨1'!AA79 -> 0 | G28: =E28*F28 -> 0 | H28: 국제우편물류센터
D29: 조경 | E29: =참조!E25 -> 2645940 | F29: ='업무인원-별첨1'!X79 -> 0 | G29: =E29*F29 -> 0
C30: 수련원 | D30: A | E30: =참조!E28 -> 2783660 | F30: ='업무인원-별첨1'!AB79 -> 1 | G30: =E30*F30 -> 2783660
D31: B | E31: =참조!E29 -> 2694670 | F31: ='업무인원-별첨1'!AC79 -> 6 | G31: =E31*F31 -> 16168020
C32: 소 계 | F32: =SUM(F18:F31) -> 171 | G32: =SUM(G18:G31) -> 408238380
B33: 경 비 | C33: 청사경비 | D33: 일근 | E33: =참조!E30 -> 2648910 | F33: ='업무인원-별첨1'!AD79 -> 21 | G33: =E33*F33 -> 55627110
E34: =참조!E31 -> 2738010 | F34: ='업무인원-별첨1'!AJ79 -> 0 | G34: =E34*F34 -> 0 | H34: 국제우편물류센터
D35: 2교대 | E35: =참조!E32 -> 3134230 | F35: ='업무인원-별첨1'!AE79 -> 39 | G35: =E35*F35 -> 122234970
E36: =참조!E33 -> 3223000 | F36: ='업무인원-별첨1'!AK79 -> 0 | G36: =E36*F36 -> 0 | H36: 국제우편물류센터
D37: 3교대A | E37: =참조!E34 -> 2937880 | F37: ='업무인원-별첨1'!AF79 -> 0 | G37: =E37*F37 -> 0 | H37: 주간-당직-비번
D38: 3교대B | E38: =참조!E35 -> 2731740 | F38: ='업무인원-별첨1'!AG79 -> 0 | G38: =E38*F38 -> 0 | H38: 주간-야간-비번
D39: 야간 | E39: =참조!E36 -> 3242250 | F39: ='업무인원-별첨1'!AH79 -> 1 | G39: =E39*F39 -> 3242250 | H39: 부평우체국
D40: 야간4H | E40: =참조!E37 -> 1541760 | F40: ='업무인원-별첨1'!AI79 -> 2 | G40: =E40*F40 -> 3083520
C41: 수련원 | D41: 2교대 | E41: =참조!E38 -> 3031380 | F41: ='업무인원-별첨1'!AL79 -> 3 | G41: =E41*F41 -> 9094140
D42: 야간A | E42: =참조!E39 -> 3268430 | F42: ='업무인원-별첨1'!AM79 -> 0 | G42: =E42*F42 -> 0
D43: 야간B | E43: =참조!E40 -> 3460710 | F43: ='업무인원-별첨1'!AN79 -> 0 | G43: =E43*F43 -> 0 | H43: 협재수련원
C44: 소 계 | F44: =SUM(F33:F43) -> 66 | G44: =SUM(G33:G43) -> 193281990
B45: 안내 | C45: 청사 | D45: 일근 | E45: =참조!E43 -> 3048650 | F45: ='업무인원-별첨1'!AO79 -> 0 | G45: =E45*F45 -> 0
C46: 수련원 | D46: 일근 | E46: =참조!E44 -> 2975720 | F46: ='업무인원-별첨1'!AP79 -> 0 | G46: =E46*F46 -> 0
C47: 소 계 | F47: =SUM(F45:F46) -> 0 | G47: =SUM(G45:G46) -> 0
A48: 기 타 | B48: 항목 | C48: ① 재료비(12월 분할 금액) | G48: =+재료비_별첨2!E71 -> 25756240
C49: ② 전기시설물 면허 선임비용 | G49: =+전기선임비용_별첨3!E11 -> 4791490
C50: ③ 건축물 안전관리자 선임비용 | G50: =+건축물선임비용_별첨4!E59 -> 1782000
C51: ④ 기타 | G51: =E51*F51 -> 0
C52: 소 계 | G52: =SUM(G48:G51) -> 32329730
A53: 합 계 | F53: =SUM(F47,F44,F32,F17) -> 295 | G53: =SUM(G52,G47,G44,G32,G17) -> 848628950
A55: 별지 : 1) 위탁관리 대상물 및 해당 업무인원
A56: 2) 재료비 산출내역
A57: 3) 전기시설물 면허 선임비용
A58: 4) 건축물 안전관리자 선임비용

Sheet 업무인원-별첨1
A1: "별첨 1"
A2: 위탁관리 대상물 및 해당 업무인원
A3: ▣ 2016년 1월 ~ 12월
A4: (단위 : 명)
A5: NO | B5: 관서명 | D5: 위탁관리 대상물 (연면적 ㎡) | E5: 기술 | P5: 미화 | AD5: 경비 | AO5: 안내 | AQ5: 합계 | AR5: 비고
B6: 총괄국 | C6: 배치관서 | E6: 우편기계 | G6: 팀장 | H6: 대리 | J6: 기사 | M6: 수련원 | P6: 우체국 | U6: 집중국/물류 | Y6: 국제우편물류 | AB6: 수련원 | AD6: 일근 | AE6: 2교대 | AF6: 3교대 | AH6: 야간 (부평) | AI6: 야간 4시간 | AJ6: 국제우편물류 | AL6: 수련원 | AO6: 청사 | AP6: 수 련 원
E7: 팀장 | F7: 2교대 | G7: 일근 | H7: 일근 | I7: 2교대 | J7: 일근 | K7: 2교대 | L7: 3교대A | M7: 일근 | N7: 2교대 | O7: 3교대 | P7: 감독 | Q7: A | R7: B | S7: B (4H) | T7: B (5H) | U7: 감독 | V7: A | W7: B | X7: 조경 | Y7: 감독 | Z7: A | AA7: B | AB7: A | AC7: B | AF7: A | AG7: B | AJ7: 일근 | AK7: 2교대 | AL7: 2교대 | AM7: 야간A | AN7: 야간B
A8: 1 | B8: 서수원우체국 | D8: 14464 | J8: 1 | K8: 2 | Q8: 1 | R8: 4 | AE8: 2 | AQ8: =SUM(E8:AP8) -> 10
A9: =A8+1 -> 2 | B9: 인천우체국 | D9: 5288 | R9: 2 | AD9: 1 | AQ9: =SUM(E9:AP9) -> 3
A10: =A9+1 -> 3 | C10: 인천중동우체국 | D10: 1786 | R10: 1 | AD10: 1 | AQ10: =SUM(E10:AP10) -> 2
A11: =A10+1 -> 4 | B11: 서인천우체국 | D11: 6412 | J11: 2 | R11: 2 | AD11: 1 | AQ11: =SUM(E11:AP11) -> 5
A12: =A11+1 -> 5 | B12: 인천계양우체국 | D12: 6118 | J12: 1 | R12: 2 | AQ12: =SUM(E12:AP12) -> 3
A13: =A12+1 -> 6 | B13: 남인천우체국 | D13: 4924 | R13: 2 | AD13: 1 | AQ13: =SUM(E13:AP13) -> 3
A14: =A13+1 -> 7 | B14: 인천남동우체국 | D14: 14934 | J14: 2 | Q14: 1 | R14: 4 | AD14: 2 | AQ14: =SUM(E14:AP14) -> 9
A15: =A14+1 -> 8 | B15: 의정부우체국 | D15: 8953 | Q15: 1 | R15: 2 | AD15: 1 | AQ15: =SUM(E15:AP15) -> 4
A16: =A15+1 -> 9 | C16: 의정부3동우체국 | D16: 2378 | Q16: 1 | AQ16: =SUM(E16:AP16) -> 1
A17: =A16+1 -> 10 | B17: 수원우체국 | D17: 11237 | J17: 2 | Q17: 1 | R17: 2 | AQ17: =SUM(E17:AP17) -> 5
A18: =A17+1 -> 11 | B18: 동수원우체국 | D18: 4912 | J18: 1 | R18: 1 | AQ18: =SUM(E18:AP18) -> 2
A19: =A18+1 -> 12 | B19: 군포우체국 | D19: 7668 | R19: 2 | AQ19: =SUM(E19:AP19) -> 2
A20: =A19+1 -> 13 | B20: 안양우체국 | D20: 7545 | Q20: 1 | R20: 1 | AD20: 1 | AQ20: =SUM(E20:AP20) -> 3
A21: =A20+1 -> 14 | C21: 서안양우체국 | D21: 4396 | J21: 1 | Q21: 1 | AQ21: =SUM(E21:AP21) -> 2
A22: =A21+1 -> 15 | B22: 성남우체국 | D22: 7108 | J22: 1 | R22: 2 | AE22: 1 | AQ22: =SUM(E22:AP22) -> 4
A23: =A22+1 -> 16 | B23: 성남분당우체국 | D23: 5485 | R23: 2 | AQ23: =SUM(E23:AP23) -> 2
A24: =A23+1 -> 17 | B24: 부천우체국 | D24: 4565 | J24: 1 | R24: 2 | AD24: 1 | AQ24: =SUM(E24:AP24) -> 4
A25: =A24+1 -> 18 | C25: 남부천우체국 | D25: 3274 | J25: 1 | R25: 1 | AQ25: =SUM(E25:AP25) -> 2
A26: =A25+1 -> 19 | B26: 안산우체국 | D26: 5987 | R26: 2 | AD26: 1 | AQ26: =SUM(E26:AP26) -> 3
A27: =A26+1 -> 20 | B27: 고양일산우체국 | D27: 5572 | R27: 2 | AD27: 1 | AQ27: =SUM(E27:AP27) -> 3
A28: =A27+1 -> 21 | B28: 고양덕양우체국 | D28: 4514 | J28: 1 | R28: 2 | AQ28: =SUM(E28:AP28) -> 3
A29: =A28+1 -> 22 | B29: 시흥우체국 | D29: 4467 | J29: 1 | R29: 2 | AD29: 1 | AQ29: =SUM(E29:AP29) -> 4
A30: =A29+1 -> 23 | C30: 시흥대야동우체국 | D30: 1478 | R30: 1 | AQ30: =SUM(E30:AP30) -> 1
A31: =A30+1 -> 24 | B31: 광명우체국 | D31: 5383 | R31: 2 | AD31: 1 | AQ31: =SUM(E31:AP31) -> 3
A32: =A31+1 -> 25 | C32: 광명2동우체국 | D32: 2634 | R32: 1 | AD32: 1 | AQ32: =SUM(E32:AP32) -> 2
A33: =A32+1 -> 26 | B33: 용인수지우체국 | D33: 2996 | J33: 1 | R33: 2 | AD33: 1 | AQ33: =SUM(E33:AP33) -> 4
A34: =A33+1 -> 27 | C34: 신갈우체국 | D34: 2418 | J34: 1 | R34: 1 | AD34: 1 | AQ34: =SUM(E34:AP34) -> 3
A35: =A34+1 -> 28 | B35: 남양주우체국 | D35: 11166 | J35: 1 | K35: 2 | Q35: 1 | R35: 2 | AE35: 2 | AQ35: =SUM(E35:AP35) -> 8
A36: =A35+1 -> 29 | C36: 남양주진접우체국 | D36: 1506 | R36: 1 | AQ36: =SUM(E36:AP36) -> 1
A37: =A36+1 -> 30 | B37: 평택우체국 | D37: 2519 | R37: 1 | AQ37: =SUM(E37:AP37) -> 1
A38: =A37+1 -> 31 | C38: 안중우체국 | D38: 1920 | R38: 1 | AQ38: =SUM(E38:AP38) -> 1
A39: =A38+1 -> 32 | B39: 용인우체국 | D39: 7116 | J39: 1 | R39: 2 | AQ39: =SUM(E39:AP39) -> 3
A40: =A39+1 -> 33 | C40: 용인중앙동우체국 | D40: 2966 | J40: 1 | T40: 1 | AQ40: =SUM(E40:AP40) -> 2
A41: =A40+1 -> 34 | B41: 화성우체국 | D41: 6778 | J41: 1 | R41: 2 | AE41: 2 | AQ41: =SUM(E41:AP41) -> 5
A42: =A41+1 -> 35 | C42: 경기남양우체국 | D42: 863 | R42: 1 | AQ42: =SUM(E42:AP42) -> 1
A43: =A42+1 -> 36 | C43: 화성향남우체국 | D43: 2276 | J43: 1 | R43: 1 | AQ43: =SUM(E43:AP43) -> 2
A44: =A43+1 -> 37 | C44: 봉담우체국 | D44: 1766 | T44: 1 | AQ44: =SUM(E44:AP44) -> 1
A45: =A44+1 -> 38 | B45: 포천우체국 | D45: 1652 | R45: 1 | AQ45: =SUM(E45:AP45) -> 1
A46: =A45+1 -> 39 | B46: 파주우체국 | D46: 5998 | J46: 1 | R46: 2 | AQ46: =SUM(E46:AP46) -> 3
A47: =A46+1 -> 40 | C47: 문산우체국 | D47: 2180 | J47: 1 | R47: 1 | AQ47: =SUM(E47:AP47) -> 2
A48: =A47+1 -> 41 | B48: 강화우체국 | D48: 1416 | R48: 1 | AD48: 1 | AQ48: =SUM(E48:AP48) -> 2
A49: =A48+1 -> 42 | B49: 김포우체국 | D49: 2167 | J49: 1 | R49: 1 | AQ49: =SUM(E49:AP49) -> 2
A50: =A49+1 -> 43 | B50: 가평우체국 | D50: 2300 | R50: 1 | AQ50: =SUM(E50:AP50) -> 1
A51: =A50+1 -> 44 | B51: 양평우체국 | D51: 0 | AD51: 1 | AQ51: =SUM(E51:AP51) -> 1
A52: =A51+1 -> 45 | C52: 용문우체국 | D52: 2959 | R52: 1 | AQ52: =SUM(E52:AP52) -> 1
A53: =A52+1 -> 46 | B53: 경기광주우체국 | D53: 4377 | J53: 1 | R53: 1 | AI53: 1 | AQ53: =SUM(E53:AP53) -> 3
A54: =A53+1 -> 47 | B54: 이천우체국 | D54: 3074 | J54: 1 | R54: 1 | AI54: 1 | AQ54: =SUM(E54:AP54) -> 3
A55: =A54+1 -> 48 | B55: 여주우체국 | D55: 2568 | R55: 1 | AQ55: =SUM(E55:AP55) -> 1
A56: =A55+1 -> 49 | B56: 안성우체국 | D56: 2566 | J56: 1 | R56: 1 | AD56: 1 | AQ56: =SUM(E56:AP56) -> 3
A57: =A56+1 -> 50 | B57: 동두천우체국 | D57: 2377 | R57: 1 | AQ57: =SUM(E57:AP57) -> 1
A58: =A57+1 -> 51 | C58: 동두천지행동우체국 | D58: 1991 | R58: 1 | AQ58: =SUM(E58:AP58) -> 1
A59: =A58+1 -> 52 | B59: 연천우체국 | D59: 2718 | J59: 1 | R59: 1 | AQ59: =SUM(E59:AP59) -> 2
A60: =A59+1 -> 53 | B60: 오산우체국 | D60: 1735 | R60: 1 | AQ60: =SUM(E60:AP60) -> 1
A61: =A60+1 -> 54 | B61: 하남우체국 | D61: 1798 | J61: 1 | R61: 1 | AD61: 1 | AQ61: =SUM(E61:AP61) -> 3
A62: =A61+1 -> 55 | B62: 구리우체국 | D62: 4998 | R62: 2 | AD62: 1 | AQ62: =SUM(E62:AP62) -> 3
A63: 소계 | B63: =COUNTA(B8:B62) -> 39 | C63: =COUNTA(C8:C62) -> 16 | D63: =SUM(D8:D62) -> 242646 | E63: =SUM(E8:E62) -> 0 | F63: =SUM(F8:F62) -> 0 | G63: =SUM(G8:G62) -> 0 | H63: =SUM(H8:H62) -> 0 | I63: =SUM(I8:I62) -> 0 | J63: =SUM(J8:J62) -> 30 | K63: =SUM(K8:K62) -> 4 | ... AP63: =SUM(AP8:AP62) -> 0 | AQ63: =SUM(E63:AP63) -> 151
A64: 1 | B64: 수원우편집중국 | D64: 11520 | K64: 1 | V64: 1 | W64: 4 | AE64: 4 | AQ64: =SUM(E64:AP64) -> 10
A65: =A64+1 -> 2 | B65: 부천우편집중국 | D65: 36606 | K65: 2 | U65: 1 | V65: 2 | W65: 12 | AE65: 4 | AQ65: =SUM(E65:AP65) -> 21
A66: =A65+1 -> 3 | B66: 고양우편집중국 | D66: 20996 | K66: 1 | U66: 1 | V66: 1 | W66: 7 | AE66: 4 | AQ66: =SUM(E66:AP66) -> 14
A67: =A66+1 -> 4 | B67: 성남우편집중국 | D67: 20435 | K67: 2 | U67: 1 | V67: 1 | W67: 5 | AE67: 4 | AQ67: =SUM(E67:AP67) -> 13
A68: =A67+1 -> 5 | B68: 안양우편집중국 | D68: 20458 | U68: 1 | V68: 1 | W68: 6 | AE68: 4 | AQ68: =SUM(E68:AP68) -> 12
A69: =A68+1 -> 6 | B69: 의정부우편집중국 | D69: 35495 | K69: 2 | U69: 1 | V69: 1 | W69: 12 | AE69: 4 | AQ69: =SUM(E69:AP69) -> 20
A70: =A69+1 -> 7 | B70: 안양우편물류센터 | D70: 20121 | E70: 1 | F70: 2 | K70: 4 | U70: 1 | V70: 1 | W70: 6 | AE70: 4 | AQ70: =SUM(E70:AP70) -> 19
A71: =A70+1 -> 8 | B71: 부평우체국 | D71: 26980 | F71: 3 | K71: 3 | U71: 1 | V71: 1 | W71: 9 | AE71: 4 | AH71: 1 | AQ71: =SUM(E71:AP71) -> 22
A72: 소계 | B72: =COUNTA(B64:B71) -> 8 | C72: =COUNTA(C64:C71) -> 0 | D72: =SUM(D64:D71) -> 192611 | E72: =SUM(E64:E71) -> 1 | F72: =SUM(F64:F71) -> 5 | G72: =SUM(G64:G71) -> 0 | H72: =SUM(H64:H71) -> 0 | I72: =SUM(I64:I71) -> 0 | J72: =SUM(J64:J71) -> 0 | K72: =SUM(K64:K71) -> 15 | ... AP72: =SUM(AP64:AP71) -> 0 | AQ72: =SUM(E72:AP72) -> 131
A73: 1 | C73: 통일동산수련원 | D73: 5998 | N73: 2 | AB73: 1 | AC73: 4 | AL73: 2 | AQ73: =SUM(E73:AP73) -> 9
A74: =A73+1 -> 2 | C74: 가평북면수련원 | D74: 1298 | N74: 1 | AC74: 2 | AL74: 1 | AQ74: =SUM(E74:AP74) -> 4
A75: =A74+1 -> 3 | AQ75: =SUM(E75:AP75) -> 0
A76: =A75+1 -> 4 | AQ76: =SUM(E76:AP76) -> 0
A77: =A76+1 -> 5 | AQ77: =SUM(E77:AP77) -> 0
A78: 소계 | B78: =COUNTA(B73:B77) -> 0 | C78: =COUNTA(C73:C77) -> 2 | D78: =SUM(D73:D77) -> 7296 | E78: =SUM(E73:E77) -> 0 | F78: =SUM(F73:F77) -> 0 | G78: =SUM(G73:G77) -> 0 | H78: =SUM(H73:H77) -> 0 | I78: =SUM(I73:I77) -> 0 | J78: =SUM(J73:J77) -> 0 | K78: =SUM(K73:K77) -> 0 | ... AP78: =SUM(AP73:AP77) -> 0 | AQ78: =SUM(E78:AP78) -> 13
A79: 합계 | B79: =SUM(B63,B72,B78) -> 47 | C79: =SUM(C63,C72,C78) -> 18 | D79: =SUM(D78,D72,D63) -> 442553 | E79: =SUM(E78,E72,E63) -> 1 | F79: =SUM(F78,F72,F63) -> 5 | G79: =SUM(G78,G72,G63) -> 0 | H79: =SUM(H78,H72,H63) -> 0 | I79: =SUM(I78,I72,I63) -> 0 | J79: =SUM(J78,J72,J63) -> 30 | K79: =SUM(K78,K72,K63) -> 19 | ... AP79: =SUM(AP78,AP72,AP63) -> 0 | AQ79: =SUM(E79:AP79) -> 295

Sheet 재료비_별첨2
A1: "별첨 2"
A2: 재료비 산출내역
A3: ▣ 2016년 1월 ~ 12월
A5: NO | B5: 관 서 명 | C5: 연면적(㎡) | D5: 단가 (원) | E5: 공급가액 | G5: 비 고
E6: 월간 | F6: 연간(12월)
A7: 1 | B7: 서수원우체국 | C7: 14464 | D7: 97 | E7: =TRUNC(C7*60%*D7,-1) -> 841800 | F7: =E7*12 -> 10101600
A8: =A7+1 -> 2 | B8: 인천우체국 | C8: 5288 | D8: 97 | E8: =TRUNC(C8*60%*D8,-1) -> 307760 | F8: =E8*12 -> 3693120
A9: =A8+1 -> 3 | B9: 인천중동우체국 | C9: 1786 | D9: 97 | E9: =TRUNC(C9*60%*D9,-1) -> 103940 | F9: =E9*12 -> 1247280
A10: =A9+1 -> 4 | B10: 서인천우체국 | C10: 6412 | D10: 97 | E10: =TRUNC(C10*60%*D10,-1) -> 373170 | F10: =E10*12 -> 4478040
A11: =A10+1 -> 5 | B11: 인천계양우체국 | C11: 6118 | D11: 97 | E11: =TRUNC(C11*60%*D11,-1) -> 356060 | F11: =E11*12 -> 4272720
A12: =A11+1 -> 6 | B12: 남인천우체국 | C12: 4924 | D12: 97 | E12: =TRUNC(C12*60%*D12,-1) -> 286570 | F12: =E12*12 -> 3438840
A13: =A12+1 -> 7 | B13: 인천남동우체국 | C13: 14934 | D13: 97 | E13: =TRUNC(C13*60%*D13,-1) -> 869150 | F13: =E13*12 -> 10429800
A14: =A13+1 -> 8 | B14: 의정부우체국 | C14: 8953 | D14: 97 | E14: =TRUNC(C14*60%*D14,-1) -> 521060 | F14: =E14*12 -> 6252720
A15: =A14+1 -> 9 | B15: 의정부3동우체국 | C15: 2378 | D15: 97 | E15: =TRUNC(C15*60%*D15,-1) -> 138390 | F15: =E15*12 -> 1660680
A16: =A15+1 -> 10 | B16: 수원우체국 | C16: 11237 | D16: 97 | E16: =TRUNC(C16*60%*D16,-1) -> 653990 | F16: =E16*12 -> 7847880
A17: =A16+1 -> 11 | B17: 동수원우체국 | C17: 4912 | D17: 97 | E17: =TRUNC(C17*60%*D17,-1) -> 285870 | F17: =E17*12 -> 3430440
A18: =A17+1 -> 12 | B18: 군포우체국 | C18: 7668 | D18: 97 | E18: =TRUNC(C18*60%*D18,-1) -> 446270 | F18: =E18*12 -> 5355240
A19: =A18+1 -> 13 | B19: 안양우체국 | C19: 7545 | D19: 97 | E19: =TRUNC(C19*60%*D19,-1) -> 439110 | F19: =E19*12 -> 5269320
... A70: =A69+1 -> 64 | B70: 가평북면수련원 | C70: 1298 | D70: 97 | E70: =TRUNC(C70*60%*D70,-1) -> 75540 | F70: =E70*12 -> 906480
A71: 합 계 | C71: =SUM(C7:C70) -> 442553 | E71: =SUM(E7:E70) -> 25756240 | F71: =SUM(F7:F70) -> 309074880

Sheet 전기선임비용_별첨3
A1: "별첨 3"
A2: 전기시설물 면허 선임비용
A3: ▣ 2016년 1월 ~ 12월
F4: (단위:원)
A5: 관 서 명 | B5: 수전용량 (㎾) | C5: 선임비 | D5: 부가세 | E5: 공급가액 | F5: 비 고
A6: 서수원우체국 | B6: 1600 | C6: 997600 | D6: =+C6*10% -> 99760 | E6: =+C6+D6 -> 1097360
A7: 수원우체국 | B7: 1270 | C7: 997600 | D7: =+C7*10% -> 99760 | E7: =+C7+D7 -> 1097360
A8: 남양주우체국 | B8: 1300 | C8: 997600 | D8: =+C8*10% -> 99760 | E8: =+C8+D8 -> 1097360
A9: 화성우체국 | B9: 658 | C9: 365500 | D9: =+C9*10% -> 36550 | E9: =+C9+D9 -> 402050
A10: 인천남동우체국 | B10: 1250 | C10: 997600 | D10: =+C10*10% -> 99760 | E10: =+C10+D10 -> 1097360
A11: 합 계 | C11: =SUM(C6:C10) -> 4355900 | D11: =SUM(D6:D10) -> 435590 | E11: =SUM(E6:E10) -> 4791490

Sheet 건축물선임비용_별첨4
A1: "별첨 4"
A2: 건축물 안전관리자 선임비용
A3: ▣ 2016년 1월 ~ 12월
A4: 관 서 명 | B4: 선임자격 | C4: 선임비 | D4: 부가세 | E4: 공급가액 | F4: 비고
A5: 경기광주우체국 | B5: 승강기 | C5: 30000 | D5: 3000 | E5: 33000
A6: 용인수지우체국 | B6: 승강기 | C6: 30000 | D6: 3000 | E6: 33000
A7: 신갈우체국 | B7: 승강기 | C7: 30000 | D7: 3000 | E7: 33000
A8: 화성우체국 | B8: 승강기 | C8: 30000 | D8: 3000 | E8: 33000
A9: 고양덕양우체국 | B9: 승강기 | C9: 30000 | D9: 3000 | E9: 33000
A10: 성남우체국 | B10: 가스 | C10: 30000 | D10: 3000 | E10: 33000
B11: 보일러 | C11: 30000 | D11: 3000 | E11: 33000
A12: 안성우체국 | B12: 위험물 | C12: 30000 | D12: 3000 | E12: 33000
B13: 가스 | C13: 30000 | D13: 3000 | E13: 33000
B14: 승강기 | C14: 30000 | D14: 3000 | E14: 33000
A15: 연천우체국 | B15: 위험물 | C15: 30000 | D15: 3000 | E15: 33000
B16: 승강기 | C16: 30000 | D16: 3000 | E16: 33000
A17: 이천우체국 | B17: 가스 | C17: 30000 | D17: 3000 | E17: 33000
B18: 승강기 | C18: 30000 | D18: 3000 | E18: 33000
A19: 동수원우체국 | B19: 가스 | C19: 30000 | D19: 3000 | E19: 33000
B20: 보일러 | C20: 30000 | D20: 3000 | E20: 33000
A21: 수원우체국 | B21: 공조냉동 | C21: 30000 | D21: 3000 | E21: 33000
B22: 가스 | C22: 30000 | D22: 3000 | E22: 33000
B23: 승강기 | C23: 30000 | D23: 3000 | E23: 33000
A24: 시흥우체국 | B24: 보일러 | C24: 30000 | D24: 3000 | E24: 33000
B25: 가스 | C25: 30000 | D25: 3000 | E25: 33000
B26: 승강기 | C26: 30000 | D26: 3000 | E26: 33000
A27: 용인우체국 | B27: 가스 | C27: 30000 | D27: 3000 | E27: 33000
B28: 승강기 | C28: 30000 | D28: 3000 | E28: 33000
A29: 용인중앙동우체국 | B29: 위험물 | C29: 30000 | D29: 3000 | E29: 33000
B30: 승강기 | C30: 30000 | D30: 3000 | E30: 33000
A31: 서인천우체국 | B31: 보일러 | C31: 30000 | D31: 3000 | E31: 33000
B32: 가스 | C32: 30000 | D32: 3000 | E32: 33000
B33: 승강기 | C33: 30000 | D33: 3000 | E33: 33000
A34: 남양주우체국 | B34: 보일러 | C34: 30000 | D34: 3000 | E34: 33000
B35: 가스 | C35: 30000 | D35: 3000 | E35: 33000
B36: 승강기 | C36: 30000 | D36: 3000 | E36: 33000
A37: 서안양우체국 | B37: 가스 | C37: 30000 | D37: 3000 | E37: 33000
B38: 보일러 | C38: 30000 | D38: 3000 | E38: 33000
B39: 승강기 | C39: 30000 | D39: 3000 | E39: 33000
A40: 의정부우편집중국 | B40: 가스 | C40: 30000 | D40: 3000 | E40: 33000
B41: 보일러 | C41: 30000 | D41: 3000 | E41: 33000
B42: 위험물 | C42: 30000 | D42: 3000 | E42: 33000
A43: 안양우편물류센터 | B43: 가스 | C43: 30000 | D43: 3000 | E43: 33000
B44: 보일러 | C44: 30000 | D44: 3000 | E44: 33000
B45: 승강기 | C45: 30000 | D45: 3000 | E45: 33000
A46: 하남우체국 | B46: 위험물 | C46: 30000 | D46: 3000 | E46: 33000
B47: 보일러 | C47: 30000 | D47: 3000 | E47: 33000
A48: 파주우체국 | B48: 가스 | C48: 30000 | D48: 3000 | E48: 33000
B49: 승강기 | C49: 30000 | D49: 3000 | E49: 33000 | F49: 2016년1월 선임
A50: 문산우체국 | B50: 승강기 | C50: 30000 | D50: 3000 | E50: 33000
A51: 서수원우체국 | B51: 가스 | C51: 30000 | D51: 3000 | E51: 33000
B52: 승강기 | C52: 30000 | D52: 3000 | E52: 33000
A53: 남부천우체국 | B53: 가스 | C53: 30000 | D53: 3000 | E53: 33000
B54: 보일러 | C54: 30000 | D54: 3000 | E54: 33000
A55: 인천남동우체국 | B55: 가스 | C55: 30000 | D55: 3000 | E55: 33000
B56: 승강기 | C56: 30000 | D56: 3000 | E56: 33000
A57: 통일동산우정교육센터 | B57: 승강기 | C57: 30000 | D57: 3000 | E57: 33000
B58: 위험물 | C58: 30000 | D58: 3000 | E58: 33000
A59: 합 계 | E59: =SUM(E5:E58) -> 1782000

Sheet 참조
A2: 2016년도 부동산 관리·운영 위탁수수료 표준단가
A4: 구분 | B4: 직종 | D4: 근무형태 | E4: 단가 | F4: 비고
A5: 기술 | B5: 팀장 | D5: 일근 | E5: 3962860
D6: 2교대 | E6: 4604160 | F6: 우편기계
B7: 대리 | D7: 일근 | E7: 3857040
D8: 2교대 | E8: 4109490
B9: 기사 | D9: 일근 | E9: 3558940
D10: 2교대 | E10: 3794450
E11: 4063070 | F11: 우편기계
D12: 3교대A | E12: 3457080 | F12: 주간ㆍ당직ㆍ비번
B13: 수련원 | D13: 일근 | E13: 3621750
D14: 2교대 | E14: 3665530
D15: 3교대 | E15: 3977820
A16: 미화 | B16: 우체국 | C16: 감독 | D16: 일근 | E16: 3402850
C17: A | E17: 2339920
C18: B | E18: 2265230
D19: 4시간 | E19: 1264010
D20: 5시간 | E20: 1489290
B21: 집중국 | C21: 감독 | D21: 일근 | E21: 3594580
E22: 3682910 | F22: 국제우편물류센터
C23: A | E23: 2469170
E24: 2558380 | F24: 국제우편물류센터
C25: 조경 | E25: 2645940
C26: B | E26: 2389860
E27: 2479180 | F27: 국제우편물류센터
B28: 수련원 | C28: A | E28: 2783660
C29: B | E29: 2694670
A30: 경비 | B30: 청사경비 | D30: 일근 | E30: 2648910
E31: 2738010 | F31: 국제우편물류센터
D32: 2교대 | E32: 3134230
E33: 3223000 | F33: 국제우편물류센터
D34: 3교대A | E34: 2937880 | F34: 주간ㆍ당직ㆍ비번
D35: 3교대B | E35: 2731740 | F35: 주간ㆍ야간ㆍ비번
D36: 야간 | E36: 3242250 | F36: 부평우체국
D37: 야간4시간 | E37: 1541760
B38: 수련원 | D38: 2교대 | E38: 3031380
D39: 야간A | E39: 3268430
D40: 야간B | E40: 3460710 | F40: 협재(수)
B41: 보안검색 | D41: 주간 | E41: 3026320 | F41: 우정사업정보센터
D42: 야간 | E42: 3614930
A43: 안내 | B43: 청사 | D43: 일근 | E43: 3048650
B44: 수련원 | D44: 일근 | E44: 2975720
