Workbook

Sheet 예산 배정
B2: 우체국예금 마케팅 기본예산 추가 배정내역
H3: (단위 : 천 원)
B4: 구 분 | C4: 5231-362 (예금영업지원) | F4: 5231-361 (예금사업운영) | G4: 5231-366 (금융서비스지원) | H4: 비 고
C5: 210-01 (일반수용비) | D5: 310-03 (포상금) | E5: 소 계 | F5: 240-01 (업무추진비) | G5: 240-01 (업무추진비)
B6: 인천 | C6: =VLOOKUP($B6,'평가 내역 세부자료'!$A$5:$Y$46,19,FALSE) -> 5125 | D6: =VLOOKUP($B6,'평가 내역 세부자료'!$A$5:$Y$46,20,FALSE) -> 1438 | E6: =SUM(C6:D6) -> 6563 | F6: =VLOOKUP($B6,'평가 내역 세부자료'!$A$5:$Y$46,25,FALSE) -> 0 | G6: =VLOOKUP($B6,'평가 내역 세부자료'!$A$5:$Y$46,21,FALSE) -> 1000 | H6: 연계우수국 지원
B7: 서인천 | C7: =VLOOKUP($B7,'평가 내역 세부자료'!$A$5:$Y$46,19,FALSE) -> 3913 | D7: =VLOOKUP($B7,'평가 내역 세부자료'!$A$5:$Y$46,20,FALSE) -> 1098 | E7: =SUM(C7:D7) -> 5011 | F7: =VLOOKUP($B7,'평가 내역 세부자료'!$A$5:$Y$46,25,FALSE) -> 1000 | G7: =VLOOKUP($B7,'평가 내역 세부자료'!$A$5:$Y$46,21,FALSE) -> 0 | H7: 연계우수국 지원
B8: 인천계양 | C8: =VLOOKUP($B8,'평가 내역 세부자료'!$A$5:$Y$46,19,FALSE) -> 2660 | D8: =VLOOKUP($B8,'평가 내역 세부자료'!$A$5:$Y$46,20,FALSE) -> 746 | E8: =SUM(C8:D8) -> 3406 | F8: =VLOOKUP($B8,'평가 내역 세부자료'!$A$5:$Y$46,25,FALSE) -> 720 | G8: =VLOOKUP($B8,'평가 내역 세부자료'!$A$5:$Y$46,21,FALSE) -> 0
B9: 남인천 | C9: =VLOOKUP($B9,'남인천과 인천남동 예산 배정 세부내역'!$A$40:$E$42,4,FALSE) -> 4257 | D9: =VLOOKUP($B9,'남인천과 인천남동 예산 배정 세부내역'!$A$40:$E$42,5,FALSE) -> 1194 | E9: =SUM(C9:D9) -> 5451 | F9: =VLOOKUP($B9,'평가 내역 세부자료'!$A$5:$Y$46,25,FALSE) -> 1000 | G9: =VLOOKUP($B9,'평가 내역 세부자료'!$A$5:$Y$46,21,FALSE) -> 1000 | H9: 연계우수, 법인예금
B10: 인천남동 | C10: =VLOOKUP($B10,'남인천과 인천남동 예산 배정 세부내역'!$A$40:$E$42,4,FALSE) -> 3547 | D10: =VLOOKUP($B10,'남인천과 인천남동 예산 배정 세부내역'!$A$40:$E$42,5,FALSE) -> 995 | E10: =SUM(C10:D10) -> 4542 | F10: =VLOOKUP($B10,'평가 내역 세부자료'!$A$5:$Y$46,25,FALSE) -> 720 | G10: =VLOOKUP($B10,'평가 내역 세부자료'!$A$5:$Y$46,21,FALSE) -> 0
B11: 의정부 | C11: =VLOOKUP($B11,'평가 내역 세부자료'!$A$5:$Y$46,19,FALSE) -> 4148 | D11: =VLOOKUP($B11,'평가 내역 세부자료'!$A$5:$Y$46,20,FALSE) -> 1164 | E11: =SUM(C11:D11) -> 5312 | F11: =VLOOKUP($B11,'평가 내역 세부자료'!$A$5:$Y$46,25,FALSE) -> 720 | G11: =VLOOKUP($B11,'평가 내역 세부자료'!$A$5:$Y$46,21,FALSE) -> 0
B12: 부평 | C12: =VLOOKUP($B12,'평가 내역 세부자료'!$A$5:$Y$46,19,FALSE) -> 5172 | D12: =VLOOKUP($B12,'평가 내역 세부자료'!$A$5:$Y$46,20,FALSE) -> 1451 | E12: =SUM(C12:D12) -> 6623 | F12: =VLOOKUP($B12,'평가 내역 세부자료'!$A$5:$Y$46,25,FALSE) -> 720 | G12: =VLOOKUP($B12,'평가 내역 세부자료'!$A$5:$Y$46,21,FALSE) -> 0
B13: 수원 | C13: =VLOOKUP($B13,'평가 내역 세부자료'!$A$5:$Y$46,19,FALSE) -> 4541 | D13: =VLOOKUP($B13,'평가 내역 세부자료'!$A$5:$Y$46,20,FALSE) -> 1274 | E13: =SUM(C13:D13) -> 5815 | F13: =VLOOKUP($B13,'평가 내역 세부자료'!$A$5:$Y$46,25,FALSE) -> 720 | G13: =VLOOKUP($B13,'평가 내역 세부자료'!$A$5:$Y$46,21,FALSE) -> 0
B14: 동수원 | C14: =VLOOKUP($B14,'평가 내역 세부자료'!$A$5:$Y$46,19,FALSE) -> 3740 | D14: =VLOOKUP($B14,'평가 내역 세부자료'!$A$5:$Y$46,20,FALSE) -> 1049 | E14: =SUM(C14:D14) -> 4789 | F14: =VLOOKUP($B14,'평가 내역 세부자료'!$A$5:$Y$46,25,FALSE) -> 1000 | G14: =VLOOKUP($B14,'평가 내역 세부자료'!$A$5:$Y$46,21,FALSE) -> 0 | H14: 연계우수국 지원
B15: 서수원 | C15: =VLOOKUP($B15,'평가 내역 세부자료'!$A$5:$Y$46,19,FALSE) -> 1946 | D15: =VLOOKUP($B15,'평가 내역 세부자료'!$A$5:$Y$46,20,FALSE) -> 546 | E15: =SUM(C15:D15) -> 2492 | F15: =VLOOKUP($B15,'평가 내역 세부자료'!$A$5:$Y$46,25,FALSE) -> 720 | G15: =VLOOKUP($B15,'평가 내역 세부자료'!$A$5:$Y$46,21,FALSE) -> 0
B16: 군포 | C16: =VLOOKUP($B16,'평가 내역 세부자료'!$A$5:$Y$46,19,FALSE) -> 2865 | D16: =VLOOKUP($B16,'평가 내역 세부자료'!$A$5:$Y$46,20,FALSE) -> 804 | E16: =SUM(C16:D16) -> 3669 | F16: =VLOOKUP($B16,'평가 내역 세부자료'!$A$5:$Y$46,25,FALSE) -> 720 | G16: =VLOOKUP($B16,'평가 내역 세부자료'!$A$5:$Y$46,21,FALSE) -> 0
B17: 안양 | C17: =VLOOKUP($B17,'평가 내역 세부자료'!$A$5:$Y$46,19,FALSE) -> 4847 | D17: =VLOOKUP($B17,'평가 내역 세부자료'!$A$5:$Y$46,20,FALSE) -> 1360 | E17: =SUM(C17:D17) -> 6207 | F17: =VLOOKUP($B17,'평가 내역 세부자료'!$A$5:$Y$46,25,FALSE) -> 0 | G17: =VLOOKUP($B17,'평가 내역 세부자료'!$A$5:$Y$46,21,FALSE) -> 2000 | H17: 결합마케팅지원, 법인예금
B18: 성남 | C18: =VLOOKUP($B18,'평가 내역 세부자료'!$A$5:$Y$46,19,FALSE) -> 5454 | D18: =VLOOKUP($B18,'평가 내역 세부자료'!$A$5:$Y$46,20,FALSE) -> 1530 | E18: =SUM(C18:D18) -> 6984 | F18: =VLOOKUP($B18,'평가 내역 세부자료'!$A$5:$Y$46,25,FALSE) -> 0 | G18: =VLOOKUP($B18,'평가 내역 세부자료'!$A$5:$Y$46,21,FALSE) -> 1000 | H18: 연계우수국 지원
B19: 성남분당 | C19: =VLOOKUP($B19,'평가 내역 세부자료'!$A$5:$Y$46,19,FALSE) -> 4617 | D19: =VLOOKUP($B19,'평가 내역 세부자료'!$A$5:$Y$46,20,FALSE) -> 1295 | E19: =SUM(C19:D19) -> 5912 | F19: =VLOOKUP($B19,'평가 내역 세부자료'!$A$5:$Y$46,25,FALSE) -> 0 | G19: =VLOOKUP($B19,'평가 내역 세부자료'!$A$5:$Y$46,21,FALSE) -> 1000 | H19: 법인예금
B20: 부천 | C20: =VLOOKUP($B20,'평가 내역 세부자료'!$A$5:$Y$46,19,FALSE) -> 6739 | D20: =VLOOKUP($B20,'평가 내역 세부자료'!$A$5:$Y$46,20,FALSE) -> 1890 | E20: =SUM(C20:D20) -> 8629 | F20: =VLOOKUP($B20,'평가 내역 세부자료'!$A$5:$Y$46,25,FALSE) -> 0 | G20: =VLOOKUP($B20,'평가 내역 세부자료'!$A$5:$Y$46,21,FALSE) -> 2000 | H20: 결합마케팅 지원
B21: 안산 | C21: =VLOOKUP($B21,'평가 내역 세부자료'!$A$5:$Y$46,19,FALSE) -> 6751 | D21: =VLOOKUP($B21,'평가 내역 세부자료'!$A$5:$Y$46,20,FALSE) -> 1894 | E21: =SUM(C21:D21) -> 8645 | F21: =VLOOKUP($B21,'평가 내역 세부자료'!$A$5:$Y$46,25,FALSE) -> 720 | G21: =VLOOKUP($B21,'평가 내역 세부자료'!$A$5:$Y$46,21,FALSE) -> 0
B22: 고양일산 | C22: =VLOOKUP($B22,'평가 내역 세부자료'!$A$5:$Y$46,19,FALSE) -> 3643 | D22: =VLOOKUP($B22,'평가 내역 세부자료'!$A$5:$Y$46,20,FALSE) -> 1022 | E22: =SUM(C22:D22) -> 4665 | F22: =VLOOKUP($B22,'평가 내역 세부자료'!$A$5:$Y$46,25,FALSE) -> 0 | G22: =VLOOKUP($B22,'평가 내역 세부자료'!$A$5:$Y$46,21,FALSE) -> 1000 | H22: 결합마케팅 지원
B23: 고양덕양 | C23: =VLOOKUP($B23,'평가 내역 세부자료'!$A$5:$Y$46,19,FALSE) -> 3308 | D23: =VLOOKUP($B23,'평가 내역 세부자료'!$A$5:$Y$46,20,FALSE) -> 928 | E23: =SUM(C23:D23) -> 4236 | F23: =VLOOKUP($B23,'평가 내역 세부자료'!$A$5:$Y$46,25,FALSE) -> 720 | G23: =VLOOKUP($B23,'평가 내역 세부자료'!$A$5:$Y$46,21,FALSE) -> 0
B24: 시흥 | C24: =VLOOKUP($B24,'평가 내역 세부자료'!$A$5:$Y$46,19,FALSE) -> 3577 | D24: =VLOOKUP($B24,'평가 내역 세부자료'!$A$5:$Y$46,20,FALSE) -> 1003 | E24: =SUM(C24:D24) -> 4580 | F24: =VLOOKUP($B24,'평가 내역 세부자료'!$A$5:$Y$46,25,FALSE) -> 720 | G24: =VLOOKUP($B24,'평가 내역 세부자료'!$A$5:$Y$46,21,FALSE) -> 0
B25: 광명 | C25: =VLOOKUP($B25,'평가 내역 세부자료'!$A$5:$Y$46,19,FALSE) -> 2955 | D25: =VLOOKUP($B25,'평가 내역 세부자료'!$A$5:$Y$46,20,FALSE) -> 829 | E25: =SUM(C25:D25) -> 3784 | F25: =VLOOKUP($B25,'평가 내역 세부자료'!$A$5:$Y$46,25,FALSE) -> 720 | G25: =VLOOKUP($B25,'평가 내역 세부자료'!$A$5:$Y$46,21,FALSE) -> 0
B26: 용인수지 | C26: =VLOOKUP($B26,'평가 내역 세부자료'!$A$5:$Y$46,19,FALSE) -> 2757 | D26: =VLOOKUP($B26,'평가 내역 세부자료'!$A$5:$Y$46,20,FALSE) -> 773 | E26: =SUM(C26:D26) -> 3530 | F26: =VLOOKUP($B26,'평가 내역 세부자료'!$A$5:$Y$46,25,FALSE) -> 1000 | G26: =VLOOKUP($B26,'평가 내역 세부자료'!$A$5:$Y$46,21,FALSE) -> 0 | H26: 연계우수국 지원
B27: 용인 | C27: =VLOOKUP($B27,'평가 내역 세부자료'!$A$5:$Y$46,19,FALSE) -> 3204 | D27: =VLOOKUP($B27,'평가 내역 세부자료'!$A$5:$Y$46,20,FALSE) -> 899 | E27: =SUM(C27:D27) -> 4103 | F27: =VLOOKUP($B27,'평가 내역 세부자료'!$A$5:$Y$46,25,FALSE) -> 720 | G27: =VLOOKUP($B27,'평가 내역 세부자료'!$A$5:$Y$46,21,FALSE) -> 0
B28: 남양주 | C28: =VLOOKUP($B28,'평가 내역 세부자료'!$A$5:$Y$46,19,FALSE) -> 2728 | D28: =VLOOKUP($B28,'평가 내역 세부자료'!$A$5:$Y$46,20,FALSE) -> 765 | E28: =SUM(C28:D28) -> 3493 | F28: =VLOOKUP($B28,'평가 내역 세부자료'!$A$5:$Y$46,25,FALSE) -> 720 | G28: =VLOOKUP($B28,'평가 내역 세부자료'!$A$5:$Y$46,21,FALSE) -> 0
B29: 평택 | C29: =VLOOKUP($B29,'평가 내역 세부자료'!$A$5:$Y$46,19,FALSE) -> 5606 | D29: =VLOOKUP($B29,'평가 내역 세부자료'!$A$5:$Y$46,20,FALSE) -> 1573 | E29: =SUM(C29:D29) -> 7179 | F29: =VLOOKUP($B29,'평가 내역 세부자료'!$A$5:$Y$46,25,FALSE) -> 720 | G29: =VLOOKUP($B29,'평가 내역 세부자료'!$A$5:$Y$46,21,FALSE) -> 0
B30: 화성 | C30: =VLOOKUP($B30,'평가 내역 세부자료'!$A$5:$Y$46,19,FALSE) -> 3875 | D30: =VLOOKUP($B30,'평가 내역 세부자료'!$A$5:$Y$46,20,FALSE) -> 1087 | E30: =SUM(C30:D30) -> 4962 | F30: =VLOOKUP($B30,'평가 내역 세부자료'!$A$5:$Y$46,25,FALSE) -> 720 | G30: =VLOOKUP($B30,'평가 내역 세부자료'!$A$5:$Y$46,21,FALSE) -> 0
B31: 파주 | C31: =VLOOKUP($B31,'평가 내역 세부자료'!$A$5:$Y$46,19,FALSE) -> 3087 | D31: =VLOOKUP($B31,'평가 내역 세부자료'!$A$5:$Y$46,20,FALSE) -> 866 | E31: =SUM(C31:D31) -> 3953 | F31: =VLOOKUP($B31,'평가 내역 세부자료'!$A$5:$Y$46,25,FALSE) -> 720 | G31: =VLOOKUP($B31,'평가 내역 세부자료'!$A$5:$Y$46,21,FALSE) -> 0
B32: 김포 | C32: =VLOOKUP($B32,'평가 내역 세부자료'!$A$5:$Y$46,19,FALSE) -> 2652 | D32: =VLOOKUP($B32,'평가 내역 세부자료'!$A$5:$Y$46,20,FALSE) -> 744 | E32: =SUM(C32:D32) -> 3396 | F32: =VLOOKUP($B32,'평가 내역 세부자료'!$A$5:$Y$46,25,FALSE) -> 720 | G32: =VLOOKUP($B32,'평가 내역 세부자료'!$A$5:$Y$46,21,FALSE) -> 0
B33: 이천 | C33: =VLOOKUP($B33,'평가 내역 세부자료'!$A$5:$Y$46,19,FALSE) -> 1765 | D33: =VLOOKUP($B33,'평가 내역 세부자료'!$A$5:$Y$46,20,FALSE) -> 495 | E33: =SUM(C33:D33) -> 2260 | F33: =VLOOKUP($B33,'평가 내역 세부자료'!$A$5:$Y$46,25,FALSE) -> 720 | G33: =VLOOKUP($B33,'평가 내역 세부자료'!$A$5:$Y$46,21,FALSE) -> 0
B34: 안성 | C34: =VLOOKUP($B34,'평가 내역 세부자료'!$A$5:$Y$46,19,FALSE) -> 2174 | D34: =VLOOKUP($B34,'평가 내역 세부자료'!$A$5:$Y$46,20,FALSE) -> 610 | E34: =SUM(C34:D34) -> 2784 | F34: =VLOOKUP($B34,'평가 내역 세부자료'!$A$5:$Y$46,25,FALSE) -> 1000 | G34: =VLOOKUP($B34,'평가 내역 세부자료'!$A$5:$Y$46,21,FALSE) -> 0 | H34: 연계우수국 지원
B35: 포천 | C35: =VLOOKUP($B35,'평가 내역 세부자료'!$A$5:$Y$46,19,FALSE) -> 2307 | D35: =VLOOKUP($B35,'평가 내역 세부자료'!$A$5:$Y$46,20,FALSE) -> 647 | E35: =SUM(C35:D35) -> 2954 | F35: =VLOOKUP($B35,'평가 내역 세부자료'!$A$5:$Y$46,25,FALSE) -> 1700 | G35: =VLOOKUP($B35,'평가 내역 세부자료'!$A$5:$Y$46,21,FALSE) -> 0 | H35: 연계우수, 법인예금
B36: 경기광주 | C36: =VLOOKUP($B36,'평가 내역 세부자료'!$A$5:$Y$46,19,FALSE) -> 2010 | D36: =VLOOKUP($B36,'평가 내역 세부자료'!$A$5:$Y$46,20,FALSE) -> 564 | E36: =SUM(C36:D36) -> 2574 | F36: =VLOOKUP($B36,'평가 내역 세부자료'!$A$5:$Y$46,25,FALSE) -> 720 | G36: =VLOOKUP($B36,'평가 내역 세부자료'!$A$5:$Y$46,21,FALSE) -> 0
B37: 구리 | C37: =VLOOKUP($B37,'평가 내역 세부자료'!$A$5:$Y$46,19,FALSE) -> 1824 | D37: =VLOOKUP($B37,'평가 내역 세부자료'!$A$5:$Y$46,20,FALSE) -> 512 | E37: =SUM(C37:D37) -> 2336 | F37: =VLOOKUP($B37,'평가 내역 세부자료'!$A$5:$Y$46,25,FALSE) -> 720 | G37: =VLOOKUP($B37,'평가 내역 세부자료'!$A$5:$Y$46,21,FALSE) -> 0
B38: 강화 | C38: =VLOOKUP($B38,'평가 내역 세부자료'!$A$5:$Y$46,19,FALSE) -> 1357 | D38: =VLOOKUP($B38,'평가 내역 세부자료'!$A$5:$Y$46,20,FALSE) -> 381 | E38: =SUM(C38:D38) -> 1738 | F38: =VLOOKUP($B38,'평가 내역 세부자료'!$A$5:$Y$46,25,FALSE) -> 700 | G38: =VLOOKUP($B38,'평가 내역 세부자료'!$A$5:$Y$46,21,FALSE) -> 0 | H38: 연계우수국 지원
B39: 가평 | C39: =VLOOKUP($B39,'평가 내역 세부자료'!$A$5:$Y$46,19,FALSE) -> 1330 | D39: =VLOOKUP($B39,'평가 내역 세부자료'!$A$5:$Y$46,20,FALSE) -> 373 | E39: =SUM(C39:D39) -> 1703 | F39: =VLOOKUP($B39,'평가 내역 세부자료'!$A$5:$Y$46,25,FALSE) -> 550 | G39: =VLOOKUP($B39,'평가 내역 세부자료'!$A$5:$Y$46,21,FALSE) -> 0
B40: 양평 | C40: =VLOOKUP($B40,'평가 내역 세부자료'!$A$5:$Y$46,19,FALSE) -> 1739 | D40: =VLOOKUP($B40,'평가 내역 세부자료'!$A$5:$Y$46,20,FALSE) -> 488 | E40: =SUM(C40:D40) -> 2227 | F40: =VLOOKUP($B40,'평가 내역 세부자료'!$A$5:$Y$46,25,FALSE) -> 550 | G40: =VLOOKUP($B40,'평가 내역 세부자료'!$A$5:$Y$46,21,FALSE) -> 0
B41: 여주 | C41: =VLOOKUP($B41,'평가 내역 세부자료'!$A$5:$Y$46,19,FALSE) -> 1421 | D41: =VLOOKUP($B41,'평가 내역 세부자료'!$A$5:$Y$46,20,FALSE) -> 399 | E41: =SUM(C41:D41) -> 1820 | F41: =VLOOKUP($B41,'평가 내역 세부자료'!$A$5:$Y$46,25,FALSE) -> 550 | G41: =VLOOKUP($B41,'평가 내역 세부자료'!$A$5:$Y$46,21,FALSE) -> 0
B42: 동두천 | C42: =VLOOKUP($B42,'평가 내역 세부자료'!$A$5:$Y$46,19,FALSE) -> 1480 | D42: =VLOOKUP($B42,'평가 내역 세부자료'!$A$5:$Y$46,20,FALSE) -> 415 | E42: =SUM(C42:D42) -> 1895 | F42: =VLOOKUP($B42,'평가 내역 세부자료'!$A$5:$Y$46,25,FALSE) -> 700 | G42: =VLOOKUP($B42,'평가 내역 세부자료'!$A$5:$Y$46,21,FALSE) -> 0 | H42: 연계우수국 지원
B43: 연천 | C43: =VLOOKUP($B43,'평가 내역 세부자료'!$A$5:$Y$46,19,FALSE) -> 1106 | D43: =VLOOKUP($B43,'평가 내역 세부자료'!$A$5:$Y$46,20,FALSE) -> 310 | E43: =SUM(C43:D43) -> 1416 | F43: =VLOOKUP($B43,'평가 내역 세부자료'!$A$5:$Y$46,25,FALSE) -> 550 | G43: =VLOOKUP($B43,'평가 내역 세부자료'!$A$5:$Y$46,21,FALSE) -> 0
B44: 백령 | C44: =VLOOKUP($B44,'평가 내역 세부자료'!$A$5:$Y$46,19,FALSE) -> 539 | D44: =VLOOKUP($B44,'평가 내역 세부자료'!$A$5:$Y$46,20,FALSE) -> 151 | E44: =SUM(C44:D44) -> 690 | F44: =VLOOKUP($B44,'평가 내역 세부자료'!$A$5:$Y$46,25,FALSE) -> 700 | G44: =VLOOKUP($B44,'평가 내역 세부자료'!$A$5:$Y$46,21,FALSE) -> 0 | H44: 연계우수국 지원
B45: 오산 | C45: =VLOOKUP($B45,'평가 내역 세부자료'!$A$5:$Y$46,19,FALSE) -> 1589 | D45: =VLOOKUP($B45,'평가 내역 세부자료'!$A$5:$Y$46,20,FALSE) -> 446 | E45: =SUM(C45:D45) -> 2035 | F45: =VLOOKUP($B45,'평가 내역 세부자료'!$A$5:$Y$46,25,FALSE) -> 550 | G45: =VLOOKUP($B45,'평가 내역 세부자료'!$A$5:$Y$46,21,FALSE) -> 0
B46: 하남 | C46: =VLOOKUP($B46,'평가 내역 세부자료'!$A$5:$Y$46,19,FALSE) -> 1301 | D46: =VLOOKUP($B46,'평가 내역 세부자료'!$A$5:$Y$46,20,FALSE) -> 365 | E46: =SUM(C46:D46) -> 1666 | F46: =VLOOKUP($B46,'평가 내역 세부자료'!$A$5:$Y$46,25,FALSE) -> 550 | G46: =VLOOKUP($B46,'평가 내역 세부자료'!$A$5:$Y$46,21,FALSE) -> 0
B47: 합 계 | C47: =SUM(C6:C46) -> 129656 | D47: =SUM(D6:D46) -> 36373 | E47: =SUM(E6:E46) -> 166029 | F47: =SUM(F6:F46) -> 26500 | G47: =SUM(G6:G46) -> 9000

Sheet 평가 내역 세부자료
A1: 총괄국별 예산 배정 내역
X2: (단위 : 백만원, 명, 점, %)
A3: 국 명 | B3: 예금총수신고(10) | F3: 요구불예금수신고(40) | J3: 체크카드(30) | N3: 스마트금융(20) | R3: 합계 (A+B+C+D) | S3: 5231-362-210-01 수용비 (천원) | T3: 5231-362-310-03 포상금 (천원) | U3: 연계실적 우수국 및 우편과 결합마케팅 지원, 고액 법인 유치국 | W3: 고액 법인 유치국 | X3: 기본 배정 | Y3: 5231-361-240-01 업무추진비 소계(천원) (E+F+G)
B4: 목표 | C4: 실적 | D4: 달성율 | E4: 가중치 (10) A | F4: 목표 | G4: 실적 | H4: 달성율 | I4: 가중치 (40) B | J4: 목표 (천원) | K4: 실적 (천원) | L4: 달성율 | M4: 가중치소계 (30) C | N4: 목표 | O4: 실적 | P4: 달성율 | Q4: 가중치소계(20) D | U4: 5231-366-240-01 업무추진비(천원) | V4: 5231-361-240-01 업무추진비(천원)(E) | W4: 5231-361-240-01 업무추진비(천원)(F) | X4: 5231-361-240-01 업무추진비(천원)(G)
A5: 인천 | B5: =VLOOKUP(A5,총수신고!$C$6:$I$45,2,FALSE) -> 317089 | C5: =VLOOKUP(A5,총수신고!$C$6:$I$45,4,FALSE) -> 334123.12 | D5: =(C5/B5)*100 -> 105.37203 | E5: =((B5/$B$46)*50+(C5/$C$46)*50)*10% -> 0.35980238 | F5: =VLOOKUP(A5,총수신고!$M$6:$U$45,2,FALSE) -> 73235 | G5: =VLOOKUP(A5,총수신고!$M$6:$U$45,4,FALSE) -> 69581.869 | H5: =(G5/F5)*100 -> 95.011769 | I5: =((F5/$F$46)*50+(G5/$G$46)*50)*40% -> 1.4530515 | J5: =VLOOKUP(A5,체크카드!$A$5:$D$44,2,FALSE) -> 302599 | K5: =VLOOKUP(A5,체크카드!$A$5:$D$44,3,FALSE) -> 354989.91 | L5: =(K5/J5)*100 -> 117.31364 | M5: =((J5/$J$46)*50+(K5/$K$46)*50)*30% -> 1.3817781 | N5: =VLOOKUP(A5,스마트금융!$A$5:$D$45,2,FALSE) -> 10583 | O5: =VLOOKUP(A5,스마트금융!$A$5:$D$45,3,FALSE) -> 10699 | P5: =(O5/N5)*100 -> 101.0961 | Q5: =((N5/$N$46)*50+(O5/$O$46)*50)*20% -> 0.75832794 | R5: =SUM(E5,I5,M5,Q5) -> 3.9529599 | S5: =ROUND(129659*R5%,0) -> 5125 | T5: =ROUND(36373*R5%,0) -> 1438 | U5: 1000 | Y5: =SUM(V5:X5) -> 0
A6: 서인천 | B6: =VLOOKUP(A6,총수신고!$C$6:$I$45,2,FALSE) -> 255500 | C6: =VLOOKUP(A6,총수신고!$C$6:$I$45,4,FALSE) -> 242209.65 | D6: =(C6/B6)*100 -> 94.798299 | E6: =((B6/$B$46)*50+(C6/$C$46)*50)*10% -> 0.27554967 | F6: =VLOOKUP(A6,총수신고!$M$6:$U$45,2,FALSE) -> 68038 | G6: =VLOOKUP(A6,총수신고!$M$6:$U$45,4,FALSE) -> 57053.664 | H6: =(G6/F6)*100 -> 83.855586 | I6: =((F6/$F$46)*50+(G6/$G$46)*50)*40% -> 1.2736249 | J6: =VLOOKUP(A6,체크카드!$A$5:$D$44,2,FALSE) -> 238942 | K6: =VLOOKUP(A6,체크카드!$A$5:$D$44,3,FALSE) -> 204388.24 | L6: =(K6/J6)*100 -> 85.538852 | M6: =((J6/$J$46)*50+(K6/$K$46)*50)*30% -> 0.92042799 | N6: =VLOOKUP(A6,스마트금융!$A$5:$D$45,2,FALSE) -> 7626 | O6: =VLOOKUP(A6,스마트금융!$A$5:$D$45,3,FALSE) -> 7768 | P6: =(O6/N6)*100 -> 101.86205 | Q6: =((N6/$N$46)*50+(O6/$O$46)*50)*20% -> 0.54850837 | R6: =SUM(E6,I6,M6,Q6) -> 3.0181109 | S6: =ROUND(129659*R6%,0) -> 3913 | T6: =ROUND(36373*R6%,0) -> 1098 | V6: 1000 | Y6: =SUM(V6:X6) -> 1000
A7: 인천계양 | B7: =VLOOKUP(A7,총수신고!$C$6:$I$45,2,FALSE) -> 161565 | C7: =VLOOKUP(A7,총수신고!$C$6:$I$45,4,FALSE) -> 175811.98 | D7: =(C7/B7)*100 -> 108.81811 | E7: =((B7/$B$46)*50+(C7/$C$46)*50)*10% -> 0.18628951 | F7: =VLOOKUP(A7,총수신고!$M$6:$U$45,2,FALSE) -> 37301 | G7: =VLOOKUP(A7,총수신고!$M$6:$U$45,4,FALSE) -> 39480.169 | H7: =(G7/F7)*100 -> 105.84212 | I7: =((F7/$F$46)*50+(G7/$G$46)*50)*40% -> 0.78070291 | J7: =VLOOKUP(A7,체크카드!$A$5:$D$44,2,FALSE) -> 166288 | K7: =VLOOKUP(A7,체크카드!$A$5:$D$44,3,FALSE) -> 146374.67 | L7: =(K7/J7)*100 -> 88.024793 | M7: =((J7/$J$46)*50+(K7/$K$46)*50)*30% -> 0.64985013 | N7: =VLOOKUP(A7,스마트금융!$A$5:$D$45,2,FALSE) -> 6068 | O7: =VLOOKUP(A7,스마트금융!$A$5:$D$45,3,FALSE) -> 6122 | P7: =(O7/N7)*100 -> 100.88991 | Q7: =((N7/$N$46)*50+(O7/$O$46)*50)*20% -> 0.43436197 | R7: =SUM(E7,I7,M7,Q7) -> 2.0512045 | S7: =ROUND(129659*R7%,0) -> 2660 | T7: =ROUND(36373*R7%,0) -> 746 | X7: 720 | Y7: =SUM(V7:X7) -> 720
A8: 남인천 | B8: =VLOOKUP(A8,총수신고!$C$6:$I$45,2,FALSE) -> 451356 | C8: =VLOOKUP(A8,총수신고!$C$6:$I$45,4,FALSE) -> 473779.45 | D8: =(C8/B8)*100 -> 104.96802 | E8: =((B8/$B$46)*50+(C8/$C$46)*50)*10% -> 0.51118599 | F8: =VLOOKUP(A8,총수신고!$M$6:$U$45,2,FALSE) -> 119184 | G8: =VLOOKUP(A8,총수신고!$M$6:$U$45,4,FALSE) -> 125326.66 | H8: =(G8/F8)*100 -> 105.15393 | I8: =((F8/$F$46)*50+(G8/$G$46)*50)*40% -> 2.4862524 | J8: =VLOOKUP(A8,체크카드!$A$5:$D$44,2,FALSE) -> 471032 | K8: =VLOOKUP(A8,체크카드!$A$5:$D$44,3,FALSE) -> 389444.2 | L8: =(K8/J8)*100 -> 82.678926 | M8: =((J8/$J$46)*50+(K8/$K$46)*50)*30% -> 1.7841794 | N8: =VLOOKUP(A8,스마트금융!$A$5:$D$45,2,FALSE) -> 17231 | O8: =VLOOKUP(A8,스마트금융!$A$5:$D$45,3,FALSE) -> 17499 | P8: =(O8/N8)*100 -> 101.55534 | Q8: =((N8/$N$46)*50+(O8/$O$46)*50)*20% -> 1.23749 | R8: =SUM(E8,I8,M8,Q8) -> 6.0191078 | S8: =ROUND(129659*R8%,0) -> 7804 | T8: =ROUND(36373*R8%,0) -> 2189 | U8: 1000 | V8: 1000 | Y8: =SUM(V8:X8) -> 1000
A9: 의정부 | B9: =VLOOKUP(A9,총수신고!$C$6:$I$45,2,FALSE) -> 265241 | C9: =VLOOKUP(A9,총수신고!$C$6:$I$45,4,FALSE) -> 281096.6 | D9: =(C9/B9)*100 -> 105.97781 | E9: =((B9/$B$46)*50+(C9/$C$46)*50)*10% -> 0.30182471 | F9: =VLOOKUP(A9,총수신고!$M$6:$U$45,2,FALSE) -> 62839 | G9: =VLOOKUP(A9,총수신고!$M$6:$U$45,4,FALSE) -> 63673.542 | H9: =(G9/F9)*100 -> 101.32806 | I9: =((F9/$F$46)*50+(G9/$G$46)*50)*40% -> 1.2866898 | J9: =VLOOKUP(A9,체크카드!$A$5:$D$44,2,FALSE) -> 253357 | K9: =VLOOKUP(A9,체크카드!$A$5:$D$44,3,FALSE) -> 205225.42 | L9: =(K9/J9)*100 -> 81.002468 | M9: =((J9/$J$46)*50+(K9/$K$46)*50)*30% -> 0.95012018 | N9: =VLOOKUP(A9,스마트금융!$A$5:$D$45,2,FALSE) -> 9262 | O9: =VLOOKUP(A9,스마트금융!$A$5:$D$45,3,FALSE) -> 9265 | P9: =(O9/N9)*100 -> 100.03239 | Q9: =((N9/$N$46)*50+(O9/$O$46)*50)*20% -> 0.66018814 | R9: =SUM(E9,I9,M9,Q9) -> 3.1988228 | S9: =ROUND(129659*R9%,0) -> 4148 | T9: =ROUND(36373*R9%,0) -> 1164 | X9: 720 | Y9: =SUM(V9:X9) -> 720
A10: 부평 | B10: =VLOOKUP(A10,총수신고!$C$6:$I$45,2,FALSE) -> 335902 | C10: =VLOOKUP(A10,총수신고!$C$6:$I$45,4,FALSE) -> 355282.66 | D10: =(C10/B10)*100 -> 105.76974 | E10: =((B10/$B$46)*50+(C10/$C$46)*50)*10% -> 0.38186002 | F10: =VLOOKUP(A10,총수신고!$M$6:$U$45,2,FALSE) -> 82878 | G10: =VLOOKUP(A10,총수신고!$M$6:$U$45,4,FALSE) -> 85812.833 | H10: =(G10/F10)*100 -> 103.54115 | I10: =((F10/$F$46)*50+(G10/$G$46)*50)*40% -> 1.7154482 | J10: =VLOOKUP(A10,체크카드!$A$5:$D$44,2,FALSE) -> 290833 | K10: =VLOOKUP(A10,체크카드!$A$5:$D$44,3,FALSE) -> 243526.58 | L10: =(K10/J10)*100 -> 83.734165 | M10: =((J10/$J$46)*50+(K10/$K$46)*50)*30% -> 1.1085188 | N10: =VLOOKUP(A10,스마트금융!$A$5:$D$45,2,FALSE) -> 10878 | O10: =VLOOKUP(A10,스마트금융!$A$5:$D$45,3,FALSE) -> 11107 | P10: =(O10/N10)*100 -> 102.10517 | Q10: =((N10/$N$46)*50+(O10/$O$46)*50)*20% -> 0.78334701 | R10: =SUM(E10,I10,M10,Q10) -> 3.989174 | S10: =ROUND(129659*R10%,0) -> 5172 | T10: =ROUND(36373*R10%,0) -> 1451 | X10: 720 | Y10: =SUM(V10:X10) -> 720
A11: 수원 | B11: =VLOOKUP(A11,총수신고!$C$6:$I$45,2,FALSE) -> 352943 | C11: =VLOOKUP(A11,총수신고!$C$6:$I$45,4,FALSE) -> 371832.44 | D11: =(C11/B11)*100 -> 105.35198 | E11: =((B11/$B$46)*50+(C11/$C$46)*50)*10% -> 0.40044844 | F11: =VLOOKUP(A11,총수신고!$M$6:$U$45,2,FALSE) -> 68028 | G11: =VLOOKUP(A11,총수신고!$M$6:$U$45,4,FALSE) -> 71725.208 | H11: =(G11/F11)*100 -> 105.43483 | I11: =((F11/$F$46)*50+(G11/$G$46)*50)*40% -> 1.4210276 | J11: =VLOOKUP(A11,체크카드!$A$5:$D$44,2,FALSE) -> 243728 | K11: =VLOOKUP(A11,체크카드!$A$5:$D$44,3,FALSE) -> 209987.22 | L11: =(K11/J11)*100 -> 86.156379 | M11: =((J11/$J$46)*50+(K11/$K$46)*50)*30% -> 0.94224743 | N11: =VLOOKUP(A11,스마트금융!$A$5:$D$45,2,FALSE) -> 10330 | O11: =VLOOKUP(A11,스마트금융!$A$5:$D$45,3,FALSE) -> 10407 | P11: =(O11/N11)*100 -> 100.7454 | Q11: =((N11/$N$46)*50+(O11/$O$46)*50)*20% -> 0.73891836 | R11: =SUM(E11,I11,M11,Q11) -> 3.5026419 | S11: =ROUND(129659*R11%,0) -> 4541 | T11: =ROUND(36373*R11%,0) -> 1274 | X11: 720 | Y11: =SUM(V11:X11) -> 720
A12: 동수원 | B12: =VLOOKUP(A12,총수신고!$C$6:$I$45,2,FALSE) -> 281761 | C12: =VLOOKUP(A12,총수신고!$C$6:$I$45,4,FALSE) -> 302743.38 | D12: =(C12/B12)*100 -> 107.44687 | E12: =((B12/$B$46)*50+(C12/$C$46)*50)*10% -> 0.32282455 | F12: =VLOOKUP(A12,총수신고!$M$6:$U$45,2,FALSE) -> 56604 | G12: =VLOOKUP(A12,총수신고!$M$6:$U$45,4,FALSE) -> 57943.475 | H12: =(G12/F12)*100 -> 102.3664 | I12: =((F12/$F$46)*50+(G12/$G$46)*50)*40% -> 1.1649311 | J12: =VLOOKUP(A12,체크카드!$A$5:$D$44,2,FALSE) -> 190112 | K12: =VLOOKUP(A12,체크카드!$A$5:$D$44,3,FALSE) -> 166320.07 | L12: =(K12/J12)*100 -> 87.485308 | M12: =((J12/$J$46)*50+(K12/$K$46)*50)*30% -> 0.74064832 | N12: =VLOOKUP(A12,스마트금융!$A$5:$D$45,2,FALSE) -> 9146 | O12: =VLOOKUP(A12,스마트금융!$A$5:$D$45,3,FALSE) -> 9265 | P12: =(O12/N12)*100 -> 101.30112 | Q12: =((N12/$N$46)*50+(O12/$O$46)*50)*20% -> 0.65602222 | R12: =SUM(E12,I12,M12,Q12) -> 2.8844262 | S12: =ROUND(129659*R12%,0) -> 3740 | T12: =ROUND(36373*R12%,0) -> 1049 | V12: 1000 | Y12: =SUM(V12:X12) -> 1000
A13: 서수원 | B13: =VLOOKUP(A13,총수신고!$C$6:$I$45,2,FALSE) -> 114428 | C13: =VLOOKUP(A13,총수신고!$C$6:$I$45,4,FALSE) -> 136088.02 | D13: =(C13/B13)*100 -> 118.92895 | E13: =((B13/$B$46)*50+(C13/$C$46)*50)*10% -> 0.13809195 | F13: =VLOOKUP(A13,총수신고!$M$6:$U$45,2,FALSE) -> 32723 | G13: =VLOOKUP(A13,총수신고!$M$6:$U$45,4,FALSE) -> 33721.868 | H13: =(G13/F13)*100 -> 103.05249 | I13: =((F13/$F$46)*50+(G13/$G$46)*50)*40% -> 0.67570857 | J13: =VLOOKUP(A13,체크카드!$A$5:$D$44,2,FALSE) -> 116544 | K13: =VLOOKUP(A13,체크카드!$A$5:$D$44,3,FALSE) -> 99366.842 | L13: =(K13/J13)*100 -> 85.261225 | M13: =((J13/$J$46)*50+(K13/$K$46)*50)*30% -> 0.44821158 | N13: =VLOOKUP(A13,스마트금융!$A$5:$D$45,2,FALSE) -> 3319 | O13: =VLOOKUP(A13,스마트금융!$A$5:$D$45,3,FALSE) -> 3384 | P13: =(O13/N13)*100 -> 101.95842 | Q13: =((N13/$N$46)*50+(O13/$O$46)*50)*20% -> 0.23883578 | R13: =SUM(E13,I13,M13,Q13) -> 1.5008479 | S13: =ROUND(129659*R13%,0) -> 1946 | T13: =ROUND(36373*R13%,0) -> 546 | X13: 720 | Y13: =SUM(V13:X13) -> 720
A14: 군포 | B14: =VLOOKUP(A14,총수신고!$C$6:$I$45,2,FALSE) -> 247075 | C14: =VLOOKUP(A14,총수신고!$C$6:$I$45,4,FALSE) -> 267838.96 | D14: =(C14/B14)*100 -> 108.40391 | E14: =((B14/$B$46)*50+(C14/$C$46)*50)*10% -> 0.28434098 | F14: =VLOOKUP(A14,총수신고!$M$6:$U$45,2,FALSE) -> 43423 | G14: =VLOOKUP(A14,총수신고!$M$6:$U$45,4,FALSE) -> 44634.275 | H14: =(G14/F14)*100 -> 102.78948 | I14: =((F14/$F$46)*50+(G14/$G$46)*50)*40% -> 0.89550834 | J14: =VLOOKUP(A14,체크카드!$A$5:$D$44,2,FALSE) -> 147071 | K14: =VLOOKUP(A14,체크카드!$A$5:$D$44,3,FALSE) -> 121101.36 | L14: =(K14/J14)*100 -> 82.342106 | M14: =((J14/$J$46)*50+(K14/$K$46)*50)*30% -> 0.55596338 | N14: =VLOOKUP(A14,스마트금융!$A$5:$D$45,2,FALSE) -> 6589 | O14: =VLOOKUP(A14,스마트금융!$A$5:$D$45,3,FALSE) -> 6704 | P14: =(O14/N14)*100 -> 101.74533 | Q14: =((N14/$N$46)*50+(O14/$O$46)*50)*20% -> 0.47364911 | R14: =SUM(E14,I14,M14,Q14) -> 2.2094618 | S14: =ROUND(129659*R14%,0) -> 2865 | T14: =ROUND(36373*R14%,0) -> 804 | X14: 720 | Y14: =SUM(V14:X14) -> 720
A15: 안양 | B15: =VLOOKUP(A15,총수신고!$C$6:$I$45,2,FALSE) -> 440866 | C15: =VLOOKUP(A15,총수신고!$C$6:$I$45,4,FALSE) -> 467601.12 | D15: =(C15/B15)*100 -> 106.06423 | E15: =((B15/$B$46)*50+(C15/$C$46)*50)*10% -> 0.50187563 | F15: =VLOOKUP(A15,총수신고!$M$6:$U$45,2,FALSE) -> 81033 | G15: =VLOOKUP(A15,총수신고!$M$6:$U$45,4,FALSE) -> 91079.04 | H15: =(G15/F15)*100 -> 112.39747 | I15: =((F15/$F$46)*50+(G15/$G$46)*50)*40% -> 1.7494115 | J15: =VLOOKUP(A15,체크카드!$A$5:$D$44,2,FALSE) -> 200655 | K15: =VLOOKUP(A15,체크카드!$A$5:$D$44,3,FALSE) -> 170384.27 | L15: =(K15/J15)*100 -> 84.914042 | M15: =((J15/$J$46)*50+(K15/$K$46)*50)*30% -> 0.77012448 | N15: =VLOOKUP(A15,스마트금융!$A$5:$D$45,2,FALSE) -> 9960 | O15: =VLOOKUP(A15,스마트금융!$A$5:$D$45,3,FALSE) -> 10152 | P15: =(O15/N15)*100 -> 101.92771 | Q15: =((N15/$N$46)*50+(O15/$O$46)*50)*20% -> 0.71661507 | R15: =SUM(E15,I15,M15,Q15) -> 3.7380267 | S15: =ROUND(129659*R15%,0) -> 4847 | T15: =ROUND(36373*R15%,0) -> 1360 | U15: 2000 | Y15: =SUM(V15:X15) -> 0
A16: 성남 | B16: =VLOOKUP(A16,총수신고!$C$6:$I$45,2,FALSE) -> 354661 | C16: =VLOOKUP(A16,총수신고!$C$6:$I$45,4,FALSE) -> 379665.8 | D16: =(C16/B16)*100 -> 107.05034 | E16: =((B16/$B$46)*50+(C16/$C$46)*50)*10% -> 0.40560101 | F16: =VLOOKUP(A16,총수신고!$M$6:$U$45,2,FALSE) -> 88844 | G16: =VLOOKUP(A16,총수신고!$M$6:$U$45,4,FALSE) -> 91428.829 | H16: =(G16/F16)*100 -> 102.9094 | I16: =((F16/$F$46)*50+(G16/$G$46)*50)*40% -> 1.8332924 | J16: =VLOOKUP(A16,체크카드!$A$5:$D$44,2,FALSE) -> 319800 | K16: =VLOOKUP(A16,체크카드!$A$5:$D$44,3,FALSE) -> 262849.98 | L16: =(K16/J16)*100 -> 82.191989 | M16: =((J16/$J$46)*50+(K16/$K$46)*50)*30% -> 1.2078409 | N16: =VLOOKUP(A16,스마트금융!$A$5:$D$45,2,FALSE) -> 10603 | O16: =VLOOKUP(A16,스마트금융!$A$5:$D$45,3,FALSE) -> 10717 | P16: =(O16/N16)*100 -> 101.07517 | Q16: =((N16/$N$46)*50+(O16/$O$46)*50)*20% -> 0.75968258 | R16: =SUM(E16,I16,M16,Q16) -> 4.2064169 | S16: =ROUND(129659*R16%,0) -> 5454 | T16: =ROUND(36373*R16%,0) -> 1530 | U16: 1000 | Y16: =SUM(V16:X16) -> 0
A17: 성남분당 | B17: =VLOOKUP(A17,총수신고!$C$6:$I$45,2,FALSE) -> 676977 | C17: =VLOOKUP(A17,총수신고!$C$6:$I$45,4,FALSE) -> 836299.93 | D17: =(C17/B17)*100 -> 123.53447 | E17: =((B17/$B$46)*50+(C17/$C$46)*50)*10% -> 0.83355825 | F17: =VLOOKUP(A17,총수신고!$M$6:$U$45,2,FALSE) -> 70406 | G17: =VLOOKUP(A17,총수신고!$M$6:$U$45,4,FALSE) -> 79192.346 | H17: =(G17/F17)*100 -> 112.47954 | I17: =((F17/$F$46)*50+(G17/$G$46)*50)*40% -> 1.5205674 | J17: =VLOOKUP(A17,체크카드!$A$5:$D$44,2,FALSE) -> 169310 | K17: =VLOOKUP(A17,체크카드!$A$5:$D$44,3,FALSE) -> 148377.45 | L17: =(K17/J17)*100 -> 87.636552 | M17: =((J17/$J$46)*50+(K17/$K$46)*50)*30% -> 0.66018242 | N17: =VLOOKUP(A17,스마트금융!$A$5:$D$45,2,FALSE) -> 7629 | O17: =VLOOKUP(A17,스마트금융!$A$5:$D$45,3,FALSE) -> 7710 | P17: =(O17/N17)*100 -> 101.06174 | Q17: =((N17/$N$46)*50+(O17/$O$46)*50)*20% -> 0.54656553 | R17: =SUM(E17,I17,M17,Q17) -> 3.5608737 | S17: =ROUND(129659*R17%,0) -> 4617 | T17: =ROUND(36373*R17%,0) -> 1295 | U17: 1000 | Y17: =SUM(V17:X17) -> 0
A18: 부천 | B18: =VLOOKUP(A18,총수신고!$C$6:$I$45,2,FALSE) -> 434890 | C18: =VLOOKUP(A18,총수신고!$C$6:$I$45,4,FALSE) -> 466136.83 | D18: =(C18/B18)*100 -> 107.185 | E18: =((B18/$B$46)*50+(C18/$C$46)*50)*10% -> 0.49766474 | F18: =VLOOKUP(A18,총수신고!$M$6:$U$45,2,FALSE) -> 103016 | G18: =VLOOKUP(A18,총수신고!$M$6:$U$45,4,FALSE) -> 106884.89 | H18: =(G18/F18)*100 -> 103.75562 | I18: =((F18/$F$46)*50+(G18/$G$46)*50)*40% -> 2.1344955 | J18: =VLOOKUP(A18,체크카드!$A$5:$D$44,2,FALSE) -> 375649 | K18: =VLOOKUP(A18,체크카드!$A$5:$D$44,3,FALSE) -> 315312.06 | L18: =(K18/J18)*100 -> 83.937946 | M18: =((J18/$J$46)*50+(K18/$K$46)*50)*30% -> 1.4335183 | N18: =VLOOKUP(A18,스마트금융!$A$5:$D$45,2,FALSE) -> 15679 | O18: =VLOOKUP(A18,스마트금융!$A$5:$D$45,3,FALSE) -> 16087 | P18: =(O18/N18)*100 -> 102.60221 | Q18: =((N18/$N$46)*50+(O18/$O$46)*50)*20% -> 1.1318321 | R18: =SUM(E18,I18,M18,Q18) -> 5.1975105 | S18: =ROUND(129659*R18%,0) -> 6739 | T18: =ROUND(36373*R18%,0) -> 1890 | U18: 2000 | Y18: =SUM(V18:X18) -> 0
A19: 안산 | B19: =VLOOKUP(A19,총수신고!$C$6:$I$45,2,FALSE) -> 311482 | C19: =VLOOKUP(A19,총수신고!$C$6:$I$45,4,FALSE) -> 333651.89 | D19: =(C19/B19)*100 -> 107.11755 | E19: =((B19/$B$46)*50+(C19/$C$46)*50)*10% -> 0.35633154 | F19: =VLOOKUP(A19,총수신고!$M$6:$U$45,2,FALSE) -> 88189 | G19: =VLOOKUP(A19,총수신고!$M$6:$U$45,4,FALSE) -> 90133.833 | H19: =(G19/F19)*100 -> 102.2053 | I19: =((F19/$F$46)*50+(G19/$G$46)*50)*40% -> 1.8135337 | J19: =VLOOKUP(A19,체크카드!$A$5:$D$44,2,FALSE) -> 492000 | K19: =VLOOKUP(A19,체크카드!$A$5:$D$44,3,FALSE) -> 467915.04 | L19: =(K19/J19)*100 -> 95.104682 | M19: =((J19/$J$46)*50+(K19/$K$46)*50)*30% -> 2.0010276 | N19: =VLOOKUP(A19,스마트금융!$A$5:$D$45,2,FALSE) -> 14498 | O19: =VLOOKUP(A19,스마트금융!$A$5:$D$45,3,FALSE) -> 14580 | P19: =(O19/N19)*100 -> 100.5656 | Q19: =((N19/$N$46)*50+(O19/$O$46)*50)*20% -> 1.0361392 | R19: =SUM(E19,I19,M19,Q19) -> 5.2070321 | S19: =ROUND(129659*R19%,0) -> 6751 | T19: =ROUND(36373*R19%,0) -> 1894 | X19: 720 | Y19: =SUM(V19:X19) -> 720
A20: 고양일산 | B20: =VLOOKUP(A20,총수신고!$C$6:$I$45,2,FALSE) -> 294194 | C20: =VLOOKUP(A20,총수신고!$C$6:$I$45,4,FALSE) -> 320107.5 | D20: =(C20/B20)*100 -> 108.8083 | E20: =((B20/$B$46)*50+(C20/$C$46)*50)*10% -> 0.33919957 | F20: =VLOOKUP(A20,총수신고!$M$6:$U$45,2,FALSE) -> 50574 | G20: =VLOOKUP(A20,총수신고!$M$6:$U$45,4,FALSE) -> 54529.498 | H20: =(G20/F20)*100 -> 107.82121 | I20: =((F20/$F$46)*50+(G20/$G$46)*50)*40% -> 1.0685673 | J20: =VLOOKUP(A20,체크카드!$A$5:$D$44,2,FALSE) -> 210662 | K20: =VLOOKUP(A20,체크카드!$A$5:$D$44,3,FALSE) -> 166284.07 | L20: =(K20/J20)*100 -> 78.934059 | M20: =((J20/$J$46)*50+(K20/$K$46)*50)*30% -> 0.7802137 | N20: =VLOOKUP(A20,스마트금융!$A$5:$D$45,2,FALSE) -> 8647 | O20: =VLOOKUP(A20,스마트금융!$A$5:$D$45,3,FALSE) -> 8810 | P20: =(O20/N20)*100 -> 101.88505 | Q20: =((N20/$N$46)*50+(O20/$O$46)*50)*20% -> 0.62201521 | R20: =SUM(E20,I20,M20,Q20) -> 2.8099957 | S20: =ROUND(129659*R20%,0) -> 3643 | T20: =ROUND(36373*R20%,0) -> 1022 | U20: 1000 | Y20: =SUM(V20:X20) -> 0
A21: 고양덕양 | B21: =VLOOKUP(A21,총수신고!$C$6:$I$45,2,FALSE) -> 245473 | C21: =VLOOKUP(A21,총수신고!$C$6:$I$45,4,FALSE) -> 264922.56 | D21: =(C21/B21)*100 -> 107.9233 | E21: =((B21/$B$46)*50+(C21/$C$46)*50)*10% -> 0.28186993 | F21: =VLOOKUP(A21,총수신고!$M$6:$U$45,2,FALSE) -> 51645 | G21: =VLOOKUP(A21,총수신고!$M$6:$U$45,4,FALSE) -> 51221.427 | H21: =(G21/F21)*100 -> 99.179837 | I21: =((F21/$F$46)*50+(G21/$G$46)*50)*40% -> 1.0463275 | J21: =VLOOKUP(A21,체크카드!$A$5:$D$44,2,FALSE) -> 189351 | K21: =VLOOKUP(A21,체크카드!$A$5:$D$44,3,FALSE) -> 158718 | L21: =(K21/J21)*100 -> 83.82211 | M21: =((J21/$J$46)*50+(K21/$K$46)*50)*30% -> 0.72209139 | N21: =VLOOKUP(A21,스마트금융!$A$5:$D$45,2,FALSE) -> 6985 | O21: =VLOOKUP(A21,스마트금융!$A$5:$D$45,3,FALSE) -> 7073 | P21: =(O21/N21)*100 -> 101.25984 | Q21: =((N21/$N$46)*50+(O21/$O$46)*50)*20% -> 0.50091657 | R21: =SUM(E21,I21,M21,Q21) -> 2.5512054 | S21: =ROUND(129659*R21%,0) -> 3308 | T21: =ROUND(36373*R21%,0) -> 928 | X21: 720 | Y21: =SUM(V21:X21) -> 720
A22: 시흥 | B22: =VLOOKUP(A22,총수신고!$C$6:$I$45,2,FALSE) -> 147268 | C22: =VLOOKUP(A22,총수신고!$C$6:$I$45,4,FALSE) -> 152010.86 | D22: =(C22/B22)*100 -> 103.22056 | E22: =((B22/$B$46)*50+(C22/$C$46)*50)*10% -> 0.16542068 | F22: =VLOOKUP(A22,총수신고!$M$6:$U$45,2,FALSE) -> 48945 | G22: =VLOOKUP(A22,총수신고!$M$6:$U$45,4,FALSE) -> 47886.808 | H22: =(G22/F22)*100 -> 97.837997 | I22: =((F22/$F$46)*50+(G22/$G$46)*50)*40% -> 0.98502246 | J22: =VLOOKUP(A22,체크카드!$A$5:$D$44,2,FALSE) -> 273983 | K22: =VLOOKUP(A22,체크카드!$A$5:$D$44,3,FALSE) -> 216547.3 | L22: =(K22/J22)*100 -> 79.036766 | M22: =((J22/$J$46)*50+(K22/$K$46)*50)*30% -> 1.0153637 | N22: =VLOOKUP(A22,스마트금융!$A$5:$D$45,2,FALSE) -> 8275 | O22: =VLOOKUP(A22,스마트금융!$A$5:$D$45,3,FALSE) -> 8363 | P22: =(O22/N22)*100 -> 101.06344 | Q22: =((N22/$N$46)*50+(O22/$O$46)*50)*20% -> 0.592852 | R22: =SUM(E22,I22,M22,Q22) -> 2.7586588 | S22: =ROUND(129659*R22%,0) -> 3577 | T22: =ROUND(36373*R22%,0) -> 1003 | X22: 720 | Y22: =SUM(V22:X22) -> 720
A23: 광명 | B23: =VLOOKUP(A23,총수신고!$C$6:$I$45,2,FALSE) -> 215956 | C23: =VLOOKUP(A23,총수신고!$C$6:$I$45,4,FALSE) -> 227777.08 | D23: =(C23/B23)*100 -> 105.47384 | E23: =((B23/$B$46)*50+(C23/$C$46)*50)*10% -> 0.24516321 | F23: =VLOOKUP(A23,총수신고!$M$6:$U$45,2,FALSE) -> 47487 | G23: =VLOOKUP(A23,총수신고!$M$6:$U$45,4,FALSE) -> 46715.434 | H23: =(G23/F23)*100 -> 98.375206 | I23: =((F23/$F$46)*50+(G23/$G$46)*50)*40% -> 0.95824487 | J23: =VLOOKUP(A23,체크카드!$A$5:$D$44,2,FALSE) -> 146150 | K23: =VLOOKUP(A23,체크카드!$A$5:$D$44,3,FALSE) -> 142477.85 | L23: =(K23/J23)*100 -> 97.48741 | M23: =((J23/$J$46)*50+(K23/$K$46)*50)*30% -> 0.60223898 | N23: =VLOOKUP(A23,스마트금융!$A$5:$D$45,2,FALSE) -> 6595 | O23: =VLOOKUP(A23,스마트금융!$A$5:$D$45,3,FALSE) -> 6682 | P23: =(O23/N23)*100 -> 101.31918 | Q23: =((N23/$N$46)*50+(O23/$O$46)*50)*20% -> 0.47308679 | R23: =SUM(E23,I23,M23,Q23) -> 2.2787338 | S23: =ROUND(129659*R23%,0) -> 2955 | T23: =ROUND(36373*R23%,0) -> 829 | X23: 720 | Y23: =SUM(V23:X23) -> 720
A24: 용인수지 | B24: =VLOOKUP(A24,총수신고!$C$6:$I$45,2,FALSE) -> 288449 | C24: =VLOOKUP(A24,총수신고!$C$6:$I$45,4,FALSE) -> 307367.7 | D24: =(C24/B24)*100 -> 106.55877 | E24: =((B24/$B$46)*50+(C24/$C$46)*50)*10% -> 0.3291249 | F24: =VLOOKUP(A24,총수신고!$M$6:$U$45,2,FALSE) -> 35050 | G24: =VLOOKUP(A24,총수신고!$M$6:$U$45,4,FALSE) -> 39599.168 | H24: =(G24/F24)*100 -> 112.97908 | I24: =((F24/$F$46)*50+(G24/$G$46)*50)*40% -> 0.75873968 | J24: =VLOOKUP(A24,체크카드!$A$5:$D$44,2,FALSE) -> 137370 | K24: =VLOOKUP(A24,체크카드!$A$5:$D$44,3,FALSE) -> 112152.47 | L24: =(K24/J24)*100 -> 81.64262 | M24: =((J24/$J$46)*50+(K24/$K$46)*50)*30% -> 0.5171313 | N24: =VLOOKUP(A24,스마트금융!$A$5:$D$45,2,FALSE) -> 7267 | O24: =VLOOKUP(A24,스마트금융!$A$5:$D$45,3,FALSE) -> 7364 | P24: =(O24/N24)*100 -> 101.3348 | Q24: =((N24/$N$46)*50+(O24/$O$46)*50)*20% -> 0.52133228 | R24: =SUM(E24,I24,M24,Q24) -> 2.1263282 | S24: =ROUND(129659*R24%,0) -> 2757 | T24: =ROUND(36373*R24%,0) -> 773 | V24: 1000 | Y24: =SUM(V24:X24) -> 1000
A25: 용인 | B25: =VLOOKUP(A25,총수신고!$C$6:$I$45,2,FALSE) -> 173602 | C25: =VLOOKUP(A25,총수신고!$C$6:$I$45,4,FALSE) -> 183258.35 | D25: =(C25/B25)*100 -> 105.56235 | E25: =((B25/$B$46)*50+(C25/$C$46)*50)*10% -> 0.19716271 | F25: =VLOOKUP(A25,총수신고!$M$6:$U$45,2,FALSE) -> 39956 | G25: =VLOOKUP(A25,총수신고!$M$6:$U$45,4,FALSE) -> 39991.797 | H25: =(G25/F25)*100 -> 100.08959 | I25: =((F25/$F$46)*50+(G25/$G$46)*50)*40% -> 0.81316296 | J25: =VLOOKUP(A25,체크카드!$A$5:$D$44,2,FALSE) -> 216281 | K25: =VLOOKUP(A25,체크카드!$A$5:$D$44,3,FALSE) -> 184194.84 | L25: =(K25/J25)*100 -> 85.164595 | M25: =((J25/$J$46)*50+(K25/$K$46)*50)*30% -> 0.83131603 | N25: =VLOOKUP(A25,스마트금융!$A$5:$D$45,2,FALSE) -> 8763 | O25: =VLOOKUP(A25,스마트금융!$A$5:$D$45,3,FALSE) -> 8912 | P25: =(O25/N25)*100 -> 101.70033 | Q25: =((N25/$N$46)*50+(O25/$O$46)*50)*20% -> 0.6297873 | R25: =SUM(E25,I25,M25,Q25) -> 2.471429 | S25: =ROUND(129659*R25%,0) -> 3204 | T25: =ROUND(36373*R25%,0) -> 899 | X25: 720 | Y25: =SUM(V25:X25) -> 720
A26: 남양주 | B26: =VLOOKUP(A26,총수신고!$C$6:$I$45,2,FALSE) -> 140465 | C26: =VLOOKUP(A26,총수신고!$C$6:$I$45,4,FALSE) -> 153314.26 | D26: =(C26/B26)*100 -> 109.14766 | E26: =((B26/$B$46)*50+(C26/$C$46)*50)*10% -> 0.16220673 | F26: =VLOOKUP(A26,총수신고!$M$6:$U$45,2,FALSE) -> 37380 | G26: =VLOOKUP(A26,총수신고!$M$6:$U$45,4,FALSE) -> 36064.52 | H26: =(G26/F26)*100 -> 96.480793 | I26: =((F26/$F$46)*50+(G26/$G$46)*50)*40% -> 0.74717526 | J26: =VLOOKUP(A26,체크카드!$A$5:$D$44,2,FALSE) -> 193481 | K26: =VLOOKUP(A26,체크카드!$A$5:$D$44,3,FALSE) -> 157472.45 | L26: =(K26/J26)*100 -> 81.3891 | M26: =((J26/$J$46)*50+(K26/$K$46)*50)*30% -> 0.72725933 | N26: =VLOOKUP(A26,스마트금융!$A$5:$D$45,2,FALSE) -> 6419 | O26: =VLOOKUP(A26,스마트금융!$A$5:$D$45,3,FALSE) -> 6700 | P26: =(O26/N26)*100 -> 104.37763 | Q26: =((N26/$N$46)*50+(O26/$O$46)*50)*20% -> 0.46740247 | R26: =SUM(E26,I26,M26,Q26) -> 2.1040438 | S26: =ROUND(129659*R26%,0) -> 2728 | T26: =ROUND(36373*R26%,0) -> 765 | X26: 720 | Y26: =SUM(V26:X26) -> 720
A27: 평택 | B27: =VLOOKUP(A27,총수신고!$C$6:$I$45,2,FALSE) -> 364169 | C27: =VLOOKUP(A27,총수신고!$C$6:$I$45,4,FALSE) -> 388382.5 | D27: =(C27/B27)*100 -> 106.64897 | E27: =((B27/$B$46)*50+(C27/$C$46)*50)*10% -> 0.41569732 | F27: =VLOOKUP(A27,총수신고!$M$6:$U$45,2,FALSE) -> 85242 | G27: =VLOOKUP(A27,총수신고!$M$6:$U$45,4,FALSE) -> 89082.79 | H27: =(G27/F27)*100 -> 104.50575 | I27: =((F27/$F$46)*50+(G27/$G$46)*50)*40% -> 1.7726462 | J27: =VLOOKUP(A27,체크카드!$A$5:$D$44,2,FALSE) -> 370979 | K27: =VLOOKUP(A27,체크카드!$A$5:$D$44,3,FALSE) -> 307147.88 | L27: =(K27/J27)*100 -> 82.793873 | M27: =((J27/$J$46)*50+(K27/$K$46)*50)*30% -> 1.4061563 | N27: =VLOOKUP(A27,스마트금융!$A$5:$D$45,2,FALSE) -> 10119 | O27: =VLOOKUP(A27,스마트금융!$A$5:$D$45,3,FALSE) -> 10353 | P27: =(O27/N27)*100 -> 102.31248 | Q27: =((N27/$N$46)*50+(O27/$O$46)*50)*20% -> 0.72943154 | R27: =SUM(E27,I27,M27,Q27) -> 4.3239313 | S27: =ROUND(129659*R27%,0) -> 5606 | T27: =ROUND(36373*R27%,0) -> 1573 | X27: 720 | Y27: =SUM(V27:X27) -> 720
A28: 화성 | B28: =VLOOKUP(A28,총수신고!$C$6:$I$45,2,FALSE) -> 195824 | C28: =VLOOKUP(A28,총수신고!$C$6:$I$45,4,FALSE) -> 221432.97 | D28: =(C28/B28)*100 -> 113.07755 | E28: =((B28/$B$46)*50+(C28/$C$46)*50)*10% -> 0.23022706 | F28: =VLOOKUP(A28,총수신고!$M$6:$U$45,2,FALSE) -> 53537 | G28: =VLOOKUP(A28,총수신고!$M$6:$U$45,4,FALSE) -> 52454.87 | H28: =(G28/F28)*100 -> 97.978725 | I28: =((F28/$F$46)*50+(G28/$G$46)*50)*40% -> 1.0781943 | J28: =VLOOKUP(A28,체크카드!$A$5:$D$44,2,FALSE) -> 288782 | K28: =VLOOKUP(A28,체크카드!$A$5:$D$44,3,FALSE) -> 233724.99 | L28: =(K28/J28)*100 -> 80.93475 | M28: =((J28/$J$46)*50+(K28/$K$46)*50)*30% -> 1.0825287 | N28: =VLOOKUP(A28,스마트금융!$A$5:$D$45,2,FALSE) -> 8313 | O28: =VLOOKUP(A28,스마트금융!$A$5:$D$45,3,FALSE) -> 8465 | P28: =(O28/N28)*100 -> 101.82846 | Q28: =((N28/$N$46)*50+(O28/$O$46)*50)*20% -> 0.59782287 | R28: =SUM(E28,I28,M28,Q28) -> 2.988773 | S28: =ROUND(129659*R28%,0) -> 3875 | T28: =ROUND(36373*R28%,0) -> 1087 | X28: 720 | Y28: =SUM(V28:X28) -> 720
A29: 파주 | B29: =VLOOKUP(A29,총수신고!$C$6:$I$45,2,FALSE) -> 168242 | C29: =VLOOKUP(A29,총수신고!$C$6:$I$45,4,FALSE) -> 185158.22 | D29: =(C29/B29)*100 -> 110.05469 | E29: =((B29/$B$46)*50+(C29/$C$46)*50)*10% -> 0.19509471 | F29: =VLOOKUP(A29,총수신고!$M$6:$U$45,2,FALSE) -> 44175 | G29: =VLOOKUP(A29,총수신고!$M$6:$U$45,4,FALSE) -> 45142.537 | H29: =(G29/F29)*100 -> 102.19024 | I29: =((F29/$F$46)*50+(G29/$G$46)*50)*40% -> 0.90835535 | J29: =VLOOKUP(A29,체크카드!$A$5:$D$44,2,FALSE) -> 211366 | K29: =VLOOKUP(A29,체크카드!$A$5:$D$44,3,FALSE) -> 175614.12 | L29: =(K29/J29)*100 -> 83.085323 | M29: =((J29/$J$46)*50+(K29/$K$46)*50)*30% -> 0.80254504 | N29: =VLOOKUP(A29,스마트금융!$A$5:$D$45,2,FALSE) -> 6592 | O29: =VLOOKUP(A29,스마트금융!$A$5:$D$45,3,FALSE) -> 6745 | P29: =(O29/N29)*100 -> 102.321 | Q29: =((N29/$N$46)*50+(O29/$O$46)*50)*20% -> 0.4752064 | R29: =SUM(E29,I29,M29,Q29) -> 2.3812015 | S29: =ROUND(129659*R29%,0) -> 3087 | T29: =ROUND(36373*R29%,0) -> 866 | X29: 720 | Y29: =SUM(V29:X29) -> 720
A30: 김포 | B30: =VLOOKUP(A30,총수신고!$C$6:$I$45,2,FALSE) -> 146079 | C30: =VLOOKUP(A30,총수신고!$C$6:$I$45,4,FALSE) -> 168031.52 | D30: =(C30/B30)*100 -> 115.02784 | E30: =((B30/$B$46)*50+(C30/$C$46)*50)*10% -> 0.1732578 | F30: =VLOOKUP(A30,총수신고!$M$6:$U$45,2,FALSE) -> 37777 | G30: =VLOOKUP(A30,총수신고!$M$6:$U$45,4,FALSE) -> 38306.153 | H30: =(G30/F30)*100 -> 101.40073 | I30: =((F30/$F$46)*50+(G30/$G$46)*50)*40% -> 0.77379689 | J30: =VLOOKUP(A30,체크카드!$A$5:$D$44,2,FALSE) -> 183175 | K30: =VLOOKUP(A30,체크카드!$A$5:$D$44,3,FALSE) -> 154983.24 | L30: =(K30/J30)*100 -> 84.609387 | M30: =((J30/$J$46)*50+(K30/$K$46)*50)*30% -> 0.70178087 | N30: =VLOOKUP(A30,스마트금융!$A$5:$D$45,2,FALSE) -> 5494 | O30: =VLOOKUP(A30,스마트금융!$A$5:$D$45,3,FALSE) -> 5640 | P30: =(O30/N30)*100 -> 102.65744 | Q30: =((N30/$N$46)*50+(O30/$O$46)*50)*20% -> 0.3967069 | R30: =SUM(E30,I30,M30,Q30) -> 2.0455425 | S30: =ROUND(129659*R30%,0) -> 2652 | T30: =ROUND(36373*R30%,0) -> 744 | X30: 720 | Y30: =SUM(V30:X30) -> 720
A31: 이천 | B31: =VLOOKUP(A31,총수신고!$C$6:$I$45,2,FALSE) -> 101621 | C31: =VLOOKUP(A31,총수신고!$C$6:$I$45,4,FALSE) -> 104576.85 | D31: =(C31/B31)*100 -> 102.9087 | E31: =((B31/$B$46)*50+(C31/$C$46)*50)*10% -> 0.11397856 | F31: =VLOOKUP(A31,총수신고!$M$6:$U$45,2,FALSE) -> 24369 | G31: =VLOOKUP(A31,총수신고!$M$6:$U$45,4,FALSE) -> 24714.68 | H31: =(G31/F31)*100 -> 101.41852 | I31: =((F31/$F$46)*50+(G31/$G$46)*50)*40% -> 0.49920066 | J31: =VLOOKUP(A31,체크카드!$A$5:$D$44,2,FALSE) -> 123179 | K31: =VLOOKUP(A31,체크카드!$A$5:$D$44,3,FALSE) -> 105864.99 | L31: =(K31/J31)*100 -> 85.94402 | M31: =((J31/$J$46)*50+(K31/$K$46)*50)*30% -> 0.47561947 | N31: =VLOOKUP(A31,스마트금융!$A$5:$D$45,2,FALSE) -> 3779 | O31: =VLOOKUP(A31,스마트금융!$A$5:$D$45,3,FALSE) -> 3871 | P31: =(O31/N31)*100 -> 102.43451 | Q31: =((N31/$N$46)*50+(O31/$O$46)*50)*20% -> 0.27257353 | R31: =SUM(E31,I31,M31,Q31) -> 1.3613722 | S31: =ROUND(129659*R31%,0) -> 1765 | T31: =ROUND(36373*R31%,0) -> 495 | X31: 720 | Y31: =SUM(V31:X31) -> 720
A32: 안성 | B32: =VLOOKUP(A32,총수신고!$C$6:$I$45,2,FALSE) -> 111060 | C32: =VLOOKUP(A32,총수신고!$C$6:$I$45,4,FALSE) -> 121717.89 | D32: =(C32/B32)*100 -> 109.59652 | E32: =((B32/$B$46)*50+(C32/$C$46)*50)*10% -> 0.12851541 | F32: =VLOOKUP(A32,총수신고!$M$6:$U$45,2,FALSE) -> 36775 | G32: =VLOOKUP(A32,총수신고!$M$6:$U$45,4,FALSE) -> 35924.911 | H32: =(G32/F32)*100 -> 97.688405 | I32: =((F32/$F$46)*50+(G32/$G$46)*50)*40% -> 0.73954705 | J32: =VLOOKUP(A32,체크카드!$A$5:$D$44,2,FALSE) -> 129433 | K32: =VLOOKUP(A32,체크카드!$A$5:$D$44,3,FALSE) -> 105741.68 | L32: =(K32/J32)*100 -> 81.696074 | M32: =((J32/$J$46)*50+(K32/$K$46)*50)*30% -> 0.48740788 | N32: =VLOOKUP(A32,스마트금융!$A$5:$D$45,2,FALSE) -> 4429 | O32: =VLOOKUP(A32,스마트금융!$A$5:$D$45,3,FALSE) -> 4580 | P32: =(O32/N32)*100 -> 103.40935 | Q32: =((N32/$N$46)*50+(O32/$O$46)*50)*20% -> 0.3209835 | R32: =SUM(E32,I32,M32,Q32) -> 1.6764538 | S32: =ROUND(129659*R32%,0) -> 2174 | T32: =ROUND(36373*R32%,0) -> 610 | V32: 1000 | Y32: =SUM(V32:X32) -> 1000
A33: 포천 | B33: =VLOOKUP(A33,총수신고!$C$6:$I$45,2,FALSE) -> 110239 | C33: =VLOOKUP(A33,총수신고!$C$6:$I$45,4,FALSE) -> 116593.27 | D33: =(C33/B33)*100 -> 105.76408 | E33: =((B33/$B$46)*50+(C33/$C$46)*50)*10% -> 0.12531856 | F33: =VLOOKUP(A33,총수신고!$M$6:$U$45,2,FALSE) -> 35182 | G33: =VLOOKUP(A33,총수신고!$M$6:$U$45,4,FALSE) -> 36382.532 | H33: =(G33/F33)*100 -> 103.41235 | I33: =((F33/$F$46)*50+(G33/$G$46)*50)*40% -> 0.72775817 | J33: =VLOOKUP(A33,체크카드!$A$5:$D$44,2,FALSE) -> 161446 | K33: =VLOOKUP(A33,체크카드!$A$5:$D$44,3,FALSE) -> 132663.36 | L33: =(K33/J33)*100 -> 82.171973 | M33: =((J33/$J$46)*50+(K33/$K$46)*50)*30% -> 0.60968686 | N33: =VLOOKUP(A33,스마트금융!$A$5:$D$45,2,FALSE) -> 4406 | O33: =VLOOKUP(A33,스마트금융!$A$5:$D$45,3,FALSE) -> 4487 | P33: =(O33/N33)*100 -> 101.8384 | Q33: =((N33/$N$46)*50+(O33/$O$46)*50)*20% -> 0.31686952 | R33: =SUM(E33,I33,M33,Q33) -> 1.7796331 | S33: =ROUND(129659*R33%,0) -> 2307 | T33: =ROUND(36373*R33%,0) -> 647 | V33: 700 | W33: 1000 | Y33: =SUM(V33:X33) -> 1700
A34: 경기광주 | B34: =VLOOKUP(A34,총수신고!$C$6:$I$45,2,FALSE) -> 111388 | C34: =VLOOKUP(A34,총수신고!$C$6:$I$45,4,FALSE) -> 122640.76 | D34: =(C34/B34)*100 -> 110.10231 | E34: =((B34/$B$46)*50+(C34/$C$46)*50)*10% -> 0.12919459 | F34: =VLOOKUP(A34,총수신고!$M$6:$U$45,2,FALSE) -> 30447 | G34: =VLOOKUP(A34,총수신고!$M$6:$U$45,4,FALSE) -> 31980.41 | H34: =(G34/F34)*100 -> 105.03633 | I34: =((F34/$F$46)*50+(G34/$G$46)*50)*40% -> 0.63478337 | J34: =VLOOKUP(A34,체크카드!$A$5:$D$44,2,FALSE) -> 128698 | K34: =VLOOKUP(A34,체크카드!$A$5:$D$44,3,FALSE) -> 108633.5 | L34: =(K34/J34)*100 -> 84.409626 | M34: =((J34/$J$46)*50+(K34/$K$46)*50)*30% -> 0.49249043 | N34: =VLOOKUP(A34,스마트금융!$A$5:$D$45,2,FALSE) -> 4102 | O34: =VLOOKUP(A34,스마트금융!$A$5:$D$45,3,FALSE) -> 4149 | P34: =(O34/N34)*100 -> 101.14578 | Q34: =((N34/$N$46)*50+(O34/$O$46)*50)*20% -> 0.29400206 | R34: =SUM(E34,I34,M34,Q34) -> 1.5504704 | S34: =ROUND(129659*R34%,0) -> 2010 | T34: =ROUND(36373*R34%,0) -> 564 | X34: 720 | Y34: =SUM(V34:X34) -> 720
A35: 구리 | B35: =VLOOKUP(A35,총수신고!$C$6:$I$45,2,FALSE) -> 138961 | C35: =VLOOKUP(A35,총수신고!$C$6:$I$45,4,FALSE) -> 147439.48 | D35: =(C35/B35)*100 -> 106.10133 | E35: =((B35/$B$46)*50+(C35/$C$46)*50)*10% -> 0.15821866 | F35: =VLOOKUP(A35,총수신고!$M$6:$U$45,2,FALSE) -> 26692 | G35: =VLOOKUP(A35,총수신고!$M$6:$U$45,4,FALSE) -> 27137.878 | H35: =(G35/F35)*100 -> 101.67046 | I35: =((F35/$F$46)*50+(G35/$G$46)*50)*40% -> 0.54746356 | J35: =VLOOKUP(A35,체크카드!$A$5:$D$44,2,FALSE) -> 99260 | K35: =VLOOKUP(A35,체크카드!$A$5:$D$44,3,FALSE) -> 83121.611 | L35: =(K35/J35)*100 -> 83.741297 | M35: =((J35/$J$46)*50+(K35/$K$46)*50)*30% -> 0.3783484 | N35: =VLOOKUP(A35,스마트금융!$A$5:$D$45,2,FALSE) -> 4481 | O35: =VLOOKUP(A35,스마트금융!$A$5:$D$45,3,FALSE) -> 4566 | P35: =(O35/N35)*100 -> 101.8969 | Q35: =((N35/$N$46)*50+(O35/$O$46)*50)*20% -> 0.32235602 | R35: =SUM(E35,I35,M35,Q35) -> 1.4063866 | S35: =ROUND(129659*R35%,0) -> 1824 | T35: =ROUND(36373*R35%,0) -> 512 | X35: 720 | Y35: =SUM(V35:X35) -> 720
A36: 강화 | B36: =VLOOKUP(A36,총수신고!$C$6:$I$45,2,FALSE) -> 101589 | C36: =VLOOKUP(A36,총수신고!$C$6:$I$45,4,FALSE) -> 103938.28 | D36: =(C36/B36)*100 -> 102.31253 | E36: =((B36/$B$46)*50+(C36/$C$46)*50)*10% -> 0.11362058 | F36: =VLOOKUP(A36,총수신고!$M$6:$U$45,2,FALSE) -> 25162 | G36: =VLOOKUP(A36,총수신고!$M$6:$U$45,4,FALSE) -> 23543.68 | H36: =(G36/F36)*100 -> 93.568396 | I36: =((F36/$F$46)*50+(G36/$G$46)*50)*40% -> 0.49558645 | J36: =VLOOKUP(A36,체크카드!$A$5:$D$44,2,FALSE) -> 63300 | K36: =VLOOKUP(A36,체크카드!$A$5:$D$44,3,FALSE) -> 55861.654 | L36: =(K36/J36)*100 -> 88.249058 | M36: =((J36/$J$46)*50+(K36/$K$46)*50)*30% -> 0.24769423 | N36: =VLOOKUP(A36,스마트금융!$A$5:$D$45,2,FALSE) -> 2673 | O36: =VLOOKUP(A36,스마트금융!$A$5:$D$45,3,FALSE) -> 2653 | P36: =(O36/N36)*100 -> 99.251777 | Q36: =((N36/$N$46)*50+(O36/$O$46)*50)*20% -> 0.18979165 | R36: =SUM(E36,I36,M36,Q36) -> 1.0466929 | S36: =ROUND(129659*R36%,0) -> 1357 | T36: =ROUND(36373*R36%,0) -> 381 | V36: 700 | Y36: =SUM(V36:X36) -> 700
A37: 가평 | B37: =VLOOKUP(A37,총수신고!$C$6:$I$45,2,FALSE) -> 63569 | C37: =VLOOKUP(A37,총수신고!$C$6:$I$45,4,FALSE) -> 66443.909 | D37: =(C37/B37)*100 -> 104.5225 | E37: =((B37/$B$46)*50+(C37/$C$46)*50)*10% -> 0.071844844 | F37: =VLOOKUP(A37,총수신고!$M$6:$U$45,2,FALSE) -> 20737 | G37: =VLOOKUP(A37,총수신고!$M$6:$U$45,4,FALSE) -> 20683.245 | H37: =(G37/F37)*100 -> 99.740778 | I37: =((F37/$F$46)*50+(G37/$G$46)*50)*40% -> 0.42130101 | J37: =VLOOKUP(A37,체크카드!$A$5:$D$44,2,FALSE) -> 90004 | K37: =VLOOKUP(A37,체크카드!$A$5:$D$44,3,FALSE) -> 75408.706 | L37: =(K37/J37)*100 -> 83.783727 | M37: =((J37/$J$46)*50+(K37/$K$46)*50)*30% -> 0.34315324 | N37: =VLOOKUP(A37,스마트금융!$A$5:$D$45,2,FALSE) -> 2657 | O37: =VLOOKUP(A37,스마트금융!$A$5:$D$45,3,FALSE) -> 2650 | P37: =(O37/N37)*100 -> 99.736545 | Q37: =((N37/$N$46)*50+(O37/$O$46)*50)*20% -> 0.18911098 | R37: =SUM(E37,I37,M37,Q37) -> 1.0254101 | S37: =ROUND(129659*R37%,0) -> 1330 | T37: =ROUND(36373*R37%,0) -> 373 | X37: 550 | Y37: =SUM(V37:X37) -> 550
A38: 양평 | B38: =VLOOKUP(A38,총수신고!$C$6:$I$45,2,FALSE) -> 120659 | C38: =VLOOKUP(A38,총수신고!$C$6:$I$45,4,FALSE) -> 127345.28 | D38: =(C38/B38)*100 -> 105.54147 | E38: =((B38/$B$46)*50+(C38/$C$46)*50)*10% -> 0.13702106 | F38: =VLOOKUP(A38,총수신고!$M$6:$U$45,2,FALSE) -> 26497 | G38: =VLOOKUP(A38,총수신고!$M$6:$U$45,4,FALSE) -> 27739.407 | H38: =(G38/F38)*100 -> 104.68886 | I38: =((F38/$F$46)*50+(G38/$G$46)*50)*40% -> 0.55150497 | J38: =VLOOKUP(A38,체크카드!$A$5:$D$44,2,FALSE) -> 101103 | K38: =VLOOKUP(A38,체크카드!$A$5:$D$44,3,FALSE) -> 91075.697 | L38: =(K38/J38)*100 -> 90.082092 | M38: =((J38/$J$46)*50+(K38/$K$46)*50)*30% -> 0.39978411 | N38: =VLOOKUP(A38,스마트금융!$A$5:$D$45,2,FALSE) -> 3526 | O38: =VLOOKUP(A38,스마트금융!$A$5:$D$45,3,FALSE) -> 3565 | P38: =(O38/N38)*100 -> 101.10607 | Q38: =((N38/$N$46)*50+(O38/$O$46)*50)*20% -> 0.25266898 | R38: =SUM(E38,I38,M38,Q38) -> 1.3409791 | S38: =ROUND(129659*R38%,0) -> 1739 | T38: =ROUND(36373*R38%,0) -> 488 | X38: 550 | Y38: =SUM(V38:X38) -> 550
A39: 여주 | B39: =VLOOKUP(A39,총수신고!$C$6:$I$45,2,FALSE) -> 94709 | C39: =VLOOKUP(A39,총수신고!$C$6:$I$45,4,FALSE) -> 96918.425 | D39: =(C39/B39)*100 -> 102.33286 | E39: =((B39/$B$46)*50+(C39/$C$46)*50)*10% -> 0.10593599 | F39: =VLOOKUP(A39,총수신고!$M$6:$U$45,2,FALSE) -> 21185 | G39: =VLOOKUP(A39,총수신고!$M$6:$U$45,4,FALSE) -> 21922.312 | H39: =(G39/F39)*100 -> 103.48035 | I39: =((F39/$F$46)*50+(G39/$G$46)*50)*40% -> 0.4383677 | J39: =VLOOKUP(A39,체크카드!$A$5:$D$44,2,FALSE) -> 89892 | K39: =VLOOKUP(A39,체크카드!$A$5:$D$44,3,FALSE) -> 69329.549 | L39: =(K39/J39)*100 -> 77.125383 | M39: =((J39/$J$46)*50+(K39/$K$46)*50)*30% -> 0.32927176 | N39: =VLOOKUP(A39,스마트금융!$A$5:$D$45,2,FALSE) -> 3096 | O39: =VLOOKUP(A39,스마트금융!$A$5:$D$45,3,FALSE) -> 3148 | P39: =(O39/N39)*100 -> 101.67959 | Q39: =((N39/$N$46)*50+(O39/$O$46)*50)*20% -> 0.22248345 | R39: =SUM(E39,I39,M39,Q39) -> 1.0960589 | S39: =ROUND(129659*R39%,0) -> 1421 | T39: =ROUND(36373*R39%,0) -> 399 | X39: 550 | Y39: =SUM(V39:X39) -> 550
A40: 동두천 | B40: =VLOOKUP(A40,총수신고!$C$6:$I$45,2,FALSE) -> 72426 | C40: =VLOOKUP(A40,총수신고!$C$6:$I$45,4,FALSE) -> 81576.918 | D40: =(C40/B40)*100 -> 112.63485 | E40: =((B40/$B$46)*50+(C40/$C$46)*50)*10% -> 0.084979546 | F40: =VLOOKUP(A40,총수신고!$M$6:$U$45,2,FALSE) -> 20863 | G40: =VLOOKUP(A40,총수신고!$M$6:$U$45,4,FALSE) -> 21076.521 | H40: =(G40/F40)*100 -> 101.02344 | I40: =((F40/$F$46)*50+(G40/$G$46)*50)*40% -> 0.42655132 | J40: =VLOOKUP(A40,체크카드!$A$5:$D$44,2,FALSE) -> 107227 | K40: =VLOOKUP(A40,체크카드!$A$5:$D$44,3,FALSE) -> 88032.419 | L40: =(K40/J40)*100 -> 82.099116 | M40: =((J40/$J$46)*50+(K40/$K$46)*50)*30% -> 0.40475788 | N40: =VLOOKUP(A40,스마트금융!$A$5:$D$45,2,FALSE) -> 3148 | O40: =VLOOKUP(A40,스마트금융!$A$5:$D$45,3,FALSE) -> 3175 | P40: =(O40/N40)*100 -> 100.85769 | Q40: =((N40/$N$46)*50+(O40/$O$46)*50)*20% -> 0.22530551 | R40: =SUM(E40,I40,M40,Q40) -> 1.1415943 | S40: =ROUND(129659*R40%,0) -> 1480 | T40: =ROUND(36373*R40%,0) -> 415 | V40: 700 | Y40: =SUM(V40:X40) -> 700
A41: 연천 | B41: =VLOOKUP(A41,총수신고!$C$6:$I$45,2,FALSE) -> 64326 | C41: =VLOOKUP(A41,총수신고!$C$6:$I$45,4,FALSE) -> 68237.134 | D41: =(C41/B41)*100 -> 106.08018 | E41: =((B41/$B$46)*50+(C41/$C$46)*50)*10% -> 0.073233266 | F41: =VLOOKUP(A41,총수신고!$M$6:$U$45,2,FALSE) -> 18598 | G41: =VLOOKUP(A41,총수신고!$M$6:$U$45,4,FALSE) -> 19006.836 | H41: =(G41/F41)*100 -> 102.19828 | I41: =((F41/$F$46)*50+(G41/$G$46)*50)*40% -> 0.38243933 | J41: =VLOOKUP(A41,체크카드!$A$5:$D$44,2,FALSE) -> 67040 | K41: =VLOOKUP(A41,체크카드!$A$5:$D$44,3,FALSE) -> 60915.326 | L41: =(K41/J41)*100 -> 90.86415 | M41: =((J41/$J$46)*50+(K41/$K$46)*50)*30% -> 0.26626987 | N41: =VLOOKUP(A41,스마트금융!$A$5:$D$45,2,FALSE) -> 1815 | O41: =VLOOKUP(A41,스마트금융!$A$5:$D$45,3,FALSE) -> 1873 | P41: =(O41/N41)*100 -> 103.19559 | Q41: =((N41/$N$46)*50+(O41/$O$46)*50)*20% -> 0.13140157 | R41: =SUM(E41,I41,M41,Q41) -> 0.85334403 | S41: =ROUND(129659*R41%,0) -> 1106 | T41: =ROUND(36373*R41%,0) -> 310 | X41: 550 | Y41: =SUM(V41:X41) -> 550
A42: 백령 | B42: =VLOOKUP(A42,총수신고!$C$6:$I$45,2,FALSE) -> 33147 | C42: =VLOOKUP(A42,총수신고!$C$6:$I$45,4,FALSE) -> 36264.093 | D42: =(C42/B42)*100 -> 109.40385 | E42: =((B42/$B$46)*50+(C42/$C$46)*50)*10% -> 0.038322784 | F42: =VLOOKUP(A42,총수신고!$M$6:$U$45,2,FALSE) -> 7812 | G42: =VLOOKUP(A42,총수신고!$M$6:$U$45,4,FALSE) -> 7433.8155 | H42: =(G42/F42)*100 -> 95.158929 | I42: =((F42/$F$46)*50+(G42/$G$46)*50)*40% -> 0.15511303 | J42: =VLOOKUP(A42,체크카드!$A$5:$D$44,2,FALSE) -> 36364 | K42: =VLOOKUP(A42,체크카드!$A$5:$D$44,3,FALSE) -> 34004.855 | L42: =(K42/J42)*100 -> 93.512416 | M42: =((J42/$J$46)*50+(K42/$K$46)*50)*30% -> 0.14659552 | N42: =VLOOKUP(A42,스마트금융!$A$5:$D$45,2,FALSE) -> 1064 | O42: =VLOOKUP(A42,스마트금융!$A$5:$D$45,3,FALSE) -> 1058 | P42: =(O42/N42)*100 -> 99.43609 | Q42: =((N42/$N$46)*50+(O42/$O$46)*50)*20% -> 0.075616778 | R42: =SUM(E42,I42,M42,Q42) -> 0.41564812 | S42: =ROUND(129659*R42%,0) -> 539 | T42: =ROUND(36373*R42%,0) -> 151 | V42: 700 | Y42: =SUM(V42:X42) -> 700
A43: 오산 | B43: =VLOOKUP(A43,총수신고!$C$6:$I$45,2,FALSE) -> 102733 | C43: =VLOOKUP(A43,총수신고!$C$6:$I$45,4,FALSE) -> 110664.4 | D43: =(C43/B43)*100 -> 107.7204 | E43: =((B43/$B$46)*50+(C43/$C$46)*50)*10% -> 0.11785464 | F43: =VLOOKUP(A43,총수신고!$M$6:$U$45,2,FALSE) -> 21628 | G43: =VLOOKUP(A43,총수신고!$M$6:$U$45,4,FALSE) -> 22470.306 | H43: =(G43/F43)*100 -> 103.89452 | I43: =((F43/$F$46)*50+(G43/$G$46)*50)*40% -> 0.44843501 | J43: =VLOOKUP(A43,체크카드!$A$5:$D$44,2,FALSE) -> 103189 | K43: =VLOOKUP(A43,체크카드!$A$5:$D$44,3,FALSE) -> 86049.725 | L43: =(K43/J43)*100 -> 83.390405 | M43: =((J43/$J$46)*50+(K43/$K$46)*50)*30% -> 0.3925106 | N43: =VLOOKUP(A43,스마트금융!$A$5:$D$45,2,FALSE) -> 3723 | O43: =VLOOKUP(A43,스마트금융!$A$5:$D$45,3,FALSE) -> 3772 | P43: =(O43/N43)*100 -> 101.31614 | Q43: =((N43/$N$46)*50+(O43/$O$46)*50)*20% -> 0.26706228 | R43: =SUM(E43,I43,M43,Q43) -> 1.2258625 | S43: =ROUND(129659*R43%,0) -> 1589 | T43: =ROUND(36373*R43%,0) -> 446 | X43: 550 | Y43: =SUM(V43:X43) -> 550
A44: 하남 | B44: =VLOOKUP(A44,총수신고!$C$6:$I$45,2,FALSE) -> 98016 | C44: =VLOOKUP(A44,총수신고!$C$6:$I$45,4,FALSE) -> 101529.5 | D44: =(C44/B44)*100 -> 103.58462 | E44: =((B44/$B$46)*50+(C44/$C$46)*50)*10% -> 0.11028751 | F44: =VLOOKUP(A44,총수신고!$M$6:$U$45,2,FALSE) -> 20444 | G44: =VLOOKUP(A44,총수신고!$M$6:$U$45,4,FALSE) -> 20602.015 | H44: =(G44/F44)*100 -> 100.77292 | I44: =((F44/$F$46)*50+(G44/$G$46)*50)*40% -> 0.41746978 | J44: =VLOOKUP(A44,체크카드!$A$5:$D$44,2,FALSE) -> 75365 | K44: =VLOOKUP(A44,체크카드!$A$5:$D$44,3,FALSE) -> 61277.597 | L44: =(K44/J44)*100 -> 81.307765 | M44: =((J44/$J$46)*50+(K44/$K$46)*50)*30% -> 0.28314532 | N44: =VLOOKUP(A44,스마트금융!$A$5:$D$45,2,FALSE) -> 2681 | O44: =VLOOKUP(A44,스마트금융!$A$5:$D$45,3,FALSE) -> 2728 | P44: =(O44/N44)*100 -> 101.75308 | Q44: =((N44/$N$46)*50+(O44/$O$46)*50)*20% -> 0.19273056 | R44: =SUM(E44,I44,M44,Q44) -> 1.0036332 | S44: =ROUND(129659*R44%,0) -> 1301 | T44: =ROUND(36373*R44%,0) -> 365 | X44: 550 | Y44: =SUM(V44:X44) -> 550
A45: 인천남동 | B45: 남인천과 실적 분리 후 별도 산출 | X45: 720 | Y45: =SUM(V45:X45) -> 720
A46: 합계 | B46: =SUM(B5:B44) -> 8705900 | C46: =SUM(C5:C44) -> 9401811.5 | D46: =(C46/B46)*100 -> 107.99356 | E46: =SUM(E5:E44) -> 10 | F46: =SUM(F5:F44) -> 1943900 | G46: =SUM(G5:G44) -> 1989286.1 | H46: =(G46/F46)*100 -> 102.33479 | I46: =SUM(I5:I44) -> 40 | J46: =SUM(J5:J44) -> 7775000 | K46: =SUM(K5:K44) -> 6672861.2 | L46: =(K46/J46)*100 -> 85.824581 | M46: =SUM(M5:M44) -> 30 | N46: =SUM(N5:N44) -> 278450 | O46: =SUM(O5:O44) -> 282848 | P46: =(O46/N46)*100 -> 101.57946 | Q46: =SUM(Q5:Q44) -> 20 | R46: =SUM(R5:R44) -> 100 | S46: =SUM(S5:S45) -> 129656 | T46: =SUM(T5:T44) -> 36373 | U46: =SUM(U5:U44) -> 9000 | V46: =SUM(V5:V44) -> 7800 | W46: =SUM(W5:W44) -> 1000 | X46: =SUM(X5:X45) -> 17700 | Y46: =SUM(V46:X46) -> 26500

Sheet 총수신고
A1: 2015년도 예금사업 실적 현황(수신고)
A3: =[1]종합점수!A2 -> 42338 | V3: (단위 : 백만원, %, 점)
A4: 구분 | C4: 국명 | D4: 예금총수신고 | M4: 국 명 | N4: 요구불예금수신고 | AC4: 당일실적
D5: 목표 | E5: 전년도 | F5: 연평잔고 | G5: 전년대비 | H5: 당일실적 | I5: 달성률 | J5: 경평득점 | K5: 예사평득점 | N5: 목표 | O5: 전년도 | P5: 연평잔고 | Q5: 1분기평잔 | R5: 전년대비 | S5: 분기대비 | T5: 당일실적 | U5: 달성률 | V5: 예사평계산 | W5: 만점여부 | X5: 예사평가점 | Y5: 경평득점 | Z5: 예사평득점 | AC5: 1 | AD5: 2 | AE5: 3 | AF5: 4 | AG5: 5 | AH5: 6 | AI5: 7 | AJ5: 8 | AK5: 9 | AL5: 10 | AM5: 11
A6: 가그룹 | B6: 1 | C6: 부천 | D6: 434890 | E6: 446263.32 | F6: =VLOOKUP(C6,$AC$8:$AO$49,11,FALSE)/1000000 -> 466136.83 | G6: =F6/E6% -> 104.45331 | I6: =F6/D6% -> 107.185 | J6: =IF(I6>=100,4,I6*0.04) -> 4 | K6: =IF(I6>=100,10,I6*0.1) -> 10 | L6: 1 | M6: 안양 | N6: 81033 | O6: 79414.29 | P6: =VLOOKUP(M6,$AC$8:$AO$49,12,FALSE)/1000000 -> 91079.04 | R6: =P6/O6% -> 114.68848 | T6: =(VLOOKUP(M6,$AC$8:$AO$49,13,FALSE)-VLOOKUP(M6,$AC$55:$AO$96,13,FALSE))/1000000 -> -564.66754 | U6: =P6/N6% -> 112.39747 | V6: =IF(U6>=100,30,U6*0.3) -> 30 | W6: =IF(U6>100,"0","") -> 0 | X6: =COUNTIF(W6:W13,"0")*0.01 -> 0.07 | Y6: =VLOOKUP(M6,$M$50:$T$89,8,FALSE) -> 6.0594 | Z6: =V6+X6 -> 30.07 | AD6: 유지잔액 | AI6: 일연평잔고 | AN6: 12 | AO6: 13 | AP6: 14 | AQ6: 15
B7: 1 | C7: 안산 | D7: 311482 | E7: 323667.76 | F7: =VLOOKUP(C7,$AC$8:$AO$49,11,FALSE)/1000000 -> 333651.89 | G7: =F7/E7% -> 103.08468 | I7: =F7/D7% -> 107.11755 | J7: =IF(I7>=100,4,I7*0.04) -> 4 | K7: =IF(I7>=100,10,I7*0.1) -> 10 | L7: 1 | M7: 남인천 | N7: 119184 | O7: 124149.97 | P7: =VLOOKUP(M7,$AC$33:$AQ$33,14,FALSE)/1000000 -> 125326.66 | R7: =P7/O7% -> 100.9478 | T7: =(VLOOKUP(M7,$AC$33:$AQ$33,15,FALSE)-VLOOKUP(M7,$AC$80:$AQ$80,15,FALSE))/1000000 -> -137.3838 | U7: =P7/N7% -> 105.15393 | V7: =IF(U7>=100,30,U7*0.3) -> 30 | W7: =IF(U7>100,"0","") -> 0 | X7: =IF(X6-0.01<0,"0",X6-0.01) -> 0.06 | Y7: =VLOOKUP(M7,$M$50:$T$89,8,FALSE) -> 6.0462 | Z7: =V7+X7 -> 30.06 | AD7: 일반예금 | AE7: 요구불예금 | AF7: 타부처국고예금 | AG7: 실적우편대체 | AH7: Total | AI7: 일반예금 | AJ7: 요구불예금 | AK7: 타부처국고예금 | AL7: 실적우편대체 | AM7: Total | AN7: 요구불연평 | AO7: 요구불유지잔액
B8: 1 | C8: 성남 | D8: 354661 | E8: 363231.62 | F8: =VLOOKUP(C8,$AC$8:$AO$49,11,FALSE)/1000000 -> 379665.8 | G8: =F8/E8% -> 104.52444 | I8: =F8/D8% -> 107.05034 | J8: =IF(I8>=100,4,I8*0.04) -> 4 | K8: =IF(I8>=100,10,I8*0.1) -> 10 | L8: 1 | M8: 평택 | N8: 85242 | O8: 77223.769 | P8: =VLOOKUP(M8,$AC$8:$AO$49,12,FALSE)/1000000 -> 89082.79 | R8: =P8/O8% -> 115.3567 | T8: =(VLOOKUP(M8,$AC$8:$AO$49,13,FALSE)-VLOOKUP(M8,$AC$55:$AO$96,13,FALSE))/1000000 -> 3570.8943 | U8: =P8/N8% -> 104.50575 | V8: =IF(U8>=100,30,U8*0.3) -> 30 | W8: =IF(U8>100,"0","") -> 0 | X8: =IF(X7-0.01<0,"0",X7-0.01) -> 0.05 | Y8: =VLOOKUP(M8,$M$50:$T$89,8,FALSE) -> 6.0429 | Z8: =V8+X8 -> 30.05 | AC8: 평택 | AD8: 296684803402 | AE8: 98552355272 | AF8: 0 | AG8: 0 | AH8: 395237158674 | AI8: 299299712540 | AJ8: 89082789756 | AK8: 0 | AL8: 0 | AM8: 388382502296 | AN8: =AJ8+AK8+AL8 -> 89082789756 | AO8: =AE8+AF8+AG8 -> 98552355272
B9: 1 | C9: 평택 | D9: 364169 | E9: 377371.73 | F9: =VLOOKUP(C9,$AC$8:$AO$49,11,FALSE)/1000000 -> 388382.5 | G9: =F9/E9% -> 102.91775 | I9: =F9/D9% -> 106.64897 | J9: =IF(I9>=100,4,I9*0.04) -> 4 | K9: =IF(I9>=100,10,I9*0.1) -> 10 | L9: 1 | M9: 부천 | N9: 103016 | O9: 91128.542 | P9: =VLOOKUP(M9,$AC$8:$AO$49,12,FALSE)/1000000 -> 106884.89 | R9: =P9/O9% -> 117.29025 | T9: =(VLOOKUP(M9,$AC$8:$AO$49,13,FALSE)-VLOOKUP(M9,$AC$55:$AO$96,13,FALSE))/1000000 -> 156.62917 | U9: =P9/N9% -> 103.75562 | V9: =IF(U9>=100,30,U9*0.3) -> 30 | W9: =IF(U9>100,"0","") -> 0 | X9: =IF(X8-0.01<0,"0",X8-0.01) -> 0.04 | Y9: =VLOOKUP(M9,$M$50:$T$89,8,FALSE) -> 6.0396 | Z9: =V9+X9 -> 30.04 | AC9: 인천 | AD9: 264408896351 | AE9: 78901635927 | AF9: 0 | AG9: 0 | AH9: 343310532278 | AI9: 264541255915 | AJ9: 69581868700 | AK9: 0 | AL9: 0 | AM9: 334123124615 | AN9: =AJ9+AK9+AL9 -> 69581868700 | AO9: =AE9+AF9+AG9 -> 78901635927
B10: 1 | C10: 안양 | D10: 440866 | E10: 460340.07 | F10: =VLOOKUP(C10,$AC$8:$AO$49,11,FALSE)/1000000 -> 467601.12 | G10: =F10/E10% -> 101.57732 | I10: =F10/D10% -> 106.06423 | J10: =IF(I10>=100,4,I10*0.04) -> 4 | K10: =IF(I10>=100,10,I10*0.1) -> 10 | L10: 1 | M10: 부평 | N10: 82878 | O10: 74106.856 | P10: =VLOOKUP(M10,$AC$8:$AO$49,12,FALSE)/1000000 -> 85812.833 | R10: =P10/O10% -> 115.79608 | T10: =(VLOOKUP(M10,$AC$8:$AO$49,13,FALSE)-VLOOKUP(M10,$AC$55:$AO$96,13,FALSE))/1000000 -> -795.34075 | U10: =P10/N10% -> 103.54115 | V10: =IF(U10>=100,30,U10*0.3) -> 30 | W10: =IF(U10>100,"0","") -> 0 | X10: =IF(X9-0.01<0,"0",X9-0.01) -> 0.03 | Y10: =VLOOKUP(M10,$M$50:$T$89,8,FALSE) -> 6.0363 | Z10: =V10+X10 -> 30.03 | AC10: 부평 | AD10: 265966077873 | AE10: 93667142547 | AF10: 29892090 | AG10: 0 | AH10: 359663112510 | AI10: 269469826658 | AJ10: 85780070627 | AK10: 32762061 | AL10: 0 | AM10: 355282659346 | AN10: =AJ10+AK10+AL10 -> 85812832688 | AO10: =AE10+AF10+AG10 -> 93697034637
B11: 1 | C11: 부평 | D11: 335902 | E11: 345360.04 | F11: =VLOOKUP(C11,$AC$8:$AO$49,11,FALSE)/1000000 -> 355282.66 | G11: =F11/E11% -> 102.87312 | I11: =F11/D11% -> 105.76974 | J11: =IF(I11>=100,4,I11*0.04) -> 4 | K11: =IF(I11>=100,10,I11*0.1) -> 10 | L11: 1 | M11: 성남 | N11: 88844 | O11: 78965.083 | P11: =VLOOKUP(M11,$AC$8:$AO$49,12,FALSE)/1000000 -> 91428.829 | R11: =P11/O11% -> 115.78387 | T11: =(VLOOKUP(M11,$AC$8:$AO$49,13,FALSE)-VLOOKUP(M11,$AC$55:$AO$96,13,FALSE))/1000000 -> 117.70561 | U11: =P11/N11% -> 102.9094 | V11: =IF(U11>=100,30,U11*0.3) -> 30 | W11: =IF(U11>100,"0","") -> 0 | X11: =IF(X10-0.01<0,"0",X10-0.01) -> 0.02 | Y11: =VLOOKUP(M11,$M$50:$T$89,8,FALSE) -> 6.0297 | Z11: =V11+X11 -> 30.02 | AC11: 오산 | AD11: 87154973000 | AE11: 24645184160 | AF11: 0 | AG11: 0 | AH11: 111800157160 | AI11: 88194096260 | AJ11: 22470306073 | AK11: 0 | AL11: 0 | AM11: 110664402333 | AN11: =AJ11+AK11+AL11 -> 22470306073 | AO11: =AE11+AF11+AG11 -> 24645184160
B12: 1 | C12: 인천 | D12: 317089 | E12: 324474.69 | F12: =VLOOKUP(C12,$AC$8:$AO$49,11,FALSE)/1000000 -> 334123.12 | G12: =F12/E12% -> 102.97356 | I12: =F12/D12% -> 105.37203 | J12: =IF(I12>=100,4,I12*0.04) -> 4 | K12: =IF(I12>=100,10,I12*0.1) -> 10 | L12: 1 | M12: 안산 | N12: 88189 | O12: 78241.007 | P12: =VLOOKUP(M12,$AC$8:$AO$49,12,FALSE)/1000000 -> 90133.833 | R12: =P12/O12% -> 115.20025 | T12: =(VLOOKUP(M12,$AC$8:$AO$49,13,FALSE)-VLOOKUP(M12,$AC$55:$AO$96,13,FALSE))/1000000 -> 1381.0852 | U12: =P12/N12% -> 102.2053 | V12: =IF(U12>=100,30,U12*0.3) -> 30 | W12: =IF(U12>100,"0","") -> 0 | X12: =IF(X11-0.01<0,"0",X11-0.01) -> 0.01 | Y12: =VLOOKUP(M12,$M$50:$T$89,8,FALSE) -> 6.0198 | Z12: =V12+X12 -> 30.01 | AC12: 안성 | AD12: 90317094148 | AE12: 36917475804 | AF12: 0 | AG12: 0 | AH12: 127234569952 | AI12: 85792979288 | AJ12: 35924910844 | AK12: 0 | AL12: 0 | AM12: 121717890132 | AN12: =AJ12+AK12+AL12 -> 35924910844 | AO12: =AE12+AF12+AG12 -> 36917475804
B13: 1 | C13: 남인천 | D13: 451356 | E13: 475112.23 | F13: =VLOOKUP(C13,$AC$33:$AR$33,16,FALSE)/1000000 -> 473779.45 | G13: =F13/E13% -> 99.719481 | I13: =F13/D13% -> 104.96802 | J13: =IF(I13>=100,4,I13*0.04) -> 4 | K13: =IF(I13>=100,10,I13*0.1) -> 10 | L13: 1 | M13: 인천 | N13: 73235 | O13: 65395.216 | P13: =VLOOKUP(M13,$AC$8:$AO$49,12,FALSE)/1000000 -> 69581.869 | R13: =P13/O13% -> 106.40208 | T13: =(VLOOKUP(M13,$AC$8:$AO$49,13,FALSE)-VLOOKUP(M13,$AC$55:$AO$96,13,FALSE))/1000000 -> 382.79009 | U13: =P13/N13% -> 95.011769 | V13: =IF(U13>=100,30,U13*0.3) -> 28.503531 | W13: =IF(U13>100,"0","") | X13: =IF(X12-0.01<0,"0",X12-0.01) -> 0 | Y13: =VLOOKUP(M13,$M$50:$T$89,8,FALSE) -> 5.7007061 | Z13: =V13+X13 -> 28.503531 | AC13: 가평 | AD13: 46652786928 | AE13: 21493131230 | AF13: 0 | AG13: 0 | AH13: 68145918158 | AI13: 45760663429 | AJ13: 20683245213 | AK13: 0 | AL13: 0 | AM13: 66443908642 | AN13: =AJ13+AK13+AL13 -> 20683245213 | AO13: =AE13+AF13+AG13 -> 21493131230
A14: 나그룹 | B14: 2 | C14: 성남분당 | D14: 676977 | E14: 660243.03 | F14: =VLOOKUP(C14,$AC$8:$AO$49,11,FALSE)/1000000 -> 836299.93 | G14: =F14/E14% -> 126.66547 | I14: =F14/D14% -> 123.53447 | J14: =IF(I14>=100,4,I14*0.04) -> 4 | K14: =IF(I14>=100,10,I14*0.1) -> 10 | L14: 2 | M14: 성남분당 | N14: 70406 | O14: 72016.072 | P14: =VLOOKUP(M14,$AC$8:$AO$49,12,FALSE)/1000000 -> 79192.346 | R14: =P14/O14% -> 109.96482 | T14: =(VLOOKUP(M14,$AC$8:$AO$49,13,FALSE)-VLOOKUP(M14,$AC$55:$AO$96,13,FALSE))/1000000 -> 3012.4091 | U14: =P14/N14% -> 112.47954 | V14: =IF(U14>=100,30,U14*0.3) -> 30 | W14: =IF(U14>100,"0","") -> 0 | X14: =COUNTIF(W14:W23,"0")*0.01 -> 0.06 | Y14: =VLOOKUP(M14,$M$50:$T$89,8,FALSE) -> 6.0627 | Z14: =V14+X14 -> 30.06 | AC14: 파주 | AD14: 146573608004 | AE14: 48198934889 | AF14: 16003329 | AG14: 0 | AH14: 194788546222 | AI14: 140015681920 | AJ14: 45111296818 | AK14: 31239705 | AL14: 0 | AM14: 185158218443 | AN14: =AJ14+AK14+AL14 -> 45142536523 | AO14: =AE14+AF14+AG14 -> 48214938218
B15: 2 | C15: 화성 | D15: 195824 | E15: 201238.68 | F15: =VLOOKUP(C15,$AC$8:$AO$49,11,FALSE)/1000000 -> 221432.97 | G15: =F15/E15% -> 110.035 | I15: =F15/D15% -> 113.07755 | J15: =IF(I15>=100,4,I15*0.04) -> 4 | K15: =IF(I15>=100,10,I15*0.1) -> 10 | L15: 2 | M15: 고양일산 | N15: 50574 | O15: 46305.954 | P15: =VLOOKUP(M15,$AC$8:$AO$49,12,FALSE)/1000000 -> 54529.498 | R15: =P15/O15% -> 117.75915 | T15: =(VLOOKUP(M15,$AC$8:$AO$49,13,FALSE)-VLOOKUP(M15,$AC$55:$AO$96,13,FALSE))/1000000 -> -707.04956 | U15: =P15/N15% -> 107.82121 | V15: =IF(U15>=100,30,U15*0.3) -> 30 | W15: =IF(U15>100,"0","") -> 0 | X15: =IF(X14-0.01<0,"0",X14-0.01) -> 0.05 | Y15: =VLOOKUP(M15,$M$50:$T$89,8,FALSE) -> 6.0561 | Z15: =V15+X15 -> 30.05 | AC15: 강화 | AD15: 80461707196 | AE15: 25244695515 | AF15: 0 | AG15: 0 | AH15: 105706402711 | AI15: 80394595523 | AJ15: 23543679890 | AK15: 0 | AL15: 0 | AM15: 103938275413 | AN15: =AJ15+AK15+AL15 -> 23543679890 | AO15: =AE15+AF15+AG15 -> 25244695515
B16: 2 | C16: 고양일산 | D16: 294194 | E16: 301156.89 | F16: =VLOOKUP(C16,$AC$8:$AO$49,11,FALSE)/1000000 -> 320107.5 | G16: =F16/E16% -> 106.2926 | I16: =F16/D16% -> 108.8083 | J16: =IF(I16>=100,4,I16*0.04) -> 4 | K16: =IF(I16>=100,10,I16*0.1) -> 10 | L16: 2 | M16: 수원 | N16: 68028 | O16: 64637.75 | P16: =VLOOKUP(M16,$AC$8:$AO$49,12,FALSE)/1000000 -> 71725.208 | R16: =P16/O16% -> 110.96489 | T16: =(VLOOKUP(M16,$AC$8:$AO$49,13,FALSE)-VLOOKUP(M16,$AC$55:$AO$96,13,FALSE))/1000000 -> 1023.2714 | U16: =P16/N16% -> 105.43483 | V16: =IF(U16>=100,30,U16*0.3) -> 30 | W16: =IF(U16>100,"0","") -> 0 | X16: =IF(X15-0.01<0,"0",X15-0.01) -> 0.04 | Y16: =VLOOKUP(M16,$M$50:$T$89,8,FALSE) -> 6.0495 | Z16: =V16+X16 -> 30.04 | AC16: 양평 | AD16: 99762880131 | AE16: 30458689463 | AF16: 0 | AG16: 0 | AH16: 130221569594 | AI16: 99605872926 | AJ16: 27739406861 | AK16: 0 | AL16: 0 | AM16: 127345279787 | AN16: =AJ16+AK16+AL16 -> 27739406861 | AO16: =AE16+AF16+AG16 -> 30458689463
B17: 2 | C17: 고양덕양 | D17: 245473 | E17: 250687.65 | F17: =VLOOKUP(C17,$AC$8:$AO$49,11,FALSE)/1000000 -> 264922.56 | G17: =F17/E17% -> 105.67834 | I17: =F17/D17% -> 107.9233 | J17: =IF(I17>=100,4,I17*0.04) -> 4 | K17: =IF(I17>=100,10,I17*0.1) -> 10 | L17: 2 | M17: 동수원 | N17: 56604 | O17: 49492.477 | P17: =VLOOKUP(M17,$AC$8:$AO$49,12,FALSE)/1000000 -> 57943.475 | R17: =P17/O17% -> 117.07532 | T17: =(VLOOKUP(M17,$AC$8:$AO$49,13,FALSE)-VLOOKUP(M17,$AC$55:$AO$96,13,FALSE))/1000000 -> -29.840775 | U17: =P17/N17% -> 102.3664 | V17: =IF(U17>=100,30,U17*0.3) -> 30 | W17: =IF(U17>100,"0","") -> 0 | X17: =IF(X16-0.01<0,"0",X16-0.01) -> 0.03 | Y17: =VLOOKUP(M17,$M$50:$T$89,8,FALSE) -> 6.0231 | Z17: =V17+X17 -> 30.03 | AC17: 경기광주 | AD17: 91395731180 | AE17: 33217423109 | AF17: 91427081 | AG17: 0 | AH17: 124704581370 | AI17: 90660350134 | AJ17: 31840521210 | AK17: 139889154 | AL17: 0 | AM17: 122640760498 | AN17: =AJ17+AK17+AL17 -> 31980410364 | AO17: =AE17+AF17+AG17 -> 33308850190
B18: 2 | C18: 동수원 | D18: 281761 | E18: 290849.66 | F18: =VLOOKUP(C18,$AC$8:$AO$49,11,FALSE)/1000000 -> 302743.38 | G18: =F18/E18% -> 104.0893 | I18: =F18/D18% -> 107.44687 | J18: =IF(I18>=100,4,I18*0.04) -> 4 | K18: =IF(I18>=100,10,I18*0.1) -> 10 | L18: 2 | M18: 의정부 | N18: 62839 | O18: 56962.748 | P18: =VLOOKUP(M18,$AC$8:$AO$49,12,FALSE)/1000000 -> 63673.542 | R18: =P18/O18% -> 111.78102 | T18: =(VLOOKUP(M18,$AC$8:$AO$49,13,FALSE)-VLOOKUP(M18,$AC$55:$AO$96,13,FALSE))/1000000 -> -87.370143 | U18: =P18/N18% -> 101.32806 | V18: =IF(U18>=100,30,U18*0.3) -> 30 | W18: =IF(U18>100,"0","") -> 0 | X18: =IF(X17-0.01<0,"0",X17-0.01) -> 0.02 | Y18: =VLOOKUP(M18,$M$50:$T$89,8,FALSE) -> 6.0066 | Z18: =V18+X18 -> 30.02 | AC18: 여주 | AD18: 72127377657 | AE18: 22731430843 | AF18: 0 | AG18: 0 | AH18: 94858808500 | AI18: 74996112729 | AJ18: 21922311899 | AK18: 0 | AL18: 0 | AM18: 96918424628 | AN18: =AJ18+AK18+AL18 -> 21922311899 | AO18: =AE18+AF18+AG18 -> 22731430843
B19: 2 | C19: 의정부 | D19: 265241 | E19: 275323.46 | F19: =VLOOKUP(C19,$AC$8:$AO$49,11,FALSE)/1000000 -> 281096.6 | G19: =F19/E19% -> 102.09686 | I19: =F19/D19% -> 105.97781 | J19: =IF(I19>=100,4,I19*0.04) -> 4 | K19: =IF(I19>=100,10,I19*0.1) -> 10 | L19: 2 | M19: 용인 | N19: 39956 | O19: 37768.931 | P19: =VLOOKUP(M19,$AC$8:$AO$49,12,FALSE)/1000000 -> 39991.797 | R19: =P19/O19% -> 105.88543 | T19: =(VLOOKUP(M19,$AC$8:$AO$49,13,FALSE)-VLOOKUP(M19,$AC$55:$AO$96,13,FALSE))/1000000 -> 413.1332 | U19: =P19/N19% -> 100.08959 | V19: =IF(U19>=100,30,U19*0.3) -> 30 | W19: =IF(U19>100,"0","") -> 0 | X19: =IF(X18-0.01<0,"0",X18-0.01) -> 0.01 | Y19: =VLOOKUP(M19,$M$50:$T$89,8,FALSE) -> 6.0033 | Z19: =V19+X19 -> 30.01 | AC19: 김포 | AD19: 121434601717 | AE19: 40253188782 | AF19: 13116596 | AG19: 0 | AH19: 161700907095 | AI19: 129725363617 | AJ19: 38282775613 | AK19: 23377232 | AL19: 0 | AM19: 168031516462 | AN19: =AJ19+AK19+AL19 -> 38306152845 | AO19: =AE19+AF19+AG19 -> 40266305378
B20: 2 | C20: 용인 | D20: 173602 | E20: 194236.93 | F20: =VLOOKUP(C20,$AC$8:$AO$49,11,FALSE)/1000000 -> 183258.35 | G20: =F20/E20% -> 94.347842 | I20: =F20/D20% -> 105.56235 | J20: =IF(I20>=100,4,I20*0.04) -> 4 | K20: =IF(I20>=100,10,I20*0.1) -> 10 | L20: 2 | M20: 고양덕양 | N20: 51645 | O20: 45982.541 | P20: =VLOOKUP(M20,$AC$8:$AO$49,12,FALSE)/1000000 -> 51221.427 | R20: =P20/O20% -> 111.39321 | T20: =(VLOOKUP(M20,$AC$8:$AO$49,13,FALSE)-VLOOKUP(M20,$AC$55:$AO$96,13,FALSE))/1000000 -> 107.96962 | U20: =P20/N20% -> 99.179837 | V20: =IF(U20>=100,30,U20*0.3) -> 29.753951 | W20: =IF(U20>100,"0","") | X20: =IF(X19-0.01<0,"0",X19-0.01) -> 0 | Y20: =VLOOKUP(M20,$M$50:$T$89,8,FALSE) -> 5.9507902 | Z20: =V20+X20 -> 29.753951 | AC20: 포천 | AD20: 83554897418 | AE20: 35320098168 | AF20: 10739430 | AG20: 0 | AH20: 118885735016 | AI20: 80210736074 | AJ20: 36361574769 | AK20: 20956961 | AL20: 0 | AM20: 116593267804 | AN20: =AJ20+AK20+AL20 -> 36382531730 | AO20: =AE20+AF20+AG20 -> 35330837598
B21: 2 | C21: 수원 | D21: 352943 | E21: 369288.89 | F21: =VLOOKUP(C21,$AC$8:$AO$49,11,FALSE)/1000000 -> 371832.44 | G21: =F21/E21% -> 100.68877 | I21: =F21/D21% -> 105.35198 | J21: =IF(I21>=100,4,I21*0.04) -> 4 | K21: =IF(I21>=100,10,I21*0.1) -> 10 | L21: 2 | M21: 화성 | N21: 53537 | O21: 48063.012 | P21: =VLOOKUP(M21,$AC$8:$AO$49,12,FALSE)/1000000 -> 52454.87 | R21: =P21/O21% -> 109.13771 | T21: =(VLOOKUP(M21,$AC$8:$AO$49,13,FALSE)-VLOOKUP(M21,$AC$55:$AO$96,13,FALSE))/1000000 -> 560.74828 | U21: =P21/N21% -> 97.978725 | V21: =IF(U21>=100,30,U21*0.3) -> 29.393618 | W21: =IF(U21>100,"0","") | X21: =IF(X20-0.01<0,"0",X20-0.01) -> 0 | Y21: =VLOOKUP(M21,$M$50:$T$89,8,FALSE) -> 5.8787235 | Z21: =V21+X21 -> 29.393618 | AC21: 이천 | AD21: 78346855800 | AE21: 24913744250 | AF21: 84354505 | AG21: 0 | AH21: 103344954555 | AI21: 79862168345 | AJ21: 24608517248 | AK21: 106162909 | AL21: 0 | AM21: 104576848502 | AN21: =AJ21+AK21+AL21 -> 24714680157 | AO21: =AE21+AF21+AG21 -> 24998098755
B22: 2 | C22: 시흥 | D22: 147268 | E22: 151992.59 | F22: =VLOOKUP(C22,$AC$8:$AO$49,11,FALSE)/1000000 -> 152010.86 | G22: =F22/E22% -> 100.01202 | I22: =F22/D22% -> 103.22056 | J22: =IF(I22>=100,4,I22*0.04) -> 4 | K22: =IF(I22>=100,10,I22*0.1) -> 10 | L22: 2 | M22: 시흥 | N22: 48945 | O22: 44861.422 | P22: =VLOOKUP(M22,$AC$8:$AO$49,12,FALSE)/1000000 -> 47886.808 | R22: =P22/O22% -> 106.74385 | T22: =(VLOOKUP(M22,$AC$8:$AO$49,13,FALSE)-VLOOKUP(M22,$AC$55:$AO$96,13,FALSE))/1000000 -> -821.50864 | U22: =P22/N22% -> 97.837997 | V22: =IF(U22>=100,30,U22*0.3) -> 29.351399 | W22: =IF(U22>100,"0","") | X22: =IF(X21-0.01<0,"0",X21-0.01) -> 0 | Y22: =VLOOKUP(M22,$M$50:$T$89,8,FALSE) -> 5.8702798 | Z22: =V22+X22 -> 29.351399 | AC22: 의정부 | AD22: 218820400629 | AE22: 66118389156 | AF22: 55595040 | AG22: 0 | AH22: 284994384825 | AI22: 217423061837 | AJ22: 63552815342 | AK22: 120727026 | AL22: 0 | AM22: 281096604205 | AN22: =AJ22+AK22+AL22 -> 63673542368 | AO22: =AE22+AF22+AG22 -> 66173984196
B23: 2 | C23: 서인천 | D23: 255500 | E23: 265164.79 | F23: =VLOOKUP(C23,$AC$8:$AO$49,11,FALSE)/1000000 -> 242209.65 | G23: =F23/E23% -> 91.343068 | I23: =F23/D23% -> 94.798299 | J23: =IF(I23>=100,4,I23*0.04) -> 3.7919319 | K23: =IF(I23>=100,10,I23*0.1) -> 9.4798299 | L23: 2 | M23: 서인천 | N23: 68038 | O23: 78276.518 | P23: =VLOOKUP(M23,$AC$8:$AO$49,12,FALSE)/1000000 -> 57053.664 | R23: =P23/O23% -> 72.887329 | T23: =(VLOOKUP(M23,$AC$8:$AO$49,13,FALSE)-VLOOKUP(M23,$AC$55:$AO$96,13,FALSE))/1000000 -> 535.64296 | U23: =P23/N23% -> 83.855586 | V23: =IF(U23>=100,30,U23*0.3) -> 25.156676 | W23: =IF(U23>100,"0","") | X23: =IF(X22-0.01<0,"0",X22-0.01) -> 0 | Y23: =VLOOKUP(M23,$M$50:$T$89,8,FALSE) -> 5.0313352 | Z23: =V23+X23 -> 25.156676 | AC23: 용인 | AD23: 149364559878 | AE23: 41358336201 | AF23: 127960542 | AG23: 0 | AH23: 190850856621 | AI23: 143266554456 | AJ23: 39855370147 | AK23: 136426672 | AL23: 0 | AM23: 183258351275 | AN23: =AJ23+AK23+AL23 -> 39991796819 | AO23: =AE23+AF23+AG23 -> 41486296743
A24: 다그룹 | B24: 3 | C24: 서수원 | D24: 114428 | E24: 115577.49 | F24: =VLOOKUP(C24,$AC$8:$AO$49,11,FALSE)/1000000 -> 136088.02 | G24: =F24/E24% -> 117.74613 | I24: =F24/D24% -> 118.92895 | J24: =IF(I24>=100,4,I24*0.04) -> 4 | K24: =IF(I24>=100,10,I24*0.1) -> 10 | L24: 3 | M24: 용인수지 | N24: 35050 | O24: 32048.632 | P24: =VLOOKUP(M24,$AC$8:$AO$49,12,FALSE)/1000000 -> 39599.168 | R24: =P24/O24% -> 123.55962 | T24: =(VLOOKUP(M24,$AC$8:$AO$49,13,FALSE)-VLOOKUP(M24,$AC$55:$AO$96,13,FALSE))/1000000 -> 94.96795 | U24: =P24/N24% -> 112.97908 | V24: =IF(U24>=100,30,U24*0.3) -> 30 | W24: =IF(U24>100,"0","") -> 0 | X24: =COUNTIF(W24:W33,"0")*0.01 -> 0.07 | Y24: =VLOOKUP(M24,$M$50:$T$89,8,FALSE) -> 6.066 | Z24: =V24+X24 -> 30.07 | AC24: 동두천 | AD24: 63065688161 | AE24: 22332688915 | AF24: 12773290 | AG24: 0 | AH24: 85411150366 | AI24: 60500396851 | AJ24: 21054710454 | AK24: 21810856 | AL24: 0 | AM24: 81576918161 | AN24: =AJ24+AK24+AL24 -> 21076521310 | AO24: =AE24+AF24+AG24 -> 22345462205
B25: 3 | C25: 김포 | D25: 146079 | E25: 153802.95 | F25: =VLOOKUP(C25,$AC$8:$AO$49,11,FALSE)/1000000 -> 168031.52 | G25: =F25/E25% -> 109.25116 | I25: =F25/D25% -> 115.02784 | J25: =IF(I25>=100,4,I25*0.04) -> 4 | K25: =IF(I25>=100,10,I25*0.1) -> 10 | L25: 3 | M25: 인천계양 | N25: 37301 | O25: 34175.038 | P25: =VLOOKUP(M25,$AC$8:$AO$49,12,FALSE)/1000000 -> 39480.169 | R25: =P25/O25% -> 115.52341 | T25: =(VLOOKUP(M25,$AC$8:$AO$49,13,FALSE)-VLOOKUP(M25,$AC$55:$AO$96,13,FALSE))/1000000 -> 527.46368 | U25: =P25/N25% -> 105.84212 | V25: =IF(U25>=100,30,U25*0.3) -> 30 | W25: =IF(U25>100,"0","") -> 0 | X25: =IF(X24-0.01<0,"0",X24-0.01) -> 0.06 | Y25: =VLOOKUP(M25,$M$50:$T$89,8,FALSE) -> 6.0528 | Z25: =V25+X25 -> 30.06 | AC25: 수원 | AD25: 303830898002 | AE25: 72444376667 | AF25: 0 | AG25: 0 | AH25: 376275274669 | AI25: 300107230886 | AJ25: 71725208472 | AK25: 0 | AL25: 0 | AM25: 371832439358 | AN25: =AJ25+AK25+AL25 -> 71725208472 | AO25: =AE25+AF25+AG25 -> 72444376667
B26: 3 | C26: 파주 | D26: 168242 | E26: 173959.69 | F26: =VLOOKUP(C26,$AC$8:$AO$49,11,FALSE)/1000000 -> 185158.22 | G26: =F26/E26% -> 106.43743 | I26: =F26/D26% -> 110.05469 | J26: =IF(I26>=100,4,I26*0.04) -> 4 | K26: =IF(I26>=100,10,I26*0.1) -> 10 | L26: 3 | M26: 서수원 | N26: 32723 | O26: 30069.663 | P26: =VLOOKUP(M26,$AC$8:$AO$49,12,FALSE)/1000000 -> 33721.868 | R26: =P26/O26% -> 112.14581 | T26: =(VLOOKUP(M26,$AC$8:$AO$49,13,FALSE)-VLOOKUP(M26,$AC$55:$AO$96,13,FALSE))/1000000 -> 307.49367 | U26: =P26/N26% -> 103.05249 | V26: =IF(U26>=100,30,U26*0.3) -> 30 | W26: =IF(U26>100,"0","") -> 0 | X26: =IF(X25-0.01<0,"0",X25-0.01) -> 0.05 | Y26: =VLOOKUP(M26,$M$50:$T$89,8,FALSE) -> 6.033 | Z26: =V26+X26 -> 30.05 | AC26: 하남 | AD26: 79169112171 | AE26: 21583326885 | AF26: 0 | AG26: 0 | AH26: 100752439056 | AI26: 80927489292 | AJ26: 20602014917 | AK26: 0 | AL26: 0 | AM26: 101529504209 | AN26: =AJ26+AK26+AL26 -> 20602014917 | AO26: =AE26+AF26+AG26 -> 21583326885
B27: 3 | C27: 안성 | D27: 111060 | E27: 113168.49 | F27: =VLOOKUP(C27,$AC$8:$AO$49,11,FALSE)/1000000 -> 121717.89 | G27: =F27/E27% -> 107.55457 | I27: =F27/D27% -> 109.59652 | J27: =IF(I27>=100,4,I27*0.04) -> 4 | K27: =IF(I27>=100,10,I27*0.1) -> 10 | L27: 3 | M27: 군포 | N27: 43423 | O27: 39525.569 | P27: =VLOOKUP(M27,$AC$8:$AO$49,12,FALSE)/1000000 -> 44634.275 | R27: =P27/O27% -> 112.92507 | T27: =(VLOOKUP(M27,$AC$8:$AO$49,13,FALSE)-VLOOKUP(M27,$AC$55:$AO$96,13,FALSE))/1000000 -> 1062.2195 | U27: =P27/N27% -> 102.78948 | V27: =IF(U27>=100,30,U27*0.3) -> 30 | W27: =IF(U27>100,"0","") -> 0 | X27: =IF(X26-0.01<0,"0",X26-0.01) -> 0.04 | Y27: =VLOOKUP(M27,$M$50:$T$89,8,FALSE) -> 6.0264 | Z27: =V27+X27 -> 30.04 | AC27: 연천 | AD27: 48125514107 | AE27: 20516265403 | AF27: 0 | AG27: 0 | AH27: 68641779510 | AI27: 49230297625 | AJ27: 19006836189 | AK27: 0 | AL27: 0 | AM27: 68237133814 | AN27: =AJ27+AK27+AL27 -> 19006836189 | AO27: =AE27+AF27+AG27 -> 20516265403
B28: 3 | C28: 남양주 | D28: 140465 | E28: 143950.55 | F28: =VLOOKUP(C28,$AC$8:$AO$49,11,FALSE)/1000000 -> 153314.26 | G28: =F28/E28% -> 106.50481 | I28: =F28/D28% -> 109.14766 | J28: =IF(I28>=100,4,I28*0.04) -> 4 | K28: =IF(I28>=100,10,I28*0.1) -> 10 | L28: 3 | M28: 파주 | N28: 44175 | O28: 38659.812 | P28: =VLOOKUP(M28,$AC$8:$AO$49,12,FALSE)/1000000 -> 45142.537 | R28: =P28/O28% -> 116.76864 | T28: =(VLOOKUP(M28,$AC$8:$AO$49,13,FALSE)-VLOOKUP(M28,$AC$55:$AO$96,13,FALSE))/1000000 -> 332.14993 | U28: =P28/N28% -> 102.19024 | V28: =IF(U28>=100,30,U28*0.3) -> 30 | W28: =IF(U28>100,"0","") -> 0 | X28: =IF(X27-0.01<0,"0",X27-0.01) -> 0.03 | Y28: =VLOOKUP(M28,$M$50:$T$89,8,FALSE) -> 6.0165 | Z28: =V28+X28 -> 30.03 | AC28: 백령 | AD28: 28927040400 | AE28: 7148385350 | AF28: 0 | AG28: 0 | AH28: 36075425750 | AI28: 28830277751 | AJ28: 7430456486 | AK28: 3359063 | AL28: 0 | AM28: 36264093300 | AN28: =AJ28+AK28+AL28 -> 7433815549 | AO28: =AE28+AF28+AG28 -> 7148385350
B29: 3 | C29: 인천계양 | D29: 161565 | E29: 167727.92 | F29: =VLOOKUP(C29,$AC$8:$AO$49,11,FALSE)/1000000 -> 175811.98 | G29: =F29/E29% -> 104.81975 | I29: =F29/D29% -> 108.81811 | J29: =IF(I29>=100,4,I29*0.04) -> 4 | K29: =IF(I29>=100,10,I29*0.1) -> 10 | L29: 3 | M29: 이천 | N29: 24369 | O29: 21140.229 | P29: =VLOOKUP(M29,$AC$8:$AO$49,12,FALSE)/1000000 -> 24714.68 | R29: =P29/O29% -> 116.90829 | T29: =(VLOOKUP(M29,$AC$8:$AO$49,13,FALSE)-VLOOKUP(M29,$AC$55:$AO$96,13,FALSE))/1000000 -> -35.210248 | U29: =P29/N29% -> 101.41852 | V29: =IF(U29>=100,30,U29*0.3) -> 30 | W29: =IF(U29>100,"0","") -> 0 | X29: =IF(X28-0.01<0,"0",X28-0.01) -> 0.02 | Y29: =VLOOKUP(M29,$M$50:$T$89,8,FALSE) -> 6.0132 | Z29: =V29+X29 -> 30.02 | AC29: 시흥 | AD29: 100626214832 | AE29: 48549237378 | AF29: 0 | AG29: 0 | AH29: 149175452210 | AI29: 104124050599 | AJ29: 47886807580 | AK29: 0 | AL29: 0 | AM29: 152010858179 | AN29: =AJ29+AK29+AL29 -> 47886807580 | AO29: =AE29+AF29+AG29 -> 48549237378
B30: 3 | C30: 군포 | D30: 247075 | E30: 258498.33 | F30: =VLOOKUP(C30,$AC$8:$AO$49,11,FALSE)/1000000 -> 267838.96 | G30: =F30/E30% -> 103.61342 | I30: =F30/D30% -> 108.40391 | J30: =IF(I30>=100,4,I30*0.04) -> 4 | K30: =IF(I30>=100,10,I30*0.1) -> 10 | L30: 3 | M30: 김포 | N30: 37777 | O30: 34427.359 | P30: =VLOOKUP(M30,$AC$8:$AO$49,12,FALSE)/1000000 -> 38306.153 | R30: =P30/O30% -> 111.2666 | T30: =(VLOOKUP(M30,$AC$8:$AO$49,13,FALSE)-VLOOKUP(M30,$AC$55:$AO$96,13,FALSE))/1000000 -> 577.85498 | U30: =P30/N30% -> 101.40073 | V30: =IF(U30>=100,30,U30*0.3) -> 30 | W30: =IF(U30>100,"0","") -> 0 | X30: =IF(X29-0.01<0,"0",X29-0.01) -> 0.01 | Y30: =VLOOKUP(M30,$M$50:$T$89,8,FALSE) -> 6.0099 | Z30: =V30+X30 -> 30.01 | AC30: 구리 | AD30: 126057726481 | AE30: 28556864725 | AF30: 0 | AG30: 286 | AH30: 154614591492 | AI30: 120301597456 | AJ30: 27137877919 | AK30: 0 | AL30: 286 | AM30: 147439475661 | AN30: =AJ30+AK30+AL30 -> 27137878205 | AO30: =AE30+AF30+AG30 -> 28556865011
B31: 3 | C31: 용인수지 | D31: 288449 | E31: 297196.94 | F31: =VLOOKUP(C31,$AC$8:$AO$49,11,FALSE)/1000000 -> 307367.7 | G31: =F31/E31% -> 103.42223 | I31: =F31/D31% -> 106.55877 | J31: =IF(I31>=100,4,I31*0.04) -> 4 | K31: =IF(I31>=100,10,I31*0.1) -> 10 | L31: 3 | M31: 광명 | N31: 47487 | O31: 40664.921 | P31: =VLOOKUP(M31,$AC$8:$AO$49,12,FALSE)/1000000 -> 46715.434 | R31: =P31/O31% -> 114.87895 | T31: =(VLOOKUP(M31,$AC$8:$AO$49,13,FALSE)-VLOOKUP(M31,$AC$55:$AO$96,13,FALSE))/1000000 -> -187.63723 | U31: =P31/N31% -> 98.375206 | V31: =IF(U31>=100,30,U31*0.3) -> 29.512562 | W31: =IF(U31>100,"0","") | X31: =IF(X30-0.01<0,"0",X30-0.01) -> 0 | Y31: =VLOOKUP(M31,$M$50:$T$89,8,FALSE) -> 5.9025124 | Z31: =V31+X31 -> 29.512562 | AC31: 성남 | AD31: 284847296740 | AE31: 95219219017 | AF31: 0 | AG31: 0 | AH31: 380066515757 | AI31: 288236970629 | AJ31: 91428828952 | AK31: 0 | AL31: 0 | AM31: 379665799581 | AN31: =AJ31+AK31+AL31 -> 91428828952 | AO31: =AE31+AF31+AG31 -> 95219219017
B32: 3 | C32: 광명 | D32: 215956 | E32: 224108.17 | F32: =VLOOKUP(C32,$AC$8:$AO$49,11,FALSE)/1000000 -> 227777.08 | G32: =F32/E32% -> 101.63711 | I32: =F32/D32% -> 105.47384 | J32: =IF(I32>=100,4,I32*0.04) -> 4 | K32: =IF(I32>=100,10,I32*0.1) -> 10 | L32: 3 | M32: 안성 | N32: 36775 | O32: 31572.257 | P32: =VLOOKUP(M32,$AC$8:$AO$49,12,FALSE)/1000000 -> 35924.911 | R32: =P32/O32% -> 113.78632 | T32: =(VLOOKUP(M32,$AC$8:$AO$49,13,FALSE)-VLOOKUP(M32,$AC$55:$AO$96,13,FALSE))/1000000 -> 218.14173 | U32: =P32/N32% -> 97.688405 | V32: =IF(U32>=100,30,U32*0.3) -> 29.306521 | W32: =IF(U32>100,"0","") | X32: =IF(X31-0.01<0,"0",X31-0.01) -> 0 | Y32: =VLOOKUP(M32,$M$50:$T$89,8,FALSE) -> 5.8613043 | Z32: =V32+X32 -> 29.306521 | AC32: 광명 | AD32: 181790304091 | AE32: 48385883057 | AF32: 0 | AG32: 379755 | AH32: 230176566903 | AI32: 181061642223 | AJ32: 46714681146 | AK32: 0 | AL32: 752915 | AM32: 227777076284 | AN32: =AJ32+AK32+AL32 -> 46715434061 | AO32: =AE32+AF32+AG32 -> 48386262812 | AP32: 요구불연평 | AQ32: 요구불유지잔액 | AR32: 수신고
B33: 3 | C33: 이천 | D33: 101621 | E33: 103357.19 | F33: =VLOOKUP(C33,$AC$8:$AO$49,11,FALSE)/1000000 -> 104576.85 | G33: =F33/E33% -> 101.18004 | I33: =F33/D33% -> 102.9087 | J33: =IF(I33>=100,4,I33*0.04) -> 4 | K33: =IF(I33>=100,10,I33*0.1) -> 10 | L33: 3 | M33: 남양주 | N33: 37380 | O33: 32854.045 | P33: =VLOOKUP(M33,$AC$8:$AO$49,12,FALSE)/1000000 -> 36064.52 | R33: =P33/O33% -> 109.77193 | T33: =(VLOOKUP(M33,$AC$8:$AO$49,13,FALSE)-VLOOKUP(M33,$AC$55:$AO$96,13,FALSE))/1000000 -> 138.35358 | U33: =P33/N33% -> 96.480793 | V33: =IF(U33>=100,30,U33*0.3) -> 28.944238 | W33: =IF(U33>100,"0","") | X33: =IF(X32-0.01<0,"0",X32-0.01) -> 0 | Y33: =VLOOKUP(M33,$M$50:$T$89,8,FALSE) -> 5.7888476 | Z33: =V33+X33 -> 28.944238 | AC33: 남인천 | AD33: 184332815077 | AE33: 61104311612 | AF33: 0 | AG33: 0 | AH33: 245437126689 | AI33: 193180854011 | AJ33: 71117475709 | AK33: 13606655 | AL33: 0 | AM33: 264311936375 | AN33: =AJ33+AK33+AL33 -> 71131082364 | AO33: =AE33+AF33+AG33 -> 61104311612 | AP33: =AN33+AN37 -> 125326663958 | AQ33: =AO33+AO37 -> 122606396020 | AR33: =AM33+AM37 -> 473779451897
A34: 라그룹 | B34: 4 | C34: 동두천 | D34: 72426 | E34: 74430.713 | F34: =VLOOKUP(C34,$AC$8:$AO$49,11,FALSE)/1000000 -> 81576.918 | G34: =F34/E34% -> 109.60115 | I34: =F34/D34% -> 112.63485 | J34: =IF(I34>=100,4,I34*0.04) -> 4 | K34: =IF(I34>=100,10,I34*0.1) -> 10 | L34: 4 | M34: 경기광주 | N34: 30447 | O34: 26272.659 | P34: =VLOOKUP(M34,$AC$8:$AO$49,12,FALSE)/1000000 -> 31980.41 | R34: =P34/O34% -> 121.72506 | T34: =(VLOOKUP(M34,$AC$8:$AO$49,13,FALSE)-VLOOKUP(M34,$AC$55:$AO$96,13,FALSE))/1000000 -> 813.0777 | U34: =P34/N34% -> 105.03633 | V34: =IF(U34>=100,30,U34*0.3) -> 30 | W34: =IF(U34>100,"0","") -> 0 | X34: =COUNTIF(W34:W39,"0")*0.01 -> 0.06 | Y34: =VLOOKUP(M34,$M$50:$T$89,8,FALSE) -> 6.0297 | Z34: =V34+X34 -> 30.06 | AC34: 안산 | AD34: 245234588546 | AE34: 94945147191 | AF34: 0 | AG34: 0 | AH34: 340179735737 | AI34: 243518053127 | AJ34: 90133833431 | AK34: 0 | AL34: 0 | AM34: 333651886558 | AN34: =AJ34+AK34+AL34 -> 90133833431 | AO34: =AE34+AF34+AG34 -> 94945147191 | AQ34: =AQ33/1000000 -> 122606.4
B35: 4 | C35: 경기광주 | D35: 111388 | E35: 114118.16 | F35: =VLOOKUP(C35,$AC$8:$AO$49,11,FALSE)/1000000 -> 122640.76 | G35: =F35/E35% -> 107.46822 | I35: =F35/D35% -> 110.10231 | J35: =IF(I35>=100,4,I35*0.04) -> 4 | K35: =IF(I35>=100,10,I35*0.1) -> 10 | L35: 4 | M35: 양평 | N35: 26497 | O35: 23468.71 | P35: =VLOOKUP(M35,$AC$8:$AO$49,12,FALSE)/1000000 -> 27739.407 | R35: =P35/O35% -> 118.19741 | T35: =(VLOOKUP(M35,$AC$8:$AO$49,13,FALSE)-VLOOKUP(M35,$AC$55:$AO$96,13,FALSE))/1000000 -> 111.84897 | U35: =P35/N35% -> 104.68886 | V35: =IF(U35>=100,30,U35*0.3) -> 30 | W35: =IF(U35>100,"0","") -> 0 | X35: =IF(X34-0.01<0,"0",X34-0.01) -> 0.05 | Y35: =VLOOKUP(M35,$M$50:$T$89,8,FALSE) -> 6.0264 | Z35: =V35+X35 -> 30.05 | AC35: 서수원 | AD35: 106174614217 | AE35: 32960881722 | AF35: 0 | AG35: 0 | AH35: 139135495939 | AI35: 102366150925 | AJ35: 33721867566 | AK35: 0 | AL35: 0 | AM35: 136088018491 | AN35: =AJ35+AK35+AL35 -> 33721867566 | AO35: =AE35+AF35+AG35 -> 32960881722
B36: 4 | C36: 오산 | D36: 102733 | E36: 106105.11 | F36: =VLOOKUP(C36,$AC$8:$AO$49,11,FALSE)/1000000 -> 110664.4 | G36: =F36/E36% -> 104.29696 | I36: =F36/D36% -> 107.7204 | J36: =IF(I36>=100,4,I36*0.04) -> 4 | K36: =IF(I36>=100,10,I36*0.1) -> 10 | L36: 4 | M36: 오산 | N36: 21628 | O36: 19022.278 | P36: =VLOOKUP(M36,$AC$8:$AO$49,12,FALSE)/1000000 -> 22470.306 | R36: =P36/O36% -> 118.12626 | T36: =(VLOOKUP(M36,$AC$8:$AO$49,13,FALSE)-VLOOKUP(M36,$AC$55:$AO$96,13,FALSE))/1000000 -> -282.86071 | U36: =P36/N36% -> 103.89452 | V36: =IF(U36>=100,30,U36*0.3) -> 30 | W36: =IF(U36>100,"0","") -> 0 | X36: =IF(X35-0.01<0,"0",X35-0.01) -> 0.04 | Y36: =VLOOKUP(M36,$M$50:$T$89,8,FALSE) -> 6.0231 | Z36: =V36+X36 -> 30.04 | AC36: 동수원 | AD36: 245613050089 | AE36: 58202730484 | AF36: 27994704 | AG36: 0 | AH36: 303843775277 | AI36: 244799904760 | AJ36: 57878511786 | AK36: 64962785 | AL36: 0 | AM36: 302743379331 | AN36: =AJ36+AK36+AL36 -> 57943474571 | AO36: =AE36+AF36+AG36 -> 58230725188
B37: 4 | C37: 구리 | D37: 138961 | E37: 145495.32 | F37: =VLOOKUP(C37,$AC$8:$AO$49,11,FALSE)/1000000 -> 147439.48 | G37: =F37/E37% -> 101.33624 | I37: =F37/D37% -> 106.10133 | J37: =IF(I37>=100,4,I37*0.04) -> 4 | K37: =IF(I37>=100,10,I37*0.1) -> 10 | L37: 4 | M37: 포천 | N37: 35182 | O37: 31631.939 | P37: =VLOOKUP(M37,$AC$8:$AO$49,12,FALSE)/1000000 -> 36382.532 | R37: =P37/O37% -> 115.01834 | T37: =(VLOOKUP(M37,$AC$8:$AO$49,13,FALSE)-VLOOKUP(M37,$AC$55:$AO$96,13,FALSE))/1000000 -> 401.62836 | U37: =P37/N37% -> 103.41235 | V37: =IF(U37>=100,30,U37*0.3) -> 30 | W37: =IF(U37>100,"0","") -> 0 | X37: =IF(X36-0.01<0,"0",X36-0.01) -> 0.03 | Y37: =VLOOKUP(M37,$M$50:$T$89,8,FALSE) -> 6.0165 | Z37: =V37+X37 -> 30.03 | AC37: 인천남동 | AD37: 171462666473 | AE37: 61486821638 | AF37: 15262770 | AG37: 0 | AH37: 232964750881 | AI37: 155271933928 | AJ37: 54187813483 | AK37: 7768111 | AL37: 0 | AM37: 209467515522 | AN37: =AJ37+AK37+AL37 -> 54195581594 | AO37: =AE37+AF37+AG37 -> 61502084408
B38: 4 | C38: 포천 | D38: 110239 | E38: 117489.62 | F38: =VLOOKUP(C38,$AC$8:$AO$49,11,FALSE)/1000000 -> 116593.27 | G38: =F38/E38% -> 99.23708 | I38: =F38/D38% -> 105.76408 | J38: =IF(I38>=100,4,I38*0.04) -> 4 | K38: =IF(I38>=100,10,I38*0.1) -> 10 | L38: 4 | M38: 구리 | N38: 26692 | O38: 23724.785 | P38: =VLOOKUP(M38,$AC$8:$AO$49,12,FALSE)/1000000 -> 27137.878 | R38: =P38/O38% -> 114.38619 | T38: =(VLOOKUP(M38,$AC$8:$AO$49,13,FALSE)-VLOOKUP(M38,$AC$55:$AO$96,13,FALSE))/1000000 -> 447.98816 | U38: =P38/N38% -> 101.67046 | V38: =IF(U38>=100,30,U38*0.3) -> 30 | W38: =IF(U38>100,"0","") -> 0 | X38: =IF(X37-0.01<0,"0",X37-0.01) -> 0.02 | Y38: =VLOOKUP(M38,$M$50:$T$89,8,FALSE) -> 6.0099 | Z38: =V38+X38 -> 30.02 | AC38: 군포 | AD38: 216698142546 | AE38: 48980167101 | AF38: 18887740 | AG38: 0 | AH38: 265697197387 | AI38: 223204685194 | AJ38: 44588905779 | AK38: 45369628 | AL38: 0 | AM38: 267838960601 | AN38: =AJ38+AK38+AL38 -> 44634275407 | AO38: =AE38+AF38+AG38 -> 48999054841
B39: 4 | C39: 양평 | D39: 120659 | E39: 124561.56 | F39: =VLOOKUP(C39,$AC$8:$AO$49,11,FALSE)/1000000 -> 127345.28 | G39: =F39/E39% -> 102.23481 | I39: =F39/D39% -> 105.54147 | J39: =IF(I39>=100,4,I39*0.04) -> 4 | K39: =IF(I39>=100,10,I39*0.1) -> 10 | L39: 4 | M39: 동두천 | N39: 20863 | O39: 19195.939 | P39: =VLOOKUP(M39,$AC$8:$AO$49,12,FALSE)/1000000 -> 21076.521 | R39: =P39/O39% -> 109.79677 | T39: =(VLOOKUP(M39,$AC$8:$AO$49,13,FALSE)-VLOOKUP(M39,$AC$55:$AO$96,13,FALSE))/1000000 -> -140.07621 | U39: =P39/N39% -> 101.02344 | V39: =IF(U39>=100,30,U39*0.3) -> 30 | W39: =IF(U39>100,"0","") -> 0 | X39: =IF(X38-0.01<0,"0",X38-0.01) -> 0.01 | Y39: =VLOOKUP(M39,$M$50:$T$89,8,FALSE) -> 6.0066 | Z39: =V39+X39 -> 30.01 | AC39: 안양 | AD39: 379550773938 | AE39: 108847500987 | AF39: 3089143214 | AG39: 0 | AH39: 491487418139 | AI39: 376522080059 | AJ39: 86676190754 | AK39: 4402849618 | AL39: 0 | AM39: 467601120431 | AN39: =AJ39+AK39+AL39 -> 91079040372 | AO39: =AE39+AF39+AG39 -> 111936644201
A40: 마그룹 | B40: 5 | C40: 백령 | D40: 33147 | E40: 33637.786 | F40: =VLOOKUP(C40,$AC$8:$AO$49,11,FALSE)/1000000 -> 36264.093 | G40: =F40/E40% -> 107.80761 | I40: =F40/D40% -> 109.40385 | J40: =IF(I40>=100,4,I40*0.04) -> 4 | K40: =IF(I40>=100,10,I40*0.1) -> 10 | L40: 5 | M40: 여주 | N40: 21185 | O40: 19127.39 | P40: =VLOOKUP(M40,$AC$8:$AO$49,12,FALSE)/1000000 -> 21922.312 | R40: =P40/O40% -> 114.61215 | T40: =(VLOOKUP(M40,$AC$8:$AO$49,13,FALSE)-VLOOKUP(M40,$AC$55:$AO$96,13,FALSE))/1000000 -> 103.38424 | U40: =P40/N40% -> 103.48035 | V40: =IF(U40>=100,30,U40*0.3) -> 30 | W40: =IF(U40>100,"0","") -> 0 | X40: =COUNTIF(W40:W45,"0")*0.01 -> 0.03 | Y40: =VLOOKUP(M40,$M$50:$T$89,8,FALSE) -> 6.0198 | Z40: =V40+X40 -> 30.03 | AC40: 성남분당 | AD40: 828113078027 | AE40: 74952451663 | AF40: 0 | AG40: 0 | AH40: 903065529690 | AI40: 757107583634 | AJ40: 79192346215 | AK40: 0 | AL40: 0 | AM40: 836299929849 | AN40: =AJ40+AK40+AL40 -> 79192346215 | AO40: =AE40+AF40+AG40 -> 74952451663
B41: 5 | C41: 연천 | D41: 64326 | E41: 65387.163 | F41: =VLOOKUP(C41,$AC$8:$AO$49,11,FALSE)/1000000 -> 68237.134 | G41: =F41/E41% -> 104.35861 | I41: =F41/D41% -> 106.08018 | J41: =IF(I41>=100,4,I41*0.04) -> 4 | K41: =IF(I41>=100,10,I41*0.1) -> 10 | L41: 5 | M41: 연천 | N41: 18598 | O41: 16437.426 | P41: =VLOOKUP(M41,$AC$8:$AO$49,12,FALSE)/1000000 -> 19006.836 | R41: =P41/O41% -> 115.63146 | T41: =(VLOOKUP(M41,$AC$8:$AO$49,13,FALSE)-VLOOKUP(M41,$AC$55:$AO$96,13,FALSE))/1000000 -> 43.758877 | U41: =P41/N41% -> 102.19828 | V41: =IF(U41>=100,30,U41*0.3) -> 30 | W41: =IF(U41>100,"0","") -> 0 | X41: =IF(X40-0.01<0,"0",X40-0.01) -> 0.02 | Y41: =VLOOKUP(M41,$M$50:$T$89,8,FALSE) -> 6.0132 | Z41: =V41+X41 -> 30.02 | AC41: 고양일산 | AD41: 268448514772 | AE41: 52103653732 | AF41: 0 | AG41: 0 | AH41: 320552168504 | AI41: 265578002141 | AJ41: 54529498099 | AK41: 0 | AL41: 0 | AM41: 320107500240 | AN41: =AJ41+AK41+AL41 -> 54529498099 | AO41: =AE41+AF41+AG41 -> 52103653732
B42: 5 | C42: 가평 | D42: 63569 | E42: 65381.802 | F42: =VLOOKUP(C42,$AC$8:$AO$49,11,FALSE)/1000000 -> 66443.909 | G42: =F42/E42% -> 101.62447 | I42: =F42/D42% -> 104.5225 | J42: =IF(I42>=100,4,I42*0.04) -> 4 | K42: =IF(I42>=100,10,I42*0.1) -> 10 | L42: 5 | M42: 하남 | N42: 20444 | O42: 19163.534 | P42: =VLOOKUP(M42,$AC$8:$AO$49,12,FALSE)/1000000 -> 20602.015 | R42: =P42/O42% -> 107.50634 | T42: =(VLOOKUP(M42,$AC$8:$AO$49,13,FALSE)-VLOOKUP(M42,$AC$55:$AO$96,13,FALSE))/1000000 -> 261.05126 | U42: =P42/N42% -> 100.77292 | V42: =IF(U42>=100,30,U42*0.3) -> 30 | W42: =IF(U42>100,"0","") -> 0 | X42: =IF(X41-0.01<0,"0",X41-0.01) -> 0.01 | Y42: =VLOOKUP(M42,$M$50:$T$89,8,FALSE) -> 6.0033 | Z42: =V42+X42 -> 30.01 | AC42: 서인천 | AD42: 189310585622 | AE42: 58465147926 | AF42: 22308229 | AG42: 0 | AH42: 247798041777 | AI42: 185155988802 | AJ42: 57012607971 | AK42: 41055907 | AL42: 0 | AM42: 242209652680 | AN42: =AJ42+AK42+AL42 -> 57053663878 | AO42: =AE42+AF42+AG42 -> 58487456155
B43: 5 | C43: 하남 | D43: 98016 | E43: 103299.93 | F43: =VLOOKUP(C43,$AC$8:$AO$49,11,FALSE)/1000000 -> 101529.5 | G43: =F43/E43% -> 98.286127 | I43: =F43/D43% -> 103.58462 | J43: =IF(I43>=100,4,I43*0.04) -> 4 | K43: =IF(I43>=100,10,I43*0.1) -> 10 | L43: 5 | M43: 가평 | N43: 20737 | O43: 18986.131 | P43: =VLOOKUP(M43,$AC$8:$AO$49,12,FALSE)/1000000 -> 20683.245 | R43: =P43/O43% -> 108.9387 | T43: =(VLOOKUP(M43,$AC$8:$AO$49,13,FALSE)-VLOOKUP(M43,$AC$55:$AO$96,13,FALSE))/1000000 -> -408.91599 | U43: =P43/N43% -> 99.740778 | V43: =IF(U43>=100,30,U43*0.3) -> 29.922234 | W43: =IF(U43>100,"0","") | X43: =IF(X42-0.01<0,"0",X42-0.01) -> 0 | Y43: =VLOOKUP(M43,$M$50:$T$89,8,FALSE) -> 5.9844467 | Z43: =V43+X43 -> 29.922234 | AC43: 부천 | AD43: 367847165634 | AE43: 107639875759 | AF43: 0 | AG43: 500 | AH43: 475487041893 | AI43: 359251934335 | AJ43: 106884539686 | AK43: 0 | AL43: 351013 | AM43: 466136825034 | AN43: =AJ43+AK43+AL43 -> 106884890699 | AO43: =AE43+AF43+AG43 -> 107639876259
B44: 5 | C44: 여주 | D44: 94709 | E44: 101132.92 | F44: =VLOOKUP(C44,$AC$8:$AO$49,11,FALSE)/1000000 -> 96918.425 | G44: =F44/E44% -> 95.83272 | I44: =F44/D44% -> 102.33286 | J44: =IF(I44>=100,4,I44*0.04) -> 4 | K44: =IF(I44>=100,10,I44*0.1) -> 10 | L44: 5 | M44: 백령 | N44: 7812 | O44: 6616.9259 | P44: =VLOOKUP(M44,$AC$8:$AO$49,12,FALSE)/1000000 -> 7433.8155 | R44: =P44/O44% -> 112.34546 | T44: =(VLOOKUP(M44,$AC$8:$AO$49,13,FALSE)-VLOOKUP(M44,$AC$55:$AO$96,13,FALSE))/1000000 -> -25.97394 | U44: =P44/N44% -> 95.158929 | V44: =IF(U44>=100,30,U44*0.3) -> 28.547679 | W44: =IF(U44>100,"0","") | X44: =IF(X43-0.01<0,"0",X43-0.01) -> 0 | Y44: =VLOOKUP(M44,$M$50:$T$89,8,FALSE) -> 5.7095358 | Z44: =V44+X44 -> 28.547679 | AC44: 고양덕양 | AD44: 217482180860 | AE44: 55467971820 | AF44: 0 | AG44: 0 | AH44: 272950152680 | AI44: 213701132994 | AJ44: 51221426966 | AK44: 0 | AL44: 0 | AM44: 264922559960 | AN44: =AJ44+AK44+AL44 -> 51221426966 | AO44: =AE44+AF44+AG44 -> 55467971820
B45: 5 | C45: 강화 | D45: 101589 | E45: 106020.89 | F45: =VLOOKUP(C45,$AC$8:$AO$49,11,FALSE)/1000000 -> 103938.28 | G45: =F45/E45% -> 98.035652 | I45: =F45/D45% -> 102.31253 | J45: =IF(I45>=100,4,I45*0.04) -> 4 | K45: =IF(I45>=100,10,I45*0.1) -> 10 | L45: 5 | M45: 강화 | N45: 25162 | O45: 22220.115 | P45: =VLOOKUP(M45,$AC$8:$AO$49,12,FALSE)/1000000 -> 23543.68 | R45: =P45/O45% -> 105.95661 | T45: =(VLOOKUP(M45,$AC$8:$AO$49,13,FALSE)-VLOOKUP(M45,$AC$55:$AO$96,13,FALSE))/1000000 -> 31.351641 | U45: =P45/N45% -> 93.568396 | V45: =IF(U45>=100,30,U45*0.3) -> 28.070519 | W45: =IF(U45>100,"0","") | X45: =IF(X44-0.01<0,"0",X44-0.01) -> 0 | Y45: =VLOOKUP(M45,$M$50:$T$89,8,FALSE) -> 5.6141038 | Z45: =V45+X45 -> 28.070519 | AC45: 인천계양 | AD45: 141037941241 | AE45: 44114807589 | AF45: 28159162 | AG45: 0 | AH45: 185180907992 | AI45: 136331811708 | AJ45: 39430934787 | AK45: 49234418 | AL45: 0 | AM45: 175811980913 | AN45: =AJ45+AK45+AL45 -> 39480169205 | AO45: =AE45+AF45+AG45 -> 44142966751
C46: total | D46: =SUM(D6:D45) -> 8705900 | E46: =SUM(E6:E45) -> 8984412.7 | F46: =SUM(F6:F45) -> 9401811.5 | G46: =F46/E46% -> 104.64581 | I46: =F46/D46% -> 107.99356 | M46: total | N46: =SUM(N6:N45) -> 1943900 | O46: =SUM(O6:O45) -> 1793997.5 | P46: =SUM(P6:P45) -> 1989286.1 | R46: =P46/O46% -> 110.88566 | T46: =(VLOOKUP(M46,$AC$8:$AO$49,13,FALSE)-VLOOKUP(M46,$AC$55:$AO$96,13,FALSE))/1000000 -> 12511.178 | U46: =P46/N46% -> 102.33479 | AC46: 용인수지 | AD46: 271902559159 | AE46: 40418288747 | AF46: 16373860 | AG46: 0 | AH46: 312337221766 | AI46: 267768535963 | AJ46: 39559927987 | AK46: 39240197 | AL46: 0 | AM46: 307367704147 | AN46: =AJ46+AK46+AL46 -> 39599168184 | AO46: =AE46+AF46+AG46 -> 40434662607
AC47: 남양주 | AD47: 117164682776 | AE47: 35692956610 | AF47: 0 | AG47: 0 | AH47: 152857639386 | AI47: 117249741349 | AJ47: 36064520408 | AK47: 0 | AL47: 0 | AM47: 153314261757 | AN47: =AJ47+AK47+AL47 -> 36064520408 | AO47: =AE47+AF47+AG47 -> 35692956610
M48: 국 명 | N48: 요구불예금수신고 | AC48: 화성 | AD48: 172167240098 | AE48: 56145222614 | AF48: 0 | AG48: 0 | AH48: 228312462712 | AI48: 168978103414 | AJ48: 52454870233 | AK48: 0 | AL48: 0 | AM48: 221432973647 | AN48: =AJ48+AK48+AL48 -> 52454870233 | AO48: =AE48+AF48+AG48 -> 56145222614
N49: 목표 | O49: 연평잔고 | P49: 달성률 | Q49: 경평계산득점 | R49: 만점여부 | S49: 가점 | T49: 경평득점 | AC49: total | AD49: 7532007645372 | AE49: 2078256039908 | AF49: 3659991582 | AG49: 380541 | AH49: 9613924057403 | AI49: 7412525481307 | AJ49: 1983984153985 | AK49: 5300798958 | AL49: 1104214 | AM49: 9401811538464 | AN49: =AJ49+AK49+AL49 -> 1989286057157 | AO49: =AE49+AF49+AG49 -> 2081916412031
L50: 1 | M50: 용인수지 | N50: 35050 | O50: =VLOOKUP(M50,$AC$8:$AO$49,12,FALSE)/1000000 -> 39599.168 | P50: =O50/N50% -> 112.97908 | Q50: =IF(P50>=100,6,P50*0.06) -> 6 | R50: =IF(P50>100,"0","") -> 0 | S50: =COUNTIF(R50:R77,"0")*0.0033 -> 0.066 | T50: =Q50+S50 -> 6.066 | AD50: 7532007645372 | AE50: 2078256039908 | AF50: 3659991582 | AG50: 380541 | AH50: 9613924057403 | AI50: 7412525481307 | AJ50: 1983984153985 | AK50: 5300798958 | AL50: 1104214 | AM50: 9401811538464
L51: 1 | M51: 성남분당 | N51: 70406 | O51: =VLOOKUP(M51,$AC$8:$AO$49,12,FALSE)/1000000 -> 79192.346 | P51: =O51/N51% -> 112.47954 | Q51: =IF(P51>=100,6,P51*0.06) -> 6 | R51: =IF(P51>100,"0","") -> 0 | S51: =IF(S50-0.0033<0,"0",S50-0.0033) -> 0.0627 | T51: =Q51+S51 -> 6.0627
L52: 1 | M52: 안양 | N52: 81033 | O52: =VLOOKUP(M52,$AC$8:$AO$49,12,FALSE)/1000000 -> 91079.04 | P52: =O52/N52% -> 112.39747 | Q52: =IF(P52>=100,6,P52*0.06) -> 6 | R52: =IF(P52>100,"0","") -> 0 | S52: =IF(S51-0.0033<0,"0",S51-0.0033) -> 0.0594 | T52: =Q52+S52 -> 6.0594 | AC52: 전일실적
L53: 1 | M53: 고양일산 | N53: 50574 | O53: =VLOOKUP(M53,$AC$8:$AO$49,12,FALSE)/1000000 -> 54529.498 | P53: =O53/N53% -> 107.82121 | Q53: =IF(P53>=100,6,P53*0.06) -> 6 | R53: =IF(P53>100,"0","") -> 0 | S53: =IF(S52-0.0033<0,"0",S52-0.0033) -> 0.0561 | T53: =Q53+S53 -> 6.0561 | AD53: 유지잔액 | AI53: 일연평잔고
L54: 1 | M54: 인천계양 | N54: 37301 | O54: =VLOOKUP(M54,$AC$8:$AO$49,12,FALSE)/1000000 -> 39480.169 | P54: =O54/N54% -> 105.84212 | Q54: =IF(P54>=100,6,P54*0.06) -> 6 | R54: =IF(P54>100,"0","") -> 0 | S54: =IF(S53-0.0033<0,"0",S53-0.0033) -> 0.0528 | T54: =Q54+S54 -> 6.0528 | AD54: 일반예금 | AE54: 요구불예금 | AF54: 타부처국고예금 | AG54: 실적우편대체 | AH54: Total | AI54: 일반예금 | AJ54: 요구불예금 | AK54: 타부처국고예금 | AL54: 실적우편대체 | AM54: Total | AN54: 요구불연평 | AO54: 요구불유지잔액
L55: 1 | M55: 수원 | N55: 68028 | O55: =VLOOKUP(M55,$AC$8:$AO$49,12,FALSE)/1000000 -> 71725.208 | P55: =O55/N55% -> 105.43483 | Q55: =IF(P55>=100,6,P55*0.06) -> 6 | R55: =IF(P55>100,"0","") -> 0 | S55: =IF(S54-0.0033<0,"0",S54-0.0033) -> 0.0495 | T55: =Q55+S55 -> 6.0495 | AC55: 평택 | AD55: 297115142115 | AE55: 94981460966 | AF55: 0 | AG55: 0 | AH55: 392096603081 | AI55: 299307565119 | AJ55: 89054352625 | AK55: 0 | AL55: 0 | AM55: 388361917744 | AN55: =AJ55+AK55+AL55 -> 89054352625 | AO55: =AE55+AF55+AG55 -> 94981460966
L56: 1 | M56: 남인천 | N56: 119184 | O56: =VLOOKUP(M56,$M$6:$Z$45,4,FALSE) -> 125326.66 | P56: =O56/N56% -> 105.15393 | Q56: =IF(P56>=100,6,P56*0.06) -> 6 | R56: =IF(P56>100,"0","") -> 0 | S56: =IF(S55-0.0033<0,"0",S55-0.0033) -> 0.0462 | T56: =Q56+S56 -> 6.0462 | AC56: 인천 | AD56: 264595836336 | AE56: 78518845839 | AF56: 0 | AG56: 0 | AH56: 343114682175 | AI56: 264541653391 | AJ56: 69553881414 | AK56: 0 | AL56: 0 | AM56: 334095534805 | AN56: =AJ56+AK56+AL56 -> 69553881414 | AO56: =AE56+AF56+AG56 -> 78518845839
L57: 1 | M57: 평택 | N57: 85242 | O57: =VLOOKUP(M57,$AC$8:$AO$49,12,FALSE)/1000000 -> 89082.79 | P57: =O57/N57% -> 104.50575 | Q57: =IF(P57>=100,6,P57*0.06) -> 6 | R57: =IF(P57>100,"0","") -> 0 | S57: =IF(S56-0.0033<0,"0",S56-0.0033) -> 0.0429 | T57: =Q57+S57 -> 6.0429 | AC57: 부평 | AD57: 265996259846 | AE57: 94462483299 | AF57: 29892090 | AG57: 0 | AH57: 360488635235 | AI57: 269480348425 | AJ57: 85756385726 | AK57: 32770680 | AL57: 0 | AM57: 355269504831 | AN57: =AJ57+AK57+AL57 -> 85789156406 | AO57: =AE57+AF57+AG57 -> 94492375389
L58: 1 | M58: 부천 | N58: 103016 | O58: =VLOOKUP(M58,$AC$8:$AO$49,12,FALSE)/1000000 -> 106884.89 | P58: =O58/N58% -> 103.75562 | Q58: =IF(P58>=100,6,P58*0.06) -> 6 | R58: =IF(P58>100,"0","") -> 0 | S58: =IF(S57-0.0033<0,"0",S57-0.0033) -> 0.0396 | T58: =Q58+S58 -> 6.0396 | AC58: 오산 | AD58: 86957739860 | AE58: 24928044868 | AF58: 0 | AG58: 0 | AH58: 111885784728 | AI58: 88197216750 | AJ58: 22463774907 | AK58: 0 | AL58: 0 | AM58: 110660991657 | AN58: =AJ58+AK58+AL58 -> 22463774907 | AO58: =AE58+AF58+AG58 -> 24928044868
L59: 1 | M59: 부평 | N59: 82878 | O59: =VLOOKUP(M59,$AC$8:$AO$49,12,FALSE)/1000000 -> 85812.833 | P59: =O59/N59% -> 103.54115 | Q59: =IF(P59>=100,6,P59*0.06) -> 6 | R59: =IF(P59>100,"0","") -> 0 | S59: =IF(S58-0.0033<0,"0",S58-0.0033) -> 0.0363 | T59: =Q59+S59 -> 6.0363 | AC59: 안성 | AD59: 90349133477 | AE59: 36699334075 | AF59: 0 | AG59: 0 | AH59: 127048467552 | AI59: 85779393353 | AJ59: 35921930170 | AK59: 0 | AL59: 0 | AM59: 121701323523 | AN59: =AJ59+AK59+AL59 -> 35921930170 | AO59: =AE59+AF59+AG59 -> 36699334075
L60: 1 | M60: 서수원 | N60: 32723 | O60: =VLOOKUP(M60,$AC$8:$AO$49,12,FALSE)/1000000 -> 33721.868 | P60: =O60/N60% -> 103.05249 | Q60: =IF(P60>=100,6,P60*0.06) -> 6 | R60: =IF(P60>100,"0","") -> 0 | S60: =IF(S59-0.0033<0,"0",S59-0.0033) -> 0.033 | T60: =Q60+S60 -> 6.033 | AC60: 가평 | AD60: 46801463248 | AE60: 21902047222 | AF60: 0 | AG60: 0 | AH60: 68703510470 | AI60: 45757984379 | AJ60: 20680813123 | AK60: 0 | AL60: 0 | AM60: 66438797502 | AN60: =AJ60+AK60+AL60 -> 20680813123 | AO60: =AE60+AF60+AG60 -> 21902047222
L61: 1 | M61: 성남 | N61: 88844 | O61: =VLOOKUP(M61,$AC$8:$AO$49,12,FALSE)/1000000 -> 91428.829 | P61: =O61/N61% -> 102.9094 | Q61: =IF(P61>=100,6,P61*0.06) -> 6 | R61: =IF(P61>100,"0","") -> 0 | S61: =IF(S60-0.0033<0,"0",S60-0.0033) -> 0.0297 | T61: =Q61+S61 -> 6.0297 | AC61: 파주 | AD61: 146755595682 | AE61: 47865894962 | AF61: 16893329 | AG61: 0 | AH61: 194638383973 | AI61: 139995988449 | AJ61: 45102024632 | AK61: 31285460 | AL61: 0 | AM61: 185129298541 | AN61: =AJ61+AK61+AL61 -> 45133310092 | AO61: =AE61+AF61+AG61 -> 47882788291
L62: 1 | M62: 군포 | N62: 43423 | O62: =VLOOKUP(M62,$AC$8:$AO$49,12,FALSE)/1000000 -> 44634.275 | P62: =O62/N62% -> 102.78948 | Q62: =IF(P62>=100,6,P62*0.06) -> 6 | R62: =IF(P62>100,"0","") -> 0 | S62: =IF(S61-0.0033<0,"0",S61-0.0033) -> 0.0264 | T62: =Q62+S62 -> 6.0264 | AC62: 강화 | AD62: 80414135657 | AE62: 25213343874 | AF62: 0 | AG62: 0 | AH62: 105627479531 | AI62: 80394393982 | AJ62: 23538571736 | AK62: 0 | AL62: 0 | AM62: 103932965718 | AN62: =AJ62+AK62+AL62 -> 23538571736 | AO62: =AE62+AF62+AG62 -> 25213343874
L63: 1 | M63: 동수원 | N63: 56604 | O63: =VLOOKUP(M63,$AC$8:$AO$49,12,FALSE)/1000000 -> 57943.475 | P63: =O63/N63% -> 102.3664 | Q63: =IF(P63>=100,6,P63*0.06) -> 6 | R63: =IF(P63>100,"0","") -> 0 | S63: =IF(S62-0.0033<0,"0",S62-0.0033) -> 0.0231 | T63: =Q63+S63 -> 6.0231 | AC63: 양평 | AD63: 100002085858 | AE63: 30346840488 | AF63: 0 | AG63: 0 | AH63: 130348926346 | AI63: 99605401433 | AJ63: 27731240848 | AK63: 0 | AL63: 0 | AM63: 127336642281 | AN63: =AJ63+AK63+AL63 -> 27731240848 | AO63: =AE63+AF63+AG63 -> 30346840488
L64: 1 | M64: 안산 | N64: 88189 | O64: =VLOOKUP(M64,$AC$8:$AO$49,12,FALSE)/1000000 -> 90133.833 | P64: =O64/N64% -> 102.2053 | Q64: =IF(P64>=100,6,P64*0.06) -> 6 | R64: =IF(P64>100,"0","") -> 0 | S64: =IF(S63-0.0033<0,"0",S63-0.0033) -> 0.0198 | T64: =Q64+S64 -> 6.0198 | AC64: 경기광주 | AD64: 91379057640 | AE64: 32359537377 | AF64: 136235112 | AG64: 0 | AH64: 123874830129 | AI64: 90658141782 | AJ64: 31836386368 | AK64: 140034686 | AL64: 0 | AM64: 122634562836 | AN64: =AJ64+AK64+AL64 -> 31976421054 | AO64: =AE64+AF64+AG64 -> 32495772489
L65: 1 | M65: 파주 | N65: 44175 | O65: =VLOOKUP(M65,$AC$8:$AO$49,12,FALSE)/1000000 -> 45142.537 | P65: =O65/N65% -> 102.19024 | Q65: =IF(P65>=100,6,P65*0.06) -> 6 | R65: =IF(P65>100,"0","") -> 0 | S65: =IF(S64-0.0033<0,"0",S64-0.0033) -> 0.0165 | T65: =Q65+S65 -> 6.0165 | AC65: 여주 | AD65: 72073476960 | AE65: 22628046600 | AF65: 0 | AG65: 0 | AH65: 94701523560 | AI65: 75004727551 | AJ65: 21919882112 | AK65: 0 | AL65: 0 | AM65: 96924609663 | AN65: =AJ65+AK65+AL65 -> 21919882112 | AO65: =AE65+AF65+AG65 -> 22628046600
L66: 1 | M66: 이천 | N66: 24369 | O66: =VLOOKUP(M66,$AC$8:$AO$49,12,FALSE)/1000000 -> 24714.68 | P66: =O66/N66% -> 101.41852 | Q66: =IF(P66>=100,6,P66*0.06) -> 6 | R66: =IF(P66>100,"0","") -> 0 | S66: =IF(S65-0.0033<0,"0",S65-0.0033) -> 0.0132 | T66: =Q66+S66 -> 6.0132 | AC66: 김포 | AD66: 121375599643 | AE66: 39673882901 | AF66: 14567496 | AG66: 0 | AH66: 161064050040 | AI66: 129750260802 | AJ66: 38276858457 | AK66: 23408045 | AL66: 0 | AM66: 168050527304 | AN66: =AJ66+AK66+AL66 -> 38300266502 | AO66: =AE66+AF66+AG66 -> 39688450397
L67: 1 | M67: 김포 | N67: 37777 | O67: =VLOOKUP(M67,$AC$8:$AO$49,12,FALSE)/1000000 -> 38306.153 | P67: =O67/N67% -> 101.40073 | Q67: =IF(P67>=100,6,P67*0.06) -> 6 | R67: =IF(P67>100,"0","") -> 0 | S67: =IF(S66-0.0033<0,"0",S66-0.0033) -> 0.0099 | T67: =Q67+S67 -> 6.0099 | AC67: 포천 | AD67: 83520848278 | AE67: 34918117810 | AF67: 11091430 | AG67: 0 | AH67: 118450057518 | AI67: 80200693548 | AJ67: 36364702325 | AK67: 20987645 | AL67: 0 | AM67: 116586383518 | AN67: =AJ67+AK67+AL67 -> 36385689970 | AO67: =AE67+AF67+AG67 -> 34929209240
L68: 1 | M68: 의정부 | N68: 62839 | O68: =VLOOKUP(M68,$AC$8:$AO$49,12,FALSE)/1000000 -> 63673.542 | P68: =O68/N68% -> 101.32806 | Q68: =IF(P68>=100,6,P68*0.06) -> 6 | R68: =IF(P68>100,"0","") -> 0 | S68: =IF(S67-0.0033<0,"0",S67-0.0033) -> 0.0066 | T68: =Q68+S68 -> 6.0066 | AC68: 이천 | AD68: 78203562577 | AE68: 24959454498 | AF68: 73854505 | AG68: 0 | AH68: 103236871580 | AI68: 79866718831 | AJ68: 24607600649 | AK68: 106228399 | AL68: 0 | AM68: 104580547879 | AN68: =AJ68+AK68+AL68 -> 24713829048 | AO68: =AE68+AF68+AG68 -> 25033309003
... L77: 1 | M77: 서인천 | N77: 68038 | O77: =VLOOKUP(M77,$AC$8:$AO$49,12,FALSE)/1000000 -> 57053.664 | P77: =O77/N77% -> 83.855586 | Q77: =IF(P77>=100,6,P77*0.06) -> 5.0313352 | R77: =IF(P77>100,"0","") | S77: =IF(S76-0.0033<0,"0",S76-0.0033) -> 0 | T77: =Q77+S77 -> 5.0313352 | AC77: 구리 | AD77: 126243864511 | AE77: 28108876563 | AF77: 0 | AG77: 286 | AH77: 154352741360 | AI77: 120284311784 | AJ77: 27133616697 | AK77: 0 | AL77: 286 | AM77: 147417928767 | AN77: =AJ77+AK77+AL77 -> 27133616983 | AO77: =AE77+AF77+AG77 -> 28108876849
L78: 2 | M78: 경기광주 | N78: 30447 | O78: =VLOOKUP(M78,$AC$8:$AO$49,12,FALSE)/1000000 -> 31980.41 | P78: =O78/N78% -> 105.03633 | Q78: =IF(P78>=100,6,P78*0.06) -> 6 | R78: =IF(P78>100,"0","") -> 0 | S78: =COUNTIF(R78:R89,"0")*0.0033 -> 0.0297 | T78: =Q78+S78 -> 6.0297 | AC78: 성남 | AD78: 284997873483 | AE78: 95101513408 | AF78: 0 | AG78: 0 | AH78: 380099386891 | AI78: 288247149829 | AJ78: 91417446398 | AK78: 0 | AL78: 0 | AM78: 379664596227 | AN78: =AJ78+AK78+AL78 -> 91417446398 | AO78: =AE78+AF78+AG78 -> 95101513408
L79: 2 | M79: 양평 | N79: 26497 | O79: =VLOOKUP(M79,$AC$8:$AO$49,12,FALSE)/1000000 -> 27739.407 | P79: =O79/N79% -> 104.68886 | Q79: =IF(P79>=100,6,P79*0.06) -> 6 | R79: =IF(P79>100,"0","") -> 0 | S79: =IF(S78-0.0033<0,"0",S78-0.0033) -> 0.0264 | T79: =Q79+S79 -> 6.0264 | AC79: 광명 | AD79: 181472348968 | AE79: 48573777826 | AF79: 0 | AG79: 122215 | AH79: 230046249009 | AI79: 181059454050 | AJ79: 46709662521 | AK79: 0 | AL79: 754035 | AM79: 227769870606 | AN79: =AJ79+AK79+AL79 -> 46710416556 | AO79: =AE79+AF79+AG79 -> 48573900041 | AP79: 연평 | AQ79: 유지잔액
L80: 2 | M80: 오산 | N80: 21628 | O80: =VLOOKUP(M80,$AC$8:$AO$49,12,FALSE)/1000000 -> 22470.306 | P80: =O80/N80% -> 103.89452 | Q80: =IF(P80>=100,6,P80*0.06) -> 6 | R80: =IF(P80>100,"0","") -> 0 | S80: =IF(S79-0.0033<0,"0",S79-0.0033) -> 0.0231 | T80: =Q80+S80 -> 6.0231 | AC80: 남인천 | AD80: 184363134763 | AE80: 60489394024 | AF80: 0 | AG80: 0 | AH80: 244852528787 | AI80: 193207424698 | AJ80: 71147545270 | AK80: 13647515 | AL80: 0 | AM80: 264368617483 | AN80: =AJ80+AK80+AL80 -> 71161192785 | AO80: =AE80+AF80+AG80 -> 60489394024 | AP80: =AN80+AN84 -> 125334832930 | AQ80: =AO80+AO84 -> 122743779818
L81: 2 | M81: 여주 | N81: 21185 | O81: =VLOOKUP(M81,$AC$8:$AO$49,12,FALSE)/1000000 -> 21922.312 | P81: =O81/N81% -> 103.48035 | Q81: =IF(P81>=100,6,P81*0.06) -> 6 | R81: =IF(P81>100,"0","") -> 0 | S81: =IF(S80-0.0033<0,"0",S80-0.0033) -> 0.0198 | T81: =Q81+S81 -> 6.0198 | AC81: 안산 | AD81: 244363605678 | AE81: 93564061942 | AF81: 0 | AG81: 0 | AH81: 337927667620 | AI81: 243512898368 | AJ81: 90119385041 | AK81: 0 | AL81: 0 | AM81: 333632283409 | AN81: =AJ81+AK81+AL81 -> 90119385041 | AO81: =AE81+AF81+AG81 -> 93564061942 | AQ81: =AQ80/1000000 -> 122743.78
L82: 2 | M82: 포천 | N82: 35182 | O82: =VLOOKUP(M82,$AC$8:$AO$49,12,FALSE)/1000000 -> 36382.532 | P82: =O82/N82% -> 103.41235 | Q82: =IF(P82>=100,6,P82*0.06) -> 6 | R82: =IF(P82>100,"0","") -> 0 | S82: =IF(S81-0.0033<0,"0",S81-0.0033) -> 0.0165 | T82: =Q82+S82 -> 6.0165 | AC82: 서수원 | AD82: 106253741857 | AE82: 32653388054 | AF82: 0 | AG82: 0 | AH82: 138907129911 | AI82: 102354714098 | AJ82: 33724152809 | AK82: 0 | AL82: 0 | AM82: 136078866907 | AN82: =AJ82+AK82+AL82 -> 33724152809 | AO82: =AE82+AF82+AG82 -> 32653388054
L83: 2 | M83: 연천 | N83: 18598 | O83: =VLOOKUP(M83,$AC$8:$AO$49,12,FALSE)/1000000 -> 19006.836 | P83: =O83/N83% -> 102.19828 | Q83: =IF(P83>=100,6,P83*0.06) -> 6 | R83: =IF(P83>100,"0","") -> 0 | S83: =IF(S82-0.0033<0,"0",S82-0.0033) -> 0.0132 | T83: =Q83+S83 -> 6.0132 | AC83: 동수원 | AD83: 245224097399 | AE83: 58230007969 | AF83: 30557994 | AG83: 0 | AH83: 303484663362 | AI83: 244797462884 | AJ83: 57877538155 | AK83: 65073800 | AL83: 0 | AM83: 302740074839 | AN83: =AJ83+AK83+AL83 -> 57942611955 | AO83: =AE83+AF83+AG83 -> 58260565963
L84: 2 | M84: 구리 | N84: 26692 | O84: =VLOOKUP(M84,$AC$8:$AO$49,12,FALSE)/1000000 -> 27137.878 | P84: =O84/N84% -> 101.67046 | Q84: =IF(P84>=100,6,P84*0.06) -> 6 | R84: =IF(P84>100,"0","") -> 0 | S84: =IF(S83-0.0033<0,"0",S83-0.0033) -> 0.0099 | T84: =Q84+S84 -> 6.0099 | AC84: 인천남동 | AD84: 171430093806 | AE84: 62239123024 | AF84: 15262770 | AG84: 0 | AH84: 233684479600 | AI84: 155223313110 | AJ84: 54165894540 | AK84: 7745605 | AL84: 0 | AM84: 209396953255 | AN84: =AJ84+AK84+AL84 -> 54173640145 | AO84: =AE84+AF84+AG84 -> 62254385794
L85: 2 | M85: 동두천 | N85: 20863 | O85: =VLOOKUP(M85,$AC$8:$AO$49,12,FALSE)/1000000 -> 21076.521 | P85: =O85/N85% -> 101.02344 | Q85: =IF(P85>=100,6,P85*0.06) -> 6 | R85: =IF(P85>100,"0","") -> 0 | S85: =IF(S84-0.0033<0,"0",S84-0.0033) -> 0.0066 | T85: =Q85+S85 -> 6.0066 | AC85: 군포 | AD85: 216831277403 | AE85: 47908116686 | AF85: 28718610 | AG85: 0 | AH85: 264768112699 | AI85: 223224224361 | AJ85: 44575718809 | AK85: 45449154 | AL85: 0 | AM85: 267845392324 | AN85: =AJ85+AK85+AL85 -> 44621167963 | AO85: =AE85+AF85+AG85 -> 47936835296
L86: 2 | M86: 하남 | N86: 20444 | O86: =VLOOKUP(M86,$AC$8:$AO$49,12,FALSE)/1000000 -> 20602.015 | P86: =O86/N86% -> 100.77292 | Q86: =IF(P86>=100,6,P86*0.06) -> 6 | R86: =IF(P86>100,"0","") -> 0 | S86: =IF(S85-0.0033<0,"0",S85-0.0033) -> 0.0033 | T86: =Q86+S86 -> 6.0033 | AC86: 안양 | AD86: 379161151003 | AE86: 109276246712 | AF86: 3225065024 | AG86: 0 | AH86: 491662462739 | AI86: 376512984881 | AJ86: 86609610244 | AK86: 4406794682 | AL86: 0 | AM86: 467529389807 | AN86: =AJ86+AK86+AL86 -> 91016404926 | AO86: =AE86+AF86+AG86 -> 112501311736
L87: 2 | M87: 가평 | N87: 20737 | O87: =VLOOKUP(M87,$AC$8:$AO$49,12,FALSE)/1000000 -> 20683.245 | P87: =O87/N87% -> 99.740778 | Q87: =IF(P87>=100,6,P87*0.06) -> 5.9844467 | R87: =IF(P87>100,"0","") | S87: =IF(S86-0.0033<0,"0",S86-0.0033) -> 0 | T87: =Q87+S87 -> 5.9844467 | AC87: 성남분당 | AD87: 828125426767 | AE87: 71940042603 | AF87: 0 | AG87: 0 | AH87: 900065469370 | AI87: 756894353920 | AJ87: 79205078630 | AK87: 0 | AL87: 0 | AM87: 836099432550 | AN87: =AJ87+AK87+AL87 -> 79205078630 | AO87: =AE87+AF87+AG87 -> 71940042603
L88: 2 | M88: 백령 | N88: 7812 | O88: =VLOOKUP(M88,$AC$8:$AO$49,12,FALSE)/1000000 -> 7433.8155 | P88: =O88/N88% -> 95.158929 | Q88: =IF(P88>=100,6,P88*0.06) -> 5.7095358 | R88: =IF(P88>100,"0","") | S88: =IF(S87-0.0033<0,"0",S87-0.0033) -> 0 | T88: =Q88+S88 -> 5.7095358 | AC88: 고양일산 | AD88: 268567661536 | AE88: 52810703288 | AF88: 0 | AG88: 0 | AH88: 321378364824 | AI88: 265569381982 | AJ88: 54536782916 | AK88: 0 | AL88: 0 | AM88: 320106164898 | AN88: =AJ88+AK88+AL88 -> 54536782916 | AO88: =AE88+AF88+AG88 -> 52810703288
L89: 2 | M89: 강화 | N89: 25162 | O89: =VLOOKUP(M89,$AC$8:$AO$49,12,FALSE)/1000000 -> 23543.68 | P89: =O89/N89% -> 93.568396 | Q89: =IF(P89>=100,6,P89*0.06) -> 5.6141038 | R89: =IF(P89>100,"0","") | S89: =IF(S88-0.0033<0,"0",S88-0.0033) -> 0 | T89: =Q89+S89 -> 5.6141038 | AC89: 서인천 | AD89: 189414555839 | AE89: 57929504963 | AF89: 22308229 | AG89: 0 | AH89: 247366369031 | AI89: 185143512533 | AJ89: 57008245989 | AK89: 41112207 | AL89: 0 | AM89: 242192870729 | AN89: =AJ89+AK89+AL89 -> 57049358196 | AO89: =AE89+AF89+AG89 -> 57951813192
M90: total | N90: 1943900 | AC90: 부천 | AD90: 367839571466 | AE90: 107483246588 | AF90: 0 | AG90: 500 | AH90: 475322818554 | AI90: 359226122828 | AJ90: 106882271410 | AK90: 0 | AL90: 352065 | AM90: 466108746303 | AN90: =AJ90+AK90+AL90 -> 106882623475 | AO90: =AE90+AF90+AG90 -> 107483247088
AC91: 고양덕양 | AD91: 217711779240 | AE91: 55360002205 | AF91: 0 | AG91: 0 | AH91: 273071781445 | AI91: 213689778496 | AJ91: 51208674580 | AK91: 0 | AL91: 0 | AM91: 264898453076 | AN91: =AJ91+AK91+AL91 -> 51208674580 | AO91: =AE91+AF91+AG91 -> 55360002205
AC92: 인천계양 | AD92: 140728042018 | AE92: 43587343910 | AF92: 28159162 | AG92: 0 | AH92: 184343545090 | AI92: 136317679188 | AJ92: 39416869102 | AK92: 49297707 | AL92: 0 | AM92: 175783845997 | AN92: =AJ92+AK92+AL92 -> 39466166809 | AO92: =AE92+AF92+AG92 -> 43615503072
AC93: 용인수지 | AD93: 271060717599 | AE93: 40321239597 | AF93: 18455060 | AG93: 0 | AH93: 311400412256 | AI93: 267756121479 | AJ93: 39557350326 | AK93: 39308865 | AL93: 0 | AM93: 307352780670 | AN93: =AJ93+AK93+AL93 -> 39596659191 | AO93: =AE93+AF93+AG93 -> 40339694657
AC94: 남양주 | AD94: 117059604299 | AE94: 35554603026 | AF94: 0 | AG94: 0 | AH94: 152614207325 | AI94: 117249996780 | AJ94: 36065636214 | AK94: 0 | AL94: 0 | AM94: 153315632994 | AN94: =AJ94+AK94+AL94 -> 36065636214 | AO94: =AE94+AF94+AG94 -> 35554603026
AC95: 화성 | AD95: 172401095931 | AE95: 55584474332 | AF95: 0 | AG95: 0 | AH95: 227985570263 | AI95: 168968526428 | AJ95: 52443788095 | AK95: 0 | AL95: 0 | AM95: 221412314523 | AN95: =AJ95+AK95+AL95 -> 52443788095 | AO95: =AE95+AF95+AG95 -> 55584474332
AC96: total | AD96: 7530542671603 | AE96: 2065537183005 | AF96: 3867928323 | AG96: 123001 | AH96: 9599947905932 | AI96: 7412166676000 | AJ96: 1983701055225 | AK96: 5305726309 | AL96: 1106386 | AM96: 9401174563920 | AN96: =AJ96+AK96+AL96 -> 1989007887920 | AO96: =AE96+AF96+AG96 -> 2069405234329
AD97: 7530542671603 | AE97: 2065537183005 | AF97: 3867928323 | AG97: 123001 | AH97: 9599947905932 | AI97: 7412166676000 | AJ97: 1983701055225 | AK97: 5305726309 | AL97: 1106386 | AM97: 9401174563920

Sheet 체크카드
A1: 2015년도 예금사업 실적 현황(체크카드)
A2: =[1]종합점수!A2 -> 42338 | L2: (단위 : 천원,%,점) | O2: 당일 | S2: 당일
A3: 국명 | B3: 가맹점 수수료 세입 | F3: 신규카드세입 | K3: 경영평가 (4) | L3: 예사평 (30) | M3: 순위 | O3: 전체 | S3: 신규세입
B4: 목표 | C4: 실적 | D4: 달성률 | E4: 당일 실적 | F4: 신규카드 세입 | G4: 신규카드 세입비중 | H4: 당일 실적 | I4: 경평 감점 | J4: 예사평 감점 | P4: 메트릭 | Q4: 가맹점수수료 | T4: 메트릭 | U4: 가맹점수수료(신규카드,일)
A5: 인천 | B5: 302599 | C5: =VLOOKUP(A5,$O$5:$Q$45,3,FALSE)/1000 -> 354989.91 | D5: =C5/B5% -> 117.31364 | E5: =(VLOOKUP(A5,$O$5:$Q$45,3,FALSE)-VLOOKUP(A5,$O$51:$Q$91,3,FALSE))/1000 -> 1293.402 | F5: =VLOOKUP(A5,$S$5:$U$45,3,FALSE)/1000 -> 18850.593 | G5: =F5/C5% -> 5.3101771 | H5: =(VLOOKUP(A5,$S$5:$U$45,3,FALSE)-VLOOKUP(A5,$S$51:$U$91,3,FALSE))/1000 -> 85.078 | I5: =IF(G5>6,0,0.0013) -> 0.0013 | J5: =IF(G5>6,0,0.03) -> 0.03 | K5: =IF(D5>=100,4,D5*0.04)-I5 -> 3.9987 | L5: =IF(D5>=100,30,D5*0.3)-J5 -> 29.97 | M5: =RANK(L5,$L$5:$L$44) -> 1 | O5: 평택 | Q5: 307147882 | S5: 평택 | U5: 23129052
A6: 광명 | B6: 146150 | C6: =VLOOKUP(A6,$O$5:$Q$45,3,FALSE)/1000 -> 142477.85 | D6: =C6/B6% -> 97.48741 | E6: =(VLOOKUP(A6,$O$5:$Q$45,3,FALSE)-VLOOKUP(A6,$O$51:$Q$91,3,FALSE))/1000 -> 502.317 | F6: =VLOOKUP(A6,$S$5:$U$45,3,FALSE)/1000 -> 7833.581 | G6: =F6/C6% -> 5.4981045 | H6: =(VLOOKUP(A6,$S$5:$U$45,3,FALSE)-VLOOKUP(A6,$S$51:$U$91,3,FALSE))/1000 -> 24.208 | I6: =IF(G6>6,0,0.0013) -> 0.0013 | J6: =IF(G6>6,0,0.03) -> 0.03 | K6: =IF(D6>=100,4,D6*0.04)-I6 -> 3.8981964 | L6: =IF(D6>=100,30,D6*0.3)-J6 -> 29.216223 | M6: =RANK(L6,$L$5:$L$44) -> 2 | O6: 인천 | Q6: 354989914 | S6: 인천 | U6: 18850593
A7: 안산 | B7: 492000 | C7: =VLOOKUP(A7,$O$5:$Q$45,3,FALSE)/1000 -> 467915.04 | D7: =C7/B7% -> 95.104682 | E7: =(VLOOKUP(A7,$O$5:$Q$45,3,FALSE)-VLOOKUP(A7,$O$51:$Q$91,3,FALSE))/1000 -> 1851.85 | F7: =VLOOKUP(A7,$S$5:$U$45,3,FALSE)/1000 -> 24117.693 | G7: =F7/C7% -> 5.1542889 | H7: =(VLOOKUP(A7,$S$5:$U$45,3,FALSE)-VLOOKUP(A7,$S$51:$U$91,3,FALSE))/1000 -> 131.203 | I7: =IF(G7>6,0,0.0013) -> 0.0013 | J7: =IF(G7>6,0,0.03) -> 0.03 | K7: =IF(D7>=100,4,D7*0.04)-I7 -> 3.8028873 | L7: =IF(D7>=100,30,D7*0.3)-J7 -> 28.501405 | M7: =RANK(L7,$L$5:$L$44) -> 3 | O7: 부평 | Q7: 243526584 | S7: 부평 | U7: 22182805
A8: 백령 | B8: 36364 | C8: =VLOOKUP(A8,$O$5:$Q$45,3,FALSE)/1000 -> 34004.855 | D8: =C8/B8% -> 93.512416 | E8: =(VLOOKUP(A8,$O$5:$Q$45,3,FALSE)-VLOOKUP(A8,$O$51:$Q$91,3,FALSE))/1000 -> 96.575 | F8: =VLOOKUP(A8,$S$5:$U$45,3,FALSE)/1000 -> 2131.223 | G8: =F8/C8% -> 6.267408 | H8: =(VLOOKUP(A8,$S$5:$U$45,3,FALSE)-VLOOKUP(A8,$S$51:$U$91,3,FALSE))/1000 -> 5.414 | I8: =IF(G8>6,0,0.0013) -> 0 | J8: =IF(G8>6,0,0.03) -> 0 | K8: =IF(D8>=100,4,D8*0.04)-I8 -> 3.7404966 | L8: =IF(D8>=100,30,D8*0.3)-J8 -> 28.053725 | M8: =RANK(L8,$L$5:$L$44) -> 4 | O8: 오산 | Q8: 86049725 | S8: 오산 | U8: 7541705
A9: 연천 | B9: 67040 | C9: =VLOOKUP(A9,$O$5:$Q$45,3,FALSE)/1000 -> 60915.326 | D9: =C9/B9% -> 90.86415 | E9: =(VLOOKUP(A9,$O$5:$Q$45,3,FALSE)-VLOOKUP(A9,$O$51:$Q$91,3,FALSE))/1000 -> 292.112 | F9: =VLOOKUP(A9,$S$5:$U$45,3,FALSE)/1000 -> 4135.581 | G9: =F9/C9% -> 6.7890649 | H9: =(VLOOKUP(A9,$S$5:$U$45,3,FALSE)-VLOOKUP(A9,$S$51:$U$91,3,FALSE))/1000 -> 32.78 | I9: =IF(G9>6,0,0.0013) -> 0 | J9: =IF(G9>6,0,0.03) -> 0 | K9: =IF(D9>=100,4,D9*0.04)-I9 -> 3.634566 | L9: =IF(D9>=100,30,D9*0.3)-J9 -> 27.259245 | M9: =RANK(L9,$L$5:$L$44) -> 5 | O9: 안성 | Q9: 105741680 | S9: 안성 | U9: 9808429
A10: 양평 | B10: 101103 | C10: =VLOOKUP(A10,$O$5:$Q$45,3,FALSE)/1000 -> 91075.697 | D10: =C10/B10% -> 90.082092 | E10: =(VLOOKUP(A10,$O$5:$Q$45,3,FALSE)-VLOOKUP(A10,$O$51:$Q$91,3,FALSE))/1000 -> 307.812 | F10: =VLOOKUP(A10,$S$5:$U$45,3,FALSE)/1000 -> 6695.644 | G10: =F10/C10% -> 7.3517351 | H10: =(VLOOKUP(A10,$S$5:$U$45,3,FALSE)-VLOOKUP(A10,$S$51:$U$91,3,FALSE))/1000 -> 31.724 | I10: =IF(G10>6,0,0.0013) -> 0 | J10: =IF(G10>6,0,0.03) -> 0 | K10: =IF(D10>=100,4,D10*0.04)-I10 -> 3.6032837 | L10: =IF(D10>=100,30,D10*0.3)-J10 -> 27.024627 | M10: =RANK(L10,$L$5:$L$44) -> 6 | O10: 가평 | Q10: 75408706 | S10: 가평 | U10: 5337693
A11: 강화 | B11: 63300 | C11: =VLOOKUP(A11,$O$5:$Q$45,3,FALSE)/1000 -> 55861.654 | D11: =C11/B11% -> 88.249058 | E11: =(VLOOKUP(A11,$O$5:$Q$45,3,FALSE)-VLOOKUP(A11,$O$51:$Q$91,3,FALSE))/1000 -> 176.549 | F11: =VLOOKUP(A11,$S$5:$U$45,3,FALSE)/1000 -> 3269.561 | G11: =F11/C11% -> 5.8529613 | H11: =(VLOOKUP(A11,$S$5:$U$45,3,FALSE)-VLOOKUP(A11,$S$51:$U$91,3,FALSE))/1000 -> 19.083 | I11: =IF(G11>6,0,0.0013) -> 0.0013 | J11: =IF(G11>6,0,0.03) -> 0.03 | K11: =IF(D11>=100,4,D11*0.04)-I11 -> 3.5286623 | L11: =IF(D11>=100,30,D11*0.3)-J11 -> 26.444718 | M11: =RANK(L11,$L$5:$L$44) -> 7 | O11: 파주 | Q11: 175614124 | S11: 파주 | U11: 14831296
A12: 인천계양 | B12: 166288 | C12: =VLOOKUP(A12,$O$5:$Q$45,3,FALSE)/1000 -> 146374.67 | D12: =C12/B12% -> 88.024793 | E12: =(VLOOKUP(A12,$O$5:$Q$45,3,FALSE)-VLOOKUP(A12,$O$51:$Q$91,3,FALSE))/1000 -> 439.661 | F12: =VLOOKUP(A12,$S$5:$U$45,3,FALSE)/1000 -> 10780.125 | G12: =F12/C12% -> 7.3647478 | H12: =(VLOOKUP(A12,$S$5:$U$45,3,FALSE)-VLOOKUP(A12,$S$51:$U$91,3,FALSE))/1000 -> 75.384 | I12: =IF(G12>6,0,0.0013) -> 0 | J12: =IF(G12>6,0,0.03) -> 0 | K12: =IF(D12>=100,4,D12*0.04)-I12 -> 3.5209917 | L12: =IF(D12>=100,30,D12*0.3)-J12 -> 26.407438 | M12: =RANK(L12,$L$5:$L$44) -> 8 | O12: 강화 | Q12: 55861654 | S12: 강화 | U12: 3269561
A13: 성남분당 | B13: 169310 | C13: =VLOOKUP(A13,$O$5:$Q$45,3,FALSE)/1000 -> 148377.45 | D13: =C13/B13% -> 87.636552 | E13: =(VLOOKUP(A13,$O$5:$Q$45,3,FALSE)-VLOOKUP(A13,$O$51:$Q$91,3,FALSE))/1000 -> 517.912 | F13: =VLOOKUP(A13,$S$5:$U$45,3,FALSE)/1000 -> 11467.746 | G13: =F13/C13% -> 7.7287663 | H13: =(VLOOKUP(A13,$S$5:$U$45,3,FALSE)-VLOOKUP(A13,$S$51:$U$91,3,FALSE))/1000 -> 47.117 | I13: =IF(G13>6,0,0.0013) -> 0 | J13: =IF(G13>6,0,0.03) -> 0 | K13: =IF(D13>=100,4,D13*0.04)-I13 -> 3.5054621 | L13: =IF(D13>=100,30,D13*0.3)-J13 -> 26.290966 | M13: =RANK(L13,$L$5:$L$44) -> 9 | O13: 양평 | Q13: 91075697 | S13: 양평 | U13: 6695644
A14: 동수원 | B14: 190112 | C14: =VLOOKUP(A14,$O$5:$Q$45,3,FALSE)/1000 -> 166320.07 | D14: =C14/B14% -> 87.485308 | E14: =(VLOOKUP(A14,$O$5:$Q$45,3,FALSE)-VLOOKUP(A14,$O$51:$Q$91,3,FALSE))/1000 -> 526.178 | F14: =VLOOKUP(A14,$S$5:$U$45,3,FALSE)/1000 -> 13655.182 | G14: =F14/C14% -> 8.210183 | H14: =(VLOOKUP(A14,$S$5:$U$45,3,FALSE)-VLOOKUP(A14,$S$51:$U$91,3,FALSE))/1000 -> 70.077 | I14: =IF(G14>6,0,0.0013) -> 0 | J14: =IF(G14>6,0,0.03) -> 0 | K14: =IF(D14>=100,4,D14*0.04)-I14 -> 3.4994123 | L14: =IF(D14>=100,30,D14*0.3)-J14 -> 26.245592 | M14: =RANK(L14,$L$5:$L$44) -> 10 | O14: 경기광주 | Q14: 108633501 | S14: 경기광주 | U14: 8613121
A15: 수원 | B15: 243728 | C15: =VLOOKUP(A15,$O$5:$Q$45,3,FALSE)/1000 -> 209987.22 | D15: =C15/B15% -> 86.156379 | E15: =(VLOOKUP(A15,$O$5:$Q$45,3,FALSE)-VLOOKUP(A15,$O$51:$Q$91,3,FALSE))/1000 -> 1170.77 | F15: =VLOOKUP(A15,$S$5:$U$45,3,FALSE)/1000 -> 15962.007 | G15: =F15/C15% -> 7.6014183 | H15: =(VLOOKUP(A15,$S$5:$U$45,3,FALSE)-VLOOKUP(A15,$S$51:$U$91,3,FALSE))/1000 -> 419.577 | I15: =IF(G15>6,0,0.0013) -> 0 | J15: =IF(G15>6,0,0.03) -> 0 | K15: =IF(D15>=100,4,D15*0.04)-I15 -> 3.4462552 | L15: =IF(D15>=100,30,D15*0.3)-J15 -> 25.846914 | M15: =RANK(L15,$L$5:$L$44) -> 11 | O15: 여주 | Q15: 69329549 | S15: 여주 | U15: 3844951
A16: 이천 | B16: 123179 | C16: =VLOOKUP(A16,$O$5:$Q$45,3,FALSE)/1000 -> 105864.99 | D16: =C16/B16% -> 85.94402 | E16: =(VLOOKUP(A16,$O$5:$Q$45,3,FALSE)-VLOOKUP(A16,$O$51:$Q$91,3,FALSE))/1000 -> 515.605 | F16: =VLOOKUP(A16,$S$5:$U$45,3,FALSE)/1000 -> 8288.748 | G16: =F16/C16% -> 7.8295463 | H16: =(VLOOKUP(A16,$S$5:$U$45,3,FALSE)-VLOOKUP(A16,$S$51:$U$91,3,FALSE))/1000 -> 38.954 | I16: =IF(G16>6,0,0.0013) -> 0 | J16: =IF(G16>6,0,0.03) -> 0 | K16: =IF(D16>=100,4,D16*0.04)-I16 -> 3.4377608 | L16: =IF(D16>=100,30,D16*0.3)-J16 -> 25.783206 | M16: =RANK(L16,$L$5:$L$44) -> 12 | O16: 김포 | Q16: 154983244 | S16: 김포 | U16: 10950583
... A29: 파주 | B29: 211366 | C29: =VLOOKUP(A29,$O$5:$Q$45,3,FALSE)/1000 -> 175614.12 | D29: =C29/B29% -> 83.085323 | E29: =(VLOOKUP(A29,$O$5:$Q$45,3,FALSE)-VLOOKUP(A29,$O$51:$Q$91,3,FALSE))/1000 -> 574.574 | F29: =VLOOKUP(A29,$S$5:$U$45,3,FALSE)/1000 -> 14831.296 | G29: =F29/C29% -> 8.4453891 | H29: =(VLOOKUP(A29,$S$5:$U$45,3,FALSE)-VLOOKUP(A29,$S$51:$U$91,3,FALSE))/1000 -> 94.978 | I29: =IF(G29>6,0,0.0013) -> 0 | J29: =IF(G29>6,0,0.03) -> 0 | K29: =IF(D29>=100,4,D29*0.04)-I29 -> 3.3234129 | L29: =IF(D29>=100,30,D29*0.3)-J29 -> 24.925597 | M29: =RANK(L29,$L$5:$L$44) -> 25 | O29: 광명 | Q29: 142477849 | S29: 광명 | U29: 7833581
A30: 평택 | B30: 370979 | C30: =VLOOKUP(A30,$O$5:$Q$45,3,FALSE)/1000 -> 307147.88 | D30: =C30/B30% -> 82.793873 | E30: =(VLOOKUP(A30,$O$5:$Q$45,3,FALSE)-VLOOKUP(A30,$O$51:$Q$91,3,FALSE))/1000 -> 1123.127 | F30: =VLOOKUP(A30,$S$5:$U$45,3,FALSE)/1000 -> 23129.052 | G30: =F30/C30% -> 7.5302658 | H30: =(VLOOKUP(A30,$S$5:$U$45,3,FALSE)-VLOOKUP(A30,$S$51:$U$91,3,FALSE))/1000 -> 219.021 | I30: =IF(G30>6,0,0.0013) -> 0 | J30: =IF(G30>6,0,0.03) -> 0 | K30: =IF(D30>=100,4,D30*0.04)-I30 -> 3.3117549 | L30: =IF(D30>=100,30,D30*0.3)-J30 -> 24.838162 | M30: =RANK(L30,$L$5:$L$44) -> 26 | O30: 남인천 | Q30: 197194052 | R30: =Q30+Q34 -> 389444197 | S30: 남인천 | U30: 16093092 | V30: =U30+U34 -> 34344847
A31: 남인천 | B31: 471032 | C31: =VLOOKUP(A31,$O$30:$R$30,4,FALSE)/1000 -> 389444.2 | D31: =C31/B31% -> 82.678926 | E31: =((VLOOKUP(A31,$O$30:$R$30,4,FALSE)-VLOOKUP(A31,$O$76:$R$76,4,FALSE)))/1000 -> 1437.975 | F31: =VLOOKUP(A31,$S$30:$V$30,4,FALSE)/1000 -> 34344.847 | G31: =F31/C31% -> 8.8189392 | H31: =(VLOOKUP(A31,$S$30:$V$30,4,FALSE)-VLOOKUP(A31,$S$76:$V$76,4,FALSE))/1000 -> 172.224 | I31: =IF(G31>6,0,0.0013) -> 0 | J31: =IF(G31>6,0,0.03) -> 0 | K31: =IF(D31>=100,4,D31*0.04)-I31 -> 3.307157 | L31: =IF(D31>=100,30,D31*0.3)-J31 -> 24.803678 | M31: =RANK(L31,$L$5:$L$44) -> 27 | O31: 안산 | Q31: 467915037 | S31: 안산 | U31: 24117693
A32: 군포 | B32: 147071 | C32: =VLOOKUP(A32,$O$5:$Q$45,3,FALSE)/1000 -> 121101.36 | D32: =C32/B32% -> 82.342106 | E32: =(VLOOKUP(A32,$O$5:$Q$45,3,FALSE)-VLOOKUP(A32,$O$51:$Q$91,3,FALSE))/1000 -> 376.739 | F32: =VLOOKUP(A32,$S$5:$U$45,3,FALSE)/1000 -> 11400.548 | G32: =F32/C32% -> 9.4140546 | H32: =(VLOOKUP(A32,$S$5:$U$45,3,FALSE)-VLOOKUP(A32,$S$51:$U$91,3,FALSE))/1000 -> 72.644 | I32: =IF(G32>6,0,0.0013) -> 0 | J32: =IF(G32>6,0,0.03) -> 0 | K32: =IF(D32>=100,4,D32*0.04)-I32 -> 3.2936842 | L32: =IF(D32>=100,30,D32*0.3)-J32 -> 24.702632 | M32: =RANK(L32,$L$5:$L$44) -> 28 | O32: 서수원 | Q32: 99366842 | S32: 서수원 | U32: 7564310
A33: 성남 | B33: 319800 | C33: =VLOOKUP(A33,$O$5:$Q$45,3,FALSE)/1000 -> 262849.98 | D33: =C33/B33% -> 82.191989 | E33: =(VLOOKUP(A33,$O$5:$Q$45,3,FALSE)-VLOOKUP(A33,$O$51:$Q$91,3,FALSE))/1000 -> 969.946 | F33: =VLOOKUP(A33,$S$5:$U$45,3,FALSE)/1000 -> 17816.418 | G33: =F33/C33% -> 6.7781698 | H33: =(VLOOKUP(A33,$S$5:$U$45,3,FALSE)-VLOOKUP(A33,$S$51:$U$91,3,FALSE))/1000 -> 171.635 | I33: =IF(G33>6,0,0.0013) -> 0 | J33: =IF(G33>6,0,0.03) -> 0 | K33: =IF(D33>=100,4,D33*0.04)-I33 -> 3.2876796 | L33: =IF(D33>=100,30,D33*0.3)-J33 -> 24.657597 | M33: =RANK(L33,$L$5:$L$44) -> 29 | O33: 동수원 | Q33: 166320068 | S33: 동수원 | U33: 13655182
A34: 포천 | B34: 161446 | C34: =VLOOKUP(A34,$O$5:$Q$45,3,FALSE)/1000 -> 132663.36 | D34: =C34/B34% -> 82.171973 | E34: =(VLOOKUP(A34,$O$5:$Q$45,3,FALSE)-VLOOKUP(A34,$O$51:$Q$91,3,FALSE))/1000 -> 469.585 | F34: =VLOOKUP(A34,$S$5:$U$45,3,FALSE)/1000 -> 13562.39 | G34: =F34/C34% -> 10.223162 | H34: =(VLOOKUP(A34,$S$5:$U$45,3,FALSE)-VLOOKUP(A34,$S$51:$U$91,3,FALSE))/1000 -> 72.499 | I34: =IF(G34>6,0,0.0013) -> 0 | J34: =IF(G34>6,0,0.03) -> 0 | K34: =IF(D34>=100,4,D34*0.04)-I34 -> 3.2868789 | L34: =IF(D34>=100,30,D34*0.3)-J34 -> 24.651592 | M34: =RANK(L34,$L$5:$L$44) -> 30 | O34: 인천남동 | Q34: 192250145 | S34: 인천남동 | U34: 18251755
A35: 동두천 | B35: 107227 | C35: =VLOOKUP(A35,$O$5:$Q$45,3,FALSE)/1000 -> 88032.419 | D35: =C35/B35% -> 82.099116 | E35: =(VLOOKUP(A35,$O$5:$Q$45,3,FALSE)-VLOOKUP(A35,$O$51:$Q$91,3,FALSE))/1000 -> 285.553 | F35: =VLOOKUP(A35,$S$5:$U$45,3,FALSE)/1000 -> 7585.377 | G35: =F35/C35% -> 8.6165723 | H35: =(VLOOKUP(A35,$S$5:$U$45,3,FALSE)-VLOOKUP(A35,$S$51:$U$91,3,FALSE))/1000 -> 57.031 | I35: =IF(G35>6,0,0.0013) -> 0 | J35: =IF(G35>6,0,0.03) -> 0 | K35: =IF(D35>=100,4,D35*0.04)-I35 -> 3.2839646 | L35: =IF(D35>=100,30,D35*0.3)-J35 -> 24.629735 | M35: =RANK(L35,$L$5:$L$44) -> 31 | O35: 군포 | Q35: 121101359 | S35: 군포 | U35: 11400548
A36: 안성 | B36: 129433 | C36: =VLOOKUP(A36,$O$5:$Q$45,3,FALSE)/1000 -> 105741.68 | D36: =C36/B36% -> 81.696074 | E36: =(VLOOKUP(A36,$O$5:$Q$45,3,FALSE)-VLOOKUP(A36,$O$51:$Q$91,3,FALSE))/1000 -> 326.525 | F36: =VLOOKUP(A36,$S$5:$U$45,3,FALSE)/1000 -> 9808.429 | G36: =F36/C36% -> 9.27584 | H36: =(VLOOKUP(A36,$S$5:$U$45,3,FALSE)-VLOOKUP(A36,$S$51:$U$91,3,FALSE))/1000 -> 46.864 | I36: =IF(G36>6,0,0.0013) -> 0 | J36: =IF(G36>6,0,0.03) -> 0 | K36: =IF(D36>=100,4,D36*0.04)-I36 -> 3.267843 | L36: =IF(D36>=100,30,D36*0.3)-J36 -> 24.508822 | M36: =RANK(L36,$L$5:$L$44) -> 32 | O36: 안양 | Q36: 170384270 | S36: 안양 | U36: 11614456
A37: 용인수지 | B37: 137370 | C37: =VLOOKUP(A37,$O$5:$Q$45,3,FALSE)/1000 -> 112152.47 | D37: =C37/B37% -> 81.64262 | E37: =(VLOOKUP(A37,$O$5:$Q$45,3,FALSE)-VLOOKUP(A37,$O$51:$Q$91,3,FALSE))/1000 -> 302.999 | F37: =VLOOKUP(A37,$S$5:$U$45,3,FALSE)/1000 -> 8285.879 | G37: =F37/C37% -> 7.3880488 | H37: =(VLOOKUP(A37,$S$5:$U$45,3,FALSE)-VLOOKUP(A37,$S$51:$U$91,3,FALSE))/1000 -> 32.872 | I37: =IF(G37>6,0,0.0013) -> 0 | J37: =IF(G37>6,0,0.03) -> 0 | K37: =IF(D37>=100,4,D37*0.04)-I37 -> 3.2657048 | L37: =IF(D37>=100,30,D37*0.3)-J37 -> 24.492786 | M37: =RANK(L37,$L$5:$L$44) -> 33 | O37: 성남분당 | Q37: 148377446 | S37: 성남분당 | U37: 11467746
A38: 남양주 | B38: 193481 | C38: =VLOOKUP(A38,$O$5:$Q$45,3,FALSE)/1000 -> 157472.45 | D38: =C38/B38% -> 81.3891 | E38: =(VLOOKUP(A38,$O$5:$Q$45,3,FALSE)-VLOOKUP(A38,$O$51:$Q$91,3,FALSE))/1000 -> 444.653 | F38: =VLOOKUP(A38,$S$5:$U$45,3,FALSE)/1000 -> 11042.641 | G38: =F38/C38% -> 7.0124275 | H38: =(VLOOKUP(A38,$S$5:$U$45,3,FALSE)-VLOOKUP(A38,$S$51:$U$91,3,FALSE))/1000 -> 79.491 | I38: =IF(G38>6,0,0.0013) -> 0 | J38: =IF(G38>6,0,0.03) -> 0 | K38: =IF(D38>=100,4,D38*0.04)-I38 -> 3.255564 | L38: =IF(D38>=100,30,D38*0.3)-J38 -> 24.41673 | M38: =RANK(L38,$L$5:$L$44) -> 34 | O38: 고양일산 | Q38: 166284068 | S38: 고양일산 | U38: 13680612
A39: 하남 | B39: 75365 | C39: =VLOOKUP(A39,$O$5:$Q$45,3,FALSE)/1000 -> 61277.597 | D39: =C39/B39% -> 81.307765 | E39: =(VLOOKUP(A39,$O$5:$Q$45,3,FALSE)-VLOOKUP(A39,$O$51:$Q$91,3,FALSE))/1000 -> 195.759 | F39: =VLOOKUP(A39,$S$5:$U$45,3,FALSE)/1000 -> 3476.25 | G39: =F39/C39% -> 5.6729542 | H39: =(VLOOKUP(A39,$S$5:$U$45,3,FALSE)-VLOOKUP(A39,$S$51:$U$91,3,FALSE))/1000 -> 31.974 | I39: =IF(G39>6,0,0.0013) -> 0.0013 | J39: =IF(G39>6,0,0.03) -> 0.03 | K39: =IF(D39>=100,4,D39*0.04)-I39 -> 3.2510106 | L39: =IF(D39>=100,30,D39*0.3)-J39 -> 24.362329 | M39: =RANK(L39,$L$5:$L$44) -> 35 | O39: 서인천 | Q39: 204388244 | S39: 서인천 | U39: 17616025
A40: 의정부 | B40: 253357 | C40: =VLOOKUP(A40,$O$5:$Q$45,3,FALSE)/1000 -> 205225.42 | D40: =C40/B40% -> 81.002468 | E40: =(VLOOKUP(A40,$O$5:$Q$45,3,FALSE)-VLOOKUP(A40,$O$51:$Q$91,3,FALSE))/1000 -> 644.385 | F40: =VLOOKUP(A40,$S$5:$U$45,3,FALSE)/1000 -> 15405.65 | G40: =F40/C40% -> 7.5066967 | H40: =(VLOOKUP(A40,$S$5:$U$45,3,FALSE)-VLOOKUP(A40,$S$51:$U$91,3,FALSE))/1000 -> 79.727 | I40: =IF(G40>6,0,0.0013) -> 0 | J40: =IF(G40>6,0,0.03) -> 0 | K40: =IF(D40>=100,4,D40*0.04)-I40 -> 3.2400987 | L40: =IF(D40>=100,30,D40*0.3)-J40 -> 24.30074 | M40: =RANK(L40,$L$5:$L$44) -> 36 | O40: 부천 | Q40: 315312056 | S40: 부천 | U40: 23616888
A41: 화성 | B41: 288782 | C41: =VLOOKUP(A41,$O$5:$Q$45,3,FALSE)/1000 -> 233724.99 | D41: =C41/B41% -> 80.93475 | E41: =(VLOOKUP(A41,$O$5:$Q$45,3,FALSE)-VLOOKUP(A41,$O$51:$Q$91,3,FALSE))/1000 -> 740.91 | F41: =VLOOKUP(A41,$S$5:$U$45,3,FALSE)/1000 -> 18336.664 | G41: =F41/C41% -> 7.8454016 | H41: =(VLOOKUP(A41,$S$5:$U$45,3,FALSE)-VLOOKUP(A41,$S$51:$U$91,3,FALSE))/1000 -> 119.633 | I41: =IF(G41>6,0,0.0013) -> 0 | J41: =IF(G41>6,0,0.03) -> 0 | K41: =IF(D41>=100,4,D41*0.04)-I41 -> 3.23739 | L41: =IF(D41>=100,30,D41*0.3)-J41 -> 24.280425 | M41: =RANK(L41,$L$5:$L$44) -> 37 | O41: 고양덕양 | Q41: 158718003 | S41: 고양덕양 | U41: 12487122
A42: 시흥 | B42: 273983 | C42: =VLOOKUP(A42,$O$5:$Q$45,3,FALSE)/1000 -> 216547.3 | D42: =C42/B42% -> 79.036766 | E42: =(VLOOKUP(A42,$O$5:$Q$45,3,FALSE)-VLOOKUP(A42,$O$51:$Q$91,3,FALSE))/1000 -> 661.381 | F42: =VLOOKUP(A42,$S$5:$U$45,3,FALSE)/1000 -> 15853.086 | G42: =F42/C42% -> 7.3208421 | H42: =(VLOOKUP(A42,$S$5:$U$45,3,FALSE)-VLOOKUP(A42,$S$51:$U$91,3,FALSE))/1000 -> 95.719 | I42: =IF(G42>6,0,0.0013) -> 0 | J42: =IF(G42>6,0,0.03) -> 0 | K42: =IF(D42>=100,4,D42*0.04)-I42 -> 3.1614706 | L42: =IF(D42>=100,30,D42*0.3)-J42 -> 23.71103 | M42: =RANK(L42,$L$5:$L$44) -> 38 | O42: 인천계양 | Q42: 146374667 | S42: 인천계양 | U42: 10780125
A43: 고양일산 | B43: 210662 | C43: =VLOOKUP(A43,$O$5:$Q$45,3,FALSE)/1000 -> 166284.07 | D43: =C43/B43% -> 78.934059 | E43: =(VLOOKUP(A43,$O$5:$Q$45,3,FALSE)-VLOOKUP(A43,$O$51:$Q$91,3,FALSE))/1000 -> 573.241 | F43: =VLOOKUP(A43,$S$5:$U$45,3,FALSE)/1000 -> 13680.612 | G43: =F43/C43% -> 8.2272536 | H43: =(VLOOKUP(A43,$S$5:$U$45,3,FALSE)-VLOOKUP(A43,$S$51:$U$91,3,FALSE))/1000 -> 88.978 | I43: =IF(G43>6,0,0.0013) -> 0 | J43: =IF(G43>6,0,0.03) -> 0 | K43: =IF(D43>=100,4,D43*0.04)-I43 -> 3.1573624 | L43: =IF(D43>=100,30,D43*0.3)-J43 -> 23.680218 | M43: =RANK(L43,$L$5:$L$44) -> 39 | O43: 용인수지 | Q43: 112152467 | S43: 용인수지 | U43: 8285879
A44: 여주 | B44: 89892 | C44: =VLOOKUP(A44,$O$5:$Q$45,3,FALSE)/1000 -> 69329.549 | D44: =C44/B44% -> 77.125383 | E44: =(VLOOKUP(A44,$O$5:$Q$45,3,FALSE)-VLOOKUP(A44,$O$51:$Q$91,3,FALSE))/1000 -> 236.703 | F44: =VLOOKUP(A44,$S$5:$U$45,3,FALSE)/1000 -> 3844.951 | G44: =F44/C44% -> 5.5459051 | H44: =(VLOOKUP(A44,$S$5:$U$45,3,FALSE)-VLOOKUP(A44,$S$51:$U$91,3,FALSE))/1000 -> 37.239 | I44: =IF(G44>6,0,0.0013) -> 0.0013 | J44: =IF(G44>6,0,0.03) -> 0.03 | K44: =IF(D44>=100,4,D44*0.04)-I44 -> 3.0837153 | L44: =IF(D44>=100,30,D44*0.3)-J44 -> 23.107615 | M44: =RANK(L44,$L$5:$L$44) -> 40 | O44: 남양주 | Q44: 157472445 | S44: 남양주 | U44: 11042641
A45: 합계 | B45: =SUM(B5:B44) -> 7775000 | C45: =SUM(C5:C44) -> 6672861.2 | D45: =C45/B45% -> 85.824581 | E45: =SUM(E5:E44) -> 23606.415 | F45: =SUM(F5:F44) -> 499278.08 | G45: =F45/C45% -> 7.4822189 | H45: =SUM(H5:H44) -> 3359.337 | O45: 화성 | Q45: 233724989 | S45: 화성 | U45: 18336664
Q46: 6672861186 | U46: 499278083
Q47: 6672861186 | U47: 499278083
O48: 전일 | S48: 전일
O49: 전체 | S49: 신규세입
P50: 메트릭 | Q50: 가맹점수수료 | T50: 메트릭 | U50: 가맹점수수료(신규카드,일)
O51: 평택 | Q51: 306024755 | S51: 평택 | U51: 22910031
O52: 인천 | Q52: 353696512 | S52: 인천 | U52: 18765515
O53: 부평 | Q53: 242749580 | S53: 부평 | U53: 22042789
O54: 오산 | Q54: 85751250 | S54: 오산 | U54: 7496129
O55: 안성 | Q55: 105415155 | S55: 안성 | U55: 9761565
O56: 가평 | Q56: 75129649 | S56: 가평 | U56: 5301959
O57: 파주 | Q57: 175039550 | S57: 파주 | U57: 14736318
O58: 강화 | Q58: 55685105 | S58: 강화 | U58: 3250478
O59: 양평 | Q59: 90767885 | S59: 양평 | U59: 6663920
O60: 경기광주 | Q60: 108298592 | S60: 경기광주 | U60: 8569327
O61: 여주 | Q61: 69092846 | S61: 여주 | U61: 3807712
O62: 김포 | Q62: 154471464 | S62: 김포 | U62: 10839979
... O75: 광명 | Q75: 141975532 | S75: 광명 | U75: 7809373
O76: 남인천 | Q76: 196544831 | R76: =Q76+Q80 -> 388006222 | S76: 남인천 | U76: 16020018 | V76: =U76+U80 -> 34172623
O77: 안산 | Q77: 466063187 | S77: 안산 | U77: 23986490
O78: 서수원 | Q78: 98949588 | S78: 서수원 | U78: 7517530
O79: 동수원 | Q79: 165793890 | S79: 동수원 | U79: 13585105
O80: 인천남동 | Q80: 191461391 | S80: 인천남동 | U80: 18152605
O81: 군포 | Q81: 120724620 | S81: 군포 | U81: 11327904
O82: 안양 | Q82: 169844046 | S82: 안양 | U82: 11547186
O83: 성남분당 | Q83: 147859534 | S83: 성남분당 | U83: 11420629
O84: 고양일산 | Q84: 165710827 | S84: 고양일산 | U84: 13591634
O85: 서인천 | Q85: 203669080 | S85: 서인천 | U85: 17516856
O86: 부천 | Q86: 314148234 | S86: 부천 | U86: 23494204
O87: 고양덕양 | Q87: 158134870 | S87: 고양덕양 | U87: 12419118
O88: 인천계양 | Q88: 145935006 | S88: 인천계양 | U88: 10704741
... O91: 화성 | Q91: 232984079 | S91: 화성 | U91: 18217031
Q92: 6649254771 | U92: 495918746
Q93: 6649254771 | U93: 495918746

Sheet 스마트금융
A1: 2015년도 예금사업 실적 현황(스마트금융)
A2: =[1]종합점수!A2 -> 42338 | L2: (단위: 명, %, 점)
A3: 국명 | B3: 가입자수 | F3: 우량가입자 | I3: 감점 | K3: 경영평가(4) | L3: 예사평(30) | M3: 순위 | O3: 1 | P3: 2 | Q3: 3 | R3: 4 | S3: 5 | T3: 6 | U3: 7 | V3: 8 | W3: 9 | X3: 10
B4: 목표 | C4: 실적 | D4: 달성률 | E4: 당일실적 | F4: 우량가입자 | H4: 우량가입자율 | I4: 경영평가 | J4: 예사평 | O4: 당일
A5: 인천 | B5: 10583 | C5: =VLOOKUP(A5,$O$6:$T$48,3,FALSE) -> 10699 | D5: =C5/B5% -> 101.0961 | E5: =VLOOKUP(A5,$O$6:$T$47,3,FALSE)-VLOOKUP(A5,$O$53:$T$95,3,FALSE) -> 1 | F5: =VLOOKUP(A5,$O$6:$T$48,6,FALSE) -> 1723 | G5: =VLOOKUP(A5,$O$6:$T$48,6,FALSE) -> 1723 | H5: =VLOOKUP(A5,$O$6:$U$48,7,FALSE)*100 -> 72.334173 | I5: =IF(H5>=40,0,IF(H5>=37,0.0003,IF(H5>=33,0.0006,IF(H5>=30,0.001,0.0013)))) -> 0 | J5: =IF(H5>=40,0,IF(H5>=37,0.01,IF(H5>=33,0.02,IF(H5>=30,0.03,0.04)))) -> 0 | K5: =IF(D5>=100,4,D5*0.04)-I5 -> 4 | L5: =IF(D5>=100,30,D5*0.3)-J5 -> 30 | M5: =RANK(L5,$L$5:$L$44) -> 1 | P5: 총가입자수 | Q5: 총약정자수(MAC중복건수제외) | R5: 최근3개월내 실제이용자수 | S5: 2014년도이후 가입자 | T5: 우량가입자수 | U5: 우량가입자율
A6: 서인천 | B6: 7626 | C6: =VLOOKUP(A6,$O$6:$T$48,3,FALSE) -> 7768 | D6: =C6/B6% -> 101.86205 | E6: =VLOOKUP(A6,$O$6:$T$47,3,FALSE)-VLOOKUP(A6,$O$53:$T$95,3,FALSE) -> 2 | F6: =VLOOKUP(A6,$O$6:$T$48,6,FALSE) -> 1568 | G6: =VLOOKUP(A6,$O$6:$T$48,6,FALSE) -> 1568 | H6: =VLOOKUP(A6,$O$6:$U$48,7,FALSE)*100 -> 76.153473 | I6: =IF(H6>=40,0,IF(H6>=37,0.0003,IF(H6>=33,0.0006,IF(H6>=30,0.001,0.0013)))) -> 0 | J6: =IF(H6>=40,0,IF(H6>=37,0.01,IF(H6>=33,0.02,IF(H6>=30,0.03,0.04)))) -> 0 | K6: =IF(D6>=100,4,D6*0.04)-I6 -> 4 | L6: =IF(D6>=100,30,D6*0.3)-J6 -> 30 | M6: =RANK(L6,$L$5:$L$44) -> 1 | O6: 평택 | P6: 10819 | Q6: 10353 | R6: 3694 | S6: 2631 | T6: 1829 | U6: 0.69517294
A7: 인천계양 | B7: 6068 | C7: =VLOOKUP(A7,$O$6:$T$48,3,FALSE) -> 6122 | D7: =C7/B7% -> 100.88991 | E7: =VLOOKUP(A7,$O$6:$T$47,3,FALSE)-VLOOKUP(A7,$O$53:$T$95,3,FALSE) -> 0 | F7: =VLOOKUP(A7,$O$6:$T$48,6,FALSE) -> 978 | G7: =VLOOKUP(A7,$O$6:$T$48,6,FALSE) -> 978 | H7: =VLOOKUP(A7,$O$6:$U$48,7,FALSE)*100 -> 71.491228 | I7: =IF(H7>=40,0,IF(H7>=37,0.0003,IF(H7>=33,0.0006,IF(H7>=30,0.001,0.0013)))) -> 0 | J7: =IF(H7>=40,0,IF(H7>=37,0.01,IF(H7>=33,0.02,IF(H7>=30,0.03,0.04)))) -> 0 | K7: =IF(D7>=100,4,D7*0.04)-I7 -> 4 | L7: =IF(D7>=100,30,D7*0.3)-J7 -> 30 | M7: =RANK(L7,$L$5:$L$44) -> 1 | O7: 인천 | P7: 11113 | Q7: 10699 | R7: 3560 | S7: 2382 | T7: 1723 | U7: 0.72334173
A8: 남인천 | B8: 17231 | C8: =VLOOKUP(A8,$O$31:$X$31,8,FALSE) -> 17499 | D8: =C8/B8% -> 101.55534 | E8: =VLOOKUP(A8,$O$31:$X$31,8,FALSE)-VLOOKUP(A8,$O$78:$X$78,8,FALSE) -> 3 | F8: =VLOOKUP(A8,$O$31:$X$31,9,FALSE) -> 2599 | G8: =VLOOKUP(A8,$O$31:$X$31,10,FALSE) -> 64.315763 | H8: =VLOOKUP(A8,$O$31:$X$31,10,FALSE) -> 64.315763 | I8: =IF(H8>=40,0,IF(H8>=37,0.0003,IF(H8>=33,0.0006,IF(H8>=30,0.001,0.0013)))) -> 0 | J8: =IF(H8>=40,0,IF(H8>=37,0.01,IF(H8>=33,0.02,IF(H8>=30,0.03,0.04)))) -> 0 | K8: =IF(D8>=100,4,D8*0.04)-I8 -> 4 | L8: =IF(D8>=100,30,D8*0.3)-J8 -> 30 | M8: =RANK(L8,$L$5:$L$44) -> 1 | O8: 부평 | P8: 11599 | Q8: 11107 | R8: 3759 | S8: 2943 | T8: 2000 | U8: 0.67957866
A9: 부평 | B9: 10878 | C9: =VLOOKUP(A9,$O$6:$T$48,3,FALSE) -> 11107 | D9: =C9/B9% -> 102.10517 | E9: =VLOOKUP(A9,$O$6:$T$47,3,FALSE)-VLOOKUP(A9,$O$53:$T$95,3,FALSE) -> 0 | F9: =VLOOKUP(A9,$O$6:$T$48,6,FALSE) -> 2000 | G9: =VLOOKUP(A9,$O$6:$T$48,6,FALSE) -> 2000 | H9: =VLOOKUP(A9,$O$6:$U$48,7,FALSE)*100 -> 67.957866 | I9: =IF(H9>=40,0,IF(H9>=37,0.0003,IF(H9>=33,0.0006,IF(H9>=30,0.001,0.0013)))) -> 0 | J9: =IF(H9>=40,0,IF(H9>=37,0.01,IF(H9>=33,0.02,IF(H9>=30,0.03,0.04)))) -> 0 | K9: =IF(D9>=100,4,D9*0.04)-I9 -> 4 | L9: =IF(D9>=100,30,D9*0.3)-J9 -> 30 | M9: =RANK(L9,$L$5:$L$44) -> 1 | O9: 오산 | P9: 3954 | Q9: 3772 | R9: 1160 | S9: 777 | T9: 549 | U9: 0.70656371
A10: 의정부 | B10: 9262 | C10: =VLOOKUP(A10,$O$6:$T$48,3,FALSE) -> 9265 | D10: =C10/B10% -> 100.03239 | E10: =VLOOKUP(A10,$O$6:$T$47,3,FALSE)-VLOOKUP(A10,$O$53:$T$95,3,FALSE) -> 3 | F10: =VLOOKUP(A10,$O$6:$T$48,6,FALSE) -> 1130 | G10: =VLOOKUP(A10,$O$6:$T$48,6,FALSE) -> 1130 | H10: =VLOOKUP(A10,$O$6:$U$48,7,FALSE)*100 -> 57.770961 | I10: =IF(H10>=40,0,IF(H10>=37,0.0003,IF(H10>=33,0.0006,IF(H10>=30,0.001,0.0013)))) -> 0 | J10: =IF(H10>=40,0,IF(H10>=37,0.01,IF(H10>=33,0.02,IF(H10>=30,0.03,0.04)))) -> 0 | K10: =IF(D10>=100,4,D10*0.04)-I10 -> 4 | L10: =IF(D10>=100,30,D10*0.3)-J10 -> 30 | M10: =RANK(L10,$L$5:$L$44) -> 1 | O10: 안성 | P10: 4780 | Q10: 4580 | R10: 1321 | S10: 1114 | T10: 650 | U10: 0.58348294
A11: 수원 | B11: 10330 | C11: =VLOOKUP(A11,$O$6:$T$48,3,FALSE) -> 10407 | D11: =C11/B11% -> 100.7454 | E11: =VLOOKUP(A11,$O$6:$T$47,3,FALSE)-VLOOKUP(A11,$O$53:$T$95,3,FALSE) -> 0 | F11: =VLOOKUP(A11,$O$6:$T$48,6,FALSE) -> 1303 | G11: =VLOOKUP(A11,$O$6:$T$48,6,FALSE) -> 1303 | H11: =VLOOKUP(A11,$O$6:$U$48,7,FALSE)*100 -> 56.382518 | I11: =IF(H11>=40,0,IF(H11>=37,0.0003,IF(H11>=33,0.0006,IF(H11>=30,0.001,0.0013)))) -> 0 | J11: =IF(H11>=40,0,IF(H11>=37,0.01,IF(H11>=33,0.02,IF(H11>=30,0.03,0.04)))) -> 0 | K11: =IF(D11>=100,4,D11*0.04)-I11 -> 4 | L11: =IF(D11>=100,30,D11*0.3)-J11 -> 30 | M11: =RANK(L11,$L$5:$L$44) -> 1 | O11: 가평 | P11: 2750 | Q11: 2650 | R11: 785 | S11: 631 | T11: 390 | U11: 0.61806656
A12: 동수원 | B12: 9146 | C12: =VLOOKUP(A12,$O$6:$T$48,3,FALSE) -> 9265 | D12: =C12/B12% -> 101.30112 | E12: =VLOOKUP(A12,$O$6:$T$47,3,FALSE)-VLOOKUP(A12,$O$53:$T$95,3,FALSE) -> 4 | F12: =VLOOKUP(A12,$O$6:$T$48,6,FALSE) -> 1395 | G12: =VLOOKUP(A12,$O$6:$T$48,6,FALSE) -> 1395 | H12: =VLOOKUP(A12,$O$6:$U$48,7,FALSE)*100 -> 65.278428 | I12: =IF(H12>=40,0,IF(H12>=37,0.0003,IF(H12>=33,0.0006,IF(H12>=30,0.001,0.0013)))) -> 0 | J12: =IF(H12>=40,0,IF(H12>=37,0.01,IF(H12>=33,0.02,IF(H12>=30,0.03,0.04)))) -> 0 | K12: =IF(D12>=100,4,D12*0.04)-I12 -> 4 | L12: =IF(D12>=100,30,D12*0.3)-J12 -> 30 | M12: =RANK(L12,$L$5:$L$44) -> 1 | O12: 파주 | P12: 7048 | Q12: 6745 | R12: 2158 | S12: 1732 | T12: 1103 | U12: 0.63683603
A13: 서수원 | B13: 3319 | C13: =VLOOKUP(A13,$O$6:$T$48,3,FALSE) -> 3384 | D13: =C13/B13% -> 101.95842 | E13: =VLOOKUP(A13,$O$6:$T$47,3,FALSE)-VLOOKUP(A13,$O$53:$T$95,3,FALSE) -> 1 | F13: =VLOOKUP(A13,$O$6:$T$48,6,FALSE) -> 636 | G13: =VLOOKUP(A13,$O$6:$T$48,6,FALSE) -> 636 | H13: =VLOOKUP(A13,$O$6:$U$48,7,FALSE)*100 -> 58.725762 | I13: =IF(H13>=40,0,IF(H13>=37,0.0003,IF(H13>=33,0.0006,IF(H13>=30,0.001,0.0013)))) -> 0 | J13: =IF(H13>=40,0,IF(H13>=37,0.01,IF(H13>=33,0.02,IF(H13>=30,0.03,0.04)))) -> 0 | K13: =IF(D13>=100,4,D13*0.04)-I13 -> 4 | L13: =IF(D13>=100,30,D13*0.3)-J13 -> 30 | M13: =RANK(L13,$L$5:$L$44) -> 1 | O13: 강화 | P13: 2731 | Q13: 2653 | R13: 619 | S13: 534 | T13: 283 | U13: 0.52996255
A14: 군포 | B14: 6589 | C14: =VLOOKUP(A14,$O$6:$T$48,3,FALSE) -> 6704 | D14: =C14/B14% -> 101.74533 | E14: =VLOOKUP(A14,$O$6:$T$47,3,FALSE)-VLOOKUP(A14,$O$53:$T$95,3,FALSE) -> 1 | F14: =VLOOKUP(A14,$O$6:$T$48,6,FALSE) -> 1012 | G14: =VLOOKUP(A14,$O$6:$T$48,6,FALSE) -> 1012 | H14: =VLOOKUP(A14,$O$6:$U$48,7,FALSE)*100 -> 67.737617 | I14: =IF(H14>=40,0,IF(H14>=37,0.0003,IF(H14>=33,0.0006,IF(H14>=30,0.001,0.0013)))) -> 0 | J14: =IF(H14>=40,0,IF(H14>=37,0.01,IF(H14>=33,0.02,IF(H14>=30,0.03,0.04)))) -> 0 | K14: =IF(D14>=100,4,D14*0.04)-I14 -> 4 | L14: =IF(D14>=100,30,D14*0.3)-J14 -> 30 | M14: =RANK(L14,$L$5:$L$44) -> 1 | O14: 양평 | P14: 3720 | Q14: 3565 | R14: 1013 | S14: 865 | T14: 494 | U14: 0.57109827
A15: 안양 | B15: 9960 | C15: =VLOOKUP(A15,$O$6:$T$48,3,FALSE) -> 10152 | D15: =C15/B15% -> 101.92771 | E15: =VLOOKUP(A15,$O$6:$T$47,3,FALSE)-VLOOKUP(A15,$O$53:$T$95,3,FALSE) -> 3 | F15: =VLOOKUP(A15,$O$6:$T$48,6,FALSE) -> 1574 | G15: =VLOOKUP(A15,$O$6:$T$48,6,FALSE) -> 1574 | H15: =VLOOKUP(A15,$O$6:$U$48,7,FALSE)*100 -> 66.162253 | I15: =IF(H15>=40,0,IF(H15>=37,0.0003,IF(H15>=33,0.0006,IF(H15>=30,0.001,0.0013)))) -> 0 | J15: =IF(H15>=40,0,IF(H15>=37,0.01,IF(H15>=33,0.02,IF(H15>=30,0.03,0.04)))) -> 0 | K15: =IF(D15>=100,4,D15*0.04)-I15 -> 4 | L15: =IF(D15>=100,30,D15*0.3)-J15 -> 30 | M15: =RANK(L15,$L$5:$L$44) -> 1 | O15: 경기광주 | P15: 4309 | Q15: 4149 | R15: 1372 | S15: 984 | T15: 670 | U15: 0.68089431
A16: 성남 | B16: 10603 | C16: =VLOOKUP(A16,$O$6:$T$48,3,FALSE) -> 10717 | D16: =C16/B16% -> 101.07517 | E16: =VLOOKUP(A16,$O$6:$T$47,3,FALSE)-VLOOKUP(A16,$O$53:$T$95,3,FALSE) -> 0 | F16: =VLOOKUP(A16,$O$6:$T$48,6,FALSE) -> 1453 | G16: =VLOOKUP(A16,$O$6:$T$48,6,FALSE) -> 1453 | H16: =VLOOKUP(A16,$O$6:$U$48,7,FALSE)*100 -> 61.308017 | I16: =IF(H16>=40,0,IF(H16>=37,0.0003,IF(H16>=33,0.0006,IF(H16>=30,0.001,0.0013)))) -> 0 | J16: =IF(H16>=40,0,IF(H16>=37,0.01,IF(H16>=33,0.02,IF(H16>=30,0.03,0.04)))) -> 0 | K16: =IF(D16>=100,4,D16*0.04)-I16 -> 4 | L16: =IF(D16>=100,30,D16*0.3)-J16 -> 30 | M16: =RANK(L16,$L$5:$L$44) -> 1 | O16: 여주 | P16: 3271 | Q16: 3148 | R16: 870 | S16: 762 | T16: 406 | U16: 0.5328084
A17: 성남분당 | B17: 7629 | C17: =VLOOKUP(A17,$O$6:$T$48,3,FALSE) -> 7710 | D17: =C17/B17% -> 101.06174 | E17: =VLOOKUP(A17,$O$6:$T$47,3,FALSE)-VLOOKUP(A17,$O$53:$T$95,3,FALSE) -> 3 | F17: =VLOOKUP(A17,$O$6:$T$48,6,FALSE) -> 1339 | G17: =VLOOKUP(A17,$O$6:$T$48,6,FALSE) -> 1339 | H17: =VLOOKUP(A17,$O$6:$U$48,7,FALSE)*100 -> 68.038618 | I17: =IF(H17>=40,0,IF(H17>=37,0.0003,IF(H17>=33,0.0006,IF(H17>=30,0.001,0.0013)))) -> 0 | J17: =IF(H17>=40,0,IF(H17>=37,0.01,IF(H17>=33,0.02,IF(H17>=30,0.03,0.04)))) -> 0 | K17: =IF(D17>=100,4,D17*0.04)-I17 -> 4 | L17: =IF(D17>=100,30,D17*0.3)-J17 -> 30 | M17: =RANK(L17,$L$5:$L$44) -> 1 | O17: 김포 | P17: 5836 | Q17: 5640 | R17: 1842 | S17: 1390 | T17: 873 | U17: 0.62805755
A18: 부천 | B18: 15679 | C18: =VLOOKUP(A18,$O$6:$T$48,3,FALSE) -> 16087 | D18: =C18/B18% -> 102.60221 | E18: =VLOOKUP(A18,$O$6:$T$47,3,FALSE)-VLOOKUP(A18,$O$53:$T$95,3,FALSE) -> 4 | F18: =VLOOKUP(A18,$O$6:$T$48,6,FALSE) -> 2428 | G18: =VLOOKUP(A18,$O$6:$T$48,6,FALSE) -> 2428 | H18: =VLOOKUP(A18,$O$6:$U$48,7,FALSE)*100 -> 64.937149 | I18: =IF(H18>=40,0,IF(H18>=37,0.0003,IF(H18>=33,0.0006,IF(H18>=30,0.001,0.0013)))) -> 0 | J18: =IF(H18>=40,0,IF(H18>=37,0.01,IF(H18>=33,0.02,IF(H18>=30,0.03,0.04)))) -> 0 | K18: =IF(D18>=100,4,D18*0.04)-I18 -> 4 | L18: =IF(D18>=100,30,D18*0.3)-J18 -> 30 | M18: =RANK(L18,$L$5:$L$44) -> 1 | O18: 포천 | P18: 4659 | Q18: 4487 | R18: 1349 | S18: 1006 | T18: 606 | U18: 0.60238569
A19: 안산 | B19: 14498 | C19: =VLOOKUP(A19,$O$6:$T$48,3,FALSE) -> 14580 | D19: =C19/B19% -> 100.5656 | E19: =VLOOKUP(A19,$O$6:$T$47,3,FALSE)-VLOOKUP(A19,$O$53:$T$95,3,FALSE) -> 4 | F19: =VLOOKUP(A19,$O$6:$T$48,6,FALSE) -> 2165 | G19: =VLOOKUP(A19,$O$6:$T$48,6,FALSE) -> 2165 | H19: =VLOOKUP(A19,$O$6:$U$48,7,FALSE)*100 -> 69.081047 | I19: =IF(H19>=40,0,IF(H19>=37,0.0003,IF(H19>=33,0.0006,IF(H19>=30,0.001,0.0013)))) -> 0 | J19: =IF(H19>=40,0,IF(H19>=37,0.01,IF(H19>=33,0.02,IF(H19>=30,0.03,0.04)))) -> 0 | K19: =IF(D19>=100,4,D19*0.04)-I19 -> 4 | L19: =IF(D19>=100,30,D19*0.3)-J19 -> 30 | M19: =RANK(L19,$L$5:$L$44) -> 1 | O19: 이천 | P19: 4013 | Q19: 3871 | R19: 1027 | S19: 782 | T19: 443 | U19: 0.56649616
A20: 고양일산 | B20: 8647 | C20: =VLOOKUP(A20,$O$6:$T$48,3,FALSE) -> 8810 | D20: =C20/B20% -> 101.88505 | E20: =VLOOKUP(A20,$O$6:$T$47,3,FALSE)-VLOOKUP(A20,$O$53:$T$95,3,FALSE) -> 1 | F20: =VLOOKUP(A20,$O$6:$T$48,6,FALSE) -> 1276 | G20: =VLOOKUP(A20,$O$6:$T$48,6,FALSE) -> 1276 | H20: =VLOOKUP(A20,$O$6:$U$48,7,FALSE)*100 -> 65.841073 | I20: =IF(H20>=40,0,IF(H20>=37,0.0003,IF(H20>=33,0.0006,IF(H20>=30,0.001,0.0013)))) -> 0 | J20: =IF(H20>=40,0,IF(H20>=37,0.01,IF(H20>=33,0.02,IF(H20>=30,0.03,0.04)))) -> 0 | K20: =IF(D20>=100,4,D20*0.04)-I20 -> 4 | L20: =IF(D20>=100,30,D20*0.3)-J20 -> 30 | M20: =RANK(L20,$L$5:$L$44) -> 1 | O20: 의정부 | P20: 9623 | Q20: 9265 | R20: 2726 | S20: 1956 | T20: 1130 | U20: 0.57770961
... A28: 화성 | B28: 8313 | C28: =VLOOKUP(A28,$O$6:$T$48,3,FALSE) -> 8465 | D28: =C28/B28% -> 101.82846 | E28: =VLOOKUP(A28,$O$6:$T$47,3,FALSE)-VLOOKUP(A28,$O$53:$T$95,3,FALSE) -> 2 | F28: =VLOOKUP(A28,$O$6:$T$48,6,FALSE) -> 1409 | G28: =VLOOKUP(A28,$O$6:$T$48,6,FALSE) -> 1409 | H28: =VLOOKUP(A28,$O$6:$U$48,7,FALSE)*100 -> 65.687646 | I28: =IF(H28>=40,0,IF(H28>=37,0.0003,IF(H28>=33,0.0006,IF(H28>=30,0.001,0.0013)))) -> 0 | J28: =IF(H28>=40,0,IF(H28>=37,0.01,IF(H28>=33,0.02,IF(H28>=30,0.03,0.04)))) -> 0 | K28: =IF(D28>=100,4,D28*0.04)-I28 -> 4 | L28: =IF(D28>=100,30,D28*0.3)-J28 -> 30 | M28: =RANK(L28,$L$5:$L$44) -> 1 | O28: 구리 | P28: 4799 | Q28: 4566 | R28: 1292 | S28: 1126 | T28: 682 | U28: 0.60568384
A29: 파주 | B29: 6592 | C29: =VLOOKUP(A29,$O$6:$T$48,3,FALSE) -> 6745 | D29: =C29/B29% -> 102.321 | E29: =VLOOKUP(A29,$O$6:$T$47,3,FALSE)-VLOOKUP(A29,$O$53:$T$95,3,FALSE) -> 5 | F29: =VLOOKUP(A29,$O$6:$T$48,6,FALSE) -> 1103 | G29: =VLOOKUP(A29,$O$6:$T$48,6,FALSE) -> 1103 | H29: =VLOOKUP(A29,$O$6:$U$48,7,FALSE)*100 -> 63.683603 | I29: =IF(H29>=40,0,IF(H29>=37,0.0003,IF(H29>=33,0.0006,IF(H29>=30,0.001,0.0013)))) -> 0 | J29: =IF(H29>=40,0,IF(H29>=37,0.01,IF(H29>=33,0.02,IF(H29>=30,0.03,0.04)))) -> 0 | K29: =IF(D29>=100,4,D29*0.04)-I29 -> 4 | L29: =IF(D29>=100,30,D29*0.3)-J29 -> 30 | M29: =RANK(L29,$L$5:$L$44) -> 1 | O29: 성남 | P29: 11252 | Q29: 10717 | R29: 3193 | S29: 2370 | T29: 1453 | U29: 0.61308017 | X29: =S31+S35 -> 4041
A30: 김포 | B30: 5494 | C30: =VLOOKUP(A30,$O$6:$T$48,3,FALSE) -> 5640 | D30: =C30/B30% -> 102.65744 | E30: =VLOOKUP(A30,$O$6:$T$47,3,FALSE)-VLOOKUP(A30,$O$53:$T$95,3,FALSE) -> 1 | F30: =VLOOKUP(A30,$O$6:$T$48,6,FALSE) -> 873 | G30: =VLOOKUP(A30,$O$6:$T$48,6,FALSE) -> 873 | H30: =VLOOKUP(A30,$O$6:$U$48,7,FALSE)*100 -> 62.805755 | I30: =IF(H30>=40,0,IF(H30>=37,0.0003,IF(H30>=33,0.0006,IF(H30>=30,0.001,0.0013)))) -> 0 | J30: =IF(H30>=40,0,IF(H30>=37,0.01,IF(H30>=33,0.02,IF(H30>=30,0.03,0.04)))) -> 0 | K30: =IF(D30>=100,4,D30*0.04)-I30 -> 4 | L30: =IF(D30>=100,30,D30*0.3)-J30 -> 30 | M30: =RANK(L30,$L$5:$L$44) -> 1 | O30: 광명 | P30: 7017 | Q30: 6682 | R30: 1669 | S30: 1567 | T30: 860 | U30: 0.5488194 | V30: 총약정자 | W30: 우량가입자 | X30: 우량이용자율
A31: 이천 | B31: 3779 | C31: =VLOOKUP(A31,$O$6:$T$48,3,FALSE) -> 3871 | D31: =C31/B31% -> 102.43451 | E31: =VLOOKUP(A31,$O$6:$T$47,3,FALSE)-VLOOKUP(A31,$O$53:$T$95,3,FALSE) -> 0 | F31: =VLOOKUP(A31,$O$6:$T$48,6,FALSE) -> 443 | G31: =VLOOKUP(A31,$O$6:$T$48,6,FALSE) -> 443 | H31: =VLOOKUP(A31,$O$6:$U$48,7,FALSE)*100 -> 56.649616 | I31: =IF(H31>=40,0,IF(H31>=37,0.0003,IF(H31>=33,0.0006,IF(H31>=30,0.001,0.0013)))) -> 0 | J31: =IF(H31>=40,0,IF(H31>=37,0.01,IF(H31>=33,0.02,IF(H31>=30,0.03,0.04)))) -> 0 | K31: =IF(D31>=100,4,D31*0.04)-I31 -> 4 | L31: =IF(D31>=100,30,D31*0.3)-J31 -> 30 | M31: =RANK(L31,$L$5:$L$44) -> 1 | O31: 남인천 | P31: 11204 | Q31: 10750 | R31: 2835 | S31: 2087 | T31: 1315 | U31: 0.63009104 | V31: =Q31+Q35 -> 17499 | W31: =T31+T35 -> 2599 | X31: =W31/X29% -> 64.315763
A32: 안성 | B32: 4429 | C32: =VLOOKUP(A32,$O$6:$T$48,3,FALSE) -> 4580 | D32: =C32/B32% -> 103.40935 | E32: =VLOOKUP(A32,$O$6:$T$47,3,FALSE)-VLOOKUP(A32,$O$53:$T$95,3,FALSE) -> 0 | F32: =VLOOKUP(A32,$O$6:$T$48,6,FALSE) -> 650 | G32: =VLOOKUP(A32,$O$6:$T$48,6,FALSE) -> 650 | H32: =VLOOKUP(A32,$O$6:$U$48,7,FALSE)*100 -> 58.348294 | I32: =IF(H32>=40,0,IF(H32>=37,0.0003,IF(H32>=33,0.0006,IF(H32>=30,0.001,0.0013)))) -> 0 | J32: =IF(H32>=40,0,IF(H32>=37,0.01,IF(H32>=33,0.02,IF(H32>=30,0.03,0.04)))) -> 0 | K32: =IF(D32>=100,4,D32*0.04)-I32 -> 4 | L32: =IF(D32>=100,30,D32*0.3)-J32 -> 30 | M32: =RANK(L32,$L$5:$L$44) -> 1 | O32: 안산 | P32: 15231 | Q32: 14580 | R32: 4567 | S32: 3134 | T32: 2165 | U32: 0.69081047
A33: 포천 | B33: 4406 | C33: =VLOOKUP(A33,$O$6:$T$48,3,FALSE) -> 4487 | D33: =C33/B33% -> 101.8384 | E33: =VLOOKUP(A33,$O$6:$T$47,3,FALSE)-VLOOKUP(A33,$O$53:$T$95,3,FALSE) -> 2 | F33: =VLOOKUP(A33,$O$6:$T$48,6,FALSE) -> 606 | G33: =VLOOKUP(A33,$O$6:$T$48,6,FALSE) -> 606 | H33: =VLOOKUP(A33,$O$6:$U$48,7,FALSE)*100 -> 60.238569 | I33: =IF(H33>=40,0,IF(H33>=37,0.0003,IF(H33>=33,0.0006,IF(H33>=30,0.001,0.0013)))) -> 0 | J33: =IF(H33>=40,0,IF(H33>=37,0.01,IF(H33>=33,0.02,IF(H33>=30,0.03,0.04)))) -> 0 | K33: =IF(D33>=100,4,D33*0.04)-I33 -> 4 | L33: =IF(D33>=100,30,D33*0.3)-J33 -> 30 | M33: =RANK(L33,$L$5:$L$44) -> 1 | O33: 서수원 | P33: 3574 | Q33: 3384 | R33: 1207 | S33: 1083 | T33: 636 | U33: 0.58725762
A34: 강화 | B34: 2673 | C34: =VLOOKUP(A34,$O$6:$T$48,3,FALSE) -> 2653 | D34: =C34/B34% -> 99.251777 | E34: =VLOOKUP(A34,$O$6:$T$47,3,FALSE)-VLOOKUP(A34,$O$53:$T$95,3,FALSE) -> 1 | F34: =VLOOKUP(A34,$O$6:$T$48,6,FALSE) -> 283 | G34: =VLOOKUP(A34,$O$6:$T$48,6,FALSE) -> 283 | H34: =VLOOKUP(A34,$O$6:$U$48,7,FALSE)*100 -> 52.996255 | I34: =IF(H34>=40,0,IF(H34>=37,0.0003,IF(H34>=33,0.0006,IF(H34>=30,0.001,0.0013)))) -> 0 | J34: =IF(H34>=40,0,IF(H34>=37,0.01,IF(H34>=33,0.02,IF(H34>=30,0.03,0.04)))) -> 0 | K34: =IF(D34>=100,4,D34*0.04)-I34 -> 3.9700711 | L34: =IF(D34>=100,30,D34*0.3)-J34 -> 29.775533 | M34: =RANK(L34,$L$5:$L$44) -> 40 | O34: 동수원 | P34: 9664 | Q34: 9265 | R34: 2782 | S34: 2137 | T34: 1395 | U34: 0.65278428
A35: 가평 | B35: 2657 | C35: =VLOOKUP(A35,$O$6:$T$48,3,FALSE) -> 2650 | D35: =C35/B35% -> 99.736545 | E35: =VLOOKUP(A35,$O$6:$T$47,3,FALSE)-VLOOKUP(A35,$O$53:$T$95,3,FALSE) -> -1 | F35: =VLOOKUP(A35,$O$6:$T$48,6,FALSE) -> 390 | G35: =VLOOKUP(A35,$O$6:$T$48,6,FALSE) -> 390 | H35: =VLOOKUP(A35,$O$6:$U$48,7,FALSE)*100 -> 61.806656 | I35: =IF(H35>=40,0,IF(H35>=37,0.0003,IF(H35>=33,0.0006,IF(H35>=30,0.001,0.0013)))) -> 0 | J35: =IF(H35>=40,0,IF(H35>=37,0.01,IF(H35>=33,0.02,IF(H35>=30,0.03,0.04)))) -> 0 | K35: =IF(D35>=100,4,D35*0.04)-I35 -> 3.9894618 | L35: =IF(D35>=100,30,D35*0.3)-J35 -> 29.920963 | M35: =RANK(L35,$L$5:$L$44) -> 38 | O35: 인천남동 | P35: 7067 | Q35: 6749 | R35: 2455 | S35: 1954 | T35: 1284 | U35: 0.65711361
A36: 양평 | B36: 3526 | C36: =VLOOKUP(A36,$O$6:$T$48,3,FALSE) -> 3565 | D36: =C36/B36% -> 101.10607 | E36: =VLOOKUP(A36,$O$6:$T$47,3,FALSE)-VLOOKUP(A36,$O$53:$T$95,3,FALSE) -> 1 | F36: =VLOOKUP(A36,$O$6:$T$48,6,FALSE) -> 494 | G36: =VLOOKUP(A36,$O$6:$T$48,6,FALSE) -> 494 | H36: =VLOOKUP(A36,$O$6:$U$48,7,FALSE)*100 -> 57.109827 | I36: =IF(H36>=40,0,IF(H36>=37,0.0003,IF(H36>=33,0.0006,IF(H36>=30,0.001,0.0013)))) -> 0 | J36: =IF(H36>=40,0,IF(H36>=37,0.01,IF(H36>=33,0.02,IF(H36>=30,0.03,0.04)))) -> 0 | K36: =IF(D36>=100,4,D36*0.04)-I36 -> 4 | L36: =IF(D36>=100,30,D36*0.3)-J36 -> 30 | M36: =RANK(L36,$L$5:$L$44) -> 1 | O36: 군포 | P36: 6994 | Q36: 6704 | R36: 2004 | S36: 1494 | T36: 1012 | U36: 0.67737617
A37: 경기광주 | B37: 4102 | C37: =VLOOKUP(A37,$O$6:$T$48,3,FALSE) -> 4149 | D37: =C37/B37% -> 101.14578 | E37: =VLOOKUP(A37,$O$6:$T$47,3,FALSE)-VLOOKUP(A37,$O$53:$T$95,3,FALSE) -> 1 | F37: =VLOOKUP(A37,$O$6:$T$48,6,FALSE) -> 670 | G37: =VLOOKUP(A37,$O$6:$T$48,6,FALSE) -> 670 | H37: =VLOOKUP(A37,$O$6:$U$48,7,FALSE)*100 -> 68.089431 | I37: =IF(H37>=40,0,IF(H37>=37,0.0003,IF(H37>=33,0.0006,IF(H37>=30,0.001,0.0013)))) -> 0 | J37: =IF(H37>=40,0,IF(H37>=37,0.01,IF(H37>=33,0.02,IF(H37>=30,0.03,0.04)))) -> 0 | K37: =IF(D37>=100,4,D37*0.04)-I37 -> 4 | L37: =IF(D37>=100,30,D37*0.3)-J37 -> 30 | M37: =RANK(L37,$L$5:$L$44) -> 1 | O37: 안양 | P37: 10595 | Q37: 10152 | R37: 3079 | S37: 2379 | T37: 1574 | U37: 0.66162253
A38: 여주 | B38: 3096 | C38: =VLOOKUP(A38,$O$6:$T$48,3,FALSE) -> 3148 | D38: =C38/B38% -> 101.67959 | E38: =VLOOKUP(A38,$O$6:$T$47,3,FALSE)-VLOOKUP(A38,$O$53:$T$95,3,FALSE) -> 0 | F38: =VLOOKUP(A38,$O$6:$T$48,6,FALSE) -> 406 | G38: =VLOOKUP(A38,$O$6:$T$48,6,FALSE) -> 406 | H38: =VLOOKUP(A38,$O$6:$U$48,7,FALSE)*100 -> 53.28084 | I38: =IF(H38>=40,0,IF(H38>=37,0.0003,IF(H38>=33,0.0006,IF(H38>=30,0.001,0.0013)))) -> 0 | J38: =IF(H38>=40,0,IF(H38>=37,0.01,IF(H38>=33,0.02,IF(H38>=30,0.03,0.04)))) -> 0 | K38: =IF(D38>=100,4,D38*0.04)-I38 -> 4 | L38: =IF(D38>=100,30,D38*0.3)-J38 -> 30 | M38: =RANK(L38,$L$5:$L$44) -> 1 | O38: 성남분당 | P38: 8045 | Q38: 7710 | R38: 2485 | S38: 1968 | T38: 1339 | U38: 0.68038618
A39: 동두천 | B39: 3148 | C39: =VLOOKUP(A39,$O$6:$T$48,3,FALSE) -> 3175 | D39: =C39/B39% -> 100.85769 | E39: =VLOOKUP(A39,$O$6:$T$47,3,FALSE)-VLOOKUP(A39,$O$53:$T$95,3,FALSE) -> 1 | F39: =VLOOKUP(A39,$O$6:$T$48,6,FALSE) -> 447 | G39: =VLOOKUP(A39,$O$6:$T$48,6,FALSE) -> 447 | H39: =VLOOKUP(A39,$O$6:$U$48,7,FALSE)*100 -> 69.517885 | I39: =IF(H39>=40,0,IF(H39>=37,0.0003,IF(H39>=33,0.0006,IF(H39>=30,0.001,0.0013)))) -> 0 | J39: =IF(H39>=40,0,IF(H39>=37,0.01,IF(H39>=33,0.02,IF(H39>=30,0.03,0.04)))) -> 0 | K39: =IF(D39>=100,4,D39*0.04)-I39 -> 4 | L39: =IF(D39>=100,30,D39*0.3)-J39 -> 30 | M39: =RANK(L39,$L$5:$L$44) -> 1 | O39: 고양일산 | P39: 9121 | Q39: 8810 | R39: 2584 | S39: 1938 | T39: 1276 | U39: 0.65841073
A40: 연천 | B40: 1815 | C40: =VLOOKUP(A40,$O$6:$T$48,3,FALSE) -> 1873 | D40: =C40/B40% -> 103.19559 | E40: =VLOOKUP(A40,$O$6:$T$47,3,FALSE)-VLOOKUP(A40,$O$53:$T$95,3,FALSE) -> 1 | F40: =VLOOKUP(A40,$O$6:$T$48,6,FALSE) -> 286 | G40: =VLOOKUP(A40,$O$6:$T$48,6,FALSE) -> 286 | H40: =VLOOKUP(A40,$O$6:$U$48,7,FALSE)*100 -> 60.084034 | I40: =IF(H40>=40,0,IF(H40>=37,0.0003,IF(H40>=33,0.0006,IF(H40>=30,0.001,0.0013)))) -> 0 | J40: =IF(H40>=40,0,IF(H40>=37,0.01,IF(H40>=33,0.02,IF(H40>=30,0.03,0.04)))) -> 0 | K40: =IF(D40>=100,4,D40*0.04)-I40 -> 4 | L40: =IF(D40>=100,30,D40*0.3)-J40 -> 30 | M40: =RANK(L40,$L$5:$L$44) -> 1 | O40: 서인천 | P40: 8110 | Q40: 7768 | R40: 2924 | S40: 2059 | T40: 1568 | U40: 0.76153473
A41: 백령 | B41: 1064 | C41: =VLOOKUP(A41,$O$6:$T$48,3,FALSE) -> 1058 | D41: =C41/B41% -> 99.43609 | E41: =VLOOKUP(A41,$O$6:$T$47,3,FALSE)-VLOOKUP(A41,$O$53:$T$95,3,FALSE) -> 0 | F41: =VLOOKUP(A41,$O$6:$T$48,6,FALSE) -> 170 | G41: =VLOOKUP(A41,$O$6:$T$48,6,FALSE) -> 170 | H41: =VLOOKUP(A41,$O$6:$U$48,7,FALSE)*100 -> 65.384615 | I41: =IF(H41>=40,0,IF(H41>=37,0.0003,IF(H41>=33,0.0006,IF(H41>=30,0.001,0.0013)))) -> 0 | J41: =IF(H41>=40,0,IF(H41>=37,0.01,IF(H41>=33,0.02,IF(H41>=30,0.03,0.04)))) -> 0 | K41: =IF(D41>=100,4,D41*0.04)-I41 -> 3.9774436 | L41: =IF(D41>=100,30,D41*0.3)-J41 -> 29.830827 | M41: =RANK(L41,$L$5:$L$44) -> 39 | O41: 부천 | P41: 16750 | Q41: 16087 | R41: 4671 | S41: 3739 | T41: 2428 | U41: 0.64937149
A42: 오산 | B42: 3723 | C42: =VLOOKUP(A42,$O$6:$T$48,3,FALSE) -> 3772 | D42: =C42/B42% -> 101.31614 | E42: =VLOOKUP(A42,$O$6:$T$47,3,FALSE)-VLOOKUP(A42,$O$53:$T$95,3,FALSE) -> 3 | F42: =VLOOKUP(A42,$O$6:$T$48,6,FALSE) -> 549 | G42: =VLOOKUP(A42,$O$6:$T$48,6,FALSE) -> 549 | H42: =VLOOKUP(A42,$O$6:$U$48,7,FALSE)*100 -> 70.656371 | I42: =IF(H42>=40,0,IF(H42>=37,0.0003,IF(H42>=33,0.0006,IF(H42>=30,0.001,0.0013)))) -> 0 | J42: =IF(H42>=40,0,IF(H42>=37,0.01,IF(H42>=33,0.02,IF(H42>=30,0.03,0.04)))) -> 0 | K42: =IF(D42>=100,4,D42*0.04)-I42 -> 4 | L42: =IF(D42>=100,30,D42*0.3)-J42 -> 30 | M42: =RANK(L42,$L$5:$L$44) -> 1 | O42: 고양덕양 | P42: 7448 | Q42: 7073 | R42: 2040 | S42: 1561 | T42: 1039 | U42: 0.66559898
A43: 하남 | B43: 2681 | C43: =VLOOKUP(A43,$O$6:$T$48,3,FALSE) -> 2728 | D43: =C43/B43% -> 101.75308 | E43: =VLOOKUP(A43,$O$6:$T$47,3,FALSE)-VLOOKUP(A43,$O$53:$T$95,3,FALSE) -> 1 | F43: =VLOOKUP(A43,$O$6:$T$48,6,FALSE) -> 374 | G43: =VLOOKUP(A43,$O$6:$T$48,6,FALSE) -> 374 | H43: =VLOOKUP(A43,$O$6:$U$48,7,FALSE)*100 -> 63.605442 | I43: =IF(H43>=40,0,IF(H43>=37,0.0003,IF(H43>=33,0.0006,IF(H43>=30,0.001,0.0013)))) -> 0 | J43: =IF(H43>=40,0,IF(H43>=37,0.01,IF(H43>=33,0.02,IF(H43>=30,0.03,0.04)))) -> 0 | K43: =IF(D43>=100,4,D43*0.04)-I43 -> 4 | L43: =IF(D43>=100,30,D43*0.3)-J43 -> 30 | M43: =RANK(L43,$L$5:$L$44) -> 1 | O43: 인천계양 | P43: 6360 | Q43: 6122 | R43: 1934 | S43: 1368 | T43: 978 | U43: 0.71491228
A44: 구리 | B44: 4481 | C44: =VLOOKUP(A44,$O$6:$T$48,3,FALSE) -> 4566 | D44: =C44/B44% -> 101.8969 | E44: =VLOOKUP(A44,$O$6:$T$47,3,FALSE)-VLOOKUP(A44,$O$53:$T$95,3,FALSE) -> -1 | F44: =VLOOKUP(A44,$O$6:$T$48,6,FALSE) -> 682 | G44: =VLOOKUP(A44,$O$6:$T$48,6,FALSE) -> 682 | H44: =VLOOKUP(A44,$O$6:$U$48,7,FALSE)*100 -> 60.568384 | I44: =IF(H44>=40,0,IF(H44>=37,0.0003,IF(H44>=33,0.0006,IF(H44>=30,0.001,0.0013)))) -> 0 | J44: =IF(H44>=40,0,IF(H44>=37,0.01,IF(H44>=33,0.02,IF(H44>=30,0.03,0.04)))) -> 0 | K44: =IF(D44>=100,4,D44*0.04)-I44 -> 4 | L44: =IF(D44>=100,30,D44*0.3)-J44 -> 30 | M44: =RANK(L44,$L$5:$L$44) -> 1 | O44: 용인수지 | P44: 7744 | Q44: 7364 | R44: 1913 | S44: 1668 | T44: 1033 | U44: 0.61930456
A45: 기타 | B45: 50 | C45: 65 | F45: 19 | G45: 21 | O45: 남양주 | P45: 6956 | Q45: 6700 | R45: 1951 | S45: 1615 | T45: 942 | U45: 0.58328173
A46: total | B46: =SUM(B5:B45) -> 278500 | C46: =SUM(C5:C45) -> 282913 | D46: =C46/B46% -> 101.58456 | E46: =SUM(E5:E44) -> 60 | F46: =SUM(F5:F45) -> 42470 | G46: =SUM(G5:G45) -> 39937.316 | H46: 64.5 | O46: 화성 | P46: 8856 | Q46: 8465 | R46: 2764 | S46: 2145 | T46: 1409 | U46: 0.65687646
O47: 안양우편물류센터 | P47: 5 | Q47: 5 | R47: 2 | S47: 3 | T47: 0 | U47: 0
O48: 미확인(경인청) | P48: 63 | Q48: 62 | R48: 37 | S48: 28 | T48: 21 | U48: 0.75
P49: 295237 | Q49: 282915 | R49: 86275 | S49: 65853 | T49: 42472 | U49: 0.64495163
P50: 295237 | Q50: 282915 | R50: 86275 | S50: 65853 | T50: 42472 | U50: 0.64495163
O51: 전일
P52: 총가입자수 | Q52: 총약정자수(MAC중복건수제외) | R52: 최근3개월내 실제이용자수 | S52: 2014년도이후 가입자 | T52: 우량가입자수 | U52: 우량가입자율
O53: 평택 | P53: 10813 | Q53: 10348 | R53: 3680 | S53: 2624 | T53: 1819 | U53: 0.69321646
O54: 인천 | P54: 11112 | Q54: 10698 | R54: 3557 | S54: 2380 | T54: 1722 | U54: 0.72352941
O55: 부평 | P55: 11598 | Q55: 11107 | R55: 3757 | S55: 2945 | T55: 1998 | U55: 0.67843803
O56: 오산 | P56: 3950 | Q56: 3769 | R56: 1157 | S56: 775 | T56: 548 | U56: 0.70709677
L57: ` | O57: 안성 | P57: 4780 | Q57: 4580 | R57: 1321 | S57: 1115 | T57: 649 | U57: 0.58206278
O58: 가평 | P58: 2751 | Q58: 2651 | R58: 781 | S58: 631 | T58: 391 | U58: 0.61965135
O59: 파주 | P59: 7043 | Q59: 6740 | R59: 2146 | S59: 1725 | T59: 1096 | U59: 0.63536232
K60: ` | O60: 강화 | P60: 2730 | Q60: 2652 | R60: 617 | S60: 533 | T60: 281 | U60: 0.5272045
O61: 양평 | P61: 3719 | Q61: 3564 | R61: 1014 | S61: 864 | T61: 496 | U61: 0.57407407
O62: 경기광주 | P62: 4308 | Q62: 4148 | R62: 1372 | S62: 983 | T62: 670 | U62: 0.68158698
O63: 여주 | P63: 3271 | Q63: 3148 | R63: 868 | S63: 762 | T63: 405 | U63: 0.53149606
O64: 김포 | P64: 5835 | Q64: 5639 | R64: 1834 | S64: 1389 | T64: 868 | U64: 0.62491001
O65: 포천 | P65: 4657 | Q65: 4485 | R65: 1347 | S65: 1005 | T65: 606 | U65: 0.60298507
O66: 이천 | P66: 4013 | Q66: 3871 | R66: 1029 | S66: 782 | T66: 445 | U66: 0.56905371
O67: 의정부 | P67: 9619 | Q67: 9262 | R67: 2722 | S67: 1952 | T67: 1126 | U67: 0.57684426
O68: 용인 | P68: 9299 | Q68: 8912 | R68: 2148 | S68: 1858 | T68: 1090 | U68: 0.58665231
O69: 동두천 | P69: 3322 | Q69: 3174 | R69: 1003 | S69: 644 | T69: 446 | U69: 0.69254658
O70: 수원 | P70: 10900 | Q70: 10407 | R70: 2694 | S70: 2311 | T70: 1298 | U70: 0.56166162
O71: 하남 | P71: 2846 | Q71: 2727 | R71: 848 | S71: 586 | T71: 373 | U71: 0.63651877
O72: 연천 | P72: 1944 | Q72: 1872 | R72: 585 | S72: 476 | T72: 283 | U72: 0.59453782
... O77: 광명 | P77: 7017 | Q77: 6683 | R77: 1667 | S77: 1567 | T77: 860 | U77: 0.5488194
O78: 남인천 | P78: 11203 | Q78: 10750 | R78: 2834 | S78: 2085 | T78: 1316 | U78: 0.63117506 | V78: =Q78+Q82 -> 17496 | W78: =S78+S82 -> 4036 | X78: =T78+T82 -> 2597
O79: 안산 | P79: 15226 | Q79: 14576 | R79: 4563 | S79: 3129 | T79: 2161 | U79: 0.69063599
O80: 서수원 | P80: 3573 | Q80: 3383 | R80: 1207 | S80: 1083 | T80: 636 | U80: 0.58725762
O81: 동수원 | P81: 9659 | Q81: 9261 | R81: 2777 | S81: 2132 | T81: 1391 | U81: 0.65243902
O82: 인천남동 | P82: 7064 | Q82: 6746 | R82: 2451 | S82: 1951 | T82: 1281 | U82: 0.65658637
O83: 군포 | P83: 6992 | Q83: 6703 | R83: 2003 | S83: 1492 | T83: 1011 | U83: 0.67761394
O84: 안양 | P84: 10591 | Q84: 10149 | R84: 3077 | S84: 2378 | T84: 1572 | U84: 0.66105971
O85: 성남분당 | P85: 8041 | Q85: 7707 | R85: 2477 | S85: 1965 | T85: 1334 | U85: 0.67888041
O86: 고양일산 | P86: 9120 | Q86: 8809 | R86: 2580 | S86: 1936 | T86: 1273 | U86: 0.65754132
O87: 서인천 | P87: 8107 | Q87: 7766 | R87: 2923 | S87: 2056 | T87: 1566 | U87: 0.76167315
O88: 부천 | P88: 16747 | Q88: 16083 | R88: 4659 | S88: 3737 | T88: 2420 | U88: 0.64757827
O89: 고양덕양 | P89: 7444 | Q89: 7069 | R89: 2034 | S89: 1558 | T89: 1036 | U89: 0.66495507
O90: 인천계양 | P90: 6360 | Q90: 6122 | R90: 1928 | S90: 1368 | T90: 975 | U90: 0.7127193
... O95: 미확인(경인청) | P95: 63 | Q95: 62 | R95: 37 | S95: 28 | T95: 21 | U95: 0.75
P96: 295163 | Q96: 282855 | R96: 86125 | S96: 65785 | T96: 42375 | U96: 0.6441438
P97: 295163 | Q97: 282855 | R97: 86125 | S97: 65785 | T97: 42375 | U97: 0.6441438

Sheet 결합마케팅 우수국
A1: 총괄국별 우수고객 연계 우수국 예산 배정 내역
K2: (단위 : 천 원)
A3: 국명 | B3: 조사 건수 | C3: 연계 | E3: 미연계 | F3: 연계 재계 | J3: 조사 구분 | K3: 연계율 40%이상국
C4: 건수 | D4: 연계율 | F4: 2개 | G4: 3개 | H4: 4개 | I4: 5개 | K4: 5231-361-240-01 업무추진비
A5: 수원 | B5: 243 | C5: 74 | D5: =(C5/B5)*100 -> 30.452675 | E5: 169 | F5: 60 | G5: 14 | H5: - | J5: 시범국
A6: 서수원 | B6: 250 | C6: 7 | D6: =(C6/B6)*100 -> 2.8 | E6: 243 | F6: 7 | G6: - | H6: -
A7: 동수원 | B7: 189 | C7: 79 | D7: =(C7/B7)*100 -> 41.798942 | E7: 110 | F7: 77 | G7: 2 | H7: - | J7: 1차 10국 | K7: 1000
A8: 성남분당 | B8: 250 | C8: 47 | D8: =(C8/B8)*100 -> 18.8 | E8: 203 | F8: 45 | G8: 2 | H8: -
A9: 평택 | B9: 250 | C9: 12 | D9: =(C9/B9)*100 -> 4.8 | E9: 238 | F9: 12 | G9: - | H9: -
A10: 부천 | B10: 250 | C10: 38 | D10: =(C10/B10)*100 -> 15.2 | E10: 212 | F10: 37 | G10: 1 | H10: -
A11: 안산 | B11: 246 | C11: 21 | D11: =(C11/B11)*100 -> 8.5365854 | E11: 225 | F11: 19 | G11: 2 | H11: -
A12: 인천 | B12: 250 | C12: 134 | D12: =(C12/B12)*100 -> 53.6 | E12: 116 | F12: 123 | G12: 8 | H12: 2 | I12: 1 | K12: 1000
A13: 안양 | B13: 250 | C13: 89 | D13: =(C13/B13)*100 -> 35.6 | E13: 161 | F13: 88 | G13: 1 | H13: -
A14: 부평 | B14: 229 | C14: 63 | D14: =(C14/B14)*100 -> 27.510917 | E14: 166 | F14: 61 | G14: 2 | H14: -
A15: 성남 | B15: 159 | C15: 89 | D15: =(C15/B15)*100 -> 55.974843 | E15: 70 | F15: 89 | G15: - | H15: - | K15: 1000
A16: 의정부 | B16: 250 | C16: 72 | D16: =(C16/B16)*100 -> 28.8 | E16: 178 | F16: 71 | G16: 1 | H16: -
A17: 서인천 | B17: 250 | C17: 116 | D17: =(C17/B17)*100 -> 46.4 | E17: 134 | F17: 114 | G17: 1 | H17: 1 | I17: - | J17: 전관서 확대 후 조사국 | K17: 1000
A18: 남인천 | B18: 230 | C18: 115 | D18: =(C18/B18)*100 -> 50 | E18: 115 | F18: 87 | G18: 22 | H18: 5 | I18: 1 | K18: 1000
A19: 동두천 | B19: 250 | C19: 112 | D19: =(C19/B19)*100 -> 44.8 | E19: 138 | F19: 90 | G19: 20 | H19: 2 | I19: - | K19: 700
A20: 안성 | B20: 233 | C20: 103 | D20: =(C20/B20)*100 -> 44.206009 | E20: 130 | F20: 97 | G20: 5 | H20: 1 | I20: - | K20: 1000
A21: 시흥 | B21: 250 | C21: 99 | D21: =(C21/B21)*100 -> 39.6 | E21: 151 | F21: 99 | G21: - | H21: - | I21: -
A22: 백령 | B22: 125 | C22: 93 | D22: =(C22/B22)*100 -> 74.4 | E22: 32 | F22: 70 | G22: 23 | H22: - | I22: - | K22: 700
A23: 용인수지 | B23: 158 | C23: 93 | D23: =(C23/B23)*100 -> 58.860759 | E23: 65 | F23: 90 | G23: 2 | H23: 1 | K23: 1000
A24: 고양덕양 | B24: 250 | C24: 92 | D24: =(C24/B24)*100 -> 36.8 | E24: 158 | F24: 54 | G24: 37 | H24: 1 | I24: -
A25: 파주 | B25: 233 | C25: 89 | D25: =(C25/B25)*100 -> 38.197425 | E25: 144 | F25: 79 | G25: 10
A26: 인천남동 | B26: 226 | C26: 84 | D26: =(C26/B26)*100 -> 37.168142 | E26: 142 | F26: 80 | G26: 4 | H26: - | I26: -
A27: 인천계양 | B27: 225 | C27: 81 | D27: =(C27/B27)*100 -> 36 | E27: 144 | F27: 78 | G27: 3 | I27: -
A28: 용인 | B28: 250 | C28: 79 | D28: =(C28/B28)*100 -> 31.6 | E28: 171 | F28: 69 | G28: 10 | H28: -
A29: 강화 | B29: 125 | C29: 79 | D29: =(C29/B29)*100 -> 63.2 | E29: 46 | F29: 74 | G29: 5 | K29: 700
A30: 화성 | B30: 224 | C30: 78 | D30: =(C30/B30)*100 -> 34.821429 | E30: 146 | F30: 77 | G30: 1 | H30: - | I30: -
A31: 광명 | B31: 229 | C31: 78 | D31: =(C31/B31)*100 -> 34.061135 | E31: 151 | F31: 75 | G31: 3
A32: 군포 | B32: 218 | C32: 77 | D32: =(C32/B32)*100 -> 35.321101 | E32: 141 | F32: 77 | G32: - | H32: - | I32: -
A33: 고양일산 | B33: 250 | C33: 69 | D33: =(C33/B33)*100 -> 27.6 | E33: 181 | F33: 64 | G33: 2 | H33: 3 | I33: -
A34: 하남 | B34: 178 | C34: 64 | D34: =(C34/B34)*100 -> 35.955056 | E34: 114 | F34: 63 | G34: 1 | H34: - | I34: -
A35: 김포 | B35: 244 | C35: 64 | D35: =(C35/B35)*100 -> 26.229508 | E35: 180 | F35: 62 | G35: 1 | H35: 1
A36: 여주 | B36: 179 | C36: 64 | D36: =(C36/B36)*100 -> 35.75419 | E36: 115 | F36: 64 | G36: -
A37: 포천 | B37: 154 | C37: 63 | D37: =(C37/B37)*100 -> 40.909091 | E37: 91 | F37: 63 | G37: - | H37: - | K37: 700
A38: 남양주 | B38: 250 | C38: 63 | D38: =(C38/B38)*100 -> 25.2 | E38: 187 | F38: 63 | G38: - | H38: - | I38: -
A39: 양평 | B39: 159 | C39: 60 | D39: =(C39/B39)*100 -> 37.735849 | E39: 99 | F39: 60 | G39: -
A40: 연천 | B40: 138 | C40: 53 | D40: =(C40/B40)*100 -> 38.405797 | E40: 85 | F40: 46 | G40: 6 | H40: 1 | I40: -
A41: 구리 | B41: 190 | C41: 51 | D41: =(C41/B41)*100 -> 26.842105 | E41: 139 | F41: 51 | H41: - | I41: -
A42: 경기광주 | B42: 223 | C42: 51 | D42: =(C42/B42)*100 -> 22.869955 | E42: 172 | F42: 51 | G42: -
A43: 오산 | B43: 113 | C43: 43 | D43: =(C43/B43)*100 -> 38.053097 | E43: 70 | F43: 43 | G43: - | H43: - | I43: -
A44: 이천 | B44: 122 | C44: 37 | D44: =(C44/B44)*100 -> 30.327869 | E44: 85 | F44: 36 | G44: 1
A45: 가평 | B45: 185 | C45: 25 | D45: =(C45/B45)*100 -> 13.513514 | E45: 160 | F45: 23 | G45: 2
A46: 소계 | B46: =SUM(B5:B45) -> 8677 | C46: =SUM(C5:C45) -> 2900 | D46: =(C46/B46)*100 -> 33.42169 | E46: =SUM(E5:E45) -> 5777 | F46: =SUM(F5:F45) -> 2688 | G46: =SUM(G5:G45) -> 192 | H46: =SUM(H5:H45) -> 18 | I46: =SUM(I5:I45) -> 2 | K46: =SUM(K5:K45) -> 9800

Sheet 남인천과 인천남동 예산 배정 세부내역
A1: 남인천과 인천남동 예산배정 세부 내역
F2: (단위 : 천원, %)
A3: 구분 | B3: 예금총수신고 (10) | C3: 요구불예금수신고 (40) | D3: 체크카드 (30) | E3: 스마트금융 (20) | F3: 가중치 소계 (A+B+C+D) | G3: 5231-362 -210-01 수용비 | H3: 5231-362 -310-03 포상금
B4: 가중치 (10) A | C4: 가중치 (40) B | D4: 가중치소계 (30) C | E4: 가중치소계 (20) D
A5: 실적 가중치 | B5: 0.51118599 | C5: 2.4862524 | D5: 1.7841794 | E5: 1.23749 | F5: 6.0191078 | G5: 7804.315 | H5: 2189
A6: 점유비 | B6: 8.3 | C6: 41.7 | D6: 30 | E6: 20 | F6: =SUM(B6:E6) -> 100
A7: 수용비 예산 배분 | B7: =ROUND($G$5*B6%,0) -> 648 | C7: =ROUND($G$5*C6%,0) -> 3254 | D7: =ROUND($G$5*D6%,0) -> 2341 | E7: =ROUND($G$5*E6%,0) -> 1561 | H7: =ROUND($G$5*F6%,0) -> 7804
A8: 포상금 예산 배분 | B8: =ROUND($H$5*B6%,0) -> 182 | C8: =ROUND($H$5*C6%,0)-1 -> 912 | D8: =ROUND($H$5*D6%,0) -> 657 | E8: =ROUND($H$5*E6%,0) -> 438 | H8: =ROUND($H$5*F6%,0) -> 2189
A11: 국 명 | B11: 예금수신고 실적(E)
B12: 실 적 | C12: 점유비 | D12: 수용비 예산 | E12: 포상금 예산
A13: 남인천 | B13: 253766 | C13: 53.6 | D13: =ROUND($B$7*C13%,0) -> 347 | E13: =ROUND($B$8*C13%,0) -> 98
A14: 인천남동 | B14: 220014 | C14: 46.4 | D14: =ROUND($B$7*C14%,0) -> 301 | E14: =ROUND($B$8*C14%,0) -> 84
A15: 소계 | D15: =SUM(D13:D14) -> 648 | E15: =SUM(E13:E14) -> 182
A18: 국 명 | B18: 요구불예금 실적(F)
B19: 실 적 | C19: 점유비 | D19: 수용비 예산 | E19: 포상금 예산
A20: 남인천 | B20: 67991 | C20: 54.3 | D20: =ROUND($C$7*C20%,0) -> 1767 | E20: =ROUND($C$8*C20%,0) -> 495
A21: 인천남동 | B21: 57335 | C21: 45.7 | D21: =ROUND($C$7*C21%,0) -> 1487 | E21: =ROUND($C$8*C21%,0) -> 417
A22: 소계 | D22: =SUM(D20:D21) -> 3254 | E22: =SUM(E20:E21) -> 912
A25: 국 명 | B25: 체크카드(G)
B26: 실 적 | C26: 점유비 | D26: 수용비 예산 | E26: 포상금 예산
A27: 남인천 | B27: 197194 | C27: 50.6 | D27: =ROUND($D$7*C27%,0) -> 1185 | E27: =ROUND($D$8*C27%,0) -> 332
A28: 인천남동 | B28: 192250 | C28: 49.4 | D28: =ROUND($D$7*C28%,0) -> 1156 | E28: =ROUND($D$8*C28%,0) -> 325
A29: 소계 | D29: =SUM(D27:D28) -> 2341 | E29: =SUM(E27:E28) -> 657
A32: 국 명 | B32: 스마트금융(H)
B33: 실 적 | C33: 점유비 | D33: 수용비 예산 | E33: 포상금 예산
A34: 남인천 | B34: 10750 | C34: 61.4 | D34: =ROUND($E$7*C34%,0) -> 958 | E34: =ROUND($E$8*C34%,0) -> 269
A35: 인천남동 | B35: 6749 | C35: 38.6 | D35: =ROUND($E$7*C35%,0) -> 603 | E35: =ROUND($E$8*C35%,0) -> 169
A36: 소계 | D36: =SUM(D34:D35) -> 1561 | E36: =SUM(E34:E35) -> 438
A39: 국 명 | B39: 예산 소계 | D39: 수용비 예산 | E39: 포상금 예산
A40: 남인천 | B40: 예금수신고, 요구불예금, 체크카드, 스마트금융 예산 소계(E+F+G+H) | D40: =SUM(D13,D20,D27,D34) -> 4257 | E40: =SUM(E13,E20,E27,E34) -> 1194
A41: 인천남동 | D41: =SUM(D14,D21,D28,D35) -> 3547 | E41: =SUM(E14,E21,E28,E35) -> 995
A42: 소계 | D42: =SUM(D15,D22,D29,D36) -> 7804 | E42: =SUM(E40:E41) -> 2189
