Workbook

Sheet 예산 배정
B2: 우체국예금 마케팅 기본예산 추가 배정내역
H3: (단위 : 천 원)
B4: 구 분 | C4: 5231-362 (예금영업지원) | F4: 5231-361 (예금사업운영) | G4: 5231-366 (금융서비스지원) | H4: 비 고
C5: 210-01 (일반수용비) | D5: 310-03 (포상금) | E5: 소 계 | F5: 240-01 (업무추진비) | G5: 240-01 (업무추진비)
B6: 인천 | C6: =VLOOKUP($B6,'평가 내역 세부자료'!$A$5:$Y$46,19,FALSE) -> 5125 | D6: =VLOOKUP($B6,'평가 내역 세부자료'!$A$5:$Y$46,20,FALSE) -> 1438 | E6: =SUM(C6:D6) -> 6563 | F6: =VLOOKUP($B6,'평가 내역 세부자료'!$A$5:$Y$46,25,FALSE) -> 0 | G6: =VLOOKUP($B6,'평가 내역 세부자료'!$A$5:$Y$46,21,FALSE) -> 1000 | H6: 연계우수국 지원
B7: 서인천 | C7: =VLOOKUP($B7,'평가 내역 세부자료'!$A$5:$Y$46,19,FALSE) -> 3913 | D7: =VLOOKUP($B7,'평가 내역 세부자료'!$A$5:$Y$46,20,FALSE) -> 1098 | E7: =SUM(C7:D7) -> 5011 | F7: =VLOOKUP($B7,'평가 내역 세부자료'!$A$5:$Y$46,25,FALSE) -> 1000 | G7: =VLOOKUP($B7,'평가 내역 세부자료'!$A$5:$Y$46,21,FALSE) -> 0 | H7: 연계우수국 지원
B8: 인천계양 | C8: =VLOOKUP($B8,'평가 내역 세부자료'!$A$5:$Y$46,19,FALSE) -> 2660 | D8: =VLOOKUP($B8,'평가 내역 세부자료'!$A$5:$Y$46,20,FALSE) -> 746 | E8: =SUM(C8:D8) -> 3406 | F8: =VLOOKUP($B8,'평가 내역 세부자료'!$A$5:$Y$46,25,FALSE) -> 720 | G8: =VLOOKUP($B8,'평가 내역 세부자료'!$A$5:$Y$46,21,FALSE) -> 0
B9: 남인천 | C9: =VLOOKUP($B9,'남인천과 인천남동 예산 배정 세부내역'!$A$40:$E$42,4,FALSE) -> 4257 | D9: =VLOOKUP($B9,'남인천과 인천남동 예산 배정 세부내역'!$A$40:$E$42,5,FALSE) -> 1194 | E9: =SUM(C9:D9) -> 5451 | F9: =VLOOKUP($B9,'평가 내역 세부자료'!$A$5:$Y$46,25,FALSE) -> 1000 | G9: =VLOOKUP($B9,'평가 내역 세부자료'!$A$5:$Y$46,21,FALSE) -> 1000 | H9: 연계우수, 법인예금
B10: 인천남동 | C10: =VLOOKUP($B10,'남인천과 인천남동 예산 배정 세부내역'!$A$40:$E$42,4,FALSE) -> 3547 | D10: =VLOOKUP($B10,'남인천과 인천남동 예산 배정 세부내역'!$A$40:$E$42,5,FALSE) -> 995 | E10: =SUM(C10:D10) -> 4542 | F10: =VLOOKUP($B10,'평가 내역 세부자료'!$A$5:$Y$46,25,FALSE) -> 720 | G10: =VLOOKUP($B10,'평가 내역 세부자료'!$A$5:$Y$46,21,FALSE) -> 0
B11: 의정부 | C11: =VLOOKUP($B11,'평가 내역 세부자료'!$A$5:$Y$46,19,FALSE) -> 4148 | D11: =VLOOKUP($B11,'평가 내역 세부자료'!$A$5:$Y$46,20,FALSE) -> 1164 | E11: =SUM(C11:D11) -> 5312 | F11: =VLOOKUP($B11,'평가 내역 세부자료'!$A$5:$Y$46,25,FALSE) -> 720 | G11: =VLOOKUP($B11,'평가 내역 세부자료'!$A$5:$Y$46,21,FALSE) -> 0
B12: 부평 | C12: =VLOOKUP($B12,'평가 내역 세부자료'!$A$5:$Y$46,19,FALSE) -> 5172 | D12: =VLOOKUP($B12,'평가 내역 세부자료'!$A$5:$Y$46,20,FALSE) -> 1451 | E12: =SUM(C12:D12) -> 6623 | F12: =VLOOKUP($B12,'평가 내역 세부자료'!$A$5:$Y$46,25,FALSE) -> 720 | G12: =VLOOKUP($B12,'평가 내역 세부자료'!$A$5:$Y$46,21,FALSE) -> 0
B13: 수원 | C13: =VLOOKUP($B13,'평가 내역 세부자료'!$A$5:$Y$46,19,FALSE) -> 4541 | D13: =VLOOKUP($B13,'평가 내역 세부자료'!$A$5:$Y$46,20,FALSE) -> 1274 | E13: =SUM(C13:D13) -> 5815 | F13: =VLOOKUP($B13,'평가 내역 세부자료'!$A$5:$Y$46,25,FALSE) -> 720 | G13: =VLOOKUP($B13,'평가 내역 세부자료'!$A$5:$Y$46,21,FALSE) -> 0
B14: 동수원 | C14: =VLOOKUP($B14,'평가 내역 세부자료'!$A$5:$Y$46,19,FALSE) -> 3740 | D14: =VLOOKUP($B14,'평가 내역 세부자료'!$A$5:$Y$46,20,FALSE) -> 1049 | E14: =SUM(C14:D14) -> 4789 | F14: =VLOOKUP($B14,'평가 내역 세부자료'!$A$5:$Y$46,25,FALSE) -> 1000 | G14: =VLOOKUP($B14,'평가 내역 세부자료'!$A$5:$Y$46,21,FALSE) -> 0 | H14: 연계우수국 지원
B15: 서수원 | C15: =VLOOKUP($B15,'평가 내역 세부자료'!$A$5:$Y$46,19,FALSE) -> 1946 | D15: =VLOOKUP($B15,'평가 내역 세부자료'!$A$5:$Y$46,20,FALSE) -> 546 | E15: =SUM(C15:D15) -> 2492 | F15: =VLOOKUP($B15,'평가 내역 세부자료'!$A$5:$Y$46,25,FALSE) -> 720 | G15: =VLOOKUP($B15,'평가 내역 세부자료'!$A$5:$Y$46,21,FALSE) -> 0
B16: 군포 | C16: =VLOOKUP($B16,'평가 내역 세부자료'!$A$5:$Y$46,19,FALSE) -> 2865 | D16: =VLOOKUP($B16,'평가 내역 세부자료'!$A$5:$Y$46,20,FALSE) -> 804 | E16: =SUM(C16:D16) -> 3669 | F16: =VLOOKUP($B16,'평가 내역 세부자료'!$A$5:$Y$46,25,FALSE) -> 720 | G16: =VLOOKUP($B16,'평가 내역 세부자료'!$A$5:$Y$46,21,FALSE) -> 0
B17: 안양 | C17: =VLOOKUP($B17,'평가 내역 세부자료'!$A$5:$Y$46,19,FALSE) -> 4847 | D17: =VLOOKUP($B17,'평가 내역 세부자료'!$A$5:$Y$46,20,FALSE) -> 1360 | E17: =SUM(C17:D17) -> 6207 | F17: =VLOOKUP($B17,'평가 내역 세부자료'!$A$5:$Y$46,25,FALSE) -> 0 | G17: =VLOOKUP($B17,'평가 내역 세부자료'!$A$5:$Y$46,21,FALSE) -> 2000 | H17: 결합마케팅지원, 법인예금
B18: 성남 | C18: =VLOOKUP($B18,'평가 내역 세부자료'!$A$5:$Y$46,19,FALSE) -> 5454 | D18: =VLOOKUP($B18,'평가 내역 세부자료'!$A$5:$Y$46,20,FALSE) -> 1530 | E18: =SUM(C18:D18) -> 6984 | F18: =VLOOKUP($B18,'평가 내역 세부자료'!$A$5:$Y$46,25,FALSE) -> 0 | G18: =VLOOKUP($B18,'평가 내역 세부자료'!$A$5:$Y$46,21,FALSE) -> 1000 | H18: 연계우수국 지원
B19: 성남분당 | C19: =VLOOKUP($B19,'평가 내역 세부자료'!$A$5:$Y$46,19,FALSE) -> 4617 | D19: =VLOOKUP($B19,'평가 내역 세부자료'!$A$5:$Y$46,20,FALSE) -> 1295 | E19: =SUM(C19:D19) -> 5912 | F19: =VLOOKUP($B19,'평가 내역 세부자료'!$A$5:$Y$46,25,FALSE) -> 0 | G19: =VLOOKUP($B19,'평가 내역 세부자료'!$A$5:$Y$46,21,FALSE) -> 1000 | H19: 법인예금
B20: 부천 | C20: =VLOOKUP($B20,'평가 내역 세부자료'!$A$5:$Y$46,19,FALSE) -> 6739 | D20: =VLOOKUP($B20,'평가 내역 세부자료'!$A$5:$Y$46,20,FALSE) -> 1890 | E20: =SUM(C20:D20) -> 8629 | F20: =VLOOKUP($B20,'평가 내역 세부자료'!$A$5:$Y$46,25,FALSE) -> 0 | G20: =VLOOKUP($B20,'평가 내역 세부자료'!$A$5:$Y$46,21,FALSE) -> 2000 | H20: 결합마케팅 지원
B21: 안산 | C21: =VLOOKUP($B21,'평가 내역 세부자료'!$A$5:$Y$46,19,FALSE) -> 6751 | D21: =VLOOKUP($B21,'평가 내역 세부자료'!$A$5:$Y$46,20,FALSE) -> 1894 | E21: =SUM(C21:D21) -> 8645 | F21: =VLOOKUP($B21,'평가 내역 세부자료'!$A$5:$Y$46,25,FALSE) -> 720 | G21: =VLOOKUP($B21,'평가 내역 세부자료'!$A$5:$Y$46,21,FALSE) -> 0
B22: 고양일산 | C22: =VLOOKUP($B22,'평가 내역 세부자료'!$A$5:$Y$46,19,FALSE) -> 3643 | D22: =VLOOKUP($B22,'평가 내역 세부자료'!$A$5:$Y$46,20,FALSE) -> 1022 | E22: =SUM(C22:D22) -> 4665 | F22: =VLOOKUP($B22,'평가 내역 세부자료'!$A$5:$Y$46,25,FALSE) -> 0 | G22: =VLOOKUP($B22,'평가 내역 세부자료'!$A$5:$Y$46,21,FALSE) -> 1000 | H22: 결합마케팅 지원
B23: 고양덕양 | C23: =VLOOKUP($B23,'평가 내역 세부자료'!$A$5:$Y$46,19,FALSE) -> 3308 | D23: =VLOOKUP($B23,'평가 내역 세부자료'!$A$5:$Y$46,20,FALSE) -> 928 | E23: =SUM(C23:D23) -> 4236 | F23: =VLOOKUP($B23,'평가 내역 세부자료'!$A$5:$Y$46,25,FALSE) -> 720 | G23: =VLOOKUP($B23,'평가 내역 세부자료'!$A$5:$Y$46,21,FALSE) -> 0
B24: 시흥 | C24: =VLOOKUP($B24,'평가 내역 세부자료'!$A$5:$Y$46,19,FALSE) -> 3577 | D24: =VLOOKUP($B24,'평가 내역 세부자료'!$A$5:$Y$46,20,FALSE) -> 1003 | E24: =SUM(C24:D24) -> 4580 | F24: =VLOOKUP($B24,'평가 내역 세부자료'!$A$5:$Y$46,25,FALSE) -> 720 | G24: =VLOOKUP($B24,'평가 내역 세부자료'!$A$5:$Y$46,21,FALSE) -> 0
B25: 광명 | C25: =VLOOKUP($B25,'평가 내역 세부자료'!$A$5:$Y$46,19,FALSE) -> 2955 | D25: =VLOOKUP($B25,'평가 내역 세부자료'!$A$5:$Y$46,20,FALSE) -> 829 | E25: =SUM(C25:D25) -> 3784 | F25: =VLOOKUP($B25,'평가 내역 세부자료'!$A$5:$Y$46,25,FALSE) -> 720 | G25: =VLOOKUP($B25,'평가 내역 세부자료'!$A$5:$Y$46,21,FALSE) -> 0
B26: 용인수지 | C26: =VLOOKUP($B26,'평가 내역 세부자료'!$A$5:$Y$46,19,FALSE) -> 2757 | D26: =VLOOKUP($B26,'평가 내역 세부자료'!$A$5:$Y$46,20,FALSE) -> 773 | E26: =SUM(C26:D26) -> 3530 | F26: =VLOOKUP($B26,'평가 내역 세부자료'!$A$5:$Y$46,25,FALSE) -> 1000 | G26: =VLOOKUP($B26,'평가 내역 세부자료'!$A$5:$Y$46,21,FALSE) -> 0 | H26: 연계우수국 지원
B27: 용인 | C27: =VLOOKUP($B27,'평가 내역 세부자료'!$A$5:$Y$46,19,FALSE) -> 3204 | D27: =VLOOKUP($B27,'평가 내역 세부자료'!$A$5:$Y$46,20,FALSE) -> 899 | E27: =SUM(C27:D27) -> 4103 | F27: =VLOOKUP($B27,'평가 내역 세부자료'!$A$5:$Y$46,25,FALSE) -> 720 | G27: =VLOOKUP($B27,'평가 내역 세부자료'!$A$5:$Y$46,21,FALSE) -> 0
B28: 남양주 | C28: =VLOOKUP($B28,'평가 내역 세부자료'!$A$5:$Y$46,19,FALSE) -> 2728 | D28: =VLOOKUP($B28,'평가 내역 세부자료'!$A$5:$Y$46,20,FALSE) -> 765 | E28: =SUM(C28:D28) -> 3493 | F28: =VLOOKUP($B28,'평가 내역 세부자료'!$A$5:$Y$46,25,FALSE) -> 720 | G28: =VLOOKUP($B28,'평가 내역 세부자료'!$A$5:$Y$46,21,FALSE) -> 0
B29: 평택 | C29: =VLOOKUP($B29,'평가 내역 세부자료'!$A$5:$Y$46,19,FALSE) -> 5606 | D29: =VLOOKUP($B29,'평가 내역 세부자료'!$A$5:$Y$46,20,FALSE) -> 1573 | E29: =SUM(C29:D29) -> 7179 | F29: =VLOOKUP($B29,'평가 내역 세부자료'!$A$5:$Y$46,25,FALSE) -> 720 | G29: =VLOOKUP($B29,'평가 내역 세부자료'!$A$5:$Y$46,21,FALSE) -> 0
B30: 화성 | C30: =VLOOKUP($B30,'평가 내역 세부자료'!$A$5:$Y$46,19,FALSE) -> 3875 | D30: =VLOOKUP($B30,'평가 내역 세부자료'!$A$5:$Y$46,20,FALSE) -> 1087 | E30: =SUM(C30:D30) -> 4962 | F30: =VLOOKUP($B30,'평가 내역 세부자료'!$A$5:$Y$46,25,FALSE) -> 720 | G30: =VLOOKUP($B30,'평가 내역 세부자료'!$A$5:$Y$46,21,FALSE) -> 0
B31: 파주 | C31: =VLOOKUP($B31,'평가 내역 세부자료'!$A$5:$Y$46,19,FALSE) -> 3087 | D31: =VLOOKUP($B31,'평가 내역 세부자료'!$A$5:$Y$46,20,FALSE) -> 866 | E31: =SUM(C31:D31) -> 3953 | F31: =VLOOKUP($B31,'평가 내역 세부자료'!$A$5:$Y$46,25,FALSE) -> 720 | G31: =VLOOKUP($B31,'평가 내역 세부자료'!$A$5:$Y$46,21,FALSE) -> 0
B32: 김포 | C32: =VLOOKUP($B32,'평가 내역 세부자료'!$A$5:$Y$46,19,FALSE) -> 2652 | D32: =VLOOKUP($B32,'평가 내역 세부자료'!$A$5:$Y$46,20,FALSE) -> 744 | E32: =SUM(C32:D32) -> 3396 | F32: =VLOOKUP($B32,'평가 내역 세부자료'!$A$5:$Y$46,25,FALSE) -> 720 | G32: =VLOOKUP($B32,'평가 내역 세부자료'!$A$5:$Y$46,21,FALSE) -> 0
B33: 이천 | C33: =VLOOKUP($B33,'평가 내역 세부자료'!$A$5:$Y$46,19,FALSE) -> 1765 | D33: =VLOOKUP($B33,'평가 내역 세부자료'!$A$5:$Y$46,20,FALSE) -> 495 | E33: =SUM(C33:D33) -> 2260 | F33: =VLOOKUP($B33,'평가 내역 세부자료'!$A$5:$Y$46,25,FALSE) -> 720 | G33: =VLOOKUP($B33,'평가 내역 세부자료'!$A$5:$Y$46,21,FALSE) -> 0
B34: 안성 | C34: =VLOOKUP($B34,'평가 내역 세부자료'!$A$5:$Y$46,19,FALSE) -> 2174 | D34: =VLOOKUP($B34,'평가 내역 세부자료'!$A$5:$Y$46,20,FALSE) -> 610 | E34: =SUM(C34:D34) -> 2784 | F34: =VLOOKUP($B34,'평가 내역 세부자료'!$A$5:$Y$46,25,FALSE) -> 1000 | G34: =VLOOKUP($B34,'평가 내역 세부자료'!$A$5:$Y$46,21,FALSE) -> 0 | H34: 연계우수국 지원
B35: 포천 | C35: =VLOOKUP($B35,'평가 내역 세부자료'!$A$5:$Y$46,19,FALSE) -> 2307 | D35: =VLOOKUP($B35,'평가 내역 세부자료'!$A$5:$Y$46,20,FALSE) -> 647 | E35: =SUM(C35:D35) -> 2954 | F35: =VLOOKUP($B35,'평가 내역 세부자료'!$A$5:$Y$46,25,FALSE) -> 1700 | G35: =VLOOKUP($B35,'평가 내역 세부자료'!$A$5:$Y$46,21,FALSE) -> 0 | H35: 연계우수, 법인예금
B36: 경기광주 | C36: =VLOOKUP($B36,'평가 내역 세부자료'!$A$5:$Y$46,19,FALSE) -> 2010 | D36: =VLOOKUP($B36,'평가 내역 세부자료'!$A$5:$Y$46,20,FALSE) -> 564 | E36: =SUM(C36:D36) -> 2574 | F36: =VLOOKUP($B36,'평가 내역 세부자료'!$A$5:$Y$46,25,FALSE) -> 720 | G36: =VLOOKUP($B36,'평가 내역 세부자료'!$A$5:$Y$46,21,FALSE) -> 0
B37: 구리 | C37: =VLOOKUP($B37,'평가 내역 세부자료'!$A$5:$Y$46,19,FALSE) -> 1824 | D37: =VLOOKUP($B37,'평가 내역 세부자료'!$A$5:$Y$46,20,FALSE) -> 512 | E37: =SUM(C37:D37) -> 2336 | F37: =VLOOKUP($B37,'평가 내역 세부자료'!$A$5:$Y$46,25,FALSE) -> 720 | G37: =VLOOKUP($B37,'평가 내역 세부자료'!$A$5:$Y$46,21,FALSE) -> 0
B38: 강화 | C38: =VLOOKUP($B38,'평가 내역 세부자료'!$A$5:$Y$46,19,FALSE) -> 1357 | D38: =VLOOKUP($B38,'평가 내역 세부자료'!$A$5:$Y$46,20,FALSE) -> 381 | E38: =SUM(C38:D38) -> 1738 | F38: =VLOOKUP($B38,'평가 내역 세부자료'!$A$5:$Y$46,25,FALSE) -> 700 | G38: =VLOOKUP($B38,'평가 내역 세부자료'!$A$5:$Y$46,21,FALSE) -> 0 | H38: 연계우수국 지원
B39: 가평 | C39: =VLOOKUP($B39,'평가 내역 세부자료'!$A$5:$Y$46,19,FALSE) -> 1330 | D39: =VLOOKUP($B39,'평가 내역 세부자료'!$A$5:$Y$46,20,FALSE) -> 373 | E39: =SUM(C39:D39) -> 1703 | F39: =VLOOKUP($B39,'평가 내역 세부자료'!$A$5:$Y$46,25,FALSE) -> 550 | G39: =VLOOKUP($B39,'평가 내역 세부자료'!$A$5:$Y$46,21,FALSE) -> 0
B40: 양평 | C40: =VLOOKUP($B40,'평가 내역 세부자료'!$A$5:$Y$46,19,FALSE) -> 1739 | D40: =VLOOKUP($B40,'평가 내역 세부자료'!$A$5:$Y$46,20,FALSE) -> 488 | E40: =SUM(C40:D40) -> 2227 | F40: =VLOOKUP($B40,'평가 내역 세부자료'!$A$5:$Y$46,25,FALSE) -> 550 | G40: =VLOOKUP($B40,'평가 내역 세부자료'!$A$5:$Y$46,21,FALSE) -> 0
B41: 여주 | C41: =VLOOKUP($B41,'평가 내역 세부자료'!$A$5:$Y$46,19,FALSE) -> 1421 | D41: =VLOOKUP($B41,'평가 내역 세부자료'!$A$5:$Y$46,20,FALSE) -> 399 | E41: =SUM(C41:D41) -> 1820 | F41: =VLOOKUP($B41,'평가 내역 세부자료'!$A$5:$Y$46,25,FALSE) -> 550 | G41: =VLOOKUP($B41,'평가 내역 세부자료'!$A$5:$Y$46,21,FALSE) -> 0
...

Sheet 평가 내역 세부자료
A1: 총괄국별 예산 배정 내역
X2: (단위 : 백만원, 명, 점, %)
A3: 국 명 | B3: 예금총수신고(10) | F3: 요구불예금수신고(40) | J3: 체크카드(30) | N3: 스마트금융(20) | R3: 합계 (A+B+C+D) | S3: 5231-362-210-01 수용비 (천원) | T3: 5231-362-310-03 포상금 (천원) | U3: 연계실적 우수국 및 우편과 결합마케팅 지원, 고액 법인 유치국 | W3: 고액 법인 유치국 | X3: 기본 배정 | Y3: 5231-361-240-01 업무추진비 소계(천원) (E+F+G)
B4: 목표 | C4: 실적 | D4: 달성율 | E4: 가중치 (10) A | F4: 목표 | G4: 실적 | H4: 달성율 | I4: 가중치 (40) B | J4: 목표 (천원) | K4: 실적 (천원) | L4: 달성율 | M4: 가중치소계 (30) C | N4: 목표 | O4: 실적 | P4: 달성율 | Q4: 가중치소계(20) D | U4: 5231-366-240-01 업무추진비(천원) | V4: 5231-361-240-01 업무추진비(천원)(E) | W4: 5231-361-240-01 업무추진비(천원)(F) | X4: 5231-361-240-01 업무추진비(천원)(G)
A5: 인천 | B5: =VLOOKUP(A5,총수신고!$C$6:$I$45,2,FALSE) -> 317089 | C5: =VLOOKUP(A5,총수신고!$C$6:$I$45,4,FALSE) -> 334123.12 | D5: =(C5/B5)*100 -> 105.37203 | E5: =((B5/$B$46)*50+(C5/$C$46)*50)*10% -> 0.35980238 | F5: =VLOOKUP(A5,총수신고!$M$6:$U$45,2,FALSE) -> 73235 | G5: =VLOOKUP(A5,총수신고!$M$6:$U$45,4,FALSE) -> 69581.869 | H5: =(G5/F5)*100 -> 95.011769 | I5: =((F5/$F$46)*50+(G5/$G$46)*50)*40% -> 1.4530515 | J5: =VLOOKUP(A5,체크카드!$A$5:$D$44,2,FALSE) -> 302599 | K5: =VLOOKUP(A5,체크카드!$A$5:$D$44,3,FALSE) -> 354989.91 | L5: =(K5/J5)*100 -> 117.31364 | M5: =((J5/$J$46)*50+(K5/$K$46)*50)*30% -> 1.3817781 | N5: =VLOOKUP(A5,스마트금융!$A$5:$D$45,2,FALSE) -> 10583 | O5: =VLOOKUP(A5,스마트금융!$A$5:$D$45,3,FALSE) -> 10699 | P5: =(O5/N5)*100 -> 101.0961 | Q5: =((N5/$N$46)*50+(O5/$O$46)*50)*20% -> 0.75832794 | R5: =SUM(E5,I5,M5,Q5) -> 3.9529599 | S5: =ROUND(129659*R5%,0) -> 5125 | T5: =ROUND(36373*R5%,0) -> 1438 | U5: 1000 | Y5: =SUM(V5:X5) -> 0
A6: 서인천 | B6: =VLOOKUP(A6,총수신고!$C$6:$I$45,2,FALSE) -> 255500 | C6: =VLOOKUP(A6,총수신고!$C$6:$I$45,4,FALSE) -> 242209.65 | D6: =(C6/B6)*100 -> 94.798299 | E6: =((B6/$B$46)*50+(C6/$C$46)*50)*10% -> 0.27554967 | F6: =VLOOKUP(A6,총수신고!$M$6:$U$45,2,FALSE) -> 68038 | G6: =VLOOKUP(A6,총수신고!$M$6:$U$45,4,FALSE) -> 57053.664 | H6: =(G6/F6)*100 -> 83.855586 | I6: =((F6/$F$46)*50+(G6/$G$46)*50)*40% -> 1.2736249 | J6: =VLOOKUP(A6,체크카드!$A$5:$D$44,2,FALSE) -> 238942 | K6: =VLOOKUP(A6,체크카드!$A$5:$D$44,3,FALSE) -> 204388.24 | L6: =(K6/J6)*100 -> 85.538852 | M6: =((J6/$J$46)*50+(K6/$K$46)*50)*30% -> 0.92042799 | N6: =VLOOKUP(A6,스마트금융!$A$5:$D$45,2,FALSE) -> 7626 | O6: =VLOOKUP(A6,스마트금융!$A$5:$D$45,3,FALSE) -> 7768 | P6: =(O6/N6)*100 -> 101.86205 | Q6: =((N6/$N$46)*50+(O6/$O$46)*50)*20% -> 0.54850837 | R6: =SUM(E6,I6,M6,Q6) -> 3.0181109 | S6: =ROUND(129659*R6%,0) -> 3913 | T6: =ROUND(36373*R6%,0) -> 1098 | V6: 1000 | Y6: =SUM(V6:X6) -> 1000
A7: 인천계양 | B7: =VLOOKUP(A7,총수신고!$C$6:$I$45,2,FALSE) -> 161565 | C7: =VLOOKUP(A7,총수신고!$C$6:$I$45,4,FALSE) -> 175811.98 | D7: =(C7/B7)*100 -> 108.81811 | E7: =((B7/$B$46)*50+(C7/$C$46)*50)*10% -> 0.18628951 | F7: =VLOOKUP(A7,총수신고!$M$6:$U$45,2,FALSE) -> 37301 | G7: =VLOOKUP(A7,총수신고!$M$6:$U$45,4,FALSE) -> 39480.169 | H7: =(G7/F7)*100 -> 105.84212 | I7: =((F7/$F$46)*50+(G7/$G$46)*50)*40% -> 0.78070291 | J7: =VLOOKUP(A7,체크카드!$A$5:$D$44,2,FALSE) -> 166288 | K7: =VLOOKUP(A7,체크카드!$A$5:$D$44,3,FALSE) -> 146374.67 | L7: =(K7/J7)*100 -> 88.024793 | M7: =((J7/$J$46)*50+(K7/$K$46)*50)*30% -> 0.64985013 | N7: =VLOOKUP(A7,스마트금융!$A$5:$D$45,2,FALSE) -> 6068 | O7: =VLOOKUP(A7,스마트금융!$A$5:$D$45,3,FALSE) -> 6122 | P7: =(O7/N7)*100 -> 100.88991 | Q7: =((N7/$N$46)*50+(O7/$O$46)*50)*20% -> 0.43436197 | R7: =SUM(E7,I7,M7,Q7) -> 2.0512045 | S7: =ROUND(129659*R7%,0) -> 2660 | T7: =ROUND(36373*R7%,0) -> 746 | X7: 720 | Y7: =SUM(V7:X7) -> 720
A8: 남인천 | B8: =VLOOKUP(A8,총수신고!$C$6:$I$45,2,FALSE) -> 451356 | C8: =VLOOKUP(A8,총수신고!$C$6:$I$45,4,FALSE) -> 473779.45 | D8: =(C8/B8)*100 -> 104.96802 | E8: =((B8/$B$46)*50+(C8/$C$46)*50)*10% -> 0.51118599 | F8: =VLOOKUP(A8,총수신고!$M$6:$U$45,2,FALSE) -> 119184 | G8: =VLOOKUP(A8,총수신고!$M$6:$U$45,4,FALSE) -> 125326.66 | H8: =(G8/F8)*100 -> 105.15393 | I8: =((F8/$F$46)*50+(G8/$G$46)*50)*40% -> 2.4862524 | J8: =VLOOKUP(A8,체크카드!$A$5:$D$44,2,FALSE) -> 471032 | K8: =VLOOKUP(A8,체크카드!$A$5:$D$44,3,FALSE) -> 389444.2 | L8: =(K8/J8)*100 -> 82.678926 | M8: =((J8/$J$46)*50+(K8/$K$46)*50)*30% -> 1.7841794 | N8: =VLOOKUP(A8,스마트금융!$A$5:$D$45,2,FALSE) -> 17231 | O8: =VLOOKUP(A8,스마트금융!$A$5:$D$45,3,FALSE) -> 17499 | P8: =(O8/N8)*100 -> 101.55534 | Q8: =((N8/$N$46)*50+(O8/$O$46)*50)*20% -> 1.23749 | R8: =SUM(E8,I8,M8,Q8) -> 6.0191078 | S8: =ROUND(129659*R8%,0) -> 7804 | T8: =ROUND(36373*R8%,0) -> 2189 | U8: 1000 | V8: 1000 | Y8: =SUM(V8:X8) -> 1000
A9: 의정부 | B9: =VLOOKUP(A9,총수신고!$C$6:$I$45,2,FALSE) -> 265241 | C9: =VLOOKUP(A9,총수신고!$C$6:$I$45,4,FALSE) -> 281096.6 | D9: =(C9/B9)*100 -> 105.97781 | E9: =((B9/$B$46)*50+(C9/$C$46)*50)*10% -> 0.30182471 | F9: =VLOOKUP(A9,총수신고!$M$6:$U$45,2,FALSE) -> 62839 | G9: =VLOOKUP(A9,총수신고!$M$6:$U$45,4,FALSE) -> 63673.542 | H9: =(G9/F9)*100 -> 101.32806 | I9: =((F9/$F$46)*50+(G9/$G$46)*50)*40% -> 1.2866898 | J9: =VLOOKUP(A9,체크카드!$A$5:$D$44,2,FALSE) -> 253357 | K9: =VLOOKUP(A9,체크카드!$A$5:$D$44,3,FALSE) -> 205225.42 | L9: =(K9/J9)*100 -> 81.002468 | M9: =((J9/$J$46)*50+(K9/$K$46)*50)*30% -> 0.95012018 | N9: =VLOOKUP(A9,스마트금융!$A$5:$D$45,2,FALSE) -> 9262 | O9: =VLOOKUP(A9,스마트금융!$A$5:$D$45,3,FALSE) -> 9265 | P9: =(O9/N9)*100 -> 100.03239 | Q9: =((N9/$N$46)*50+(O9/$O$46)*50)*20% -> 0.66018814 | R9: =SUM(E9,I9,M9,Q9) -> 3.1988228 | S9: =ROUND(129659*R9%,0) -> 4148 | T9: =ROUND(36373*R9%,0) -> 1164 | X9: 720 | Y9: =SUM(V9:X9) -> 720
A10: 부평 | B10: =VLOOKUP(A10,총수신고!$C$6:$I$45,2,FALSE) -> 335902 | C10: =VLOOKUP(A10,총수신고!$C$6:$I$45,4,FALSE) -> 355282.66 | D10: =(C10/B10)*100 -> 105.76974 | E10: =((B10/$B$46)*50+(C10/$C$46)*50)*10% -> 0.38186002 | F10: =VLOOKUP(A10,총수신고!$M$6:$U$45,2,FALSE) -> 82878 | G10: =VLOOKUP(A10,총수신고!$M$6:$U$45,4,FALSE) -> 85812.833 | H10: =(G10/F10)*100 -> 103.54115 | I10: =((F10/$F$46)*50+(G10/$G$46)*50)*40% -> 1.7154482 | J10: =VLOOKUP(A10,체크카드!$A$5:$D$44,2,FALSE) -> 290833 | K10: =VLOOKUP(A10,체크카드!$A$5:$D$44,3,FALSE) -> 243526.58 | L10: =(K10/J10)*100 -> 83.734165 | M10: =((J10/$J$46)*50+(K10/$K$46)*50)*30% -> 1.1085188 | N10: =VLOOKUP(A10,스마트금융!$A$5:$D$45,2,FALSE) -> 10878 | O10: =VLOOKUP(A10,스마트금융!$A$5:$D$45,3,FALSE) -> 11107 | P10: =(O10/N10)*100 -> 102.10517 | Q10: =((N10/$N$46)*50+(O10/$O$46)*50)*20% -> 0.78334701 | R10: =SUM(E10,I10,M10,Q10) -> 3.989174 | S10: =ROUND(129659*R10%,0) -> 5172 | T10: =ROUND(36373*R10%,0) -> 1451 | X10: 720 | Y10: =SUM(V10:X10) -> 720
A11: 수원 | B11: =VLOOKUP(A11,총수신고!$C$6:$I$45,2,FALSE) -> 352943 | C11: =VLOOKUP(A11,총수신고!$C$6:$I$45,4,FALSE) -> 371832.44 | D11: =(C11/B11)*100 -> 105.35198 | E11: =((B11/$B$46)*50+(C11/$C$46)*50)*10% -> 0.40044844 | F11: =VLOOKUP(A11,총수신고!$M$6:$U$45,2,FALSE) -> 68028 | G11: =VLOOKUP(A11,총수신고!$M$6:$U$45,4,FALSE) -> 71725.208 | H11: =(G11/F11)*100 -> 105.43483 | I11: =((F11/$F$46)*50+(G11/$G$46)*50)*40% -> 1.4210276 | J11: =VLOOKUP(A11,체크카드!$A$5:$D$44,2,FALSE) -> 243728 | K11: =VLOOKUP(A11,체크카드!$A$5:$D$44,3,FALSE) -> 209987.22 | L11: =(K11/J11)*100 -> 86.156379 | M11: =((J11/$J$46)*50+(K11/$K$46)*50)*30% -> 0.94224743 | N11: =VLOOKUP(A11,스마트금융!$A$5:$D$45,2,FALSE) -> 10330 | O11: =VLOOKUP(A11,스마트금융!$A$5:$D$45,3,FALSE) -> 10407 | P11: =(O11/N11)*100 -> 100.7454 | Q11: =((N11/$N$46)*50+(O11/$O$46)*50)*20% -> 0.73891836 | R11: =SUM(E11,I11,M11,Q11) -> 3.5026419 | S11: =ROUND(129659*R11%,0) -> 4541 | T11: =ROUND(36373*R11%,0) -> 1274 | X11: 720 | Y11: =SUM(V11:X11) -> 720
A12: 동수원 | B12: =VLOOKUP(A12,총수신고!$C$6:$I$45,2,FALSE) -> 281761 | C12: =VLOOKUP(A12,총수신고!$C$6:$I$45,4,FALSE) -> 302743.38 | D12: =(C12/B12)*100 -> 107.44687 | E12: =((B12/$B$46)*50+(C12/$C$46)*50)*10% -> 0.32282455 | F12: =VLOOKUP(A12,총수신고!$M$6:$U$45,2,FALSE) -> 56604 | G12: =VLOOKUP(A12,총수신고!$M$6:$U$45,4,FALSE) -> 57943.475 | H12: =(G12/F12)*100 -> 102.3664 | I12: =((F12/$F$46)*50+(G12/$G$46)*50)*40% -> 1.1649311 | J12: =VLOOKUP(A12,체크카드!$A$5:$D$44,2,FALSE) -> 190112 | K12: =VLOOKUP(A12,체크카드!$A$5:$D$44,3,FALSE) -> 166320.07 | L12: =(K12/J12)*100 -> 87.485308 | M12: =((J12/$J$46)*50+(K12/$K$46)*50)*30% -> 0.74064832 | N12: =VLOOKUP(A12,스마트금융!$A$5:$D$45,2,FALSE) -> 9146 | O12: =VLOOKUP(A12,스마트금융!$A$5:$D$45,3,FALSE) -> 9265 | P12: =(O12/N12)*100 -> 101.30112 | Q12: =((N12/$N$46)*50+(O12/$O$46)*50)*20% -> 0.65602222 | R12: =SUM(E12,I12,M12,Q12) -> 2.8844262 | S12: =ROUND(129659*R12%,0) -> 3740 | T12: =ROUND(36373*R12%,0) -> 1049 | V12: 1000 | Y12: =SUM(V12:X12) -> 1000
A13: 서수원 | B13: =VLOOKUP(A13,총수신고!$C$6:$I$45,2,FALSE) -> 114428 | C13: =VLOOKUP(A13,총수신고!$C$6:$I$45,4,FALSE) -> 136088.02 | D13: =(C13/B13)*100 -> 118.92895 | E13: =((B13/$B$46)*50+(C13/$C$46)*50)*10% -> 0.13809195 | F13: =VLOOKUP(A13,총수신고!$M$6:$U$45,2,FALSE) -> 32723 | G13: =VLOOKUP(A13,총수신고!$M$6:$U$45,4,FALSE) -> 33721.868 | H13: =(G13/F13)*100 -> 103.05249 | I13: =((F13/$F$46)*50+(G13/$G$46)*50)*40% -> 0.67570857 | J13: =VLOOKUP(A13,체크카드!$A$5:$D$44,2,FALSE) -> 116544 | K13: =VLOOKUP(A13,체크카드!$A$5:$D$44,3,FALSE) -> 99366.842 | L13: =(K13/J13)*100 -> 85.261225 | M13: =((J13/$J$46)*50+(K13/$K$46)*50)*30% -> 0.44821158 | N13: =VLOOKUP(A13,스마트금융!$A$5:$D$45,2,FALSE) -> 3319 | O13: =VLOOKUP(A13,스마트금융!$A$5:$D$45,3,FALSE) -> 3384 | P13: =(O13/N13)*100 -> 101.95842 | Q13: =((N13/$N$46)*50+(O13/$O$46)*50)*20% -> 0.23883578 | R13: =SUM(E13,I13,M13,Q13) -> 1.5008479 | S13: =ROUND(129659*R13%,0) -> 1946 | T13: =ROUND(36373*R13%,0) -> 546 | X13: 720 | Y13: =SUM(V13:X13) -> 720
A14: 군포 | B14: =VLOOKUP(A14,총수신고!$C$6:$I$45,2,FALSE) -> 247075 | C14: =VLOOKUP(A14,총수신고!$C$6:$I$45,4,FALSE) -> 267838.96 | D14: =(C14/B14)*100 -> 108.40391 | E14: =((B14/$B$46)*50+(C14/$C$46)*50)*10% -> 0.28434098 | F14: =VLOOKUP(A14,총수신고!$M$6:$U$45,2,FALSE) -> 43423 | G14: =VLOOKUP(A14,총수신고!$M$6:$U$45,4,FALSE) -> 44634.275 | H14: =(G14/F14)*100 -> 102.78948 | I14: =((F14/$F$46)*50+(G14/$G$46)*50)*40% -> 0.89550834 | J14: =VLOOKUP(A14,체크카드!$A$5:$D$44,2,FALSE) -> 147071 | K14: =VLOOKUP(A14,체크카드!$A$5:$D$44,3,FALSE) -> 121101.36 | L14: =(K14/J14)*100 -> 82.342106 | M14: =((J14/$J$46)*50+(K14/$K$46)*50)*30% -> 0.55596338 | N14: =VLOOKUP(A14,스마트금융!$A$5:$D$45,2,FALSE) -> 6589 | O14: =VLOOKUP(A14,스마트금융!$A$5:$D$45,3,FALSE) -> 6704 | P14: =(O14/N14)*100 -> 101.74533 | Q14: =((N14/$N$46)*50+(O14/$O$46)*50)*20% -> 0.47364911 | R14: =SUM(E14,I14,M14,Q14) -> 2.2094618 | S14: =ROUND(129659*R14%,0) -> 2865 | T14: =ROUND(36373*R14%,0) -> 804 | X14: 720 | Y14: =SUM(V14:X14) -> 720
A15: 안양 | B15: =VLOOKUP(A15,총수신고!$C$6:$I$45,2,FALSE) -> 440866 | C15: =VLOOKUP(A15,총수신고!$C$6:$I$45,4,FALSE) -> 467601.12 | D15: =(C15/B15)*100 -> 106.06423 | E15: =((B15/$B$46)*50+(C15/$C$46)*50)*10% -> 0.50187563 | F15: =VLOOKUP(A15,총수신고!$M$6:$U$45,2,FALSE) -> 81033 | G15: =VLOOKUP(A15,총수신고!$M$6:$U$45,4,FALSE) -> 91079.04 | H15: =(G15/F15)*100 -> 112.39747 | I15: =((F15/$F$46)*50+(G15/$G$46)*50)*40% -> 1.7494115 | J15: =VLOOKUP(A15,체크카드!$A$5:$D$44,2,FALSE) -> 200655 | K15: =VLOOKUP(A15,체크카드!$A$5:$D$44,3,FALSE) -> 170384.27 | L15: =(K15/J15)*100 -> 84.914042 | M15: =((J15/$J$46)*50+(K15/$K$46)*50)*30% -> 0.77012448 | N15: =VLOOKUP(A15,스마트금융!$A$5:$D$45,2,FALSE) -> 9960 | O15: =VLOOKUP(A15,스마트금융!$A$5:$D$45,3,FALSE) -> 10152 | P15: =(O15/N15)*100 -> 101.92771 | Q15: =((N15/$N$46)*50+(O15/$O$46)*50)*20% -> 0.71661507 | R15: =SUM(E15,I15,M15,Q15) -> 3.7380267 | S15: =ROUND(129659*R15%,0) -> 4847 | T15: =ROUND(36373*R15%,0) -> 1360 | U15: 2000 | Y15: =SUM(V15:X15) -> 0
A16: 성남 | B16: =VLOOKUP(A16,총수신고!$C$6:$I$45,2,FALSE) -> 354661 | C16: =VLOOKUP(A16,총수신고!$C$6:$I$45,4,FALSE) -> 379665.8 | D16: =(C16/B16)*100 -> 107.05034 | E16: =((B16/$B$46)*50+(C16/$C$46)*50)*10% -> 0.40560101 | F16: =VLOOKUP(A16,총수신고!$M$6:$U$45,2,FALSE) -> 88844 | G16: =VLOOKUP(A16,총수신고!$M$6:$U$45,4,FALSE) -> 91428.829 | H16: =(G16/F16)*100 -> 102.9094 | I16: =((F16/$F$46)*50+(G16/$G$46)*50)*40% -> 1.8332924 | J16: =VLOOKUP(A16,체크카드!$A$5:$D$44,2,FALSE) -> 319800 | K16: =VLOOKUP(A16,체크카드!$A$5:$D$44,3,FALSE) -> 262849.98 | L16: =(K16/J16)*100 -> 82.191989 | M16: =((J16/$J$46)*50+(K16/$K$46)*50)*30% -> 1.2078409 | N16: =VLOOKUP(A16,스마트금융!$A$5:$D$45,2,FALSE) -> 10603 | O16: =VLOOKUP(A16,스마트금융!$A$5:$D$45,3,FALSE) -> 10717 | P16: =(O16/N16)*100 -> 101.07517 | Q16: =((N16/$N$46)*50+(O16/$O$46)*50)*20% -> 0.75968258 | R16: =SUM(E16,I16,M16,Q16) -> 4.2064169 | S16: =ROUND(129659*R16%,0) -> 5454 | T16: =ROUND(36373*R16%,0) -> 1530 | U16: 1000 | Y16: =SUM(V16:X16) -> 0
A17: 성남분당 | B17: =VLOOKUP(A17,총수신고!$C$6:$I$45,2,FALSE) -> 676977 | C17: =VLOOKUP(A17,총수신고!$C$6:$I$45,4,FALSE) -> 836299.93 | D17: =(C17/B17)*100 -> 123.53447 | E17: =((B17/$B$46)*50+(C17/$C$46)*50)*10% -> 0.83355825 | F17: =VLOOKUP(A17,총수신고!$M$6:$U$45,2,FALSE) -> 70406 | G17: =VLOOKUP(A17,총수신고!$M$6:$U$45,4,FALSE) -> 79192.346 | H17: =(G17/F17)*100 -> 112.47954 | I17: =((F17/$F$46)*50+(G17/$G$46)*50)*40% -> 1.5205674 | J17: =VLOOKUP(A17,체크카드!$A$5:$D$44,2,FALSE) -> 169310 | K17: =VLOOKUP(A17,체크카드!$A$5:$D$44,3,FALSE) -> 148377.45 | L17: =(K17/J17)*100 -> 87.636552 | M17: =((J17/$J$46)*50+(K17/$K$46)*50)*30% -> 0.66018242 | N17: =VLOOKUP(A17,스마트금융!$A$5:$D$45,2,FALSE) -> 7629 | O17: =VLOOKUP(A17,스마트금융!$A$5:$D$45,3,FALSE) -> 7710 | P17: =(O17/N17)*100 -> 101.06174 | Q17: =((N17/$N$46)*50+(O17/$O$46)*50)*20% -> 0.54656553 | R17: =SUM(E17,I17,M17,Q17) -> 3.5608737 | S17: =ROUND(129659*R17%,0) -> 4617 | T17: =ROUND(36373*R17%,0) -> 1295 | U17: 1000 | Y17: =SUM(V17:X17) -> 0
A18: 부천 | B18: =VLOOKUP(A18,총수신고!$C$6:$I$45,2,FALSE) -> 434890 | C18: =VLOOKUP(A18,총수신고!$C$6:$I$45,4,FALSE) -> 466136.83 | D18: =(C18/B18)*100 -> 107.185 | E18: =((B18/$B$46)*50+(C18/$C$46)*50)*10% -> 0.49766474 | F18: =VLOOKUP(A18,총수신고!$M$6:$U$45,2,FALSE) -> 103016 | G18: =VLOOKUP(A18,총수신고!$M$6:$U$45,4,FALSE) -> 106884.89 | H18: =(G18/F18)*100 -> 103.75562 | I18: =((F18/$F$46)*50+(G18/$G$46)*50)*40% -> 2.1344955 | J18: =VLOOKUP(A18,체크카드!$A$5:$D$44,2,FALSE) -> 375649 | K18: =VLOOKUP(A18,체크카드!$A$5:$D$44,3,FALSE) -> 315312.06 | L18: =(K18/J18)*100 -> 83.937946 | M18: =((J18/$J$46)*50+(K18/$K$46)*50)*30% -> 1.4335183 | N18: =VLOOKUP(A18,스마트금융!$A$5:$D$45,2,FALSE) -> 15679 | O18: =VLOOKUP(A18,스마트금융!$A$5:$D$45,3,FALSE) -> 16087 | P18: =(O18/N18)*100 -> 102.60221 | Q18: =((N18/$N$46)*50+(O18/$O$46)*50)*20% -> 1.1318321 | R18: =SUM(E18,I18,M18,Q18) -> 5.1975105 | S18: =ROUND(129659*R18%,0) -> 6739 | T18: =ROUND(36373*R18%,0) -> 1890 | U18: 2000 | Y18: =SUM(V18:X18) -> 0
A19: 안산 | B19: =VLOOKUP(A19,총수신고!$C$6:$I$45,2,FALSE) -> 311482 | C19: =VLOOKUP(A19,총수신고!$C$6:$I$45,4,FALSE) -> 333651.89 | D19: =(C19/B19)*100 -> 107.11755 | E19: =((B19/$B$46)*50+(C19/$C$46)*50)*10% -> 0.35633154 | F19: =VLOOKUP(A19,총수신고!$M$6:$U$45,2,FALSE) -> 88189 | G19: =VLOOKUP(A19,총수신고!$M$6:$U$45,4,FALSE) -> 90133.833 | H19: =(G19/F19)*100 -> 102.2053 | I19: =((F19/$F$46)*50+(G19/$G$46)*50)*40% -> 1.8135337 | J19: =VLOOKUP(A19,체크카드!$A$5:$D$44,2,FALSE) -> 492000 | K19: =VLOOKUP(A19,체크카드!$A$5:$D$44,3,FALSE) -> 467915.04 | L19: =(K19/J19)*100 -> 95.104682 | M19: =((J19/$J$46)*50+(K19/$K$46)*50)*30% -> 2.0010276 | N19: =VLOOKUP(A19,스마트금융!$A$5:$D$45,2,FALSE) -> 14498 | O19: =VLOOKUP(A19,스마트금융!$A$5:$D$45,3,FALSE) -> 14580 | P19: =(O19/N19)*100 -> 100.5656 | Q19: =((N19/$N$46)*50+(O19/$O$46)*50)*20% -> 1.0361392 | R19: =SUM(E19,I19,M19,Q19) -> 5.2070321 | S19: =ROUND(129659*R19%,0) -> 6751 | T19: =ROUND(36373*R19%,0) -> 1894 | X19: 720 | Y19: =SUM(V19:X19) -> 720
A20: 고양일산 | B20: =VLOOKUP(A20,총수신고!$C$6:$I$45,2,FALSE) -> 294194 | C20: =VLOOKUP(A20,총수신고!$C$6:$I$45,4,FALSE) -> 320107.5 | D20: =(C20/B20)*100 -> 108.8083 | E20: =((B20/$B$46)*50+(C20/$C$46)*50)*10% -> 0.33919957 | F20: =VLOOKUP(A20,총수신고!$M$6:$U$45,2,FALSE) -> 50574 | G20: =VLOOKUP(A20,총수신고!$M$6:$U$45,4,FALSE) -> 54529.498 | H20: =(G20/F20)*100 -> 107.82121 | I20: =((F20/$F$46)*50+(G20/$G$46)*50)*40% -> 1.0685673 | J20: =VLOOKUP(A20,체크카드!$A$5:$D$44,2,FALSE) -> 210662 | K20: =VLOOKUP(A20,체크카드!$A$5:$D$44,3,FALSE) -> 166284.07 | L20: =(K20/J20)*100 -> 78.934059 | M20: =((J20/$J$46)*50+(K20/$K$46)*50)*30% -> 0.7802137 | N20: =VLOOKUP(A20,스마트금융!$A$5:$D$45,2,FALSE) -> 8647 | O20: =VLOOKUP(A20,스마트금융!$A$5:$D$45,3,FALSE) -> 8810 | P20: =(O20/N20)*100 -> 101.88505 | Q20: =((N20/$N$46)*50+(O20/$O$46)*50)*20% -> 0.62201521 | R20: =SUM(E20,I20,M20,Q20) -> 2.8099957 | S20: =ROUND(129659*R20%,0) -> 3643 | T20: =ROUND(36373*R20%,0) -> 1022 | U20: 1000 | Y20: =SUM(V20:X20) -> 0
A21: 고양덕양 | B21: =VLOOKUP(A21,총수신고!$C$6:$I$45,2,FALSE) -> 245473 | C21: =VLOOKUP(A21,총수신고!$C$6:$I$45,4,FALSE) -> 264922.56 | D21: =(C21/B21)*100 -> 107.9233 | E21: =((B21/$B$46)*50+(C21/$C$46)*50)*10% -> 0.28186993 | F21: =VLOOKUP(A21,총수신고!$M$6:$U$45,2,FALSE) -> 51645 | G21: =VLOOKUP(A21,총수신고!$M$6:$U$45,4,FALSE) -> 51221.427 | H21: =(G21/F21)*100 -> 99.179837 | I21: =((F21/$F$46)*50+(G21/$G$46)*50)*40% -> 1.0463275 | J21: =VLOOKUP(A21,체크카드!$A$5:$D$44,2,FALSE) -> 189351 | K21: =VLOOKUP(A21,체크카드!$A$5:$D$44,3,FALSE) -> 158718 | L21: =(K21/J21)*100 -> 83.82211 | M21: =((J21/$J$46)*50+(K21/$K$46)*50)*30% -> 0.72209139 | N21: =VLOOKUP(A21,스마트금융!$A$5:$D$45,2,FALSE) -> 6985 | O21: =VLOOKUP(A21,스마트금융!$A$5:$D$45,3,FALSE) -> 7073 | P21: =(O21/N21)*100 -> 101.25984 | Q21: =((N21/$N$46)*50+(O21/$O$46)*50)*20% -> 0.50091657 | R21: =SUM(E21,I21,M21,Q21) -> 2.5512054 | S21: =ROUND(129659*R21%,0) -> 3308 | T21: =ROUND(36373*R21%,0) -> 928 | X21: 720 | Y21: =SUM(V21:X21) -> 720
A22: 시흥 | B22: =VLOOKUP(A22,총수신고!$C$6:$I$45,2,FALSE) -> 147268 | C22: =VLOOKUP(A22,총수신고!$C$6:$I$45,4,FALSE) -> 152010.86 | D22: =(C22/B22)*100 -> 103.22056 | E22: =((B22/$B$46)*50+(C22/$C$46)*50)*10% -> 0.16542068 | F22: =VLOOKUP(A22,총수신고!$M$6:$U$45,2,FALSE) -> 48945 | G22: =VLOOKUP(A22,총수신고!$M$6:$U$45,4,FALSE) -> 47886.808 | H22: =(G22/F22)*100 -> 97.837997 | I22: =((F22/$F$46)*50+(G22/$G$46)*50)*40% -> 0.98502246 | J22: =VLOOKUP(A22,체크카드!$A$5:$D$44,2,FALSE) -> 273983 | K22: =VLOOKUP(A22,체크카드!$A$5:$D$44,3,FALSE) -> 216547.3 | L22: =(K22/J22)*100 -> 79.036766 | M22: =((J22/$J$46)*50+(K22/$K$46)*50)*30% -> 1.0153637 | N22: =VLOOKUP(A22,스마트금융!$A$5:$D$45,2,FALSE) -> 8275 | O22: =VLOOKUP(A22,스마트금융!$A$5:$D$45,3,FALSE) -> 8363 | P22: =(O22/N22)*100 -> 101.06344 | Q22: =((N22/$N$46)*50+(O22/$O$46)*50)*20% -> 0.592852 | R22: =SUM(E22,I22,M22,Q22) -> 2.7586588 | S22: =ROUND(129659*R22%,0) -> 3577 | T22: =ROUND(36373*R22%,0) -> 1003 | X22: 720 | Y22: =SUM(V22:X22) -> 720
A23: 광명 | B23: =VLOOKUP(A23,총수신고!$C$6:$I$45,2,FALSE) -> 215956 | C23: =VLOOKUP(A23,총수신고!$C$6:$I$45,4,FALSE) -> 227777.08 | D23: =(C23/B23)*100 -> 105.47384 | E23: =((B23/$B$46)*50+(C23/$C$46)*50)*10% -> 0.24516321 | F23: =VLOOKUP(A23,총수신고!$M$6:$U$45,2,FALSE) -> 47487 | G23: =VLOOKUP(A23,총수신고!$M$6:$U$45,4,FALSE) -> 46715.434 | H23: =(G23/F23)*100 -> 98.375206 | I23: =((F23/$F$46)*50+(G23/$G$46)*50)*40% -> 0.95824487 | J23: =VLOOKUP(A23,체크카드!$A$5:$D$44,2,FALSE) -> 146150 | K23: =VLOOKUP(A23,체크카드!$A$5:$D$44,3,FALSE) -> 142477.85 | L23: =(K23/J23)*100 -> 97.48741 | M23: =((J23/$J$46)*50+(K23/$K$46)*50)*30% -> 0.60223898 | N23: =VLOOKUP(A23,스마트금융!$A$5:$D$45,2,FALSE) -> 6595 | O23: =VLOOKUP(A23,스마트금융!$A$5:$D$45,3,FALSE) -> 6682 | P23: =(O23/N23)*100 -> 101.31918 | Q23: =((N23/$N$46)*50+(O23/$O$46)*50)*20% -> 0.47308679 | R23: =SUM(E23,I23,M23,Q23) -> 2.2787338 | S23: =ROUND(129659*R23%,0) -> 2955 | T23: =ROUND(36373*R23%,0) -> 829 | X23: 720 | Y23: =SUM(V23:X23) -> 720
A24: 용인수지 | B24: =VLOOKUP(A24,총수신고!$C$6:$I$45,2,FALSE) -> 288449 | C24: =VLOOKUP(A24,총수신고!$C$6:$I$45,4,FALSE) -> 307367.7 | D24: =(C24/B24)*100 -> 106.55877 | E24: =((B24/$B$46)*50+(C24/$C$46)*50)*10% -> 0.3291249 | F24: =VLOOKUP(A24,총수신고!$M$6:$U$45,2,FALSE) -> 35050 | G24: =VLOOKUP(A24,총수신고!$M$6:$U$45,4,FALSE) -> 39599.168 | H24: =(G24/F24)*100 -> 112.97908 | I24: =((F24/$F$46)*50+(G24/$G$46)*50)*40% -> 0.75873968 | J24: =VLOOKUP(A24,체크카드!$A$5:$D$44,2,FALSE) -> 137370 | K24: =VLOOKUP(A24,체크카드!$A$5:$D$44,3,FALSE) -> 112152.47 | L24: =(K24/J24)*100 -> 81.64262 | M24: =((J24/$J$46)*50+(K24/$K$46)*50)*30% -> 0.5171313 | N24: =VLOOKUP(A24,스마트금융!$A$5:$D$45,2,FALSE) -> 7267 | O24: =VLOOKUP(A24,스마트금융!$A$5:$D$45,3,FALSE) -> 7364 | P24: =(O24/N24)*100 -> 101.3348 | Q24: =((N24/$N$46)*50+(O24/$O$46)*50)*20% -> 0.52133228 | R24: =SUM(E24,I24,M24,Q24) -> 2.1263282 | S24: =ROUND(129659*R24%,0) -> 2757 | T24: =ROUND(36373*R24%,0) -> 773 | V24: 1000 | Y24: =SUM(V24:X24) -> 1000
A25: 용인 | B25: =VLOOKUP(A25,총수신고!$C$6:$I$45,2,FALSE) -> 173602 | C25: =VLOOKUP(A25,총수신고!$C$6:$I$45,4,FALSE) -> 183258.35 | D25: =(C25/B25)*100 -> 105.56235 | E25: =((B25/$B$46)*50+(C25/$C$46)*50)*10% -> 0.19716271 | F25: =VLOOKUP(A25,총수신고!$M$6:$U$45,2,FALSE) -> 39956 | G25: =VLOOKUP(A25,총수신고!$M$6:$U$45,4,FALSE) -> 39991.797 | H25: =(G25/F25)*100 -> 100.08959 | I25: =((F25/$F$46)*50+(G25/$G$46)*50)*40% -> 0.81316296 | J25: =VLOOKUP(A25,체크카드!$A$5:$D$44,2,FALSE) -> 216281 | K25: =VLOOKUP(A25,체크카드!$A$5:$D$44,3,FALSE) -> 184194.84 | L25: =(K25/J25)*100 -> 85.164595 | M25: =((J25/$J$46)*50+(K25/$K$46)*50)*30% -> 0.83131603 | N25: =VLOOKUP(A25,스마트금융!$A$5:$D$45,2,FALSE) -> 8763 | O25: =VLOOKUP(A25,스마트금융!$A$5:$D$45,3,FALSE) -> 8912 | P25: =(O25/N25)*100 -> 101.70033 | Q25: =((N25/$N$46)*50+(O25/$O$46)*50)*20% -> 0.6297873 | R25: =SUM(E25,I25,M25,Q25) -> 2.471429 | S25: =ROUND(129659*R25%,0) -> 3204 | T25: =ROUND(36373*R25%,0) -> 899 | X25: 720 | Y25: =SUM(V25:X25) -> 720
A26: 남양주 | B26: =VLOOKUP(A26,총수신고!$C$6:$I$45,2,FALSE) -> 140465 | C26: =VLOOKUP(A26,총수신고!$C$6:$I$45,4,FALSE) -> 153314.26 | D26: =(C26/B26)*100 -> 109.14766 | E26: =((B26/$B$46)*50+(C26/$C$46)*50)*10% -> 0.16220673 | F26: =VLOOKUP(A26,총수신고!$M$6:$U$45,2,FALSE) -> 37380 | G26: =VLOOKUP(A26,총수신고!$M$6:$U$45,4,FALSE) -> 36064.52 | H26: =(G26/F26)*100 -> 96.480793 | I26: =((F26/$F$46)*50+(G26/$G$46)*50)*40% -> 0.74717526 | J26: =VLOOKUP(A26,체크카드!$A$5:$D$44,2,FALSE) -> 193481 | K26: =VLOOKUP(A26,체크카드!$A$5:$D$44,3,FALSE) -> 157472.45 | L26: =(K26/J26)*100 -> 81.3891 | M26: =((J26/$J$46)*50+(K26/$K$46)*50)*30% -> 0.72725933 | N26: =VLOOKUP(A26,스마트금융!$A$5:$D$45,2,FALSE) -> 6419 | O26: =VLOOKUP(A26,스마트금융!$A$5:$D$45,3,FALSE) -> 6700 | P26: =(O26/N26)*100 -> 104.37763 | Q26: =((N26/$N$46)*50+(O26/$O$46)*50)*20% -> 0.46740247 | R26: =SUM(E26,I26,M26,Q26) -> 2.1040438 | S26: =ROUND(129659*R26%,0) -> 2728 | T26: =ROUND(36373*R26%,0) -> 765 | X26: 720 | Y26: =SUM(V26:X26) -> 720
A27: 평택 | B27: =VLOOKUP(A27,총수신고!$C$6:$I$45,2,FALSE) -> 364169 | C27: =VLOOKUP(A27,총수신고!$C$6:$I$45,4,FALSE) -> 388382.5 | D27: =(C27/B27)*100 -> 106.64897 | E27: =((B27/$B$46)*50+(C27/$C$46)*50)*10% -> 0.41569732 | F27: =VLOOKUP(A27,총수신고!$M$6:$U$45,2,FALSE) -> 85242 | G27: =VLOOKUP(A27,총수신고!$M$6:$U$45,4,FALSE) -> 89082.79 | H27: =(G27/F27)*100 -> 104.50575 | I27: =((F27/$F$46)*50+(G27/$G$46)*50)*40% -> 1.7726462 | J27: =VLOOKUP(A27,체크카드!$A$5:$D$44,2,FALSE) -> 370979 | K27: =VLOOKUP(A27,체크카드!$A$5:$D$44,3,FALSE) -> 307147.88 | L27: =(K27/J27)*100 -> 82.793873 | M27: =((J27/$J$46)*50+(K27/$K$46)*50)*30% -> 1.4061563 | N27: =VLOOKUP(A27,스마트금융!$A$5:$D$45,2,FALSE) -> 10119 | O27: =VLOOKUP(A27,스마트금융!$A$5:$D$45,3,FALSE) -> 10353 | P27: =(O27/N27)*100 -> 102.31248 | Q27: =((N27/$N$46)*50+(O27/$O$46)*50)*20% -> 0.72943154 | R27: =SUM(E27,I27,M27,Q27) -> 4.3239313 | S27: =ROUND(129659*R27%,0) -> 5606 | T27: =ROUND(36373*R27%,0) -> 1573 | X27: 720 | Y27: =SUM(V27:X27) -> 720
A28: 화성 | B28: =VLOOKUP(A28,총수신고!$C$6:$I$45,2,FALSE) -> 195824 | C28: =VLOOKUP(A28,총수신고!$C$6:$I$45,4,FALSE) -> 221432.97 | D28: =(C28/B28)*100 -> 113.07755 | E28: =((B28/$B$46)*50+(C28/$C$46)*50)*10% -> 0.23022706 | F28: =VLOOKUP(A28,총수신고!$M$6:$U$45,2,FALSE) -> 53537 | G28: =VLOOKUP(A28,총수신고!$M$6:$U$45,4,FALSE) -> 52454.87 | H28: =(G28/F28)*100 -> 97.978725 | I28: =((F28/$F$46)*50+(G28/$G$46)*50)*40% -> 1.0781943 | J28: =VLOOKUP(A28,체크카드!$A$5:$D$44,2,FALSE) -> 288782 | K28: =VLOOKUP(A28,체크카드!$A$5:$D$44,3,FALSE) -> 233724.99 | L28: =(K28/J28)*100 -> 80.93475 | M28: =((J28/$J$46)*50+(K28/$K$46)*50)*30% -> 1.0825287 | N28: =VLOOKUP(A28,스마트금융!$A$5:$D$45,2,FALSE) -> 8313 | O28: =VLOOKUP(A28,스마트금융!$A$5:$D$45,3,FALSE) -> 8465 | P28: =(O28/N28)*100 -> 101.82846 | Q28: =((N28/$N$46)*50+(O28/$O$46)*50)*20% -> 0.59782287 | R28: =SUM(E28,I28,M28,Q28) -> 2.988773 | S28: =ROUND(129659*R28%,0) -> 3875 | T28: =ROUND(36373*R28%,0) -> 1087 | X28: 720 | Y28: =SUM(V28:X28) -> 720
A29: 파주 | B29: =VLOOKUP(A29,총수신고!$C$6:$I$45,2,FALSE) -> 168242 | C29: =VLOOKUP(A29,총수신고!$C$6:$I$45,4,FALSE) -> 185158.22 | D29: =(C29/B29)*100 -> 110.05469 | E29: =((B29/$B$46)*50+(C29/$C$46)*50)*10% -> 0.19509471 | F29: =VLOOKUP(A29,총수신고!$M$6:$U$45,2,FALSE) -> 44175 | G29: =VLOOKUP(A29,총수신고!$M$6:$U$45,4,FALSE) -> 45142.537 | H29: =(G29/F29)*100 -> 102.19024 | I29: =((F29/$F$46)*50+(G29/$G$46)*50)*40% -> 0.90835535 | J29: =VLOOKUP(A29,체크카드!$A$5:$D$44,2,FALSE) -> 211366 | K29: =VLOOKUP(A29,체크카드!$A$5:$D$44,3,FALSE) -> 175614.12 | L29: =(K29/J29)*100 -> 83.085323 | M29: =((J29/$J$46)*50+(K29/$K$46)*50)*30% -> 0.80254504 | N29: =VLOOKUP(A29,스마트금융!$A$5:$D$45,2,FALSE) -> 6592 | O29: =VLOOKUP(A29,스마트금융!$A$5:$D$45,3,FALSE) -> 6745 | P29: =(O29/N29)*100 -> 102.321 | Q29: =((N29/$N$46)*50+(O29/$O$46)*50)*20% -> 0.4752064 | R29: =SUM(E29,I29,M29,Q29) -> 2.3812015 | S29: =ROUND(129659*R29%,0) -> 3087 | T29: =ROUND(36373*R29%,0) -> 866 | X29: 720 | Y29: =SUM(V29:X29) -> 720
A30: 김포 | B30: =VLOOKUP(A30,총수신고!$C$6:$I$45,2,FALSE) -> 146079 | C30: =VLOOKUP(A30,총수신고!$C$6:$I$45,4,FALSE) -> 168031.52 | D30: =(C30/B30)*100 -> 115.02784 | E30: =((B30/$B$46)*50+(C30/$C$46)*50)*10% -> 0.1732578 | F30: =VLOOKUP(A30,총수신고!$M$6:$U$45,2,FALSE) -> 37777 | G30: =VLOOKUP(A30,총수신고!$M$6:$U$45,4,FALSE) -> 38306.153 | H30: =(G30/F30)*100 -> 101.40073 | I30: =((F30/$F$46)*50+(G30/$G$46)*50)*40% -> 0.77379689 | J30: =VLOOKUP(A30,체크카드!$A$5:$D$44,2,FALSE) -> 183175 | K30: =VLOOKUP(A30,체크카드!$A$5:$D$44,3,FALSE) -> 154983.24 | L30: =(K30/J30)*100 -> 84.609387 | M30: =((J30/$J$46)*50+(K30/$K$46)*50)*30% -> 0.70178087 | N30: =VLOOKUP(A30,스마트금융!$A$5:$D$45,2,FALSE) -> 5494 | O30: =VLOOKUP(A30,스마트금융!$A$5:$D$45,3,FALSE) -> 5640 | P30: =(O30/N30)*100 -> 102.65744 | Q30: =((N30/$N$46)*50+(O30/$O$46)*50)*20% -> 0.3967069 | R30: =SUM(E30,I30,M30,Q30) -> 2.0455425 | S30: =ROUND(129659*R30%,0) -> 2652 | T30: =ROUND(36373*R30%,0) -> 744 | X30: 720 | Y30: =SUM(V30:X30) -> 720
A31: 이천 | B31: =VLOOKUP(A31,총수신고!$C$6:$I$45,2,FALSE) -> 101621 | C31: =VLOOKUP(A31,총수신고!$C$6:$I$45,4,FALSE) -> 104576.85 | D31: =(C31/B31)*100 -> 102.9087 | E31: =((B31/$B$46)*50+(C31/$C$46)*50)*10% -> 0.11397856 | F31: =VLOOKUP(A31,총수신고!$M$6:$U$45,2,FALSE) -> 24369 | G31: =VLOOKUP(A31,총수신고!$M$6:$U$45,4,FALSE) -> 24714.68 | H31: =(G31/F31)*100 -> 101.41852 | I31: =((F31/$F$46)*50+(G31/$G$46)*50)*40% -> 0.49920066 | J31: =VLOOKUP(A31,체크카드!$A$5:$D$44,2,FALSE) -> 123179 | K31: =VLOOKUP(A31,체크카드!$A$5:$D$44,3,FALSE) -> 105864.99 | L31: =(K31/J31)*100 -> 85.94402 | M31: =((J31/$J$46)*50+(K31/$K$46)*50)*30% -> 0.47561947 | N31: =VLOOKUP(A31,스마트금융!$A$5:$D$45,2,FALSE) -> 3779 | O31: =VLOOKUP(A31,스마트금융!$A$5:$D$45,3,FALSE) -> 3871 | P31: =(O31/N31)*100 -> 102.43451 | Q31: =((N31/$N$46)*50+(O31/$O$46)*50)*20% -> 0.27257353 | R31: =SUM(E31,I31,M31,Q31) -> 1.3613722 | S31: =ROUND(129659*R31%,0) -> 1765 | T31: =ROUND(36373*R31%,0) -> 495 | X31: 720 | Y31: =SUM(V31:X31) -> 720
A32: 안성 | B32: =VLOOKUP(A32,총수신고!$C$6:$I$45,2,FALSE) -> 111060 | C32: =VLOOKUP(A32,총수신고!$C$6:$I$45,4,FALSE) -> 121717.89 | D32: =(C32/B32)*100 -> 109.59652 | E32: =((B32/$B$46)*50+(C32/$C$46)*50)*10% -> 0.12851541 | F32: =VLOOKUP(A32,총수신고!$M$6:$U$45,2,FALSE) -> 36775 | G32: =VLOOKUP(A32,총수신고!$M$6:$U$45,4,FALSE) -> 35924.911 | H32: =(G32/F32)*100 -> 97.688405 | I32: =((F32/$F$46)*50+(G32/$G$46)*50)*40% -> 0.73954705 | J32: =VLOOKUP(A32,체크카드!$A$5:$D$44,2,FALSE) -> 129433 | K32: =VLOOKUP(A32,체크카드!$A$5:$D$44,3,FALSE) -> 105741.68 | L32: =(K32/J32)*100 -> 81.696074 | M32: =((J32/$J$46)*50+(K32/$K$46)*50)*30% -> 0.48740788 | N32: =VLOOKUP(A32,스마트금융!$A$5:$D$45,2,FALSE) -> 4429 | O32: =VLOOKUP(A32,스마트금융!$A$5:$D$45,3,FALSE) -> 4580 | P32: =(O32/N32)*100 -> 103.40935 | Q32: =((N32/$N$46)*50+(O32/$O$46)*50)*20% -> 0.3209835 | R32: =SUM(E32,I32,M32,Q32) -> 1.6764538 | S32: =ROUND(129659*R32%,0) -> 2174 | T32: =ROUND(36373*R32%,0) -> 610 | V32: 1000 | Y32: =SUM(V32:X32) -> 1000
A33: 포천 | B33: =VLOOKUP(A33,총수신고!$C$6:$I$45,2,FALSE) -> 110239 | C33: =VLOOKUP(A33,총수신고!$C$6:$I$45,4,FALSE) -> 116593.27 | D33: =(C33/B33)*100 -> 105.76408 | E33: =((B33/$B$46)*50+(C33/$C$46)*50)*10% -> 0.12531856 | F33: =VLOOKUP(A33,총수신고!$M$6:$U$45,2,FALSE) -> 35182 | G33: =VLOOKUP(A33,총수신고!$M$6:$U$45,4,FALSE) -> 36382.532 | H33: =(G33/F33)*100 -> 103.41235 | I33: =((F33/$F$46)*50+(G33/$G$46)*50)*40% -> 0.72775817 | J33: =VLOOKUP(A33,체크카드!$A$5:$D$44,2,FALSE) -> 161446 | K33: =VLOOKUP(A33,체크카드!$A$5:$D$44,3,FALSE) -> 132663.36 | L33: =(K33/J33)*100 -> 82.171973 | M33: =((J33/$J$46)*50+(K33/$K$46)*50)*30% -> 0.60968686 | N33: =VLOOKUP(A33,스마트금융!$A$5:$D$45,2,FALSE) -> 4406 | O33: =VLOOKUP(A33,스마트금융!$A$5:$D$45,3,FALSE) -> 4487 | P33: =(O33/N33)*100 -> 101.8384 | Q33: =((N33/$N$46)*50+(O33/$O$46)*50)*20% -> 0.31686952 | R33: =SUM(E33,I33,M33,Q33) -> 1.7796331 | S33: =ROUND(129659*R33%,0) -> 2307 | T33: =ROUND(36373*R33%,0) -> 647 | V33: 700 | W33: 1000 | Y33: =SUM(V33:X33) -> 1700
A34: 경기광주 | B34: =VLOOKUP(A34,총수신고!$C$6:$I$45,2,FALSE) -> 111388 | C34: =VLOOKUP(A34,총수신고!$C$6:$I$45,4,FALSE) -> 122640.76 | D34: =(C34/B34)*100 -> 110.10231 | E34: =((B34/$B$46)*50+(C34/$C$46)*50)*10% -> 0.12919459 | F34: =VLOOKUP(A34,총수신고!$M$6:$U$45,2,FALSE) -> 30447 | G34: =VLOOKUP(A34,총수신고!$M$6:$U$45,4,FALSE) -> 31980.41 | H34: =(G34/F34)*100 -> 105.03633 | I34: =((F34/$F$46)*50+(G34/$G$46)*50)*40% -> 0.63478337 | J34: =VLOOKUP(A34,체크카드!$A$5:$D$44,2,FALSE) -> 128698 | K34: =VLOOKUP(A34,체크카드!$A$5:$D$44,3,FALSE) -> 108633.5 | L34: =(K34/J34)*100 -> 84.409626 | M34: =((J34/$J$46)*50+(K34/$K$46)*50)*30% -> 0.49249043 | N34: =VLOOKUP(A34,스마트금융!$A$5:$D$45,2,FALSE) -> 4102 | O34: =VLOOKUP(A34,스마트금융!$A$5:$D$45,3,FALSE) -> 4149 | P34: =(O34/N34)*100 -> 101.14578 | Q34: =((N34/$N$46)*50+(O34/$O$46)*50)*20% -> 0.29400206 | R34: =SUM(E34,I34,M34,Q34) -> 1.5504704 | S34: =ROUND(129659*R34%,0) -> 2010 | T34: =ROUND(36373*R34%,0) -> 564 | X34: 720 | Y34: =SUM(V34:X34) -> 720
A35: 구리 | B35: =VLOOKUP(A35,총수신고!$C$6:$I$45,2,FALSE) -> 138961 | C35: =VLOOKUP(A35,총수신고!$C$6:$I$45,4,FALSE) -> 147439.48 | D35: =(C35/B35)*100 -> 106.10133 | E35: =((B35/$B$46)*50+(C35/$C$46)*50)*10% -> 0.15821866 | F35: =VLOOKUP(A35,총수신고!$M$6:$U$45,2,FALSE) -> 26692 | G35: =VLOOKUP(A35,총수신고!$M$6:$U$45,4,FALSE) -> 27137.878 | H35: =(G35/F35)*100 -> 101.67046 | I35: =((F35/$F$46)*50+(G35/$G$46)*50)*40% -> 0.54746356 | J35: =VLOOKUP(A35,체크카드!$A$5:$D$44,2,FALSE) -> 99260 | K35: =VLOOKUP(A35,체크카드!$A$5:$D$44,3,FALSE) -> 83121.611 | L35: =(K35/J35)*100 -> 83.741297 | M35: =((J35/$J$46)*50+(K35/$K$46)*50)*30% -> 0.3783484 | N35: =VLOOKUP(A35,스마트금융!$A$5:$D$45,2,FALSE) -> 4481 | O35: =VLOOKUP(A35,스마트금융!$A$5:$D$45,3,FALSE) -> 4566 | P35: =(O35/N35)*100 -> 101.8969 | Q35: =((N35/$N$46)*50+(O35/$O$46)*50)*20% -> 0.32235602 | R35: =SUM(E35,I35,M35,Q35) -> 1.4063866 | S35: =ROUND(129659*R35%,0) -> 1824 | T35: =ROUND(36373*R35%,0) -> 512 | X35: 720 | Y35: =SUM(V35:X35) -> 720
A36: 강화 | B36: =VLOOKUP(A36,총수신고!$C$6:$I$45,2,FALSE) -> 101589 | C36: =VLOOKUP(A36,총수신고!$C$6:$I$45,4,FALSE) -> 103938.28 | D36: =(C36/B36)*100 -> 102.31253 | E36: =((B36/$B$46)*50+(C36/$C$46)*50)*10% -> 0.11362058 | F36: =VLOOKUP(A36,총수신고!$M$6:$U$45,2,FALSE) -> 25162 | G36: =VLOOKUP(A36,총수신고!$M$6:$U$45,4,FALSE) -> 23543.68 | H36: =(G36/F36)*100 -> 93.568396 | I36: =((F36/$F$46)*50+(G36/$G$46)*50)*40% -> 0.49558645 | J36: =VLOOKUP(A36,체크카드!$A$5:$D$44,2,FALSE) -> 63300 | K36: =VLOOKUP(A36,체크카드!$A$5:$D$44,3,FALSE) -> 55861.654 | L36: =(K36/J36)*100 -> 88.249058 | M36: =((J36/$J$46)*50+(K36/$K$46)*50)*30% -> 0.24769423 | N36: =VLOOKUP(A36,스마트금융!$A$5:$D$45,2,FALSE) -> 2673 | O36: =VLOOKUP(A36,스마트금융!$A$5:$D$45,3,FALSE) -> 2653 | P36: =(O36/N36)*100 -> 99.251777 | Q36: =((N36/$N$46)*50+(O36/$O$46)*50)*20% -> 0.18979165 | R36: =SUM(E36,I36,M36,Q36) -> 1.0466929 | S36: =ROUND(129659*R36%,0) -> 1357 | T36: =ROUND(36373*R36%,0) -> 381 | V36: 700 | Y36: =SUM(V36:X36) -> 700
A37: 가평 | B37: =VLOOKUP(A37,총수신고!$C$6:$I$45,2,FALSE) -> 63569 | C37: =VLOOKUP(A37,총수신고!$C$6:$I$45,4,FALSE) -> 66443.909 | D37: =(C37/B37)*100 -> 104.5225 | E37: =((B37/$B$46)*50+(C37/$C$46)*50)*10% -> 0.071844844 | F37: =VLOOKUP(A37,총수신고!$M$6:$U$45,2,FALSE) -> 20737 | G37: =VLOOKUP(A37,총수신고!$M$6:$U$45,4,FALSE) -> 20683.245 | H37: =(G37/F37)*100 -> 99.740778 | I37: =((F37/$F$46)*50+(G37/$G$46)*50)*40% -> 0.42130101 | J37: =VLOOKUP(A37,체크카드!$A$5:$D$44,2,FALSE) -> 90004 | K37: =VLOOKUP(A37,체크카드!$A$5:$D$44,3,FALSE) -> 75408.706 | L37: =(K37/J37)*100 -> 83.783727 | M37: =((J37/$J$46)*50+(K37/$K$46)*50)*30% -> 0.34315324 | N37: =VLOOKUP(A37,스마트금융!$A$5:$D$45,2,FALSE) -> 2657 | O37: =VLOOKUP(A37,스마트금융!$A$5:$D$45,3,FALSE) -> 2650 | P37: =(O37/N37)*100 -> 99.736545 | Q37: =((N37/$N$46)*50+(O37/$O$46)*50)*20% -> 0.18911098 | R37: =SUM(E37,I37,M37,Q37) -> 1.0254101 | S37: =ROUND(129659*R37%,0) -> 1330 | T37: =ROUND(36373*R37%,0) -> 373 | X37: 550 | Y37: =SUM(V37:X37) -> 550
A38: 양평 | B38: =VLOOKUP(A38,총수신고!$C$6:$I$45,2,FALSE) -> 120659 | C38: =VLOOKUP(A38,총수신고!$C$6:$I$45,4,FALSE) -> 127345.28 | D38: =(C38/B38)*100 -> 105.54147 | E38: =((B38/$B$46)*50+(C38/$C$46)*50)*10% -> 0.13702106 | F38: =VLOOKUP(A38,총수신고!$M$6:$U$45,2,FALSE) -> 26497 | G38: =VLOOKUP(A38,총수신고!$M$6:$U$45,4,FALSE) -> 27739.407 | H38: =(G38/F38)*100 -> 104.68886 | I38: =((F38/$F$46)*50+(G38/$G$46)*50)*40% -> 0.55150497 | J38: =VLOOKUP(A38,체크카드!$A$5:$D$44,2,FALSE) -> 101103 | K38: =VLOOKUP(A38,체크카드!$A$5:$D$44,3,FALSE) -> 91075.697 | L38: =(K38/J38)*100 -> 90.082092 | M38: =((J38/$J$46)*50+(K38/$K$46)*50)*30% -> 0.39978411 | N38: =VLOOKUP(A38,스마트금융!$A$5:$D$45,2,FALSE) -> 3526 | O38: =VLOOKUP(A38,스마트금융!$A$5:$D$45,3,FALSE) -> 3565 | P38: =(O38/N38)*100 -> 101.10607 | Q38: =((N38/$N$46)*50+(O38/$O$46)*50)*20% -> 0.25266898 | R38: =SUM(E38,I38,M38,Q38) -> 1.3409791 | S38: =ROUND(129659*R38%,0) -> 1739 | T38: =ROUND(36373*R38%,0) -> 488 | X38: 550 | Y38: =SUM(V38:X38) -> 550
A39: 여주 | B39: =VLOOKUP(A39,총수신고!$C$6:$I$45,2,FALSE) -> 94709 | C39: =VLOOKUP(A39,총수신고!$C$6:$I$45,4,FALSE) -> 96918.425 | D39: =(C39/B39)*100 -> 102.33286 | E39: =((B39/$B$46)*50+(C39/$C$46)*50)*10% -> 0.10593599 | F39: =VLOOKUP(A39,총수신고!$M$6:$U$45,2,FALSE) -> 21185 | G39: =VLOOKUP(A39,총수신고!$M$6:$U$45,4,FALSE) -> 21922.312 | H39: =(G39/F39)*100 -> 103.48035 | I39: =((F39/$F$46)*50+(G39/$G$46)*50)*40% -> 0.4383677 | J39: =VLOOKUP(A39,체크카드!$A$5:$D$44,2,FALSE) -> 89892 | K39: =VLOOKUP(A39,체크카드!$A$5:$D$44,3,FALSE) -> 69329.549 | L39: =(K39/J39)*100 -> 77.125383 | M39: =((J39/$J$46)*50+(K39/$K$46)*50)*30% -> 0.32927176 | N39: =VLOOKUP(A39,스마트금융!$A$5:$D$45,2,FALSE) -> 3096 | O39: =VLOOKUP(A39,스마트금융!$A$5:$D$45,3,FALSE) -> 3148 | P39: =(O39/N39)*100 -> 101.67959 | Q39: =((N39/$N$46)*50+(O39/$O$46)*50)*20% -> 0.22248345 | R39: =SUM(E39,I39,M39,Q39) -> 1.0960589 | S39: =ROUND(129659*R39%,0) -> 1421 | T39: =ROUND(36373*R39%,0) -> 399 | X39: 550 | Y39: =SUM(V39:X39) -> 550
A40: 동두천 | B40: =VLOOKUP(A40,총수신고!$C$6:$I$45,2,FALSE) -> 72426 | C40: =VLOOKUP(A40,총수신고!$C$6:$I$45,4,FALSE) -> 81576.918 | D40: =(C40/B40)*100 -> 112.63485 | E40: =((B40/$B$46)*50+(C40/$C$46)*50)*10% -> 0.084979546 | F40: =VLOOKUP(A40,총수신고!$M$6:$U$45,2,FALSE) -> 20863 | G40: =VLOOKUP(A40,총수신고!$M$6:$U$45,4,FALSE) -> 21076.521 | H40: =(G40/F40)*100 -> 101.02344 | I40: =((F40/$F$46)*50+(G40/$G$46)*50)*40% -> 0.42655132 | J40: =VLOOKUP(A40,체크카드!$A$5:$D$44,2,FALSE) -> 107227 | K40: =VLOOKUP(A40,체크카드!$A$5:$D$44,3,FALSE) -> 88032.419 | L40: =(K40/J40)*100 -> 82.099116 | M40: =((J40/$J$46)*50+(K40/$K$46)*50)*30% -> 0.40475788 | N40: =VLOOKUP(A40,스마트금융!$A$5:$D$45,2,FALSE) -> 3148 | O40: =VLOOKUP(A40,스마트금융!$A$5:$D$45,3,FALSE) -> 3175 | P40: =(O40/N40)*100 -> 100.85769 | Q40: =((N40/$N$46)*50+(O40/$O$46)*50)*20% -> 0.22530551 | R40: =SUM(E40,I40,M40,Q40) -> 1.1415943 | S40: =ROUND(129659*R40%,0) -> 1480 | T40: =ROUND(36373*R40%,0) -> 415 | V40: 700 | Y40: =SUM(V40:X40) -> 700
...

Sheet 총수신고
A1: 2015년도 예금사업 실적 현황(수신고)
A3: =[1]종합점수!A2 -> 42338 | V3: (단위 : 백만원, %, 점)
A4: 구분 | C4: 국명 | D4: 예금총수신고 | M4: 국 명 | N4: 요구불예금수신고 | AC4: 당일실적
D5: 목표 | E5: 전년도 | F5: 연평잔고 | G5: 전년대비 | H5: 당일실적 | I5: 달성률 | J5: 경평득점 | K5: 예사평득점 | N5: 목표 | O5: 전년도 | P5: 연평잔고 | Q5: 1분기평잔 | R5: 전년대비 | S5: 분기대비 | T5: 당일실적 | U5: 달성률 | V5: 예사평계산 | W5: 만점여부 | X5: 예사평가점 | Y5: 경평득점 | Z5: 예사평득점 | AC5: 1 | AD5: 2 | AE5: 3 | AF5: 4 | AG5: 5 | AH5: 6 | AI5: 7 | AJ5: 8 | AK5: 9 | AL5: 10 | AM5: 11
A6: 가그룹 | B6: 1 | C6: 부천 | D6: 434890 | E6: 446263.32 | F6: =VLOOKUP(C6,$AC$8:$AO$49,11,FALSE)/1000000 -> 466136.83 | G6: =F6/E6% -> 104.45331 | I6: =F6/D6% -> 107.185 | J6: =IF(I6>=100,4,I6*0.04) -> 4 | K6: =IF(I6>=100,10,I6*0.1) -> 10 | L6: 1 | M6: 안양 | N6: 81033 | O6: 79414.29 | P6: =VLOOKUP(M6,$AC$8:$AO$49,12,FALSE)/1000000 -> 91079.04 | R6: =P6/O6% -> 114.68848 | T6: =(VLOOKUP(M6,$AC$8:$AO$49,13,FALSE)-VLOOKUP(M6,$AC$55:$AO$96,13,FALSE))/1000000 -> -564.66754 | U6: =P6/N6% -> 112.39747 | V6: =IF(U6>=100,30,U6*0.3) -> 30 | W6: =IF(U6>100,"0","") -> 0 | X6: =COUNTIF(W6:W13,"0")*0.01 -> 0.07 | Y6: =VLOOKUP(M6,$M$50:$T$89,8,FALSE) -> 6.0594 | Z6: =V6+X6 -> 30.07 | AD6: 유지잔액 | AI6: 일연평잔고 | AN6: 12 | AO6: 13 | AP6: 14 | AQ6: 15
B7: 1 | C7: 안산 | D7: 311482 | E7: 323667.76 | F7: =VLOOKUP(C7,$AC$8:$AO$49,11,FALSE)/1000000 -> 333651.89 | G7: =F7/E7% -> 103.08468 | I7: =F7/D7% -> 107.11755 | J7: =IF(I7>=100,4,I7*0.04) -> 4 | K7: =IF(I7>=100,10,I7*0.1) -> 10 | L7: 1 | M7: 남인천 | N7: 119184 | O7: 124149.97 | P7: =VLOOKUP(M7,$AC$33:$AQ$33,14,FALSE)/1000000 -> 125326.66 | R7: =P7/O7% -> 100.9478 | T7: =(VLOOKUP(M7,$AC$33:$AQ$33,15,FALSE)-VLOOKUP(M7,$AC$80:$AQ$80,15,FALSE))/1000000 -> -137.3838 | U7: =P7/N7% -> 105.15393 | V7: =IF(U7>=100,30,U7*0.3) -> 30 | W7: =IF(U7>100,"0","") -> 0 | X7: =IF(X6-0.01<0,"0",X6-0.01) -> 0.06 | Y7: =VLOOKUP(M7,$M$50:$T$89,8,FALSE) -> 6.0462 | Z7: =V7+X7 -> 30.06 | AD7: 일반예금 | AE7: 요구불예금 | AF7: 타부처국고예금 | AG7: 실적우편대체 | AH7: Total | AI7: 일반예금 | AJ7: 요구불예금 | AK7: 타부처국고예금 | AL7: 실적우편대체 | AM7: Total | AN7: 요구불연평 | AO7: 요구불유지잔액
B8: 1 | C8: 성남 | D8: 354661 | E8: 363231.62 | F8: =VLOOKUP(C8,$AC$8:$AO$49,11,FALSE)/1000000 -> 379665.8 | G8: =F8/E8% -> 104.52444 | I8: =F8/D8% -> 107.05034 | J8: =IF(I8>=100,4,I8*0.04) -> 4 | K8: =IF(I8>=100,10,I8*0.1) -> 10 | L8: 1 | M8: 평택 | N8: 85242 | O8: 77223.769 | P8: =VLOOKUP(M8,$AC$8:$AO$49,12,FALSE)/1000000 -> 89082.79 | R8: =P8/O8% -> 115.3567 | T8: =(VLOOKUP(M8,$AC$8:$AO$49,13,FALSE)-VLOOKUP(M8,$AC$55:$AO$96,13,FALSE))/1000000 -> 3570.8943 | U8: =P8/N8% -> 104.50575 | V8: =IF(U8>=100,30,U8*0.3) -> 30 | W8: =IF(U8>100,"0","") -> 0 | X8: =IF(X7-0.01<0,"0",X7-0.01) -> 0.05 | Y8: =VLOOKUP(M8,$M$50:$T$89,8,FALSE) -> 6.0429 | Z8: =V8+X8 -> 30.05 | AC8: 평택 | AD8: 296684803402 | AE8: 98552355272 | AF8: 0 | AG8: 0 | AH8: 395237158674 | AI8: 299299712540 | AJ8: 89082789756 | AK8: 0 | AL8: 0 | AM8: 388382502296 | AN8: =AJ8+AK8+AL8 -> 89082789756 | AO8: =AE8+AF8+AG8 -> 98552355272
B9: 1 | C9: 평택 | D9: 364169 | E9: 377371.73 | F9: =VLOOKUP(C9,$AC$8:$AO$49,11,FALSE)/1000000 -> 388382.5 | G9: =F9/E9% -> 102.91775 | I9: =F9/D9% -> 106.64897 | J9: =IF(I9>=100,4,I9*0.04) -> 4 | K9: =IF(I9>=100,10,I9*0.1) -> 10 | L9: 1 | M9: 부천 | N9: 103016 | O9: 91128.542 | P9: =VLOOKUP(M9,$AC$8:$AO$49,12,FALSE)/1000000 -> 106884.89 | R9: =P9/O9% -> 117.29025 | T9: =(VLOOKUP(M9,$AC$8:$AO$49,13,FALSE)-VLOOKUP(M9,$AC$55:$AO$96,13,FALSE))/1000000 -> 156.62917 | U9: =P9/N9% -> 103.75562 | V9: =IF(U9>=100,30,U9*0.3) -> 30 | W9: =IF(U9>100,"0","") -> 0 | X9: =IF(X8-0.01<0,"0",X8-0.01) -> 0.04 | Y9: =VLOOKUP(M9,$M$50:$T$89,8,FALSE) -> 6.0396 | Z9: =V9+X9 -> 30.04 | AC9: 인천 | AD9: 264408896351 | AE9: 78901635927 | AF9: 0 | AG9: 0 | AH9: 343310532278 | AI9: 264541255915 | AJ9: 69581868700 | AK9: 0 | AL9: 0 | AM9: 334123124615 | AN9: =AJ9+AK9+AL9 -> 69581868700 | AO9: =AE9+AF9+AG9 -> 78901635927
B10: 1 | C10: 안양 | D10: 440866 | E10: 460340.07 | F10: =VLOOKUP(C10,$AC$8:$AO$49,11,FALSE)/1000000 -> 467601.12 | G10: =F10/E10% -> 101.57732 | I10: =F10/D10% -> 106.06423 | J10: =IF(I10>=100,4,I10*0.04) -> 4 | K10: =IF(I10>=100,10,I10*0.1) -> 10 | L10: 1 | M10: 부평 | N10: 82878 | O10: 74106.856 | P10: =VLOOKUP(M10,$AC$8:$AO$49,12,FALSE)/1000000 -> 85812.833 | R10: =P10/O10% -> 115.79608 | T10: =(VLOOKUP(M10,$AC$8:$AO$49,13,FALSE)-VLOOKUP(M10,$AC$55:$AO$96,13,FALSE))/1000000 -> -795.34075 | U10: =P10/N10% -> 103.54115 | V10: =IF(U10>=100,30,U10*0.3) -> 30 | W10: =IF(U10>100,"0","") -> 0 | X10: =IF(X9-0.01<0,"0",X9-0.01) -> 0.03 | Y10: =VLOOKUP(M10,$M$50:$T$89,8,FALSE) -> 6.0363 | Z10: =V10+X10 -> 30.03 | AC10: 부평 | AD10: 265966077873 | AE10: 93667142547 | AF10: 29892090 | AG10: 0 | AH10: 359663112510 | AI10: 269469826658 | AJ10: 85780070627 | AK10: 32762061 | AL10: 0 | AM10: 355282659346 | AN10: =AJ10+AK10+AL10 -> 85812832688 | AO10: =AE10+AF10+AG10 -> 93697034637
B11: 1 | C11: 부평 | D11: 335902 | E11: 345360.04 | F11: =VLOOKUP(C11,$AC$8:$AO$49,11,FALSE)/1000000 -> 355282.66 | G11: =F11/E11% -> 102.87312 | I11: =F11/D11% -> 105.76974 | J11: =IF(I11>=100,4,I11*0.04) -> 4 | K11: =IF(I11>=100,10,I11*0.1) -> 10 | L11: 1 | M11: 성남 | N11: 88844 | O11: 78965.083 | P11: =VLOOKUP(M11,$AC$8:$AO$49,12,FALSE)/1000000 -> 91428.829 | R11: =P11/O11% -> 115.78387 | T11: =(VLOOKUP(M11,$AC$8:$AO$49,13,FALSE)-VLOOKUP(M11,$AC$55:$AO$96,13,FALSE))/1000000 -> 117.70561 | U11: =P11/N11% -> 102.9094 | V11: =IF(U11>=100,30,U11*0.3) -> 30 | W11: =IF(U11>100,"0","") -> 0 | X11: =IF(X10-0.01<0,"0",X10-0.01) -> 0.02 | Y11: =VLOOKUP(M11,$M$50:$T$89,8,FALSE) -> 6.0297 | Z11: =V11+X11 -> 30.02 | AC11: 오산 | AD11: 87154973000 | AE11: 24645184160 | AF11: 0 | AG11: 0 | AH11: 111800157160 | AI11: 88194096260 | AJ11: 22470306073 | AK11: 0 | AL11: 0 | AM11: 110664402333 | AN11: =AJ11+AK11+AL11 -> 22470306073 | AO11: =AE11+AF11+AG11 -> 24645184160
B12: 1 | C12: 인천 | D12: 317089 | E12: 324474.69 | F12: =VLOOKUP(C12,$AC$8:$AO$49,11,FALSE)/1000000 -> 334123.12 | G12: =F12/E12% -> 102.97356 | I12: =F12/D12% -> 105.37203 | J12: =IF(I12>=100,4,I12*0.04) -> 4 | K12: =IF(I12>=100,10,I12*0.1) -> 10 | L12: 1 | M12: 안산 | N12: 88189 | O12: 78241.007 | P12: =VLOOKUP(M12,$AC$8:$AO$49,12,FALSE)/1000000 -> 90133.833 | R12: =P12/O12% -> 115.20025 | T12: =(VLOOKUP(M12,$AC$8:$AO$49,13,FALSE)-VLOOKUP(M12,$AC$55:$AO$96,13,FALSE))/1000000 -> 1381.0852 | U12: =P12/N12% -> 102.2053 | V12: =IF(U12>=100,30,U12*0.3) -> 30 | W12: =IF(U12>100,"0","") -> 0 | X12: =IF(X11-0.01<0,"0",X11-0.01) -> 0.01 | Y12: =VLOOKUP(M12,$M$50:$T$89,8,FALSE) -> 6.0198 | Z12: =V12+X12 -> 30.01 | AC12: 안성 | AD12: 90317094148 | AE12: 36917475804 | AF12: 0 | AG12: 0 | AH12: 127234569952 | AI12: 85792979288 | AJ12: 35924910844 | AK12: 0 | AL12: 0 | AM12: 121717890132 | AN12: =AJ12+AK12+AL12 -> 35924910844 | AO12: =AE12+AF12+AG12 -> 36917475804
B13: 1 | C13: 남인천 | D13: 451356 | E13: 475112.23 | F13: =VLOOKUP(C13,$AC$33:$AR$33,16,FALSE)/1000000 -> 473779.45 | G13: =F13/E13% -> 99.719481 | I13: =F13/D13% -> 104.96802 | J13: =IF(I13>=100,4,I13*0.04) -> 4 | K13: =IF(I13>=100,10,I13*0.1) -> 10 | L13: 1 | M13: 인천 | N13: 73235 | O13: 65395.216 | P13: =VLOOKUP(M13,$AC$8:$AO$49,12,FALSE)/1000000 -> 69581.869 | R13: =P13/O13% -> 106.40208 | T13: =(VLOOKUP(M13,$AC$8:$AO$49,13,FALSE)-VLOOKUP(M13,$AC$55:$AO$96,13,FALSE))/1000000 -> 382.79009 | U13: =P13/N13% -> 95.011769 | V13: =IF(U13>=100,30,U13*0.3) -> 28.503531 | W13: =IF(U13>100,"0","") | X13: =IF(X12-0.01<0,"0",X12-0.01) -> 0 | Y13: =VLOOKUP(M13,$M$50:$T$89,8,FALSE) -> 5.7007061 | Z13: =V13+X13 -> 28.503531 | AC13: 가평 | AD13: 46652786928 | AE13: 21493131230 | AF13: 0 | AG13: 0 | AH13: 68145918158 | AI13: 45760663429 | AJ13: 20683245213 | AK13: 0 | AL13: 0 | AM13: 66443908642 | AN13: =AJ13+AK13+AL13 -> 20683245213 | AO13: =AE13+AF13+AG13 -> 21493131230
A14: 나그룹 | B14: 2 | C14: 성남분당 | D14: 676977 | E14: 660243.03 | F14: =VLOOKUP(C14,$AC$8:$AO$49,11,FALSE)/1000000 -> 836299.93 | G14: =F14/E14% -> 126.66547 | I14: =F14/D14% -> 123.53447 | J14: =IF(I14>=100,4,I14*0.04) -> 4 | K14: =IF(I14>=100,10,I14*0.1) -> 10 | L14: 2 | M14: 성남분당 | N14: 70406 | O14: 72016.072 | P14: =VLOOKUP(M14,$AC$8:$AO$49,12,FALSE)/1000000 -> 79192.346 | R14: =P14/O14% -> 109.96482 | T14: =(VLOOKUP(M14,$AC$8:$AO$49,13,FALSE)-VLOOKUP(M14,$AC$55:$AO$96,13,FALSE))/1000000 -> 3012.4091 | U14: =P14/N14% -> 112.47954 | V14: =IF(U14>=100,30,U14*0.3) -> 30 | W14: =IF(U14>100,"0","") -> 0 | X14: =COUNTIF(W14:W23,"0")*0.01 -> 0.06 | Y14: =VLOOKUP(M14,$M$50:$T$89,8,FALSE) -> 6.0627 | Z14: =V14+X14 -> 30.06 | AC14: 파주 | AD14: 146573608004 | AE14: 48198934889 | AF14: 16003329 | AG14: 0 | AH14: 194788546222 | AI14: 140015681920 | AJ14: 45111296818 | AK14: 31239705 | AL14: 0 | AM14: 185158218443 | AN14: =AJ14+AK14+AL14 -> 45142536523 | AO14: =AE14+AF14+AG14 -> 48214938218
B15: 2 | C15: 화성 | D15: 195824 | E15: 201238.68 | F15: =VLOOKUP(C15,$AC$8:$AO$49,11,FALSE)/1000000 -> 221432.97 | G15: =F15/E15% -> 110.035 | I15: =F15/D15% -> 113.07755 | J15: =IF(I15>=100,4,I15*0.04) -> 4 | K15: =IF(I15>=100,10,I15*0.1) -> 10 | L15: 2 | M15: 고양일산 | N15: 50574 | O15: 46305.954 | P15: =VLOOKUP(M15,$AC$8:$AO$49,12,FALSE)/1000000 -> 54529.498 | R15: =P15/O15% -> 117.75915 | T15: =(VLOOKUP(M15,$AC$8:$AO$49,13,FALSE)-VLOOKUP(M15,$AC$55:$AO$96,13,FALSE))/1000000 -> -707.04956 | U15: =P15/N15% -> 107.82121 | V15: =IF(U15>=100,30,U15*0.3) -> 30 | W15: =IF(U15>100,"0","") -> 0 | X15: =IF(X14-0.01<0,"0",X14-0.01) -> 0.05 | Y15: =VLOOKUP(M15,$M$50:$T$89,8,FALSE) -> 6.0561 | Z15: =V15+X15 -> 30.05 | AC15: 강화 | AD15: 80461707196 | AE15: 25244695515 | AF15: 0 | AG15: 0 | AH15: 105706402711 | AI15: 80394595523 | AJ15: 23543679890 | AK15: 0 | AL15: 0 | AM15: 103938275413 | AN15: =AJ15+AK15+AL15 -> 23543679890 | AO15: =AE15+AF15+AG15 -> 25244695515
B16: 2 | C16: 고양일산 | D16: 294194 | E16: 301156.89 | F16: =VLOOKUP(C16,$AC$8:$AO$49,11,FALSE)/1000000 -> 320107.5 | G16: =F16/E16% -> 106.2926 | I16: =F16/D16% -> 108.8083 | J16: =IF(I16>=100,4,I16*0.04) -> 4 | K16: =IF(I16>=100,10,I16*0.1) -> 10 | L16: 2 | M16: 수원 | N16: 68028 | O16: 64637.75 | P16: =VLOOKUP(M16,$AC$8:$AO$49,12,FALSE)/1000000 -> 71725.208 | R16: =P16/O16% -> 110.96489 | T16: =(VLOOKUP(M16,$AC$8:$AO$49,13,FALSE)-VLOOKUP(M16,$AC$55:$AO$96,13,FALSE))/1000000 -> 1023.2714 | U16: =P16/N16% -> 105.43483 | V16: =IF(U16>=100,30,U16*0.3) -> 30 | W16: =IF(U16>100,"0","") -> 0 | X16: =IF(X15-0.01<0,"0",X15-0.01) -> 0.04 | Y16: =VLOOKUP(M16,$M$50:$T$89,8,FALSE) -> 6.0495 | Z16: =V16+X16 -> 30.04 | AC16: 양평 | AD16: 99762880131 | AE16: 30458689463 | AF16: 0 | AG16: 0 | AH16: 130221569594 | AI16: 99605872926 | AJ16: 27739406861 | AK16: 0 | AL16: 0 | AM16: 127345279787 | AN16: =AJ16+AK16+AL16 -> 27739406861 | AO16: =AE16+AF16+AG16 -> 30458689463
B17: 2 | C17: 고양덕양 | D17: 245473 | E17: 250687.65 | F17: =VLOOKUP(C17,$AC$8:$AO$49,11,FALSE)/1000000 -> 264922.56 | G17: =F17/E17% -> 105.67834 | I17: =F17/D17% -> 107.9233 | J17: =IF(I17>=100,4,I17*0.04) -> 4 | K17: =IF(I17>=100,10,I17*0.1) -> 10 | L17: 2 | M17: 동수원 | N17: 56604 | O17: 49492.477 | P17: =VLOOKUP(M17,$AC$8:$AO$49,12,FALSE)/1000000 -> 57943.475 | R17: =P17/O17% -> 117.07532 | T17: =(VLOOKUP(M17,$AC$8:$AO$49,13,FALSE)-VLOOKUP(M17,$AC$55:$AO$96,13,FALSE))/1000000 -> -29.840775 | U17: =P17/N17% -> 102.3664 | V17: =IF(U17>=100,30,U17*0.3) -> 30 | W17: =IF(U17>100,"0","") -> 0 | X17: =IF(X16-0.01<0,"0",X16-0.01) -> 0.03 | Y17: =VLOOKUP(M17,$M$50:$T$89,8,FALSE) -> 6.0231 | Z17: =V17+X17 -> 30.03 | AC17: 경기광주 | AD17: 91395731180 | AE17: 33217423109 | AF17: 91427081 | AG17: 0 | AH17: 124704581370 | AI17: 90660350134 | AJ17: 31840521210 | AK17: 139889154 | AL17: 0 | AM17: 122640760498 | AN17: =AJ17+AK17+AL17 -> 31980410364 | AO17: =AE17+AF17+AG17 -> 33308850190
B18: 2 | C18: 동수원 | D18: 281761 | E18: 290849.66 | F18: =VLOOKUP(C18,$AC$8:$AO$49,11,FALSE)/1000000 -> 302743.38 | G18: =F18/E18% -> 104.0893 | I18: =F18/D18% -> 107.44687 | J18: =IF(I18>=100,4,I18*0.04) -> 4 | K18: =IF(I18>=100,10,I18*0.1) -> 10 | L18: 2 | M18: 의정부 | N18: 62839 | O18: 56962.748 | P18: =VLOOKUP(M18,$AC$8:$AO$49,12,FALSE)/1000000 -> 63673.542 | R18: =P18/O18% -> 111.78102 | T18: =(VLOOKUP(M18,$AC$8:$AO$49,13,FALSE)-VLOOKUP(M18,$AC$55:$AO$96,13,FALSE))/1000000 -> -87.370143 | U18: =P18/N18% -> 101.32806 | V18: =IF(U18>=100,30,U18*0.3) -> 30 | W18: =IF(U18>100,"0","") -> 0 | X18: =IF(X17-0.01<0,"0",X17-0.01) -> 0.02 | Y18: =VLOOKUP(M18,$M$50:$T$89,8,FALSE) -> 6.0066 | Z18: =V18+X18 -> 30.02 | AC18: 여주 | AD18: 72127377657 | AE18: 22731430843 | AF18: 0 | AG18: 0 | AH18: 94858808500 | AI18: 74996112729 | AJ18: 21922311899 | AK18: 0 | AL18: 0 | AM18: 96918424628 | AN18: =AJ18+AK18+AL18 -> 21922311899 | AO18: =AE18+AF18+AG18 -> 22731430843
B19: 2 | C19: 의정부 | D19: 265241 | E19: 275323.46 | F19: =VLOOKUP(C19,$AC$8:$AO$49,11,FALSE)/1000000 -> 281096.6 | G19: =F19/E19% -> 102.09686 | I19: =F19/D19% -> 105.97781 | J19: =IF(I19>=100,4,I19*0.04) -> 4 | K19: =IF(I19>=100,10,I19*0.1) -> 10 | L19: 2 | M19: 용인 | N19: 39956 | O19: 37768.931 | P19: =VLOOKUP(M19,$AC$8:$AO$49,12,FALSE)/1000000 -> 39991.797 | R19: =P19/O19% -> 105.88543 | T19: =(VLOOKUP(M19,$AC$8:$AO$49,13,FALSE)-VLOOKUP(M19,$AC$55:$AO$96,13,FALSE))/1000000 -> 413.1332 | U19: =P19/N19% -> 100.08959 | V19: =IF(U19>=100,30,U19*0.3) -> 30 | W19: =IF(U19>100,"0","") -> 0 | X19: =IF(X18-0.01<0,"0",X18-0.01) -> 0.01 | Y19: =VLOOKUP(M19,$M$50:$T$89,8,FALSE) -> 6.0033 | Z19: =V19+X19 -> 30.01 | AC19: 김포 | AD19: 121434601717 | AE19: 40253188782 | AF19: 13116596 | AG19: 0 | AH19: 161700907095 | AI19: 129725363617 | AJ19: 38282775613 | AK19: 23377232 | AL19: 0 | AM19: 168031516462 | AN19: =AJ19+AK19+AL19 -> 38306152845 | AO19: =AE19+AF19+AG19 -> 40266305378
