Workbook

Sheet 예산 배정
B2: 예금사업운영 예산배정 내역
F3: (단위 : 천 원)
B4: 구 분 | C4: 5231-361 (예금사업운영) | F4: 합 계
C5: 210-01 (수용비) | D5: 210-02 (공공요금 및 제세) | E5: 220-01 (여비)
B6: 인천 | C6: ='배정기준 세부내역'!H6 -> 22500 | D6: ='배정기준 세부내역'!I6 -> 3020 | E6: ='배정기준 세부내역'!J6 -> 3280 | F6: =SUM(C6:E6) -> 28800
B7: 서인천 | C7: ='배정기준 세부내역'!H7 -> 14500 | D7: ='배정기준 세부내역'!I7 -> 1980 | E7: ='배정기준 세부내역'!J7 -> 2140 | F7: =SUM(C7:E7) -> 18620
B8: 인천계양 | C8: ='배정기준 세부내역'!H8 -> 11500 | D8: ='배정기준 세부내역'!I8 -> 1590 | E8: ='배정기준 세부내역'!J8 -> 1720 | F8: =SUM(C8:E8) -> 14810
B9: 남인천 | C9: ='배정기준 세부내역'!H9 -> 13500 | D9: ='배정기준 세부내역'!I9 -> 1850 | E9: ='배정기준 세부내역'!J9 -> 2000 | F9: =SUM(C9:E9) -> 17350
B10: 인천남동 | C10: ='배정기준 세부내역'!H10 -> 16500 | D10: ='배정기준 세부내역'!I10 -> 2240 | E10: ='배정기준 세부내역'!J10 -> 2420 | F10: =SUM(C10:E10) -> 21160
B11: 의정부 | C11: ='배정기준 세부내역'!H11 -> 15500 | D11: ='배정기준 세부내역'!I11 -> 2110 | E11: ='배정기준 세부내역'!J11 -> 2280 | F11: =SUM(C11:E11) -> 19890
B12: 부평 | C12: ='배정기준 세부내역'!H12 -> 18500 | D12: ='배정기준 세부내역'!I12 -> 2500 | E12: ='배정기준 세부내역'!J12 -> 2700 | F12: =SUM(C12:E12) -> 23700
B13: 수원 | C13: ='배정기준 세부내역'!H13 -> 16500 | D13: ='배정기준 세부내역'!I13 -> 2240 | E13: ='배정기준 세부내역'!J13 -> 2420 | F13: =SUM(C13:E13) -> 21160
B14: 동수원 | C14: ='배정기준 세부내역'!H14 -> 16500 | D14: ='배정기준 세부내역'!I14 -> 2240 | E14: ='배정기준 세부내역'!J14 -> 2420 | F14: =SUM(C14:E14) -> 21160
B15: 서수원 | C15: ='배정기준 세부내역'!H15 -> 11500 | D15: ='배정기준 세부내역'!I15 -> 1590 | E15: ='배정기준 세부내역'!J15 -> 1720 | F15: =SUM(C15:E15) -> 14810
B16: 군포 | C16: ='배정기준 세부내역'!H16 -> 15500 | D16: ='배정기준 세부내역'!I16 -> 2110 | E16: ='배정기준 세부내역'!J16 -> 2280 | F16: =SUM(C16:E16) -> 19890
B17: 안양 | C17: ='배정기준 세부내역'!H17 -> 17500 | D17: ='배정기준 세부내역'!I17 -> 2370 | E17: ='배정기준 세부내역'!J17 -> 2580 | F17: =SUM(C17:E17) -> 22450
... B46: 하남 | C46: ='배정기준 세부내역'!H46 -> 6500 | D46: ='배정기준 세부내역'!I46 -> 850 | E46: ='배정기준 세부내역'!J46 -> 940 | F46: =SUM(C46:E46) -> 8290
B47: 합 계 | C47: =SUM(C6:C46) -> 579500 | D47: =SUM(D6:D46) -> 78420 | E47: =SUM(E6:E46) -> 85080 | F47: =SUM(C47:E47) -> 743000

Sheet 배정기준 세부내역
B2: 예금사업운영 예산 배정기준 및 세부내역
K3: (단위 : 천원)
B4: 국 명 | C4: 관서 규모 | H4: 5231-361 (예금사업운영) | K4: 총 합계
C5: 4급 총괄국 | D5: 5급 총괄국 | E5: 5급 소속국 | F5: 6급 이하국 | G5: 합계 | H5: 210-01 (수용비) | I5: 210-02 (공공요금 및 제세) | J5: 220-01 (여비)
B6: 인천 | C6: 1 | D6: 0 | E6: 2 | F6: 12 | G6: =SUM(C6:F6) -> 15 | H6: =$C6*8500+$D6*5500+$E6*1000+$F6*1000 -> 22500 | I6: =$C6*1200+$D6*720+$E6*130+$F6*130 -> 3020 | J6: =$C6*1300+$D6*800+$E6*150+$F6*140 -> 3280 | K6: =SUM(H6:J6) -> 28800
B7: 서인천 | C7: 1 | D7: 0 | E7: 0 | F7: 6 | G7: =SUM(C7:F7) -> 7 | H7: =C7*8500+D7*5500+E7*1000+F7*1000 -> 14500 | I7: =$C7*1200+$D7*720+$E7*130+$F7*130 -> 1980 | J7: =$C7*1300+$D7*800+$E7*150+$F7*140 -> 2140 | K7: =SUM(H7:J7) -> 18620
B8: 인천계양 | C8: 1 | D8: 0 | E8: 0 | F8: 3 | G8: =SUM(C8:F8) -> 4 | H8: =C8*8500+D8*5500+E8*1000+F8*1000 -> 11500 | I8: =$C8*1200+$D8*720+$E8*130+$F8*130 -> 1590 | J8: =$C8*1300+$D8*800+$E8*150+$F8*140 -> 1720 | K8: =SUM(H8:J8) -> 14810
B9: 남인천 | C9: 1 | D9: 0 | E9: 0 | F9: 5 | G9: =SUM(C9:F9) -> 6 | H9: =C9*8500+D9*5500+E9*1000+F9*1000 -> 13500 | I9: =$C9*1200+$D9*720+$E9*130+$F9*130 -> 1850 | J9: =$C9*1300+$D9*800+$E9*150+$F9*140 -> 2000 | K9: =SUM(H9:J9) -> 17350
B10: 인천남동 | C10: 1 | D10: 0 | E10: 0 | F10: 8 | G10: =SUM(C10:F10) -> 9 | H10: =C10*8500+D10*5500+E10*1000+F10*1000 -> 16500 | I10: =$C10*1200+$D10*720+$E10*130+$F10*130 -> 2240 | J10: =$C10*1300+$D10*800+$E10*150+$F10*140 -> 2420 | K10: =SUM(H10:J10) -> 21160
B11: 의정부 | C11: 1 | D11: 0 | E11: 0 | F11: 7 | G11: =SUM(C11:F11) -> 8 | H11: =C11*8500+D11*5500+E11*1000+F11*1000 -> 15500 | I11: =$C11*1200+$D11*720+$E11*130+$F11*130 -> 2110 | J11: =$C11*1300+$D11*800+$E11*150+$F11*140 -> 2280 | K11: =SUM(H11:J11) -> 19890
B12: 부평 | C12: 1 | D12: 0 | E12: 0 | F12: 10 | G12: =SUM(C12:F12) -> 11 | H12: =C12*8500+D12*5500+E12*1000+F12*1000 -> 18500 | I12: =$C12*1200+$D12*720+$E12*130+$F12*130 -> 2500 | J12: =$C12*1300+$D12*800+$E12*150+$F12*140 -> 2700 | K12: =SUM(H12:J12) -> 23700
B13: 수원 | C13: 1 | D13: 0 | E13: 0 | F13: 8 | G13: =SUM(C13:F13) -> 9 | H13: =C13*8500+D13*5500+E13*1000+F13*1000 -> 16500 | I13: =$C13*1200+$D13*720+$E13*130+$F13*130 -> 2240 | J13: =$C13*1300+$D13*800+$E13*150+$F13*140 -> 2420 | K13: =SUM(H13:J13) -> 21160
B14: 동수원 | C14: 1 | D14: 0 | E14: 0 | F14: 8 | G14: =SUM(C14:F14) -> 9 | H14: =C14*8500+D14*5500+E14*1000+F14*1000 -> 16500 | I14: =$C14*1200+$D14*720+$E14*130+$F14*130 -> 2240 | J14: =$C14*1300+$D14*800+$E14*150+$F14*140 -> 2420 | K14: =SUM(H14:J14) -> 21160
B15: 서수원 | C15: 1 | D15: 0 | E15: 0 | F15: 3 | G15: =SUM(C15:F15) -> 4 | H15: =C15*8500+D15*5500+E15*1000+F15*1000 -> 11500 | I15: =$C15*1200+$D15*720+$E15*130+$F15*130 -> 1590 | J15: =$C15*1300+$D15*800+$E15*150+$F15*140 -> 1720 | K15: =SUM(H15:J15) -> 14810
B16: 군포 | C16: 1 | D16: 0 | E16: 0 | F16: 7 | G16: =SUM(C16:F16) -> 8 | H16: =C16*8500+D16*5500+E16*1000+F16*1000 -> 15500 | I16: =$C16*1200+$D16*720+$E16*130+$F16*130 -> 2110 | J16: =$C16*1300+$D16*800+$E16*150+$F16*140 -> 2280 | K16: =SUM(H16:J16) -> 19890
B17: 안양 | C17: 1 | D17: 0 | E17: 2 | F17: 7 | G17: =SUM(C17:F17) -> 10 | H17: =C17*8500+D17*5500+E17*1000+F17*1000 -> 17500 | I17: =$C17*1200+$D17*720+$E17*130+$F17*130 -> 2370 | J17: =$C17*1300+$D17*800+$E17*150+$F17*140 -> 2580 | K17: =SUM(H17:J17) -> 22450
B18: 성남 | C18: 1 | D18: 0 | E18: 0 | F18: 8 | G18: =SUM(C18:F18) -> 9 | H18: =C18*8500+D18*5500+E18*1000+F18*1000 -> 16500 | I18: =$C18*1200+$D18*720+$E18*130+$F18*130 -> 2240 | J18: =$C18*1300+$D18*800+$E18*150+$F18*140 -> 2420 | K18: =SUM(H18:J18) -> 21160
... B30: 화성 | C30: 1 | D30: 0 | E30: 3 | F30: 5 | G30: =SUM(C30:F30) -> 9 | H30: =C30*8500+D30*5500+E30*1000+F30*1000 -> 16500 | I30: =$C30*1200+$D30*720+$E30*130+$F30*130 -> 2240 | J30: =$C30*1300+$D30*800+$E30*150+$F30*140 -> 2450 | K30: =SUM(H30:J30) -> 21190
B31: 파주 | C31: 1 | D31: 0 | E31: 1 | F31: =7+1 -> 8 | G31: =SUM(C31:F31) -> 10 | H31: =C31*8500+D31*5500+E31*1000+F31*1000 -> 17500 | I31: =$C31*1200+$D31*720+$E31*130+$F31*130 -> 2370 | J31: =$C31*1300+$D31*800+$E31*150+$F31*140 -> 2570 | K31: =SUM(H31:J31) -> 22440
B32: 김포 | C32: 1 | D32: 0 | E32: 0 | F32: 5 | G32: =SUM(C32:F32) -> 6 | H32: =C32*8500+D32*5500+E32*1000+F32*1000 -> 13500 | I32: =$C32*1200+$D32*720+$E32*130+$F32*130 -> 1850 | J32: =$C32*1300+$D32*800+$E32*150+$F32*140 -> 2000 | K32: =SUM(H32:J32) -> 17350
B33: 이천 | C33: 1 | D33: 0 | E33: 0 | F33: 3 | G33: =SUM(C33:F33) -> 4 | H33: =C33*8500+D33*5500+E33*1000+F33*1000 -> 11500 | I33: =$C33*1200+$D33*720+$E33*130+$F33*130 -> 1590 | J33: =$C33*1300+$D33*800+$E33*150+$F33*140 -> 1720 | K33: =SUM(H33:J33) -> 14810
B34: 안성 | C34: 1 | D34: 0 | E34: 1 | F34: 5 | G34: =SUM(C34:F34) -> 7 | H34: =C34*8500+D34*5500+E34*1000+F34*1000 -> 14500 | I34: =$C34*1200+$D34*720+$E34*130+$F34*130 -> 1980 | J34: =$C34*1300+$D34*800+$E34*150+$F34*140 -> 2150 | K34: =SUM(H34:J34) -> 18630
B35: 포천 | C35: 1 | D35: 0 | E35: 1 | F35: 5 | G35: =SUM(C35:F35) -> 7 | H35: =C35*8500+D35*5500+E35*1000+F35*1000 -> 14500 | I35: =$C35*1200+$D35*720+$E35*130+$F35*130 -> 1980 | J35: =$C35*1300+$D35*800+$E35*150+$F35*140 -> 2150 | K35: =SUM(H35:J35) -> 18630
B36: 경기광주 | C36: 1 | D36: 0 | E36: 0 | F36: 2 | G36: =SUM(C36:F36) -> 3 | H36: =C36*8500+D36*5500+E36*1000+F36*1000 -> 10500 | I36: =$C36*1200+$D36*720+$E36*130+$F36*130 -> 1460 | J36: =$C36*1300+$D36*800+$E36*150+$F36*140 -> 1580 | K36: =SUM(H36:J36) -> 13540
B37: 구리 | C37: 1 | D37: 0 | E37: 0 | F37: 4 | G37: =SUM(C37:F37) -> 5 | H37: =C37*8500+D37*5500+E37*1000+F37*1000 -> 12500 | I37: =$C37*1200+$D37*720+$E37*130+$F37*130 -> 1720 | J37: =$C37*1300+$D37*800+$E37*150+$F37*140 -> 1860 | K37: =SUM(H37:J37) -> 16080
B38: 강화 | C38: 0 | D38: 1 | E38: 0 | F38: 4 | G38: =SUM(C38:F38) -> 5 | H38: =C38*8500+D38*5500+E38*1000+F38*1000 -> 9500 | I38: =$C38*1200+$D38*720+$E38*130+$F38*130 -> 1240 | J38: =$C38*1300+$D38*800+$E38*150+$F38*140 -> 1360 | K38: =SUM(H38:J38) -> 12100
B39: 가평 | C39: 0 | D39: 1 | E39: 0 | F39: 4 | G39: =SUM(C39:F39) -> 5 | H39: =C39*8500+D39*5500+E39*1000+F39*1000 -> 9500 | I39: =$C39*1200+$D39*720+$E39*130+$F39*130 -> 1240 | J39: =$C39*1300+$D39*800+$E39*150+$F39*140 -> 1360 | K39: =SUM(H39:J39) -> 12100
B40: 양평 | C40: 0 | D40: 1 | E40: 0 | F40: 4 | G40: =SUM(C40:F40) -> 5 | H40: =C40*8500+D40*5500+E40*1000+F40*1000 -> 9500 | I40: =$C40*1200+$D40*720+$E40*130+$F40*130 -> 1240 | J40: =$C40*1300+$D40*800+$E40*150+$F40*140 -> 1360 | K40: =SUM(H40:J40) -> 12100
B41: 여주 | C41: 0 | D41: 1 | E41: 0 | F41: 5 | G41: =SUM(C41:F41) -> 6 | H41: =C41*8500+D41*5500+E41*1000+F41*1000 -> 10500 | I41: =$C41*1200+$D41*720+$E41*130+$F41*130 -> 1370 | J41: =$C41*1300+$D41*800+$E41*150+$F41*140 -> 1500 | K41: =SUM(H41:J41) -> 13370
B42: 동두천 | C42: 0 | D42: 1 | E42: 0 | F42: =3+1 -> 4 | G42: =SUM(C42:F42) -> 5 | H42: =C42*8500+D42*5500+E42*1000+F42*1000 -> 9500 | I42: =$C42*1200+$D42*720+$E42*130+$F42*130 -> 1240 | J42: =$C42*1300+$D42*800+$E42*150+$F42*140 -> 1360 | K42: =SUM(H42:J42) -> 12100
B43: 연천 | C43: 0 | D43: 1 | E43: 0 | F43: =3+1 -> 4 | G43: =SUM(C43:F43) -> 5 | H43: =C43*8500+D43*5500+E43*1000+F43*1000 -> 9500 | I43: =$C43*1200+$D43*720+$E43*130+$F43*130 -> 1240 | J43: =$C43*1300+$D43*800+$E43*150+$F43*140 -> 1360 | K43: =SUM(H43:J43) -> 12100
B44: 백령 | C44: 0 | D44: 1 | E44: 0 | F44: 3 | G44: =SUM(C44:F44) -> 4 | H44: =C44*8500+D44*5500+E44*1000+F44*1000 -> 8500 | I44: =$C44*1200+$D44*720+$E44*130+$F44*130 -> 1110 | J44: =$C44*1300+$D44*800+$E44*150+$F44*140 -> 1220 | K44: =SUM(H44:J44) -> 10830
B45: 오산 | C45: 0 | D45: 1 | E45: 0 | F45: 2 | G45: =SUM(C45:F45) -> 3 | H45: =C45*8500+D45*5500+E45*1000+F45*1000 -> 7500 | I45: =$C45*1200+$D45*720+$E45*130+$F45*130 -> 980 | J45: =$C45*1300+$D45*800+$E45*150+$F45*140 -> 1080 | K45: =SUM(H45:J45) -> 9560
B46: 하남 | C46: 0 | D46: 1 | E46: 0 | F46: 1 | G46: =SUM(C46:F46) -> 2 | H46: =C46*8500+D46*5500+E46*1000+F46*1000 -> 6500 | I46: =$C46*1200+$D46*720+$E46*130+$F46*130 -> 850 | J46: =$C46*1300+$D46*800+$E46*150+$F46*140 -> 940 | K46: =SUM(H46:J46) -> 8290
B47: 소계 | C47: =SUM(C6:C46) -> 32 | D47: =SUM(D6:D46) -> 9 | E47: =SUM(E6:E46) -> 16 | F47: =SUM(F6:F46) -> 242 | G47: =SUM(G6:G46) -> 299 | H47: =SUM(H6:H46) -> 579500 | I47: =SUM(I6:I46) -> 78420 | J47: =SUM(J6:J46) -> 85080 | K47: =SUM(H47:J47) -> 743000
B48: ※ 6급이하(7급, 금융취급 출장소) 포함 : 동인천(인천), 서도(강화), 파주웅담출장소, 동두천광암동출장소, 연천초성출장소, 603군우 포함
B49: ※ [수용비 배정 기준] : 4급 850만원, 5급 550만원, 5급이하 소속국 100만원
B50: ※ 공공요금 및 제세 배정 기준 : 4급 1,200천원, 5급 720천원, 5급이하 소속국 130천원
B51: ※ 여비 배정 기준 : 4급 1,300천원, 5급 800천원, 5급 소속국 150천원, 6급이하 소속국 140천원
