Workbook

Sheet 배정내역(총괄)
A1: 예금사업 운영비 및 영업지원 예산 배정 집계표(총괄)
M2: (단위 : 천원)
A3: 국 명 | B3: 영업지원비 | D3: 사업운영비 | M3: 합 계
B4: 210-01 (수용비) | C4: 310-03 (포상금) | D4: 210-02 (공공요금및제세) | E4: 210-09 (시설장비유지비) | F4: 210-16 (기타운영비) | G4: 240-01(업무추진비) | J4: 220-01(국내여비)
B5: 5231-362- | D5: 5231-361- | E5: 5231-361- | F5: 5231-361- | G5: 5231-361- | H5: 5231-366- | I5: 소계 | J5: 5231-361- | K5: 5231-366- | L5: 소계
A6: 서울중앙 | B6: =VLOOKUP(A6,'영업지원비 배정내역'!$A$6:$G$27,5,FALSE) -> 16600 | C6: =VLOOKUP(A6,'영업지원비 배정내역'!$A$6:$G$27,6,FALSE) -> 11100 | D6: =VLOOKUP(A6,사업운영비!$A$6:$R$27,6,FALSE) -> 2150 | E6: =VLOOKUP(A6,사업운영비!$A$6:$R$27,7,FALSE) -> 2400 | F6: =VLOOKUP(A6,사업운영비!$A$6:$R$27,8,FALSE) -> 2700 | G6: =VLOOKUP(A6,사업운영비!$A$6:$R$27,9,FALSE) -> 600 | H6: =VLOOKUP(A6,사업운영비!$A$6:$R$27,10,FALSE) -> 150 | I6: =SUM(G6:H6) -> 750 | J6: =VLOOKUP(A6,사업운영비!$A$6:$R$27,16,FALSE) -> 1578 | K6: =VLOOKUP(A6,사업운영비!$A$6:$R$27,17,FALSE) -> 692 | L6: =SUM(J6:K6) -> 2270 | M6: =SUM(B6:F6,I6,L6) -> 37970
A7: 광화문 | B7: =VLOOKUP(A7,'영업지원비 배정내역'!$A$6:$G$27,5,FALSE) -> 17700 | C7: =VLOOKUP(A7,'영업지원비 배정내역'!$A$6:$G$27,6,FALSE) -> 11800 | D7: =VLOOKUP(A7,사업운영비!$A$6:$R$27,6,FALSE) -> 2500 | E7: =VLOOKUP(A7,사업운영비!$A$6:$R$27,7,FALSE) -> 1100 | F7: =VLOOKUP(A7,사업운영비!$A$6:$R$27,8,FALSE) -> 2700 | G7: =VLOOKUP(A7,사업운영비!$A$6:$R$27,9,FALSE) -> 615 | H7: =VLOOKUP(A7,사업운영비!$A$6:$R$27,10,FALSE) -> 135 | I7: =SUM(G7:H7) -> 750 | J7: =VLOOKUP(A7,사업운영비!$A$6:$R$27,16,FALSE) -> 1668 | K7: =VLOOKUP(A7,사업운영비!$A$6:$R$27,17,FALSE) -> 732 | L7: =SUM(J7:K7) -> 2400 | M7: =SUM(B7:F7,I7,L7) -> 38950
A8: 서대문 | B8: =VLOOKUP(A8,'영업지원비 배정내역'!$A$6:$G$27,5,FALSE) -> 11100 | C8: =VLOOKUP(A8,'영업지원비 배정내역'!$A$6:$G$27,6,FALSE) -> 7400 | D8: =VLOOKUP(A8,사업운영비!$A$6:$R$27,6,FALSE) -> 1800 | E8: =VLOOKUP(A8,사업운영비!$A$6:$R$27,7,FALSE) -> 1900 | F8: =VLOOKUP(A8,사업운영비!$A$6:$R$27,8,FALSE) -> 2700 | G8: =VLOOKUP(A8,사업운영비!$A$6:$R$27,9,FALSE) -> 615 | H8: =VLOOKUP(A8,사업운영비!$A$6:$R$27,10,FALSE) -> 135 | I8: =SUM(G8:H8) -> 750 | J8: =VLOOKUP(A8,사업운영비!$A$6:$R$27,16,FALSE) -> 1418 | K8: =VLOOKUP(A8,사업운영비!$A$6:$R$27,17,FALSE) -> 622 | L8: =SUM(J8:K8) -> 2040 | M8: =SUM(B8:F8,I8,L8) -> 27690
A9: 동대문 | B9: =VLOOKUP(A9,'영업지원비 배정내역'!$A$6:$G$27,5,FALSE) -> 13400 | C9: =VLOOKUP(A9,'영업지원비 배정내역'!$A$6:$G$27,6,FALSE) -> 8900 | D9: =VLOOKUP(A9,사업운영비!$A$6:$R$27,6,FALSE) -> 1950 | E9: =VLOOKUP(A9,사업운영비!$A$6:$R$27,7,FALSE) -> 1400 | F9: =VLOOKUP(A9,사업운영비!$A$6:$R$27,8,FALSE) -> 2700 | G9: =VLOOKUP(A9,사업운영비!$A$6:$R$27,9,FALSE) -> 615 | H9: =VLOOKUP(A9,사업운영비!$A$6:$R$27,10,FALSE) -> 135 | I9: =SUM(G9:H9) -> 750 | J9: =VLOOKUP(A9,사업운영비!$A$6:$R$27,16,FALSE) -> 1466 | K9: =VLOOKUP(A9,사업운영비!$A$6:$R$27,17,FALSE) -> 644 | L9: =SUM(J9:K9) -> 2110 | M9: =SUM(B9:F9,I9,L9) -> 31210
A10: 서울광진 | B10: =VLOOKUP(A10,'영업지원비 배정내역'!$A$6:$G$27,5,FALSE) -> 18600 | C10: =VLOOKUP(A10,'영업지원비 배정내역'!$A$6:$G$27,6,FALSE) -> 12400 | D10: =VLOOKUP(A10,사업운영비!$A$6:$R$27,6,FALSE) -> 2400 | E10: =VLOOKUP(A10,사업운영비!$A$6:$R$27,7,FALSE) -> 2300 | F10: =VLOOKUP(A10,사업운영비!$A$6:$R$27,8,FALSE) -> 2700 | G10: =VLOOKUP(A10,사업운영비!$A$6:$R$27,9,FALSE) -> 615 | H10: =VLOOKUP(A10,사업운영비!$A$6:$R$27,10,FALSE) -> 135 | I10: =SUM(G10:H10) -> 750 | J10: =VLOOKUP(A10,사업운영비!$A$6:$R$27,16,FALSE) -> 1612 | K10: =VLOOKUP(A10,사업운영비!$A$6:$R$27,17,FALSE) -> 708 | L10: =SUM(J10:K10) -> 2320 | M10: =SUM(B10:F10,I10,L10) -> 41470
A11: 서울도봉 | B11: =VLOOKUP(A11,'영업지원비 배정내역'!$A$6:$G$27,5,FALSE) -> 15900 | C11: =VLOOKUP(A11,'영업지원비 배정내역'!$A$6:$G$27,6,FALSE) -> 10600 | D11: =VLOOKUP(A11,사업운영비!$A$6:$R$27,6,FALSE) -> 2400 | E11: =VLOOKUP(A11,사업운영비!$A$6:$R$27,7,FALSE) -> 2000 | F11: =VLOOKUP(A11,사업운영비!$A$6:$R$27,8,FALSE) -> 2700 | G11: =VLOOKUP(A11,사업운영비!$A$6:$R$27,9,FALSE) -> 615 | H11: =VLOOKUP(A11,사업운영비!$A$6:$R$27,10,FALSE) -> 135 | I11: =SUM(G11:H11) -> 750 | J11: =VLOOKUP(A11,사업운영비!$A$6:$R$27,16,FALSE) -> 1612 | K11: =VLOOKUP(A11,사업운영비!$A$6:$R$27,17,FALSE) -> 708 | L11: =SUM(J11:K11) -> 2320 | M11: =SUM(B11:F11,I11,L11) -> 36670
A12: 서울마포 | B12: =VLOOKUP(A12,'영업지원비 배정내역'!$A$6:$G$27,5,FALSE) -> 13200 | C12: =VLOOKUP(A12,'영업지원비 배정내역'!$A$6:$G$27,6,FALSE) -> 8800 | D12: =VLOOKUP(A12,사업운영비!$A$6:$R$27,6,FALSE) -> 1800 | E12: =VLOOKUP(A12,사업운영비!$A$6:$R$27,7,FALSE) -> 1300 | F12: =VLOOKUP(A12,사업운영비!$A$6:$R$27,8,FALSE) -> 2700 | G12: =VLOOKUP(A12,사업운영비!$A$6:$R$27,9,FALSE) -> 615 | H12: =VLOOKUP(A12,사업운영비!$A$6:$R$27,10,FALSE) -> 135 | I12: =SUM(G12:H12) -> 750 | J12: =VLOOKUP(A12,사업운영비!$A$6:$R$27,16,FALSE) -> 1418 | K12: =VLOOKUP(A12,사업운영비!$A$6:$R$27,17,FALSE) -> 622 | L12: =SUM(J12:K12) -> 2040 | M12: =SUM(B12:F12,I12,L12) -> 30590
A13: 서울관악 | B13: =VLOOKUP(A13,'영업지원비 배정내역'!$A$6:$G$27,5,FALSE) -> 9600 | C13: =VLOOKUP(A13,'영업지원비 배정내역'!$A$6:$G$27,6,FALSE) -> 6400 | D13: =VLOOKUP(A13,사업운영비!$A$6:$R$27,6,FALSE) -> 1400 | E13: =VLOOKUP(A13,사업운영비!$A$6:$R$27,7,FALSE) -> 400 | F13: =VLOOKUP(A13,사업운영비!$A$6:$R$27,8,FALSE) -> 2700 | G13: =VLOOKUP(A13,사업운영비!$A$6:$R$27,9,FALSE) -> 615 | H13: =VLOOKUP(A13,사업운영비!$A$6:$R$27,10,FALSE) -> 135 | I13: =SUM(G13:H13) -> 750 | J13: =VLOOKUP(A13,사업운영비!$A$6:$R$27,16,FALSE) -> 1265 | K13: =VLOOKUP(A13,사업운영비!$A$6:$R$27,17,FALSE) -> 555 | L13: =SUM(J13:K13) -> 1820 | M13: =SUM(B13:F13,I13,L13) -> 23070
A14: 서울은평 | B14: =VLOOKUP(A14,'영업지원비 배정내역'!$A$6:$G$27,5,FALSE) -> 9200 | C14: =VLOOKUP(A14,'영업지원비 배정내역'!$A$6:$G$27,6,FALSE) -> 6100 | D14: =VLOOKUP(A14,사업운영비!$A$6:$R$27,6,FALSE) -> 1400 | E14: =VLOOKUP(A14,사업운영비!$A$6:$R$27,7,FALSE) -> 1000 | F14: =VLOOKUP(A14,사업운영비!$A$6:$R$27,8,FALSE) -> 2700 | G14: =VLOOKUP(A14,사업운영비!$A$6:$R$27,9,FALSE) -> 615 | H14: =VLOOKUP(A14,사업운영비!$A$6:$R$27,10,FALSE) -> 135 | I14: =SUM(G14:H14) -> 750 | J14: =VLOOKUP(A14,사업운영비!$A$6:$R$27,16,FALSE) -> 1265 | K14: =VLOOKUP(A14,사업운영비!$A$6:$R$27,17,FALSE) -> 555 | L14: =SUM(J14:K14) -> 1820 | M14: =SUM(B14:F14,I14,L14) -> 22970
A15: 여의도 | B15: =VLOOKUP(A15,'영업지원비 배정내역'!$A$6:$G$27,5,FALSE) -> 16900 | C15: =VLOOKUP(A15,'영업지원비 배정내역'!$A$6:$G$27,6,FALSE) -> 11300 | D15: =VLOOKUP(A15,사업운영비!$A$6:$R$27,6,FALSE) -> 2350 | E15: =VLOOKUP(A15,사업운영비!$A$6:$R$27,7,FALSE) -> 1100 | F15: =VLOOKUP(A15,사업운영비!$A$6:$R$27,8,FALSE) -> 2700 | G15: =VLOOKUP(A15,사업운영비!$A$6:$R$27,9,FALSE) -> 615 | H15: =VLOOKUP(A15,사업운영비!$A$6:$R$27,10,FALSE) -> 135 | I15: =SUM(G15:H15) -> 750 | J15: =VLOOKUP(A15,사업운영비!$A$6:$R$27,16,FALSE) -> 1619 | K15: =VLOOKUP(A15,사업운영비!$A$6:$R$27,17,FALSE) -> 711 | L15: =SUM(J15:K15) -> 2330 | M15: =SUM(B15:F15,I15,L15) -> 37430
A16: 서울강남 | B16: =VLOOKUP(A16,'영업지원비 배정내역'!$A$6:$G$27,5,FALSE) -> 23000 | C16: =VLOOKUP(A16,'영업지원비 배정내역'!$A$6:$G$27,6,FALSE) -> 15300 | D16: =VLOOKUP(A16,사업운영비!$A$6:$R$27,6,FALSE) -> 3100 | E16: =VLOOKUP(A16,사업운영비!$A$6:$R$27,7,FALSE) -> 2600 | F16: =VLOOKUP(A16,사업운영비!$A$6:$R$27,8,FALSE) -> 2700 | G16: =VLOOKUP(A16,사업운영비!$A$6:$R$27,9,FALSE) -> 615 | H16: =VLOOKUP(A16,사업운영비!$A$6:$R$27,10,FALSE) -> 135 | I16: =SUM(G16:H16) -> 750 | J16: =VLOOKUP(A16,사업운영비!$A$6:$R$27,16,FALSE) -> 1932 | K16: =VLOOKUP(A16,사업운영비!$A$6:$R$27,17,FALSE) -> 848 | L16: =SUM(J16:K16) -> 2780 | M16: =SUM(B16:F16,I16,L16) -> 50230
A17: 서울금천 | B17: =VLOOKUP(A17,'영업지원비 배정내역'!$A$6:$G$27,5,FALSE) -> 14000 | C17: =VLOOKUP(A17,'영업지원비 배정내역'!$A$6:$G$27,6,FALSE) -> 9400 | D17: =VLOOKUP(A17,사업운영비!$A$6:$R$27,6,FALSE) -> 2250 | E17: =VLOOKUP(A17,사업운영비!$A$6:$R$27,7,FALSE) -> 1300 | F17: =VLOOKUP(A17,사업운영비!$A$6:$R$27,8,FALSE) -> 2700 | G17: =VLOOKUP(A17,사업운영비!$A$6:$R$27,9,FALSE) -> 615 | H17: =VLOOKUP(A17,사업운영비!$A$6:$R$27,10,FALSE) -> 135 | I17: =SUM(G17:H17) -> 750 | J17: =VLOOKUP(A17,사업운영비!$A$6:$R$27,16,FALSE) -> 1564 | K17: =VLOOKUP(A17,사업운영비!$A$6:$R$27,17,FALSE) -> 686 | L17: =SUM(J17:K17) -> 2250 | M17: =SUM(B17:F17,I17,L17) -> 32650
... A27: 서울중랑 | B27: =VLOOKUP(A27,'영업지원비 배정내역'!$A$6:$G$27,5,FALSE) -> 9600 | C27: =VLOOKUP(A27,'영업지원비 배정내역'!$A$6:$G$27,6,FALSE) -> 6400 | D27: =VLOOKUP(A27,사업운영비!$A$6:$R$27,6,FALSE) -> 1400 | E27: =VLOOKUP(A27,사업운영비!$A$6:$R$27,7,FALSE) -> 1000 | F27: =VLOOKUP(A27,사업운영비!$A$6:$R$27,8,FALSE) -> 2700 | G27: =VLOOKUP(A27,사업운영비!$A$6:$R$27,9,FALSE) -> 615 | H27: =VLOOKUP(A27,사업운영비!$A$6:$R$27,10,FALSE) -> 135 | I27: =SUM(G27:H27) -> 750 | J27: =VLOOKUP(A27,사업운영비!$A$6:$R$27,16,FALSE) -> 1265 | K27: =VLOOKUP(A27,사업운영비!$A$6:$R$27,17,FALSE) -> 555 | L27: =SUM(J27:K27) -> 1820 | M27: =SUM(B27:F27,I27,L27) -> 23670
A28: 합 계 | B28: =SUM(B6:B27) -> 300000 | C28: =SUM(C6:C27) -> 200000 | D28: =SUM(D6:D27) -> 43500 | E28: =SUM(E6:E27) -> 29000 | F28: =SUM(F6:F27) -> 59400 | G28: =SUM(G6:G27) -> 13515 | H28: =SUM(H6:H27) -> 2985 | I28: =SUM(I6:I27) -> 16500 | ... M28: =SUM(M6:M27) -> 695100

Sheet 영업지원비 배정내역
A1: 예금사업 영업지원비 예산 배정내역
A3: * 실적기준 : 2015.10월말 | G3: (단위 : 천원)
A4: 국 명 | B4: 기준별 배정내역 | E4: 예산과목별 배정내역
B5: 기본배정 (관서규모) | C5: 사업실적 | D5: 합계 | E5: 5231-362-210-01 (수용비) | F5: 5231-362-310-03 (포상금) | G5: 합계
A6: 서울중앙 | B6: 14000 | C6: =VLOOKUP(A6,'영업지원비 배정기준'!$A$6:$R$27,18,FALSE) -> 13719 | D6: =SUM(B6:C6) -> 27719 | E6: =ROUND(D6*60%,-2) -> 16600 | F6: =ROUND(D6*40%,-2) -> 11100 | G6: =SUM(E6:F6) -> 27700
A7: 광화문 | B7: 14000 | C7: =VLOOKUP(A7,'영업지원비 배정기준'!$A$6:$R$27,18,FALSE) -> 15552 | D7: =SUM(B7:C7) -> 29552 | E7: =ROUND(D7*60%,-2) -> 17700 | F7: =ROUND(D7*40%,-2) -> 11800 | G7: =SUM(E7:F7) -> 29500
A8: 서대문 | B8: 10500 | C8: =VLOOKUP(A8,'영업지원비 배정기준'!$A$6:$R$27,18,FALSE) -> 8006 | D8: =SUM(B8:C8) -> 18506 | E8: =ROUND(D8*60%,-2) -> 11100 | F8: =ROUND(D8*40%,-2) -> 7400 | G8: =SUM(E8:F8) -> 18500
A9: 동대문 | B9: 11000 | C9: =VLOOKUP(A9,'영업지원비 배정기준'!$A$6:$R$27,18,FALSE) -> 11325 | D9: =SUM(B9:C9) -> 22325 | E9: =ROUND(D9*60%,-2) -> 13400 | F9: =ROUND(D9*40%,-2) -> 8900 | G9: =SUM(E9:F9) -> 22300
A10: 서울광진 | B10: 12500 | C10: =VLOOKUP(A10,'영업지원비 배정기준'!$A$6:$R$27,18,FALSE) -> 18459 | D10: =SUM(B10:C10) -> 30959 | E10: =ROUND(D10*60%,-2) -> 18600 | F10: =ROUND(D10*40%,-2) -> 12400 | G10: =SUM(E10:F10) -> 31000
A11: 서울도봉 | B11: 12500 | C11: =VLOOKUP(A11,'영업지원비 배정기준'!$A$6:$R$27,18,FALSE) -> 13921 | D11: =SUM(B11:C11) -> 26421 | E11: =ROUND(D11*60%,-2) -> 15900 | F11: =ROUND(D11*40%,-2) -> 10600 | G11: =SUM(E11:F11) -> 26500
A12: 서울마포 | B12: 10500 | C12: =VLOOKUP(A12,'영업지원비 배정기준'!$A$6:$R$27,18,FALSE) -> 11576 | D12: =SUM(B12:C12) -> 22076 | E12: =ROUND(D12*60%,-2) -> 13200 | F12: =ROUND(D12*40%,-2) -> 8800 | G12: =SUM(E12:F12) -> 22000
A13: 서울관악 | B13: 8000 | C13: =VLOOKUP(A13,'영업지원비 배정기준'!$A$6:$R$27,18,FALSE) -> 7954 | D13: =SUM(B13:C13) -> 15954 | E13: =ROUND(D13*60%,-2) -> 9600 | F13: =ROUND(D13*40%,-2) -> 6400 | G13: =SUM(E13:F13) -> 16000
A14: 서울은평 | B14: 8000 | C14: =VLOOKUP(A14,'영업지원비 배정기준'!$A$6:$R$27,18,FALSE) -> 7321 | D14: =SUM(B14:C14) -> 15321 | E14: =ROUND(D14*60%,-2) -> 9200 | F14: =ROUND(D14*40%,-2) -> 6100 | G14: =SUM(E14:F14) -> 15300
A15: 여의도 | B15: 13500 | C15: =VLOOKUP(A15,'영업지원비 배정기준'!$A$6:$R$27,18,FALSE) -> 14665 | D15: =SUM(B15:C15) -> 28165 | E15: =ROUND(D15*60%,-2) -> 16900 | F15: =ROUND(D15*40%,-2) -> 11300 | G15: =SUM(E15:F15) -> 28200
A16: 서울강남 | B16: 19500 | C16: =VLOOKUP(A16,'영업지원비 배정기준'!$A$6:$R$27,18,FALSE) -> 18789 | D16: =SUM(B16:C16) -> 38289 | E16: =ROUND(D16*60%,-2) -> 23000 | F16: =ROUND(D16*40%,-2) -> 15300 | G16: =SUM(E16:F16) -> 38300
A17: 서울금천 | B17: 12000 | C17: =VLOOKUP(A17,'영업지원비 배정기준'!$A$6:$R$27,18,FALSE) -> 11418 | D17: =SUM(B17:C17) -> 23418 | E17: 14000 | F17: =ROUND(D17*40%,-2) -> 9400 | G17: =SUM(E17:F17) -> 23400
A18: 서울성북 | B18: 9000 | C18: =VLOOKUP(A18,'영업지원비 배정기준'!$A$6:$R$27,18,FALSE) -> 9843 | D18: =SUM(B18:C18) -> 18843 | E18: =ROUND(D18*60%,-2) -> 11300 | F18: =ROUND(D18*40%,-2) -> 7500 | G18: =SUM(E18:F18) -> 18800
A19: 서울강동 | B19: 8500 | C19: =VLOOKUP(A19,'영업지원비 배정기준'!$A$6:$R$27,18,FALSE) -> 9219 | D19: =SUM(B19:C19) -> 17719 | E19: =ROUND(D19*60%,-2) -> 10600 | F19: =ROUND(D19*40%,-2) -> 7100 | G19: =SUM(E19:F19) -> 17700
A20: 서울송파 | B20: 14000 | C20: =VLOOKUP(A20,'영업지원비 배정기준'!$A$6:$R$27,18,FALSE) -> 15250 | D20: =SUM(B20:C20) -> 29250 | E20: =ROUND(D20*60%,-2) -> 17600 | F20: =ROUND(D20*40%,-2) -> 11700 | G20: =SUM(E20:F20) -> 29300
A21: 서울양천 | B21: 8000 | C21: =VLOOKUP(A21,'영업지원비 배정기준'!$A$6:$R$27,18,FALSE) -> 9247 | D21: =SUM(B21:C21) -> 17247 | E21: =ROUND(D21*60%,-2) -> 10300 | F21: =ROUND(D21*40%,-2) -> 6900 | G21: =SUM(E21:F21) -> 17200
A22: 서울강서 | B22: 9000 | C22: =VLOOKUP(A22,'영업지원비 배정기준'!$A$6:$R$27,18,FALSE) -> 9296 | D22: =SUM(B22:C22) -> 18296 | E22: =ROUND(D22*60%,-2) -> 11000 | F22: =ROUND(D22*40%,-2) -> 7300 | G22: =SUM(E22:F22) -> 18300
A23: 서울동작 | B23: 7000 | C23: =VLOOKUP(A23,'영업지원비 배정기준'!$A$6:$R$27,18,FALSE) -> 7305 | D23: =SUM(B23:C23) -> 14305 | E23: =ROUND(D23*60%,-2) -> 8600 | F23: =ROUND(D23*40%,-2) -> 5700 | G23: =SUM(E23:F23) -> 14300
A24: 서울서초 | B24: 12000 | C24: =VLOOKUP(A24,'영업지원비 배정기준'!$A$6:$R$27,18,FALSE) -> 9641 | D24: =SUM(B24:C24) -> 21641 | E24: =ROUND(D24*60%,-2) -> 13000 | F24: =ROUND(D24*40%,-2) -> 8700 | G24: =SUM(E24:F24) -> 21700
A25: 서울용산 | B25: 12000 | C25: =VLOOKUP(A25,'영업지원비 배정기준'!$A$6:$R$27,18,FALSE) -> 12022 | D25: =SUM(B25:C25) -> 24022 | E25: =ROUND(D25*60%,-2) -> 14400 | F25: =ROUND(D25*40%,-2) -> 9600 | G25: =SUM(E25:F25) -> 24000
A26: 서울노원 | B26: 10500 | C26: =VLOOKUP(A26,'영업지원비 배정기준'!$A$6:$R$27,18,FALSE) -> 13437 | D26: =SUM(B26:C26) -> 23937 | E26: =ROUND(D26*60%,-2) -> 14400 | F26: =ROUND(D26*40%,-2) -> 9600 | G26: =SUM(E26:F26) -> 24000
A27: 서울중랑 | B27: 8000 | C27: =VLOOKUP(A27,'영업지원비 배정기준'!$A$6:$R$27,18,FALSE) -> 8035 | D27: =SUM(B27:C27) -> 16035 | E27: =ROUND(D27*60%,-2) -> 9600 | F27: =ROUND(D27*40%,-2) -> 6400 | G27: =SUM(E27:F27) -> 16000
A28: 합 계 | B28: =SUM(B6:B27) -> 244000 | C28: =SUM(C6:C27) -> 256000 | D28: =SUM(B28:C28) -> 500000 | E28: =SUM(E6:E27) -> 300000 | F28: =SUM(F6:F27) -> 200000 | G28: =SUM(E28:F28) -> 500000

Sheet 영업지원비 배정기준
A1: 예금사업 영업지원비 예산 배정기준 및 세부내역
A2: * 실적기준 : 2015.10월말 | S2: (단위 : 천원)
A3: 국 명 | B3: 관서수 대비 배정액 | G3: 사업실적 대비 배정액 | S3: 총 합계
B4: (4급 5백만원, 5급 2백만원, 6급 5십만원) | G4: 총수신고(20%) | I4: 요구불(30%) | K4: 체크카드(20%) | M4: 스마트금융(20%) | O4: 우수고객점수(10%) | Q4: 총 실적 점유비 | R4: 배정액
B5: 4급 | C5: 5급 | D5: 6급 | E5: 합계 | F5: 기본배정 | G5: 실적 | H5: 점유비 | I5: 실적 | J5: 점유비 | K5: 실적 | L5: 점유비 | M5: 실적 | N5: 점유비 | O5: 실적 | P5: 점유비
A6: 서울중앙 | B6: 1 | C6: 3 | D6: 6 | E6: =SUM(B6:D6) -> 10 | F6: =B6*5000+C6*2000+D6*500 -> 14000 | G6: 8362.2812 | H6: =G6/$G$28 -> 0.073419672 | I6: 808.49251 | J6: =I6/$I$28 -> 0.051355136 | K6: 151134.34 | L6: =K6/$K$28 -> 0.045750723 | M6: 11780 | N6: =M6/$M$28 -> 0.050356729 | O6: 6583 | P6: =O6/$O$28 -> 0.042783981 | Q6: =H6*20%+J6*30%+L6*20%+N6*20%+P6*10% -> 0.053590364 | R6: =ROUND(Q6*256000,0) -> 13719 | S6: =SUM(F6,R6) -> 27719
A7: 광화문 | B7: 1 | C7: 2 | D7: 10 | E7: =SUM(B7:D7) -> 13 | F7: =B7*5000+C7*2000+D7*500 -> 14000 | G7: 7075.5139 | H7: =G7/$G$28 -> 0.062122033 | I7: 1104.1934 | J7: =I7/$I$28 -> 0.070137944 | K7: 177733 | L7: =K7/$K$28 -> 0.053802553 | M7: 13821 | N7: =M7/$M$28 -> 0.059081524 | O7: 7245 | P7: =O7/$O$28 -> 0.047086426 | Q7: =H7*20%+J7*30%+L7*20%+N7*20%+P7*10% -> 0.060751248 | R7: =ROUND(Q7*256000,0) -> 15552 | S7: =SUM(F7,R7) -> 29552
A8: 서대문 | B8: 1 | C8: 1 | D8: 7 | E8: =SUM(B8:D8) -> 9 | F8: =B8*5000+C8*2000+D8*500 -> 10500 | G8: 3604.4252 | H8: =G8/$G$28 -> 0.031646355 | I8: 409.24529 | J8: =I8/$I$28 -> 0.025995105 | K8: 97479.873 | L8: =K8/$K$28 -> 0.029508679 | M8: 9484 | N8: =M8/$M$28 -> 0.040541869 | O8: 4824 | P8: =O8/$O$28 -> 0.031351956 | Q8: =H8*20%+J8*30%+L8*20%+N8*20%+P8*10% -> 0.031273108 | R8: =ROUND(Q8*256000,0) -> 8006 | S8: =SUM(F8,R8) -> 18506
A9: 동대문 | B9: 1 | C9: 1 | D9: 8 | E9: =SUM(B9:D9) -> 10 | F9: =B9*5000+C9*2000+D9*500 -> 11000 | G9: 4214.999 | H9: =G9/$G$28 -> 0.037007108 | I9: 656.65779 | J9: =I9/$I$28 -> 0.041710652 | K9: 154365.66 | L9: =K9/$K$28 -> 0.046728894 | M9: 12093 | N9: =M9/$M$28 -> 0.05169473 | O9: 7140 | P9: =O9/$O$28 -> 0.046404014 | Q9: =H9*20%+J9*30%+L9*20%+N9*20%+P9*10% -> 0.044239743 | R9: =ROUND(Q9*256000,0) -> 11325 | S9: =SUM(F9,R9) -> 22325
A10: 서울광진 | B10: 1 | C10: 1 | D10: 11 | E10: =SUM(B10:D10) -> 13 | F10: =B10*5000+C10*2000+D10*500 -> 12500 | G10: 6812.443 | H10: =G10/$G$28 -> 0.059812306 | I10: 1399.9682 | J10: =I10/$I$28 -> 0.088925445 | K10: 215991.32 | L10: =K10/$K$28 -> 0.065383945 | M10: 15829 | N10: =M10/$M$28 -> 0.067665252 | O10: 10547 | P10: =O10/$O$28 -> 0.068546657 | Q10: =H10*20%+J10*30%+L10*20%+N10*20%+P10*10% -> 0.0721046 | R10: =ROUND(Q10*256000,0) -> 18459 | S10: =SUM(F10,R10) -> 30959
A11: 서울도봉 | B11: 1 | C11: 1 | D11: 11 | E11: =SUM(B11:D11) -> 13 | F11: =B11*5000+C11*2000+D11*500 -> 12500 | G11: 5050.6385 | H11: =G11/$G$28 -> 0.044343907 | I11: 951.79161 | J11: =I11/$I$28 -> 0.06045744 | K11: 185412.41 | L11: =K11/$K$28 -> 0.056127231 | M11: 11573 | N11: =M11/$M$28 -> 0.049471853 | O11: 9620 | P11: =O11/$O$28 -> 0.062521935 | Q11: =H11*20%+J11*30%+L11*20%+N11*20%+P11*10% -> 0.054378024 | R11: =ROUND(Q11*256000,0) -> 13921 | S11: =SUM(F11,R11) -> 26421
A12: 서울마포 | B12: 1 | C12: 1 | D12: 7 | E12: =SUM(B12:D12) -> 9 | F12: =B12*5000+C12*2000+D12*500 -> 10500 | G12: 7953.1493 | H12: =G12/$G$28 -> 0.06982755 | I12: 642.49204 | J12: =I12/$I$28 -> 0.040810849 | K12: 116342.25 | L12: =K12/$K$28 -> 0.035218615 | M12: 9799 | N12: =M12/$M$28 -> 0.04188842 | O12: 5520 | P12: =O12/$O$28 -> 0.035875372 | Q12: =H12*20%+J12*30%+L12*20%+N12*20%+P12*10% -> 0.045217709 | R12: =ROUND(Q12*256000,0) -> 11576 | S12: =SUM(F12,R12) -> 22076
A13: 서울관악 | B13: 1 | C13: 0 | D13: 6 | E13: =SUM(B13:D13) -> 7 | F13: =B13*5000+C13*2000+D13*500 -> 8000 | G13: 2669.4366 | H13: =G13/$G$28 -> 0.023437284 | I13: 482.57132 | J13: =I13/$I$28 -> 0.030652746 | K13: 115689.08 | L13: =K13/$K$28 -> 0.035020892 | M13: 8149 | N13: =M13/$M$28 -> 0.034835058 | O13: 4947 | P13: =O13/$O$28 -> 0.032151352 | Q13: =H13*20%+J13*30%+L13*20%+N13*20%+P13*10% -> 0.031069606 | R13: =ROUND(Q13*256000,0) -> 7954 | S13: =SUM(F13,R13) -> 15954
A14: 서울은평 | B14: 1 | C14: 0 | D14: 6 | E14: =SUM(B14:D14) -> 7 | F14: =B14*5000+C14*2000+D14*500 -> 8000 | G14: 2863.0928 | H14: =G14/$G$28 -> 0.025137558 | I14: 446.30641 | J14: =I14/$I$28 -> 0.028349213 | K14: 107002.56 | L14: =K14/$K$28 -> 0.032391344 | M14: 6034 | N14: =M14/$M$28 -> 0.025793931 | O14: 5275 | P14: =O14/$O$28 -> 0.034283077 | Q14: =H14*20%+J14*30%+L14*20%+N14*20%+P14*10% -> 0.028597638 | R14: =ROUND(Q14*256000,0) -> 7321 | S14: =SUM(F14,R14) -> 15321
A15: 여의도 | B15: 1 | C15: 2 | D15: 9 | E15: =SUM(B15:D15) -> 12 | F15: =B15*5000+C15*2000+D15*500 -> 13500 | G15: 7161.8516 | H15: =G15/$G$28 -> 0.062880065 | I15: 833.98017 | J15: =I15/$I$28 -> 0.052974102 | K15: 199045.92 | L15: =K15/$K$28 -> 0.060254306 | M15: 12937 | N15: =M15/$M$28 -> 0.055302632 | O15: 8778 | P15: =O15/$O$28 -> 0.057049641 | Q15: =H15*20%+J15*30%+L15*20%+N15*20%+P15*10% -> 0.057284595 | R15: =ROUND(Q15*256000,0) -> 14665 | S15: =SUM(F15,R15) -> 28165
A16: 서울강남 | B16: 1 | C16: 5 | D16: 9 | E16: =SUM(B16:D16) -> 15 | F16: =B16*5000+C16*2000+D16*500 -> 19500 | G16: 13049.127 | H16: =G16/$G$28 -> 0.11456953 | I16: 907.76991 | J16: =I16/$I$28 -> 0.057661198 | K16: 215511.1 | L16: =K16/$K$28 -> 0.065238573 | M16: 15688 | N16: =M16/$M$28 -> 0.06706251 | O16: 10346 | P16: =O16/$O$28 -> 0.067240326 | Q16: =H16*20%+J16*30%+L16*20%+N16*20%+P16*10% -> 0.073396514 | R16: 18789 | S16: =SUM(F16,R16) -> 38289
A17: 서울금천 | B17: 1 | C17: 1 | D17: 10 | E17: =SUM(B17:D17) -> 12 | F17: =B17*5000+C17*2000+D17*500 -> 12000 | G17: 3842.8724 | H17: =G17/$G$28 -> 0.033739888 | I17: 695.49556 | J17: =I17/$I$28 -> 0.044177613 | K17: 169301.19 | L17: =K17/$K$28 -> 0.051250112 | M17: 11456 | N17: =M17/$M$28 -> 0.048971705 | O17: 7011 | P17: =O17/$O$28 -> 0.045565622 | Q17: =H17*20%+J17*30%+L17*20%+N17*20%+P17*10% -> 0.044602187 | R17: =ROUND(Q17*256000,0) -> 11418 | S17: =SUM(F17,R17) -> 23418
A18: 서울성북 | B18: 1 | C18: 0 | D18: 8 | E18: =SUM(B18:D18) -> 9 | F18: =B18*5000+C18*2000+D18*500 -> 9000 | G18: 4397.7774 | H18: =G18/$G$28 -> 0.038611876 | I18: 622.78433 | J18: =I18/$I$28 -> 0.039559023 | K18: 110694.83 | L18: =K18/$K$28 -> 0.033509053 | M18: 9635 | N18: =M18/$M$28 -> 0.041187359 | O18: 6035 | P18: =O18/$O$28 -> 0.03922244 | Q18: =H18*20%+J18*30%+L18*20%+N18*20%+P18*10% -> 0.038451609 | R18: 9843 | S18: =SUM(F18,R18) -> 18843
A19: 서울강동 | B19: 1 | C19: 0 | D19: 7 | E19: =SUM(B19:D19) -> 8 | F19: =B19*5000+C19*2000+D19*500 -> 8500 | G19: 3416.4793 | H19: =G19/$G$28 -> 0.029996215 | I19: 563.85269 | J19: =I19/$I$28 -> 0.035815708 | K19: 141889.33 | L19: =K19/$K$28 -> 0.042952115 | M19: 7779 | N19: =M19/$M$28 -> 0.033253395 | O19: 6194 | P19: =O19/$O$28 -> 0.040255807 | Q19: =H19*20%+J19*30%+L19*20%+N19*20%+P19*10% -> 0.036010638 | R19: =ROUND(Q19*256000,0) -> 9219 | S19: =SUM(F19,R19) -> 17719
A20: 서울송파 | B20: 1 | C20: 1 | D20: 14 | E20: =SUM(B20:D20) -> 16 | F20: =B20*5000+C20*2000+D20*500 -> 14000 | G20: 6050.7635 | H20: =G20/$G$28 -> 0.053124866 | I20: 1033.9638 | J20: =I20/$I$28 -> 0.065676988 | K20: 190234.27 | L20: =K20/$K$28 -> 0.057586883 | M20: 12709 | N20: =M20/$M$28 -> 0.054327986 | O20: 10556 | P20: =O20/$O$28 -> 0.06860515 | Q20: =H20*20%+J20*30%+L20*20%+N20*20%+P20*10% -> 0.059571558 | R20: =ROUND(Q20*256000,0) -> 15250 | S20: =SUM(F20,R20) -> 29250
A21: 서울양천 | B21: 1 | C21: 0 | D21: 6 | E21: =SUM(B21:D21) -> 7 | F21: =B21*5000+C21*2000+D21*500 -> 8000 | G21: 3789.1034 | H21: =G21/$G$28 -> 0.033267803 | I21: 538.43741 | J21: =I21/$I$28 -> 0.034201339 | K21: 148985.81 | L21: =K21/$K$28 -> 0.045100329 | M21: 7189 | N21: =M21/$M$28 -> 0.030731284 | O21: 6215 | P21: =O21/$O$28 -> 0.040392289 | Q21: =H21*20%+J21*30%+L21*20%+N21*20%+P21*10% -> 0.036119514 | R21: =ROUND(Q21*256000,0) -> 9247 | S21: =SUM(F21,R21) -> 17247
A22: 서울강서 | B22: 1 | C22: 0 | D22: 8 | E22: =SUM(B22:D22) -> 9 | F22: =B22*5000+C22*2000+D22*500 -> 9000 | G22: 3535.4469 | H22: =G22/$G$28 -> 0.031040735 | I22: 576.59763 | J22: =I22/$I$28 -> 0.036625262 | K22: 131247.41 | L22: =K22/$K$28 -> 0.039730641 | M22: 8757 | N22: =M22/$M$28 -> 0.037434115 | O22: 5667 | P22: =O22/$O$28 -> 0.036830749 | Q22: =H22*20%+J22*30%+L22*20%+N22*20%+P22*10% -> 0.036311751 | R22: =ROUND(Q22*256000,0) -> 9296 | S22: =SUM(F22,R22) -> 18296
A23: 서울동작 | B23: 1 | C23: 0 | D23: 4 | E23: =SUM(B23:D23) -> 5 | F23: =B23*5000+C23*2000+D23*500 -> 7000 | G23: 2857.4837 | H23: =G23/$G$28 -> 0.025088312 | I23: 427.68913 | J23: =I23/$I$28 -> 0.02716665 | K23: 93221.775 | L23: =K23/$K$28 -> 0.028219687 | M23: 7966 | N23: =M23/$M$28 -> 0.034052776 | O23: 4482 | P23: =O23/$O$28 -> 0.029129242 | Q23: =H23*20%+J23*30%+L23*20%+N23*20%+P23*10% -> 0.028535074 | R23: =ROUND(Q23*256000,0) -> 7305 | S23: =SUM(F23,R23) -> 14305
A24: 서울서초 | B24: 1 | C24: 2 | D24: 6 | E24: =SUM(B24:D24) -> 9 | F24: =B24*5000+C24*2000+D24*500 -> 12000 | G24: 4412.4988 | H24: =G24/$G$28 -> 0.038741129 | I24: 578.30248 | J24: =I24/$I$28 -> 0.036733553 | K24: 124678.4 | L24: =K24/$K$28 -> 0.037742097 | M24: 8964 | N24: =M24/$M$28 -> 0.038318991 | O24: 5660 | P24: =O24/$O$28 -> 0.036785255 | Q24: =H24*20%+J24*30%+L24*20%+N24*20%+P24*10% -> 0.037659035 | R24: =ROUND(Q24*256000,0) -> 9641 | S24: =SUM(F24,R24) -> 21641
A25: 서울용산 | B25: 1 | C25: 1 | D25: 10 | E25: =SUM(B25:D25) -> 12 | F25: =B25*5000+C25*2000+D25*500 -> 12000 | G25: 5325.0221 | H25: =G25/$G$28 -> 0.046752957 | I25: 713.60283 | J25: =I25/$I$28 -> 0.045327779 | K25: 160450.97 | L25: =K25/$K$28 -> 0.048571013 | M25: 11189 | N25: =M25/$M$28 -> 0.047830343 | O25: 7282 | P25: =O25/$O$28 -> 0.047326895 | Q25: =H25*20%+J25*30%+L25*20%+N25*20%+P25*10% -> 0.046961886 | R25: =ROUND(Q25*256000,0) -> 12022 | S25: =SUM(F25,R25) -> 24022
A26: 서울노원 | B26: 1 | C26: 0 | D26: 11 | E26: =SUM(B26:D26) -> 12 | F26: =B26*5000+C26*2000+D26*500 -> 10500 | G26: 4513.9711 | H26: =G26/$G$28 -> 0.039632042 | I26: 816.24365 | J26: =I26/$I$28 -> 0.051847485 | K26: 188711.4 | L26: =K26/$K$28 -> 0.057125886 | M26: 14183 | N26: =M26/$M$28 -> 0.060628989 | O26: 8394 | P26: =O26/$O$28 -> 0.054553963 | Q26: =H26*20%+J26*30%+L26*20%+N26*20%+P26*10% -> 0.052487025 | R26: =ROUND(Q26*256000,0) -> 13437 | S26: =SUM(F26,R26) -> 23937
A27: 서울중랑 | B27: 1 | C27: 0 | D27: 6 | E27: =SUM(B27:D27) -> 7 | F27: =B27*5000+C27*2000+D27*500 -> 8000 | G27: 2938.6354 | H27: =G27/$G$28 -> 0.025800812 | I27: 532.72945 | J27: =I27/$I$28 -> 0.033838771 | K27: 108307.69 | L27: =K27/$K$28 -> 0.032786428 | M27: 6917 | N27: =M27/$M$28 -> 0.029568548 | O27: 5545 | P27: =O27/$O$28 -> 0.036037851 | Q27: =H27*20%+J27*30%+L27*20%+N27*20%+P27*10% -> 0.031386574 | R27: =ROUND(Q27*256000,0) -> 8035 | S27: =SUM(F27,R27) -> 16035
A28: 합 계 | B28: =SUM(B6:B27) -> 22 | C28: =SUM(C6:C27) -> 22 | D28: =SUM(D6:D27) -> 180 | E28: =SUM(E6:E27) -> 224 | F28: =B28*5000+C28*2000+D28*500 -> 244000 | G28: =SUM(G6:G27) -> 113897.01 | H28: =SUM(H6:H27) -> 1 | I28: =SUM(I6:I27) -> 15743.168 | J28: =SUM(J6:J27) -> 1 | K28: =SUM(K6:K27) -> 3303430.6 | L28: =SUM(L6:L27) -> 1 | M28: =SUM(M6:M27) -> 233931 | N28: =SUM(N6:N27) -> 1 | ... P28: =SUM(P6:P27) -> 1 | Q28: =H28*20%+J28*30%+L28*20%+N28*20%+P28*10% -> 1 | R28: =SUM(R6:R27) -> 256000 | S28: =SUM(F28,R28) -> 500000

Sheet 사업운영비
A1: 예금사업운영비 예산배정내역
R2: (단위 : 천원)
A3: 국 명 | B3: 관서규모 | F3: 210-02 (공공요금및제세) | G3: 210-09 (시설장비유지비) | H3: 210-16 (기타운영비) | I3: 240-01(업무추진비) | L3: 220-01(국내여비)
L4: 배정기준 | P4: 예산과목별 배정
B5: 4급 | C5: 5급 | D5: 6급 | E5: 소계 | F5: 5231-361- | G5: 5231-361- | H5: 5231-361- | I5: 5231-361- | J5: 5231-366- | K5: 소계 | L5: 기본배정 | M5: 관서규모 | N5: 소계 | O5: 점유비 | P5: 5231-361- | Q5: 5231-366- | R5: 소계
A6: 서울중앙 | B6: 1 | C6: 3 | D6: 6 | E6: =SUM(B6:D6) -> 10 | F6: =B6*500+C6*250+D6*150 -> 2150 | G6: 2400 | H6: 2700 | I6: 600 | J6: 150 | K6: =SUM(I6:J6) -> 750 | L6: 1000 | M6: =ROUND(B6*400+C6*150+D6*70,0) -> 1270 | N6: =SUM(L6:M6) -> 2270 | O6: =N6/$N$28 -> 0.048608137 | P6: =R6-Q6 -> 1578 | Q6: =ROUND(14244*O6,0) -> 692 | R6: =N6 -> 2270
A7: 광화문 | B7: 1 | C7: 2 | D7: 10 | E7: =SUM(B7:D7) -> 13 | F7: =B7*500+C7*250+D7*150 -> 2500 | G7: 1100 | H7: 2700 | I7: =K7-J7 -> 615 | J7: 135 | K7: 750 | L7: 1000 | M7: =ROUND(B7*400+C7*150+D7*70,0) -> 1400 | N7: =SUM(L7:M7) -> 2400 | O7: =N7/$N$28 -> 0.051391863 | P7: =R7-Q7 -> 1668 | Q7: =ROUND(14244*O7,0) -> 732 | R7: =N7 -> 2400
A8: 서대문 | B8: 1 | C8: 1 | D8: 7 | E8: =SUM(B8:D8) -> 9 | F8: =B8*500+C8*250+D8*150 -> 1800 | G8: 1900 | H8: 2700 | I8: =K8-J8 -> 615 | J8: 135 | K8: 750 | L8: 1000 | M8: =ROUND(B8*400+C8*150+D8*70,0) -> 1040 | N8: =SUM(L8:M8) -> 2040 | O8: =N8/$N$28 -> 0.043683084 | P8: =R8-Q8 -> 1418 | Q8: =ROUND(14244*O8,0) -> 622 | R8: =N8 -> 2040
A9: 동대문 | B9: 1 | C9: 1 | D9: 8 | E9: =SUM(B9:D9) -> 10 | F9: =B9*500+C9*250+D9*150 -> 1950 | G9: 1400 | H9: 2700 | I9: =K9-J9 -> 615 | J9: 135 | K9: 750 | L9: 1000 | M9: =ROUND(B9*400+C9*150+D9*70,0) -> 1110 | N9: =SUM(L9:M9) -> 2110 | O9: =N9/$N$28 -> 0.045182013 | P9: =R9-Q9 -> 1466 | Q9: =ROUND(14244*O9,0) -> 644 | R9: =N9 -> 2110
A10: 서울광진 | B10: 1 | C10: 1 | D10: 11 | E10: =SUM(B10:D10) -> 13 | F10: =B10*500+C10*250+D10*150 -> 2400 | G10: 2300 | H10: 2700 | I10: =K10-J10 -> 615 | J10: 135 | K10: 750 | L10: 1000 | M10: =ROUND(B10*400+C10*150+D10*70,0) -> 1320 | N10: =SUM(L10:M10) -> 2320 | O10: =N10/$N$28 -> 0.049678801 | P10: =R10-Q10 -> 1612 | Q10: =ROUND(14244*O10,0) -> 708 | R10: =N10 -> 2320
A11: 서울도봉 | B11: 1 | C11: 1 | D11: 11 | E11: =SUM(B11:D11) -> 13 | F11: =B11*500+C11*250+D11*150 -> 2400 | G11: 2000 | H11: 2700 | I11: =K11-J11 -> 615 | J11: 135 | K11: 750 | L11: 1000 | M11: =ROUND(B11*400+C11*150+D11*70,0) -> 1320 | N11: =SUM(L11:M11) -> 2320 | O11: =N11/$N$28 -> 0.049678801 | P11: =R11-Q11 -> 1612 | Q11: =ROUND(14244*O11,0) -> 708 | R11: =N11 -> 2320
A12: 서울마포 | B12: 1 | C12: 1 | D12: 7 | E12: =SUM(B12:D12) -> 9 | F12: =B12*500+C12*250+D12*150 -> 1800 | G12: 1300 | H12: 2700 | I12: =K12-J12 -> 615 | J12: 135 | K12: 750 | L12: 1000 | M12: =ROUND(B12*400+C12*150+D12*70,0) -> 1040 | N12: =SUM(L12:M12) -> 2040 | O12: =N12/$N$28 -> 0.043683084 | P12: =R12-Q12 -> 1418 | Q12: =ROUND(14244*O12,0) -> 622 | R12: =N12 -> 2040
A13: 서울관악 | B13: 1 | C13: 0 | D13: 6 | E13: =SUM(B13:D13) -> 7 | F13: =B13*500+C13*250+D13*150 -> 1400 | G13: 400 | H13: 2700 | I13: =K13-J13 -> 615 | J13: 135 | K13: 750 | L13: 1000 | M13: =ROUND(B13*400+C13*150+D13*70,0) -> 820 | N13: =SUM(L13:M13) -> 1820 | O13: =N13/$N$28 -> 0.038972163 | P13: =R13-Q13 -> 1265 | Q13: =ROUND(14244*O13,0) -> 555 | R13: =N13 -> 1820
A14: 서울은평 | B14: 1 | C14: 0 | D14: 6 | E14: =SUM(B14:D14) -> 7 | F14: =B14*500+C14*250+D14*150 -> 1400 | G14: 1000 | H14: 2700 | I14: =K14-J14 -> 615 | J14: 135 | K14: 750 | L14: 1000 | M14: =ROUND(B14*400+C14*150+D14*70,0) -> 820 | N14: =SUM(L14:M14) -> 1820 | O14: =N14/$N$28 -> 0.038972163 | P14: =R14-Q14 -> 1265 | Q14: =ROUND(14244*O14,0) -> 555 | R14: =N14 -> 1820
A15: 여의도 | B15: 1 | C15: 2 | D15: 9 | E15: =SUM(B15:D15) -> 12 | F15: =B15*500+C15*250+D15*150 -> 2350 | G15: 1100 | H15: 2700 | I15: =K15-J15 -> 615 | J15: 135 | K15: 750 | L15: 1000 | M15: =ROUND(B15*400+C15*150+D15*70,0) -> 1330 | N15: =SUM(L15:M15) -> 2330 | O15: =N15/$N$28 -> 0.049892934 | P15: =R15-Q15 -> 1619 | Q15: =ROUND(14244*O15,0) -> 711 | R15: =N15 -> 2330
A16: 서울강남 | B16: 1 | C16: 5 | D16: 9 | E16: =SUM(B16:D16) -> 15 | F16: =B16*500+C16*250+D16*150 -> 3100 | G16: 2600 | H16: 2700 | I16: =K16-J16 -> 615 | J16: 135 | K16: 750 | L16: 1000 | M16: =ROUND(B16*400+C16*150+D16*70,0) -> 1780 | N16: =SUM(L16:M16) -> 2780 | O16: =N16/$N$28 -> 0.059528908 | P16: =R16-Q16 -> 1932 | Q16: =ROUND(14244*O16,0) -> 848 | R16: =N16 -> 2780
A17: 서울금천 | B17: 1 | C17: 1 | D17: 10 | E17: =SUM(B17:D17) -> 12 | F17: =B17*500+C17*250+D17*150 -> 2250 | G17: 1300 | H17: 2700 | I17: =K17-J17 -> 615 | J17: 135 | K17: 750 | L17: 1000 | M17: =ROUND(B17*400+C17*150+D17*70,0) -> 1250 | N17: =SUM(L17:M17) -> 2250 | O17: =N17/$N$28 -> 0.048179872 | P17: =R17-Q17 -> 1564 | Q17: =ROUND(14244*O17,0) -> 686 | R17: =N17 -> 2250
A18: 서울성북 | B18: 1 | C18: 0 | D18: 8 | E18: =SUM(B18:D18) -> 9 | F18: =B18*500+C18*250+D18*150 -> 1700 | G18: 400 | H18: 2700 | I18: =K18-J18 -> 615 | J18: 135 | K18: 750 | L18: 1000 | M18: =ROUND(B18*400+C18*150+D18*70,0) -> 960 | N18: =SUM(L18:M18) -> 1960 | O18: =N18/$N$28 -> 0.041970021 | P18: =R18-Q18 -> 1362 | Q18: =ROUND(14244*O18,0) -> 598 | R18: =N18 -> 1960
... A27: 서울중랑 | B27: 1 | C27: 0 | D27: 6 | E27: =SUM(B27:D27) -> 7 | F27: =B27*500+C27*250+D27*150 -> 1400 | G27: 1000 | H27: 2700 | I27: =K27-J27 -> 615 | J27: 135 | K27: 750 | L27: 1000 | M27: =ROUND(B27*400+C27*150+D27*70,0) -> 820 | N27: =SUM(L27:M27) -> 1820 | O27: =N27/$N$28 -> 0.038972163 | P27: =R27-Q27 -> 1265 | Q27: =ROUND(14244*O27,0) -> 555 | R27: =N27 -> 1820
A28: 합 계 | B28: =SUM(B6:B27) -> 22 | C28: =SUM(C6:C27) -> 22 | D28: =SUM(D6:D27) -> 180 | E28: =SUM(E6:E27) -> 224 | F28: =SUM(F6:F27) -> 43500 | G28: =SUM(G6:G27) -> 29000 | H28: =SUM(H6:H27) -> 59400 | I28: =SUM(I6:I27) -> 13515 | ... R28: =SUM(R6:R27) -> 46700
A30: * (공공요금및제세) 4급국 500천원, 5급국 250천원, 6급국 150천원
A31: * (시설장비유지비) 금융BI 교체 대상관서 배정(365코너 간판 600천원, 365 내부 및 우체국 내 교체 400천원, 우체국 내 교체 300천원)
A32: * (기타운영비-홍보비) 우체국별 2,700천원 기본 배정
A33: * (국내여비) 기본배정 국별 1,000천원, 관서규모별 4급국 400천원, 5급국 150천원, 6급국 70천원

Sheet 금융BI 교체 관련 배정내역
A1: 우체국 금융BI 교체 관련 예산 배정내역
N2: (단위 : 천원)
A3: 총괄국명 | B3: 소속국명 | C3: 급수 | D3: 배정사유 | J3: 예산배정액(5231-361-210-09) | N3: 비 고
D4: 365코너 간판 BI | E4: 365내부및 우체국 내 | F4: 365코너 간판 BI | G4: 365코너 및 우체국 내 금융 BI | H4: 합계 | I4: 우체국 내 | J4: 365코너 간판 BI | K4: 365내부및 우체국 내 | L4: 우체국 내 | M4: 합계
A5: 서울중앙 | B5: 서울을지로4가 | C5: 5급 | D5: Ο | E5: Ο | F5: Ο | G5: Ο | H5: Ο | J5: 600 | K5: 400 | L5: - | M5: =SUM(J5:L5) -> 1000
A6: 서울중앙 | B6: 서울태평로 | C6: 5급 | D6: Ο | E6: Ο | F6: Ο | G6: Ο | H6: Ο | J6: 600 | K6: 400 | L6: - | M6: =SUM(J6:L6) -> 1000
A7: 서울중앙 | B7: 서울충무로2가 | C7: 5급 | D7: - | E7: Ο | G7: Ο | H7: Ο | J7: - | K7: 400 | L7: - | M7: =SUM(J7:L7) -> 400
A8: 광화문 | B8: 광화문 | C8: 4급 | D8: - | E8: Ο | F8: - | G8: Ο | H8: Ο | J8: - | K8: 400 | L8: - | M8: =SUM(J8:L8) -> 400
A9: 광화문 | B9: 서울종로2가 | C9: 5급 | D9: - | E9: - | F9: - | G9: - | H9: - | I9: Ο | J9: - | K9: - | L9: 300 | M9: =SUM(J9:L9) -> 300
A10: 광화문 | B10: 서울종로5가 | C10: 5급 | D10: - | E10: Ο | F10: - | G10: Ο | H10: Ο | J10: - | K10: 400 | L10: - | M10: =SUM(J10:L10) -> 400
A11: 서대문 | B11: 서대문 | C11: 4급 | D11: Ο | E11: Ο | F11: Ο | G11: Ο | H11: Ο | J11: 600 | K11: 400 | L11: - | M11: =SUM(J11:L11) -> 1000
A12: 서대문 | B12: 서울충정로 | C12: 5급 | D12: Ο | E12: - | F12: Ο | G12: - | H12: - | I12: Ο | J12: 600 | L12: 300 | M12: =SUM(J12:L12) -> 900 | N12: 돌출 간판 금융BI 교체 필요
A13: 동대문 | B13: 동대문 | C13: 4급 | D13: - | E13: Ο | F13: - | G13: Ο | H13: Ο | J13: - | K13: 400 | L13: - | M13: =SUM(J13:L13) -> 400
A14: 동대문 | B14: 서울청량리 | C14: 5급 | D14: Ο | E14: Ο | F14: Ο | G14: Ο | H14: Ο | J14: 600 | K14: 400 | L14: - | M14: =SUM(J14:L14) -> 1000
A15: 서울광진 | B15: 서울광진 | C15: 4급 | D15: Ο(2) | E15: Ο(2) | F15: Ο | G15: Ο | H15: Ο | J15: 1200 | K15: 800 | L15: - | M15: =SUM(J15:L15) -> 2000
A16: 서울광진 | B16: 서울성동 | C16: 5급 | D16: - | E16: - | I16: Ο | J16: - | K16: - | L16: 300 | M16: =SUM(J16:L16) -> 300 | N16: 365코너 없음
A17: 서울도봉 | B17: 서울도봉 | C17: 4급 | D17: Ο | E17: Ο | F17: Ο | G17: Ο | H17: Ο | J17: 600 | K17: 400 | L17: - | M17: =SUM(J17:L17) -> 1000
A18: 서울도봉 | B18: 서울강북 | C18: 5급 | D18: Ο | E18: Ο | F18: Ο | G18: Ο | H18: Ο | J18: 600 | K18: 400 | L18: - | M18: =SUM(J18:L18) -> 1000
A19: 서울마포 | B19: 서울마포 | C19: 4급 | D19: - | E19: - | I19: Ο | J19: - | K19: - | L19: 300 | M19: =SUM(J19:L19) -> 300 | N19: 365코너 없음
A20: 서울마포 | B20: 서울서교동 | C20: 5급 | D20: Ο | E20: Ο | F20: Ο | G20: Ο | H20: Ο | J20: 600 | K20: 400 | L20: - | M20: =SUM(J20:L20) -> 1000
A21: 서울관악 | B21: 서울관악 | C21: 4급 | D21: - | E21: Ο | G21: Ο | H21: Ο | J21: - | K21: 400 | L21: - | M21: =SUM(J21:L21) -> 400
A22: 서울은평 | B22: 서울은평 | C22: 4급 | D22: Ο | E22: Ο | F22: Ο | G22: Ο | H22: Ο | J22: 600 | K22: 400 | L22: - | M22: =SUM(J22:L22) -> 1000
A23: 여의도 | B23: 여의도 | C23: 4급 | D23: - | E23: Ο | G23: Ο | H23: Ο | J23: - | K23: 400 | L23: - | M23: =SUM(J23:L23) -> 400
A24: 여의도 | B24: 영등포 | C24: 5급 | D24: - | E24: Ο | G24: Ο | H24: Ο | J24: - | K24: 400 | L24: - | M24: =SUM(J24:L24) -> 400
A25: 여의도 | B25: 서울여의도광장 | C25: 5급 | D25: - | E25: - | I25: Ο | J25: - | K25: - | L25: 300 | M25: =SUM(J25:L25) -> 300 | N25: 365코너 없음
A26: 서울강남 | B26: 서울강남 | C26: 4급 | D26: Ο | E26: Ο | F26: Ο | G26: Ο | H26: Ο | J26: 600 | K26: 400 | L26: - | M26: =SUM(J26:L26) -> 1000
A27: 서울강남 | B27: 서울무역센터 | C27: 5급 | D27: - | E27: Ο | G27: Ο | H27: Ο | J27: - | K27: 400 | L27: - | M27: =SUM(J27:L27) -> 400
A28: 서울강남 | B28: 서울상록회관 | C28: 5급 | D28: - | E28: - | I28: Ο | J28: - | K28: - | L28: 300 | M28: =SUM(J28:L28) -> 300 | N28: 365코너 없음
A29: 서울강남 | B29: 서울역삼1동 | C29: 5급 | D29: - | E29: - | I29: Ο | J29: - | K29: - | L29: 300 | M29: =SUM(J29:L29) -> 300 | N29: 365코너 없음
A30: 서울강남 | B30: 서울역삼동 | C30: 5급 | D30: - | E30: - | I30: Ο | J30: - | K30: - | L30: 300 | M30: =SUM(J30:L30) -> 300 | N30: 365코너 없음
A31: 서울강남 | B31: 서울영동 | C31: 5급 | D31: - | E31: - | I31: Ο | J31: - | K31: - | L31: 300 | M31: =SUM(J31:L31) -> 300 | N31: 365코너 없음
A32: 서울금천 | B32: 서울금천 | C32: 4급 | D32: Ο | E32: Ο | F32: Ο | G32: Ο | H32: Ο | J32: 600 | K32: 400 | L32: - | M32: =SUM(J32:L32) -> 1000
A33: 서울금천 | B33: 구로디지털단지 | C33: 5급 | D33: - | E33: - | I33: Ο | J33: - | K33: - | L33: 300 | M33: =SUM(J33:L33) -> 300 | N33: 365코너 없음
A34: 서울성북 | B34: 서울성북 | C34: 4급 | D34: - | E34: Ο | G34: Ο | H34: Ο | J34: - | K34: 400 | L34: - | M34: =SUM(J34:L34) -> 400
A35: 서울강동 | B35: 서울강동 | C35: 4급 | D35: Ο | E35: Ο | F35: Ο | G35: Ο | H35: Ο | J35: 600 | K35: 400 | L35: - | M35: =SUM(J35:L35) -> 1000
A36: 서울송파 | B36: 서울송파 | C36: 4급 | D36: - | E36: Ο | G36: Ο | H36: Ο | J36: - | K36: 400 | L36: - | M36: =SUM(J36:L36) -> 400
A37: 서울송파 | B37: 서울잠실2동 | C37: 5급 | D37: Ο | E37: Ο | F37: Ο | G37: Ο | H37: Ο | J37: 600 | K37: 400 | L37: - | M37: =SUM(J37:L37) -> 1000
A38: 서울양천 | B38: 서울양천 | C38: 4급 | D38: Ο | E38: Ο | F38: Ο | G38: Ο | H38: Ο | J38: 600 | K38: 400 | L38: - | M38: =SUM(J38:L38) -> 1000
A39: 서울강서 | B39: 서울강서 | C39: 4급 | D39: - | E39: Ο | G39: Ο | H39: Ο | J39: - | K39: 400 | L39: - | M39: =SUM(J39:L39) -> 400
A40: 서울동작 | B40: 서울동작 | C40: 4급 | D40: Ο | E40: Ο | F40: Ο | G40: Ο | H40: Ο | J40: 600 | K40: 400 | L40: - | M40: =SUM(J40:L40) -> 1000
...
