Workbook
Name 범위: #REF!

Sheet 원가계산서
A1: 공 사 원 가 계 산 서
A3: 공사명 [우정공무원교육원 냉수배관 보온재 교체 공사 및 지지대 도색공사 내역]
D4: 금 액 | E4: 구 성 비 (%) | F4: 비 고
A5: 순 공 사 원 가 | B5: 재료비 | C5: 직 접 재 료 비 | D5: =집계표!E30 -> 17395225
C6: 작업설 · 부산물등
C7: [소 계] | D7: =SUM(D5:D6) -> 17395225
B8: 노무비 | C8: 직 접 노 무 비 | D8: =집계표!G30 -> 18539485
C9: 간 접 노 무 비
C10: [소 계] | D10: =SUM(D8:D9) -> 18539485
B11: 경 비 | C11: 운 반 비
C12: 기 계 경 비
C13: 산 재 보 험 료 | D13: =D10*0.037 -> 685960.94 | E13: 노무비*3.7%
C14: 고 용 보 험 료 | D14: =D10*0.0079 -> 146461.93 | E14: 노무비*0.79%
C15: 건 강 보 험 료
C16: 연 금 보 험 료
C17: 퇴직 공제 부금비
C18: 안 전 관 리 비 | D18: =(D7+D10)*2.93% -> 1052887 | E18: (재료비+직접노무비+관급자재)*2.93%
C19: 기 타 경 비 | D19: =집계표!I30 -> 1220000
C20: 환 경 보 전 비
C21: 건설하도급대금지급보증서수수료
C22: [소 계] | D22: =SUM(D12:D21) -> 3105309.9
A23: 계 | D23: =INT(D7+D10+D22) -> 39040020
A24: 일 반 관 리 비 | D24: =D23/100*3 -> 1171200.6 | E24: (재료비+노무비+경비)*3%
A25: 이 윤 | D25: =(D10+D22+D24)/100*5 -> 1140799.8 | E25: (노무비+경비+일반관리비)*5%
A26: 공 급 가 액 | D26: =SUM(D23:D25) -> 41352020
A27: 부 가 가 치 세 | D27: =INT(D26*10%) -> 4135202 | E27: 공급가액의 10%
A28: 도 급 액 | D28: =ROUNDDOWN(SUM(D26+D27),-2) -> 45487200
A29: 관 급 공 사
A30: 총 공 사 비 | D30: =ROUNDDOWN(SUM(D28+D29),-2) -> 45487200

Sheet 집계표
A1: 집 계 표
A2: =원가계산서!A3 -> 공사명 [우정공무원교육원 냉수배관 보온재 교체 공사 및 지지대 도색공사 내역]
A3: 품 명 | B3: 수량 | C3: 단위 | D3: 재 료 비 | F3: 노 무 비 | H3: 경 비
D4: 단가 | E4: 금액 | F4: 단가 | G4: 금액 | H4: 단가 | I4: 금액 | J4: 금액
A5: =내역서!A5 -> 1.보온 공사 | B5: 1 | C5: 건 | D5: =내역서!F14 -> 16198866 | E5: =B5*D5 -> 16198866 | F5: =내역서!H14 -> 10110099 | G5: =B5*F5 -> 10110099 | H5: =내역서!J14 -> 0 | I5: =B5*H5 -> 0 | J5: =SUM(E5,G5,I5) -> 26308965
A6: =내역서!A15 -> 2. 보온 철거 공사 | B6: 1 | C6: 건 | E6: =B6*D6 -> 0 | F6: =내역서!H18 -> 4044039.6 | G6: =B6*F6 -> 4044039.6 | H6: =내역서!J18 -> 1220000 | I6: =B6*H6 -> 1220000 | J6: =SUM(E6,G6,I6) -> 5264039.6
A7: =내역서!A19 -> 3.배관지지대 도색 | B7: 1 | C7: 건 | D7: =내역서!F30 -> 1196358.9 | E7: =B7*D7 -> 1196358.9 | F7: =내역서!H30 -> 4385346.5 | G7: =B7*F7 -> 4385346.5 | H7: =내역서!J30 -> 0 | I7: =B7*H7 -> 0 | J7: =SUM(E7,G7,I7) -> 5581705.4
A30: 합 계 | E30: =SUM(E5:E29) -> 17395225 | G30: =SUM(G5:G29) -> 18539485 | I30: =SUM(I5:I29) -> 1220000 | J30: =SUM(E30,G30,I30) -> 37154710
A31: End Of File | G31: =SUM(G5:G30) -> 37078970 | I31: =SUM(I30) -> 1220000

Sheet 내역서
A1: 내 역 서
A2: =원가계산서!A3 -> 공사명 [우정공무원교육원 냉수배관 보온재 교체 공사 및 지지대 도색공사 내역]
A3: 품 명 | B3: 규 격 | C3: 수량 | D3: 단위 | E3: 재 료 비 | G3: 노 무 비 | I3: 경 비 | K3: 소 계
E4: 단 가 | F4: 금 액 | G4: 단 가 | H4: 금 액 | I4: 단 가 | J4: 금 액 | K4: 금 액
A5: 1.보온 공사
A6: 관보온 | B6: 고무발포보온재 50A*32T | C6: 70 | D6: m | E6: =일위대가표!F5 -> 12736.2 | F6: =C6*E6 -> 891534 | G6: =일위대가표!H5 -> 11217.58 | H6: =C6*G6 -> 785230.6 | J6: =C6*I6 -> 0 | K6: =SUM(F6,H6,J6) -> 1676764.6
A7: 관보온 | B7: 고무발포보온재 65A*32T | C7: 77 | D7: m | E7: =일위대가표!F10 -> 15794.7 | F7: =C7*E7 -> 1216191.9 | G7: =일위대가표!H10 -> 13257.14 | H7: =C7*G7 -> 1020799.8 | J7: =C7*I7 -> 0 | K7: =SUM(F7,H7,J7) -> 2236991.7
A8: 관보온 | B8: 고무발포보온재 80A*40T | C8: 152 | D8: m | E8: =일위대가표!F15 -> 20470.7 | F8: =C8*E8 -> 3111546.4 | G8: =일위대가표!H15 -> 14276.92 | H8: =C8*G8 -> 2170091.8 | J8: =C8*I8 -> 0 | K8: =SUM(F8,H8,J8) -> 5281638.2
A9: 관보온 | B9: 고무발포보온재 100A*40T | C9: 155 | D9: m | E9: =일위대가표!F20 -> 26643.6 | F9: =C9*E9 -> 4129758 | G9: =일위대가표!H20 -> 17336.26 | H9: =C9*G9 -> 2687120.3 | J9: =C9*I9 -> 0 | K9: =SUM(F9,H9,J9) -> 6816878.3
A10: 관보온 | B10: 고무발포보온재 125A*50T | C10: 130 | D10: m | E10: =일위대가표!F25 -> 43042.2 | F10: =C10*E10 -> 5595486 | G10: =일위대가표!H25 -> 26514.28 | H10: =C10*G10 -> 3446856.4 | J10: =C10*I10 -> 0 | K10: =SUM(F10,H10,J10) -> 9042342.4
A11: 난연보강테이프 | B11: 50mm*50m | C11: 14 | D11: 롤 | E11: =원가표!J10 -> 10000 | F11: =C11*E11 -> 140000 | H11: =C11*G11 -> 0 | J11: =C11*I11 -> 0 | K11: =SUM(F11,H11,J11) -> 140000
A12: 접착제(본드) | B12: 1㎏ | C12: 3 | D12: 통 | E12: =원가표!J11 -> 12000 | F12: =C12*E12 -> 36000 | H12: =C12*G12 -> 0 | J12: =C12*I12 -> 0 | K12: =SUM(F12,H12,J12) -> 36000
A13: 보온마감재 | B13: 메직테이프 | C13: 553 | D13: 롤 | E13: =원가표!J14 -> 1950 | F13: =C13*E13 -> 1078350 | H13: =C13*G13 -> 0 | J13: =C13*I13 -> 0 | K13: =SUM(F13,H13,J13) -> 1078350
A14: 소 계 | F14: =SUM(F6:F13) -> 16198866 | H14: =SUM(H6:H13) -> 10110099 | I14: =SUM(I6:I13) -> 0 | J14: =SUM(J6:J13) -> 0 | K14: =SUM(K6:K13) -> 26308965
A15: 2. 보온 철거 공사
A16: 보온철거 | B16: 설치의 40% | C16: 0.4 | D16: 인 | F16: =E16*C16 -> 0 | G16: =H14 -> 10110099 | H16: =C16*G16 -> 4044039.6 | J16: =C16*I16 -> 0 | K16: =SUM(F16,H16,J16) -> 4044039.6
A17: 폐기물처리비 | B17: 배관 보온재 | C17: 12.2 | D17: ㎥ | F17: =E17*C17 -> 0 | H17: =C17*G17 -> 0 | I17: =원가표!J31 -> 100000 | J17: =C17*I17 -> 1220000 | K17: =SUM(F17,H17,J17) -> 1220000
A18: 소 계 | F18: =SUM(F16:F17) -> 0 | H18: =SUM(H16:H17) -> 4044039.6 | J18: =SUM(J16:J17) -> 1220000 | K18: =SUM(K16:K17) -> 5264039.6
A19: 3.배관지지대 도색
A20: 바탕만들기 | C20: 524.6 | D20: ㎡ | E20: =일위대가표!F30 -> 16 | F20: =C20*E20 -> 8393.6 | G20: =일위대가표!H30 -> 4390.25 | H20: =C20*G20 -> 2303125.1 | J20: =C20*I20 -> 0 | K20: =SUM(F20,H20,J20) -> 2311518.8
A21: 녹막이페인트 | B21: 광명단(전체의 50%) | C21: 262.3 | D21: ㎡ | E21: =일위대가표!F33 -> 720.082 | F21: =C21*E21 -> 188877.51 | G21: =일위대가표!H33 -> 2320.432 | H21: =C21*G21 -> 608649.31 | J21: =C21*I21 -> 0 | K21: =SUM(F21,H21,J21) -> 797526.82
A22: 조합페인트 | B22: 회색 | C22: 524.6 | D22: ㎡ | E22: =일위대가표!F38 -> 1022.432 | F22: =C22*E22 -> 536367.83 | G22: =일위대가표!H38 -> 2808.944 | H22: =C22*G22 -> 1473572 | J22: =C22*I22 -> 0 | K22: =SUM(F22,H22,J22) -> 2009939.8
A23: 붓 | B23: 3호 | C23: 16 | D23: EA | E23: =원가표!J21 -> 3000 | F23: =C23*E23 -> 48000 | H23: =C23*G23 -> 0 | J23: =C23*I23 -> 0 | K23: =SUM(F23,H23,J23) -> 48000
A24: 붓 | B24: 2호 | C24: 16 | D24: EA | E24: =원가표!J22 -> 2000 | F24: =C24*E24 -> 32000 | H24: =C24*G24 -> 0 | J24: =C24*I24 -> 0 | K24: =SUM(F24,H24,J24) -> 32000
A25: 면포 | C25: 4 | D25: ㎏ | E25: =원가표!J23 -> 1600 | F25: =C25*E25 -> 6400 | H25: =C25*G25 -> 0 | J25: =C25*I25 -> 0 | K25: =SUM(F25,H25,J25) -> 6400
A26: 코팅장갑 | C26: 48 | D26: 켤레 | E26: =원가표!J24 -> 910 | F26: =C26*E26 -> 43680 | H26: =C26*G26 -> 0 | J26: =C26*I26 -> 0 | K26: =SUM(F26,H26,J26) -> 43680
A27: 일반장갑 | C27: 48 | D27: 켤레 | E27: =원가표!J25 -> 280 | F27: =C27*E27 -> 13440 | H27: =C27*G27 -> 0 | J27: =C27*I27 -> 0 | K27: =SUM(F27,H27,J27) -> 13440
A28: 작업용우의 | C28: 24 | D28: 벌 | E28: =원가표!J26 -> 8800 | F28: =C28*E28 -> 211200 | H28: =C28*G28 -> 0 | J28: =C28*I28 -> 0 | K28: =SUM(F28,H28,J28) -> 211200
A29: 방진마스크 | B29: 카본 | C29: 72 | D29: EA | E29: =원가표!J27 -> 1500 | F29: =C29*E29 -> 108000 | H29: =C29*G29 -> 0 | J29: =C29*I29 -> 0 | K29: =SUM(F29,H29,J29) -> 108000
A30: 소 계 | F30: =SUM(F20:F29) -> 1196358.9 | H30: =SUM(H20:H29) -> 4385346.5 | I30: =SUM(I20:I29) -> 0 | J30: =SUM(J20:J29) -> 0 | K30: =SUM(K20:K29) -> 5581705.4

Sheet 일위대가표
A1: 일 위 대 가 표
A2: =원가계산서!A3 -> 공사명 [우정공무원교육원 냉수배관 보온재 교체 공사 및 지지대 도색공사 내역]
A3: 품 명 | B3: 규 격 | C3: 수량 | D3: 단위 | E3: 재 료 비 | G3: 노 무 비 | I3: 경 비 | K3: 계
E4: 단 가 | F4: 금 액 | G4: 단 가 | H4: 금 액 | I4: 단 가 | J4: 금 액 | K4: 금 액
A5: 관 보온 | B5: 50A*32T | C5: 1 | D5: m | F5: =SUM(F6:F9) -> 12736.2 | H5: =SUM(H6:H9) -> 11217.58 | J5: =SUM(J6:J9) -> 0 | K5: =SUM(F5,H5,J5) -> 23953.78
A6: 고무발포보온재 | B6: 50A*32T | C6: 1 | D6: m | E6: =원가표!J5 -> 12324 | F6: =C6*E6 -> 12324 | H6: =C6*G6 -> 0 | J6: =C6*I6 -> 0
A7: 보온마감재 | B7: 보루지 C-400 | C7: 0.738 | D7: 매 | E7: =원가표!J12 -> 300 | F7: =C7*E7 -> 221.4 | H7: =C7*G7 -> 0 | J7: =C7*I7 -> 0
A8: 보온마감재 | B8: 알미늄밴드 0.3t*30mm | C8: 0.53 | D8: m | E8: =원가표!J13 -> 360 | F8: =C8*E8 -> 190.8 | H8: =C8*G8 -> 0 | J8: =C8*I8 -> 0
A9: 보온공 | C9: 0.11 | D9: 인 | F9: =C9*E9 -> 0 | G9: =원가표!J28 -> 101978 | H9: =C9*G9 -> 11217.58 | J9: =C9*I9 -> 0 | K9: =SUM(F9,H9,J9) -> 11217.58
A10: 관 보온 | B10: 65A*32T | C10: 1 | D10: m | F10: =SUM(F11:F14) -> 15794.7 | H10: =SUM(H11:H14) -> 13257.14 | J10: =SUM(J11:J14) -> 0 | K10: =SUM(F10,H10,J10) -> 29051.84
A11: 고무발포보온재 | B11: 65A*32T | C11: 1 | D11: m | E11: =원가표!J6 -> 15336 | F11: =C11*E11 -> 15336 | H11: =C11*G11 -> 0 | J11: =C11*I11 -> 0
A12: 보온마감재 | B12: 보루지 C-400 | C12: 0.821 | D12: 매 | E12: =원가표!J12 -> 300 | F12: =C12*E12 -> 246.3 | H12: =C12*G12 -> 0 | J12: =C12*I12 -> 0
A13: 보온마감재 | B13: 알미늄밴드 0.3t*30mm | C13: 0.59 | D13: m | E13: =원가표!J13 -> 360 | F13: =C13*E13 -> 212.4 | H13: =C13*G13 -> 0 | J13: =C13*I13 -> 0
A14: 보온공 | C14: 0.13 | D14: 인 | F14: =C14*E14 -> 0 | G14: =원가표!J28 -> 101978 | H14: =C14*G14 -> 13257.14 | J14: =C14*I14 -> 0 | K14: =SUM(F14,H14,J14) -> 13257.14
A15: 관 보온 | B15: 80A*40T | C15: 1 | D15: m | F15: =SUM(F16:F19) -> 20470.7 | H15: =SUM(H16:H19) -> 14276.92 | J15: =SUM(J16:J19) -> 0 | K15: =SUM(F15,H15,J15) -> 34747.62
A16: 고무발포보온재 | B16: 80A*40T | C16: 1 | D16: m | E16: =원가표!J7 -> 19976 | F16: =C16*E16 -> 19976 | H16: =C16*G16 -> 0 | J16: =C16*I16 -> 0
A17: 보온마감재 | B17: 보루지 C-400 | C17: 0.881 | D17: 매 | E17: =원가표!J12 -> 300 | F17: =C17*E17 -> 264.3 | H17: =C17*G17 -> 0 | J17: =C17*I17 -> 0
A18: 보온마감재 | B18: 알미늄밴드 0.3t*30mm | C18: 0.64 | D18: m | E18: =원가표!J13 -> 360 | F18: =C18*E18 -> 230.4 | H18: =C18*G18 -> 0 | J18: =C18*I18 -> 0
A19: 보온공 | C19: 0.14 | D19: 인 | F19: =C19*E19 -> 0 | G19: =원가표!J28 -> 101978 | H19: =C19*G19 -> 14276.92 | J19: =C19*I19 -> 0 | K19: =SUM(F19,H19,J19) -> 14276.92
A20: 관 보온 | B20: 100A*40T | C20: 1 | D20: m | F20: =SUM(F21:F24) -> 26643.6 | H20: =SUM(H21:H24) -> 17336.26 | J20: =SUM(J21:J24) -> 0 | K20: =SUM(F20,H20,J20) -> 43979.86
A21: 고무발포보온재 | B21: 100A*40T | C21: 1 | D21: m | E21: =원가표!J8 -> 26070 | F21: =C21*E21 -> 26070 | H21: =C21*G21 -> 0 | J21: =C21*I21 -> 0
A22: 보온마감재 | B22: 보루지 C-400 | C22: 1.024 | D22: 매 | E22: =원가표!J12 -> 300 | F22: =C22*E22 -> 307.2 | H22: =C22*G22 -> 0 | J22: =C22*I22 -> 0
A23: 보온마감재 | B23: 알미늄밴드 0.3t*30mm | C23: 0.74 | D23: m | E23: =원가표!J13 -> 360 | F23: =C23*E23 -> 266.4 | H23: =C23*G23 -> 0 | J23: =C23*I23 -> 0
A24: 보온공 | C24: 0.17 | D24: 인 | F24: =C24*E24 -> 0 | G24: =원가표!J28 -> 101978 | H24: =C24*G24 -> 17336.26 | J24: =C24*I24 -> 0 | K24: =SUM(F24,H24,J24) -> 17336.26
A25: 관 보온 | B25: 125A*50T | C25: 1 | D25: m | F25: =SUM(F26:F29) -> 43042.2 | H25: =SUM(H26:H29) -> 26514.28 | J25: =SUM(J26:J29) -> 0 | K25: =SUM(F25,H25,J25) -> 69556.48
A26: 고무발포보온재 | B26: 125A*50T | C26: 1 | D26: m | E26: =원가표!J9 -> 42336 | F26: =C26*E26 -> 42336 | H26: =C26*G26 -> 0 | J26: =C26*I26 -> 0
A27: 보온마감재 | B27: 보루지 C-400 | C27: 1.25 | D27: 매 | E27: =원가표!J12 -> 300 | F27: =C27*E27 -> 375 | H27: =C27*G27 -> 0 | J27: =C27*I27 -> 0
A28: 보온마감재 | B28: 알미늄밴드 0.3t*30mm | C28: 0.92 | D28: m | E28: =원가표!J13 -> 360 | F28: =C28*E28 -> 331.2 | H28: =C28*G28 -> 0 | J28: =C28*I28 -> 0
A29: 보온공 | C29: 0.26 | D29: 인 | F29: =C29*E29 -> 0 | G29: =원가표!J28 -> 101978 | H29: =C29*G29 -> 26514.28 | J29: =C29*I29 -> 0 | K29: =SUM(F29,H29,J29) -> 26514.28
A30: 바탕만들기 | C30: 1 | D30: ㎡ | F30: =SUM(F31:F32) -> 16 | H30: =SUM(H31:H32) -> 4390.25 | J30: =SUM(J31:J32) -> 0 | K30: =SUM(F30,H30,J30) -> 4406.25
A31: 와이어버러쉬 | C31: 0.016 | D31: EA | E31: =원가표!J15 -> 1000 | F31: =C31*E31 -> 16
A32: 보통인부 | C32: 0.05 | D32: 인 | F32: =C32*E32 -> 0 | G32: =원가표!J30 -> 87805 | H32: =C32*G32 -> 4390.25 | J32: =C32*I32 -> 0 | K32: =SUM(F32,H32,J32) -> 4390.25
A33: 녹막이페인트칠 | C33: 1 | D33: ㎡ | F33: =SUM(F34:F37) -> 720.082 | H33: =SUM(H34:H37) -> 2320.432 | J33: =SUM(J34:J37) -> 0 | K33: =SUM(F33,H33,J33) -> 3040.514
A34: 녹막이페인트 | C34: 0.08 | D34: ℓ | E34: =원가표!J16 -> 8700 | F34: =C34*E34 -> 696 | H34: =C34*G34 -> 0 | J34: =C34*I34 -> 0
A35: 시너 | C35: 0.004 | D35: ℓ | E35: =원가표!J19 -> 2833 | F35: =C35*E35 -> 11.332 | H35: =C35*G35 -> 0 | J35: =C35*I35 -> 0
A36: 연마지 | C36: 0.05 | D36: 매 | E36: =원가표!J20 -> 255 | F36: =C36*E36 -> 12.75 | H36: =C36*G36 -> 0 | J36: =C36*I36 -> 0
A37: 도장공 | C37: 0.019 | D37: 인 | F37: =C37*E37 -> 0 | G37: =원가표!J29 -> 122128 | H37: =C37*G37 -> 2320.432 | J37: =C37*I37 -> 0 | K37: =SUM(F37,H37,J37) -> 2320.432
A38: 조합페인트칠 | C38: 1 | D38: ㎡ | F38: =SUM(F39:F43) -> 1022.432 | H38: =SUM(H39:H43) -> 2808.944 | J38: =SUM(J39:J43) -> 0 | K38: =SUM(F38,H38,J38) -> 3831.376
A39: 조합페인트 | C39: 0.081 | D39: ℓ | E39: =원가표!J17 -> 6350 | F39: =C39*E39 -> 514.35
A40: 시너 | C40: 0.004 | D40: ℓ | E40: =원가표!J19 -> 2833 | F40: =C40*E40 -> 11.332
...

Sheet 원가표
A1: 원 가 표
A2: =내역서!A2 -> 공사명 [우정공무원교육원 냉수배관 보온재 교체 공사 및 지지대 도색공사 내역]
A3: 품 명 | B3: 규 격 | C3: 단위 | D3: 물가자료집(1) | F3: 물가자료집(2) | H3: 조사가격 | J3: 적용금액 | K3: 비 고
D4: 페이지 | E4: 단가 | F4: 페이지 | G4: 단가 | H4: 페이지 | I4: 기타 단가
A5: 고무발포보온재 | B5: 50A*32T | C5: m | E5: 12324 | J5: =E5 -> 12324
A6: 고무발포보온재 | B6: 65A*32T | C6: m | E6: 15336 | J6: =E6 -> 15336
A7: 고무발포보온재 | B7: 80A*40T | C7: m | E7: 19976 | J7: =E7 -> 19976
A8: 고무발포보온재 | B8: 100A*40T | C8: m | E8: 26070 | J8: =E8 -> 26070
A9: 고무발포보온재 | B9: 125A*50T | C9: m | E9: 42336 | J9: =E9 -> 42336
A10: 난연보강테이프 | B10: 50mm*50m | C10: 롤 | E10: 10000 | J10: =E10 -> 10000
A11: 접착제(본드) | B11: 1㎏ | C11: 통 | E11: 12000 | J11: =E11 -> 12000
A12: 보온마감재 | B12: 보루지 C-400 | C12: 매 | E12: 300 | J12: =E12 -> 300
A13: 보온마감재 | B13: 알미늄밴드 0.3t*30mm | C13: m | E13: 360 | J13: =E13 -> 360
A14: 보온마감재 | B14: 메직테이프 | C14: 롤 | E14: 1950 | J14: =E14 -> 1950
A15: 와이어버러쉬 | B15: 대 | C15: EA | E15: 1000 | J15: =E15 -> 1000
A16: 녹막이페인트 | B16: 광명단 | C16: ℓ | E16: 8700 | J16: =E16 -> 8700
A17: 조합페인트 | B17: 회색 | C17: ℓ | E17: 6350 | J17: =E17 -> 6350
A18: 퍼티 | C18: ℓ | E18: 6050 | J18: =E18 -> 6050
A19: 신너 | C19: ℓ | E19: 2833 | J19: =E19 -> 2833
A20: 연마지 | C20: 매 | E20: 255 | J20: =E20 -> 255
A21: 붓 | B21: 3호 | C21: EA | E21: 3000 | J21: =E21 -> 3000
A22: 붓 | B22: 2호 | C22: EA | E22: 2000 | J22: =E22 -> 2000
A23: 면포 | C23: ㎏ | E23: 1600 | J23: =E23 -> 1600
A24: 코팅장갑 | C24: 켤레 | E24: 910 | J24: =E24 -> 910
A25: 일반장갑 | C25: 켤레 | E25: 280 | J25: =E25 -> 280
A26: 작업용우의 | C26: 벌 | E26: 8800 | J26: =E26 -> 8800
A27: 방진마스크(카본) | C27: EA | E27: 1500 | J27: =E27 -> 1500
A28: 인건비 | B28: 보온공 | C28: 인 | G28: 101978 | J28: =G28 -> 101978
A29: 인건비 | B29: 도장공 | C29: 인 | G29: 122128 | J29: =G29 -> 122128
A30: 인건비 | B30: 보통인부 | C30: 인 | G30: 87805 | J30: =G30 -> 87805
A31: 폐기물처리비 | B31: 보온재 | C31: ㎥ | I31: 100000 | J31: =I31 -> 100000
