Workbook

Sheet 원가계산서
A1: 원 가 계 산 서
A2: 공사명 : 익산함열우체국 석면철거 보수 시설공사 | F2: [단위 : 원]
A3: 구 분 비 목 | D3: 구 성 비 | E3: 금 액 | F3: 비 고
A5: 순 공 사 원 가 | B5: 재료비 | C5: 직 접 재 료 비 | E5: =내역서!F52 -> 13977467
C6: 간 접 재 료 비
C7: 작업설.부산물 등(△)
C8: 소 계 | E8: =SUM(E5:E7) -> 13977467
B9: 노무비 | C9: 직 접 노 무 비 | E9: =내역서!H52 -> 10462786
C10: 간 접 노 무 비 | D10: 직.노*9.6% | E10: =E9*0.096 -> 1004427.5
C11: 소 계 | E11: =SUM(E9:E10) -> 11467214
B12: 경 비 | C12: 기 계 경 비 | E12: =내역서!J52 -> 12756.8
C13: 산 재 보 험 료 | D13: (노)*3.8% | E13: =E11*0.038 -> 435754.13
C14: 고 용 보 험 료 | D14: (노)*0.87% | E14: =E11*0.0087 -> 99764.76
C15: 건 강 보 험 료 | D15: (직.노)*1.7% | F15: 1개월이상적용
C16: 연 금 보 험 료 | D16: (직.노)*2.49% | F16: 1개월이상적용
C17: 노인 장기 요양보험료 | D17: (건강보험료)*6.55% | E17: =E15*H17 -> 0 | F17: 1개월이상적용
C18: 퇴 직 공 제 부 금 비 | D18: (직.노)*2.3% | F18: 3억원이상적용
C19: 안 전 관 리 비 | D19: (재+직.노)*2.93% | F19: 4천만원이상
C20: 기 타 경 비 | D20: (재+노)*3.03% | E20: =(E8+E11)*0.0303 -> 770973.83
C21: 환 경 보 전 비 | D21: (재+직.노+기.경)*0.3% | E21: =(E8+E9+E12)*0.003 -> 73359.03
C22: 소 계 | E22: =SUM(E12:E21) -> 1392608.5
B23: 계 | E23: =E8+E11+E22 -> 26837289
A24: 일 반 관 리 비 | D24: (재+노+경)*6% | E24: =E23*0.06 -> 1610237.4
A25: 이 윤 | D25: (노+경+일)*10.51% | E25: =(E11+E22+E24)*0.1051 -> 1520803.3
A26: 폐 기 물 처 리 비 | E26: =내역서!L50 -> 183728
A27: 총 원 가 | E27: =SUM(E23:E26) -> 30152058
A28: 부 가 가 치 세 | D28: (총원가)*10% | E28: =E27*0.1 -> 3015205.8
A29: 도 급 금 액 | E29: =ROUNDDOWN(E28+E27,-3) -> 33167000 | F29: 천원이하절삭

Sheet 내역서
A1: 공 종 별 내 역 서
A2: 공사명 : 익산함열우체국 석면철거 보수 시설공사 | M2: [단위 : 원]
A3: 품 명 | B3: 규 격 | C3: 단위 | D3: 수 량 | E3: 재 료 비 | G3: 노 무 비 | I3: 경 비 | K3: 합 계 | M3: 비고
E4: 단 가 | F4: 금 액 | G4: 단 가 | H4: 금 액 | I4: 단 가 | J4: 금 액 | K4: 단 가 | L4: 금 액
A5: 1. 철거공사
A6: 이동식강관말비계 | B6: 1단(2m), 3개월 | C6: 대 | D6: 2 | E6: =INDEX(일위대가!$A$1:$O$205,MATCH(M6,일위대가!$O:$O,0),7) -> 33400 | F6: =D6*E6 -> 66800 | G6: =INDEX(일위대가!$A$1:$O$205,MATCH(M6,일위대가!$O:$O,0),9) -> 53739 | H6: =D6*G6 -> 107478 | I6: =INDEX(일위대가!$A$1:$O$205,MATCH(M6,일위대가!$O:$O,0),11) -> 0 | J6: =D6*I6 -> 0 | K6: =SUM(E6,G6,I6) -> 87139 | L6: =SUM(F6,H6,J6) -> 174278 | M6: 일위01호
F7: =D7*E7 -> 0 | H7: =D7*G7 -> 0 | J7: =D7*I7 -> 0 | K7: =SUM(E7,G7,I7) -> 0 | L7: =SUM(F7,H7,J7) -> 0
A8: [ 소 계 ] | F8: =SUM(F6:F7) -> 66800 | H8: =SUM(H6:H7) -> 107478 | J8: =SUM(J6:J7) -> 0 | K8: =SUM(E8,G8,I8) -> 0 | L8: =SUM(F8,H8,J8) -> 174278
A9: 2. 수장공사
A10: 시스톤(불연천정판) | B10: M-Bar 9*300*600 | C10: M2 | D10: 566.6 | E10: 6000 | F10: =D10*E10 -> 3399600 | H10: =D10*G10 -> 0 | J10: =D10*I10 -> 0 | K10: =SUM(E10,G10,I10) -> 6000 | L10: =SUM(F10,H10,J10) -> 3399600 | M10: 거래583
A11: 천정텍스 판붙임 | B11: 시스톤,M-Bar | C11: M2 | D11: 566.6 | E11: =INDEX(일위대가!$A$1:$O$205,MATCH(M11,일위대가!$O:$O,0),7) -> 120.75 | F11: =D11*E11 -> 68416.95 | G11: =INDEX(일위대가!$A$1:$O$205,MATCH(M11,일위대가!$O:$O,0),9) -> 7176.74 | H11: =D11*G11 -> 4066340.9 | I11: =INDEX(일위대가!$A$1:$O$205,MATCH(M11,일위대가!$O:$O,0),11) -> 0 | J11: =D11*I11 -> 0 | K11: =SUM(E11,G11,I11) -> 7297.49 | L11: =SUM(F11,H11,J11) -> 4134757.8 | M11: 일위15호
A12: 샌드위치 단열패널 | B12: 폴리스틸렌계,T=50,벽 | C12: M2 | D12: 151.72 | E12: 16232 | F12: =D12*E12 -> 2462719 | G12: 11754 | H12: =D12*G12 -> 1783316.9 | J12: =D12*I12 -> 0 | K12: =SUM(E12,G12,I12) -> 27986 | L12: =SUM(F12,H12,J12) -> 4246035.9 | M12: 표준OJ411
A13: 여닫이도어 | B13: 900*2100 | C13: 조 | D13: 6 | E13: 390000 | F13: =D13*E13 -> 2340000 | H13: =D13*G13 -> 0 | J13: =D13*I13 -> 0 | K13: =SUM(E13,G13,I13) -> 390000 | L13: =SUM(F13,H13,J13) -> 2340000 | M13: 물가자료549
A14: SGP 문짝 및 문틀 | B14: 1800*2100 | C14: 조 | D14: 1 | E14: 690000 | F14: =D14*E14 -> 690000 | H14: =D14*G14 -> 0 | J14: =D14*I14 -> 0 | K14: =SUM(E14,G14,I14) -> 690000 | L14: =SUM(F14,H14,J14) -> 690000 | M14: 물가자료549
A15: 석고판못붙임(바탕용,벽) | B15: 일반9.5mm | C15: M2 | D15: 51 | E15: =INDEX(일위대가!$A$1:$O$205,MATCH(M15,일위대가!$O:$O,0),7) -> 2010 | F15: =D15*E15 -> 102510 | G15: =INDEX(일위대가!$A$1:$O$205,MATCH(M15,일위대가!$O:$O,0),9) -> 5863 | H15: =D15*G15 -> 299013 | I15: =INDEX(일위대가!$A$1:$O$205,MATCH(M15,일위대가!$O:$O,0),11) -> 0 | J15: =D15*I15 -> 0 | K15: =SUM(E15,G15,I15) -> 7873 | L15: =SUM(F15,H15,J15) -> 401523 | M15: 일위18호
A16: 석고판못붙임(바탕용,천정) | B16: 일반9.5mm | C16: M2 | D16: 25.96 | E16: =INDEX(일위대가!$A$1:$O$205,MATCH(M16,일위대가!$O:$O,0),7) -> 2021 | F16: =D16*E16 -> 52465.16 | G16: =INDEX(일위대가!$A$1:$O$205,MATCH(M16,일위대가!$O:$O,0),9) -> 7036 | H16: =D16*G16 -> 182654.56 | I16: =INDEX(일위대가!$A$1:$O$205,MATCH(M16,일위대가!$O:$O,0),11) -> 0 | J16: =D16*I16 -> 0 | K16: =SUM(E16,G16,I16) -> 9057 | L16: =SUM(F16,H16,J16) -> 235119.72 | M16: 일위19호
A17: 비닐시트깔기(중보행용) | B17: 2.0mm | C17: M2 | D17: 116.76 | E17: =INDEX(일위대가!$A$1:$O$205,MATCH(M17,일위대가!$O:$O,0),7) -> 9954 | F17: =D17*E17 -> 1162229 | G17: =INDEX(일위대가!$A$1:$O$205,MATCH(M17,일위대가!$O:$O,0),9) -> 2499 | H17: =D17*G17 -> 291783.24 | I17: =INDEX(일위대가!$A$1:$O$205,MATCH(M17,일위대가!$O:$O,0),11) -> 0 | J17: =D17*I17 -> 0 | K17: =SUM(E17,G17,I17) -> 12453 | L17: =SUM(F17,H17,J17) -> 1454012.3 | M17: 일위20호
A18: 벽지바름(모르타르면) | B18: 실크 | C18: M2 | D18: 133.8 | E18: =INDEX(일위대가!$A$1:$O$205,MATCH(M18,일위대가!$O:$O,0),7) -> 2912 | F18: =D18*E18 -> 389625.6 | G18: =INDEX(일위대가!$A$1:$O$205,MATCH(M18,일위대가!$O:$O,0),9) -> 3313 | H18: =D18*G18 -> 443279.4 | I18: =INDEX(일위대가!$A$1:$O$205,MATCH(M18,일위대가!$O:$O,0),11) -> 0 | J18: =D18*I18 -> 0 | K18: =SUM(E18,G18,I18) -> 6225 | L18: =SUM(F18,H18,J18) -> 832905 | M18: 일위13호
A19: 반자지바름(석고보드면) | B19: 실크 | C19: M2 | D19: 53.16 | E19: =INDEX(일위대가!$A$1:$O$205,MATCH(M19,일위대가!$O:$O,0),7) -> 2987 | F19: =D19*E19 -> 158788.92 | G19: =INDEX(일위대가!$A$1:$O$205,MATCH(M19,일위대가!$O:$O,0),9) -> 4759 | H19: =D19*G19 -> 252988.44 | I19: =INDEX(일위대가!$A$1:$O$205,MATCH(M19,일위대가!$O:$O,0),11) -> 0 | J19: =D19*I19 -> 0 | K19: =SUM(E19,G19,I19) -> 7746 | L19: =SUM(F19,H19,J19) -> 411777.36 | M19: 일위14호
A21: [ 소 계 ] | F21: =SUM(F10:F20) -> 10826355 | H21: =SUM(H10:H20) -> 7319376.4 | J21: =SUM(J10:J20) -> 0 | L21: =SUM(L10:L20) -> 18145731
A22: 3. 도장공사
A23: 수성페인트,로울러칠 | B23: 내천정2회.2급 | C23: M2 | D23: 243.15 | E23: =INDEX(일위대가!$A$1:$O$205,MATCH(M23,일위대가!$O:$O,0),7) -> 585 | F23: =D23*E23 -> 142242.75 | G23: =INDEX(일위대가!$A$1:$O$205,MATCH(M23,일위대가!$O:$O,0),9) -> 3539 | H23: =D23*G23 -> 860507.85 | I23: =INDEX(일위대가!$A$1:$O$205,MATCH(M23,일위대가!$O:$O,0),11) -> 0 | J23: =D23*I23 -> 0 | K23: =SUM(E23,G23,I23) -> 4124 | L23: =SUM(F23,H23,J23) -> 1002750.6 | M23: 일위16호
A24: 바탕만들기 | B24: 목재면(벽) | C24: M2 | D24: 243.15 | E24: =INDEX(일위대가!$A$1:$O$205,MATCH(M24,일위대가!$O:$O,0),7) -> 119 | F24: =D24*E24 -> 28934.85 | G24: =INDEX(일위대가!$A$1:$O$205,MATCH(M24,일위대가!$O:$O,0),9) -> 1309 | H24: =D24*G24 -> 318283.35 | I24: =INDEX(일위대가!$A$1:$O$205,MATCH(M24,일위대가!$O:$O,0),11) -> 0 | J24: =D24*I24 -> 0 | K24: =SUM(E24,G24,I24) -> 1428 | L24: =SUM(F24,H24,J24) -> 347218.2 | M24: 일위22호
A25: 조합페인트칠(붓칠) | B25: 철재면2회.2급 | C25: M2 | D25: 64.58 | E25: =INDEX(일위대가!$A$1:$O$205,MATCH(M25,일위대가!$O:$O,0),7) -> 812 | F25: =D25*E25 -> 52438.96 | G25: =INDEX(일위대가!$A$1:$O$205,MATCH(M25,일위대가!$O:$O,0),9) -> 3491 | H25: =D25*G25 -> 225448.78 | I25: =INDEX(일위대가!$A$1:$O$205,MATCH(M25,일위대가!$O:$O,0),11) -> 0 | J25: =D25*I25 -> 0 | K25: =SUM(E25,G25,I25) -> 4303 | L25: =SUM(F25,H25,J25) -> 277887.74 | M25: 일위21호
A26: 바탕만들기 | B26: 철재면 | C26: M2 | D26: 64.58 | E26: =INDEX(일위대가!$A$1:$O$205,MATCH(M26,일위대가!$O:$O,0),7) -> 86 | F26: =D26*E26 -> 5553.88 | G26: =INDEX(일위대가!$A$1:$O$205,MATCH(M26,일위대가!$O:$O,0),9) -> 1831 | H26: =D26*G26 -> 118245.98 | I26: =INDEX(일위대가!$A$1:$O$205,MATCH(M26,일위대가!$O:$O,0),11) -> 0 | J26: =D26*I26 -> 0 | K26: =SUM(E26,G26,I26) -> 1917 | L26: =SUM(F26,H26,J26) -> 123799.86 | M26: 일위23호
A28: [ 소 계 ] | F28: =SUM(F23:F27) -> 229170.44 | H28: =SUM(H23:H27) -> 1522486 | J28: =SUM(J23:J27) -> 0 | L28: =SUM(L23:L27) -> 1751656.4
A29: 4. 기타공사
A30: 마루틀설치 | B30: CONC바탕위 | C30: M2 | D30: 42 | E30: =INDEX(일위대가!$A$1:$O$205,MATCH(M30,일위대가!$O:$O,0),7) -> 14534 | F30: =D30*E30 -> 610428 | G30: =INDEX(일위대가!$A$1:$O$205,MATCH(M30,일위대가!$O:$O,0),9) -> 11064 | H30: =D30*G30 -> 464688 | I30: =INDEX(일위대가!$A$1:$O$205,MATCH(M30,일위대가!$O:$O,0),11) -> 0 | J30: =D30*I30 -> 0 | K30: =SUM(E30,G30,I30) -> 25598 | L30: =SUM(F30,H30,J30) -> 1075116 | M30: 일위26호
A31: 합판붙임 | B31: T=12MM 내수합판 | C31: M2 | D31: 42 | E31: =INDEX(일위대가!$A$1:$O$205,MATCH(M31,일위대가!$O:$O,0),7) -> 177.7 | F31: =D31*E31 -> 7463.4 | G31: =INDEX(일위대가!$A$1:$O$205,MATCH(M31,일위대가!$O:$O,0),9) -> 0 | H31: =D31*G31 -> 0 | I31: =INDEX(일위대가!$A$1:$O$205,MATCH(M31,일위대가!$O:$O,0),11) -> 0 | J31: =D31*I31 -> 0 | K31: =SUM(E31,G31,I31) -> 177.7 | L31: =SUM(F31,H31,J31) -> 7463.4 | M31: 일위27호
A32: 스테인리스자바라대문 | B32: 기본형,900*450 | C32: M | D32: 5 | E32: 250000 | F32: =D32*E32 -> 1250000 | H32: =D32*G32 -> 0 | J32: =D32*I32 -> 0 | K32: =SUM(E32,G32,I32) -> 250000 | L32: =SUM(F32,H32,J32) -> 1250000 | M32: 거래592,현장설치도
A33: 화강석붙임(바닥) | B33: 버너50mm황등석,몰탈30mm | C33: M2 | D33: 2.262 | E33: =INDEX(일위대가!$A$1:$O$205,MATCH(M33,일위대가!$O:$O,0),7) -> 36974.98 | F33: =D33*E33 -> 83637.405 | G33: =INDEX(일위대가!$A$1:$O$205,MATCH(M33,일위대가!$O:$O,0),9) -> 73096 | H33: =D33*G33 -> 165343.15 | I33: =INDEX(일위대가!$A$1:$O$205,MATCH(M33,일위대가!$O:$O,0),11) -> 0 | J33: =D33*I33 -> 0 | K33: =SUM(E33,G33,I33) -> 110070.98 | L33: =SUM(F33,H33,J33) -> 248980.56 | M33: 일위28호
A34: 화강석붙임(바닥) | B34: 버너90mm황등석,몰탈30mm | C34: M2 | D34: 2.472 | E34: =INDEX(일위대가!$A$1:$O$205,MATCH(M34,일위대가!$O:$O,0),7) -> 84714.98 | F34: =D34*E34 -> 209415.43 | G34: =INDEX(일위대가!$A$1:$O$205,MATCH(M34,일위대가!$O:$O,0),9) -> 73096 | H34: =D34*G34 -> 180693.31 | I34: =INDEX(일위대가!$A$1:$O$205,MATCH(M34,일위대가!$O:$O,0),11) -> 0 | J34: =D34*I34 -> 0 | K34: =SUM(E34,G34,I34) -> 157810.98 | L34: =SUM(F34,H34,J34) -> 390108.74 | M34: 일위29호
A35: 화강석붙임(바닥) | B35: 버너150mm황등석,몰탈30mm | C35: M2 | D35: 2.682 | E35: =INDEX(일위대가!$A$1:$O$292,MATCH(M35,일위대가!$O:$O,0),7) -> 139274.98 | F35: =D35*E35 -> 373535.5 | G35: =INDEX(일위대가!$A$1:$O$292,MATCH(M35,일위대가!$O:$O,0),9) -> 73096 | H35: =D35*G35 -> 196043.47 | I35: =INDEX(일위대가!$A$1:$O$292,MATCH(M35,일위대가!$O:$O,0),11) -> 0 | J35: =D35*I35 -> 0 | K35: =SUM(E35,G35,I35) -> 212370.98 | L35: =SUM(F35,H35,J35) -> 569578.97 | M35: 일위30호
A36: 롤스크린 | B36: 무지(방염) | C36: M2 | D36: 13.02 | E36: 25000 | F36: =D36*E36 -> 325500 | H36: =D36*G36 -> 0 | J36: =D36*I36 -> 0 | K36: =SUM(E36,G36,I36) -> 25000 | L36: =SUM(F36,H36,J36) -> 325500 | M36: 물가자료693
A37: [ 소 계 ] | F37: =SUM(F30:F36) -> 2859979.7 | H37: =SUM(H30:H36) -> 1006767.9 | J37: =SUM(J30:J36) -> 0 | L37: =SUM(L30:L36) -> 3866747.7
A38: 5. 철거공사
A39: 철근콘크리트 철거 | B39: 소형브레이커(25kg) | C39: M3 | D39: 2.8 | E39: =INDEX(일위대가!$A$1:$O$205,MATCH(M39,일위대가!$O:$O,0),7) -> 15107 | F39: =D39*E39 -> 42299.6 | G39: =INDEX(일위대가!$A$1:$O$205,MATCH(M39,일위대가!$O:$O,0),9) -> 145126 | H39: =D39*G39 -> 406352.8 | I39: =INDEX(일위대가!$A$1:$O$205,MATCH(M39,일위대가!$O:$O,0),11) -> 4556 | J39: =D39*I39 -> 12756.8 | K39: =SUM(E39,G39,I39) -> 164789 | L39: =SUM(F39,H39,J39) -> 461409.2 | M39: 일위24호
A40: 철골재 철거 | B40: 아세틸렌사용 | C40: 톤 | D40: 0.25 | E40: =INDEX(일위대가!$A$1:$O$205,MATCH(M40,일위대가!$O:$O,0),7) -> 31450 | F40: =D40*E40 -> 7862.5 | G40: =INDEX(일위대가!$A$1:$O$205,MATCH(M40,일위대가!$O:$O,0),9) -> 401301 | H40: =D40*G40 -> 100325.25 | I40: =INDEX(일위대가!$A$1:$O$205,MATCH(M40,일위대가!$O:$O,0),11) -> 0 | J40: =D40*I40 -> 0 | K40: =SUM(E40,G40,I40) -> 432751 | L40: =SUM(F40,H40,J40) -> 108187.75 | M40: 일위25호
A41: 철강설 | B41: 철강설, 고철, 작업설부산물 | C41: kg | D41: 250 | E41: -220 | F41: =D41*E41 -> -55000 | H41: =D41*G41 -> 0 | J41: =D41*I41 -> 0 | K41: =SUM(E41,G41,I41) -> -220 | L41: =SUM(F41,H41,J41) -> -55000 | M41: 거개가격
A43: [ 소 계 ] | F43: =SUM(F39:F42) -> -4837.9 | H43: =SUM(H39:H42) -> 506678.05 | J43: =SUM(J39:J42) -> 12756.8 | L43: =SUM(L39:L42) -> 514596.95
A44: 6. 폐기물처리
A45: 건설폐기물수집운반비(상차비) | B45: 15TON 덤프,중간처리 | C45: ton | D45: 4.48 | I45: 1820 | J45: =ROUNDDOWN(D45*I45,0) -> 8153 | K45: =E45+G45+I45 -> 1820 | L45: =F45+H45+J45 -> 8153
A46: 건설폐기물수집운반비(운반비) | B46: 15TON 덤프,중간처리,30km | C46: ton | D46: 4.48 | I46: 11840 | J46: =ROUNDDOWN(D46*I46,0) -> 53043 | K46: =E46+G46+I46 -> 11840 | L46: =F46+H46+J46 -> 53043
A47: 폐자재처리수수료 | B47: 혼합건설폐기물 | C47: ton | D47: 4.48 | I47: 27351 | J47: =ROUNDDOWN(D47*I47,0) -> 122532 | K47: =E47+G47+I47 -> 27351 | L47: =F47+H47+J47 -> 122532
A50: [ 소 계 ] | F50: =SUM(F45:F49) -> 0 | H50: =SUM(H45:H49) -> 0 | J50: =SUM(J45:J49) -> 183728 | L50: =SUM(L45:L49) -> 183728 | M50: 합계제외
A52: [ 합 계 ] | F52: =SUM(F8,F21,F28,F37,F43) -> 13977467 | H52: =SUM(H8,H21,H28,H37,H43) -> 10462786 | J52: =SUM(J8,J21,J28,J37,J43) -> 12756.8 | L52: =SUM(L8,L21,L28,L37,L43) -> 24453010

Sheet 자재산출
A1: 자 재 산 출 내 역
A2: 공사명 : 익산함열우체국 석면철거 보수 시설공사
A3: 위치 | B3: 품명 | C3: 규격 | D3: 단위 | E3: 수량 | F3: 산출식 | G3: 비고
A4: 1. 가설공사
B5: 이동식강관말비계 | C5: 1단(2m), 3개월 | D5: 대 | E5: 2 | F5: 천정보수
A7: 2. 수장공사
B8: 시스톤(불연천정판) | C8: M-Bar 9*300*600 | D8: M2 | E8: =573.4-2*4.5+2.2 -> 566.6 | F8: (텍스) 14+28.2+432.6+87.5-2*4.5 (밤라이트) 11.1 / (기타) 2*2
B9: 천정텍스 판붙임 | C9: 시스톤,M-Bar | D9: M2 | E9: =E8 -> 566.6
B10: 샌드위치 단열패널 | C10: 폴리스틸렌계,T=50,벽 | D10: M2 | E10: =6.6+136.24+(1+7)*3-0.9*2.1*6-1.8*2.1*1 -> 151.72 | F10: (밤라이트) 6.6+136.24 (1층 탕비실) 1*3 / (2층집배탈의실) 7*3 -(문) 0.9*2.1*6+1.8*2.1*1
B11: 여닫이도어 | C11: 900*2100 | D11: 조 | E11: =1+5 -> 6 | F11: 1층(전산실1)+2층(휴게실1+문서고1+FC1+전실1+집배탈의실1)
B12: SGP 문짝 및 문틀 | C12: 1800*2100 | D12: 조 | E12: 1 | F12: 2층(집배휴게실1)
B13: 석고판못붙임(바탕용,벽) | C13: 일반9.5mm | D13: M2 | E13: =(5.2+3.3)*2*3 -> 51 | F13: (2층 휴게실) (5.2+3.3)*2*3
B14: 석고판못붙임(바탕용,천정) | C14: 일반9.5mm | D14: M2 | E14: =2.2*4+5.2*3.3 -> 25.96 | F14: (1층탕비실) 2.2*4 + (2층 휴게실) 5.2*3.3
B15: 비닐시트깔기(중보행용) | C15: 2.0mm | D15: M2 | E15: =5.2*3.3+(7+3.6)*6+6*6 -> 116.76 | F15: (1층 탕비실) (2층 휴게실) 5.2*3.3+(2층 집배) (7+3.6)*6+ (기타) 6*6
B16: 벽지바름(모르타르면) | C16: 실크 | D16: M2 | E16: =(5.2+3.3)*2*3+(6+6)*2*2.3*1.5 -> 133.8 | F16: (우체국) (5.2+3.3)*2*3 (기타) (6+6)*2*2.3*1.5
B17: 반자지바름(석고보드면) | C17: 실크 | D17: M2 | E17: =5.2*3.3+6*6 -> 53.16 | F17: (우체국) 5.2*3.3 / (기타)6*6
A19: 3. 도장공사
B20: 수성페인트,로울러칠 | C20: 내천정2회.2급 | D20: M2 | E20: =2.2*4+1.5*2*4+(4.5+3)*2*3.1-(2*2.4+2*1.8)+(20.5+6)*2*3.1-2*2.1-2.5*3.1+3.7*2*3.1-0.9*2.1+3.5*3.1 -> 243.15 | F20: (1층탕비실) 2.2*4 / (옥외주차장) 1.5*2*4 (1층전산실) (4.5+3)*2*3.1-2*2.4-2*1.8 (집배실) (20.5+6)*2*3.1-2*2.1-2.5*3.1+3.7*2*3.1-0.9*2.1+3.5*3.1
B21: 바탕만들기 | C21: 목재면(벽) | D21: M2 | E21: =E20 -> 243.15
B22: 조합페인트칠(붓칠) | C22: 철재면2회.2급 | D22: M2 | E22: =2*2.1*2+0.9*2.1*2+2*2.4+2.2*2.5*2+3*2.5*2+(0.5+0.8+0.7)*2*0.6*9 -> 64.58 | F22: (문) 2*2.1*2+0.9*2.1*2+2*2.4 (셔터) 2.2*2.5*2+3*2.5*2 (거치대) (0.5+0.8+0.7)*2*0.6*9
B23: 바탕만들기 | C23: 철재면 | D23: M2 | E23: =E22 -> 64.58
A25: 4. 기타공사
B26: 마루틀설치 | C26: CONC바탕위 | D26: M2 | E26: =6*7 -> 42 | F26: (2층 집배탈의실) 6*7
B27: 합판붙임 | C27: T=12MM 내수합판 | D27: M2 | E27: =E26 -> 42 | F27: (2층 집배탈의실) 6*7
B28: 스테인리스자바라대문 | C28: 기본형,900*450 | D28: M | E28: 5 | F28: (주차장 출입문) 2*2+1
B29: 화강석붙임(바닥) | C29: 버너50mm황등석,몰탈30mm | D29: M2 | E29: =(5.28+1.16+1.1)*0.3 -> 2.262 | F29: 출입문 계단 (5.28+1.16+1.1)*0.3
B30: 화강석붙임(바닥) | C30: 버너90mm황등석,몰탈30mm | D30: M2 | E30: =(5.28+0.3+0.2+0.2+1.16+1.1)*0.3 -> 2.472 | F30: 출입문 계단 (5.28+0.3+0.2+0.2+1.16+1.1)*0.3
B31: 화강석붙임(바닥) | C31: 버너150mm황등석,몰탈30mm | D31: M2 | E31: =(5.28+(0.3+0.2+0.2)*2+1.16+1.1)*0.3 -> 2.682 | F31: 출입문 계단 (5.28+(0.3+0.2+0.2)*2+1.16+1.1)*0.3
B32: 롤스크린 | C32: 무지(방염) | D32: M2 | E32: =(4.6+1.6)*2.1 -> 13.02 | F32: (1층 전면창호) (4.6+1.6)*2.1
A36: 5. 철거공사
B37: 철근콘크리트 철거 | C37: 소형브레이커(25kg) | D37: M3 | E37: =1*2*0.7*2 -> 2.8 | F37: (주차장출입문 기둥) (1*2*0.7)*2
B38: 철골재 철거 | C38: 아세틸렌사용 | D38: 톤 | E38: =0.1*2+0.05 -> 0.25 | F38: 주차장 철문(양개) 0.1*2+0.05
B39: 철강설 | C39: 철강설, 고철, 작업설부산물 | D39: kg | E39: 250 | F39: 0.25*1000
A41: 6. 폐기물처리
B42: 폐기물처리 | C42: 철근콘크리트 | D42: 톤 | E42: =2.8*1.6 -> 4.48 | F42: (주차장출입문 기둥) 2.8*1.6

Sheet 일위대가
B1: 일 위 대 가 명 세 서
A2: 공사명 : 익산함열우체국 석면철거 보수 시설공사
A3: 품 명 | C3: 규 격 | D3: 단위 | E3: 수 량 | F3: 재 료 비 | H3: 노 무 비 | J3: 경 비 | L3: 합 계 | N3: 비 고
F4: 단 가 | G4: 금 액 | H4: 단 가 | I4: 금 액 | J4: 단 가 | K4: 금 액 | L4: 단 가 | M4: 금 액
A5: 일위01호 | B5: 이동식강관말비계 1단(2m), 3개월 대 토목 2-6-3, 5
B6: 비계안정장치 | C6: 비계안정장치, 비계기본틀, 기둥, 1.2*1.7m | D6: 개 | E6: 0.12 | F6: 20830 | G6: 2499.6 | H6: 0 | I6: 0 | J6: 0 | K6: 0 | L6: 20830 | M6: 2499.6
B7: 비계안정장치 | C7: 비계안정장치, 가새, 1.2*1.9m | D7: 개 | E7: 0.12 | F7: 6640 | G7: 796.8 | H7: 0 | I7: 0 | J7: 0 | K7: 0 | L7: 6640 | M7: 796.8
B8: 비계안정장치 | C8: 비계안정장치, 수평띠장, 1829mm | D8: 개 | E8: 0.24 | F8: 24500 | G8: 5880 | H8: 0 | I8: 0 | J8: 0 | K8: 0 | L8: 24500 | M8: 5880
B9: 비계안정장치 | C9: 비계안정장치, 손잡이기둥 | D9: 개 | E9: 0.24 | F9: 10300 | G9: 2472 | H9: 0 | I9: 0 | J9: 0 | K9: 0 | L9: 10300 | M9: 2472
B10: 비계안정장치 | C10: 비계안정장치, 손잡이, 1229mm | D10: 개 | E10: 0.12 | F10: 6500 | G10: 780 | H10: 0 | I10: 0 | J10: 0 | K10: 0 | L10: 6500 | M10: 780
B11: 비계안정장치 | C11: 비계안정장치, 손잡이, 1829mm | D11: 개 | E11: 0.24 | F11: 7800 | G11: 1872 | H11: 0 | I11: 0 | J11: 0 | K11: 0 | L11: 7800 | M11: 1872
B12: 비계안정장치 | C12: 비계안정장치, 바퀴 | D12: 개 | E12: 0.36 | F12: 10000 | G12: 3600 | H12: 0 | I12: 0 | J12: 0 | K12: 0 | L12: 10000 | M12: 3600
B13: 비계안정장치 | C13: 비계안정장치, 쟈키 | D13: 개 | E13: 0.36 | F13: 9000 | G13: 3240 | H13: 0 | I13: 0 | J13: 0 | K13: 0 | L13: 9000 | M13: 3240
B14: 판재 | C14: 판재, 외송, 일반 | D14: M3 | E14: 0.0315 | F14: 389221.55 | G14: 12260.4 | H14: 0 | I14: 0 | J14: 0 | K14: 0 | L14: 389221.5 | M14: 12260.4
B15: 보통인부 | C15: 일반공사 직종 | D15: 인 | E15: 0.6 | F15: 0 | G15: 0 | H15: 89566 | I15: 53739.6 | J15: 0 | K15: 0 | L15: 89566 | M15: 53739.6
B16: [ 합 계 ] | G16: 33400 | I16: 53739 | K16: 0 | M16: 87139 | O16: =A5 -> 일위01호
A17: 일위02호 | B17: 샌드위치(단열)판넬설치 | C17: 지붕 | D17: M2 | N17: 건축18-2-1.3
B18: 내장공 | D18: 인 | E18: 0.029 | H18: 137611 | I18: =E18*H18 -> 3990.719 | L18: 137611 | M18: 3990.7
B19: 보통인부 | D19: 인 | E19: 0.023 | H19: 89566 | I19: =E19*H19 -> 2060.018 | L19: 89566 | M19: 2060
B20: 크레인(트럭) | C20: 20 TON | D20: HR | E20: 0.0445 | F20: 9179 | G20: 408.4 | H20: 27168 | I20: =E20*H20 -> 1208.976 | J20: 47994 | K20: 2135.7 | L20: 84341 | M20: 3753 | N20: 중기 10호
B21: 공구손료 | C21: 인력품의 3% | D21: 식 | E21: 1 | F21: 6050.7 | G21: 181.5 | I21: =E21*H21 -> 0 | L21: 6050.7 | M21: 181.5 | N21: 자재에입력
B22: 합 계 | G22: 589 | I22: =SUM(I18:I21) -> 7259.713 | K22: 2135 | M22: 9983 | O22: =A17 -> 일위02호
A23: 일위03호 | B23: 우레탄방수 바닥3mm, 노출 M2 건축 13-5
B24: 우레탄방수제 | C24: 우레탄(노출) | D24: KG | E24: 3.9 | F24: 3400 | G24: 13260 | H24: 0 | I24: =E24*H24 -> 0 | J24: 0 | K24: 0 | L24: =SUM(F24,H24,J24) -> 3400 | M24: =SUM(G24,I24,K24) -> 13260
B25: 우레탄방수제 | C25: 마감코팅제 | D25: KG | E25: 0.295 | F25: 4000 | G25: 1180 | H25: 0 | I25: =E25*H25 -> 0 | J25: 0 | K25: 0 | L25: =SUM(F25,H25,J25) -> 4000 | M25: =SUM(G25,I25,K25) -> 1180
B26: 우레탄방수제 | C26: 프라이머 | D26: L | E26: 0.402 | F26: 3450 | G26: 1386.9 | H26: 0 | I26: =E26*H26 -> 0 | J26: 0 | K26: 0 | L26: =SUM(F26,H26,J26) -> 3450 | M26: =SUM(G26,I26,K26) -> 1386.9
B27: 우레탄방수제 | C27: 희석재 | D27: L | E27: 0.41 | F27: 1980 | G27: 811.8 | H27: 0 | I27: =E27*H27 -> 0 | J27: 0 | K27: 0 | L27: =SUM(F27,H27,J27) -> 1980 | M27: =SUM(G27,I27,K27) -> 811.8
B28: 노무비 | C28: 방수공 | D28: 인 | E28: 0.08 | F28: 0 | G28: 0 | H28: 105008 | I28: =E28*H28 -> 8400.64 | J28: 0 | K28: 0 | L28: =SUM(F28,H28,J28) -> 105008 | M28: =SUM(G28,I28,K28) -> 8400.64
B29: 노무비 | C29: 보통인부 | D29: 인 | E29: 0.05 | F29: 0 | G29: 0 | H29: 89566 | I29: =E29*H29 -> 4478.3 | J29: 0 | K29: 0 | L29: =SUM(F29,H29,J29) -> 89566 | M29: =SUM(G29,I29,K29) -> 4478.3
B30: 공구손료 | C30: 인력품의 3% | D30: 식 | E30: 1 | F30: 374.32 | G30: 374.3 | H30: 0 | I30: =E30*H30 -> 0 | J30: 0 | K30: 0 | L30: =SUM(F30,H30,J30) -> 374.32 | M30: =SUM(G30,I30,K30) -> 374.3
B31: [ 합 계 ] | G31: 17013 | I31: =SUM(I24:I30) -> 12878.94 | K31: 0 | M31: =SUM(G31,I31,K31) -> 29891.94 | O31: =A23 -> 일위03호
A32: 일위04호 | B32: 우레탄방수 벽3mm, 노출 M2 건축 13-5
B33: 우레탄방수제 | C33: 우레탄(노출) | D33: KG | E33: 3.9 | F33: 3400 | G33: 13260 | H33: 0 | I33: =E33*H33 -> 0 | J33: 0 | K33: 0 | L33: =SUM(F33,H33,J33) -> 3400 | M33: =SUM(G33,I33,K33) -> 13260
B34: 우레탄방수제 | C34: 마감코팅제 | D34: KG | E34: 0.295 | F34: 4000 | G34: 1180 | H34: 0 | I34: =E34*H34 -> 0 | J34: 0 | K34: 0 | L34: =SUM(F34,H34,J34) -> 4000 | M34: =SUM(G34,I34,K34) -> 1180
B35: 우레탄방수제 | C35: 프라이머 | D35: L | E35: 0.402 | F35: 3450 | G35: 1386.9 | H35: 0 | I35: =E35*H35 -> 0 | J35: 0 | K35: 0 | L35: =SUM(F35,H35,J35) -> 3450 | M35: =SUM(G35,I35,K35) -> 1386.9
B36: 우레탄방수제 | C36: 희석재 | D36: L | E36: 0.41 | F36: 1980 | G36: 811.8 | H36: 0 | I36: =E36*H36 -> 0 | J36: 0 | K36: 0 | L36: =SUM(F36,H36,J36) -> 1980 | M36: =SUM(G36,I36,K36) -> 811.8
B37: 노무비 | C37: 방수공 | D37: 인 | E37: 0.104 | F37: 0 | G37: 0 | H37: 105008 | I37: =E37*H37 -> 10920.832 | J37: 0 | K37: 0 | L37: =SUM(F37,H37,J37) -> 105008 | M37: =SUM(G37,I37,K37) -> 10920.832
B38: 노무비 | C38: 보통인부 | D38: 인 | E38: 0.065 | F38: 0 | G38: 0 | H38: 89566 | I38: =E38*H38 -> 5821.79 | J38: 0 | K38: 0 | L38: =SUM(F38,H38,J38) -> 89566 | M38: =SUM(G38,I38,K38) -> 5821.79
B39: 공구손료 | C39: 인력품의 3% | D39: 식 | E39: 1 | F39: 486.62 | G39: 486.6 | H39: 0 | I39: =E39*H39 -> 0 | J39: 0 | K39: 0 | L39: =SUM(F39,H39,J39) -> 486.62 | M39: =SUM(G39,I39,K39) -> 486.6
B40: [ 합 계 ] | G40: 17125 | I40: =SUM(I33:I39) -> 16742.622 | K40: 0 | M40: =SUM(G40,I40,K40) -> 33867.622 | O40: =A32 -> 일위04호
A41: 일위05호 | B41: 바탕처리 | C41: 청소 | D41: m2 | N41: 표준품셈
B42: 보통인부 | D42: 인 | E42: 0.02 | H42: 87805 | I42: 1756.1 | L42: 87805 | M42: 1756.1
B43: [ 합 계 ] | G43: 0 | I43: 1756.1 | M43: 1756.1 | O43: =A41 -> 일위05호
A44: 일위06호 | B44: IPALG 트라이슈머 단열복합시트 방수 | C44: 조립식 판넬, Standard | D44: m2 | N44: 물가자료 부록
B45: IPALG 조인트용 실란트 | D45: kg | E45: 0.3 | F45: 12000 | G45: 3600 | L45: 12000 | M45: 3600
B46: IPALG 조인트용 접착제 | D46: kg | E46: 0.34 | F46: 15000 | G46: 5100 | L46: 15000 | M46: 5100
B47: IPALG 트라이슈머 단열베이스카펫 | D47: m2 | E47: 1 | F47: 11000 | G47: 11000 | L47: 11000 | M47: 11000
B48: IPALG 트라이슈머 단열복합시트 | D48: m2 | E48: 1 | F48: 30000 | G48: 30000 | L48: 30000 | M48: 30000
B49: IPALG 트라이슈머 TOP | D49: kg | E49: 0.35 | F49: 11000 | G49: 3850 | L49: 11000 | M49: 3850
B50: 방수공 | D50: 인 | E50: 0.08 | H50: 101093 | I50: 8087.4 | L50: 101093 | M50: 8087.4
B51: 보통인부 | D51: 인 | E51: 0.07 | H51: 87805 | I51: 6146.3 | L51: 87805 | M51: 6146.3
B52: 공구손료 | C52: 노무비의 3% | D52: 식 | E52: 1 | K52: 427.1 | M52: 427.1
B53: [ 합 계 ] | G53: 53550 | I53: 14233.7 | K53: 427.1 | M53: 68210.8 | O53: =A44 -> 일위06호
A54: 일위07호 | B54: 상자홈통해체후재설치 | C54: 기존자재사용,철물신설 | D54: 개 | N54: 건축13-2-4
B55: 일반철물 | C55: 선홈통지지철물, 스텐 | D55: EA | E55: 1 | F55: 3300 | G55: 3300 | L55: 3300 | M55: 3300
B56: 배관공 | D56: 인 | E56: 0.18 | H56: 122333 | I56: 22019.9 | L56: 122333 | M56: 22019.9
B57: [ 합 계 ] | G57: 3300 | I57: 22019 | K57: 0 | M57: 25319 | O57: =A54 -> 일위07호
A58: 일위08호 | B58: 수밀코킹(10mm각) 실리콘,창호주위(양면) M 건축 13-12-1
B59: 실링재 | C59: 실리콘(비초산),유리용,창호주위 | D59: L | E59: 0.12 | F59: 9310 | G59: 1117.2 | H59: 0 | I59: 0 | J59: 0 | K59: 0 | L59: 9310 | M59: 1117.2
B60: 노무비 | C60: 코킹공 | D60: 인 | E60: 0.03 | F60: 0 | G60: 0 | H60: 115796 | I60: 3473.8 | J60: 0 | K60: 0 | L60: 115796 | M60: 3473.8
B61: [ 소 계 ] | G61: 1117 | I61: 3473 | K61: 0 | M61: 4590
B62: [ 합 계 ] | C62: (양면) | G62: =G61*2 -> 2234 | I62: =I61*2 -> 6946 | K62: =K61*2 -> 0 | M62: =SUM(G62,I62,K62) -> 9180 | O62: =A58 -> 일위08호
A63: 일위09호 | B63: 유리끼우기코킹 실리콘,유리용-양면 M 건축 13-12-1
B64: 실링재 | C64: 실리콘(초산), 유리용 | D64: L | E64: 0.06 | F64: 6300 | G64: 378 | H64: 0 | I64: 0 | J64: 0 | K64: 0 | L64: 6300 | M64: 378
B65: [ 소 계 ] | G65: 378 | I65: 0 | K65: 0 | M65: 378
B66: [ 합 계 ] | C66: (양면) | G66: =G65*2 -> 756 | I66: =I65*2 -> 0 | K66: =K65*2 -> 0 | M66: =SUM(G66,I66,K66) -> 756 | O66: =A63 -> 일위09호
A67: 일위10호 | B67: 잡철물제작설치(철제) 간단 톤 건축 15-6 ( 호표 299 )
B68: 연강용 피복아크 용접봉 | C68: Φ3.2mm, CR-13 | D68: KG | E68: 18.48 | F68: 2380 | G68: 43982.4 | H68: 0 | I68: 0 | J68: 0 | K68: 0 | L68: 2380 | M68: 43982.4
B69: 산소 가스 | C69: 기체 | D69: L | E69: 6300 | F69: 1.83 | G69: 11529 | H69: 0 | I69: 0 | J69: 0 | K69: 0 | L69: 1.8 | M69: 11529
B70: 아세틸렌 가스(835L) | C70: 98%용접용 | D70: KG | E70: 2.8 | F70: 9500 | G70: 26600 | H70: 0 | I70: 0 | J70: 0 | K70: 0 | L70: 9500 | M70: 26600
B71: 용접기(교류) | C71: 500A | D71: HR | E71: 20.83 | F71: 0 | G71: 0 | H71: 0 | I71: 0 | J71: 124 | K71: 2582.9 | L71: 124 | M71: 2582.9
B72: 공통자재 | C72: 전력 | D72: KWH | E72: 126 | F72: 0 | G72: 0 | H72: 0 | I72: 0 | J72: 87 | K72: 10962 | L72: 87 | M72: 10962
B73: 노무비 | C73: 철공 | D73: 인 | E73: 27.65 | F73: 0 | G73: 0 | H73: 138946 | I73: 3841856.9 | J73: 0 | K73: 0 | L73: 138946 | M73: 3841856.9
B74: 노무비 | C74: 보통인부 | D74: 인 | E74: 0.66 | F74: 0 | G74: 0 | H74: 87805 | I74: 57951.3 | J74: 0 | K74: 0 | L74: 87805 | M74: 57951.3
B75: 노무비 | C75: 용접공 | D75: 인 | E75: 2.6 | F75: 0 | G75: 0 | H75: 134516 | I75: 349741.6 | J75: 0 | K75: 0 | L75: 134516 | M75: 349741.6
B76: 노무비 | C76: 특별인부 | D76: 인 | E76: 0.74 | F76: 0 | G76: 0 | H76: 108245 | I76: 80101.3 | J76: 0 | K76: 0 | L76: 108245 | M76: 80101.3
B77: 공구손료 | C77: 인력품의 3% | D77: 식 | E77: 1 | F77: 129889.53 | G77: 129889.5 | H77: 0 | I77: 0 | J77: 0 | K77: 0 | L77: 129889.5 | M77: 129889.5
B78: [ 합 계 ] | G78: 212000 | I78: 4329651 | K78: 13544 | M78: 4555195 | O78: =A67 -> 일위10호
A79: 일위11호 | B79: 그라우팅 | C79: 균열보수 | D79: M
B80: 아크릴탄성크랙카바재 | C80: AC-100 | D80: kg | E80: 0.15 | F80: 8000 | G80: 1200 | L80: 8000 | M80: 1200
B81: 수중용에폭시실링재 | C81: 조이너 W | D81: kg | E81: 0.2 | F81: 33000 | G81: 6600 | L81: 33000 | M81: 6600
B82: 발포우레탄지수재(1차) | C82: UF-1 | D82: kg | E82: 0.5 | F82: 18000 | G82: 9000 | L82: 18000 | M82: 9000
B83: 고강도우레탄지수재(2차) | C83: UF-1001 | D83: kg | E83: 0.25 | F83: 21000 | G83: 5250 | L83: 21000 | M83: 5250
B84: PACKER | C84: 10*60mm | D84: 개 | E84: 5 | F84: 600 | G84: 3000 | L84: 600 | M84: 3000
B85: 잡재료비 | C85: 재료비의3% | D85: 식 | E85: 1 | F85: 752 | G85: 752 | L85: 752 | M85: 752
B86: 공구손료 | C86: 인건비의2% | D86: 식 | E86: 1 | F86: 122 | G86: 122 | L86: 122 | M86: 122
B87: 방수공 | D87: 인 | E87: 0.03 | H87: 101093 | I87: 3032.79 | L87: 101093 | M87: 3032.79
B88: 특별인부 | D88: 인 | E88: 0.02 | H88: 108245 | I88: 2164.9 | L88: 108245 | M88: 2164.9
B89: 보통인부 | D89: 인 | E89: 0.01 | H89: 87805 | I89: 878.05 | L89: 87805 | M89: 878.05
B90: [ 합 계 ] | G90: 25924 | I90: 6075.74 | K90: 0 | M90: 31999.74 | O90: =A79 -> 일위11호
A91: 일위13호 | B91: 벽지바름(모르타르면) 실크 M2 건축 20-3-1
B92: 초배지 | C92: 초배지 | D92: M2 | E92: 1.2 | F92: 94 | G92: 112.8 | H92: 0 | I92: 0 | J92: 0 | K92: 0 | L92: 94 | M92: 112.8
B93: 비닐벽지 | C93: 실크형, A급 | D93: M2 | E93: 1.2 | F93: 2121 | G93: 2545.2 | H93: 0 | I93: 0 | J93: 0 | K93: 0 | L93: 2121 | M93: 2545.2
B94: 초산비닐계접착제 | C94: 벽지용 | D94: KG | E94: 0.3 | F94: 847 | G94: 254.1 | H94: 0 | I94: 0 | J94: 0 | K94: 0 | L94: 847 | M94: 254.1
B95: 노무비 | C95: 도배공 | D95: 인 | E95: 0.024 | F95: 0 | G95: 0 | H95: 116098 | I95: 2786.3 | J95: 0 | K95: 0 | L95: 116098 | M95: 2786.3
B96: 노무비 | C96: 보통인부 | D96: 인 | E96: 0.006 | F96: 0 | G96: 0 | H96: 87805 | I96: 526.8 | J96: 0 | K96: 0 | L96: 87805 | M96: 526.8
B97: [ 합 계 ] | G97: 2912 | I97: 3313 | K97: 0 | M97: 6225 | O97: =A91 -> 일위13호
A98: 일위14호 | B98: 반자지바름(석고보드면) 실크 M2 건축 20-3-1
B99: 초배지 | C99: 초배지 | D99: M2 | E99: 0.8 | F99: 94 | G99: 75.2 | H99: 0 | I99: 0 | J99: 0 | K99: 0 | L99: 94 | M99: 75.2
B100: 초배지 | C100: 재배지 | D100: M2 | E100: 1.2 | F100: 94 | G100: 112.8 | H100: 0 | I100: 0 | J100: 0 | K100: 0 | L100: 94 | M100: 112.8
...
