Workbook

Sheet 원가계산서
B1: 공 사 원 가 계 산 서
B2: 공사명 : 익산함열우체국 지정폐기물(석면) 처리용역
B3: 비 목 | E3: 금 액 | F3: 구 성 비 | G3: 비 고
A4: A1 | B4: 순 공 사 원 가 | C4: 재 료 비 | D4: 직 접 재 료 비 | E4: =TRUNC(공종별내역서!F26, 0) -> 0
A5: A2 | D5: 간 접 재 료 비 | E5: 0
A6: A3 | D6: 작업설, 부산물(△) | E6: 0
A7: AS | D7: [ 소 계 ] | E7: =TRUNC(E4+E5-E6, 0) -> 0
A8: B1 | C8: 노 무 비 | D8: 직 접 노 무 비 | E8: =TRUNC(공종별내역서!H26, 0) -> 0
A9: B2 | D9: 간 접 노 무 비 | E9: =TRUNC(E8*0.096, 0) -> 0
A10: BS | D10: [ 소 계 ] | E10: =TRUNC(E8+E9, 0) -> 0
A11: C2 | C11: 경 비 | D11: 기 계 경 비 | E11: =TRUNC(공종별내역서!J26, 0) -> 4487040
A12: CS | D12: [ 소 계 ] | E12: =TRUNC(E11, 0) -> 4487040
A13: S1 | B13: 계 | E13: =TRUNC(E7+E10+E12, 0) -> 4487040
A14: D9 | B14: 공 급 가 액 | E14: =TRUNC(E13, 0) -> 4487040
A15: DB | B15: 부 가 가 치 세 | E15: =TRUNC(E14*0.1, 0) -> 448704 | F15: 공급가액 * 10%
A16: DH | B16: 도 급 액 | E16: =TRUNC(E14+E15, 0) -> 4935744
A17: S2 | B17: 총 공 사 비 | E17: =TRUNC(E16, 0) -> 4935744
A18: S4 | B18: 결 정 금 액 | E18: =TRUNC(E17,-3) -> 4935000 | F18: 천단위이하절사

Sheet 공종별내역서
A1: 공 종 별 내 역 서
A2: [ 익산함열우체국 지정폐기물(석면) 처리용역 ]
A3: 품 명 | B3: 규 격 | C3: 단위 | D3: 수량 | E3: 재 료 비 | G3: 노 무 비 | I3: 경 비 | K3: 합 계 | M3: 비 고 | N3: 품목코드 | O3: 변수 | P3: 설정 | Q3: 공종코드 | R3: 일위 | S3: 단산 | T3: 자재 | U3: 손료적용 | V3: 손료저장 | W3: 적용율 | X3: JUK1 | Y3: JUK2 | Z3: JUK3 | AA3: JUK4 | AB3: JUK5 | AC3: JUK6 | AD3: JUK7 | AE3: JUK8 | AF3: JUK9 | AG3: JUK10 | AH3: JUK11 | AI3: JUK12 | AJ3: JUK13 | AK3: JUK14 | AL3: JUK15 | AM3: JUK16 | AN3: JUK17 | AO3: JUK18 | AP3: JUK19 | AQ3: JUK20 | AR3: 자재구분 | AS3: 공종구분 | AT3: 공종레벨 | AU3: 공종+자재 | AV3: 고유번호
E4: 단 가 | F4: 금 액 | G4: 단 가 | H4: 금 액 | I4: 단 가 | J4: 금 액 | K4: 단 가 | L4: 금 액
A5: 0101 지정폐기물처리비 | Q5: 0101
A6: 폐석면처리비 | C6: 톤 | D6: 5.67 | E6: =TRUNC(단가대비표!O6,0) -> 0 | F6: =TRUNC(E6*D6, 0) -> 0 | G6: =TRUNC(단가대비표!P6,0) -> 0 | H6: =TRUNC(G6*D6, 0) -> 0 | I6: =TRUNC(단가대비표!V6,0) -> 280000 | J6: =TRUNC(I6*D6, 0) -> 1587600 | K6: =TRUNC(E6+G6+I6, 0) -> 280000 | L6: =TRUNC(F6+H6+J6, 0) -> 1587600 | N6: 5E23852F4B53DBE14F396973BFD2 | Q6: 0101 | R6: F | S6: F | T6: T | AU6: 01015E23852F4B53DBE14F396973BFD2 | AV6: 29
A7: 폐석면운반비 | B7: 17톤/회 | C7: 회 | D7: 1 | E7: =TRUNC(단가대비표!O7,0) -> 0 | F7: =TRUNC(E7*D7, 0) -> 0 | G7: =TRUNC(단가대비표!P7,0) -> 0 | H7: =TRUNC(G7*D7, 0) -> 0 | I7: =TRUNC(단가대비표!V7,0) -> 500000 | J7: =TRUNC(I7*D7, 0) -> 500000 | K7: =TRUNC(E7+G7+I7, 0) -> 500000 | L7: =TRUNC(F7+H7+J7, 0) -> 500000 | N7: 5E23852F4B53DBE14F3966BED48E | Q7: 0101 | R7: F | S7: F | T7: T | AU7: 01015E23852F4B53DBE14F3966BED48E | AV7: 30
A8: 폐석면 상차비 | C8: 회 | D8: 1 | E8: 0 | F8: =TRUNC(E8*D8, 0) -> 0 | G8: 0 | H8: =TRUNC(G8*D8, 0) -> 0 | I8: 139440 | J8: =TRUNC(I8*D8, 0) -> 139440 | K8: =TRUNC(E8+G8+I8, 0) -> 139440 | L8: =TRUNC(F8+H8+J8, 0) -> 139440 | N8: 5E238524A252D34140726A81820F | Q8: 0101 | R8: T | S8: F | T8: F | AU8: 01015E238524A252D34140726A81820F | AV8: 31
A9: 공기중 석면농도측정 | C9: 식 | D9: 1 | I9: 900000 | J9: =TRUNC(I9*D9, 0) -> 900000 | K9: =TRUNC(E9+G9+I9, 0) -> 900000 | L9: =TRUNC(F9+H9+J9, 0) -> 900000 | M9: 견적
A10: 석면비산정도측정 | C10: 식 | D10: 1 | I10: 1360000 | J10: =TRUNC(I10*D10, 0) -> 1360000 | K10: =TRUNC(E10+G10+I10, 0) -> 1360000 | L10: =TRUNC(F10+H10+J10, 0) -> 1360000 | M10: 견적
A26: [ 합 계 ] | F26: =SUM(F6:F25) -> 0 | H26: =SUM(H6:H25) -> 0 | J26: =SUM(J6:J25) -> 4487040 | L26: =SUM(L6:L25) -> 4487040 | N26: TOTAL

Sheet 단가대비표
A1: 단 가 대 비 표
A2: [ 익산함열우체국 지정폐기물(석면) 처리용역 ]
A3: 코 드 | B3: 품 명 | C3: 규격 | D3: 단위 | E3: 재 료 비 | P3: 노 무 비 | Q3: 경 비 | W3: 번 호 | X3: 비 고 | Y3: 품목구분 | Z3: 노임구분 | AA3: 소수점처리 | AB3: 자재구분
E4: 가격정보 | F4: PAGE | G4: 거래가격 | H4: PAGE | I4: 유통물가 | J4: PAGE | K4: 조사가격1 | L4: PAGE | M4: 조사가격2 | N4: PAGE | O4: 적용단가 | Q4: 가격정보 | R4: 거래가격 | S4: 유통물가 | T4: 조사가격1 | U4: 조사가격2 | V4: 적용단가
A5: 5E5F1517455F9221493D67EDCBCA | B5: 지게차 | C5: 5.0톤 | D5: 대 | E5: 0 | G5: 0 | I5: 0 | K5: 0 | M5: 0 | O5: 0 | P5: 0 | Q5: 0 | R5: 0 | S5: 0 | T5: 0 | U5: 0 | V5: 0 | W5: 자재 1
A6: 5E23852F4B53DBE14F396973BFD2 | B6: 폐석면처리비 | D6: 톤 | E6: 0 | G6: 0 | I6: 0 | K6: 0 | M6: 0 | O6: 0 | P6: 0 | Q6: 0 | R6: 0 | S6: 0 | T6: 0 | U6: 280000 | V6: =SMALL(Q6:U6,COUNTIF(Q6:U6,0)+1) -> 280000 | W6: 자재 2
A7: 5E23852F4B53DBE14F3966BED48E | B7: 폐석면운반비 | C7: 17톤/회 | D7: 회 | E7: 0 | G7: 0 | I7: 0 | K7: 0 | M7: 0 | O7: 0 | P7: 0 | Q7: 0 | R7: 0 | S7: 0 | T7: 0 | U7: 500000 | V7: =SMALL(Q7:U7,COUNTIF(Q7:U7,0)+1) -> 500000 | W7: 자재 3
A8: 5E238524A15050C148B7673FE2BB | B8: 노무비 | C8: 건설기계운전사 | D8: 인 | E8: 0 | G8: 0 | I8: 0 | K8: 0 | M8: 0 | O8: 0 | P8: 112268 | Q8: 0 | R8: 0 | S8: 0 | T8: 0 | U8: 0 | V8: 0 | W8: 노임 1 | Y8: B | Z8: T
A9: 5EEEE573715085A14119678BAB49 | B9: 경유 | C9: 저유황 0.003% | D9: L | E9: 1469 | G9: 1707 | H9: 1351 | I9: 1642 | J9: 883 | K9: 1688 | L9: 1259 | M9: 0 | O9: =SMALL(E9:M9,COUNTIF(E9:M9,0)+1) -> 1469 | P9: 0 | Q9: 0 | R9: 0 | S9: 0 | T9: 0 | U9: 0 | V9: 0 | W9: 자재 4
B10: 석면농도측정 | D10: 일 | P10: 0 | Q10: 0 | R10: 0 | S10: 0 | T10: 500000 | U10: 0 | V10: 0 | W10: 자재 5
B11: 공기중시료측정 | D11: EA | P11: 0 | Q11: 0 | R11: 0 | S11: 0 | T11: 23300 | U11: 0 | V11: 0 | W11: 자재 6
B12: 비산농도측정 | D12: 일 | P12: 0 | Q12: 0 | R12: 0 | S12: 0 | T12: 650000 | U12: 0 | V12: 0 | W12: 자재 7

Sheet  공사설정 
A1: 이 Sheet는 수정하지 마십시요
A2: 공사구분 | B2: A
A3: 확정내역 | B3: 원내역
A4: 자재단가적용 | B4: 5
A5: 경비단가적용 | B5: 5
A6: 품목코드형식 | B6: XXXX-XXXX-XXXXXXXXX
A7: 내역금액소수점처리 | B7: C | C7: T
A8: 일위대가내역소수점처리 | B8: C | C8: 2
A9: 단가명 | B9: 가격정보 | C9: 거래가격 | D9: 유통물가 | E9: 조사가격1 | F9: 조사가격2 | G9: TTTTT
A10: 환율 | B10: 1099 | C10: 0 | D10: 0
A11: 시간당작업량 | B11: R | C11: 4
A12: 1회 사이클시간 | B12: R | C12: 4
A13: 시간당 작업사이클 | B13: R | C13: 3
A14: 일반변수 | B14: C | C14: 5
A15: 시간당 노임산출 계수 | B15: A | C15: 1/8*16/12*25/20 | D15: 1/8*16/12*25/20 | E15: 1/8*16/12*25/20 | F15: 1
A16: 재료비 할증 계수 | B16: 1.11 | C16: 1.12
A17: 노무비 할증 계수 | B17: 1 | C17: 1.5 | D17: 1.16 | E17: 1.6 | F17: 1.6 | G17: 1.6 | H17: 1.94 | I17: 1.94 | J17: 1.94 | K17: 1 | L17: 1 | M17: 1
A18: 경비 할증 계수 | B18: 1.25 | C18: 1.071
A19: 내역,일위대가 품명,규격,단위 따로적용
A21: 코드 | B21: 공종구분명 | C21: 원가비목코드
A22: 1 | B22: 작 업 부 산 물 | C22: A3
A23: 2 | B23: 운 반 비 | C23: C1
A24: 3 | B24: 관 급 자 재 비 | C24: DJ
A25: 4 | B25: 사 급 자 재 비 | C25: D3
A26: 5 | B26: 외 자 재
A27: 6 | B27: 건설폐기물처리비 | C27: D4
A28: 7 | B28: 지정폐기물처리비 | C28: D5
A29: 8 | B29: ...
A30: 9 | B30: ...

Sheet 자재산출
B1: 자 재 산 출 내 역
A2: [ 익산함열우체국 지정폐기물(석면) 처리용역 ]
A3: 부위별 | B3: 품 명 | C3: 규 격 | D3: 단위 | E3: 수량 | F3: 산출내역 | G3: 비 고 | H3: 품목코드 | I3: 변수 | J3: 설정 | K3: 공종코드 | L3: 일위 | M3: 단산 | N3: 자재 | O3: 손료적용 | P3: 손료저장 | Q3: 적용율 | R3: JUK1 | S3: JUK2 | T3: JUK3 | U3: JUK4 | V3: JUK5 | W3: JUK6 | X3: JUK7 | Y3: JUK8 | Z3: JUK9 | AA3: JUK10 | AB3: JUK11 | AC3: JUK12 | AD3: JUK13 | AE3: JUK14 | AF3: JUK15 | AG3: JUK16 | AH3: JUK17 | AI3: JUK18 | AJ3: JUK19 | AK3: JUK20 | AL3: 자재구분 | AM3: 공종구분 | AN3: 공종레벨 | AO3: 공종+자재 | AP3: 고유번호
A4: 0101 지정폐기물 처리비 | K4: 0102
B5: 석면건축자재(천정재)철거 | C5: 60M2 이상 | D5: 톤 | E5: =(14+28.2+432.6+87.5)*7.5*0.001 -> 4.21725 | F5: (텍스,밤라이트) (14+28.2+432.6+87.5)*7.5*0.001 | H5: 5C1B435F2D9CFB4AE779603822A308 | K5: 0102 | L5: F | M5: F | N5: T | AO5: 01025C1B435F2D9CFB4AE779603822A308 | AP5: 35
F6: *벽산자재이력 석면텍스 중량환산:7.5kg/㎡ (두께:6mm) | H6: 5B5123CA2296128529A9761A8B40 | K6: 0102 | L6: F | M6: F | N6: T | AO6: 01025B5123CA2296128529A9761A8B40 | AP6: 32
F7: *600㎡이상 건물은 의무적으로 석면조사대상 건물임 | H7: 5B5123CA2296128529A9808182F0 | K7: 0102 | L7: F | M7: F | N7: T | AO7: 01025B5123CA2296128529A9808182F0 | AP7: 33
B8: 석면건축자재(내벽재,칸막이재)철거 | C8: 60M2 이상 | D8: M2 | E8: =(11.1+6.6+136.24)*9.43*0.001 -> 1.4516542 | F8: (밤라이트) (11.1+6.6+136.24)*9.43*0.001
C9: <합계> | E9: =SUM(E5,E8) -> 5.6689042

Sheet 견적서
