Workbook

Sheet 원가계산서
A1: 원 가 계 산 서
A2: 공사명 : 전주우편집중국 석면철거 보수공사 | F2: [단위 : 원]
A3: 구 분 비 목 | D3: 구 성 비 | E3: 금 액 | F3: 비 고
A5: 순 공 사 원 가 | B5: 재료비 | C5: 직 접 재 료 비 | E5: =내역서!F34 -> 13756353
C6: 간 접 재 료 비
C7: 작업설.부산물 등(△)
C8: 소 계 | E8: =SUM(E5:E7) -> 13756353
B9: 노무비 | C9: 직 접 노 무 비 | E9: =내역서!H34 -> 8688847.9
C10: 간 접 노 무 비 | D10: 직.노*9.6% | E10: =E9*0.096 -> 834129.4
C11: 소 계 | E11: =SUM(E9:E10) -> 9522977.3
B12: 경 비 | C12: 기 계 경 비 | E12: =내역서!J34 -> 1550685.8
C13: 산 재 보 험 료 | D13: (노)*3.8% | E13: =E11*0.038 -> 361873.14
C14: 고 용 보 험 료 | D14: (노)*0.87% | E14: =E11*0.0087 -> 82849.902
C15: 건 강 보 험 료 | D15: (직.노)*1.7% | F15: 1개월이상적용
C16: 연 금 보 험 료 | D16: (직.노)*2.49% | F16: 1개월이상적용
C17: 노인 장기 요양보험료 | D17: (건강보험료)*6.55% | E17: =E15*H17 -> 0 | F17: 1개월이상적용
C18: 퇴 직 공 제 부 금 비 | D18: (직.노)*2.3% | F18: 3억원이상적용
C19: 안 전 관 리 비 | D19: (재+직.노)*2.93% | F19: 4천만원이상
C20: 기 타 경 비 | D20: (재+노)*3.03% | E20: =(E8+E11)*0.0303 -> 705363.71
C21: 환 경 보 전 비 | D21: (재+직.노+기.경)*0.3% | E21: =(E8+E9+E12)*0.003 -> 71987.661
C22: 소 계 | E22: =SUM(E12:E21) -> 2772760.2
B23: 계 | E23: =E8+E11+E22 -> 26052091
A24: 일 반 관 리 비 | D24: (재+노+경)*6% | E24: =E23*0.06 -> 1563125.4
A25: 이 윤 | D25: (노+경+일)*10.51% | E25: =(E11+E22+E24)*0.1051 -> 1456566.5
A26: 폐 기 물 처 리 비
A27: 총 원 가 | E27: =SUM(E23:E26) -> 29071783
A28: 부 가 가 치 세 | D28: (총원가)*10% | E28: =E27*0.1 -> 2907178.3
A29: 도 급 금 액 | E29: =ROUNDDOWN(E28+E27,-3) -> 31978000 | F29: 천원이하절삭

Sheet 내역서
A1: 공 종 별 내 역 서
A2: 공사명 : 전주우편집중국 석면철거 보수공사 | M2: [단위 : 원]
A3: 품 명 | B3: 규 격 | C3: 단위 | D3: 수 량 | E3: 재 료 비 | G3: 노 무 비 | I3: 경 비 | K3: 합 계 | M3: 비고
E4: 단 가 | F4: 금 액 | G4: 단 가 | H4: 금 액 | I4: 단 가 | J4: 금 액 | K4: 단 가 | L4: 금 액
A5: 1. 철거공사
A6: 이동식강관말비계 | B6: 1단(2m), 3개월 | C6: 대 | D6: 2 | E6: =INDEX(일위대가!$A$1:$O$307,MATCH(M6,일위대가!$O:$O,0),7) -> 33400 | F6: =D6*E6 -> 66800 | G6: =INDEX(일위대가!$A$1:$O$307,MATCH(M6,일위대가!$O:$O,0),9) -> 53739 | H6: =D6*G6 -> 107478 | I6: =INDEX(일위대가!$A$1:$O$307,MATCH(M6,일위대가!$O:$O,0),11) -> 0 | J6: =D6*I6 -> 0 | K6: =SUM(E6,G6,I6) -> 87139 | L6: =SUM(F6,H6,J6) -> 174278 | M6: 일위01호
A7: 건설장비 대여 | B7: 스카이 18m 1t | C7: 일 | D7: 2 | F7: =D7*E7 -> 0 | H7: =D7*G7 -> 0 | I7: 700000 | J7: =D7*I7 -> 1400000 | K7: =SUM(E7,G7,I7) -> 700000 | L7: =SUM(F7,H7,J7) -> 1400000 | M7: INT
F8: =D8*E8 -> 0 | H8: =D8*G8 -> 0 | J8: =D8*I8 -> 0 | K8: =SUM(E8,G8,I8) -> 0 | L8: =SUM(F8,H8,J8) -> 0
A9: [ 소 계 ] | F9: =SUM(F6:F8) -> 66800 | H9: =SUM(H6:H8) -> 107478 | J9: =SUM(J6:J8) -> 1400000 | K9: =SUM(E9,G9,I9) -> 0 | L9: =SUM(F9,H9,J9) -> 1574278
A10: 2. 수장공사
A11: 시스톤(불연천정판) | B11: M-Bar 9*300*600 | C11: M2 | D11: 422.75 | E11: 6000 | F11: =D11*E11 -> 2536500 | H11: =D11*G11 -> 0 | J11: =D11*I11 -> 0 | K11: =SUM(E11,G11,I11) -> 6000 | L11: =SUM(F11,H11,J11) -> 2536500 | M11: 거래583
A12: 샌드위치판넬 | B12: 50T | C12: M2 | D12: 56 | E12: 33000 | F12: =D12*E12 -> 1848000 | H12: =D12*G12 -> 0 | J12: =D12*I12 -> 0 | K12: =SUM(E12,G12,I12) -> 33000 | L12: =SUM(F12,H12,J12) -> 1848000
A13: 샌드위치(단열)판넬설치 | B13: 지붕 | C13: M2 | D13: 56 | E13: =INDEX(일위대가!$A$1:$O$307,MATCH(M13,일위대가!$O:$O,0),7) -> 589 | F13: =D13*E13 -> 32984 | G13: =INDEX(일위대가!$A$1:$O$307,MATCH(M13,일위대가!$O:$O,0),9) -> 7259.713 | H13: =D13*G13 -> 406543.93 | I13: =INDEX(일위대가!$A$1:$O$307,MATCH(M13,일위대가!$O:$O,0),11) -> 2135 | J13: =D13*I13 -> 119560 | K13: =SUM(E13,G13,I13) -> 9983.713 | L13: =SUM(F13,H13,J13) -> 559087.93 | M13: 일위02호
F14: =D14*E14 -> 0 | H14: =D14*G14 -> 0 | J14: =D14*I14 -> 0 | K14: =SUM(E14,G14,I14) -> 0 | L14: =SUM(F14,H14,J14) -> 0
A15: [ 소 계 ] | F15: =SUM(F11:F14) -> 4417484 | H15: =SUM(H11:H14) -> 406543.93 | J15: =SUM(J11:J14) -> 119560 | K15: =SUM(E15,G15,I15) -> 0 | L15: =SUM(F15,H15,J15) -> 4943587.9
A16: 3. 방수공사
A17: 우레탄방수 | B17: 바닥3mm, 노출 | C17: M2 | D17: 108.3 | E17: =INDEX(일위대가!$A$1:$O$307,MATCH(M17,일위대가!$O:$O,0),7) -> 17013 | F17: =D17*E17 -> 1842507.9 | G17: =INDEX(일위대가!$A$1:$O$307,MATCH(M17,일위대가!$O:$O,0),9) -> 12878.94 | H17: =D17*G17 -> 1394789.2 | I17: =INDEX(일위대가!$A$1:$O$307,MATCH(M17,일위대가!$O:$O,0),11) -> 0 | J17: =D17*I17 -> 0 | K17: =SUM(E17,G17,I17) -> 29891.94 | L17: =SUM(F17,H17,J17) -> 3237297.1 | M17: 일위03호
A18: 우레탄방수 | B18: 벽3mm, 노출 | C18: M2 | D18: 72.04 | E18: =INDEX(일위대가!$A$1:$O$307,MATCH(M18,일위대가!$O:$O,0),7) -> 17125 | F18: =D18*E18 -> 1233685 | G18: =INDEX(일위대가!$A$1:$O$307,MATCH(M18,일위대가!$O:$O,0),9) -> 16742.622 | H18: =D18*G18 -> 1206138.5 | I18: =INDEX(일위대가!$A$1:$O$307,MATCH(M18,일위대가!$O:$O,0),11) -> 0 | J18: =D18*I18 -> 0 | K18: =SUM(E18,G18,I18) -> 33867.622 | L18: =SUM(F18,H18,J18) -> 2439823.5 | M18: 일위04호
A19: 바탕처리 | B19: 지붕 방수면 및 배수로 청소 | C19: M2 | D19: 72.56 | E19: =INDEX(일위대가!$A$1:$O$307,MATCH(M19,일위대가!$O:$O,0),7) -> 0 | F19: =D19*E19 -> 0 | G19: =INDEX(일위대가!$A$1:$O$307,MATCH(M19,일위대가!$O:$O,0),9) -> 1756.1 | H19: =D19*G19 -> 127422.62 | I19: =INDEX(일위대가!$A$1:$O$307,MATCH(M19,일위대가!$O:$O,0),11) -> 0 | J19: =D19*I19 -> 0 | K19: =SUM(E19,G19,I19) -> 1756.1 | L19: =SUM(F19,H19,J19) -> 127422.62 | M19: 일위05호
A20: IPALG 트라이슈머 단열복합시트 방수 | B20: 조립식 판넬, Standard | C20: M2 | D20: 72.56 | E20: =INDEX(일위대가!$A$1:$O$307,MATCH(M20,일위대가!$O:$O,0),7) -> 53550 | F20: =D20*E20 -> 3885588 | G20: =INDEX(일위대가!$A$1:$O$307,MATCH(M20,일위대가!$O:$O,0),9) -> 14233.7 | H20: =D20*G20 -> 1032797.3 | I20: =INDEX(일위대가!$A$1:$O$307,MATCH(M20,일위대가!$O:$O,0),11) -> 427.1 | J20: =D20*I20 -> 30990.376 | K20: =SUM(E20,G20,I20) -> 68210.8 | L20: =SUM(F20,H20,J20) -> 4949375.6 | M20: 일위06호
A21: 창호주위코킹(10mm각) | B21: 실리콘(양면) | C21: M | D21: 551.22 | E21: =INDEX(일위대가!$A$1:$O$307,MATCH(M21,일위대가!$O:$O,0),7) -> 2234 | F21: =D21*E21 -> 1231425.5 | G21: =INDEX(일위대가!$A$1:$O$307,MATCH(M21,일위대가!$O:$O,0),9) -> 6946 | H21: =D21*G21 -> 3828774.1 | I21: =INDEX(일위대가!$A$1:$O$307,MATCH(M21,일위대가!$O:$O,0),11) -> 0 | J21: =D21*I21 -> 0 | K21: =SUM(E21,G21,I21) -> 9180 | L21: =SUM(F21,H21,J21) -> 5060199.6 | M21: 일위08호
A22: 유리끼우기코킹 | B22: 실리콘,유리용-양면 | C22: M | D22: 1011.32 | E22: =INDEX(일위대가!$A$1:$O$307,MATCH(M22,일위대가!$O:$O,0),7) -> 756 | F22: =D22*E22 -> 764557.92 | G22: =INDEX(일위대가!$A$1:$O$307,MATCH(M22,일위대가!$O:$O,0),9) -> 0 | H22: =D22*G22 -> 0 | I22: =INDEX(일위대가!$A$1:$O$307,MATCH(M22,일위대가!$O:$O,0),11) -> 0 | J22: =D22*I22 -> 0 | K22: =SUM(E22,G22,I22) -> 756 | L22: =SUM(F22,H22,J22) -> 764557.92 | M22: 일위09호
F23: =D23*E23 -> 0 | H23: =D23*G23 -> 0 | J23: =D23*I23 -> 0 | K23: =SUM(E23,G23,I23) -> 0 | L23: =SUM(F23,H23,J23) -> 0
A24: [ 소 계 ] | F24: =SUM(F17:F23) -> 8957764.3 | H24: =SUM(H17:H23) -> 7589921.7 | J24: =SUM(J17:J23) -> 30990.376 | K24: =SUM(E24,G24,I24) -> 0 | L24: =SUM(F24,H24,J24) -> 16578676
A25: 4. 기타공사
A26: 화재감기지 철거 후 재설치 | B26: 내선전공,재활용 | C26: EA | D26: 11 | F26: =D26*E26 -> 0 | G26: =20914.6*1.5 -> 31371.9 | H26: =D26*G26 -> 345090.9 | J26: =D26*I26 -> 0 | K26: =SUM(E26,G26,I26) -> 31371.9 | L26: =SUM(F26,H26,J26) -> 345090.9 | M26: 적산1074
A27: 상자홈통해체후재설치 | B27: 기존자재사용,철물신설 | C27: 개 | D27: 6 | E27: =INDEX(일위대가!$A$1:$O$307,MATCH(M27,일위대가!$O:$O,0),7) -> 3300 | F27: =D27*E27 -> 19800 | G27: =INDEX(일위대가!$A$1:$O$307,MATCH(M27,일위대가!$O:$O,0),9) -> 22019 | H27: =D27*G27 -> 132114 | I27: =INDEX(일위대가!$A$1:$O$307,MATCH(M27,일위대가!$O:$O,0),11) -> 0 | J27: =D27*I27 -> 0 | K27: =SUM(E27,G27,I27) -> 25319 | L27: =SUM(F27,H27,J27) -> 151914 | M27: 일위07호
A28: 갈바아닐강판 | B28: 0.3mm, 2.48kg/㎡ | C28: M2 | D28: 4.5 | E28: 3909 | F28: =D28*E28 -> 17590.5 | H28: =D28*G28 -> 0 | J28: =D28*I28 -> 0 | K28: =SUM(E28,G28,I28) -> 3909 | L28: =SUM(F28,H28,J28) -> 17590.5 | M28: 거래52
A29: 잡철물제작설치(철제) | B29: 간단 | C29: 톤 | D29: 0.01 | E29: =INDEX(일위대가!$A$1:$O$307,MATCH(M29,일위대가!$O:$O,0),7) -> 212000 | F29: =D29*E29 -> 2120 | G29: =INDEX(일위대가!$A$1:$O$307,MATCH(M29,일위대가!$O:$O,0),9) -> 4329651 | H29: =D29*G29 -> 43296.51 | I29: =INDEX(일위대가!$A$1:$O$307,MATCH(M29,일위대가!$O:$O,0),11) -> 13544 | J29: =D29*I29 -> 135.44 | K29: =SUM(E29,G29,I29) -> 4555195 | L29: =SUM(F29,H29,J29) -> 45551.95 | M29: 일위10호
A30: 그라우팅 | B30: 균열보수 | C30: M | D30: 10.6 | E30: =INDEX(일위대가!$A$1:$O$307,MATCH(M30,일위대가!$O:$O,0),7) -> 25924 | F30: =D30*E30 -> 274794.4 | G30: =INDEX(일위대가!$A$1:$O$307,MATCH(M30,일위대가!$O:$O,0),9) -> 6075.74 | H30: =D30*G30 -> 64402.844 | I30: =INDEX(일위대가!$A$1:$O$307,MATCH(M30,일위대가!$O:$O,0),11) -> 0 | J30: =D30*I30 -> 0 | K30: =SUM(E30,G30,I30) -> 31999.74 | L30: =SUM(F30,H30,J30) -> 339197.24 | M30: 일위11호
F31: =D31*E31 -> 0 | H31: =D31*G31 -> 0 | J31: =D31*I31 -> 0 | K31: =SUM(E31,G31,I31) -> 0 | L31: =SUM(F31,H31,J31) -> 0
A32: [ 소 계 ] | F32: =SUM(F26:F31) -> 314304.9 | H32: =SUM(H26:H31) -> 584904.25 | J32: =SUM(J26:J31) -> 135.44 | K32: =SUM(E32,G32,I32) -> 0 | L32: =SUM(F32,H32,J32) -> 899344.59
A34: [ 합 계 ] | F34: =SUM(F9,F15,F24,F32) -> 13756353 | G34: =SUM(G15,G24,G32) -> 0 | H34: =SUM(H9,H15,H24,H32) -> 8688847.9 | I34: =SUM(I15,I24,I32) -> 0 | J34: =SUM(J9,J15,J24,J32) -> 1550685.8 | K34: =SUM(K15,K24,K32) -> 0 | L34: =SUM(L9,L15,L24,L32) -> 23995887

Sheet 자재산출
A1: 자 재 산 출 내 역
A2: 공사명 : 전주우편집중국 석면철거 보수공사
A3: 위치 | B3: 품명 | C3: 규격 | D3: 단위 | E3: 수량 | F3: 산출식 | G3: 비고
A4: 1. 가설공사
B5: 이동식강관말비계 | C5: 1단(2m), 3개월 | D5: 대 | E5: 2 | F5: 천정보수
B6: 건설장비 대여 | C6: 스카이 18m 1t | D6: 일 | E6: 2 | F6: 외벽 창호방수(실리콘)
A8: 2. 수장공사
B9: 시스톤(불연천정판) | C9: M-Bar 9*300*600 | D9: M2 | E9: =244.87+81.88+16*6+3*6 -> 440.75 | F9: 244.87+81.88+(물류지원단:16*6)+(제어동계단실:3*6)
B10: 샌드위치판넬 | C10: 50T | D10: M2 | E10: =3.5*4*2*2 -> 56 | F10: 공조실 환기구:3.5*4*2*2
B11: 샌드위치(단열)판넬설치 | C11: 지붕 | D11: M2 | E11: =3.5*4*2*2 -> 56 | F11: 공조실 환기구:3.5*4*2*2
A13: 3. 방수공사
B14: 우레탄방수 | C14: 바닥3mm, 노출 | D14: M2 | E14: =6*3+3*6+4*12+2.7*9 -> 108.3 | F14: 6*3+3*6+4*12+2.7*9
B15: 우레탄방수 | C15: 벽3mm, 노출 | D15: M2 | E15: =(6+3)*2*1+(3+6)*2*0.8+(4+12)*2*0.8+(2.7+9)*2*0.6 -> 72.04 | F15: (6+3)*2*1+(3+6)*2*0.8+(4+12)*2*0.8+(2.7+9)*2*0.6
B16: 바탕처리 | C16: 지붕 방수면 및 배수로 청소 | D16: M2 | E16: =(2.7+6.8+2.4+29+2.7)*(0.5*2+0.6)+3.5*0.8 -> 72.56 | F16: (2.7+6.8+2.4+29+2.7)*(0.5*2+0.6)+3.5*0.8
B17: IPALG 트라이슈머 단열복합시트 방수 | C17: 조립식 판넬, Standard | D17: M2 | E17: =(2.7+6.8+2.4+29+2.7)*(0.5*2+0.6)+3.5*0.8 -> 72.56 | F17: (2.7+6.8+2.4+29+2.7)*(0.5*2+0.6)+3.5*0.8
B18: 창호주위코킹(10mm각) | C18: 실리콘(양면) | D18: M | E18: =(1.9+3)*2 -> 9.8 | F18: (1.9+3)*2 | G18: 6-AG:1개소
B19: 창호주위코킹(10mm각) | C19: 실리콘(양면) | D19: M | E19: =(53-3)*2+2.35*7 -> 116.45 | F19: (53-3)*2+2.35*7 | G19: 8-AW:1개소
B20: 창호주위코킹(10mm각) | C20: 실리콘(양면) | D20: M | E20: =(53-3)*2+2.35*7 -> 116.45 | F20: (53-3)*2+2.35*7 | G20: 9-AW:1개소
B21: 창호주위코킹(10mm각) | C21: 실리콘(양면) | D21: M | E21: =(1+10.77)*2*8 -> 188.32 | F21: (1+10.77)*2*8 | G21: 10-AW:8개소
B22: 창호주위코킹(10mm각) | C22: 실리콘(양면) | D22: M | E22: =((1+(2.45+0.8+2.3))*2+1*2)*2 -> 30.2 | F22: ((1+(2.45+0.8+2.3))*2+1*2)*2 | G22: 10A-AW:2개소
B23: 창호주위코킹(10mm각) | C23: 실리콘(양면) | D23: M | E23: =((1+(2.25+2.3))*2+1)*2 -> 24.2 | F23: ((1+(2.25+2.3))*2+1)*2 | G23: 10B-AW:2개소
B24: 창호주위코킹(10mm각) | C24: 실리콘(양면) | D24: M | E24: =(2+3.15)*2*2 -> 20.6 | F24: (2+3.15)*2*2 | G24: 11-AW:2개소
B25: 창호주위코킹(10mm각) | C25: 실리콘(양면) | D25: M | E25: =(2+3)*2*2 -> 20 | F25: (2+3)*2*2 | G25: 12-AW:2개소
B26: 창호주위코킹(10mm각) | C26: 실리콘(양면) | D26: M | E26: =(3+1.2)*2*3 -> 25.2 | F26: (3+1.2)*2*3 | G26: 지원동 주방
B27: 창호주위코킹(10mm각) | C27: 실리콘(양면) | D27: M | E27: =SUM(E18:E26) -> 551.22 | F27: <합계>
B28: 유리끼우기코킹 | C28: 실리콘,유리용-양면 | D28: M | E28: =(53-3)*2+2.35*100 -> 335 | F28: (53-3)*2+2.35*50*2 | G28: 8-AW:1개소
B29: 유리끼우기코킹 | C29: 실리콘,유리용-양면 | D29: M | E29: =(53-3)*2+2.35*100 -> 335 | F29: (53-3)*2+2.35*50*2 | G29: 9-AW:1개소
B30: 유리끼우기코킹 | C30: 실리콘,유리용-양면 | D30: M | E30: =(1*6+10.77*2)*8 -> 220.32 | F30: (1*6+10.77*2)*8 | G30: 10-AW:8개소
B31: 유리끼우기코킹 | C31: 실리콘,유리용-양면 | D31: M | E31: =((1+2.3)*2+(1+2.45)*2)*2 -> 27 | F31: ((1+2.3)*2+(1+2.45)*2)*2 | G31: 10A-AW:2개소
B32: 유리끼우기코킹 | C32: 실리콘,유리용-양면 | D32: M | E32: =((3.25+2.3)*2+1*3)*2 -> 28.2 | F32: ((3.25+2.3)*2+1*3)*2 | G32: 10B-AW:2개소
B33: 유리끼우기코킹 | C33: 실리콘,유리용-양면 | D33: M | E33: =(2+3.15)*2*2 -> 20.6 | F33: (2+3.15)*2*2 | G33: 11-AW:2개소
B34: 유리끼우기코킹 | C34: 실리콘,유리용-양면 | D34: M | E34: =(2+3)*2*2 -> 20 | F34: (2+3)*2*2 | G34: 12-AW:2개소
B35: 유리끼우기코킹 | C35: 실리콘,유리용-양면 | D35: M | E35: =(3*6+1.2*3*2) -> 25.2 | F35: (3*6+1.2*3*2) | G35: 지원동 주방
B36: 유리끼우기코킹 | C36: 실리콘,유리용-양면 | D36: M | E36: =SUM(E28:E35) -> 1011.32 | F36: <합계>
A38: 4. 기타공사
B39: 화재감기지 철거 후 재설치 | C39: (재활용) | D39: EA | E39: 11 | F39: 집중국9, 물류지원단2
B40: 상자홈통해체후재설치 | C40: 기존자재사용,철물신설 | D40: 개 | E40: 6 | F40: 도착3,발송3
B41: 갈바아닐강판 | C41: 0.3mm, 2.48kg/㎡ | D41: M2 | E41: =3*0.5*3 -> 4.5 | F41: 주방창틀 하부방수:3*0.5*3
B42: 잡철물제작설치(철제) | C42: 간단 | D42: 톤 | E42: =4.5*2.48*0.001 -> 0.01116 | F42: 4.5*2.48*0.001
B43: 그라우팅 | C43: 균열보수 | D43: M | E43: =6.6+4 -> 10.6 | F43: 식당:6.6+노물관리실4

Sheet 일위대가
B1: 일 위 대 가 명 세 서
A2: 공사명 : 진안용담, 진안안천우체국 시설 보수공사
A3: 품 명 | C3: 규 격 | D3: 단위 | E3: 수 량 | F3: 재 료 비 | H3: 노 무 비 | J3: 경 비 | L3: 합 계 | N3: 비 고
F4: 단 가 | G4: 금 액 | H4: 단 가 | I4: 금 액 | J4: 단 가 | K4: 금 액 | L4: 단 가 | M4: 금 액
A5: 일위01호 | B5: 이동식강관말비계 1단(2m), 3개월 대 토목 2-6-3, 5
B6: 비계안정장치 | C6: 비계안정장치, 비계기본틀, 기둥, 1.2*1.7m | D6: 개 | E6: 0.12 | F6: 20830 | G6: 2499.6 | H6: 0 | I6: 0 | J6: 0 | K6: 0 | L6: 20830 | M6: 2499.6
B7: 비계안정장치 | C7: 비계안정장치, 가새, 1.2*1.9m | D7: 개 | E7: 0.12 | F7: 6640 | G7: 796.8 | H7: 0 | I7: 0 | J7: 0 | K7: 0 | L7: 6640 | M7: 796.8
B8: 비계안정장치 | C8: 비계안정장치, 수평띠장, 1829mm | D8: 개 | E8: 0.24 | F8: 24500 | G8: 5880 | H8: 0 | I8: 0 | J8: 0 | K8: 0 | L8: 24500 | M8: 5880
B9: 비계안정장치 | C9: 비계안정장치, 손잡이기둥 | D9: 개 | E9: 0.24 | F9: 10300 | G9: 2472 | H9: 0 | I9: 0 | J9: 0 | K9: 0 | L9: 10300 | M9: 2472
B10: 비계안정장치 | C10: 비계안정장치, 손잡이, 1229mm | D10: 개 | E10: 0.12 | F10: 6500 | G10: 780 | H10: 0 | I10: 0 | J10: 0 | K10: 0 | L10: 6500 | M10: 780
B11: 비계안정장치 | C11: 비계안정장치, 손잡이, 1829mm | D11: 개 | E11: 0.24 | F11: 7800 | G11: 1872 | H11: 0 | I11: 0 | J11: 0 | K11: 0 | L11: 7800 | M11: 1872
B12: 비계안정장치 | C12: 비계안정장치, 바퀴 | D12: 개 | E12: 0.36 | F12: 10000 | G12: 3600 | H12: 0 | I12: 0 | J12: 0 | K12: 0 | L12: 10000 | M12: 3600
B13: 비계안정장치 | C13: 비계안정장치, 쟈키 | D13: 개 | E13: 0.36 | F13: 9000 | G13: 3240 | H13: 0 | I13: 0 | J13: 0 | K13: 0 | L13: 9000 | M13: 3240
B14: 판재 | C14: 판재, 외송, 일반 | D14: M3 | E14: 0.0315 | F14: 389221.55 | G14: 12260.4 | H14: 0 | I14: 0 | J14: 0 | K14: 0 | L14: 389221.5 | M14: 12260.4
B15: 보통인부 | C15: 일반공사 직종 | D15: 인 | E15: 0.6 | F15: 0 | G15: 0 | H15: 89566 | I15: 53739.6 | J15: 0 | K15: 0 | L15: 89566 | M15: 53739.6
B16: [ 합 계 ] | G16: 33400 | I16: 53739 | K16: 0 | M16: 87139 | O16: =A5 -> 일위01호
A17: 일위02호 | B17: 샌드위치(단열)판넬설치 | C17: 지붕 | D17: M2 | N17: 건축18-2-1.3
B18: 내장공 | D18: 인 | E18: 0.029 | H18: 137611 | I18: =E18*H18 -> 3990.719 | L18: 137611 | M18: 3990.7
B19: 보통인부 | D19: 인 | E19: 0.023 | H19: 89566 | I19: =E19*H19 -> 2060.018 | L19: 89566 | M19: 2060
B20: 크레인(트럭) | C20: 20 TON | D20: HR | E20: 0.0445 | F20: 9179 | G20: 408.4 | H20: 27168 | I20: =E20*H20 -> 1208.976 | J20: 47994 | K20: 2135.7 | L20: 84341 | M20: 3753 | N20: 중기 10호
B21: 공구손료 | C21: 인력품의 3% | D21: 식 | E21: 1 | F21: 6050.7 | G21: 181.5 | I21: =E21*H21 -> 0 | L21: 6050.7 | M21: 181.5 | N21: 자재에입력
B22: 합 계 | G22: 589 | I22: =SUM(I18:I21) -> 7259.713 | K22: 2135 | M22: 9983 | O22: =A17 -> 일위02호
A23: 일위03호 | B23: 우레탄방수 바닥3mm, 노출 M2 건축 13-5
B24: 우레탄방수제 | C24: 우레탄(노출) | D24: KG | E24: 3.9 | F24: 3400 | G24: 13260 | H24: 0 | I24: =E24*H24 -> 0 | J24: 0 | K24: 0 | L24: =SUM(F24,H24,J24) -> 3400 | M24: =SUM(G24,I24,K24) -> 13260
B25: 우레탄방수제 | C25: 마감코팅제 | D25: KG | E25: 0.295 | F25: 4000 | G25: 1180 | H25: 0 | I25: =E25*H25 -> 0 | J25: 0 | K25: 0 | L25: =SUM(F25,H25,J25) -> 4000 | M25: =SUM(G25,I25,K25) -> 1180
B26: 우레탄방수제 | C26: 프라이머 | D26: L | E26: 0.402 | F26: 3450 | G26: 1386.9 | H26: 0 | I26: =E26*H26 -> 0 | J26: 0 | K26: 0 | L26: =SUM(F26,H26,J26) -> 3450 | M26: =SUM(G26,I26,K26) -> 1386.9
B27: 우레탄방수제 | C27: 희석재 | D27: L | E27: 0.41 | F27: 1980 | G27: 811.8 | H27: 0 | I27: =E27*H27 -> 0 | J27: 0 | K27: 0 | L27: =SUM(F27,H27,J27) -> 1980 | M27: =SUM(G27,I27,K27) -> 811.8
B28: 노무비 | C28: 방수공 | D28: 인 | E28: 0.08 | F28: 0 | G28: 0 | H28: 105008 | I28: =E28*H28 -> 8400.64 | J28: 0 | K28: 0 | L28: =SUM(F28,H28,J28) -> 105008 | M28: =SUM(G28,I28,K28) -> 8400.64
B29: 노무비 | C29: 보통인부 | D29: 인 | E29: 0.05 | F29: 0 | G29: 0 | H29: 89566 | I29: =E29*H29 -> 4478.3 | J29: 0 | K29: 0 | L29: =SUM(F29,H29,J29) -> 89566 | M29: =SUM(G29,I29,K29) -> 4478.3
B30: 공구손료 | C30: 인력품의 3% | D30: 식 | E30: 1 | F30: 374.32 | G30: 374.3 | H30: 0 | I30: =E30*H30 -> 0 | J30: 0 | K30: 0 | L30: =SUM(F30,H30,J30) -> 374.32 | M30: =SUM(G30,I30,K30) -> 374.3
B31: [ 합 계 ] | G31: 17013 | I31: =SUM(I24:I30) -> 12878.94 | K31: 0 | M31: =SUM(G31,I31,K31) -> 29891.94 | O31: =A23 -> 일위03호
A32: 일위04호 | B32: 우레탄방수 벽3mm, 노출 M2 건축 13-5
B33: 우레탄방수제 | C33: 우레탄(노출) | D33: KG | E33: 3.9 | F33: 3400 | G33: 13260 | H33: 0 | I33: =E33*H33 -> 0 | J33: 0 | K33: 0 | L33: =SUM(F33,H33,J33) -> 3400 | M33: =SUM(G33,I33,K33) -> 13260
B34: 우레탄방수제 | C34: 마감코팅제 | D34: KG | E34: 0.295 | F34: 4000 | G34: 1180 | H34: 0 | I34: =E34*H34 -> 0 | J34: 0 | K34: 0 | L34: =SUM(F34,H34,J34) -> 4000 | M34: =SUM(G34,I34,K34) -> 1180
B35: 우레탄방수제 | C35: 프라이머 | D35: L | E35: 0.402 | F35: 3450 | G35: 1386.9 | H35: 0 | I35: =E35*H35 -> 0 | J35: 0 | K35: 0 | L35: =SUM(F35,H35,J35) -> 3450 | M35: =SUM(G35,I35,K35) -> 1386.9
B36: 우레탄방수제 | C36: 희석재 | D36: L | E36: 0.41 | F36: 1980 | G36: 811.8 | H36: 0 | I36: =E36*H36 -> 0 | J36: 0 | K36: 0 | L36: =SUM(F36,H36,J36) -> 1980 | M36: =SUM(G36,I36,K36) -> 811.8
B37: 노무비 | C37: 방수공 | D37: 인 | E37: 0.104 | F37: 0 | G37: 0 | H37: 105008 | I37: =E37*H37 -> 10920.832 | J37: 0 | K37: 0 | L37: =SUM(F37,H37,J37) -> 105008 | M37: =SUM(G37,I37,K37) -> 10920.832
B38: 노무비 | C38: 보통인부 | D38: 인 | E38: 0.065 | F38: 0 | G38: 0 | H38: 89566 | I38: =E38*H38 -> 5821.79 | J38: 0 | K38: 0 | L38: =SUM(F38,H38,J38) -> 89566 | M38: =SUM(G38,I38,K38) -> 5821.79
B39: 공구손료 | C39: 인력품의 3% | D39: 식 | E39: 1 | F39: 486.62 | G39: 486.6 | H39: 0 | I39: =E39*H39 -> 0 | J39: 0 | K39: 0 | L39: =SUM(F39,H39,J39) -> 486.62 | M39: =SUM(G39,I39,K39) -> 486.6
B40: [ 합 계 ] | G40: 17125 | I40: =SUM(I33:I39) -> 16742.622 | K40: 0 | M40: =SUM(G40,I40,K40) -> 33867.622 | O40: =A32 -> 일위04호
A41: 일위05호 | B41: 바탕처리 | C41: 청소 | D41: m2 | N41: 표준품셈
B42: 보통인부 | D42: 인 | E42: 0.02 | H42: 87805 | I42: 1756.1 | L42: 87805 | M42: 1756.1
B43: [ 합 계 ] | G43: 0 | I43: 1756.1 | M43: 1756.1 | O43: =A41 -> 일위05호
A44: 일위06호 | B44: IPALG 트라이슈머 단열복합시트 방수 | C44: 조립식 판넬, Standard | D44: m2 | N44: 물가자료 부록
B45: IPALG 조인트용 실란트 | D45: kg | E45: 0.3 | F45: 12000 | G45: 3600 | L45: 12000 | M45: 3600
B46: IPALG 조인트용 접착제 | D46: kg | E46: 0.34 | F46: 15000 | G46: 5100 | L46: 15000 | M46: 5100
B47: IPALG 트라이슈머 단열베이스카펫 | D47: m2 | E47: 1 | F47: 11000 | G47: 11000 | L47: 11000 | M47: 11000
B48: IPALG 트라이슈머 단열복합시트 | D48: m2 | E48: 1 | F48: 30000 | G48: 30000 | L48: 30000 | M48: 30000
B49: IPALG 트라이슈머 TOP | D49: kg | E49: 0.35 | F49: 11000 | G49: 3850 | L49: 11000 | M49: 3850
B50: 방수공 | D50: 인 | E50: 0.08 | H50: 101093 | I50: 8087.4 | L50: 101093 | M50: 8087.4
B51: 보통인부 | D51: 인 | E51: 0.07 | H51: 87805 | I51: 6146.3 | L51: 87805 | M51: 6146.3
B52: 공구손료 | C52: 노무비의 3% | D52: 식 | E52: 1 | K52: 427.1 | M52: 427.1
B53: [ 합 계 ] | G53: 53550 | I53: 14233.7 | K53: 427.1 | M53: 68210.8 | O53: =A44 -> 일위06호
A54: 일위07호 | B54: 상자홈통해체후재설치 | C54: 기존자재사용,철물신설 | D54: 개 | N54: 건축13-2-4
B55: 일반철물 | C55: 선홈통지지철물, 스텐 | D55: EA | E55: 1 | F55: 3300 | G55: 3300 | L55: 3300 | M55: 3300
B56: 배관공 | D56: 인 | E56: 0.18 | H56: 122333 | I56: 22019.9 | L56: 122333 | M56: 22019.9
B57: [ 합 계 ] | G57: 3300 | I57: 22019 | K57: 0 | M57: 25319 | O57: =A54 -> 일위07호
A58: 일위08호 | B58: 수밀코킹(10mm각) 실리콘,창호주위(양면) M 건축 13-12-1
B59: 실링재 | C59: 실리콘(비초산),유리용,창호주위 | D59: L | E59: 0.12 | F59: 9310 | G59: 1117.2 | H59: 0 | I59: 0 | J59: 0 | K59: 0 | L59: 9310 | M59: 1117.2
B60: 노무비 | C60: 코킹공 | D60: 인 | E60: 0.03 | F60: 0 | G60: 0 | H60: 115796 | I60: 3473.8 | J60: 0 | K60: 0 | L60: 115796 | M60: 3473.8
B61: [ 소 계 ] | G61: 1117 | I61: 3473 | K61: 0 | M61: 4590
B62: [ 합 계 ] | C62: (양면) | G62: =G61*2 -> 2234 | I62: =I61*2 -> 6946 | K62: =K61*2 -> 0 | M62: =SUM(G62,I62,K62) -> 9180 | O62: =A58 -> 일위08호
A63: 일위09호 | B63: 유리끼우기코킹 실리콘,유리용-양면 M 건축 13-12-1
B64: 실링재 | C64: 실리콘(초산), 유리용 | D64: L | E64: 0.06 | F64: 6300 | G64: 378 | H64: 0 | I64: 0 | J64: 0 | K64: 0 | L64: 6300 | M64: 378
B65: [ 소 계 ] | G65: 378 | I65: 0 | K65: 0 | M65: 378
B66: [ 합 계 ] | C66: (양면) | G66: =G65*2 -> 756 | I66: =I65*2 -> 0 | K66: =K65*2 -> 0 | M66: =SUM(G66,I66,K66) -> 756 | O66: =A63 -> 일위09호
A67: 일위10호 | B67: 잡철물제작설치(철제) 간단 톤 건축 15-6 ( 호표 299 )
B68: 연강용 피복아크 용접봉 | C68: Φ3.2mm, CR-13 | D68: KG | E68: 18.48 | F68: 2380 | G68: 43982.4 | H68: 0 | I68: 0 | J68: 0 | K68: 0 | L68: 2380 | M68: 43982.4
B69: 산소 가스 | C69: 기체 | D69: L | E69: 6300 | F69: 1.83 | G69: 11529 | H69: 0 | I69: 0 | J69: 0 | K69: 0 | L69: 1.8 | M69: 11529
B70: 아세틸렌 가스(835L) | C70: 98%용접용 | D70: KG | E70: 2.8 | F70: 9500 | G70: 26600 | H70: 0 | I70: 0 | J70: 0 | K70: 0 | L70: 9500 | M70: 26600
B71: 용접기(교류) | C71: 500A | D71: HR | E71: 20.83 | F71: 0 | G71: 0 | H71: 0 | I71: 0 | J71: 124 | K71: 2582.9 | L71: 124 | M71: 2582.9
B72: 공통자재 | C72: 전력 | D72: KWH | E72: 126 | F72: 0 | G72: 0 | H72: 0 | I72: 0 | J72: 87 | K72: 10962 | L72: 87 | M72: 10962
B73: 노무비 | C73: 철공 | D73: 인 | E73: 27.65 | F73: 0 | G73: 0 | H73: 138946 | I73: 3841856.9 | J73: 0 | K73: 0 | L73: 138946 | M73: 3841856.9
B74: 노무비 | C74: 보통인부 | D74: 인 | E74: 0.66 | F74: 0 | G74: 0 | H74: 87805 | I74: 57951.3 | J74: 0 | K74: 0 | L74: 87805 | M74: 57951.3
B75: 노무비 | C75: 용접공 | D75: 인 | E75: 2.6 | F75: 0 | G75: 0 | H75: 134516 | I75: 349741.6 | J75: 0 | K75: 0 | L75: 134516 | M75: 349741.6
B76: 노무비 | C76: 특별인부 | D76: 인 | E76: 0.74 | F76: 0 | G76: 0 | H76: 108245 | I76: 80101.3 | J76: 0 | K76: 0 | L76: 108245 | M76: 80101.3
B77: 공구손료 | C77: 인력품의 3% | D77: 식 | E77: 1 | F77: 129889.53 | G77: 129889.5 | H77: 0 | I77: 0 | J77: 0 | K77: 0 | L77: 129889.5 | M77: 129889.5
B78: [ 합 계 ] | G78: 212000 | I78: 4329651 | K78: 13544 | M78: 4555195 | O78: =A67 -> 일위10호
A79: 일위11호 | B79: 그라우팅 | C79: 균열보수 | D79: M
B80: 아크릴탄성크랙카바재 | C80: AC-100 | D80: kg | E80: 0.15 | F80: 8000 | G80: 1200 | L80: 8000 | M80: 1200
B81: 수중용에폭시실링재 | C81: 조이너 W | D81: kg | E81: 0.2 | F81: 33000 | G81: 6600 | L81: 33000 | M81: 6600
B82: 발포우레탄지수재(1차) | C82: UF-1 | D82: kg | E82: 0.5 | F82: 18000 | G82: 9000 | L82: 18000 | M82: 9000
B83: 고강도우레탄지수재(2차) | C83: UF-1001 | D83: kg | E83: 0.25 | F83: 21000 | G83: 5250 | L83: 21000 | M83: 5250
B84: PACKER | C84: 10*60mm | D84: 개 | E84: 5 | F84: 600 | G84: 3000 | L84: 600 | M84: 3000
B85: 잡재료비 | C85: 재료비의3% | D85: 식 | E85: 1 | F85: 752 | G85: 752 | L85: 752 | M85: 752
B86: 공구손료 | C86: 인건비의2% | D86: 식 | E86: 1 | F86: 122 | G86: 122 | L86: 122 | M86: 122
B87: 방수공 | D87: 인 | E87: 0.03 | H87: 101093 | I87: 3032.79 | L87: 101093 | M87: 3032.79
B88: 특별인부 | D88: 인 | E88: 0.02 | H88: 108245 | I88: 2164.9 | L88: 108245 | M88: 2164.9
B89: 보통인부 | D89: 인 | E89: 0.01 | H89: 87805 | I89: 878.05 | L89: 87805 | M89: 878.05
B90: [ 합 계 ] | G90: 25924 | I90: 6075.74 | K90: 0 | M90: 31999.74 | O90: =A79 -> 일위11호
B111: 노무비 | C111: 보통인부 | D111: 인 | E111: 0.09 | F111: 0 | G111: 0 | H111: 89566 | I111: =E111*H111 -> 8060.94 | J111: 0 | K111: 0 | L111: 89566 | M111: 8061
B112: 잡재료 | C112: 인력품의5% | D112: 식 | E112: 1 | F112: 395.12 | G112: 395.1 | H112: 0 | I112: 0 | J112: 0 | K112: 0 | L112: 395.1 | M112: 395.1
B113: [ 합 계 ] | G113: =SUM(G5:G112) -> 732180.2 | I113: =SUM(I5:I112) -> 8950667 | K113: 0 | M113: =SUM(M5:M112) -> 9715060.2 | O113: =A5 -> 일위01호
A114: 일위2호 | B114: 타일철거(바닥, 벽) | C114: 타일떼내기 | D114: M2 | N114: 품셈 21-1-2
B115: 보통인부 | D115: 인 | E115: 0.2 | H115: 89566 | I115: =E115*H115 -> 17913.2 | L115: 89566 | M115: 17913.2
B116: [ 합 계 ] | G116: =SUM(G114:G115) -> 0 | I116: =SUM(I114:I115) -> 17913.2 | K116: =SUM(K114:K115) -> 0 | M116: =SUM(M114:M115) -> 17913.2 | O116: =A114 -> 일위2호
A117: 일위3호 | B117: 화장실 칸막이철거 | C117: 경량칸막이 철거 | D117: M2 | N117: 품셈 21-1-2
B118: 보통인부 | D118: 인 | E118: 0.09 | F118: 0 | G118: 0 | H118: 89566 | I118: =E118*H118 -> 8060.94 | J118: 0 | K118: 0 | L118: 89566 | M118: 8061
B119: 잡재료 | C119: 노무비의 5% | D119: 식 | E119: 1 | F119: =I120*0.05 -> 403.047 | G119: 403 | H119: 0 | I119: 0 | J119: 0 | K119: 0 | L119: 403 | M119: 403
B120: [ 합 계 ] | G120: =SUM(G117:G119) -> 403 | I120: =SUM(I117:I119) -> 8060.94 | K120: =SUM(K117:K119) -> 0 | M120: =SUM(M117:M119) -> 8464 | O120: =A117 -> 일위3호
...
