Workbook

Sheet 원가계산서
B1: 공 사 원 가 계 산 서
B2: 공사명 : 전주우편집중국 지정폐기물 철거공사
B3: 비 목 | E3: 금 액 | F3: 구 성 비 | G3: 비 고
A4: A1 | B4: 순 공 사 원 가 | C4: 재 료 비 | D4: 직 접 재 료 비 | E4: =내역서!F15 -> 3899451
A5: A2 | D5: 간 접 재 료 비 | E5: 0
A6: A3 | D6: 작업설, 부산물(△) | E6: 0
A7: AS | D7: [ 소 계 ] | E7: =TRUNC(E4+E5-E6, 0) -> 3899451
A8: B1 | C8: 노 무 비 | D8: 직 접 노 무 비 | E8: =내역서!H15 -> 6045001
A9: B2 | D9: 간 접 노 무 비 | E9: =TRUNC(E8*0.096, 0) -> 580320 | F9: 직접노무비 * 9.6%
A10: BS | D10: [ 소 계 ] | E10: =TRUNC(E8+E9, 0) -> 6625321
A11: C2 | C11: 경 비 | D11: 기 계 경 비 | E11: =내역서!J15 -> 570712
A12: C4 | D12: 산 재 보 험 료 | E12: =TRUNC(E10*0.038, 0) -> 251762 | F12: 노무비 * 3.8%
A13: C5 | D13: 고 용 보 험 료 | E13: =TRUNC(E10*0.0087, 0) -> 57640 | F13: 노무비 * 0.87%
A14: C6 | D14: 국민 건강 보험료 | F14: 직접노무비 * 1.7% | G14: 1개월 이상 적용
A15: C7 | D15: 국민 연금 보험료 | F15: 직접노무비 * 2.49% | G15: 1개월 이상 적용
A16: CB | D16: 노인장기요양보험료 | F16: 건강보험료 * 6.55% | G16: 1개월 이상 적용
A17: CA | D17: 산업안전보건관리비 | F17: (재료비+직노) * 2.93% | G17: 4천만원 이상 적용
A18: CH | D18: 환 경 보 전 비 | E18: =TRUNC((E7+E8+E11)*0.003, 0) -> 31545 | F18: (재료비+직노+기계경비) * 0.3%
A19: CG | D19: 기 타 경 비 | E19: =TRUNC((E7+E10)*0.0303, 0) -> 318900 | F19: (재료비+노무비) * 3.03%
A20: CK | D20: 하도급지급보증수수료 | F20: (재료비+직노+기계경비) * 0.081% | G20: 해당사항 없음
A21: CL | D21: 건설기계대여금지급보증서발급수수료 | F21: (재료비+직노+기계경비) * 0.07% | G21: 해당사항 없음
A22: CS | D22: [ 소 계 ] | E22: =TRUNC(E11+E12+E13+E14+E15+E17+E16+E19+E18+E20+E21, 0) -> 1230559
A23: S1 | B23: 계 | E23: =TRUNC(E7+E10+E22, 0) -> 11755331
A24: D1 | B24: 일 반 관 리 비 | E24: =TRUNC(E23*0.06, 0) -> 705319 | F24: 계 * 6%
A25: D2 | B25: 이 윤 | E25: =TRUNC((E10+E22+E24)*0.1051, 0) -> 899782 | F25: (노무비+경비+일반관리비) * 10.51%
A26: D4 | B26: 건설폐기물처리비
A27: D9 | B27: 공 급 가 액 | E27: =TRUNC(E23+E24+E25+E26, 0) -> 13360432
A28: DB | B28: 부 가 가 치 세 | E28: =TRUNC(E27*0.1, 0) -> 1336043 | F28: 공급가액 * 10%
A29: DH | B29: 도 급 액 | E29: =TRUNC(E27+E28, 0) -> 14696475
A30: S2 | B30: 총 공 사 비 | E30: =TRUNC(E29, 0) -> 14696475
A31: S4 | B31: 결 정 금 액 | E31: =ROUNDDOWN(E30,-3) -> 14696000 | F31: 천단위이하절사

Sheet 내역서
A1: 공 종 별 내 역 서
A2: [ 전주우편집중국 지정폐기물 철거공사 ]
A3: 품 명 | B3: 규 격 | C3: 단위 | D3: 수량 | E3: 재 료 비 | G3: 노 무 비 | I3: 경 비 | K3: 합 계 | M3: 비 고 | N3: 품목코드 | O3: 변수 | P3: 설정 | Q3: 공종코드 | R3: 일위 | S3: 단산 | T3: 자재 | U3: 손료적용 | V3: 손료저장 | W3: 적용율 | X3: JUK1 | Y3: JUK2 | Z3: JUK3 | AA3: JUK4 | AB3: JUK5 | AC3: JUK6 | AD3: JUK7 | AE3: JUK8 | AF3: JUK9 | AG3: JUK10 | AH3: JUK11 | AI3: JUK12 | AJ3: JUK13 | AK3: JUK14 | AL3: JUK15 | AM3: JUK16 | AN3: JUK17 | AO3: JUK18 | AP3: JUK19 | AQ3: JUK20 | AR3: 자재구분 | AS3: 공종구분 | AT3: 공종레벨 | AU3: 공종+자재 | AV3: 고유번호
E4: 단 가 | F4: 금 액 | G4: 단 가 | H4: 금 액 | I4: 단 가 | J4: 금 액 | K4: 단 가 | L4: 금 액
A5: 010101 가 설 공 사 | Q5: 010101
A6: 이동식강관말비계 | B6: 1단(2m), 3개월 | C6: 대 | D6: 2 | E6: =TRUNC(일위대가!F16,0) -> 33400 | F6: =TRUNC(E6*D6, 0) -> 66800 | G6: =TRUNC(일위대가!H16,0) -> 53739 | H6: =TRUNC(G6*D6, 0) -> 107478 | I6: =TRUNC(일위대가!J16,0) -> 0 | J6: =TRUNC(I6*D6, 0) -> 0 | K6: =TRUNC(E6+G6+I6, 0) -> 87139 | L6: =TRUNC(F6+H6+J6, 0) -> 174278 | N6: 5C1B435A259836BA273993BF462802 | Q6: 010101 | R6: T | S6: F | T6: F | AU6: 0101015C1B435A259836BA273993BF462802 | AV6: 4
A7: 건축물현장정리 | B7: 수선공사 | C7: M2 | D7: 422.75 | E7: =TRUNC(일위대가!F19,0) -> 0 | F7: =TRUNC(E7*D7, 0) -> 0 | G7: =TRUNC(일위대가!H19,0) -> 3134 | H7: =TRUNC(G7*D7, 0) -> 1324898 | I7: =TRUNC(일위대가!J19,0) -> 0 | J7: =TRUNC(I7*D7, 0) -> 0 | K7: =TRUNC(E7+G7+I7, 0) -> 3134 | L7: =TRUNC(F7+H7+J7, 0) -> 1324898 | N7: 5C1B435F2D9CF8F6A1E90270F76106 | Q7: 010101 | R7: T | S7: F | T7: F | AU7: 0101015C1B435F2D9CF8F6A1E90270F76106 | AV7: 5
A9: [ 소 계 ] | F9: =SUM(F6:F8) -> 66800 | H9: =SUM(H6:H8) -> 1432376 | J9: =SUM(J6:J8) -> 0 | L9: =SUM(L6:L8) -> 1499176 | N9: TOTAL
A10: 010102 철 거 공 사 | Q10: 010106
A11: 석면건축자재(천정재)철거 | B11: 60M2 이상 | C11: M2 | D11: 422.75 | E11: =TRUNC(일위대가!F37,0) -> 9066 | F11: =TRUNC(E11*D11, 0) -> 3832651 | G11: =TRUNC(일위대가!H37,0) -> 10911 | H11: =TRUNC(G11*D11, 0) -> 4612625 | I11: =TRUNC(일위대가!J37,0) -> 1350 | J11: =TRUNC(I11*D11, 0) -> 570712 | K11: =TRUNC(E11+G11+I11, 0) -> 21327 | L11: =TRUNC(F11+H11+J11, 0) -> 9015988 | N11: 5B5123C12C990F83FC99E98C89C0 | Q11: 010106 | R11: T | S11: F | T11: F | AU11: 0101065B5123C12C990F83FC99E98C89C0 | AV11: 27
N12: 5C1A43EE299BA86423A9F118F3D70B | Q12: 010106 | R12: T | S12: F | T12: F | AU12: 0101065C1A43EE299BA86423A9F118F3D70B | AV12: 19
A13: [ 소 계 ] | F13: =SUM(F11:F12) -> 3832651 | H13: =SUM(H11:H12) -> 4612625 | J13: =SUM(J11:J12) -> 570712 | L13: =SUM(L11:L12) -> 9015988 | N13: TOTAL
A15: [ 합 계 ] | F15: =SUM(F9,F13) -> 3899451 | H15: =SUM(H9,H13) -> 6045001 | J15: =SUM(J9,J13) -> 570712 | L15: =SUM(L9,L13) -> 10515164 | N15: TOTAL

Sheet 일위대가
A1: 일 위 대 가 표
A2: [ 전주(집) 지정폐기물 철거공사 ]
A3: 품 명 | B3: 규 격 | C3: 단위 | D3: 수량 | E3: 재 료 비 | G3: 노 무 비 | I3: 경 비 | K3: 합 계 | M3: 비 고 | N3: 일위대가 | O3: 품목코드 | P3: 일위 | Q3: 단산 | R3: 자재 | S3: 손료적용 | T3: 손료저장 | U3: 적용율 | V3: JUK1 | W3: JUK2 | X3: JUK3 | Y3: JUK4 | Z3: JUK5 | AA3: JUK6 | AB3: JUK7 | AC3: JUK8 | AD3: 할증적용 | AE3: 할증저장 | AF3: 할증율 | AG3: HAL1 | AH3: HAL2 | AI3: HAL3 | AJ3: 자재구분 | AK3: 일위대가+자재 | AL3: 장비일위 | AM3: 설정
E4: 단 가 | F4: 금 액 | G4: 단 가 | H4: 금 액 | I4: 단 가 | J4: 금 액 | K4: 단 가 | L4: 금 액
A5: (일위01호) 이동식강관말비계 1단(2m), 3개월 대 토목 2-6-3, 5 | N5: 5C1B435A259836BA273993BF462802
A6: 비계안정장치 | B6: 비계안정장치, 비계기본틀, 기둥, 1.2*1.7m | C6: 개 | D6: 0.12 | E6: =단가대비표!O24 -> 20830 | F6: =TRUNC(E6*D6,1) -> 2499.6 | G6: =단가대비표!P24 -> 0 | H6: =TRUNC(G6*D6,1) -> 0 | I6: =단가대비표!V24 -> 0 | J6: =TRUNC(I6*D6,1) -> 0 | K6: =TRUNC(E6+G6+I6,1) -> 20830 | L6: =TRUNC(F6+H6+J6,1) -> 2499.6 | N6: 5C1B435A259836BA273993BF462802 | O6: 5B366318259632C5DF097EE1017C019CA213DE | P6: F | Q6: F | R6: T | AK6: 5C1B435A259836BA273993BF4628025B366318259632C5DF097EE1017C019CA213DE
A7: 비계안정장치 | B7: 비계안정장치, 가새, 1.2*1.9m | C7: 개 | D7: 0.12 | E7: =단가대비표!O25 -> 6640 | F7: =TRUNC(E7*D7,1) -> 796.8 | G7: =단가대비표!P25 -> 0 | H7: =TRUNC(G7*D7,1) -> 0 | I7: =단가대비표!V25 -> 0 | J7: =TRUNC(I7*D7,1) -> 0 | K7: =TRUNC(E7+G7+I7,1) -> 6640 | L7: =TRUNC(F7+H7+J7,1) -> 796.8 | N7: 5C1B435A259836BA273993BF462802 | O7: 5B366318259632C5DF097EE1017C019CA213D0 | P7: F | Q7: F | R7: T | AK7: 5C1B435A259836BA273993BF4628025B366318259632C5DF097EE1017C019CA213D0
A8: 비계안정장치 | B8: 비계안정장치, 수평띠장, 1829mm | C8: 개 | D8: 0.24 | E8: =단가대비표!O26 -> 24500 | F8: =TRUNC(E8*D8,1) -> 5880 | G8: =단가대비표!P26 -> 0 | H8: =TRUNC(G8*D8,1) -> 0 | I8: =단가대비표!V26 -> 0 | J8: =TRUNC(I8*D8,1) -> 0 | K8: =TRUNC(E8+G8+I8,1) -> 24500 | L8: =TRUNC(F8+H8+J8,1) -> 5880 | N8: 5C1B435A259836BA273993BF462802 | O8: 5B366318259632C5DF097EE1017C019CA21C34 | P8: F | Q8: F | R8: T | AK8: 5C1B435A259836BA273993BF4628025B366318259632C5DF097EE1017C019CA21C34
A9: 비계안정장치 | B9: 비계안정장치, 손잡이기둥 | C9: 개 | D9: 0.24 | E9: =단가대비표!O29 -> 10300 | F9: =TRUNC(E9*D9,1) -> 2472 | G9: =단가대비표!P29 -> 0 | H9: =TRUNC(G9*D9,1) -> 0 | I9: =단가대비표!V29 -> 0 | J9: =TRUNC(I9*D9,1) -> 0 | K9: =TRUNC(E9+G9+I9,1) -> 10300 | L9: =TRUNC(F9+H9+J9,1) -> 2472 | N9: 5C1B435A259836BA273993BF462802 | O9: 5B366318259632C5DF097EE1017C019CA21C33 | P9: F | Q9: F | R9: T | AK9: 5C1B435A259836BA273993BF4628025B366318259632C5DF097EE1017C019CA21C33
A10: 비계안정장치 | B10: 비계안정장치, 손잡이, 1229mm | C10: 개 | D10: 0.12 | E10: =단가대비표!O27 -> 6500 | F10: =TRUNC(E10*D10,1) -> 780 | G10: =단가대비표!P27 -> 0 | H10: =TRUNC(G10*D10,1) -> 0 | I10: =단가대비표!V27 -> 0 | J10: =TRUNC(I10*D10,1) -> 0 | K10: =TRUNC(E10+G10+I10,1) -> 6500 | L10: =TRUNC(F10+H10+J10,1) -> 780 | N10: 5C1B435A259836BA273993BF462802 | O10: 5B366318259632C5DF097EE1017C019CA21C35 | P10: F | Q10: F | R10: T | AK10: 5C1B435A259836BA273993BF4628025B366318259632C5DF097EE1017C019CA21C35
A11: 비계안정장치 | B11: 비계안정장치, 손잡이, 1829mm | C11: 개 | D11: 0.24 | E11: =단가대비표!O28 -> 7800 | F11: =TRUNC(E11*D11,1) -> 1872 | G11: =단가대비표!P28 -> 0 | H11: =TRUNC(G11*D11,1) -> 0 | I11: =단가대비표!V28 -> 0 | J11: =TRUNC(I11*D11,1) -> 0 | K11: =TRUNC(E11+G11+I11,1) -> 7800 | L11: =TRUNC(F11+H11+J11,1) -> 1872 | N11: 5C1B435A259836BA273993BF462802 | O11: 5B366318259632C5DF097EE1017C019CA21C32 | P11: F | Q11: F | R11: T | AK11: 5C1B435A259836BA273993BF4628025B366318259632C5DF097EE1017C019CA21C32
A12: 비계안정장치 | B12: 비계안정장치, 바퀴 | C12: 개 | D12: 0.36 | E12: =단가대비표!O30 -> 10000 | F12: =TRUNC(E12*D12,1) -> 3600 | G12: =단가대비표!P30 -> 0 | H12: =TRUNC(G12*D12,1) -> 0 | I12: =단가대비표!V30 -> 0 | J12: =TRUNC(I12*D12,1) -> 0 | K12: =TRUNC(E12+G12+I12,1) -> 10000 | L12: =TRUNC(F12+H12+J12,1) -> 3600 | N12: 5C1B435A259836BA273993BF462802 | O12: 5B366318259632C5DF097EE1017C019CA21C30 | P12: F | Q12: F | R12: T | AK12: 5C1B435A259836BA273993BF4628025B366318259632C5DF097EE1017C019CA21C30
A13: 비계안정장치 | B13: 비계안정장치, 쟈키 | C13: 개 | D13: 0.36 | E13: =단가대비표!O31 -> 9000 | F13: =TRUNC(E13*D13,1) -> 3240 | G13: =단가대비표!P31 -> 0 | H13: =TRUNC(G13*D13,1) -> 0 | I13: =단가대비표!V31 -> 0 | J13: =TRUNC(I13*D13,1) -> 0 | K13: =TRUNC(E13+G13+I13,1) -> 9000 | L13: =TRUNC(F13+H13+J13,1) -> 3240 | N13: 5C1B435A259836BA273993BF462802 | O13: 5B366318259632C5DF097EE1017C019CA21C31 | P13: F | Q13: F | R13: T | AK13: 5C1B435A259836BA273993BF4628025B366318259632C5DF097EE1017C019CA21C31
A14: 판재 | B14: 판재, 외송, 일반 | C14: M3 | D14: 0.0315 | E14: =단가대비표!O12 -> 389221.55 | F14: =TRUNC(E14*D14,1) -> 12260.4 | G14: =단가대비표!P12 -> 0 | H14: =TRUNC(G14*D14,1) -> 0 | I14: =단가대비표!V12 -> 0 | J14: =TRUNC(I14*D14,1) -> 0 | K14: =TRUNC(E14+G14+I14,1) -> 389221.5 | L14: =TRUNC(F14+H14+J14,1) -> 12260.4 | N14: 5C1B435A259836BA273993BF462802 | O14: 5B366318259F13EE4D199D8377120D557452F0 | P14: F | Q14: F | R14: T | AK14: 5C1B435A259836BA273993BF4628025B366318259F13EE4D199D8377120D557452F0
A15: 보통인부 | B15: 일반공사 직종 | C15: 인 | D15: 0.6 | E15: =단가대비표!O65 -> 0 | F15: =TRUNC(E15*D15,1) -> 0 | G15: =단가대비표!P65 -> 89566 | H15: =TRUNC(G15*D15,1) -> 53739.6 | I15: =단가대비표!V65 -> 0 | J15: =TRUNC(I15*D15,1) -> 0 | K15: =TRUNC(E15+G15+I15,1) -> 89566 | L15: =TRUNC(F15+H15+J15,1) -> 53739.6 | N15: 5C1B435A259836BA273993BF462802 | O15: 5CCEF394289403200B19B9E9A5120CA7C3CC59 | P15: F | Q15: F | R15: T | AK15: 5C1B435A259836BA273993BF4628025CCEF394289403200B19B9E9A5120CA7C3CC59
A16: [ 합 계 ] | F16: =TRUNC(SUMIF(N6:N15, N5, F6:F15),0) -> 33400 | H16: =TRUNC(SUMIF(N6:N15, N5, H6:H15),0) -> 53739 | J16: =TRUNC(SUMIF(N6:N15, N5, J6:J15),0) -> 0 | L16: =F16+H16+J16 -> 87139 | N16: TOTAL | O16: TOTAL
A17: (일위02호) 건축물현장정리 수선공사 M2 | N17: 5C1B435F2D9CF8F6A1E90270F76106
A18: 보통인부 | B18: 일반공사 직종 | C18: 인 | D18: 0.035 | E18: =단가대비표!O65 -> 0 | F18: =TRUNC(E18*D18,1) -> 0 | G18: =단가대비표!P65 -> 89566 | H18: =TRUNC(G18*D18,1) -> 3134.8 | I18: =단가대비표!V65 -> 0 | J18: =TRUNC(I18*D18,1) -> 0 | K18: =TRUNC(E18+G18+I18,1) -> 89566 | L18: =TRUNC(F18+H18+J18,1) -> 3134.8 | N18: 5C1B435F2D9CF8F6A1E90270F76106 | O18: 5CCEF394289403200B19B9E9A5120CA7C3CC59 | P18: F | Q18: F | R18: T | AK18: 5C1B435F2D9CF8F6A1E90270F761065CCEF394289403200B19B9E9A5120CA7C3CC59
A19: [ 합 계 ] | F19: =TRUNC(SUMIF(N18:N18, N17, F18:F18),0) -> 0 | H19: =TRUNC(SUMIF(N18:N18, N17, H18:H18),0) -> 3134 | J19: =TRUNC(SUMIF(N18:N18, N17, J18:J18),0) -> 0 | L19: =F19+H19+J19 -> 3134 | N19: TOTAL | O19: TOTAL
A20: (일위03호) 석면건축자재(천정재)철거 60M2 이상 M2 | N20: 5B5123C12C990F83FC99E98C89C0
A21: 노무비 | B21: 특별인부 | C21: 인 | D21: 0.084 | E21: =단가대비표!O48 -> 0 | F21: =TRUNC(E21*D21,1) -> 0 | G21: =단가대비표!P48 -> 111771 | H21: =TRUNC(G21*D21,1) -> 9388.7 | I21: =단가대비표!V48 -> 0 | J21: =TRUNC(I21*D21,1) -> 0 | K21: =TRUNC(E21+G21+I21,1) -> 111771 | L21: =TRUNC(F21+H21+J21,1) -> 9388.7 | N21: 5B5123C12C990F83FC99E98C89C0 | O21: 5B5123C12C9A2E5787294FF81450 | P21: F | Q21: F | R21: T | AK21: 5B5123C12C990F83FC99E98C89C05B5123C12C9A2E5787294FF81450
A22: 노무비 | B22: 보통인부 | C22: 인 | D22: 0.017 | E22: =단가대비표!O47 -> 0 | F22: =TRUNC(E22*D22,1) -> 0 | G22: =단가대비표!P47 -> 89566 | H22: =TRUNC(G22*D22,1) -> 1522.6 | I22: =단가대비표!V47 -> 0 | J22: =TRUNC(I22*D22,1) -> 0 | K22: =TRUNC(E22+G22+I22,1) -> 89566 | L22: =TRUNC(F22+H22+J22,1) -> 1522.6 | N22: 5B5123C12C990F83FC99E98C89C0 | O22: 5B5123C12C9A2E5787294FEFE570 | P22: F | Q22: F | R22: T | AK22: 5B5123C12C990F83FC99E98C89C05B5123C12C9A2E5787294FEFE570
A23: 약품살포 | C23: L | D23: 0.018 | E23: =단가대비표!O49 -> 4333 | F23: =TRUNC(E23*D23,1) -> 77.9 | G23: =단가대비표!P49 -> 0 | H23: =TRUNC(G23*D23,1) -> 0 | I23: =단가대비표!V49 -> 0 | J23: =TRUNC(I23*D23,1) -> 0 | K23: =TRUNC(E23+G23+I23,1) -> 4333 | L23: =TRUNC(F23+H23+J23,1) -> 77.9 | N23: 5B5123C12C990F83FC99E98C89C0 | O23: 5B989372279036378749A7B81650 | P23: F | Q23: F | R23: T | AK23: 5B5123C12C990F83FC99E98C89C05B989372279036378749A7B81650
A24: 기계경비 | B24: 동력분무기 5HP | C24: HR | D24: 0.12 | E24: =단가대비표!O50 -> 0 | F24: =TRUNC(E24*D24,1) -> 0 | G24: =단가대비표!P50 -> 0 | H24: =TRUNC(G24*D24,1) -> 0 | I24: =단가대비표!V50 -> 83 | J24: =TRUNC(I24*D24,1) -> 9.9 | K24: =TRUNC(E24+G24+I24,1) -> 83 | L24: =TRUNC(F24+H24+J24,1) -> 9.9 | N24: 5B5123C12C990F83FC99E98C89C0 | O24: 5B989372279036378749A7B805E0 | P24: F | Q24: F | R24: T | AK24: 5B5123C12C990F83FC99E98C89C05B989372279036378749A7B805E0
A25: 마스크손료(반면형) | B25: 3M-7502 | C25: EA | D25: 0.0005 | E25: =단가대비표!O51 -> 30000 | F25: =TRUNC(E25*D25,1) -> 15 | G25: =단가대비표!P51 -> 0 | H25: =TRUNC(G25*D25,1) -> 0 | I25: =단가대비표!V51 -> 0 | J25: =TRUNC(I25*D25,1) -> 0 | K25: =TRUNC(E25+G25+I25,1) -> 30000 | L25: =TRUNC(F25+H25+J25,1) -> 15 | N25: 5B5123C12C990F83FC99E98C89C0 | O25: 5B989372279036378749A7B805F0 | P25: F | Q25: F | R25: T | AK25: 5B5123C12C990F83FC99E98C89C05B989372279036378749A7B805F0
A26: 안전장화 손료 | B26: 요딩DF-11 | C26: 컬레 | D26: 0.0005 | E26: =단가대비표!O52 -> 20000 | F26: =TRUNC(E26*D26,1) -> 10 | G26: =단가대비표!P52 -> 0 | H26: =TRUNC(G26*D26,1) -> 0 | I26: =단가대비표!V52 -> 0 | J26: =TRUNC(I26*D26,1) -> 0 | K26: =TRUNC(E26+G26+I26,1) -> 20000 | L26: =TRUNC(F26+H26+J26,1) -> 10 | N26: 5B5123C12C990F83FC99E98C89C0 | O26: 5B989372279036378749A7B805C0 | P26: F | Q26: F | R26: T | AK26: 5B5123C12C990F83FC99E98C89C05B989372279036378749A7B805C0
A27: 고글(보안경)손료 | B27: 3M-5058 | C27: EA | D27: 0.0005 | E27: =단가대비표!O53 -> 3500 | F27: =TRUNC(E27*D27,1) -> 1.7 | G27: =단가대비표!P53 -> 0 | H27: =TRUNC(G27*D27,1) -> 0 | I27: =단가대비표!V53 -> 0 | J27: =TRUNC(I27*D27,1) -> 0 | K27: =TRUNC(E27+G27+I27,1) -> 3500 | L27: =TRUNC(F27+H27+J27,1) -> 1.7 | N27: 5B5123C12C990F83FC99E98C89C0 | O27: 5B989372279036378749A7B805D0 | P27: F | Q27: F | R27: T | AK27: 5B5123C12C990F83FC99E98C89C05B989372279036378749A7B805D0
A28: 마스크 필터 1급 | B28: 1일3회사용 | C28: 조 | D28: 0.181 | E28: =단가대비표!O54 -> 6000 | F28: =TRUNC(E28*D28,1) -> 1086 | G28: =단가대비표!P54 -> 0 | H28: =TRUNC(G28*D28,1) -> 0 | I28: =단가대비표!V54 -> 0 | J28: =TRUNC(I28*D28,1) -> 0 | K28: =TRUNC(E28+G28+I28,1) -> 6000 | L28: =TRUNC(F28+H28+J28,1) -> 1086 | N28: 5B5123C12C990F83FC99E98C89C0 | O28: 5B989372279036378749A7B805A0 | P28: F | Q28: F | R28: T | AK28: 5B5123C12C990F83FC99E98C89C05B989372279036378749A7B805A0
A29: 방진 작업복 | B29: 케미슈트 | C29: 벌 | D29: 0.181 | E29: =단가대비표!O55 -> 15000 | F29: =TRUNC(E29*D29,1) -> 2715 | G29: =단가대비표!P55 -> 0 | H29: =TRUNC(G29*D29,1) -> 0 | I29: =단가대비표!V55 -> 0 | J29: =TRUNC(I29*D29,1) -> 0 | K29: =TRUNC(E29+G29+I29,1) -> 15000 | L29: =TRUNC(F29+H29+J29,1) -> 2715 | N29: 5B5123C12C990F83FC99E98C89C0 | O29: 5B989372279036378749A7B805B0 | P29: F | Q29: F | R29: T | AK29: 5B5123C12C990F83FC99E98C89C05B989372279036378749A7B805B0
A30: 방진 장갑 | B30: 솔벡스2 | C30: 조 | D30: 0.181 | E30: =단가대비표!O56 -> 4000 | F30: =TRUNC(E30*D30,1) -> 724 | G30: =단가대비표!P56 -> 0 | H30: =TRUNC(G30*D30,1) -> 0 | I30: =단가대비표!V56 -> 0 | J30: =TRUNC(I30*D30,1) -> 0 | K30: =TRUNC(E30+G30+I30,1) -> 4000 | L30: =TRUNC(F30+H30+J30,1) -> 724 | N30: 5B5123C12C990F83FC99E98C89C0 | O30: 5B989372279036378749A7B80580 | P30: F | Q30: F | R30: T | AK30: 5B5123C12C990F83FC99E98C89C05B989372279036378749A7B80580
A31: 페기용비닐팩 | B31: 800MM*1200MM | C31: 조 | D31: 0.04 | E31: =단가대비표!O57 -> 4500 | F31: =TRUNC(E31*D31,1) -> 180 | G31: =단가대비표!P57 -> 0 | H31: =TRUNC(G31*D31,1) -> 0 | I31: =단가대비표!V57 -> 0 | J31: =TRUNC(I31*D31,1) -> 0 | K31: =TRUNC(E31+G31+I31,1) -> 4500 | L31: =TRUNC(F31+H31+J31,1) -> 180 | N31: 5B5123C12C990F83FC99E98C89C0 | O31: 5B989372279036378749A7B80590 | P31: F | Q31: F | R31: T | AK31: 5B5123C12C990F83FC99E98C89C05B989372279036378749A7B80590
A32: 스티커 | B32: 발암물질표시 | C32: 장 | D32: 0.4 | E32: =단가대비표!O58 -> 150 | F32: =TRUNC(E32*D32,1) -> 60 | G32: =단가대비표!P58 -> 0 | H32: =TRUNC(G32*D32,1) -> 0 | I32: =단가대비표!V58 -> 0 | J32: =TRUNC(I32*D32,1) -> 0 | K32: =TRUNC(E32+G32+I32,1) -> 150 | L32: =TRUNC(F32+H32+J32,1) -> 60 | N32: 5B5123C12C990F83FC99E98C89C0 | O32: 5B989372279036378749A7B80560 | P32: F | Q32: F | R32: T | AK32: 5B5123C12C990F83FC99E98C89C05B989372279036378749A7B80560
A33: 포장용비닐 | B33: 0.15MM*2겹 | C33: M2 | D33: 1.58 | E33: =단가대비표!O59 -> 716 | F33: =TRUNC(E33*D33,1) -> 1131.2 | G33: =단가대비표!P59 -> 0 | H33: =TRUNC(G33*D33,1) -> 0 | I33: =단가대비표!V59 -> 0 | J33: =TRUNC(I33*D33,1) -> 0 | K33: =TRUNC(E33+G33+I33,1) -> 716 | L33: =TRUNC(F33+H33+J33,1) -> 1131.2 | N33: 5B5123C12C990F83FC99E98C89C0 | O33: 5B989372279036378749A7B80570 | P33: F | Q33: F | R33: T | AK33: 5B5123C12C990F83FC99E98C89C05B989372279036378749A7B80570
A34: 포장용테이프 | C34: M | D34: 1.59 | E34: =단가대비표!O60 -> 55 | F34: =TRUNC(E34*D34,1) -> 87.4 | G34: =단가대비표!P60 -> 0 | H34: =TRUNC(G34*D34,1) -> 0 | I34: =단가대비표!V60 -> 0 | J34: =TRUNC(I34*D34,1) -> 0 | K34: =TRUNC(E34+G34+I34,1) -> 55 | L34: =TRUNC(F34+H34+J34,1) -> 87.4 | N34: 5B5123C12C990F83FC99E98C89C0 | O34: 5B989372279036378749A7B83120 | P34: F | Q34: F | R34: T | AK34: 5B5123C12C990F83FC99E98C89C05B989372279036378749A7B83120
A35: 벽,바닥비닐 | B35: 0.15MM,바닥1겹,벽2겹 | C35: M2 | D35: 4.16 | E35: =단가대비표!O61 -> 716 | F35: =TRUNC(E35*D35,1) -> 2978.5 | G35: =단가대비표!P61 -> 0 | H35: =TRUNC(G35*D35,1) -> 0 | I35: =단가대비표!V61 -> 0 | J35: =TRUNC(I35*D35,1) -> 0 | K35: =TRUNC(E35+G35+I35,1) -> 716 | L35: =TRUNC(F35+H35+J35,1) -> 2978.5 | N35: 5B5123C12C990F83FC99E98C89C0 | O35: 5B989372279036378749A7B83130 | P35: F | Q35: F | R35: T | AK35: 5B5123C12C990F83FC99E98C89C05B989372279036378749A7B83130
A36: 강관조립말비계 | C36: 식 | D36: 1 | E36: =단가대비표!O62 -> 0 | F36: =TRUNC(E36*D36,1) -> 0 | G36: =단가대비표!P62 -> 0 | H36: =TRUNC(G36*D36,1) -> 0 | I36: =단가대비표!V62 -> 1341 | J36: =TRUNC(I36*D36,1) -> 1341 | K36: =TRUNC(E36+G36+I36,1) -> 1341 | L36: =TRUNC(F36+H36+J36,1) -> 1341 | N36: 5B5123C12C990F83FC99E98C89C0 | O36: 5B989372279036378749A7B83100 | P36: F | Q36: F | R36: T | AK36: 5B5123C12C990F83FC99E98C89C05B989372279036378749A7B83100
A37: [ 합 계 ] | F37: =TRUNC(SUMIF(N21:N36, N20, F21:F36),0) -> 9066 | H37: =TRUNC(SUMIF(N21:N36, N20, H21:H36),0) -> 10911 | J37: =TRUNC(SUMIF(N21:N36, N20, J21:J36),0) -> 1350 | L37: =F37+H37+J37 -> 21327 | N37: TOTAL | O37: TOTAL

Sheet 단가대비표
A1: 단 가 대 비 표
A2: [ 전주우편집중국 지정폐기물 철거공사 ]
A3: 코 드 | B3: 품 명 | C3: 규격 | D3: 단위 | E3: 재 료 비 | P3: 노 무 비 | Q3: 경 비 | W3: 번 호 | X3: 비 고 | Y3: 품목구분 | Z3: 노임구분 | AA3: 소수점처리 | AB3: 자재구분
E4: 가격정보 | F4: PAGE | G4: 거래가격 | H4: PAGE | I4: 유통물가 | J4: PAGE | K4: 조사가격1 | L4: PAGE | M4: 조사가격2 | N4: PAGE | O4: 적용단가 | Q4: 가격정보 | R4: 거래가격 | S4: 유통물가 | T4: 조사가격1 | U4: 조사가격2 | V4: 적용단가
A5: 5B0923BB289CC4480CA9178BA8640229877EB5 | B5: 용접기(교류) | C5: 500Amp | D5: 대 | E5: 0 | G5: 0 | I5: 0 | K5: 0 | M5: 0 | O5: 0 | P5: 0 | Q5: 0 | R5: 0 | S5: 0 | T5: 0 | U5: 544 | V5: =SMALL(Q5:U5,COUNTIF(Q5:U5,0)+1) -> 544 | W5: 자재 1 | X5: 천원
A6: 5B1B83BF209230594189E99ACD9A059FA13032 | B6: 철강설 | C6: 철강설, 고철, 작업설부산물 | D6: kg | E6: 240 | G6: 220 | H6: 1408 | I6: 0 | K6: 0 | M6: 0 | O6: =SMALL(E6:M6,COUNTIF(E6:M6,0)+1) -> 220 | P6: 0 | Q6: 0 | R6: 0 | S6: 0 | T6: 0 | U6: 0 | V6: 0 | W6: 자재 2 | X6: 수집상차도
A7: 5B1BB37323961F92DD491F79905A02E6A1A971 | B7: 산소가스 | C7: 기체 | D7: L | E7: 2 | G7: 2.16 | H7: 1387 | I7: 2.33 | J7: 1238 | K7: 0 | M7: 0 | O7: =SMALL(E7:M7,COUNTIF(E7:M7,0)+1) -> 2 | P7: 0 | Q7: 0 | R7: 0 | S7: 0 | T7: 0 | U7: 0 | V7: 0 | W7: 자재 3
A8: 5B1BC318289F76C2AF199E17055706CBCC69EB | B8: 아세틸렌가스 | C8: 아세틸렌가스, kg | D8: kg | E8: 9500 | G8: 10000 | H8: 1387 | I8: 11000 | J8: 1238 | K8: 0 | M8: 0 | O8: =SMALL(E8:M8,COUNTIF(E8:M8,0)+1) -> 9500 | P8: 0 | Q8: 0 | R8: 0 | S8: 0 | T8: 0 | U8: 0 | V8: 0 | W8: 자재 4
A9: 5B2433E920928FA2A889A728E9730CEBE8589E | B9: 연강용피복아크용접봉 | C9: 연강용피복아크용접봉, CR-13, Φ3.2mm | D9: kg | E9: 0 | G9: 0 | I9: 2400 | J9: 1180 | K9: 0 | M9: 0 | O9: =SMALL(E9:M9,COUNTIF(E9:M9,0)+1) -> 2400 | P9: 0 | Q9: 0 | R9: 0 | S9: 0 | T9: 0 | U9: 0 | V9: 0 | W9: 자재 5
A10: 5B366318259F113E64192AD119580CAF96BBAC | B10: ㄱ형강 | C10: ㄱ형강, 등변, 25*25*3mm | D10: kg | E10: 780 | G10: 750 | H10: 37 | I10: 830 | J10: 22 | K10: 0 | M10: 0 | O10: =SMALL(E10:M10,COUNTIF(E10:M10,0)+1) -> 750 | P10: 0 | Q10: 0 | R10: 0 | S10: 0 | T10: 0 | U10: 0 | V10: 0 | W10: 자재 6
A11: 5B366318259F12C3C869EB25D8D80AB1912F67 | B11: 일반구조용압연강판 | C11: 일반구조용압연강판, 1.2mm | D11: kg | E11: 0 | G11: 1065.6 | H11: 45 | I11: 0 | K11: 0 | M11: 0 | O11: =SMALL(E11:M11,COUNTIF(E11:M11,0)+1) -> 1065.6 | P11: 0 | Q11: 0 | R11: 0 | S11: 0 | T11: 0 | U11: 0 | V11: 0 | W11: 자재 7
A12: 5B366318259F13EE4D199D8377120D557452F0 | B12: 판재 | C12: 판재, 외송, 일반 | D12: M3 | E12: 396900 | G12: 482035.92 | H12: 114 | I12: 389221.55 | J12: 71 | K12: 0 | M12: 0 | O12: =SMALL(E12:M12,COUNTIF(E12:M12,0)+1) -> 389221.55 | P12: 0 | Q12: 0 | R12: 0 | S12: 0 | T12: 0 | U12: 0 | V12: 0 | W12: 자재 8
A13: 5B366318259986C4D8E9E37C69C306491AD7F0 | B13: 석고보드 | C13: 석고보드, 평보드, 9.5*900*1800mm(㎡) | D13: M2 | E13: 1830 | G13: 2283.95 | H13: 609 | I13: 2037.03 | J13: 407 | K13: 0 | M13: 0 | O13: =SMALL(E13:M13,COUNTIF(E13:M13,0)+1) -> 1830 | P13: 0 | Q13: 0 | R13: 0 | S13: 0 | T13: 0 | U13: 0 | V13: 0 | W13: 자재 9
A14: 5B366318259986C7AC492AE2FDBC0FECFC1B34 | B14: 경량철골천장틀 | C14: 경량철골천장틀, M-BAR더블, 50*19*0.5mm | D14: M | E14: 0 | G14: 930 | H14: 672 | I14: 930 | J14: 419 | K14: 0 | M14: 0 | O14: =SMALL(E14:M14,COUNTIF(E14:M14,0)+1) -> 930 | P14: 0 | Q14: 0 | R14: 0 | S14: 0 | T14: 0 | U14: 0 | V14: 0 | W14: 자재 10
A15: 5B366318259986C7AC492AE2FDBC0FECFC1CD0 | B15: 경량철골천장틀 | C15: 경량철골천장틀, 달대볼트, 상6*1000mm | D15: 개 | E15: 0 | G15: 690 | H15: 672 | I15: 690 | J15: 419 | K15: 0 | M15: 0 | O15: =SMALL(E15:M15,COUNTIF(E15:M15,0)+1) -> 690 | P15: 0 | Q15: 0 | R15: 0 | S15: 0 | T15: 0 | U15: 0 | V15: 0 | W15: 자재 11
A16: 5B366318259986C7AC492AE2FDBC0FECFC1FAB | B16: 경량철골천장틀 | C16: 경량철골천장틀, 캐링찬넬, 38*12*1.2mm | D16: M | E16: 0 | G16: 1250 | H16: 672 | I16: 1250 | J16: 419 | K16: 0 | M16: 0 | O16: =SMALL(E16:M16,COUNTIF(E16:M16,0)+1) -> 1250 | P16: 0 | Q16: 0 | R16: 0 | S16: 0 | T16: 0 | U16: 0 | V16: 0 | W16: 자재 12
A17: 5B366318259986C7AC492AE2FDBC0FECFC1FAA | B17: 경량철골천장틀 | C17: 경량철골천장틀, 마이너찬넬, 19*10*1.2mm | D17: M | E17: 0 | G17: 780 | H17: 672 | I17: 780 | J17: 419 | K17: 0 | M17: 0 | O17: =SMALL(E17:M17,COUNTIF(E17:M17,0)+1) -> 780 | P17: 0 | Q17: 0 | R17: 0 | S17: 0 | T17: 0 | U17: 0 | V17: 0 | W17: 자재 13
A18: 5B366318259986C7AC492AE2FDBC0FECFC1FA9 | B18: 경량철골천장틀 | C18: 경량철골천장틀, 행가및핀, 110*23*18*2.3mm | D18: 조 | E18: 0 | G18: 0 | I18: 250 | J18: 419 | K18: 0 | M18: 0 | O18: =SMALL(E18:M18,COUNTIF(E18:M18,0)+1) -> 250 | P18: 0 | Q18: 0 | R18: 0 | S18: 0 | T18: 0 | U18: 0 | V18: 0 | W18: 자재 14
A19: 5B366318259986C7AC492AE2FDBC0FECFC1FA8 | B19: 경량철골천장틀 | C19: 경량철골천장틀, 찬넬크립, 37*30*10*1.2mm | D19: 조 | E19: 0 | G19: 0 | I19: 0 | K19: 0 | M19: 111 | O19: =SMALL(E19:M19,COUNTIF(E19:M19,0)+1) -> 111 | P19: 0 | Q19: 0 | R19: 0 | S19: 0 | T19: 0 | U19: 0 | V19: 0 | W19: 자재 15
A20: 5B366318259986C7AC492AE2FDBC0FECFC1FAF | B20: 경량철골천장틀 | C20: 경량철골천장틀, 캐링조인트, 90*40*13*0.5mm | D20: 조 | E20: 0 | G20: 0 | I20: 0 | K20: 0 | M20: 107 | O20: =SMALL(E20:M20,COUNTIF(E20:M20,0)+1) -> 107 | P20: 0 | Q20: 0 | R20: 0 | S20: 0 | T20: 0 | U20: 0 | V20: 0 | W20: 자재 16
A21: 5B366318259986C7AC492AE2FDBC0FECFC1FAE | B21: 경량철골천장틀 | C21: 경량철골천장틀, BAR크립, 더블 | D21: 개 | E21: 0 | G21: 0 | I21: 0 | K21: 0 | M21: 60 | O21: =SMALL(E21:M21,COUNTIF(E21:M21,0)+1) -> 60 | P21: 0 | Q21: 0 | R21: 0 | S21: 0 | T21: 0 | U21: 0 | V21: 0 | W21: 자재 17
A22: 5B366318259986C7AC492AE2FDBC0FECFC1FAC | B22: 경량철골천장틀 | C22: 경량철골천장틀, BAR조인트, 더블 | D22: 개 | E22: 0 | G22: 0 | I22: 0 | K22: 0 | M22: 80 | O22: =SMALL(E22:M22,COUNTIF(E22:M22,0)+1) -> 80 | P22: 0 | Q22: 0 | R22: 0 | S22: 0 | T22: 0 | U22: 0 | V22: 0 | W22: 자재 18
A23: 5B366318259986C7AC492AE2FDBC0FECFC1E83 | B23: 경량철골천장틀 | C23: ( 경량철골천장틀, 피스, 3*16mm ) | D23: 개 | E23: 26 | G23: 0 | I23: 0 | K23: 0 | M23: 0 | O23: =SMALL(E23:M23,COUNTIF(E23:M23,0)+1) -> 26 | P23: 0 | Q23: 0 | R23: 0 | S23: 0 | T23: 0 | U23: 0 | V23: 0 | W23: 자재 19 | X23: 필요시 계상
A24: 5B366318259632C5DF097EE1017C019CA213DE | B24: 비계안정장치 | C24: 비계안정장치, 비계기본틀, 기둥, 1.2*1.7m | D24: 개 | E24: 20830 | G24: 25100 | H24: 123 | I24: 28300 | J24: 77 | K24: 0 | M24: 0 | O24: =SMALL(E24:M24,COUNTIF(E24:M24,0)+1) -> 20830 | P24: 0 | Q24: 0 | R24: 0 | S24: 0 | T24: 0 | U24: 0 | V24: 0 | W24: 자재 20
A25: 5B366318259632C5DF097EE1017C019CA213D0 | B25: 비계안정장치 | C25: 비계안정장치, 가새, 1.2*1.9m | D25: 개 | E25: 6640 | G25: 8300 | H25: 123 | I25: 8900 | J25: 77 | K25: 0 | M25: 0 | O25: =SMALL(E25:M25,COUNTIF(E25:M25,0)+1) -> 6640 | P25: 0 | Q25: 0 | R25: 0 | S25: 0 | T25: 0 | U25: 0 | V25: 0 | W25: 자재 21
A26: 5B366318259632C5DF097EE1017C019CA21C34 | B26: 비계안정장치 | C26: 비계안정장치, 수평띠장, 1829mm | D26: 개 | E26: 0 | G26: 24500 | H26: 123 | I26: 25200 | J26: 77 | K26: 0 | M26: 0 | O26: =SMALL(E26:M26,COUNTIF(E26:M26,0)+1) -> 24500 | P26: 0 | Q26: 0 | R26: 0 | S26: 0 | T26: 0 | U26: 0 | V26: 0 | W26: 자재 22
A27: 5B366318259632C5DF097EE1017C019CA21C35 | B27: 비계안정장치 | C27: 비계안정장치, 손잡이, 1229mm | D27: 개 | E27: 6500 | G27: 0 | I27: 0 | K27: 0 | M27: 0 | O27: =SMALL(E27:M27,COUNTIF(E27:M27,0)+1) -> 6500 | P27: 0 | Q27: 0 | R27: 0 | S27: 0 | T27: 0 | U27: 0 | V27: 0 | W27: 자재 23
A28: 5B366318259632C5DF097EE1017C019CA21C32 | B28: 비계안정장치 | C28: 비계안정장치, 손잡이, 1829mm | D28: 개 | E28: 7800 | G28: 0 | I28: 0 | K28: 0 | M28: 0 | O28: =SMALL(E28:M28,COUNTIF(E28:M28,0)+1) -> 7800 | P28: 0 | Q28: 0 | R28: 0 | S28: 0 | T28: 0 | U28: 0 | V28: 0 | W28: 자재 24
A29: 5B366318259632C5DF097EE1017C019CA21C33 | B29: 비계안정장치 | C29: 비계안정장치, 손잡이기둥 | D29: 개 | E29: 10300 | G29: 0 | I29: 0 | K29: 0 | M29: 0 | O29: =SMALL(E29:M29,COUNTIF(E29:M29,0)+1) -> 10300 | P29: 0 | Q29: 0 | R29: 0 | S29: 0 | T29: 0 | U29: 0 | V29: 0 | W29: 자재 25
A30: 5B366318259632C5DF097EE1017C019CA21C30 | B30: 비계안정장치 | C30: 비계안정장치, 바퀴 | D30: 개 | E30: 0 | G30: 10000 | H30: 122 | I30: 0 | K30: 0 | M30: 0 | O30: =SMALL(E30:M30,COUNTIF(E30:M30,0)+1) -> 10000 | P30: 0 | Q30: 0 | R30: 0 | S30: 0 | T30: 0 | U30: 0 | V30: 0 | W30: 자재 26
A31: 5B366318259632C5DF097EE1017C019CA21C31 | B31: 비계안정장치 | C31: 비계안정장치, 쟈키 | D31: 개 | E31: 0 | G31: 9000 | H31: 123 | I31: 10600 | J31: 77 | K31: 0 | M31: 0 | O31: =SMALL(E31:M31,COUNTIF(E31:M31,0)+1) -> 9000 | P31: 0 | Q31: 0 | R31: 0 | S31: 0 | T31: 0 | U31: 0 | V31: 0 | W31: 자재 27
A32: 5B3673212799588659295DB93E69067E309852 | B32: 일반못 | C32: 일반못, 50mm | D32: kg | E32: 944 | G32: 1162.8 | H32: 75 | I32: 1012.5 | J32: 40 | K32: 0 | M32: 0 | O32: =SMALL(E32:M32,COUNTIF(E32:M32,0)+1) -> 944 | P32: 0 | Q32: 0 | R32: 0 | S32: 0 | T32: 0 | U32: 0 | V32: 0 | W32: 자재 28
A33: 5B3673212799588659295DB93E4E0FCA2D9EB1 | B33: 일반못 | C33: 일반못, 65mm | D33: kg | E33: 0 | G33: 1162.8 | H33: 75 | I33: 1012.5 | J33: 40 | K33: 0 | M33: 0 | O33: =SMALL(E33:M33,COUNTIF(E33:M33,0)+1) -> 1012.5 | P33: 0 | Q33: 0 | R33: 0 | S33: 0 | T33: 0 | U33: 0 | V33: 0 | W33: 자재 29
A34: 5B3673212799588EAF99DBE715260F2DF2B17B | B34: 인서트 | C34: 인서트, 주물, Φ6mm | D34: 개 | E34: 0 | G34: 0 | I34: 0 | K34: 0 | M34: 180 | O34: =SMALL(E34:M34,COUNTIF(E34:M34,0)+1) -> 180 | P34: 0 | Q34: 0 | R34: 0 | S34: 0 | T34: 0 | U34: 0 | V34: 0 | W34: 자재 30
A35: 5B367321279687FE0B59F432C190070FEF40D7 | B35: 연마지 | C35: 연마지, #120~180, 230*280mm | D35: 장 | E35: 200 | G35: 230 | H35: 1273 | I35: 275 | J35: 1216 | K35: 0 | M35: 0 | O35: =SMALL(E35:M35,COUNTIF(E35:M35,0)+1) -> 200 | P35: 0 | Q35: 0 | R35: 0 | S35: 0 | T35: 0 | U35: 0 | V35: 0 | W35: 자재 31
A36: 5B3673222095AF356939213CEAA504285112A6 | B36: 퍼티 | C36: 퍼티, 친환경, 내부 | D36: kg | E36: 0 | G36: 1044.44 | H36: 561 | I36: 0 | K36: 0 | M36: 0 | O36: =SMALL(E36:M36,COUNTIF(E36:M36,0)+1) -> 1044.44 | P36: 0 | Q36: 0 | R36: 0 | S36: 0 | T36: 0 | U36: 0 | V36: 0 | W36: 자재 32
A37: 5B3673222095AF356939213CEAA5042853C0C2 | B37: F-Tape | C37: W:35~100mm | D37: M | E37: 0 | G37: 0 | I37: 0 | K37: 0 | M37: 73 | O37: =SMALL(E37:M37,COUNTIF(E37:M37,0)+1) -> 73 | P37: 0 | Q37: 0 | R37: 0 | S37: 0 | T37: 0 | U37: 0 | V37: 0 | W37: 자재 33
A38: 5B3673222095AF356939213CEAA5042853C1EA | B38: 휠러 | D38: kg | E38: 0 | G38: 0 | I38: 0 | K38: 0 | M38: 1150 | O38: =SMALL(E38:M38,COUNTIF(E38:M38,0)+1) -> 1150 | P38: 0 | Q38: 0 | R38: 0 | S38: 0 | T38: 0 | U38: 0 | V38: 0 | W38: 자재 34
A39: 5B36732220948679495941A8F6770357CE18E2 | B39: 수성페인트 | C39: 수성페인트, 친환경(진품) | D39: L | E39: 0 | G39: 5583.33 | H39: 559 | I39: 0 | K39: 0 | M39: 0 | O39: =SMALL(E39:M39,COUNTIF(E39:M39,0)+1) -> 5583.33 | P39: 0 | Q39: 0 | R39: 0 | S39: 0 | T39: 0 | U39: 0 | V39: 0 | W39: 자재 35
A40: 5B3673222094867940799991CEBB03B8658CFD | B40: 방청페인트 | C40: 방청페인트, KSM6030-1종2류, 광명단페인트 | D40: L | E40: 6010 | G40: 8744.44 | H40: 556 | I40: 8766.66 | J40: 473 | K40: 0 | M40: 0 | O40: =SMALL(E40:M40,COUNTIF(E40:M40,0)+1) -> 6010 | P40: 0 | Q40: 0 | R40: 0 | S40: 0 | T40: 0 | U40: 0 | V40: 0 | W40: 자재 36
...

Sheet  공사설정 
A1: 이 Sheet는 수정하지 마십시요
A2: 공사구분 | B2: A
A3: 확정내역 | B3: 원내역
A4: 자재단가적용 | B4: 5
A5: 경비단가적용 | B5: 5
A6: 품목코드형식 | B6: XXXX-XXXX-XXXXXXXXX
A7: 내역금액소수점처리 | B7: C | C7: T
A8: 일위대가내역소수점처리 | B8: C | C8: 2
A9: 단가명 | B9: 가격정보 | C9: 거래가격 | D9: 유통물가 | E9: 조사가격1 | F9: 조사가격2 | G9: TTTTT
A10: 환율 | B10: 1099 | C10: 0 | D10: 0
A11: 시간당작업량 | B11: R | C11: 4
A12: 1회 사이클시간 | B12: R | C12: 4
A13: 시간당 작업사이클 | B13: R | C13: 3
A14: 일반변수 | B14: C | C14: 5
A15: 시간당 노임산출 계수 | B15: A | C15: 1/8*16/12*25/20 | D15: 1/8*16/12*25/20 | E15: 1/8*16/12*25/20 | F15: 1
A16: 재료비 할증 계수 | B16: 1.11 | C16: 1.12
A17: 노무비 할증 계수 | B17: 1 | C17: 1.5 | D17: 1.16 | E17: 1.6 | F17: 1.6 | G17: 1.6 | H17: 1.94 | I17: 1.94 | J17: 1.94 | K17: 1 | L17: 1 | M17: 1
A18: 경비 할증 계수 | B18: 1.25 | C18: 1.071
A19: 내역,일위대가 품명,규격,단위 따로적용
A21: 코드 | B21: 공종구분명 | C21: 원가비목코드
A22: 1 | B22: 작 업 부 산 물 | C22: A3
A23: 2 | B23: 운 반 비 | C23: C1
A24: 3 | B24: 관 급 자 재 비 | C24: DJ
A25: 4 | B25: 사 급 자 재 비 | C25: D3
A26: 5 | B26: 외 자 재
A27: 6 | B27: 건설폐기물처리비 | C27: D4
A28: 7 | B28: 지정폐기물처리비 | C28: D5
A29: 8 | B29: ...
A30: 9 | B30: ...

Sheet 자재산출
B1: 자 재 산 출 내 역
A2: [ 전주우편집중국 지정폐기물 철거공사 ]
A3: 부위별 | B3: 품 명 | C3: 규 격 | D3: 단위 | E3: 수량 | F3: 산출내역 | G3: 비 고 | H3: 품목코드 | I3: 변수 | J3: 설정 | K3: 공종코드 | L3: 일위 | M3: 단산 | N3: 자재 | O3: 손료적용 | P3: 손료저장 | Q3: 적용율 | R3: JUK1 | S3: JUK2 | T3: JUK3 | U3: JUK4 | V3: JUK5 | W3: JUK6 | X3: JUK7 | Y3: JUK8 | Z3: JUK9 | AA3: JUK10 | AB3: JUK11 | AC3: JUK12 | AD3: JUK13 | AE3: JUK14 | AF3: JUK15 | AG3: JUK16 | AH3: JUK17 | AI3: JUK18 | AJ3: JUK19 | AK3: JUK20 | AL3: 자재구분 | AM3: 공종구분 | AN3: 공종레벨 | AO3: 공종+자재 | AP3: 고유번호
A4: 010101 가 설 공 사 | K4: 010101
B5: 이동식강관말비계 | C5: 1단(2m), 3개월 | D5: 대 | E5: 2 | H5: 5C1B435A259836BA273993BF462802 | K5: 010101 | L5: T | M5: F | N5: F | AO5: 0101015C1B435A259836BA273993BF462802 | AP5: 4
B6: 건축물현장정리 | C6: 수선공사 | D6: M2 | E6: =244.87+81.88+16*6 -> 422.75 | F6: 244.87+81.88+(물류지원단:16*6) | H6: 5C1B435F2D9CF8F6A1E90270F76106 | K6: 010101 | L6: T | M6: F | N6: F | AO6: 0101015C1B435F2D9CF8F6A1E90270F76106 | AP6: 5
A8: 010102 철 거 공 사 | K8: 010106
B9: 석면건축자재(천정재)철거 | C9: 60M2 이상 | D9: M2 | E9: =244.87+81.88+16*6 -> 422.75 | F9: 244.87+81.88+(물류지원단:16*6) | H9: 5B5123C12C990F83FC99E98C89C0 | K9: 010106 | L9: T | M9: F | N9: F | AO9: 0101065B5123C12C990F83FC99E98C89C0 | AP9: 27
