Workbook

Sheet 참석대상자
C1: 2015년도 CS 유공직원 워크샵 참석 대상자 명단
C2: 국명 | D2: 종합성적 | H2: 창구분야 실적개선도 | K2: 집배분야 실적개선도 | N2: 개선도 상위분야 | O2: 비고 | P2: 참석 대상 | X2: 비고
B3: 관서급 | D3: 목표 | E3: 실적 | F3: 달성률 | G3: 순위 | H3: 전년 실적 | I3: 금년 실적 | J3: 개선도 | K3: 전년 실적 | L3: 금년 실적 | M3: 개선도 | P3: 대상 | Q3: 국명 | R3: 직급 | S3: 성명 | T3: 자택주소 | U3: 핸드폰 번호 | V3: 주민번호 | W3: 출발지
A4: =MATCH(C4,성적!$A$3:$A$43,0) -> 13 | B4: 4 | C4: 인천 | D4: 91.67 | H4: =INDEX(성적!$E$3:$E$43,$A4) -> 92.910331 | I4: 92.572036 | J4: =I4/H4 -> 0.99635891 | K4: =INDEX(성적!$F$3:$F$43,$A4) -> 91.06969 | L4: 94.287109 | M4: =L4/K4 -> 1.0353292 | N4: =IF(J4>M4,"창구",IF(J4=M4,"선택필요","집배")) -> 집배 | P4: 집배분야 유공직원 | Q4: 인천
A5: =MATCH(C5,성적!$A$3:$A$43,0) -> 12 | B5: 4 | C5: 인천계양 | D5: 91.72 | H5: =INDEX(성적!$E$3:$E$43,$A5) -> 92.925311 | I5: 91.809102 | J5: =I5/H5 -> 0.98798811 | K5: =INDEX(성적!$F$3:$F$43,$A5) -> 91.739487 | L5: 96.892622 | M5: =L5/K5 -> 1.0561714 | N5: =IF(J5>M5,"창구",IF(J5=M5,"선택필요","집배")) -> 집배 | Q5: 인천계양
A6: =MATCH(C6,성적!$A$3:$A$43,0) -> 7 | B6: 4 | C6: 부평 | D6: 92.27 | H6: =INDEX(성적!$E$3:$E$43,$A6) -> 92.148992 | I6: 93.601753 | J6: =I6/H6 -> 1.0157653 | K6: =INDEX(성적!$F$3:$F$43,$A6) -> 93.034735 | L6: 95.310634 | M6: =L6/K6 -> 1.0244629 | N6: =IF(J6>M6,"창구",IF(J6=M6,"선택필요","집배")) -> 집배 | Q6: 부평
A7: =MATCH(C7,성적!$A$3:$A$43,0) -> 9 | B7: 4 | C7: 의정부 | D7: 92.82 | H7: =INDEX(성적!$E$3:$E$43,$A7) -> 92.885549 | I7: 93.633915 | J7: =I7/H7 -> 1.0080569 | K7: =INDEX(성적!$F$3:$F$43,$A7) -> 93.442309 | L7: 95.316276 | M7: =L7/K7 -> 1.0200548 | N7: =IF(J7>M7,"창구",IF(J7=M7,"선택필요","집배")) -> 집배 | Q7: 의정부
A8: =MATCH(C8,성적!$A$3:$A$43,0) -> 4 | B8: 4 | C8: 수원 | D8: 91.97 | H8: =INDEX(성적!$E$3:$E$43,$A8) -> 91.79575 | I8: 92.678998 | J8: =I8/H8 -> 1.0096219 | K8: =INDEX(성적!$F$3:$F$43,$A8) -> 92.791672 | L8: 94.364019 | M8: =L8/K8 -> 1.0169449 | N8: =IF(J8>M8,"창구",IF(J8=M8,"선택필요","집배")) -> 집배 | Q8: 수원
A9: =MATCH(C9,성적!$A$3:$A$43,0) -> 23 | B9: 4 | C9: 동수원 | D9: 90.75 | H9: =INDEX(성적!$E$3:$E$43,$A9) -> 89.839354 | I9: 92.617718 | J9: =I9/H9 -> 1.0309259 | K9: =INDEX(성적!$F$3:$F$43,$A9) -> 91.03212 | L9: 94.022049 | M9: =L9/K9 -> 1.0328448 | N9: =IF(J9>M9,"창구",IF(J9=M9,"선택필요","집배")) -> 집배 | Q9: 동수원
A10: =MATCH(C10,성적!$A$3:$A$43,0) -> 8 | B10: 4 | C10: 안양 | D10: 91.86 | H10: =INDEX(성적!$E$3:$E$43,$A10) -> 92.892344 | I10: 90.648402 | J10: =I10/H10 -> 0.97584362 | K10: =INDEX(성적!$F$3:$F$43,$A10) -> 92.659842 | L10: 96.577648 | M10: =L10/K10 -> 1.0422816 | N10: =IF(J10>M10,"창구",IF(J10=M10,"선택필요","집배")) -> 집배 | Q10: 안양
A11: =MATCH(C11,성적!$A$3:$A$43,0) -> 3 | B11: 4 | C11: 부천 | D11: 91.63 | H11: =INDEX(성적!$E$3:$E$43,$A11) -> 91.883331 | I11: 92.027591 | J11: =I11/H11 -> 1.00157 | K11: =INDEX(성적!$F$3:$F$43,$A11) -> 92.88223 | L11: 97.045226 | M11: =L11/K11 -> 1.0448201 | N11: =IF(J11>M11,"창구",IF(J11=M11,"선택필요","집배")) -> 집배 | Q11: 부천
A12: =MATCH(C12,성적!$A$3:$A$43,0) -> 15 | B12: 4 | C12: 고양일산 | D12: 89.97 | H12: =INDEX(성적!$E$3:$E$43,$A12) -> 91.47959 | I12: 91.219878 | J12: =I12/H12 -> 0.99716099 | K12: =INDEX(성적!$F$3:$F$43,$A12) -> 91.26669 | L12: 96.584635 | M12: =L12/K12 -> 1.0582682 | N12: =IF(J12>M12,"창구",IF(J12=M12,"선택필요","집배")) -> 집배 | Q12: 고양일산
A13: =MATCH(C13,성적!$A$3:$A$43,0) -> 1 | B13: 4 | C13: 시흥 | D13: 91.02 | H13: =INDEX(성적!$E$3:$E$43,$A13) -> 90.271771 | I13: 89.649725 | J13: =I13/H13 -> 0.99310919 | K13: =INDEX(성적!$F$3:$F$43,$A13) -> 93.740932 | L13: 95.336632 | M13: =L13/K13 -> 1.0170224 | N13: =IF(J13>M13,"창구",IF(J13=M13,"선택필요","집배")) -> 집배 | Q13: 시흥
A14: =MATCH(C14,성적!$A$3:$A$43,0) -> 27 | B14: 4 | C14: 용인수지 | D14: 90.25 | H14: =INDEX(성적!$E$3:$E$43,$A14) -> 91.243179 | I14: 89.876823 | J14: =I14/H14 -> 0.98502512 | K14: =INDEX(성적!$F$3:$F$43,$A14) -> 88.756878 | L14: 95.528038 | M14: =L14/K14 -> 1.0762888 | N14: =IF(J14>M14,"창구",IF(J14=M14,"선택필요","집배")) -> 집배 | Q14: 용인수지
A15: =MATCH(C15,성적!$A$3:$A$43,0) -> 26 | B15: 4 | C15: 용인 | D15: 91.44 | H15: =INDEX(성적!$E$3:$E$43,$A15) -> 92.376328 | I15: 94.324153 | J15: =I15/H15 -> 1.0210858 | K15: =INDEX(성적!$F$3:$F$43,$A15) -> 90.336673 | L15: 95.13737 | M15: =L15/K15 -> 1.0531423 | N15: =IF(J15>M15,"창구",IF(J15=M15,"선택필요","집배")) -> 집배 | Q15: 용인
A16: =MATCH(C16,성적!$A$3:$A$43,0) -> 16 | B16: 4 | C16: 남양주 | D16: 91.95 | H16: =INDEX(성적!$E$3:$E$43,$A16) -> 93.07838 | I16: 91.030208 | J16: =I16/H16 -> 0.9779952 | K16: =INDEX(성적!$F$3:$F$43,$A16) -> 91.866172 | L16: 95.330816 | M16: =L16/K16 -> 1.037714 | N16: =IF(J16>M16,"창구",IF(J16=M16,"선택필요","집배")) -> 집배 | Q16: 남양주
... A28: =MATCH(C28,성적!$A$3:$A$43,0) -> 31 | B28: 5 | C28: 구리 | D28: 92.07 | H28: =INDEX(성적!$E$3:$E$43,$A28) -> 93.725336 | I28: 92.432627 | J28: =I28/H28 -> 0.98620747 | K28: =INDEX(성적!$F$3:$F$43,$A28) -> 92.072283 | L28: 93.013079 | M28: =L28/K28 -> 1.010218 | N28: =IF(J28>M28,"창구",IF(J28=M28,"선택필요","집배")) -> 집배 | Q28: 구리
C29: 남인천 (인천남동) | H29: =INDEX(성적!$E$3:$E$43,$A30) -> 91.243179 | I29: 91.953471 | J29: =I29/H29 -> 1.0077846 | K29: =INDEX(성적!$F$3:$F$43,$A30) -> 88.756878 | L29: 92.27908 | M29: =L29/K29 -> 1.0396837 | N29: =IF(J29>M29,"창구",IF(J29=M29,"선택필요","집배")) -> 집배 | O29: 남인천 : 집배 인천남동 : 창구 | Q29: 남인천
D30: 90.99 | P30: 창구분야 유공직원 | Q30: 인천남동
A31: =MATCH(C31,성적!$A$3:$A$43,0) -> 11 | B31: 4 | C31: 서인천 | D31: 91.39 | H31: =INDEX(성적!$E$3:$E$43,$A31) -> 90.968522 | I31: 93.048469 | J31: =I31/H31 -> 1.0228645 | K31: =INDEX(성적!$F$3:$F$43,$A31) -> 92.152841 | L31: 91.609158 | M31: =L31/K31 -> 0.99410021 | N31: =IF(J31>M31,"창구",IF(J31=M31,"선택필요","집배")) -> 창구 | Q31: 서인천
A32: =MATCH(C32,성적!$A$3:$A$43,0) -> 5 | B32: 4 | C32: 서수원 | D32: 91.97 | H32: =INDEX(성적!$E$3:$E$43,$A32) -> 91.79575 | I32: 95.183224 | J32: =I32/H32 -> 1.0369023 | K32: =INDEX(성적!$F$3:$F$43,$A32) -> 92.791672 | L32: 93.93533 | M32: =L32/K32 -> 1.012325 | N32: =IF(J32>M32,"창구",IF(J32=M32,"선택필요","집배")) -> 창구 | Q32: 서수원
A33: =MATCH(C33,성적!$A$3:$A$43,0) -> 14 | B33: 4 | C33: 군포 | D33: 91.37 | H33: =INDEX(성적!$E$3:$E$43,$A33) -> 89.066567 | I33: 93.02724 | J33: =I33/H33 -> 1.0444687 | K33: =INDEX(성적!$F$3:$F$43,$A33) -> 93.618559 | L33: 94.46671 | M33: =L33/K33 -> 1.0090597 | N33: =IF(J33>M33,"창구",IF(J33=M33,"선택필요","집배")) -> 창구 | Q33: 군포
A34: =MATCH(C34,성적!$A$3:$A$43,0) -> 20 | B34: 4 | C34: 성남 | D34: 92.02 | H34: =INDEX(성적!$E$3:$E$43,$A34) -> 91.603934 | I34: 93.84859 | J34: =I34/H34 -> 1.0245039 | K34: =INDEX(성적!$F$3:$F$43,$A34) -> 92.488735 | L34: 91.969488 | M34: =L34/K34 -> 0.99438584 | N34: =IF(J34>M34,"창구",IF(J34=M34,"선택필요","집배")) -> 창구 | Q34: 성남
A35: =MATCH(C35,성적!$A$3:$A$43,0) -> 2 | B35: 4 | C35: 성남분당 | D35: 90.21 | H35: =INDEX(성적!$E$3:$E$43,$A35) -> 88.136519 | I35: 92.75045 | J35: =I35/H35 -> 1.0523498 | K35: =INDEX(성적!$F$3:$F$43,$A35) -> 94.636817 | L35: 94.069618 | M35: =L35/K35 -> 0.99400658 | N35: =IF(J35>M35,"창구",IF(J35=M35,"선택필요","집배")) -> 창구 | Q35: 성남분당
A36: =MATCH(C36,성적!$A$3:$A$43,0) -> 10 | B36: 4 | C36: 안산 | D36: 91.71 | H36: =INDEX(성적!$E$3:$E$43,$A36) -> 91.3025 | I36: 91.911025 | J36: =I36/H36 -> 1.0066649 | K36: =INDEX(성적!$F$3:$F$43,$A36) -> 92.401547 | L36: 92.628385 | M36: =L36/K36 -> 1.0024549 | N36: =IF(J36>M36,"창구",IF(J36=M36,"선택필요","집배")) -> 창구 | Q36: 안산
A37: =MATCH(C37,성적!$A$3:$A$43,0) -> 6 | B37: 4 | C37: 고양덕양 | D37: 91.74 | H37: =INDEX(성적!$E$3:$E$43,$A37) -> 90.781709 | I37: 93.878066 | J37: =I37/H37 -> 1.0341077 | K37: =INDEX(성적!$F$3:$F$43,$A37) -> 94.332907 | L37: 95.363672 | M37: =L37/K37 -> 1.0109269 | N37: =IF(J37>M37,"창구",IF(J37=M37,"선택필요","집배")) -> 창구 | Q37: 고양덕양
A38: =MATCH(C38,성적!$A$3:$A$43,0) -> 21 | B38: 4 | C38: 광명 | D38: 91.16 | H38: =INDEX(성적!$E$3:$E$43,$A38) -> 90.829437 | I38: 93.557591 | J38: =I38/H38 -> 1.030036 | K38: =INDEX(성적!$F$3:$F$43,$A38) -> 91.892127 | L38: 94.275868 | M38: =L38/K38 -> 1.0259406 | N38: =IF(J38>M38,"창구",IF(J38=M38,"선택필요","집배")) -> 창구 | Q38: 광명
A39: =MATCH(C39,성적!$A$3:$A$43,0) -> 24 | B39: 4 | C39: 파주 | D39: 92.88 | H39: =INDEX(성적!$E$3:$E$43,$A39) -> 93.135257 | I39: 94.010078 | J39: =I39/H39 -> 1.009393 | K39: =INDEX(성적!$F$3:$F$43,$A39) -> 93.042593 | L39: 93.615495 | M39: =L39/K39 -> 1.0061574 | N39: =IF(J39>M39,"창구",IF(J39=M39,"선택필요","집배")) -> 창구 | Q39: 파주
A40: =MATCH(C40,성적!$A$3:$A$43,0) -> 22 | B40: 4 | C40: 김포 | D40: 92.06 | H40: =INDEX(성적!$E$3:$E$43,$A40) -> 91.948221 | I40: 95.194059 | J40: =I40/H40 -> 1.0353007 | K40: =INDEX(성적!$F$3:$F$43,$A40) -> 91.763284 | L40: 94.785417 | M40: =L40/K40 -> 1.032934 | N40: =IF(J40>M40,"창구",IF(J40=M40,"선택필요","집배")) -> 창구 | Q40: 김포
A41: =MATCH(C41,성적!$A$3:$A$43,0) -> 29 | B41: 5 | C41: 강화 | D41: 92.96 | H41: =INDEX(성적!$E$3:$E$43,$A41) -> 94.509084 | I41: 93.984559 | J41: =I41/H41 -> 0.99445 | K41: =INDEX(성적!$F$3:$F$43,$A41) -> 93.428328 | L41: 92.552257 | M41: =L41/K41 -> 0.99062307 | N41: =IF(J41>M41,"창구",IF(J41=M41,"선택필요","집배")) -> 창구 | Q41: 강화
A42: =MATCH(C42,성적!$A$3:$A$43,0) -> 39 | B42: 5 | C42: 양평 | D42: 94.1 | H42: =INDEX(성적!$E$3:$E$43,$A42) -> 93.655706 | I42: 96.924933 | J42: =I42/H42 -> 1.0349069 | K42: =INDEX(성적!$F$3:$F$43,$A42) -> 94.219952 | L42: 93.395255 | M42: =L42/K42 -> 0.9912471 | N42: =IF(J42>M42,"창구",IF(J42=M42,"선택필요","집배")) -> 창구 | Q42: 양평
... A44: =MATCH(C44,성적!$A$3:$A$43,0) -> 30 | B44: 5 | C44: 하남 | D44: 93.55 | H44: =INDEX(성적!$E$3:$E$43,$A44) -> 93.746118 | I44: 91.432483 | J44: =I44/H44 -> 0.97532021 | K44: =INDEX(성적!$F$3:$F$43,$A44) -> 94.338896 | L44: 91.912326 | M44: =L44/K44 -> 0.97427816 | N44: =IF(J44>M44,"창구",IF(J44=M44,"선택필요","집배")) -> 창구 | Q44: 하남
A45: =MATCH(C45,성적!$A$3:$A$43,0) -> 18 | B45: 5 | C45: 인천남동 | D45: 90.99 | H45: =INDEX(성적!$E$3:$E$43,$A45) -> 89.999372 | J45: =I45/H45 -> 0 | K45: =INDEX(성적!$F$3:$F$43,$A45) -> 91.582591 | M45: =L45/K45 -> 0 | N45: =IF(J45>M45,"창구",IF(J45=M45,"선택필요","집배")) -> 선택필요
C46: ※ 집배분야 유공직원 26명, 창구분야 유공직원 15명

Sheet 성적
A2: 국명 | B2: 목표 | C2: 실적 | D2: 달성률 | E2: 창구 | F2: 집배
A3: 시흥 | B3: 87.74 | C3: 92.406034 | D3: 1.0531802 | E3: 90.271771 | F3: 93.740932
A4: 성남분당 | B4: 87.36 | C4: 91.648584 | D4: 1.0490909 | E4: 88.136519 | F4: 94.636817
A5: 부천 | B5: 88.4 | C5: 92.682392 | D5: 1.0484433 | E5: 91.883331 | F5: 92.88223
A6: 수원 | B6: 88.86 | C6: 92.566526 | D6: 1.041712 | E6: 91.79575 | F6: 92.791672
A7: 서수원 | B7: 88.86 | C7: 92.566526 | D7: 1.041712 | E7: 91.79575 | F7: 92.791672
A8: 고양덕양 | B8: 89.06 | C8: 92.773193 | D8: 1.0416932 | E8: 90.781709 | F8: 94.332907
A9: 부평 | B9: 89.23 | C9: 92.83727 | D9: 1.0404267 | E9: 92.148992 | F9: 93.034735
A10: 안양 | B10: 89.46 | C10: 92.962289 | D10: 1.0391492 | E10: 92.892344 | F10: 92.659842
A11: 의정부 | B11: 89.89 | C11: 93.405733 | D11: 1.0391115 | E11: 92.885549 | F11: 93.442309
A12: 안산 | B12: 88.65 | C12: 92.084423 | D12: 1.0387414 | E12: 91.3025 | F12: 92.401547
A13: 서인천 | B13: 88.63 | C13: 91.913897 | D13: 1.0370518 | E13: 90.968522 | F13: 92.152841
A14: 인천계양 | B14: 89.34 | C14: 92.497029 | D14: 1.0353372 | E14: 92.925311 | F14: 91.739487
... A43: 오산 | B43: 90.21 | C43: 91.090904 | D43: 1.009765 | E43: 90.623141 | F43: 90.686658
