Workbook
Name a: #REF!
Name asd: #REF!
Name azx: #REF!
Name fc: #REF!
Name FC인원: #REF!
Name k: #REF!
Name q: #REF!
Name qqqq: #REF!
Name qw: #REF!
Name qwe: #REF!
Name rk: #REF!
Name sa: #REF!
Name sdf: #REF!
Name v: #REF!
Name ww: #REF!
Name www: #REF!
Name wwwww: #REF!
Name 가: #REF!
Name 갸: #REF!
Name 경영: #REF!
Name 경영환경: #REF!
Name 계: #REF!
Name 계약: #REF!
Name 계약2009: #REF!
Name 계약고: #REF!
Name 계약고목표: #REF!
Name 관서급: #REF!
Name 관서별기여도: #REF!
Name 관서별인원: #REF!
Name 관서인원: #REF!
Name 군: #REF!
Name 기여도: #REF!
Name 기여도2: #REF!
Name 김나연: #REF!
Name 나: #REF!
Name 냐: #REF!
Name 다: #REF!
Name 달성률: #REF!
Name 달성률2: #REF!
Name 라: #REF!
Name 마: #REF!
Name 모교: #REF!
Name 목표: #REF!
Name 목표2: #REF!
Name 목표3: #REF!
Name 바: #REF!
Name 변동: #REF!
Name 변동3월: #REF!
Name 보: #REF!
Name 보장: '[2]2013 우체국보험 특판'!#REF!
Name 보험: #REF!
Name 보험실적: #REF!
Name 사: #REF!
Name 생산성: #REF!
Name 서울청2: #REF!
Name 성: #REF!
Name 순서: #REF!
Name 신계약: #REF!
Name 신계약9월: #REF!
Name 신계약실효: #REF!

Sheet 워크숍
C1: 우체국보험 이벤트 실적현황 (워크숍)
C2: 우체국보험 우수직원 워크숍 대상자 명단 | K2: 국별 대상 인원
I4: (단위:천원,%)
C5: 순위 | D5: 총괄국 | E5: 모집자번호 | F5: 모집자 | G5: 8월누계 | H5: 9.1~9.30 | I5: 환산점수 | N5: (단위:명)
G6: (A) | H6: (B) | I6: (A*50%)+(B*50%) | K6: 구분 | L6: 금융영업실장 | M6: 우수직원 | N6: 계
C7: =ROW()-6 -> 1 | D7: =INDEX([1]관서별직원!$A$2:$E$4199,MATCH(E7,[1]관서별직원!$C$2:$C$4199,0),1) -> 서울송파 | E7: 02011741 | F7: =VLOOKUP(E7,[1]직원워크숍!$M$2:$S$836,2,0) -> 심순덕 | G7: =VLOOKUP(E7,[1]직원워크숍!$M$2:$S$836,3,0) -> 41339538 | H7: =VLOOKUP(E7,[1]직원워크숍!$M$2:$S$836,4,0) -> 3340200 | I7: =VLOOKUP(E7,[1]직원워크숍!$M$2:$S$836,7,0) -> 0.79981538 | K7: 서울중앙 | L7: 1 | M7: =COUNTIF($D$7:$I$56,K7) -> 1 | N7: =SUM(L7:M7) -> 2
C8: =ROW()-6 -> 2 | D8: =INDEX([1]관서별직원!$A$2:$E$4199,MATCH(E8,[1]관서별직원!$C$2:$C$4199,0),1) -> 동대문 | E8: 02001942 | F8: =VLOOKUP(E8,[1]직원워크숍!$M$2:$S$836,2,0) -> 김경애 | G8: =VLOOKUP(E8,[1]직원워크숍!$M$2:$S$836,3,0) -> 25356588 | H8: =VLOOKUP(E8,[1]직원워크숍!$M$2:$S$836,4,0) -> 3811648 | I8: =VLOOKUP(E8,[1]직원워크숍!$M$2:$S$836,7,0) -> 0.65115084 | K8: 광화문 | L8: 1 | M8: =COUNTIF($D$7:$I$56,K8) -> 0 | N8: =SUM(L8:M8) -> 1
C9: =ROW()-6 -> 3 | D9: =INDEX([1]관서별직원!$A$2:$E$4199,MATCH(E9,[1]관서별직원!$C$2:$C$4199,0),1) -> 서울강남 | E9: 02012128 | F9: =VLOOKUP(E9,[1]직원워크숍!$M$2:$S$836,2,0) -> 김미경 | G9: =VLOOKUP(E9,[1]직원워크숍!$M$2:$S$836,3,0) -> 13005743 | H9: =VLOOKUP(E9,[1]직원워크숍!$M$2:$S$836,4,0) -> 4729650 | I9: =VLOOKUP(E9,[1]직원워크숍!$M$2:$S$836,7,0) -> 0.58670148 | K9: 서대문 | L9: 1 | M9: =COUNTIF($D$7:$I$56,K9) -> 2 | N9: =SUM(L9:M9) -> 3
C10: =ROW()-6 -> 4 | D10: =INDEX([1]관서별직원!$A$2:$E$4199,MATCH(E10,[1]관서별직원!$C$2:$C$4199,0),1) -> 동대문 | E10: 02001475 | F10: =VLOOKUP(E10,[1]직원워크숍!$M$2:$S$836,2,0) -> 김가령 | G10: =VLOOKUP(E10,[1]직원워크숍!$M$2:$S$836,3,0) -> 19714881 | H10: =VLOOKUP(E10,[1]직원워크숍!$M$2:$S$836,4,0) -> 3159424 | I10: =VLOOKUP(E10,[1]직원워크숍!$M$2:$S$836,7,0) -> 0.52411146 | K10: 서울은평 | L10: 1 | M10: =COUNTIF($D$7:$I$56,K10) -> 1 | N10: =SUM(L10:M10) -> 2
C11: =ROW()-6 -> 5 | D11: =INDEX([1]관서별직원!$A$2:$E$4199,MATCH(E11,[1]관서별직원!$C$2:$C$4199,0),1) -> 서울마포 | E11: 02000908 | F11: =VLOOKUP(E11,[1]직원워크숍!$M$2:$S$836,2,0) -> 장순화 | G11: =VLOOKUP(E11,[1]직원워크숍!$M$2:$S$836,3,0) -> 25243360 | H11: =VLOOKUP(E11,[1]직원워크숍!$M$2:$S$836,4,0) -> 2007240 | I11: =VLOOKUP(E11,[1]직원워크숍!$M$2:$S$836,7,0) -> 0.48544382 | K11: 동대문 | L11: 1 | M11: =COUNTIF($D$7:$I$56,K11) -> 6 | N11: =SUM(L11:M11) -> 7
C12: =ROW()-6 -> 6 | D12: =INDEX([1]관서별직원!$A$2:$E$4199,MATCH(E12,[1]관서별직원!$C$2:$C$4199,0),1) -> 서울관악 | E12: 03009959 | F12: =VLOOKUP(E12,[1]직원워크숍!$M$2:$S$836,2,0) -> 전상철 | G12: =VLOOKUP(E12,[1]직원워크숍!$M$2:$S$836,3,0) -> 25042115 | H12: =VLOOKUP(E12,[1]직원워크숍!$M$2:$S$836,4,0) -> 2031270 | I12: =VLOOKUP(E12,[1]직원워크숍!$M$2:$S$836,7,0) -> 0.48521998 | K12: 서울광진 | L12: 1 | M12: =COUNTIF($D$7:$I$56,K12) -> 2 | N12: =SUM(L12:M12) -> 3
C13: =ROW()-6 -> 7 | D13: =INDEX([1]관서별직원!$A$2:$E$4199,MATCH(E13,[1]관서별직원!$C$2:$C$4199,0),1) -> 서울중랑 | E13: 02018034 | F13: =VLOOKUP(E13,[1]직원워크숍!$M$2:$S$836,2,0) -> 김현미 | G13: =VLOOKUP(E13,[1]직원워크숍!$M$2:$S$836,3,0) -> 20065528 | H13: =VLOOKUP(E13,[1]직원워크숍!$M$2:$S$836,4,0) -> 2341880 | I13: =VLOOKUP(E13,[1]직원워크숍!$M$2:$S$836,7,0) -> 0.45385126 | K13: 서울마포 | L13: 1 | M13: =COUNTIF($D$7:$I$56,K13) -> 5 | N13: =SUM(L13:M13) -> 6
C14: =ROW()-6 -> 8 | D14: =INDEX([1]관서별직원!$A$2:$E$4199,MATCH(E14,[1]관서별직원!$C$2:$C$4199,0),1) -> 서울성북 | E14: 02003776 | F14: =VLOOKUP(E14,[1]직원워크숍!$M$2:$S$836,2,0) -> 박미영 | G14: =VLOOKUP(E14,[1]직원워크숍!$M$2:$S$836,3,0) -> 19181871 | H14: =VLOOKUP(E14,[1]직원워크숍!$M$2:$S$836,4,0) -> 2371530 | I14: =VLOOKUP(E14,[1]직원워크숍!$M$2:$S$836,7,0) -> 0.44595849 | K14: 서울관악 | L14: 1 | M14: =COUNTIF($D$7:$I$56,K14) -> 1 | N14: =SUM(L14:M14) -> 2
C15: =ROW()-6 -> 9 | D15: =INDEX([1]관서별직원!$A$2:$E$4199,MATCH(E15,[1]관서별직원!$C$2:$C$4199,0),1) -> 서대문 | E15: 02008032 | F15: =VLOOKUP(E15,[1]직원워크숍!$M$2:$S$836,2,0) -> 김진덕 | G15: =VLOOKUP(E15,[1]직원워크숍!$M$2:$S$836,3,0) -> 21618365 | H15: =VLOOKUP(E15,[1]직원워크숍!$M$2:$S$836,4,0) -> 1990680 | I15: =VLOOKUP(E15,[1]직원워크숍!$M$2:$S$836,7,0) -> 0.44047871 | K15: 여의도 | L15: 1 | M15: =COUNTIF($D$7:$I$56,K15) -> 1 | N15: =SUM(L15:M15) -> 2
C16: =ROW()-6 -> 10 | D16: =INDEX([1]관서별직원!$A$2:$E$4199,MATCH(E16,[1]관서별직원!$C$2:$C$4199,0),1) -> 서울중랑 | E16: 02006854 | F16: =VLOOKUP(E16,[1]직원워크숍!$M$2:$S$836,2,0) -> 이설우 | G16: =VLOOKUP(E16,[1]직원워크숍!$M$2:$S$836,3,0) -> 18318377 | H16: =VLOOKUP(E16,[1]직원워크숍!$M$2:$S$836,4,0) -> 2337935 | I16: =VLOOKUP(E16,[1]직원워크숍!$M$2:$S$836,7,0) -> 0.43254693 | K16: 서울강남 | L16: 1 | M16: =COUNTIF($D$7:$I$56,K16) -> 6 | N16: =SUM(L16:M16) -> 7
C17: =ROW()-6 -> 11 | D17: =INDEX([1]관서별직원!$A$2:$E$4199,MATCH(E17,[1]관서별직원!$C$2:$C$4199,0),1) -> 서울송파 | E17: 05008217 | F17: =VLOOKUP(E17,[1]직원워크숍!$M$2:$S$836,2,0) -> 김용민 | G17: =VLOOKUP(E17,[1]직원워크숍!$M$2:$S$836,3,0) -> 14835086 | H17: =VLOOKUP(E17,[1]직원워크숍!$M$2:$S$836,4,0) -> 2740345 | I17: =VLOOKUP(E17,[1]직원워크숍!$M$2:$S$836,7,0) -> 0.42744134 | K17: 서울금천 | L17: 1 | M17: =COUNTIF($D$7:$I$56,K17) -> 2 | N17: =SUM(L17:M17) -> 3
C18: =ROW()-6 -> 12 | D18: =INDEX([1]관서별직원!$A$2:$E$4199,MATCH(E18,[1]관서별직원!$C$2:$C$4199,0),1) -> 서울서초 | E18: 02017870 | F18: =VLOOKUP(E18,[1]직원워크숍!$M$2:$S$836,2,0) -> 김향숙 | G18: =VLOOKUP(E18,[1]직원워크숍!$M$2:$S$836,3,0) -> 17857042 | H18: =VLOOKUP(E18,[1]직원워크숍!$M$2:$S$836,4,0) -> 2217430 | I18: =VLOOKUP(E18,[1]직원워크숍!$M$2:$S$836,7,0) -> 0.41604053 | K18: 서울성북 | L18: 1 | M18: =COUNTIF($D$7:$I$56,K18) -> 4 | N18: =SUM(L18:M18) -> 5
... C28: =ROW()-6 -> 22 | D28: =INDEX([1]관서별직원!$A$2:$E$4199,MATCH(E28,[1]관서별직원!$C$2:$C$4199,0),1) -> 동대문 | E28: 02009367 | F28: =VLOOKUP(E28,[1]직원워크숍!$M$2:$S$836,2,0) -> 유영재 | G28: =VLOOKUP(E28,[1]직원워크숍!$M$2:$S$836,3,0) -> 20690610 | H28: =VLOOKUP(E28,[1]직원워크숍!$M$2:$S$836,4,0) -> 1449728 | I28: =VLOOKUP(E28,[1]직원워크숍!$M$2:$S$836,7,0) -> 0.38008555 | K28: 서울도봉 | L28: 1 | M28: =COUNTIF($D$7:$I$56,K28) -> 0 | N28: =SUM(L28:M28) -> 1
C29: =ROW()-6 -> 23 | D29: =INDEX([1]관서별직원!$A$2:$E$4199,MATCH(E29,[1]관서별직원!$C$2:$C$4199,0),1) -> 서울강남 | E29: 02010029 | F29: =VLOOKUP(E29,[1]직원워크숍!$M$2:$S$836,2,0) -> 김숙경 | G29: =VLOOKUP(E29,[1]직원워크숍!$M$2:$S$836,3,0) -> 19120814 | H29: =VLOOKUP(E29,[1]직원워크숍!$M$2:$S$836,4,0) -> 1602000 | I29: =VLOOKUP(E29,[1]직원워크숍!$M$2:$S$836,7,0) -> 0.37513597 | K29: 계 | L29: =SUM(L7:L28) -> 22 | M29: =SUM(M7:M28) -> 50 | N29: =SUM(N7:N28) -> 72
C30: =ROW()-6 -> 24 | D30: =INDEX([1]관서별직원!$A$2:$E$4199,MATCH(E30,[1]관서별직원!$C$2:$C$4199,0),1) -> 서울강남 | E30: 02017166 | F30: =VLOOKUP(E30,[1]직원워크숍!$M$2:$S$836,2,0) -> 이선옥 | G30: =VLOOKUP(E30,[1]직원워크숍!$M$2:$S$836,3,0) -> 7664678 | H30: =VLOOKUP(E30,[1]직원워크숍!$M$2:$S$836,4,0) -> 3046956 | I30: =VLOOKUP(E30,[1]직원워크숍!$M$2:$S$836,7,0) -> 0.36940865
C31: =ROW()-6 -> 25 | D31: =INDEX([1]관서별직원!$A$2:$E$4199,MATCH(E31,[1]관서별직원!$C$2:$C$4199,0),1) -> 서울강동 | E31: 02008437 | F31: =VLOOKUP(E31,[1]직원워크숍!$M$2:$S$836,2,0) -> 정근채 | G31: =VLOOKUP(E31,[1]직원워크숍!$M$2:$S$836,3,0) -> 4294337 | H31: =VLOOKUP(E31,[1]직원워크숍!$M$2:$S$836,4,0) -> 3475355 | I31: =VLOOKUP(E31,[1]직원워크숍!$M$2:$S$836,7,0) -> 0.36802425
C32: =ROW()-6 -> 26 | D32: =INDEX([1]관서별직원!$A$2:$E$4199,MATCH(E32,[1]관서별직원!$C$2:$C$4199,0),1) -> 서대문 | E32: 02010754 | F32: =VLOOKUP(E32,[1]직원워크숍!$M$2:$S$836,2,0) -> 윤효선 | G32: =VLOOKUP(E32,[1]직원워크숍!$M$2:$S$836,3,0) -> 18197292 | H32: =VLOOKUP(E32,[1]직원워크숍!$M$2:$S$836,4,0) -> 1619368 | I32: =VLOOKUP(E32,[1]직원워크숍!$M$2:$S$836,7,0) -> 0.36564662
C33: =ROW()-6 -> 27 | D33: =INDEX([1]관서별직원!$A$2:$E$4199,MATCH(E33,[1]관서별직원!$C$2:$C$4199,0),1) -> 서울송파 | E33: 02016417 | F33: =VLOOKUP(E33,[1]직원워크숍!$M$2:$S$836,2,0) -> 안상순 | G33: =VLOOKUP(E33,[1]직원워크숍!$M$2:$S$836,3,0) -> 13940576 | H33: =VLOOKUP(E33,[1]직원워크숍!$M$2:$S$836,4,0) -> 2130685 | I33: =VLOOKUP(E33,[1]직원워크숍!$M$2:$S$836,7,0) -> 0.36118863
C34: =ROW()-6 -> 28 | D34: =INDEX([1]관서별직원!$A$2:$E$4199,MATCH(E34,[1]관서별직원!$C$2:$C$4199,0),1) -> 서울마포 | E34: 02018059 | F34: =VLOOKUP(E34,[1]직원워크숍!$M$2:$S$836,2,0) -> 정명숙 | G34: =VLOOKUP(E34,[1]직원워크숍!$M$2:$S$836,3,0) -> 19323039 | H34: =VLOOKUP(E34,[1]직원워크숍!$M$2:$S$836,4,0) -> 1419387 | I34: =VLOOKUP(E34,[1]직원워크숍!$M$2:$S$836,7,0) -> 0.36092745
C35: =ROW()-6 -> 29 | D35: =INDEX([1]관서별직원!$A$2:$E$4199,MATCH(E35,[1]관서별직원!$C$2:$C$4199,0),1) -> 서울송파 | E35: 02010516 | F35: =VLOOKUP(E35,[1]직원워크숍!$M$2:$S$836,2,0) -> 변정선 | G35: =VLOOKUP(E35,[1]직원워크숍!$M$2:$S$836,3,0) -> 17089010 | H35: =VLOOKUP(E35,[1]직원워크숍!$M$2:$S$836,4,0) -> 1697225 | I35: =VLOOKUP(E35,[1]직원워크숍!$M$2:$S$836,7,0) -> 0.35945182
C36: =ROW()-6 -> 30 | D36: =INDEX([1]관서별직원!$A$2:$E$4199,MATCH(E36,[1]관서별직원!$C$2:$C$4199,0),1) -> 서울노원 | E36: 02014610 | F36: =VLOOKUP(E36,[1]직원워크숍!$M$2:$S$836,2,0) -> 맹경미 | G36: =VLOOKUP(E36,[1]직원워크숍!$M$2:$S$836,3,0) -> 13132073 | H36: =VLOOKUP(E36,[1]직원워크숍!$M$2:$S$836,4,0) -> 2172425 | I36: =VLOOKUP(E36,[1]직원워크숍!$M$2:$S$836,7,0) -> 0.355298
C37: =ROW()-6 -> 31 | D37: =INDEX([1]관서별직원!$A$2:$E$4199,MATCH(E37,[1]관서별직원!$C$2:$C$4199,0),1) -> 서울금천 | E37: 02007636 | F37: =VLOOKUP(E37,[1]직원워크숍!$M$2:$S$836,2,0) -> 유현주 | G37: =VLOOKUP(E37,[1]직원워크숍!$M$2:$S$836,3,0) -> 11735999 | H37: =VLOOKUP(E37,[1]직원워크숍!$M$2:$S$836,4,0) -> 2344935 | I37: =VLOOKUP(E37,[1]직원워크숍!$M$2:$S$836,7,0) -> 0.35427434
C38: =ROW()-6 -> 32 | D38: =INDEX([1]관서별직원!$A$2:$E$4199,MATCH(E38,[1]관서별직원!$C$2:$C$4199,0),1) -> 여의도 | E38: 02005978 | F38: =VLOOKUP(E38,[1]직원워크숍!$M$2:$S$836,2,0) -> 최영미 | G38: =VLOOKUP(E38,[1]직원워크숍!$M$2:$S$836,3,0) -> 10714117 | H38: =VLOOKUP(E38,[1]직원워크숍!$M$2:$S$836,4,0) -> 2408445 | I38: =VLOOKUP(E38,[1]직원워크숍!$M$2:$S$836,7,0) -> 0.34780856
C39: =ROW()-6 -> 33 | D39: =INDEX([1]관서별직원!$A$2:$E$4199,MATCH(E39,[1]관서별직원!$C$2:$C$4199,0),1) -> 동대문 | E39: 02015776 | F39: =VLOOKUP(E39,[1]직원워크숍!$M$2:$S$836,2,0) -> 여주현 | G39: =VLOOKUP(E39,[1]직원워크숍!$M$2:$S$836,3,0) -> 8950851 | H39: =VLOOKUP(E39,[1]직원워크숍!$M$2:$S$836,4,0) -> 2578497 | I39: =VLOOKUP(E39,[1]직원워크숍!$M$2:$S$836,7,0) -> 0.34215909
C40: =ROW()-6 -> 34 | D40: =INDEX([1]관서별직원!$A$2:$E$4199,MATCH(E40,[1]관서별직원!$C$2:$C$4199,0),1) -> 서울마포 | E40: 02011064 | F40: =VLOOKUP(E40,[1]직원워크숍!$M$2:$S$836,2,0) -> 염갑진 | G40: =VLOOKUP(E40,[1]직원워크숍!$M$2:$S$836,3,0) -> 15728696 | H40: =VLOOKUP(E40,[1]직원워크숍!$M$2:$S$836,4,0) -> 1662850 | I40: =VLOOKUP(E40,[1]직원워크숍!$M$2:$S$836,7,0) -> 0.3400133
C41: =ROW()-6 -> 35 | D41: =INDEX([1]관서별직원!$A$2:$E$4199,MATCH(E41,[1]관서별직원!$C$2:$C$4199,0),1) -> 서울서초 | E41: 05004226 | F41: =VLOOKUP(E41,[1]직원워크숍!$M$2:$S$836,2,0) -> 김경화 | G41: =VLOOKUP(E41,[1]직원워크숍!$M$2:$S$836,3,0) -> 282445 | H41: =VLOOKUP(E41,[1]직원워크숍!$M$2:$S$836,4,0) -> 3695735 | I41: =VLOOKUP(E41,[1]직원워크숍!$M$2:$S$836,7,0) -> 0.34000203
... C56: =ROW()-6 -> 50 | D56: =INDEX([1]관서별직원!$A$2:$E$4199,MATCH(E56,[1]관서별직원!$C$2:$C$4199,0),1) -> 서울중랑 | E56: 02016489 | F56: =VLOOKUP(E56,[1]직원워크숍!$M$2:$S$836,2,0) -> 지경숙 | G56: =VLOOKUP(E56,[1]직원워크숍!$M$2:$S$836,3,0) -> 17094569 | H56: =VLOOKUP(E56,[1]직원워크숍!$M$2:$S$836,4,0) -> 1265775 | I56: =VLOOKUP(E56,[1]직원워크숍!$M$2:$S$836,7,0) -> 0.320221
C58: 예비 | D58: =INDEX([1]관서별직원!$A$2:$E$4199,MATCH(E58,[1]관서별직원!$C$2:$C$4199,0),1) -> 광화문 | E58: 02007183 | F58: =VLOOKUP(E58,[1]직원워크숍!$M$2:$S$836,2,0) -> 주옥자 | G58: =VLOOKUP(E58,[1]직원워크숍!$M$2:$S$836,3,0) -> 14291942 | H58: =VLOOKUP(E58,[1]직원워크숍!$M$2:$S$836,4,0) -> 1589076 | I58: =VLOOKUP(E58,[1]직원워크숍!$M$2:$S$836,7,0) -> 0.31606985
C59: 예비 | D59: =INDEX([1]관서별직원!$A$2:$E$4199,MATCH(E59,[1]관서별직원!$C$2:$C$4199,0),1) -> 서울금천 | E59: 02005570 | F59: =VLOOKUP(E59,[1]직원워크숍!$M$2:$S$836,2,0) -> 유현애 | G59: =VLOOKUP(E59,[1]직원워크숍!$M$2:$S$836,3,0) -> 6427835 | H59: =VLOOKUP(E59,[1]직원워크숍!$M$2:$S$836,4,0) -> 2575005 | I59: =VLOOKUP(E59,[1]직원워크숍!$M$2:$S$836,7,0) -> 0.31159488
C60: 예비 | D60: =INDEX([1]관서별직원!$A$2:$E$4199,MATCH(E60,[1]관서별직원!$C$2:$C$4199,0),1) -> 서울강서 | E60: 02018305 | F60: =VLOOKUP(E60,[1]직원워크숍!$M$2:$S$836,2,0) -> 권혜수 | G60: =VLOOKUP(E60,[1]직원워크숍!$M$2:$S$836,3,0) -> 12427112 | H60: =VLOOKUP(E60,[1]직원워크숍!$M$2:$S$836,4,0) -> 1783759 | I60: =VLOOKUP(E60,[1]직원워크숍!$M$2:$S$836,7,0) -> 0.31144627
C61: 예비 | D61: =INDEX([1]관서별직원!$A$2:$E$4199,MATCH(E61,[1]관서별직원!$C$2:$C$4199,0),1) -> 서울성북 | E61: 02015633 | F61: =VLOOKUP(E61,[1]직원워크숍!$M$2:$S$836,2,0) -> 장영희 | G61: =VLOOKUP(E61,[1]직원워크숍!$M$2:$S$836,3,0) -> 8935584 | H61: =VLOOKUP(E61,[1]직원워크숍!$M$2:$S$836,4,0) -> 2194275 | I61: =VLOOKUP(E61,[1]직원워크숍!$M$2:$S$836,7,0) -> 0.30698024
C62: 예비 | D62: =INDEX([1]관서별직원!$A$2:$E$4199,MATCH(E62,[1]관서별직원!$C$2:$C$4199,0),1) -> 서울광진 | E62: 02006888 | F62: =VLOOKUP(E62,[1]직원워크숍!$M$2:$S$836,2,0) -> 배혜란 | G62: =VLOOKUP(E62,[1]직원워크숍!$M$2:$S$836,3,0) -> 8821120 | H62: =VLOOKUP(E62,[1]직원워크숍!$M$2:$S$836,4,0) -> 2166100 | I62: =VLOOKUP(E62,[1]직원워크숍!$M$2:$S$836,7,0) -> 0.30304179
C63: 예비 | D63: =INDEX([1]관서별직원!$A$2:$E$4199,MATCH(E63,[1]관서별직원!$C$2:$C$4199,0),1) -> 서울양천 | E63: 02000872 | F63: =VLOOKUP(E63,[1]직원워크숍!$M$2:$S$836,2,0) -> 서옥연 | G63: =VLOOKUP(E63,[1]직원워크숍!$M$2:$S$836,3,0) -> 7996548 | H63: =VLOOKUP(E63,[1]직원워크숍!$M$2:$S$836,4,0) -> 2188585 | I63: =VLOOKUP(E63,[1]직원워크숍!$M$2:$S$836,7,0) -> 0.29520473
C64: 예비 | D64: =INDEX([1]관서별직원!$A$2:$E$4199,MATCH(E64,[1]관서별직원!$C$2:$C$4199,0),1) -> 여의도 | E64: 02008896 | F64: =VLOOKUP(E64,[1]직원워크숍!$M$2:$S$836,2,0) -> 정효진 | G64: =VLOOKUP(E64,[1]직원워크숍!$M$2:$S$836,3,0) -> 5907621 | H64: =VLOOKUP(E64,[1]직원워크숍!$M$2:$S$836,4,0) -> 2419210 | I64: =VLOOKUP(E64,[1]직원워크숍!$M$2:$S$836,7,0) -> 0.29116833
C65: 예비 | D65: =INDEX([1]관서별직원!$A$2:$E$4199,MATCH(E65,[1]관서별직원!$C$2:$C$4199,0),1) -> 서울중앙 | E65: 02010810 | F65: =VLOOKUP(E65,[1]직원워크숍!$M$2:$S$836,2,0) -> 손온유 | G65: =VLOOKUP(E65,[1]직원워크숍!$M$2:$S$836,3,0) -> 16174872 | H65: =VLOOKUP(E65,[1]직원워크숍!$M$2:$S$836,4,0) -> 1048000 | I65: =VLOOKUP(E65,[1]직원워크숍!$M$2:$S$836,7,0) -> 0.28936014
C66: 예비 | D66: =INDEX([1]관서별직원!$A$2:$E$4199,MATCH(E66,[1]관서별직원!$C$2:$C$4199,0),1) -> 서대문 | E66: 02001088 | F66: =VLOOKUP(E66,[1]직원워크숍!$M$2:$S$836,2,0) -> 유현희 | G66: =VLOOKUP(E66,[1]직원워크숍!$M$2:$S$836,3,0) -> 11343735 | H66: =VLOOKUP(E66,[1]직원워크숍!$M$2:$S$836,4,0) -> 1681710 | I66: =VLOOKUP(E66,[1]직원워크숍!$M$2:$S$836,7,0) -> 0.28916378
C67: 예비 | D67: =INDEX([1]관서별직원!$A$2:$E$4199,MATCH(E67,[1]관서별직원!$C$2:$C$4199,0),1) -> 서울중앙 | E67: 02018080 | F67: =VLOOKUP(E67,[1]직원워크숍!$M$2:$S$836,2,0) -> 이옥림 | G67: =VLOOKUP(E67,[1]직원워크숍!$M$2:$S$836,3,0) -> 9545674 | H67: =VLOOKUP(E67,[1]직원워크숍!$M$2:$S$836,4,0) -> 1899815 | I67: =VLOOKUP(E67,[1]직원워크숍!$M$2:$S$836,7,0) -> 0.28747396
C68: 예비 | D68: =INDEX([1]관서별직원!$A$2:$E$4199,MATCH(E68,[1]관서별직원!$C$2:$C$4199,0),1) -> 서울광진 | E68: 02011464 | F68: =VLOOKUP(E68,[1]직원워크숍!$M$2:$S$836,2,0) -> 김명자 | G68: =VLOOKUP(E68,[1]직원워크숍!$M$2:$S$836,3,0) -> 11183027 | H68: =VLOOKUP(E68,[1]직원워크숍!$M$2:$S$836,4,0) -> 1676170 | I68: =VLOOKUP(E68,[1]직원워크숍!$M$2:$S$836,7,0) -> 0.2867326
C69: 예비 | D69: =INDEX([1]관서별직원!$A$2:$E$4199,MATCH(E69,[1]관서별직원!$C$2:$C$4199,0),1) -> 서울송파 | E69: 02011609 | F69: =VLOOKUP(E69,[1]직원워크숍!$M$2:$S$836,2,0) -> 강경남 | G69: =VLOOKUP(E69,[1]직원워크숍!$M$2:$S$836,3,0) -> 20707030 | H69: =VLOOKUP(E69,[1]직원워크숍!$M$2:$S$836,4,0) -> 397000 | I69: =VLOOKUP(E69,[1]직원워크숍!$M$2:$S$836,7,0) -> 0.2843975
... C77: 예비 | D77: =INDEX([1]관서별직원!$A$2:$E$4199,MATCH(E77,[1]관서별직원!$C$2:$C$4199,0),1) -> 서울강서 | E77: 02013842 | F77: =VLOOKUP(E77,[1]직원워크숍!$M$2:$S$836,2,0) -> 한매희 | G77: =VLOOKUP(E77,[1]직원워크숍!$M$2:$S$836,3,0) -> 16307110 | H77: =VLOOKUP(E77,[1]직원워크숍!$M$2:$S$836,4,0) -> 740790 | I77: =VLOOKUP(E77,[1]직원워크숍!$M$2:$S$836,7,0) -> 0.26296403
