Workbook

Sheet 원가계산서
A1: 공 사 원 가 계 산 서
A3: 공사명 : 표선우체국 대수선공사
A4: 구 분 비 목 | D4: 구 성 비 | E4: 금 액 | F4: 비 고
A6: 순 공 사 원 가 | B6: 재료비 | C6: 직 접 재 료 비 | E6: =집계표!F20-집계표!AL20 -> 14131386 | G6: A1 | I6: =E6 -> 14131386
C7: 간 접 재 료 비 | E7: =ROUNDDOWN(SUMIF($G$6:$G$31,"A1",$E$6:$E$31)*J7,0) -> 0 | G7: A2 | I7: =E7 -> 0
C8: 작업설.부산물 등(△) | E8: =집계표!T20 -> -14400 | G8: A3 | I8: =E8 -> -14400
C9: 소 계 | E9: =SUM(E6:E7)-ABS(SUMIF($G$6:$G$31,"A3",$E$6:$E$31)) -> 14116986 | G9: A | I9: =E9 -> 14116986
B10: 노무비 | C10: 직 접 노 무 비 | E10: =집계표!H20 -> 8027811 | G10: B1 | I10: =E10 -> 8027811
C11: 간 접 노 무 비 | D11: ="직.노*"&H11*100&"%" -> 직.노*9.6% | E11: =ROUNDDOWN(SUMIF($G$6:$G$31,"B1",$E$6:$E$31)*J11,0) -> 770669 | G11: B2 | H11: 0.096 | I11: =ROUNDDOWN(SUMIF($G$6:$G$31,"B1",$I$6:$I$31)*H11,0) -> 770669 | J11: 0.096
C12: 소 계 | E12: =SUM(E10:E11) -> 8798480 | G12: B | I12: =E12 -> 8798480
B13: 경 비 | C13: 기 계 경 비 | E13: =집계표!R20 -> 728761 | G13: C4 | I13: =E13 -> 728761
C14: 산 재 보 험 료 | D14: ="(노)*"&H14*100&"%" -> (노)*3.8% | E14: =ROUNDDOWN((SUMIF($G$6:$G$31,"B",$E$6:$E$31))*J14,0) -> 334342 | G14: C10 | H14: 0.038 | I14: =ROUNDDOWN((SUMIF($G$6:$G$31,"B",$I$6:$I$31))*H14,0) -> 334342 | J14: 0.038
C15: 고 용 보 험 료 | D15: ="(노)*"&H15*100&"%" -> (노)*0.87% | E15: =ROUNDDOWN((SUMIF($G$6:$G$31,"B",$E$6:$E$31))*J15,0) -> 76546 | G15: C11 | H15: 0.0087 | I15: =ROUNDDOWN((SUMIF($G$6:$G$31,"B",$I$6:$I$31))*H15,0) -> 76546 | J15: 0.0087
C16: 건 강 보 험 료 | E16: =ROUNDDOWN((SUMIF($G$6:$G$31,"B1",$E$6:$E$31))*J16,0) -> 0 | F16: 1개월이상적용 | G16: C12 | I16: =ROUNDDOWN((SUMIF($G$6:$G$31,"B1",$I$6:$I$31))*H16,0) -> 0
C17: 연 금 보 험 료 | E17: =ROUNDDOWN((SUMIF($G$6:$G$31,"B1",$E$6:$E$31))*J17,0) -> 0 | F17: 1개월이상적용 | G17: C13 | I17: =ROUNDDOWN((SUMIF($G$6:$G$31,"B1",$I$6:$I$31))*H17,0) -> 0
C18: 노인 장기 요양보험료 | E18: =ROUNDDOWN((SUMIF($G$6:$G$31,"C12",$E$6:$E$31))*J18,0) -> 0 | F18: 1개월이상적용 | G18: C16 | I18: =ROUNDDOWN((SUMIF($G$6:$G$31,"C12",$I$6:$I$31))*H18,0) -> 0
C19: 퇴 직 공 제 부 금 비 | E19: =ROUNDDOWN((SUMIF($G$6:$G$31,"B1",$E$6:$E$31))*J19,0) -> 0 | F19: 3억원이상적용 | G19: C14 | I19: =ROUNDDOWN((SUMIF($G$6:$G$31,"B1",$I$6:$I$31))*H19,0) -> 0
C20: 안 전 관 리 비 | E20: =ROUNDDOWN((SUMIF($G$6:$G$31,"A",$E$6:$E$31)+SUMIF($G$6:$G$31,"B1",$E$6:$E$31))*J20,0) -> 0 | F20: 4천만원이상적용 | G20: C15 | I20: =ROUNDDOWN((SUMIF($G$6:$G$31,"A",$I$6:$I$31)+SUMIF($G$6:$G$31,"B1",$I$6:$I$31))*H20,0) -> 0
C21: 기 타 경 비 | D21: ="(재+노)*"&H21*100&"%" -> (재+노)*5.078% | E21: =ROUNDDOWN((SUMIF($G$6:$G$31,"A",$E$6:$E$31)+SUMIF($G$6:$G$31,"B",$E$6:$E$31))*J21,0) -> 1163647 | G21: C26 | H21: 0.05078 | I21: =ROUNDDOWN((SUMIF($G$6:$G$31,"A",$I$6:$I$31)+SUMIF($G$6:$G$31,"B",$I$6:$I$31))*H21,0) -> 1163647 | J21: 0.05078
C22: 환 경 보 전 비 | D22: ="(재+직.노+기.경)*"&H22*100&"%" -> (재+직.노+기.경)*0.3% | E22: =ROUNDDOWN((SUMIF($G$6:$G$31,"A",$E$6:$E$31)+SUMIF($G$6:$G$31,"B1",$E$6:$E$31)+SUMIF($G$6:$G$31,"C4",$E$6:$E$31))*J22,0) -> 68620 | G22: C28 | H22: 0.003 | I22: =ROUNDDOWN((SUMIF($G$6:$G$31,"A",$I$6:$I$31)+SUMIF($G$6:$G$31,"B1",$I$6:$I$31)+SUMIF($G$6:$G$31,"C4",$I$6:$I$31))*H22,0) -> 68620 | J22: 0.003
C23: 소 계 | E23: =SUM(E13:E22) -> 2371916 | G23: C | I23: =E23 -> 2371916
B24: 계 | E24: =SUMIF($G$6:$G$31,"A",$E$6:$E$31)+SUMIF($G$6:$G$31,"B",$E$6:$E$31)+SUMIF($G$6:$G$31,"C",$E$6:$E$31) -> 25287382 | G24: X | I24: =E24 -> 25287382
A25: 일 반 관 리 비 | D25: ="(재+노+경)*"&H25*100&"%" -> (재+노+경)*6% | E25: =ROUNDDOWN((SUMIF($G$6:$G$31,"A",$E$6:$E$31)+SUMIF($G$6:$G$31,"B",$E$6:$E$31)+SUMIF($G$6:$G$31,"C",$E$6:$E$31))*J25,0) -> 1517242 | G25: D | H25: 0.06 | I25: =ROUNDDOWN((SUMIF($G$6:$G$31,"A",$I$6:$I$31)+SUMIF($G$6:$G$31,"B",$I$6:$I$31)+SUMIF($G$6:$G$31,"C",$I$6:$I$31))*H25,0) -> 1517242 | J25: 0.06
A26: 이 윤 | D26: ="(노+경+일)*"&H26*100&"%" -> (노+경+일)*10.51% | E26: =ROUNDDOWN((SUMIF($G$6:$G$31,"B",$E$6:$E$31)+SUMIF($G$6:$G$31,"C",$E$6:$E$31)+SUMIF($G$6:$G$31,"D",$E$6:$E$31))*J26,0) -> 1333470 | G26: E | H26: 0.1051 | I26: =ROUND((SUMIF($G$6:$G$31,"B",$I$6:$I$31)+SUMIF($G$6:$G$31,"C",$I$6:$I$31)+SUMIF($G$6:$G$31,"D",$I$6:$I$31))*H26,0)+K26 -> 1333471 | J26: 0.1051
A27: 폐 기 물 처 리 비 | E27: =집계표!X20 -> 42968 | G27: L | I27: =E27 -> 42968
A28: 총 원 가 | E28: =I28 -> 28181063 | G28: F | I28: =SUM(I24:I27) -> 28181063
A29: 부 가 가 치 세 | D29: ="(총원가)*"&H29*100&"%" -> (총원가)*10% | E29: =ROUNDDOWN((SUMIF($G$6:$G$31,"F",$E$6:$E$31))*J29,0) -> 2818106 | G29: H | H29: 0.1 | I29: =ROUNDDOWN((SUMIF($G$6:$G$31,"F",$I$6:$I$31))*H29,0) -> 2818106 | J29: 0.1
A30: 도 급 금 액 | E30: =INT(I30/1000)*1000 -> 30999000 | G30: Y | I30: =ROUNDDOWN(SUMIF($G$6:$G$31,"F",$I$6:$I$31)+SUMIF($G$6:$G$31,"H",$I$6:$I$31),0) -> 30999169

Sheet 집계표
A1: 집 계 표
A2: 공사명 : 표선우체국 대수선공사
A3: 품 명 | B3: 규 격 | C3: 단위 | D3: 수 량 | E3: 재 료 비 | G3: 노 무 비 | I3: 경 비 | K3: 합 계 | M3: 비고
E4: 단 가 | F4: 금 액 | G4: 단 가 | H4: 금 액 | I4: 단 가 | J4: 금 액 | K4: 단 가 | L4: 금 액 | N4: 손료요율 | O4: 손료구분 | P4: 적용구분 | Q4: 합계구분 | R4: 기계경비 | S4: 운반비 | T4: 작업부산물 | U4: 관급 | V4: 외주비 | W4: 장비비 | X4: 폐기물처리비 | Y4: 가설비 | Z4: 잡비제외분 | AA4: 사급자재대 | AB4: 관급자재대 | AC4: 사용자항목1 | AD4: 사용자항목2 | AE4: 사용자항목3 | AF4: 사용자항목4 | AG4: 사용자항목5 | AH4: 사용자항목6 | AI4: 사용자항목7 | AJ4: 사용자항목8 | AK4: 사용자항목9 | AL4: 간접재료비
A5: 01. 가설공사 | C5: 식 | D5: 1 | E5: =내역서!F20 -> 142136 | F5: =D5*E5 -> 142136 | G5: =내역서!H20 -> 1097169 | H5: =D5*G5 -> 1097169 | I5: =내역서!J20 -> 0 | J5: =D5*I5 -> 0 | K5: =E5+G5+I5 -> 1239305 | L5: =F5+H5+J5 -> 1239305 | Q5: 1 | R5: =내역서!R20*D5 -> 0 | S5: =내역서!S20*D5 -> 0 | T5: =내역서!T20*D5 -> 0 | U5: =내역서!U20*D5 -> 0 | V5: =내역서!V20*D5 -> 0 | W5: =내역서!W20*D5 -> 0 | X5: =내역서!X20*D5 -> 0 | Y5: =내역서!Y20*D5 -> 0 | Z5: =내역서!Z20*D5 -> 0 | AA5: =내역서!AA20*D5 -> 0 | AB5: =내역서!AB20*D5 -> 0 | AC5: =내역서!AC20*D5 -> 0 | AD5: =내역서!AD20*D5 -> 0 | AE5: =내역서!AE20*D5 -> 0 | AF5: =내역서!AF20*D5 -> 0 | AG5: =내역서!AG20*D5 -> 0 | AH5: =내역서!AH20*D5 -> 0 | AI5: =내역서!AI20*D5 -> 0 | AJ5: =내역서!AJ20*D5 -> 0 | AK5: =내역서!AK20*D5 -> 0 | AL5: =내역서!AL20*D5 -> 0
A6: 02. 도장공사 | C6: 식 | D6: 1 | E6: =내역서!F36 -> 17549 | F6: =D6*E6 -> 17549 | G6: =내역서!H36 -> 65893 | H6: =D6*G6 -> 65893 | I6: =내역서!J36 -> 89 | J6: =D6*I6 -> 89 | K6: =E6+G6+I6 -> 83531 | L6: =F6+H6+J6 -> 83531 | Q6: 1 | R6: =내역서!R36*D6 -> 89 | S6: =내역서!S36*D6 -> 0 | T6: =내역서!T36*D6 -> 0 | U6: =내역서!U36*D6 -> 0 | V6: =내역서!V36*D6 -> 0 | W6: =내역서!W36*D6 -> 0 | X6: =내역서!X36*D6 -> 0 | Y6: =내역서!Y36*D6 -> 0 | Z6: =내역서!Z36*D6 -> 0 | AA6: =내역서!AA36*D6 -> 0 | AB6: =내역서!AB36*D6 -> 0 | AC6: =내역서!AC36*D6 -> 0 | AD6: =내역서!AD36*D6 -> 0 | AE6: =내역서!AE36*D6 -> 0 | AF6: =내역서!AF36*D6 -> 0 | AG6: =내역서!AG36*D6 -> 0 | AH6: =내역서!AH36*D6 -> 0 | AI6: =내역서!AI36*D6 -> 0 | AJ6: =내역서!AJ36*D6 -> 0 | AK6: =내역서!AK36*D6 -> 0 | AL6: =내역서!AL36*D6 -> 0
A7: 03. 기타공사 | C7: 식 | D7: 1 | E7: =내역서!F52 -> 13900775 | F7: =D7*E7 -> 13900775 | G7: =내역서!H52 -> 5927205 | H7: =D7*G7 -> 5927205 | I7: =내역서!J52 -> 728000 | J7: =D7*I7 -> 728000 | K7: =E7+G7+I7 -> 20555980 | L7: =F7+H7+J7 -> 20555980 | Q7: 1 | R7: =내역서!R52*D7 -> 728000 | S7: =내역서!S52*D7 -> 0 | T7: =내역서!T52*D7 -> 0 | U7: =내역서!U52*D7 -> 0 | V7: =내역서!V52*D7 -> 0 | W7: =내역서!W52*D7 -> 0 | X7: =내역서!X52*D7 -> 0 | Y7: =내역서!Y52*D7 -> 0 | Z7: =내역서!Z52*D7 -> 0 | AA7: =내역서!AA52*D7 -> 0 | AB7: =내역서!AB52*D7 -> 0 | AC7: =내역서!AC52*D7 -> 0 | AD7: =내역서!AD52*D7 -> 0 | AE7: =내역서!AE52*D7 -> 0 | AF7: =내역서!AF52*D7 -> 0 | AG7: =내역서!AG52*D7 -> 0 | AH7: =내역서!AH52*D7 -> 0 | AI7: =내역서!AI52*D7 -> 0 | AJ7: =내역서!AJ52*D7 -> 0 | AK7: =내역서!AK52*D7 -> 0 | AL7: =내역서!AL52*D7 -> 0
A8: 04. 철거공사 | C8: 식 | D8: 1 | E8: =내역서!F68 -> 70926 | F8: =D8*E8 -> 70926 | G8: =내역서!H68 -> 937544 | H8: =D8*G8 -> 937544 | I8: =내역서!J68 -> 672 | J8: =D8*I8 -> 672 | K8: =E8+G8+I8 -> 1009142 | L8: =F8+H8+J8 -> 1009142 | Q8: 1 | R8: =내역서!R68*D8 -> 672 | S8: =내역서!S68*D8 -> 0 | T8: =내역서!T68*D8 -> 0 | U8: =내역서!U68*D8 -> 0 | V8: =내역서!V68*D8 -> 0 | W8: =내역서!W68*D8 -> 0 | X8: =내역서!X68*D8 -> 0 | Y8: =내역서!Y68*D8 -> 0 | Z8: =내역서!Z68*D8 -> 0 | AA8: =내역서!AA68*D8 -> 0 | AB8: =내역서!AB68*D8 -> 0 | AC8: =내역서!AC68*D8 -> 0 | AD8: =내역서!AD68*D8 -> 0 | AE8: =내역서!AE68*D8 -> 0 | AF8: =내역서!AF68*D8 -> 0 | AG8: =내역서!AG68*D8 -> 0 | AH8: =내역서!AH68*D8 -> 0 | AI8: =내역서!AI68*D8 -> 0 | AJ8: =내역서!AJ68*D8 -> 0 | AK8: =내역서!AK68*D8 -> 0 | AL8: =내역서!AL68*D8 -> 0
A9: 05. 폐기물처리비 | C9: 식 | D9: 1 | E9: =내역서!F84 -> 0 | F9: =D9*E9 -> 0 | G9: =내역서!H84 -> 0 | H9: =D9*G9 -> 0 | I9: =내역서!J84 -> 42968 | J9: =D9*I9 -> 42968 | K9: =E9+G9+I9 -> 42968 | L9: =F9+H9+J9 -> 42968 | M9: 합계제외 | Q9: 0 | R9: =내역서!R84*D9 -> 0 | S9: =내역서!S84*D9 -> 0 | T9: =내역서!T84*D9 -> 0 | U9: =내역서!U84*D9 -> 0 | V9: =내역서!V84*D9 -> 0 | W9: =내역서!W84*D9 -> 0 | X9: =내역서!X84*D9 -> 42968 | Y9: =내역서!Y84*D9 -> 0 | Z9: =내역서!Z84*D9 -> 0 | AA9: =내역서!AA84*D9 -> 0 | AB9: =내역서!AB84*D9 -> 0 | AC9: =내역서!AC84*D9 -> 0 | AD9: =내역서!AD84*D9 -> 0 | AE9: =내역서!AE84*D9 -> 0 | AF9: =내역서!AF84*D9 -> 0 | AG9: =내역서!AG84*D9 -> 0 | AH9: =내역서!AH84*D9 -> 0 | AI9: =내역서!AI84*D9 -> 0 | AJ9: =내역서!AJ84*D9 -> 0 | AK9: =내역서!AK84*D9 -> 0 | AL9: =내역서!AL84*D9 -> 0
A10: 06. 작업설 | C10: 식 | D10: 1 | E10: =내역서!F100 -> -14400 | F10: =D10*E10 -> -14400 | G10: =내역서!H100 -> 0 | H10: =D10*G10 -> 0 | I10: =내역서!J100 -> 0 | J10: =D10*I10 -> 0 | K10: =E10+G10+I10 -> -14400 | L10: =F10+H10+J10 -> -14400 | M10: 합계제외 | Q10: 0 | R10: =내역서!R100*D10 -> 0 | S10: =내역서!S100*D10 -> 0 | T10: =내역서!T100*D10 -> -14400 | U10: =내역서!U100*D10 -> 0 | V10: =내역서!V100*D10 -> 0 | W10: =내역서!W100*D10 -> 0 | X10: =내역서!X100*D10 -> 0 | Y10: =내역서!Y100*D10 -> 0 | Z10: =내역서!Z100*D10 -> 0 | AA10: =내역서!AA100*D10 -> 0 | AB10: =내역서!AB100*D10 -> 0 | AC10: =내역서!AC100*D10 -> 0 | AD10: =내역서!AD100*D10 -> 0 | AE10: =내역서!AE100*D10 -> 0 | AF10: =내역서!AF100*D10 -> 0 | AG10: =내역서!AG100*D10 -> 0 | AH10: =내역서!AH100*D10 -> 0 | AI10: =내역서!AI100*D10 -> 0 | AJ10: =내역서!AJ100*D10 -> 0 | AK10: =내역서!AK100*D10 -> 0 | AL10: =내역서!AL100*D10 -> 0
A20: 합 계 | F20: =SUMIF($Q$5:$Q$19,1,F5:F19) -> 14131386 | H20: =SUMIF($Q$5:$Q$19,1,H5:H19) -> 8027811 | J20: =SUMIF($Q$5:$Q$19,1,J5:J19) -> 728761 | L20: =F20+H20+J20 -> 22887958 | R20: =SUM($R$5:$R$19) -> 728761 | S20: =SUM($S$5:$S$19) -> 0 | T20: =SUM($T$5:$T$19) -> -14400 | U20: =SUM($U$5:$U$19) -> 0 | V20: =SUM($V$5:$V$19) -> 0 | W20: =SUM($W$5:$W$19) -> 0 | X20: =SUM($X$5:$X$19) -> 42968 | Y20: =SUM($Y$5:$Y$19) -> 0 | Z20: =SUM($Z$5:$Z$19) -> 0 | AA20: =SUM($AA$5:$AA$19) -> 0 | AB20: =SUM($AB$5:$AB$19) -> 0 | AC20: =SUM($AC$5:$AC$19) -> 0 | AD20: =SUM($AD$5:$AD$19) -> 0 | AE20: =SUM($AE$5:$AE$19) -> 0 | AF20: =SUM($AF$5:$AF$19) -> 0 | AG20: =SUM($AG$5:$AG$19) -> 0 | AH20: =SUM($AH$5:$AH$19) -> 0 | AI20: =SUM($AI$5:$AI$19) -> 0 | AJ20: =SUM($AJ$5:$AJ$19) -> 0 | AK20: =SUM($AK$5:$AK$19) -> 0 | AL20: =SUM($AL$5:$AL$19) -> 0

Sheet 내역서
A1: 내 역 서
A2: 공사명 : 표선우체국 대수선공사
A3: 품 명 | B3: 규 격 | C3: 단위 | D3: 수 량 | E3: 재 료 비 | G3: 노 무 비 | I3: 경 비 | K3: 합 계 | M3: 비고
E4: 단 가 | F4: 금 액 | G4: 단 가 | H4: 금 액 | I4: 단 가 | J4: 금 액 | K4: 단 가 | L4: 금 액 | N4: 손료요율 | O4: 손료구분 | P4: 적용구분 | Q4: 합계구분 | R4: 기계경비 | S4: 운반비 | T4: 작업부산물 | U4: 관급 | V4: 외주비 | W4: 장비비 | X4: 폐기물처리비 | Y4: 가설비 | Z4: 잡비제외분 | AA4: 사급자재대 | AB4: 관급자재대 | AC4: 사용자항목1 | AD4: 사용자항목2 | AE4: 사용자항목3 | AF4: 사용자항목4 | AG4: 사용자항목5 | AH4: 사용자항목6 | AI4: 사용자항목7 | AJ4: 사용자항목8 | AK4: 사용자항목9 | AL4: 간접재료비
A5: 01. 가설공사
A6: 강관비계 | B6: 3개월이하 대여 | C6: M2 | D6: 163 | E6: =일위대가목록!G6 -> 872 | F6: =ROUNDDOWN(D6*E6,0) -> 142136 | G6: =일위대가목록!I6 -> 6431 | H6: =ROUNDDOWN(D6*G6,0) -> 1048253 | J6: =ROUNDDOWN(D6*I6,0) -> 0 | K6: =E6+G6+I6 -> 7303 | L6: =F6+H6+J6 -> 1190389 | M6: 일위 2호 | P6: 기계경비 | Q6: 1 | R6: =IF(P6="기계경비",J6,0) -> 0 | S6: =IF(P6="운반비",J6,0) -> 0 | T6: =IF(P6="작업부산물",F6,0) -> 0 | U6: =IF(P6="관급",ROUNDDOWN(D6*E6,0),0)+IF(P6="지급",ROUNDDOWN(D6*E6,0),0) -> 0 | V6: =IF(P6="외주비",F6+H6+J6,0) -> 0 | W6: =IF(P6="장비비",F6+H6+J6,0) -> 0 | X6: =IF(P6="폐기물처리비",J6,0) -> 0 | Y6: =IF(P6="가설비",J6,0) -> 0 | Z6: =IF(P6="잡비제외분",F6,0) -> 0 | AA6: =IF(P6="사급자재대",L6,0) -> 0 | AB6: =IF(P6="관급자재대",L6,0) -> 0 | AC6: =IF(P6="사용자항목1",L6,0) -> 0 | AD6: =IF(P6="사용자항목2",L6,0) -> 0 | AE6: =IF(P6="사용자항목3",L6,0) -> 0 | AF6: =IF(P6="사용자항목4",L6,0) -> 0 | AG6: =IF(P6="사용자항목5",L6,0) -> 0 | AH6: =IF(P6="사용자항목6",L6,0) -> 0 | AI6: =IF(P6="사용자항목7",L6,0) -> 0 | AJ6: =IF(P6="사용자항목8",L6,0) -> 0 | AK6: =IF(P6="사용자항목9",L6,0) -> 0
A7: 건축물현장정리 | B7: 개 보수공사 | C7: M2 | D7: 28 | F7: =ROUNDDOWN(D7*E7,0) -> 0 | G7: =일위대가목록!I5 -> 1747 | H7: =ROUNDDOWN(D7*G7,0) -> 48916 | J7: =ROUNDDOWN(D7*I7,0) -> 0 | K7: =E7+G7+I7 -> 1747 | L7: =F7+H7+J7 -> 48916 | M7: 일위 1호 | P7: 기계경비 | Q7: 1 | R7: =IF(P7="기계경비",J7,0) -> 0 | S7: =IF(P7="운반비",J7,0) -> 0 | T7: =IF(P7="작업부산물",F7,0) -> 0 | U7: =IF(P7="관급",ROUNDDOWN(D7*E7,0),0)+IF(P7="지급",ROUNDDOWN(D7*E7,0),0) -> 0 | V7: =IF(P7="외주비",F7+H7+J7,0) -> 0 | W7: =IF(P7="장비비",F7+H7+J7,0) -> 0 | X7: =IF(P7="폐기물처리비",J7,0) -> 0 | Y7: =IF(P7="가설비",J7,0) -> 0 | Z7: =IF(P7="잡비제외분",F7,0) -> 0 | AA7: =IF(P7="사급자재대",L7,0) -> 0 | AB7: =IF(P7="관급자재대",L7,0) -> 0 | AC7: =IF(P7="사용자항목1",L7,0) -> 0 | AD7: =IF(P7="사용자항목2",L7,0) -> 0 | AE7: =IF(P7="사용자항목3",L7,0) -> 0 | AF7: =IF(P7="사용자항목4",L7,0) -> 0 | AG7: =IF(P7="사용자항목5",L7,0) -> 0 | AH7: =IF(P7="사용자항목6",L7,0) -> 0 | AI7: =IF(P7="사용자항목7",L7,0) -> 0 | AJ7: =IF(P7="사용자항목8",L7,0) -> 0 | AK7: =IF(P7="사용자항목9",L7,0) -> 0
A20: 합 계 | F20: =SUMIF($Q$5:$Q$19,1,$F$5:$F$19) -> 142136 | H20: =SUMIF($Q$5:$Q$19,1,$H$5:$H$19) -> 1097169 | J20: =SUMIF($Q$5:$Q$19,1,$J$5:$J$19) -> 0 | L20: =F20+H20+J20 -> 1239305 | R20: =SUM($R$5:$R$19) -> 0 | S20: =SUM($S$5:$S$19) -> 0 | T20: =SUM($T$5:$T$19) -> 0 | U20: =SUM($U$5:$U$19) -> 0 | V20: =SUM($V$5:$V$19) -> 0 | W20: =SUM($W$5:$W$19) -> 0 | X20: =SUM($X$5:$X$19) -> 0 | Y20: =SUM($Y$5:$Y$19) -> 0 | Z20: =SUM($Z$5:$Z$19) -> 0 | AA20: =SUM($AA$5:$AA$19) -> 0 | AB20: =SUM($AB$5:$AB$19) -> 0 | AC20: =SUM($AC$5:$AC$19) -> 0 | AD20: =SUM($AD$5:$AD$19) -> 0 | AE20: =SUM($AE$5:$AE$19) -> 0 | AF20: =SUM($AF$5:$AF$19) -> 0 | AG20: =SUM($AG$5:$AG$19) -> 0 | AH20: =SUM($AH$5:$AH$19) -> 0 | AI20: =SUM($AI$5:$AI$19) -> 0 | AJ20: =SUM($AJ$5:$AJ$19) -> 0 | AK20: =SUM($AK$5:$AK$19) -> 0 | AL20: =SUM($AL$5:$AL$19) -> 0
A21: 02. 도장공사
A22: 낙서방지페인트 | B22: 벽2회 | C22: M2 | D22: 4 | E22: =일위대가목록!G7 -> 1942 | F22: =ROUNDDOWN(D22*E22,0) -> 7768 | G22: =일위대가목록!I7 -> 7909 | H22: =ROUNDDOWN(D22*G22,0) -> 31636 | J22: =ROUNDDOWN(D22*I22,0) -> 0 | K22: =E22+G22+I22 -> 9851 | L22: =F22+H22+J22 -> 39404 | M22: 일위 3호 | P22: 기계경비 | Q22: 1 | R22: =IF(P22="기계경비",J22,0) -> 0 | S22: =IF(P22="운반비",J22,0) -> 0 | T22: =IF(P22="작업부산물",F22,0) -> 0 | U22: =IF(P22="관급",ROUNDDOWN(D22*E22,0),0)+IF(P22="지급",ROUNDDOWN(D22*E22,0),0) -> 0 | V22: =IF(P22="외주비",F22+H22+J22,0) -> 0 | W22: =IF(P22="장비비",F22+H22+J22,0) -> 0 | X22: =IF(P22="폐기물처리비",J22,0) -> 0 | Y22: =IF(P22="가설비",J22,0) -> 0 | Z22: =IF(P22="잡비제외분",F22,0) -> 0 | AA22: =IF(P22="사급자재대",L22,0) -> 0 | AB22: =IF(P22="관급자재대",L22,0) -> 0 | AC22: =IF(P22="사용자항목1",L22,0) -> 0 | AD22: =IF(P22="사용자항목2",L22,0) -> 0 | AE22: =IF(P22="사용자항목3",L22,0) -> 0 | AF22: =IF(P22="사용자항목4",L22,0) -> 0 | AG22: =IF(P22="사용자항목5",L22,0) -> 0 | AH22: =IF(P22="사용자항목6",L22,0) -> 0 | AI22: =IF(P22="사용자항목7",L22,0) -> 0 | AJ22: =IF(P22="사용자항목8",L22,0) -> 0 | AK22: =IF(P22="사용자항목9",L22,0) -> 0
A23: 걸레받이용 페인트 | B23: 붓칠 2회 | C23: M2 | D23: 0.4 | E23: =일위대가목록!G9 -> 3597 | F23: =ROUNDDOWN(D23*E23,0) -> 1438 | G23: =일위대가목록!I9 -> 15031 | H23: =ROUNDDOWN(D23*G23,0) -> 6012 | J23: =ROUNDDOWN(D23*I23,0) -> 0 | K23: =E23+G23+I23 -> 18628 | L23: =F23+H23+J23 -> 7450 | M23: 일위 5호 | P23: 기계경비 | Q23: 1 | R23: =IF(P23="기계경비",J23,0) -> 0 | S23: =IF(P23="운반비",J23,0) -> 0 | T23: =IF(P23="작업부산물",F23,0) -> 0 | U23: =IF(P23="관급",ROUNDDOWN(D23*E23,0),0)+IF(P23="지급",ROUNDDOWN(D23*E23,0),0) -> 0 | V23: =IF(P23="외주비",F23+H23+J23,0) -> 0 | W23: =IF(P23="장비비",F23+H23+J23,0) -> 0 | X23: =IF(P23="폐기물처리비",J23,0) -> 0 | Y23: =IF(P23="가설비",J23,0) -> 0 | Z23: =IF(P23="잡비제외분",F23,0) -> 0 | AA23: =IF(P23="사급자재대",L23,0) -> 0 | AB23: =IF(P23="관급자재대",L23,0) -> 0 | AC23: =IF(P23="사용자항목1",L23,0) -> 0 | AD23: =IF(P23="사용자항목2",L23,0) -> 0 | AE23: =IF(P23="사용자항목3",L23,0) -> 0 | AF23: =IF(P23="사용자항목4",L23,0) -> 0 | AG23: =IF(P23="사용자항목5",L23,0) -> 0 | AH23: =IF(P23="사용자항목6",L23,0) -> 0 | AI23: =IF(P23="사용자항목7",L23,0) -> 0 | AJ23: =IF(P23="사용자항목8",L23,0) -> 0 | AK23: =IF(P23="사용자항목9",L23,0) -> 0
A24: 난간기초 외부용 수성페인트칠 | B24: 단면복구 포함 | C24: EA | D24: 1 | E24: =일위대가목록!G10 -> 5107 | F24: =ROUNDDOWN(D24*E24,0) -> 5107 | G24: =일위대가목록!I10 -> 11355 | H24: =ROUNDDOWN(D24*G24,0) -> 11355 | I24: =일위대가목록!K10 -> 89 | J24: =ROUNDDOWN(D24*I24,0) -> 89 | K24: =E24+G24+I24 -> 16551 | L24: =F24+H24+J24 -> 16551 | M24: 일위 6호 | P24: 기계경비 | Q24: 1 | R24: =IF(P24="기계경비",J24,0) -> 89 | S24: =IF(P24="운반비",J24,0) -> 0 | T24: =IF(P24="작업부산물",F24,0) -> 0 | U24: =IF(P24="관급",ROUNDDOWN(D24*E24,0),0)+IF(P24="지급",ROUNDDOWN(D24*E24,0),0) -> 0 | V24: =IF(P24="외주비",F24+H24+J24,0) -> 0 | W24: =IF(P24="장비비",F24+H24+J24,0) -> 0 | X24: =IF(P24="폐기물처리비",J24,0) -> 0 | Y24: =IF(P24="가설비",J24,0) -> 0 | Z24: =IF(P24="잡비제외분",F24,0) -> 0 | AA24: =IF(P24="사급자재대",L24,0) -> 0 | AB24: =IF(P24="관급자재대",L24,0) -> 0 | AC24: =IF(P24="사용자항목1",L24,0) -> 0 | AD24: =IF(P24="사용자항목2",L24,0) -> 0 | AE24: =IF(P24="사용자항목3",L24,0) -> 0 | AF24: =IF(P24="사용자항목4",L24,0) -> 0 | AG24: =IF(P24="사용자항목5",L24,0) -> 0 | AH24: =IF(P24="사용자항목6",L24,0) -> 0 | AI24: =IF(P24="사용자항목7",L24,0) -> 0 | AJ24: =IF(P24="사용자항목8",L24,0) -> 0 | AK24: =IF(P24="사용자항목9",L24,0) -> 0
A25: 안전페인트 | B25: 철재면2회.1급 | C25: M2 | D25: 2 | E25: =일위대가목록!G16 -> 1618 | F25: =ROUNDDOWN(D25*E25,0) -> 3236 | G25: =일위대가목록!I16 -> 8445 | H25: =ROUNDDOWN(D25*G25,0) -> 16890 | J25: =ROUNDDOWN(D25*I25,0) -> 0 | K25: =E25+G25+I25 -> 10063 | L25: =F25+H25+J25 -> 20126 | M25: 일위 16호 | P25: 기계경비 | Q25: 1 | R25: =IF(P25="기계경비",J25,0) -> 0 | S25: =IF(P25="운반비",J25,0) -> 0 | T25: =IF(P25="작업부산물",F25,0) -> 0 | U25: =IF(P25="관급",ROUNDDOWN(D25*E25,0),0)+IF(P25="지급",ROUNDDOWN(D25*E25,0),0) -> 0 | V25: =IF(P25="외주비",F25+H25+J25,0) -> 0 | W25: =IF(P25="장비비",F25+H25+J25,0) -> 0 | X25: =IF(P25="폐기물처리비",J25,0) -> 0 | Y25: =IF(P25="가설비",J25,0) -> 0 | Z25: =IF(P25="잡비제외분",F25,0) -> 0 | AA25: =IF(P25="사급자재대",L25,0) -> 0 | AB25: =IF(P25="관급자재대",L25,0) -> 0 | AC25: =IF(P25="사용자항목1",L25,0) -> 0 | AD25: =IF(P25="사용자항목2",L25,0) -> 0 | AE25: =IF(P25="사용자항목3",L25,0) -> 0 | AF25: =IF(P25="사용자항목4",L25,0) -> 0 | AG25: =IF(P25="사용자항목5",L25,0) -> 0 | AH25: =IF(P25="사용자항목6",L25,0) -> 0 | AI25: =IF(P25="사용자항목7",L25,0) -> 0 | AJ25: =IF(P25="사용자항목8",L25,0) -> 0 | AK25: =IF(P25="사용자항목9",L25,0) -> 0
A36: 합 계 | F36: =SUMIF($Q$21:$Q$35,1,$F$21:$F$35) -> 17549 | H36: =SUMIF($Q$21:$Q$35,1,$H$21:$H$35) -> 65893 | J36: =SUMIF($Q$21:$Q$35,1,$J$21:$J$35) -> 89 | L36: =F36+H36+J36 -> 83531 | R36: =SUM($R$21:$R$35) -> 89 | S36: =SUM($S$21:$S$35) -> 0 | T36: =SUM($T$21:$T$35) -> 0 | U36: =SUM($U$21:$U$35) -> 0 | V36: =SUM($V$21:$V$35) -> 0 | W36: =SUM($W$21:$W$35) -> 0 | X36: =SUM($X$21:$X$35) -> 0 | Y36: =SUM($Y$21:$Y$35) -> 0 | Z36: =SUM($Z$21:$Z$35) -> 0 | AA36: =SUM($AA$21:$AA$35) -> 0 | AB36: =SUM($AB$21:$AB$35) -> 0 | AC36: =SUM($AC$21:$AC$35) -> 0 | AD36: =SUM($AD$21:$AD$35) -> 0 | AE36: =SUM($AE$21:$AE$35) -> 0 | AF36: =SUM($AF$21:$AF$35) -> 0 | AG36: =SUM($AG$21:$AG$35) -> 0 | AH36: =SUM($AH$21:$AH$35) -> 0 | AI36: =SUM($AI$21:$AI$35) -> 0 | AJ36: =SUM($AJ$21:$AJ$35) -> 0 | AK36: =SUM($AK$21:$AK$35) -> 0 | AL36: =SUM($AL$21:$AL$35) -> 0
A37: 03. 기타공사
A38: AL 복합판넬(국산,4t,불소) | B38: 평판,단열재 별도 | C38: M2 | D38: 182 | E38: =일위대가목록!G17 -> 76000 | F38: =ROUNDDOWN(D38*E38,0) -> 13832000 | G38: =일위대가목록!I17 -> 32000 | H38: =ROUNDDOWN(D38*G38,0) -> 5824000 | I38: =일위대가목록!K17 -> 4000 | J38: =ROUNDDOWN(D38*I38,0) -> 728000 | K38: =E38+G38+I38 -> 112000 | L38: =F38+H38+J38 -> 20384000 | M38: 일위 17호 | P38: 기계경비 | Q38: 1 | R38: =IF(P38="기계경비",J38,0) -> 728000 | S38: =IF(P38="운반비",J38,0) -> 0 | T38: =IF(P38="작업부산물",F38,0) -> 0 | U38: =IF(P38="관급",ROUNDDOWN(D38*E38,0),0)+IF(P38="지급",ROUNDDOWN(D38*E38,0),0) -> 0 | V38: =IF(P38="외주비",F38+H38+J38,0) -> 0 | W38: =IF(P38="장비비",F38+H38+J38,0) -> 0 | X38: =IF(P38="폐기물처리비",J38,0) -> 0 | Y38: =IF(P38="가설비",J38,0) -> 0 | Z38: =IF(P38="잡비제외분",F38,0) -> 0 | AA38: =IF(P38="사급자재대",L38,0) -> 0 | AB38: =IF(P38="관급자재대",L38,0) -> 0 | AC38: =IF(P38="사용자항목1",L38,0) -> 0 | AD38: =IF(P38="사용자항목2",L38,0) -> 0 | AE38: =IF(P38="사용자항목3",L38,0) -> 0 | AF38: =IF(P38="사용자항목4",L38,0) -> 0 | AG38: =IF(P38="사용자항목5",L38,0) -> 0 | AH38: =IF(P38="사용자항목6",L38,0) -> 0 | AI38: =IF(P38="사용자항목7",L38,0) -> 0 | AJ38: =IF(P38="사용자항목8",L38,0) -> 0 | AK38: =IF(P38="사용자항목9",L38,0) -> 0
A39: 데코타일붙임 | B39: 450*450*3.0mm (왁스무) | C39: M2 | D39: 5 | E39: =일위대가목록!G18 -> 12815 | F39: =ROUNDDOWN(D39*E39,0) -> 64075 | G39: =일위대가목록!I18 -> 8917 | H39: =ROUNDDOWN(D39*G39,0) -> 44585 | J39: =ROUNDDOWN(D39*I39,0) -> 0 | K39: =E39+G39+I39 -> 21732 | L39: =F39+H39+J39 -> 108660 | M39: 일위 18호 | P39: 기계경비 | Q39: 1 | R39: =IF(P39="기계경비",J39,0) -> 0 | S39: =IF(P39="운반비",J39,0) -> 0 | T39: =IF(P39="작업부산물",F39,0) -> 0 | U39: =IF(P39="관급",ROUNDDOWN(D39*E39,0),0)+IF(P39="지급",ROUNDDOWN(D39*E39,0),0) -> 0 | V39: =IF(P39="외주비",F39+H39+J39,0) -> 0 | W39: =IF(P39="장비비",F39+H39+J39,0) -> 0 | X39: =IF(P39="폐기물처리비",J39,0) -> 0 | Y39: =IF(P39="가설비",J39,0) -> 0 | Z39: =IF(P39="잡비제외분",F39,0) -> 0 | AA39: =IF(P39="사급자재대",L39,0) -> 0 | AB39: =IF(P39="관급자재대",L39,0) -> 0 | AC39: =IF(P39="사용자항목1",L39,0) -> 0 | AD39: =IF(P39="사용자항목2",L39,0) -> 0 | AE39: =IF(P39="사용자항목3",L39,0) -> 0 | AF39: =IF(P39="사용자항목4",L39,0) -> 0 | AG39: =IF(P39="사용자항목5",L39,0) -> 0 | AH39: =IF(P39="사용자항목6",L39,0) -> 0 | AI39: =IF(P39="사용자항목7",L39,0) -> 0 | AJ39: =IF(P39="사용자항목8",L39,0) -> 0 | AK39: =IF(P39="사용자항목9",L39,0) -> 0
A40: 표면세척처리 | C40: M2 | D40: 10 | E40: =일위대가목록!G19 -> 470 | F40: =ROUNDDOWN(D40*E40,0) -> 4700 | G40: =일위대가목록!I19 -> 5862 | H40: =ROUNDDOWN(D40*G40,0) -> 58620 | J40: =ROUNDDOWN(D40*I40,0) -> 0 | K40: =E40+G40+I40 -> 6332 | L40: =F40+H40+J40 -> 63320 | M40: 일위 19호 | P40: 기계경비 | Q40: 1 | R40: =IF(P40="기계경비",J40,0) -> 0 | S40: =IF(P40="운반비",J40,0) -> 0 | T40: =IF(P40="작업부산물",F40,0) -> 0 | U40: =IF(P40="관급",ROUNDDOWN(D40*E40,0),0)+IF(P40="지급",ROUNDDOWN(D40*E40,0),0) -> 0 | V40: =IF(P40="외주비",F40+H40+J40,0) -> 0 | W40: =IF(P40="장비비",F40+H40+J40,0) -> 0 | X40: =IF(P40="폐기물처리비",J40,0) -> 0 | Y40: =IF(P40="가설비",J40,0) -> 0 | Z40: =IF(P40="잡비제외분",F40,0) -> 0 | AA40: =IF(P40="사급자재대",L40,0) -> 0 | AB40: =IF(P40="관급자재대",L40,0) -> 0 | AC40: =IF(P40="사용자항목1",L40,0) -> 0 | AD40: =IF(P40="사용자항목2",L40,0) -> 0 | AE40: =IF(P40="사용자항목3",L40,0) -> 0 | AF40: =IF(P40="사용자항목4",L40,0) -> 0 | AG40: =IF(P40="사용자항목5",L40,0) -> 0 | AH40: =IF(P40="사용자항목6",L40,0) -> 0 | AI40: =IF(P40="사용자항목7",L40,0) -> 0 | AJ40: =IF(P40="사용자항목8",L40,0) -> 0 | AK40: =IF(P40="사용자항목9",L40,0) -> 0
A52: 합 계 | F52: =SUMIF($Q$37:$Q$51,1,$F$37:$F$51) -> 13900775 | H52: =SUMIF($Q$37:$Q$51,1,$H$37:$H$51) -> 5927205 | J52: =SUMIF($Q$37:$Q$51,1,$J$37:$J$51) -> 728000 | L52: =F52+H52+J52 -> 20555980 | R52: =SUM($R$37:$R$51) -> 728000 | S52: =SUM($S$37:$S$51) -> 0 | T52: =SUM($T$37:$T$51) -> 0 | U52: =SUM($U$37:$U$51) -> 0 | V52: =SUM($V$37:$V$51) -> 0 | W52: =SUM($W$37:$W$51) -> 0 | X52: =SUM($X$37:$X$51) -> 0 | Y52: =SUM($Y$37:$Y$51) -> 0 | Z52: =SUM($Z$37:$Z$51) -> 0 | AA52: =SUM($AA$37:$AA$51) -> 0 | AB52: =SUM($AB$37:$AB$51) -> 0 | AC52: =SUM($AC$37:$AC$51) -> 0 | AD52: =SUM($AD$37:$AD$51) -> 0 | AE52: =SUM($AE$37:$AE$51) -> 0 | AF52: =SUM($AF$37:$AF$51) -> 0 | AG52: =SUM($AG$37:$AG$51) -> 0 | AH52: =SUM($AH$37:$AH$51) -> 0 | AI52: =SUM($AI$37:$AI$51) -> 0 | AJ52: =SUM($AJ$37:$AJ$51) -> 0 | AK52: =SUM($AK$37:$AK$51) -> 0 | AL52: =SUM($AL$37:$AL$51) -> 0
A53: 04. 철거공사
A54: 바닥철거 | B54: 비닐타일 | C54: M2 | D54: 5 | F54: =ROUNDDOWN(D54*E54,0) -> 0 | G54: =일위대가목록!I20 -> 2634 | H54: =ROUNDDOWN(D54*G54,0) -> 13170 | J54: =ROUNDDOWN(D54*I54,0) -> 0 | K54: =E54+G54+I54 -> 2634 | L54: =F54+H54+J54 -> 13170 | M54: 일위 20호 | P54: 기계경비 | Q54: 1 | R54: =IF(P54="기계경비",J54,0) -> 0 | S54: =IF(P54="운반비",J54,0) -> 0 | T54: =IF(P54="작업부산물",F54,0) -> 0 | U54: =IF(P54="관급",ROUNDDOWN(D54*E54,0),0)+IF(P54="지급",ROUNDDOWN(D54*E54,0),0) -> 0 | V54: =IF(P54="외주비",F54+H54+J54,0) -> 0 | W54: =IF(P54="장비비",F54+H54+J54,0) -> 0 | X54: =IF(P54="폐기물처리비",J54,0) -> 0 | Y54: =IF(P54="가설비",J54,0) -> 0 | Z54: =IF(P54="잡비제외분",F54,0) -> 0 | AA54: =IF(P54="사급자재대",L54,0) -> 0 | AB54: =IF(P54="관급자재대",L54,0) -> 0 | AC54: =IF(P54="사용자항목1",L54,0) -> 0 | AD54: =IF(P54="사용자항목2",L54,0) -> 0 | AE54: =IF(P54="사용자항목3",L54,0) -> 0 | AF54: =IF(P54="사용자항목4",L54,0) -> 0 | AG54: =IF(P54="사용자항목5",L54,0) -> 0 | AH54: =IF(P54="사용자항목6",L54,0) -> 0 | AI54: =IF(P54="사용자항목7",L54,0) -> 0 | AJ54: =IF(P54="사용자항목8",L54,0) -> 0 | AK54: =IF(P54="사용자항목9",L54,0) -> 0
A55: 난간기초 파손부분 철거 | C55: EA | D55: 1 | E55: =일위대가목록!G21 -> 1077 | F55: =ROUNDDOWN(D55*E55,0) -> 1077 | G55: =일위대가목록!I21 -> 35901 | H55: =ROUNDDOWN(D55*G55,0) -> 35901 | J55: =ROUNDDOWN(D55*I55,0) -> 0 | K55: =E55+G55+I55 -> 36978 | L55: =F55+H55+J55 -> 36978 | M55: 일위 21호 | P55: 기계경비 | Q55: 1 | R55: =IF(P55="기계경비",J55,0) -> 0 | S55: =IF(P55="운반비",J55,0) -> 0 | T55: =IF(P55="작업부산물",F55,0) -> 0 | U55: =IF(P55="관급",ROUNDDOWN(D55*E55,0),0)+IF(P55="지급",ROUNDDOWN(D55*E55,0),0) -> 0 | V55: =IF(P55="외주비",F55+H55+J55,0) -> 0 | W55: =IF(P55="장비비",F55+H55+J55,0) -> 0 | X55: =IF(P55="폐기물처리비",J55,0) -> 0 | Y55: =IF(P55="가설비",J55,0) -> 0 | Z55: =IF(P55="잡비제외분",F55,0) -> 0 | AA55: =IF(P55="사급자재대",L55,0) -> 0 | AB55: =IF(P55="관급자재대",L55,0) -> 0 | AC55: =IF(P55="사용자항목1",L55,0) -> 0 | AD55: =IF(P55="사용자항목2",L55,0) -> 0 | AE55: =IF(P55="사용자항목3",L55,0) -> 0 | AF55: =IF(P55="사용자항목4",L55,0) -> 0 | AG55: =IF(P55="사용자항목5",L55,0) -> 0 | AH55: =IF(P55="사용자항목6",L55,0) -> 0 | AI55: =IF(P55="사용자항목7",L55,0) -> 0 | AJ55: =IF(P55="사용자항목8",L55,0) -> 0 | AK55: =IF(P55="사용자항목9",L55,0) -> 0
A56: 강판후레싱철거 | C56: M2 | D56: 16 | E56: =일위대가목록!G22 -> 947 | F56: =ROUNDDOWN(D56*E56,0) -> 15152 | G56: =일위대가목록!I22 -> 18054 | H56: =ROUNDDOWN(D56*G56,0) -> 288864 | I56: =일위대가목록!K22 -> 42 | J56: =ROUNDDOWN(D56*I56,0) -> 672 | K56: =E56+G56+I56 -> 19043 | L56: =F56+H56+J56 -> 304688 | M56: 일위 22호 | P56: 기계경비 | Q56: 1 | R56: =IF(P56="기계경비",J56,0) -> 672 | S56: =IF(P56="운반비",J56,0) -> 0 | T56: =IF(P56="작업부산물",F56,0) -> 0 | U56: =IF(P56="관급",ROUNDDOWN(D56*E56,0),0)+IF(P56="지급",ROUNDDOWN(D56*E56,0),0) -> 0 | V56: =IF(P56="외주비",F56+H56+J56,0) -> 0 | W56: =IF(P56="장비비",F56+H56+J56,0) -> 0 | X56: =IF(P56="폐기물처리비",J56,0) -> 0 | Y56: =IF(P56="가설비",J56,0) -> 0 | Z56: =IF(P56="잡비제외분",F56,0) -> 0 | AA56: =IF(P56="사급자재대",L56,0) -> 0 | AB56: =IF(P56="관급자재대",L56,0) -> 0 | AC56: =IF(P56="사용자항목1",L56,0) -> 0 | AD56: =IF(P56="사용자항목2",L56,0) -> 0 | AE56: =IF(P56="사용자항목3",L56,0) -> 0 | AF56: =IF(P56="사용자항목4",L56,0) -> 0 | AG56: =IF(P56="사용자항목5",L56,0) -> 0 | AH56: =IF(P56="사용자항목6",L56,0) -> 0 | AI56: =IF(P56="사용자항목7",L56,0) -> 0 | AJ56: =IF(P56="사용자항목8",L56,0) -> 0 | AK56: =IF(P56="사용자항목9",L56,0) -> 0
A57: PVC선홈통철거후 재설치 | B57: VG1 ∮100 | C57: M | D57: 7 | E57: =일위대가목록!G24 -> 1436 | F57: =ROUNDDOWN(D57*E57,0) -> 10052 | G57: =일위대가목록!I24 -> 14367 | H57: =ROUNDDOWN(D57*G57,0) -> 100569 | J57: =ROUNDDOWN(D57*I57,0) -> 0 | K57: =E57+G57+I57 -> 15803 | L57: =F57+H57+J57 -> 110621 | M57: 일위 25호 | P57: 기계경비 | Q57: 1 | R57: =IF(P57="기계경비",J57,0) -> 0 | S57: =IF(P57="운반비",J57,0) -> 0 | T57: =IF(P57="작업부산물",F57,0) -> 0 | U57: =IF(P57="관급",ROUNDDOWN(D57*E57,0),0)+IF(P57="지급",ROUNDDOWN(D57*E57,0),0) -> 0 | V57: =IF(P57="외주비",F57+H57+J57,0) -> 0 | W57: =IF(P57="장비비",F57+H57+J57,0) -> 0 | X57: =IF(P57="폐기물처리비",J57,0) -> 0 | Y57: =IF(P57="가설비",J57,0) -> 0 | Z57: =IF(P57="잡비제외분",F57,0) -> 0 | AA57: =IF(P57="사급자재대",L57,0) -> 0 | AB57: =IF(P57="관급자재대",L57,0) -> 0 | AC57: =IF(P57="사용자항목1",L57,0) -> 0 | AD57: =IF(P57="사용자항목2",L57,0) -> 0 | AE57: =IF(P57="사용자항목3",L57,0) -> 0 | AF57: =IF(P57="사용자항목4",L57,0) -> 0 | AG57: =IF(P57="사용자항목5",L57,0) -> 0 | AH57: =IF(P57="사용자항목6",L57,0) -> 0 | AI57: =IF(P57="사용자항목7",L57,0) -> 0 | AJ57: =IF(P57="사용자항목8",L57,0) -> 0 | AK57: =IF(P57="사용자항목9",L57,0) -> 0
A58: SST환풍기캡철거후 재설치 | B58: 환풍관 연장 L=200 | C58: EA | D58: 1 | E58: =일위대가목록!G25 -> 4037 | F58: =ROUNDDOWN(D58*E58,0) -> 4037 | G58: =일위대가목록!I25 -> 27917 | H58: =ROUNDDOWN(D58*G58,0) -> 27917 | J58: =ROUNDDOWN(D58*I58,0) -> 0 | K58: =E58+G58+I58 -> 31954 | L58: =F58+H58+J58 -> 31954 | M58: 일위 26호 | P58: 기계경비 | Q58: 1 | R58: =IF(P58="기계경비",J58,0) -> 0 | S58: =IF(P58="운반비",J58,0) -> 0 | T58: =IF(P58="작업부산물",F58,0) -> 0 | U58: =IF(P58="관급",ROUNDDOWN(D58*E58,0),0)+IF(P58="지급",ROUNDDOWN(D58*E58,0),0) -> 0 | V58: =IF(P58="외주비",F58+H58+J58,0) -> 0 | W58: =IF(P58="장비비",F58+H58+J58,0) -> 0 | X58: =IF(P58="폐기물처리비",J58,0) -> 0 | Y58: =IF(P58="가설비",J58,0) -> 0 | Z58: =IF(P58="잡비제외분",F58,0) -> 0 | AA58: =IF(P58="사급자재대",L58,0) -> 0 | AB58: =IF(P58="관급자재대",L58,0) -> 0 | AC58: =IF(P58="사용자항목1",L58,0) -> 0 | AD58: =IF(P58="사용자항목2",L58,0) -> 0 | AE58: =IF(P58="사용자항목3",L58,0) -> 0 | AF58: =IF(P58="사용자항목4",L58,0) -> 0 | AG58: =IF(P58="사용자항목5",L58,0) -> 0 | AH58: =IF(P58="사용자항목6",L58,0) -> 0 | AI58: =IF(P58="사용자항목7",L58,0) -> 0 | AJ58: =IF(P58="사용자항목8",L58,0) -> 0 | AK58: =IF(P58="사용자항목9",L58,0) -> 0
A59: 간판철거후 재설치 | C59: EA | D59: 2 | E59: =일위대가목록!G27 -> 19909 | F59: =ROUNDDOWN(D59*E59,0) -> 39818 | G59: =일위대가목록!I27 -> 222391 | H59: =ROUNDDOWN(D59*G59,0) -> 444782 | J59: =ROUNDDOWN(D59*I59,0) -> 0 | K59: =E59+G59+I59 -> 242300 | L59: =F59+H59+J59 -> 484600 | M59: 일위 28호 | P59: 기계경비 | Q59: 1 | R59: =IF(P59="기계경비",J59,0) -> 0 | S59: =IF(P59="운반비",J59,0) -> 0 | T59: =IF(P59="작업부산물",F59,0) -> 0 | U59: =IF(P59="관급",ROUNDDOWN(D59*E59,0),0)+IF(P59="지급",ROUNDDOWN(D59*E59,0),0) -> 0 | V59: =IF(P59="외주비",F59+H59+J59,0) -> 0 | W59: =IF(P59="장비비",F59+H59+J59,0) -> 0 | X59: =IF(P59="폐기물처리비",J59,0) -> 0 | Y59: =IF(P59="가설비",J59,0) -> 0 | Z59: =IF(P59="잡비제외분",F59,0) -> 0 | AA59: =IF(P59="사급자재대",L59,0) -> 0 | AB59: =IF(P59="관급자재대",L59,0) -> 0 | AC59: =IF(P59="사용자항목1",L59,0) -> 0 | AD59: =IF(P59="사용자항목2",L59,0) -> 0 | AE59: =IF(P59="사용자항목3",L59,0) -> 0 | AF59: =IF(P59="사용자항목4",L59,0) -> 0 | AG59: =IF(P59="사용자항목5",L59,0) -> 0 | AH59: =IF(P59="사용자항목6",L59,0) -> 0 | AI59: =IF(P59="사용자항목7",L59,0) -> 0 | AJ59: =IF(P59="사용자항목8",L59,0) -> 0 | AK59: =IF(P59="사용자항목9",L59,0) -> 0
A60: 인터폰철거후 재설치 | C60: EA | D60: 1 | E60: =일위대가목록!G29 -> 790 | F60: =ROUNDDOWN(D60*E60,0) -> 790 | G60: =일위대가목록!I29 -> 26341 | H60: =ROUNDDOWN(D60*G60,0) -> 26341 | J60: =ROUNDDOWN(D60*I60,0) -> 0 | K60: =E60+G60+I60 -> 27131 | L60: =F60+H60+J60 -> 27131 | M60: 일위 30호 | P60: 기계경비 | Q60: 1 | R60: =IF(P60="기계경비",J60,0) -> 0 | S60: =IF(P60="운반비",J60,0) -> 0 | T60: =IF(P60="작업부산물",F60,0) -> 0 | U60: =IF(P60="관급",ROUNDDOWN(D60*E60,0),0)+IF(P60="지급",ROUNDDOWN(D60*E60,0),0) -> 0 | V60: =IF(P60="외주비",F60+H60+J60,0) -> 0 | W60: =IF(P60="장비비",F60+H60+J60,0) -> 0 | X60: =IF(P60="폐기물처리비",J60,0) -> 0 | Y60: =IF(P60="가설비",J60,0) -> 0 | Z60: =IF(P60="잡비제외분",F60,0) -> 0 | AA60: =IF(P60="사급자재대",L60,0) -> 0 | AB60: =IF(P60="관급자재대",L60,0) -> 0 | AC60: =IF(P60="사용자항목1",L60,0) -> 0 | AD60: =IF(P60="사용자항목2",L60,0) -> 0 | AE60: =IF(P60="사용자항목3",L60,0) -> 0 | AF60: =IF(P60="사용자항목4",L60,0) -> 0 | AG60: =IF(P60="사용자항목5",L60,0) -> 0 | AH60: =IF(P60="사용자항목6",L60,0) -> 0 | AI60: =IF(P60="사용자항목7",L60,0) -> 0 | AJ60: =IF(P60="사용자항목8",L60,0) -> 0 | AK60: =IF(P60="사용자항목9",L60,0) -> 0
A68: 합 계 | F68: =SUMIF($Q$53:$Q$67,1,$F$53:$F$67) -> 70926 | H68: =SUMIF($Q$53:$Q$67,1,$H$53:$H$67) -> 937544 | J68: =SUMIF($Q$53:$Q$67,1,$J$53:$J$67) -> 672 | L68: =F68+H68+J68 -> 1009142 | R68: =SUM($R$53:$R$67) -> 672 | S68: =SUM($S$53:$S$67) -> 0 | T68: =SUM($T$53:$T$67) -> 0 | U68: =SUM($U$53:$U$67) -> 0 | V68: =SUM($V$53:$V$67) -> 0 | W68: =SUM($W$53:$W$67) -> 0 | X68: =SUM($X$53:$X$67) -> 0 | Y68: =SUM($Y$53:$Y$67) -> 0 | Z68: =SUM($Z$53:$Z$67) -> 0 | AA68: =SUM($AA$53:$AA$67) -> 0 | AB68: =SUM($AB$53:$AB$67) -> 0 | AC68: =SUM($AC$53:$AC$67) -> 0 | AD68: =SUM($AD$53:$AD$67) -> 0 | AE68: =SUM($AE$53:$AE$67) -> 0 | AF68: =SUM($AF$53:$AF$67) -> 0 | AG68: =SUM($AG$53:$AG$67) -> 0 | AH68: =SUM($AH$53:$AH$67) -> 0 | AI68: =SUM($AI$53:$AI$67) -> 0 | AJ68: =SUM($AJ$53:$AJ$67) -> 0 | AK68: =SUM($AK$53:$AK$67) -> 0 | AL68: =SUM($AL$53:$AL$67) -> 0
A69: 05. 폐기물처리비
A70: 폐자재처리수수료 | B70: 폐콘크리트 | C70: 톤 | D70: 0.01 | F70: =ROUNDDOWN(D70*E70,0) -> 0 | H70: =ROUNDDOWN(D70*G70,0) -> 0 | I70: =자재단가대비표!N63 -> 18065 | J70: =ROUNDDOWN(D70*I70,0) -> 180 | K70: =E70+G70+I70 -> 18065 | L70: =F70+H70+J70 -> 180 | O70: 03 | P70: 폐기물처리비 | Q70: 1 | R70: =IF(P70="기계경비",J70,0) -> 0 | S70: =IF(P70="운반비",J70,0) -> 0 | T70: =IF(P70="작업부산물",F70,0) -> 0 | U70: =IF(P70="관급",ROUNDDOWN(D70*E70,0),0)+IF(P70="지급",ROUNDDOWN(D70*E70,0),0) -> 0 | V70: =IF(P70="외주비",F70+H70+J70,0) -> 0 | W70: =IF(P70="장비비",F70+H70+J70,0) -> 0 | X70: =IF(P70="폐기물처리비",L70,0) -> 180 | Y70: =IF(P70="가설비",J70,0) -> 0 | Z70: =IF(P70="잡비제외분",F70,0) -> 0 | AA70: =IF(P70="사급자재대",L70,0) -> 0 | AB70: =IF(P70="관급자재대",L70,0) -> 0 | AC70: =IF(P70="사용자항목1",L70,0) -> 0 | AD70: =IF(P70="사용자항목2",L70,0) -> 0 | AE70: =IF(P70="사용자항목3",L70,0) -> 0 | AF70: =IF(P70="사용자항목4",L70,0) -> 0 | AG70: =IF(P70="사용자항목5",L70,0) -> 0 | AH70: =IF(P70="사용자항목6",L70,0) -> 0 | AI70: =IF(P70="사용자항목7",L70,0) -> 0 | AJ70: =IF(P70="사용자항목8",L70,0) -> 0 | AK70: =IF(P70="사용자항목9",L70,0) -> 0
A71: 폐자재처리수수료 | B71: 건축폐자재 | C71: 톤 | D71: 1.04 | F71: =ROUNDDOWN(D71*E71,0) -> 0 | H71: =ROUNDDOWN(D71*G71,0) -> 0 | I71: =자재단가대비표!N62 -> 27351 | J71: =ROUNDDOWN(D71*I71,0) -> 28445 | K71: =E71+G71+I71 -> 27351 | L71: =F71+H71+J71 -> 28445 | O71: 03 | P71: 폐기물처리비 | Q71: 1 | R71: =IF(P71="기계경비",J71,0) -> 0 | S71: =IF(P71="운반비",J71,0) -> 0 | T71: =IF(P71="작업부산물",F71,0) -> 0 | U71: =IF(P71="관급",ROUNDDOWN(D71*E71,0),0)+IF(P71="지급",ROUNDDOWN(D71*E71,0),0) -> 0 | V71: =IF(P71="외주비",F71+H71+J71,0) -> 0 | W71: =IF(P71="장비비",F71+H71+J71,0) -> 0 | X71: =IF(P71="폐기물처리비",L71,0) -> 28445 | Y71: =IF(P71="가설비",J71,0) -> 0 | Z71: =IF(P71="잡비제외분",F71,0) -> 0 | AA71: =IF(P71="사급자재대",L71,0) -> 0 | AB71: =IF(P71="관급자재대",L71,0) -> 0 | AC71: =IF(P71="사용자항목1",L71,0) -> 0 | AD71: =IF(P71="사용자항목2",L71,0) -> 0 | AE71: =IF(P71="사용자항목3",L71,0) -> 0 | AF71: =IF(P71="사용자항목4",L71,0) -> 0 | AG71: =IF(P71="사용자항목5",L71,0) -> 0 | AH71: =IF(P71="사용자항목6",L71,0) -> 0 | AI71: =IF(P71="사용자항목7",L71,0) -> 0 | AJ71: =IF(P71="사용자항목8",L71,0) -> 0 | AK71: =IF(P71="사용자항목9",L71,0) -> 0
A72: 건설폐기물수집운반비(상차비) | B72: 15TON 덤프,중간처리 | C72: TON | D72: 1.05 | F72: =ROUNDDOWN(D72*E72,0) -> 0 | H72: =ROUNDDOWN(D72*G72,0) -> 0 | I72: =자재단가대비표!N54 -> 1820 | J72: =ROUNDDOWN(D72*I72,0) -> 1911 | K72: =E72+G72+I72 -> 1820 | L72: =F72+H72+J72 -> 1911 | O72: 03 | P72: 폐기물처리비 | Q72: 1 | R72: =IF(P72="기계경비",J72,0) -> 0 | S72: =IF(P72="운반비",J72,0) -> 0 | T72: =IF(P72="작업부산물",F72,0) -> 0 | U72: =IF(P72="관급",ROUNDDOWN(D72*E72,0),0)+IF(P72="지급",ROUNDDOWN(D72*E72,0),0) -> 0 | V72: =IF(P72="외주비",F72+H72+J72,0) -> 0 | W72: =IF(P72="장비비",F72+H72+J72,0) -> 0 | X72: =IF(P72="폐기물처리비",L72,0) -> 1911 | Y72: =IF(P72="가설비",J72,0) -> 0 | Z72: =IF(P72="잡비제외분",F72,0) -> 0 | AA72: =IF(P72="사급자재대",L72,0) -> 0 | AB72: =IF(P72="관급자재대",L72,0) -> 0 | AC72: =IF(P72="사용자항목1",L72,0) -> 0 | AD72: =IF(P72="사용자항목2",L72,0) -> 0 | AE72: =IF(P72="사용자항목3",L72,0) -> 0 | AF72: =IF(P72="사용자항목4",L72,0) -> 0 | AG72: =IF(P72="사용자항목5",L72,0) -> 0 | AH72: =IF(P72="사용자항목6",L72,0) -> 0 | AI72: =IF(P72="사용자항목7",L72,0) -> 0 | AJ72: =IF(P72="사용자항목8",L72,0) -> 0 | AK72: =IF(P72="사용자항목9",L72,0) -> 0
A73: 건설폐기물수집운반비(운반비) | B73: 15TON 덤프,중간처리,30km | C73: TON | D73: 1.05 | F73: =ROUNDDOWN(D73*E73,0) -> 0 | H73: =ROUNDDOWN(D73*G73,0) -> 0 | I73: =자재단가대비표!N55 -> 11840 | J73: =ROUNDDOWN(D73*I73,0) -> 12432 | K73: =E73+G73+I73 -> 11840 | L73: =F73+H73+J73 -> 12432 | O73: 03 | P73: 폐기물처리비 | Q73: 1 | R73: =IF(P73="기계경비",J73,0) -> 0 | S73: =IF(P73="운반비",J73,0) -> 0 | T73: =IF(P73="작업부산물",F73,0) -> 0 | U73: =IF(P73="관급",ROUNDDOWN(D73*E73,0),0)+IF(P73="지급",ROUNDDOWN(D73*E73,0),0) -> 0 | V73: =IF(P73="외주비",F73+H73+J73,0) -> 0 | W73: =IF(P73="장비비",F73+H73+J73,0) -> 0 | X73: =IF(P73="폐기물처리비",L73,0) -> 12432 | Y73: =IF(P73="가설비",J73,0) -> 0 | Z73: =IF(P73="잡비제외분",F73,0) -> 0 | AA73: =IF(P73="사급자재대",L73,0) -> 0 | AB73: =IF(P73="관급자재대",L73,0) -> 0 | AC73: =IF(P73="사용자항목1",L73,0) -> 0 | AD73: =IF(P73="사용자항목2",L73,0) -> 0 | AE73: =IF(P73="사용자항목3",L73,0) -> 0 | AF73: =IF(P73="사용자항목4",L73,0) -> 0 | AG73: =IF(P73="사용자항목5",L73,0) -> 0 | AH73: =IF(P73="사용자항목6",L73,0) -> 0 | AI73: =IF(P73="사용자항목7",L73,0) -> 0 | AJ73: =IF(P73="사용자항목8",L73,0) -> 0 | AK73: =IF(P73="사용자항목9",L73,0) -> 0
A84: 합 계 | F84: =SUMIF($Q$69:$Q$83,1,$F$69:$F$83) -> 0 | H84: =SUMIF($Q$69:$Q$83,1,$H$69:$H$83) -> 0 | J84: =SUMIF($Q$69:$Q$83,1,$J$69:$J$83) -> 42968 | L84: =F84+H84+J84 -> 42968 | R84: =SUM($R$69:$R$83) -> 0 | S84: =SUM($S$69:$S$83) -> 0 | T84: =SUM($T$69:$T$83) -> 0 | U84: =SUM($U$69:$U$83) -> 0 | V84: =SUM($V$69:$V$83) -> 0 | W84: =SUM($W$69:$W$83) -> 0 | X84: =SUM($X$69:$X$83) -> 42968 | Y84: =SUM($Y$69:$Y$83) -> 0 | Z84: =SUM($Z$69:$Z$83) -> 0 | AA84: =SUM($AA$69:$AA$83) -> 0 | AB84: =SUM($AB$69:$AB$83) -> 0 | AC84: =SUM($AC$69:$AC$83) -> 0 | AD84: =SUM($AD$69:$AD$83) -> 0 | AE84: =SUM($AE$69:$AE$83) -> 0 | AF84: =SUM($AF$69:$AF$83) -> 0 | AG84: =SUM($AG$69:$AG$83) -> 0 | AH84: =SUM($AH$69:$AH$83) -> 0 | AI84: =SUM($AI$69:$AI$83) -> 0 | AJ84: =SUM($AJ$69:$AJ$83) -> 0 | AK84: =SUM($AK$69:$AK$83) -> 0 | AL84: =SUM($AL$69:$AL$83) -> 0
A85: 06. 작업설
A86: 강설 | B86: 고철, 작업설부산물 | C86: 톤 | D86: 0.06 | E86: =자재단가대비표!N8 -> -240000 | F86: =ROUNDDOWN(D86*E86,0) -> -14400 | H86: =ROUNDDOWN(D86*G86,0) -> 0 | J86: =ROUNDDOWN(D86*I86,0) -> 0 | K86: =E86+G86+I86 -> -240000 | L86: =F86+H86+J86 -> -14400 | O86: 01 | P86: 작업부산물 | Q86: 1 | R86: =IF(P86="기계경비",J86,0) -> 0 | S86: =IF(P86="운반비",J86,0) -> 0 | T86: =IF(P86="작업부산물",F86,0) -> -14400 | U86: =IF(P86="관급",ROUNDDOWN(D86*E86,0),0)+IF(P86="지급",ROUNDDOWN(D86*E86,0),0) -> 0 | V86: =IF(P86="외주비",F86+H86+J86,0) -> 0 | W86: =IF(P86="장비비",F86+H86+J86,0) -> 0 | X86: =IF(P86="폐기물처리비",J86,0) -> 0 | Y86: =IF(P86="가설비",J86,0) -> 0 | Z86: =IF(P86="잡비제외분",F86,0) -> 0 | AA86: =IF(P86="사급자재대",L86,0) -> 0 | AB86: =IF(P86="관급자재대",L86,0) -> 0 | AC86: =IF(P86="사용자항목1",L86,0) -> 0 | AD86: =IF(P86="사용자항목2",L86,0) -> 0 | AE86: =IF(P86="사용자항목3",L86,0) -> 0 | AF86: =IF(P86="사용자항목4",L86,0) -> 0 | AG86: =IF(P86="사용자항목5",L86,0) -> 0 | AH86: =IF(P86="사용자항목6",L86,0) -> 0 | AI86: =IF(P86="사용자항목7",L86,0) -> 0 | AJ86: =IF(P86="사용자항목8",L86,0) -> 0 | AK86: =IF(P86="사용자항목9",L86,0) -> 0
A100: 합 계 | F100: =SUMIF($Q$85:$Q$99,1,$F$85:$F$99) -> -14400 | H100: =SUMIF($Q$85:$Q$99,1,$H$85:$H$99) -> 0 | J100: =SUMIF($Q$85:$Q$99,1,$J$85:$J$99) -> 0 | L100: =F100+H100+J100 -> -14400 | R100: =SUM($R$85:$R$99) -> 0 | S100: =SUM($S$85:$S$99) -> 0 | T100: =SUM($T$85:$T$99) -> -14400 | U100: =SUM($U$85:$U$99) -> 0 | V100: =SUM($V$85:$V$99) -> 0 | W100: =SUM($W$85:$W$99) -> 0 | X100: =SUM($X$85:$X$99) -> 0 | Y100: =SUM($Y$85:$Y$99) -> 0 | Z100: =SUM($Z$85:$Z$99) -> 0 | AA100: =SUM($AA$85:$AA$99) -> 0 | AB100: =SUM($AB$85:$AB$99) -> 0 | AC100: =SUM($AC$85:$AC$99) -> 0 | AD100: =SUM($AD$85:$AD$99) -> 0 | AE100: =SUM($AE$85:$AE$99) -> 0 | AF100: =SUM($AF$85:$AF$99) -> 0 | AG100: =SUM($AG$85:$AG$99) -> 0 | AH100: =SUM($AH$85:$AH$99) -> 0 | AI100: =SUM($AI$85:$AI$99) -> 0 | AJ100: =SUM($AJ$85:$AJ$99) -> 0 | AK100: =SUM($AK$85:$AK$99) -> 0 | AL100: =SUM($AL$85:$AL$99) -> 0

Sheet 일위대가목록
A1: 일 위 대 가 표 목 록
A2: 공사명 : 표선우체국 대수선공사
A3: 호 표 | B3: 품 명 | C3: 규 격 | D3: 단위 | E3: 수량 | F3: 재 료 비 | H3: 노 무 비 | J3: 경 비 | L3: 합 계 | N3: 비 고
F4: 단 가 | G4: 금 액 | H4: 단 가 | I4: 금 액 | J4: 단 가 | K4: 금 액 | L4: 단 가 | M4: 금 액 | O4: 손료요율 | P4: 손료구분 | Q4: 적용구분 | R4: 합계구분
A5: 일위 1호 | B5: 건축물현장정리 | C5: 개 보수공사 | D5: M2 | E5: 1 | F5: =일위대가표!F7 -> 0 | G5: =E5*F5 -> 0 | H5: =일위대가표!H7 -> 1747 | I5: =E5*H5 -> 1747 | J5: =일위대가표!J7 -> 0 | K5: =E5*J5 -> 0 | L5: =F5+H5+J5 -> 1747 | M5: =G5+I5+K5 -> 1747
A6: 일위 2호 | B6: 강관외줄비계 | C6: 까차발, 3개월 | D6: M2 | E6: 1 | F6: =일위대가표!F19 -> 872 | G6: =E6*F6 -> 872 | H6: =일위대가표!H19 -> 6431 | I6: =E6*H6 -> 6431 | J6: =일위대가표!J19 -> 0 | K6: =E6*J6 -> 0 | L6: =F6+H6+J6 -> 7303 | M6: =G6+I6+K6 -> 7303 | N6: 참고자료
A7: 일위 3호 | B7: 낙서방지페인트 | C7: 벽2회 | D7: M2 | E7: 1 | F7: =일위대가표!F28 -> 1942 | G7: =E7*F7 -> 1942 | H7: =일위대가표!H28 -> 7909 | I7: =E7*H7 -> 7909 | J7: =일위대가표!J28 -> 0 | K7: =E7*J7 -> 0 | L7: =F7+H7+J7 -> 9851 | M7: =G7+I7+K7 -> 9851
A8: 일위 4호 | B8: 바탕만들기 | C8: 콘크리트,몰탈면(벽) | D8: M2 | E8: 1 | F8: =일위대가표!F34 -> 174 | G8: =E8*F8 -> 174 | H8: =일위대가표!H34 -> 1309 | I8: =E8*H8 -> 1309 | J8: =일위대가표!J34 -> 0 | K8: =E8*J8 -> 0 | L8: =F8+H8+J8 -> 1483 | M8: =G8+I8+K8 -> 1483 | N8: 건축17-1-1.1
A9: 일위 5호 | B9: 걸레받이용 페인트 | C9: 붓칠 2회 | D9: M2 | E9: 1 | F9: =일위대가표!F43 -> 3597 | G9: =E9*F9 -> 3597 | H9: =일위대가표!H43 -> 15031 | I9: =E9*H9 -> 15031 | J9: =일위대가표!J43 -> 0 | K9: =E9*J9 -> 0 | L9: =F9+H9+J9 -> 18628 | M9: =G9+I9+K9 -> 18628
A10: 일위 6호 | B10: 난간기초 외부용 수성페인트칠 | C10: 단면복구 포함 | D10: EA | E10: 1 | F10: =일위대가표!F47 -> 5107 | G10: =E10*F10 -> 5107 | H10: =일위대가표!H47 -> 11355 | I10: =E10*H10 -> 11355 | J10: =일위대가표!J47 -> 89 | K10: =E10*J10 -> 89 | L10: =F10+H10+J10 -> 16551 | M10: =G10+I10+K10 -> 16551
A11: 일위 7호 | B11: 모르타르바름(바닥) | C11: T:24mm,인력마감(구배無), 재료포함 | D11: M2 | E11: 1 | F11: =일위대가표!F52 -> 1867 | G11: =E11*F11 -> 1867 | H11: =일위대가표!H52 -> 1514 | I11: =E11*H11 -> 1514 | J11: =일위대가표!J52 -> 48 | K11: =E11*J11 -> 48 | L11: =F11+H11+J11 -> 3429 | M11: =G11+I11+K11 -> 3429 | N11: 건축15-1-2.2
A12: 일위 8호 | B12: 모르타르배합 | C12: 1:3, 체가름無,재료포함 | D12: M3 | E12: 1 | F12: =일위대가표!F57 -> 77320 | G12: =E12*F12 -> 77320 | H12: =일위대가표!H57 -> 37668 | I12: =E12*H12 -> 37668 | J12: =일위대가표!J57 -> 0 | K12: =E12*J12 -> 0 | L12: =F12+H12+J12 -> 114988 | M12: =G12+I12+K12 -> 114988 | N12: 건축15-1-1
A13: 일위 9호 | B13: 모르타르바름(기계) | C13: 모르타르타설 | D13: M3 | E13: 1 | F13: =일위대가표!F66 -> 501 | G13: =E13*F13 -> 501 | H13: =일위대가표!H66 -> 11385 | I13: =E13*H13 -> 11385 | J13: =일위대가표!J66 -> 2004 | K13: =E13*J13 -> 2004 | L13: =F13+H13+J13 -> 13890 | M13: =G13+I13+K13 -> 13890 | N13: 건축15-1-2.2.가
A14: 일위 14호 | B14: 모르타르바름(기계) | C14: 인력마감, 구배가 없는 경우 | D14: M2 | E14: 1 | F14: =일위대가표!F69 -> 0 | G14: =E14*F14 -> 0 | H14: =일위대가표!H69 -> 337 | I14: =E14*H14 -> 337 | J14: =일위대가표!J69 -> 0 | K14: =E14*J14 -> 0 | L14: =F14+H14+J14 -> 337 | M14: =G14+I14+K14 -> 337 | N14: 건축15-1-2.2.나
A15: 일위 15호 | B15: 수성페인트 로울러칠 | C15: 외벽 2회 1급 | D15: M2 | E15: 1 | F15: =일위대가표!F76 -> 879 | G15: =E15*F15 -> 879 | H15: =일위대가표!H76 -> 4591 | I15: =E15*H15 -> 4591 | J15: =일위대가표!J76 -> 0 | K15: =E15*J15 -> 0 | L15: =F15+H15+J15 -> 5470 | M15: =G15+I15+K15 -> 5470 | N15: 건축17-2-2
A16: 일위 16호 | B16: 안전페인트 | C16: 철재면2회.1급 | D16: M2 | E16: 1 | F16: =일위대가표!F88 -> 1618 | G16: =E16*F16 -> 1618 | H16: =일위대가표!H88 -> 8445 | I16: =E16*H16 -> 8445 | J16: =일위대가표!J88 -> 0 | K16: =E16*J16 -> 0 | L16: =F16+H16+J16 -> 10063 | M16: =G16+I16+K16 -> 10063 | N16: 참고자료
A17: 일위 17호 | B17: AL 복합판넬(국산,4t,불소) | C17: 평판,단열재 별도 | D17: M2 | E17: 1 | F17: =일위대가표!F89 -> 76000 | G17: =E17*F17 -> 76000 | H17: =일위대가표!H89 -> 32000 | I17: =E17*H17 -> 32000 | J17: =일위대가표!J89 -> 4000 | K17: =E17*J17 -> 4000 | L17: =F17+H17+J17 -> 112000 | M17: =G17+I17+K17 -> 112000 | N17: 2015년5월
A18: 일위 18호 | B18: 데코타일붙임 | C18: 450*450*3.0mm (왁스무) | D18: M2 | E18: 1 | F18: =일위대가표!F95 -> 12815 | G18: =E18*F18 -> 12815 | H18: =일위대가표!H95 -> 8917 | I18: =E18*H18 -> 8917 | J18: =일위대가표!J95 -> 0 | K18: =E18*J18 -> 0 | L18: =F18+H18+J18 -> 21732 | M18: =G18+I18+K18 -> 21732 | N18: 건축18-1-1.1
A19: 일위 19호 | B19: 표면세척처리 | D19: M2 | E19: 1 | F19: =일위대가표!F101 -> 470 | G19: =E19*F19 -> 470 | H19: =일위대가표!H101 -> 5862 | I19: =E19*H19 -> 5862 | J19: =일위대가표!J101 -> 0 | K19: =E19*J19 -> 0 | L19: =F19+H19+J19 -> 6332 | M19: =G19+I19+K19 -> 6332
A20: 일위 20호 | B20: 바닥철거 | C20: 비닐타일 | D20: M2 | E20: 1 | F20: =일위대가표!F104 -> 0 | G20: =E20*F20 -> 0 | H20: =일위대가표!H104 -> 2634 | I20: =E20*H20 -> 2634 | J20: =일위대가표!J104 -> 0 | K20: =E20*J20 -> 0 | L20: =F20+H20+J20 -> 2634 | M20: =G20+I20+K20 -> 2634 | N20: 건축19-1-2
A21: 일위 21호 | B21: 난간기초 파손부분 철거 | D21: EA | E21: 1 | F21: =일위대가표!F108 -> 1077 | G21: =E21*F21 -> 1077 | H21: =일위대가표!H108 -> 35901 | I21: =E21*H21 -> 35901 | J21: =일위대가표!J108 -> 0 | K21: =E21*J21 -> 0 | L21: =F21+H21+J21 -> 36978 | M21: =G21+I21+K21 -> 36978
A22: 일위 22호 | B22: 강판후레싱철거 | D22: M2 | E22: 1 | F22: =일위대가표!F111 -> 947 | G22: =E22*F22 -> 947 | H22: =일위대가표!H111 -> 18054 | I22: =E22*H22 -> 18054 | J22: =일위대가표!J111 -> 42 | K22: =E22*J22 -> 42 | L22: =F22+H22+J22 -> 19043 | M22: =G22+I22+K22 -> 19043
A23: 일위 23호 | B23: 잡철물제작설치(철제) | C23: 간단 | D23: TON | E23: 1 | F23: =일위대가표!F123 -> 227301 | G23: =E23*F23 -> 227301 | H23: =일위대가표!H123 -> 4329651 | I23: =E23*H23 -> 4329651 | J23: =일위대가표!J123 -> 10306 | K23: =E23*J23 -> 10306 | L23: =F23+H23+J23 -> 4567258 | M23: =G23+I23+K23 -> 4567258 | N23: 건축14-6
A24: 일위 25호 | B24: PVC선홈통철거후 재설치 | C24: VG1 ∮100 | D24: M | E24: 1 | F24: =일위대가표!F127 -> 1436 | G24: =E24*F24 -> 1436 | H24: =일위대가표!H127 -> 14367 | I24: =E24*H24 -> 14367 | J24: =일위대가표!J127 -> 0 | K24: =E24*J24 -> 0 | L24: =F24+H24+J24 -> 15803 | M24: =G24+I24+K24 -> 15803 | N24: 건축13-2-2참조
A25: 일위 26호 | B25: SST환풍기캡철거후 재설치 | C25: 환풍관 연장 L=200 | D25: EA | E25: 1 | F25: =일위대가표!F131 -> 4037 | G25: =E25*F25 -> 4037 | H25: =일위대가표!H131 -> 27917 | I25: =E25*H25 -> 27917 | J25: =일위대가표!J131 -> 0 | K25: =E25*J25 -> 0 | L25: =F25+H25+J25 -> 31954 | M25: =G25+I25+K25 -> 31954
A26: 일위 27호 | B26: 슬리브 설치 | C26: 벽체(관통슬리브), D200 | D26: 개소 | E26: 1 | F26: =일위대가표!F137 -> 4037 | G26: =E26*F26 -> 4037 | H26: =일위대가표!H137 -> 16255 | I26: =E26*H26 -> 16255 | J26: =일위대가표!J137 -> 0 | K26: =E26*J26 -> 0 | L26: =F26+H26+J26 -> 20292 | M26: =G26+I26+K26 -> 20292 | N26: 2015설비협회
A27: 일위 28호 | B27: 간판철거후 재설치 | D27: EA | E27: 1 | F27: =일위대가표!F142 -> 19909 | G27: =E27*F27 -> 19909 | H27: =일위대가표!H142 -> 222391 | I27: =E27*H27 -> 222391 | J27: =일위대가표!J142 -> 0 | K27: =E27*J27 -> 0 | L27: =F27+H27+J27 -> 242300 | M27: =G27+I27+K27 -> 242300
A28: 일위 29호 | B28: 이동식강관말비계 | C28: 3개월,2단(4m) | D28: 1대 | E28: 1 | F28: =일위대가표!F155 -> 39819 | G28: =E28*F28 -> 39819 | H28: =일위대가표!H155 -> 52683 | I28: =E28*H28 -> 52683 | J28: =일위대가표!J155 -> 0 | K28: =E28*J28 -> 0 | L28: =F28+H28+J28 -> 92502 | M28: =G28+I28+K28 -> 92502 | N28: 참고자료<품셈2-6-3>
A29: 일위 30호 | B29: 인터폰철거후 재설치 | D29: EA | E29: 1 | F29: =일위대가표!F159 -> 790 | G29: =E29*F29 -> 790 | H29: =일위대가표!H159 -> 26341 | I29: =E29*H29 -> 26341 | J29: =일위대가표!J159 -> 0 | K29: =E29*J29 -> 0 | L29: =F29+H29+J29 -> 27131 | M29: =G29+I29+K29 -> 27131

Sheet 일위대가표
A1: 일 위 대 가 명 세 서
A2: 공사명 : 표선우체국 대수선공사
A3: 품 명 | B3: 규 격 | C3: 단위 | D3: 수 량 | E3: 재 료 비 | G3: 노 무 비 | I3: 경 비 | K3: 합 계 | M3: 비 고
E4: 단 가 | F4: 금 액 | G4: 단 가 | H4: 금 액 | I4: 단 가 | J4: 금 액 | K4: 단 가 | L4: 금 액 | N4: 손료요율 | O4: 손료구분 | P4: 적용구분 | Q4: 합계구분
A5: 일위 1호 건축물현장정리 | B5: 개 보수공사 | C5: M2
A6: 보통인부 | C6: 인 | D6: 0.0199 | G6: =자재단가대비표!N47 -> 87805 | H6: =ROUNDDOWN(D6*G6,1) -> 1747.3 | K6: =E6+G6+I6 -> 87805 | L6: =F6+H6+J6 -> 1747.3 | O6: 02 | P6: 기계경비 | Q6: 1
A7: 합 계 | F7: =ROUNDDOWN(SUMIF($Q$6:$Q$6,1,$F$6:$F$6),0) -> 0 | H7: =ROUNDDOWN(SUMIF($Q$6:$Q$6,1,$H$6:$H$6),0) -> 1747 | J7: =ROUNDDOWN(SUMIF($Q$6:$Q$6,1,$J$6:$J$6),0) -> 0 | L7: =F7+H7+J7 -> 1747
A8: 일위 2호 강관외줄비계 | B8: 까차발, 3개월 | C8: M2 | M8: 참고자료
A9: 강관비계 | B9: D=48.6*2.3mm | C9: M | D9: 0.0906 | E9: =자재단가대비표!N6 -> 2700 | F9: =ROUNDDOWN(D9*E9,1) -> 244.6 | K9: =E9+G9+I9 -> 2700 | L9: =F9+H9+J9 -> 244.6 | O9: 01 | P9: 기계경비 | Q9: 1
A10: 이음철물 | B10: 이음철물, 연결핀 | C10: EA | D10: 0.03 | E10: =자재단가대비표!N34 -> 830 | F10: =ROUNDDOWN(D10*E10,1) -> 24.9 | K10: =E10+G10+I10 -> 830 | L10: =F10+H10+J10 -> 24.9 | O10: 01 | P10: 기계경비 | Q10: 1
A11: 조임철물 | B11: 조임철물, 직교및가새 | C11: EA | D11: 0.0624 | E11: =자재단가대비표!N39 -> 1270 | F11: =ROUNDDOWN(D11*E11,1) -> 79.2 | K11: =E11+G11+I11 -> 1270 | L11: =F11+H11+J11 -> 79.2 | O11: 01 | P11: 기계경비 | Q11: 1
A12: 받침철물 | B12: 나무라이트복합 | C12: EA | D12: 0.00351 | E12: =자재단가대비표!N16 -> 2900 | F12: =ROUNDDOWN(D12*E12,1) -> 10.1 | K12: =E12+G12+I12 -> 2900 | L12: =F12+H12+J12 -> 10.1 | O12: 01 | P12: 기계경비 | Q12: 1
A13: 앙카용철물 | B13: 앙카용철물 | C13: EA | D13: 0.047 | E13: =자재단가대비표!N31 -> 1000 | F13: =ROUNDDOWN(D13*E13,1) -> 47 | K13: =E13+G13+I13 -> 1000 | L13: =F13+H13+J13 -> 47 | O13: 01 | P13: 기계경비 | Q13: 1
A14: 안전발판 | B14: 400*3000 | C14: 매 | D14: 0.0052 | E14: =자재단가대비표!N30 -> 26350 | F14: =ROUNDDOWN(D14*E14,1) -> 137 | K14: =E14+G14+I14 -> 26350 | L14: =F14+H14+J14 -> 137 | O14: 01 | P14: 기계경비 | Q14: 1
A15: 강관비계고정브라켓(광명단마감) | B15: TC-60 | C15: EA | D15: 0.00468 | E15: =자재단가대비표!N7 -> 1700 | F15: =ROUNDDOWN(D15*E15,1) -> 7.9 | K15: =E15+G15+I15 -> 1700 | L15: =F15+H15+J15 -> 7.9 | O15: 01 | P15: 기계경비 | Q15: 1
A16: 비계공 | C16: 인 | D16: 0.0387 | G16: =자재단가대비표!N48 -> 158014 | H16: =ROUNDDOWN(D16*G16,1) -> 6115.1 | K16: =E16+G16+I16 -> 158014 | L16: =F16+H16+J16 -> 6115.1 | O16: 02 | P16: 기계경비 | Q16: 1
A17: 보통인부 | C17: 인 | D17: 0.0036 | G17: =자재단가대비표!N47 -> 87805 | H17: =ROUNDDOWN(D17*G17,1) -> 316 | K17: =E17+G17+I17 -> 87805 | L17: =F17+H17+J17 -> 316 | O17: 02 | P17: 기계경비 | Q17: 1
A18: 공구손료 | B18: ="노무비의 "&N18*100&"%" -> 노무비의 5% | C18: 식 | D18: 1 | E18: =SUMIF($O$8:O18,"02",$H$8:H18) -> 6431.1 | F18: =ROUNDDOWN(E18*N18,1) -> 321.5 | K18: =E18+G18+I18 -> 6431.1 | L18: =F18+H18+J18 -> 321.5 | M18: 자재에입력 | N18: 0.05 | P18: 기계경비 | Q18: 1
A19: 합 계 | F19: =ROUNDDOWN(SUMIF($Q$9:$Q$18,1,$F$9:$F$18),0) -> 872 | H19: =ROUNDDOWN(SUMIF($Q$9:$Q$18,1,$H$9:$H$18),0) -> 6431 | J19: =ROUNDDOWN(SUMIF($Q$9:$Q$18,1,$J$9:$J$18),0) -> 0 | L19: =F19+H19+J19 -> 7303
A20: 일위 3호 낙서방지페인트 | B20: 벽2회 | C20: M2
A21: 바탕만들기 | B21: 콘크리트,몰탈면(벽) | C21: M2 | D21: 1 | E21: =일위대가표!F34 -> 174 | F21: =ROUNDDOWN(D21*E21,1) -> 174 | G21: =일위대가표!H34 -> 1309 | H21: =ROUNDDOWN(D21*G21,1) -> 1309 | K21: =E21+G21+I21 -> 1483 | L21: =F21+H21+J21 -> 1483 | M21: 일위 4호 | P21: 기계경비 | Q21: 1
A22: 락카(낙서방지용) | B22: 투명(SB-AL-04) | C22: L | D22: 0.33 | E22: =자재단가대비표!N13 -> 3644 | F22: =ROUNDDOWN(D22*E22,1) -> 1202.5 | K22: =E22+G22+I22 -> 3644 | L22: =F22+H22+J22 -> 1202.5 | O22: 01 | P22: 기계경비 | Q22: 1
A23: 신나 | B23: KSM6060-1종,알키드,페놀에나멜 | C23: L | D23: 0.075 | E23: =자재단가대비표!N25 -> 1840 | F23: =ROUNDDOWN(D23*E23,1) -> 138 | K23: =E23+G23+I23 -> 1840 | L23: =F23+H23+J23 -> 138 | O23: 01 | P23: 기계경비 | Q23: 1
A24: 퍼티 | B24: 319퍼티,회색 | C24: KG | D24: 0.09 | E24: =자재단가대비표!N41 -> 3090 | F24: =ROUNDDOWN(D24*E24,1) -> 278.1 | K24: =E24+G24+I24 -> 3090 | L24: =F24+H24+J24 -> 278.1 | O24: 01 | P24: 기계경비 | Q24: 1
A25: 연마지 | B25: #120~#180 | C25: 매 | D25: 0.75 | E25: =자재단가대비표!N32 -> 200 | F25: =ROUNDDOWN(D25*E25,1) -> 150 | K25: =E25+G25+I25 -> 200 | L25: =F25+H25+J25 -> 150 | O25: 01 | P25: 기계경비 | Q25: 1
A26: 도장공 | C26: 인 | D26: 0.0465 | G26: =자재단가대비표!N44 -> 122128 | H26: =ROUNDDOWN(D26*G26,1) -> 5678.9 | K26: =E26+G26+I26 -> 122128 | L26: =F26+H26+J26 -> 5678.9 | O26: 02 | P26: 기계경비 | Q26: 1
A27: 보통인부 | C27: 인 | D27: 0.0105 | G27: =자재단가대비표!N47 -> 87805 | H27: =ROUNDDOWN(D27*G27,1) -> 921.9 | K27: =E27+G27+I27 -> 87805 | L27: =F27+H27+J27 -> 921.9 | O27: 02 | P27: 기계경비 | Q27: 1
A28: 합 계 | F28: =ROUNDDOWN(SUMIF($Q$21:$Q$27,1,$F$21:$F$27),0) -> 1942 | H28: =ROUNDDOWN(SUMIF($Q$21:$Q$27,1,$H$21:$H$27),0) -> 7909 | J28: =ROUNDDOWN(SUMIF($Q$21:$Q$27,1,$J$21:$J$27),0) -> 0 | L28: =F28+H28+J28 -> 9851
A29: 일위 4호 바탕만들기 | B29: 콘크리트,몰탈면(벽) | C29: M2 | M29: 건축17-1-1.1
A30: 퍼티 | B30: 319퍼티,회색 | C30: KG | D30: 0.05 | E30: =자재단가대비표!N41 -> 3090 | F30: =ROUNDDOWN(D30*E30,1) -> 154.5 | K30: =E30+G30+I30 -> 3090 | L30: =F30+H30+J30 -> 154.5 | O30: 01 | P30: 기계경비 | Q30: 1
A31: 연마지 | B31: #120~#180 | C31: 매 | D31: 0.1 | E31: =자재단가대비표!N32 -> 200 | F31: =ROUNDDOWN(D31*E31,1) -> 20 | K31: =E31+G31+I31 -> 200 | L31: =F31+H31+J31 -> 20 | O31: 01 | P31: 기계경비 | Q31: 1
A32: 도장공 | C32: 인 | D32: 0.01 | G32: =자재단가대비표!N44 -> 122128 | H32: =ROUNDDOWN(D32*G32,1) -> 1221.2 | K32: =E32+G32+I32 -> 122128 | L32: =F32+H32+J32 -> 1221.2 | O32: 02 | P32: 기계경비 | Q32: 1
A33: 보통인부 | C33: 인 | D33: 0.001 | G33: =자재단가대비표!N47 -> 87805 | H33: =ROUNDDOWN(D33*G33,1) -> 87.8 | K33: =E33+G33+I33 -> 87805 | L33: =F33+H33+J33 -> 87.8 | O33: 02 | P33: 기계경비 | Q33: 1
A34: 합 계 | F34: =ROUNDDOWN(SUMIF($Q$30:$Q$33,1,$F$30:$F$33),0) -> 174 | H34: =ROUNDDOWN(SUMIF($Q$30:$Q$33,1,$H$30:$H$33),0) -> 1309 | J34: =ROUNDDOWN(SUMIF($Q$30:$Q$33,1,$J$30:$J$33),0) -> 0 | L34: =F34+H34+J34 -> 1483
A35: 일위 5호 걸레받이용 페인트 | B35: 붓칠 2회 | C35: M2
A36: 바탕만들기 | B36: 콘크리트,몰탈면(벽) | C36: M2 | D36: 1 | E36: =일위대가표!F34 -> 174 | F36: =ROUNDDOWN(D36*E36,1) -> 174 | G36: =일위대가표!H34 -> 1309 | H36: =ROUNDDOWN(D36*G36,1) -> 1309 | K36: =E36+G36+I36 -> 1483 | L36: =F36+H36+J36 -> 1483 | M36: 일위 4호 | P36: 기계경비 | Q36: 1
A37: 아크론락카 | B37: 흑색.SB-AP-923 | C37: L | D37: 0.39 | E37: =자재단가대비표!N29 -> 7338 | F37: =ROUNDDOWN(D37*E37,1) -> 2861.8 | K37: =E37+G37+I37 -> 7338 | L37: =F37+H37+J37 -> 2861.8 | O37: 01 | P37: 기계경비 | Q37: 1
A38: 신나 | B38: KSM6060-2종,조합페인트용 | C38: L | D38: 0.075 | E38: =자재단가대비표!N26 -> 1777 | F38: =ROUNDDOWN(D38*E38,1) -> 133.2 | K38: =E38+G38+I38 -> 1777 | L38: =F38+H38+J38 -> 133.2 | O38: 01 | P38: 기계경비 | Q38: 1
A39: 퍼티 | B39: 319퍼티,백색 | C39: KG | D39: 0.09 | E39: =자재단가대비표!N40 -> 3090 | F39: =ROUNDDOWN(D39*E39,1) -> 278.1 | K39: =E39+G39+I39 -> 3090 | L39: =F39+H39+J39 -> 278.1 | O39: 01 | P39: 기계경비 | Q39: 1
A40: 연마지 | B40: #120~#180 | C40: 매 | D40: 0.75 | E40: =자재단가대비표!N32 -> 200 | F40: =ROUNDDOWN(D40*E40,1) -> 150 | K40: =E40+G40+I40 -> 200 | L40: =F40+H40+J40 -> 150 | O40: 01 | P40: 기계경비 | Q40: 1
A41: 도장공 | C41: 인 | D41: 0.1005 | G41: =자재단가대비표!N44 -> 122128 | H41: =ROUNDDOWN(D41*G41,1) -> 12273.8 | K41: =E41+G41+I41 -> 122128 | L41: =F41+H41+J41 -> 12273.8 | O41: 02 | P41: 기계경비 | Q41: 1
A42: 보통인부 | C42: 인 | D42: 0.0165 | G42: =자재단가대비표!N47 -> 87805 | H42: =ROUNDDOWN(D42*G42,1) -> 1448.7 | K42: =E42+G42+I42 -> 87805 | L42: =F42+H42+J42 -> 1448.7 | O42: 02 | P42: 기계경비 | Q42: 1
A43: 합 계 | F43: =ROUNDDOWN(SUMIF($Q$36:$Q$42,1,$F$36:$F$42),0) -> 3597 | H43: =ROUNDDOWN(SUMIF($Q$36:$Q$42,1,$H$36:$H$42),0) -> 15031 | J43: =ROUNDDOWN(SUMIF($Q$36:$Q$42,1,$J$36:$J$42),0) -> 0 | L43: =F43+H43+J43 -> 18628
A44: 일위 6호 난간기초 외부용 수성페인트칠 | B44: 단면복구 포함 | C44: EA
A45: 모르타르바름(바닥) | B45: T:24mm,인력마감(구배無), 재료포함 | C45: M2 | D45: 1.86 | E45: =일위대가표!F52 -> 1867 | F45: =ROUNDDOWN(D45*E45,1) -> 3472.6 | G45: =일위대가표!H52 -> 1514 | H45: =ROUNDDOWN(D45*G45,1) -> 2816 | I45: =일위대가표!J52 -> 48 | J45: =ROUNDDOWN(D45*I45,1) -> 89.2 | K45: =E45+G45+I45 -> 3429 | L45: =F45+H45+J45 -> 6377.8 | M45: 일위 7호 | P45: 기계경비 | Q45: 1
A46: 수성페인트 로울러칠 | B46: 외벽 2회 1급 | C46: M2 | D46: 1.86 | E46: =일위대가표!F76 -> 879 | F46: =ROUNDDOWN(D46*E46,1) -> 1634.9 | G46: =일위대가표!H76 -> 4591 | H46: =ROUNDDOWN(D46*G46,1) -> 8539.2 | K46: =E46+G46+I46 -> 5470 | L46: =F46+H46+J46 -> 10174.1 | M46: 일위 15호 | P46: 기계경비 | Q46: 1
A47: 합 계 | F47: =ROUNDDOWN(SUMIF($Q$45:$Q$46,1,$F$45:$F$46),0) -> 5107 | H47: =ROUNDDOWN(SUMIF($Q$45:$Q$46,1,$H$45:$H$46),0) -> 11355 | J47: =ROUNDDOWN(SUMIF($Q$45:$Q$46,1,$J$45:$J$46),0) -> 89 | L47: =F47+H47+J47 -> 16551
A48: 일위 7호 모르타르바름(바닥) | B48: T:24mm,인력마감(구배無), 재료포함 | C48: M2 | M48: 건축15-1-2.2
A49: 모르타르배합 | B49: 1:3, 체가름無,재료포함 | C49: M3 | D49: 0.024 | E49: =일위대가표!F57 -> 77320 | F49: =ROUNDDOWN(D49*E49,1) -> 1855.6 | G49: =일위대가표!H57 -> 37668 | H49: =ROUNDDOWN(D49*G49,1) -> 904 | K49: =E49+G49+I49 -> 114988 | L49: =F49+H49+J49 -> 2759.6 | M49: 일위 8호 | P49: 기계경비 | Q49: 1
A50: 모르타르바름(기계) | B50: 모르타르타설 | C50: M3 | D50: 0.024 | E50: =일위대가표!F66 -> 501 | F50: =ROUNDDOWN(D50*E50,1) -> 12 | G50: =일위대가표!H66 -> 11385 | H50: =ROUNDDOWN(D50*G50,1) -> 273.2 | I50: =일위대가표!J66 -> 2004 | J50: =ROUNDDOWN(D50*I50,1) -> 48 | K50: =E50+G50+I50 -> 13890 | L50: =F50+H50+J50 -> 333.2 | M50: 일위 9호 | P50: 기계경비 | Q50: 1
A51: 모르타르바름(기계) | B51: 인력마감, 구배가 없는 경우 | C51: M2 | D51: 1 | G51: =일위대가표!H69 -> 337 | H51: =ROUNDDOWN(D51*G51,1) -> 337 | K51: =E51+G51+I51 -> 337 | L51: =F51+H51+J51 -> 337 | M51: 일위 14호 | P51: 기계경비 | Q51: 1
A52: 합 계 | F52: =ROUNDDOWN(SUMIF($Q$49:$Q$51,1,$F$49:$F$51),0) -> 1867 | H52: =ROUNDDOWN(SUMIF($Q$49:$Q$51,1,$H$49:$H$51),0) -> 1514 | J52: =ROUNDDOWN(SUMIF($Q$49:$Q$51,1,$J$49:$J$51),0) -> 48 | L52: =F52+H52+J52 -> 3429
A53: 일위 8호 모르타르배합 | B53: 1:3, 체가름無,재료포함 | C53: M3 | M53: 건축15-1-1
A54: 시멘트 | B54: 40kg 포장품 | C54: KG | D54: 510 | E54: =자재단가대비표!N24 -> 102 | F54: =ROUNDDOWN(D54*E54,1) -> 52020 | K54: =E54+G54+I54 -> 102 | L54: =F54+H54+J54 -> 52020 | O54: 01 | P54: 기계경비 | Q54: 1
A55: 모래 | B55: 자연사(도착도) | C55: M3 | D55: 1.1 | E55: =자재단가대비표!N14 -> 23000 | F55: =ROUNDDOWN(D55*E55,1) -> 25300 | K55: =E55+G55+I55 -> 23000 | L55: =F55+H55+J55 -> 25300 | O55: 01 | P55: 기계경비 | Q55: 1
A56: 보통인부 | C56: 인 | D56: 0.429 | G56: =자재단가대비표!N47 -> 87805 | H56: =ROUNDDOWN(D56*G56,1) -> 37668.3 | K56: =E56+G56+I56 -> 87805 | L56: =F56+H56+J56 -> 37668.3 | O56: 02 | P56: 기계경비 | Q56: 1
A57: 합 계 | F57: =ROUNDDOWN(SUMIF($Q$54:$Q$56,1,$F$54:$F$56),0) -> 77320 | H57: =ROUNDDOWN(SUMIF($Q$54:$Q$56,1,$H$54:$H$56),0) -> 37668 | J57: =ROUNDDOWN(SUMIF($Q$54:$Q$56,1,$J$54:$J$56),0) -> 0 | L57: =F57+H57+J57 -> 114988
A58: 일위 9호 모르타르바름(기계) | B58: 모르타르타설 | C58: M3 | M58: 건축15-1-2.2.가
A59: 일반기계운전사 | C59: 인 | D59: 0.02 | G59: =자재단가대비표!N50 -> 88379 | H59: =ROUNDDOWN(D59*G59,1) -> 1767.5 | K59: =E59+G59+I59 -> 88379 | L59: =F59+H59+J59 -> 1767.5 | M59: 운전사(기계) | O59: 02 | P59: 기계경비 | Q59: 1
A60: 미장공 | C60: 인 | D60: 0.039 | G60: =자재단가대비표!N45 -> 140811 | H60: =ROUNDDOWN(D60*G60,1) -> 5491.6 | K60: =E60+G60+I60 -> 140811 | L60: =F60+H60+J60 -> 5491.6 | O60: 02 | P60: 기계경비 | Q60: 1
A61: 보통인부 | C61: 인 | D61: 0.047 | G61: =자재단가대비표!N47 -> 87805 | H61: =ROUNDDOWN(D61*G61,1) -> 4126.8 | K61: =E61+G61+I61 -> 87805 | L61: =F61+H61+J61 -> 4126.8 | O61: 02 | P61: 기계경비 | Q61: 1
A62: 모르터 펌프 | B62: 37kw | C62: HR | D62: 0.117 | E62: =중기경비!F12 -> 2268 | F62: =ROUNDDOWN(D62*E62,1) -> 265.3 | I62: =중기경비!J12 -> 15434 | J62: =ROUNDDOWN(D62*I62,1) -> 1805.7 | K62: =E62+G62+I62 -> 17702 | L62: =F62+H62+J62 -> 2071 | M62: 중기 10호 | P62: 기계경비 | Q62: 1
A63: 모르터 믹서 | B63: 0.3㎥ SET | C63: HR | D63: 0.117 | E63: =중기경비!F22 -> 1925 | F63: =ROUNDDOWN(D63*E63,1) -> 225.2 | I63: =중기경비!J22 -> 1687 | J63: =ROUNDDOWN(D63*I63,1) -> 197.3 | K63: =E63+G63+I63 -> 3612 | L63: =F63+H63+J63 -> 422.5 | M63: 중기 11호 | P63: 기계경비 | Q63: 1
A64: 양수기 | B64: 1.492kw | C64: HR | D64: 0.117 | E64: =중기경비!F30 -> 91 | F64: =ROUNDDOWN(D64*E64,1) -> 10.6 | I64: =중기경비!J30 -> 10 | J64: =ROUNDDOWN(D64*I64,1) -> 1.1 | K64: =E64+G64+I64 -> 101 | L64: =F64+H64+J64 -> 11.7 | M64: 중기 12호 | P64: 기계경비 | Q64: 1
A65: 배관파이프 | B65: Ø50mm-2.6m | C65: HR | D65: 0.117 | I65: =중기경비!J35 -> 6 | J65: =ROUNDDOWN(D65*I65,1) -> 0.7 | K65: =E65+G65+I65 -> 6 | L65: =F65+H65+J65 -> 0.7 | M65: 중기 13호 | P65: 기계경비 | Q65: 1
A66: 합 계 | F66: =ROUNDDOWN(SUMIF($Q$59:$Q$65,1,$F$59:$F$65),0) -> 501 | H66: =ROUNDDOWN(SUMIF($Q$59:$Q$65,1,$H$59:$H$65),0) -> 11385 | J66: =ROUNDDOWN(SUMIF($Q$59:$Q$65,1,$J$59:$J$65),0) -> 2004 | L66: =F66+H66+J66 -> 13890
A67: 일위 14호 모르타르바름(기계) | B67: 인력마감, 구배가 없는 경우 | C67: M2 | M67: 건축15-1-2.2.나
A68: 미장공 | C68: 인 | D68: 0.0024 | G68: =자재단가대비표!N45 -> 140811 | H68: =ROUNDDOWN(D68*G68,1) -> 337.9 | K68: =E68+G68+I68 -> 140811 | L68: =F68+H68+J68 -> 337.9 | O68: 02 | P68: 기계경비 | Q68: 1
A69: 합 계 | F69: =ROUNDDOWN(SUMIF($Q$68:$Q$68,1,$F$68:$F$68),0) -> 0 | H69: =ROUNDDOWN(SUMIF($Q$68:$Q$68,1,$H$68:$H$68),0) -> 337 | J69: =ROUNDDOWN(SUMIF($Q$68:$Q$68,1,$J$68:$J$68),0) -> 0 | L69: =F69+H69+J69 -> 337
A70: 일위 15호 수성페인트 로울러칠 | B70: 외벽 2회 1급 | C70: M2 | M70: 건축17-2-2
A71: 바탕만들기 | B71: 콘크리트,몰탈면(벽) | C71: M2 | D71: 1 | E71: =일위대가표!F34 -> 174 | F71: =ROUNDDOWN(D71*E71,1) -> 174 | G71: =일위대가표!H34 -> 1309 | H71: =ROUNDDOWN(D71*G71,1) -> 1309 | K71: =E71+G71+I71 -> 1483 | L71: =F71+H71+J71 -> 1483 | M71: 일위 4호 | P71: 기계경비 | Q71: 1
A72: 수성페인트 | B72: KSM6010-1종1급, 백색 | C72: L | D72: 0.197 | E72: =자재단가대비표!N22 -> 3380 | F72: =ROUNDDOWN(D72*E72,1) -> 665.8 | K72: =E72+G72+I72 -> 3380 | L72: =F72+H72+J72 -> 665.8 | O72: 05 | P72: 기계경비 | Q72: 1
A73: 잡재료비 | B73: ="주재료비의 "&N73*100&"%" -> 주재료비의 6% | C73: 식 | D73: 1 | E73: =SUMIF($O$70:O75,"05",$F$70:F75) -> 665.8 | F73: =ROUNDDOWN(E73*N73,1) -> 39.9 | K73: =E73+G73+I73 -> 665.8 | L73: =F73+H73+J73 -> 39.9 | N73: 0.06 | P73: 기계경비 | Q73: 1
A74: 도장공 | C74: 인 | D74: 0.024 | G74: =자재단가대비표!N44 -> 122128 | H74: =ROUNDDOWN(D74*G74,1) -> 2931 | K74: =E74+G74+I74 -> 122128 | L74: =F74+H74+J74 -> 2931 | O74: 02 | P74: 기계경비 | Q74: 1
A75: 보통인부 | C75: 인 | D75: 0.004 | G75: =자재단가대비표!N47 -> 87805 | H75: =ROUNDDOWN(D75*G75,1) -> 351.2 | K75: =E75+G75+I75 -> 87805 | L75: =F75+H75+J75 -> 351.2 | O75: 02 | P75: 기계경비 | Q75: 1
A76: 합 계 | F76: =ROUNDDOWN(SUMIF($Q$71:$Q$75,1,$F$71:$F$75),0) -> 879 | H76: =ROUNDDOWN(SUMIF($Q$71:$Q$75,1,$H$71:$H$75),0) -> 4591 | J76: =ROUNDDOWN(SUMIF($Q$71:$Q$75,1,$J$71:$J$75),0) -> 0 | L76: =F76+H76+J76 -> 5470
A77: 일위 16호 안전페인트 | B77: 철재면2회.1급 | C77: M2 | M77: 참고자료
A78: 바탕만들기 | B78: 철재면 | C78: M2 | D78: 1 | E78: 84 | F78: =ROUNDDOWN(D78*E78,1) -> 84 | G78: 1728 | H78: =ROUNDDOWN(D78*G78,1) -> 1728 | K78: =E78+G78+I78 -> 1812 | L78: =F78+H78+J78 -> 1812 | M78: 건축17-2-3 | P78: 기계경비 | Q78: 1
A79: 조합페인트 | B79: KSM6020-1종1급, 갈색 | C79: L | D79: 0.0995 | E79: 4880 | F79: =ROUNDDOWN(D79*E79,1) -> 485.5 | K79: =E79+G79+I79 -> 4880 | L79: =F79+H79+J79 -> 485.5 | O79: 01 | P79: 기계경비 | Q79: 1
A80: 조합페인트 | B80: KSM6020-1종1급, 황색 | C80: L | D80: 0.0995 | E80: 5330 | F80: =ROUNDDOWN(D80*E80,1) -> 530.3 | K80: =E80+G80+I80 -> 5330 | L80: =F80+H80+J80 -> 530.3 | O80: 01 | P80: 기계경비 | Q80: 1
A81: 신나 | B81: KSM6060-2종,조합페인트용 | C81: L | D81: 0.008 | E81: =자재단가대비표!N26 -> 1777 | F81: =ROUNDDOWN(D81*E81,1) -> 14.2 | K81: =E81+G81+I81 -> 1777 | L81: =F81+H81+J81 -> 14.2 | O81: 01 | P81: 기계경비 | Q81: 1
A82: 퍼티 | B82: 319퍼티,백색 | C82: KG | D82: 0.06 | E82: =자재단가대비표!N40 -> 3090 | F82: =ROUNDDOWN(D82*E82,1) -> 185.4 | K82: =E82+G82+I82 -> 3090 | L82: =F82+H82+J82 -> 185.4 | O82: 01 | P82: 기계경비 | Q82: 1
A83: 연마지 | B83: #120~#180 | C83: 매 | D83: 0.5 | E83: =자재단가대비표!N32 -> 200 | F83: =ROUNDDOWN(D83*E83,1) -> 100 | K83: =E83+G83+I83 -> 200 | L83: =F83+H83+J83 -> 100 | O83: 01 | P83: 기계경비 | Q83: 1
A84: 넝마 | C84: KG | D84: 0.01 | E84: =자재단가대비표!N11 -> 1640 | F84: =ROUNDDOWN(D84*E84,1) -> 16.4 | K84: =E84+G84+I84 -> 1640 | L84: =F84+H84+J84 -> 16.4 | O84: 01 | P84: 기계경비 | Q84: 1
A85: 휘발유 | B85: 무연 | C85: L | D85: 0.05 | E85: =자재단가대비표!N42 -> 1366 | F85: =ROUNDDOWN(D85*E85,1) -> 68.3 | K85: =E85+G85+I85 -> 1366 | L85: =F85+H85+J85 -> 68.3 | O85: 01 | P85: 기계경비 | Q85: 1
A86: 도장공 | C86: 인 | D86: 0.055 | G86: =자재단가대비표!N44 -> 122128 | H86: =ROUNDDOWN(D86*G86,1) -> 6717 | K86: =E86+G86+I86 -> 122128 | L86: =F86+H86+J86 -> 6717 | O86: 02 | P86: 기계경비 | Q86: 1
A87: 공구손료 | B87: ="노무비의 "&N87*100&"%" -> 노무비의 2% | C87: 식 | D87: 1 | E87: =SUMIF($O$77:O87,"02",$H$77:H87) -> 6717 | F87: =ROUNDDOWN(E87*N87,1) -> 134.3 | K87: =E87+G87+I87 -> 6717 | L87: =F87+H87+J87 -> 134.3 | M87: 자재에입력 | N87: 0.02 | P87: 기계경비 | Q87: 1
A88: 합 계 | F88: =ROUNDDOWN(SUMIF($Q$78:$Q$87,1,$F$78:$F$87),0) -> 1618 | H88: =ROUNDDOWN(SUMIF($Q$78:$Q$87,1,$H$78:$H$87),0) -> 8445 | J88: =ROUNDDOWN(SUMIF($Q$78:$Q$87,1,$J$78:$J$87),0) -> 0 | L88: =F88+H88+J88 -> 10063
A89: 일위 17호 AL 복합판넬(국산,4t,불소) | B89: 평판,단열재 별도 | C89: M2 | F89: 76000 | H89: 32000 | J89: 4000 | L89: =F89+H89+J89 -> 112000 | M89: 2015년10월
A90: 일위 18호 데코타일붙임 | B90: 450*450*3.0mm (왁스무) | C90: M2 | M90: 건축18-1-1.1
A91: 데코타일 | B91: 에코노 3.0*450*450 | C91: M2 | D91: 1.05 | E91: =자재단가대비표!N12 -> 11400 | F91: =ROUNDDOWN(D91*E91,1) -> 11970 | K91: =E91+G91+I91 -> 11400 | L91: =F91+H91+J91 -> 11970 | O91: 01 | P91: 기계경비 | Q91: 1
A92: 접착재 | B92: 비닐타일용 | C92: KG | D92: 0.345 | E92: =자재단가대비표!N38 -> 2450 | F92: =ROUNDDOWN(D92*E92,1) -> 845.2 | K92: =E92+G92+I92 -> 2450 | L92: =F92+H92+J92 -> 845.2 | O92: 01 | P92: 기계경비 | Q92: 1
A93: 내장공 | C93: 인 | D93: 0.053 | G93: =자재단가대비표!N43 -> 135112 | H93: =ROUNDDOWN(D93*G93,1) -> 7160.9 | K93: =E93+G93+I93 -> 135112 | L93: =F93+H93+J93 -> 7160.9 | O93: 02 | P93: 기계경비 | Q93: 1
A94: 보통인부 | C94: 인 | D94: 0.02 | G94: =자재단가대비표!N47 -> 87805 | H94: =ROUNDDOWN(D94*G94,1) -> 1756.1 | K94: =E94+G94+I94 -> 87805 | L94: =F94+H94+J94 -> 1756.1 | O94: 02 | P94: 기계경비 | Q94: 1
A95: 합 계 | F95: =ROUNDDOWN(SUMIF($Q$91:$Q$94,1,$F$91:$F$94),0) -> 12815 | H95: =ROUNDDOWN(SUMIF($Q$91:$Q$94,1,$H$91:$H$94),0) -> 8917 | J95: =ROUNDDOWN(SUMIF($Q$91:$Q$94,1,$J$91:$J$94),0) -> 0 | L95: =F95+H95+J95 -> 21732
A96: 일위 19호 표면세척처리 | C96: M2
A97: 아세톤 | C97: L | D97: 0.2 | E97: =자재단가대비표!N27 -> 1440 | F97: =ROUNDDOWN(D97*E97,1) -> 288 | K97: =E97+G97+I97 -> 1440 | L97: =F97+H97+J97 -> 288 | O97: 01 | P97: 기계경비 | Q97: 1
A98: 넝마 | C98: KG | D98: 0.04 | E98: =자재단가대비표!N11 -> 1640 | F98: =ROUNDDOWN(D98*E98,1) -> 65.6 | K98: =E98+G98+I98 -> 1640 | L98: =F98+H98+J98 -> 65.6 | O98: 01 | P98: 기계경비 | Q98: 1
A99: 도장공 | C99: 인 | D99: 0.048 | G99: =자재단가대비표!N44 -> 122128 | H99: =ROUNDDOWN(D99*G99,1) -> 5862.1 | K99: =E99+G99+I99 -> 122128 | L99: =F99+H99+J99 -> 5862.1 | O99: 02 | P99: 기계경비 | Q99: 1
A100: 공구손료 | B100: ="노무비의 "&N100*100&"%" -> 노무비의 2% | C100: 식 | D100: 1 | E100: =SUMIF($O$96:O100,"02",$H$96:H100) -> 5862.1 | F100: =ROUNDDOWN(E100*N100,1) -> 117.2 | K100: =E100+G100+I100 -> 5862.1 | L100: =F100+H100+J100 -> 117.2 | M100: 자재에입력 | N100: 0.02 | P100: 기계경비 | Q100: 1
...

Sheet 중기경비목록
A1: 중 기 경 비 목 록
A2: 공사명 : 표선우체국 대수선공사
A3: 호 표 | B3: 품 명 | C3: 규 격 | D3: 단위 | E3: 수량 | F3: 재 료 비 | H3: 노 무 비 | J3: 경 비 | L3: 합 계 | N3: 비 고
F4: 단 가 | G4: 금 액 | H4: 단 가 | I4: 금 액 | J4: 단 가 | K4: 금 액 | L4: 단 가 | M4: 금 액 | O4: 손료요율 | P4: 손료구분 | Q4: 적용구분 | R4: 합계구분
A5: 중기 10호 | B5: 모르터 펌프 | C5: 37kw | D5: HR | E5: 1 | F5: =중기경비!F12 -> 2268 | G5: =E5*F5 -> 2268 | H5: =중기경비!H12 -> 0 | I5: =E5*H5 -> 0 | J5: =중기경비!J12 -> 15434 | K5: =E5*J5 -> 15434 | L5: =F5+H5+J5 -> 17702 | M5: =G5+I5+K5 -> 17702 | N5: 토목11-2,11-3
A6: 중기 11호 | B6: 모르터 믹서 | C6: 0.3㎥ SET | D6: HR | E6: 1 | F6: =중기경비!F22 -> 1925 | G6: =E6*F6 -> 1925 | H6: =중기경비!H22 -> 0 | I6: =E6*H6 -> 0 | J6: =중기경비!J22 -> 1687 | K6: =E6*J6 -> 1687 | L6: =F6+H6+J6 -> 3612 | M6: =G6+I6+K6 -> 3612 | N6: 토목11-2,11-3
A7: 중기 12호 | B7: 양수기 | C7: 1.492kw | D7: HR | E7: 1 | F7: =중기경비!F30 -> 91 | G7: =E7*F7 -> 91 | H7: =중기경비!H30 -> 0 | I7: =E7*H7 -> 0 | J7: =중기경비!J30 -> 10 | K7: =E7*J7 -> 10 | L7: =F7+H7+J7 -> 101 | M7: =G7+I7+K7 -> 101 | N7: 토목11-2,11-3
A8: 중기 13호 | B8: 배관파이프 | C8: Ø50mm-2.6m | D8: HR | E8: 1 | F8: =중기경비!F35 -> 0 | G8: =E8*F8 -> 0 | H8: =중기경비!H35 -> 0 | I8: =E8*H8 -> 0 | J8: =중기경비!J35 -> 6 | K8: =E8*J8 -> 6 | L8: =F8+H8+J8 -> 6 | M8: =G8+I8+K8 -> 6 | N8: 토목11-2,11-3
A9: 중기 24호 | B9: 용접기 (교류) | C9: 500 AMP | D9: HR | E9: 1 | F9: =중기경비!F40 -> 0 | G9: =E9*F9 -> 0 | H9: =중기경비!H40 -> 0 | I9: =E9*H9 -> 0 | J9: =중기경비!J40 -> 124 | K9: =E9*J9 -> 124 | L9: =F9+H9+J9 -> 124 | M9: =G9+I9+K9 -> 124 | N9: 토목11-2,11-3

Sheet 중기경비
A1: 중 기 경 비
A2: 공사명 : 표선우체국 대수선공사
A3: 품 명 | B3: 규 격 | C3: 단위 | D3: 수 량 | E3: 재 료 비 | G3: 노 무 비 | I3: 경 비 | K3: 합 계 | M3: 비 고
E4: 단 가 | F4: 금 액 | G4: 단 가 | H4: 금 액 | I4: 단 가 | J4: 금 액 | K4: 단 가 | L4: 금 액 | N4: 손료요율 | O4: 손료구분 | P4: 적용구분 | Q4: 합계구분
A5: 중기 10호 모르터 펌프 | B5: 37kw | C5: HR | M5: 토목11-2,11-3
A6: 경 비 | K6: =E6+G6+I6 -> 0 | L6: =F6+H6+J6 -> 0
A7: 모르터펌프 | B7: 37kW | C7: 대 | D7: 0.0004677 | I7: =자재단가대비표!N57 -> 33000000 | J7: =ROUNDDOWN(D7*I7,1) -> 15434.1 | K7: =E7+G7+I7 -> 33000000 | L7: =F7+H7+J7 -> 15434.1 | M7: 토목11-4 | O7: 03 | P7: 기계경비 | Q7: 1
A8: 소 계 | J8: =SUMIF($Q$6:$Q$7,1,$J$6:$J$7) -> 15434.1 | L8: =F8+H8+J8 -> 15434.1
A9: 재료비 | K9: =E9+G9+I9 -> 0 | L9: =F9+H9+J9 -> 0
A10: 전력 | C10: ㎾h | D10: 37 | E10: =ROUNDDOWN(자재단가대비표!N37,2) -> 61.3 | F10: =ROUNDDOWN(D10*E10,1) -> 2268.1 | K10: =E10+G10+I10 -> 61.3 | L10: =F10+H10+J10 -> 2268.1 | O10: 03 | P10: 기계경비 | Q10: 1
A11: 소 계 | F11: =SUMIF($Q$9:$Q$10,1,$F$9:$F$10) -> 2268.1 | L11: =F11+H11+J11 -> 2268.1
A12: 합 계 | F12: =ROUNDDOWN(SUMIF($Q$6:$Q$11,1,$F$6:$F$11),0) -> 2268 | H12: =ROUNDDOWN(SUMIF($Q$6:$Q$11,1,$H$6:$H$11),0) -> 0 | J12: =ROUNDDOWN(SUMIF($Q$6:$Q$11,1,$J$6:$J$11),0) -> 15434 | L12: =F12+H12+J12 -> 17702
A13: 중기 11호 모르터 믹서 | B13: 0.3㎥ SET | C13: HR | M13: 토목11-2,11-3
A14: 경 비 | K14: =E14+G14+I14 -> 0 | L14: =F14+H14+J14 -> 0
A15: 모르터믹서 | B15: 0.3㎥ | C15: 대 | D15: 0.0003708 | I15: =자재단가대비표!N56 -> 4552000 | J15: =ROUNDDOWN(D15*I15,1) -> 1687.8 | K15: =E15+G15+I15 -> 4552000 | L15: =F15+H15+J15 -> 1687.8 | M15: 토목11-4 | O15: 03 | P15: 기계경비 | Q15: 1
A16: 소 계 | J16: =SUMIF($Q$14:$Q$15,1,$J$14:$J$15) -> 1687.8 | L16: =F16+H16+J16 -> 1687.8
A17: 재료비 | K17: =E17+G17+I17 -> 0 | L17: =F17+H17+J17 -> 0
A18: 휘발유 | B18: 무연 | C18: L | D18: 1.3 | E18: =자재단가대비표!N42 -> 1366 | F18: =ROUNDDOWN(D18*E18,1) -> 1775.8 | K18: =E18+G18+I18 -> 1366 | L18: =F18+H18+J18 -> 1775.8 | O18: 04 | P18: 기계경비 | Q18: 1
A19: 잡품 | B19: ="주연료비의 "&N19*100&"%" -> 주연료비의 2% | C19: 식 | D19: 1 | E19: =SUMIF($O$13:O21,"04",$F$13:F21) -> 1775.8 | F19: =ROUNDDOWN(E19*N19,1) -> 35.5 | K19: =E19+G19+I19 -> 1775.8 | L19: =F19+H19+J19 -> 35.5 | N19: 0.02 | P19: 기계경비 | Q19: 1
A20: 전력 | C20: ㎾h | D20: 1.87 | E20: =ROUNDDOWN(자재단가대비표!N37,2) -> 61.3 | F20: =ROUNDDOWN(D20*E20,1) -> 114.6 | K20: =E20+G20+I20 -> 61.3 | L20: =F20+H20+J20 -> 114.6 | O20: 01 | P20: 기계경비 | Q20: 1
A21: 소 계 | F21: =SUMIF($Q$17:$Q$20,1,$F$17:$F$20) -> 1925.9 | L21: =F21+H21+J21 -> 1925.9
A22: 합 계 | F22: =ROUNDDOWN(SUMIF($Q$14:$Q$21,1,$F$14:$F$21),0) -> 1925 | H22: =ROUNDDOWN(SUMIF($Q$14:$Q$21,1,$H$14:$H$21),0) -> 0 | J22: =ROUNDDOWN(SUMIF($Q$14:$Q$21,1,$J$14:$J$21),0) -> 1687 | L22: =F22+H22+J22 -> 3612
A23: 중기 12호 양수기 | B23: 1.492kw | C23: HR | M23: 토목11-2,11-3
A24: 경 비 | K24: =E24+G24+I24 -> 0 | L24: =F24+H24+J24 -> 0
A25: 양수기 | B25: 2HP | C25: 대 | D25: 0.0003375 | I25: =자재단가대비표!N59 -> 30000 | J25: =ROUNDDOWN(D25*I25,1) -> 10.1 | K25: =E25+G25+I25 -> 30000 | L25: =F25+H25+J25 -> 10.1 | M25: 토목11-4 | O25: 03 | P25: 기계경비 | Q25: 1
A26: 소 계 | J26: =SUMIF($Q$24:$Q$25,1,$J$24:$J$25) -> 10.1 | L26: =F26+H26+J26 -> 10.1
A27: 재료비 | K27: =E27+G27+I27 -> 0 | L27: =F27+H27+J27 -> 0
A28: 전력 | C28: ㎾h | D28: 1.49 | E28: =ROUNDDOWN(자재단가대비표!N37,2) -> 61.3 | F28: =ROUNDDOWN(D28*E28,1) -> 91.3 | K28: =E28+G28+I28 -> 61.3 | L28: =F28+H28+J28 -> 91.3 | O28: 01 | P28: 기계경비 | Q28: 1
A29: 소 계 | F29: =SUMIF($Q$27:$Q$28,1,$F$27:$F$28) -> 91.3 | L29: =F29+H29+J29 -> 91.3
A30: 합 계 | F30: =ROUNDDOWN(SUMIF($Q$24:$Q$29,1,$F$24:$F$29),0) -> 91 | H30: =ROUNDDOWN(SUMIF($Q$24:$Q$29,1,$H$24:$H$29),0) -> 0 | J30: =ROUNDDOWN(SUMIF($Q$24:$Q$29,1,$J$24:$J$29),0) -> 10 | L30: =F30+H30+J30 -> 101
A31: 중기 13호 배관파이프 | B31: Ø50mm-2.6m | C31: HR | M31: 토목11-2,11-3
A32: 경 비 | K32: =E32+G32+I32 -> 0 | L32: =F32+H32+J32 -> 0
A33: 배관파이프 | B33: D50/2.6m | C33: 대 | D33: 0.0005 | I33: =자재단가대비표!N58 -> 13000 | J33: =ROUNDDOWN(D33*I33,1) -> 6.5 | K33: =E33+G33+I33 -> 13000 | L33: =F33+H33+J33 -> 6.5 | M33: 토목11-4 | O33: 03 | P33: 기계경비 | Q33: 1
A34: 소 계 | J34: =SUMIF($Q$32:$Q$33,1,$J$32:$J$33) -> 6.5 | L34: =F34+H34+J34 -> 6.5
A35: 합 계 | F35: =ROUNDDOWN(SUMIF($Q$32:$Q$34,1,$F$32:$F$34),0) -> 0 | H35: =ROUNDDOWN(SUMIF($Q$32:$Q$34,1,$H$32:$H$34),0) -> 0 | J35: =ROUNDDOWN(SUMIF($Q$32:$Q$34,1,$J$32:$J$34),0) -> 6 | L35: =F35+H35+J35 -> 6
A36: 중기 24호 용접기 (교류) | B36: 500 AMP | C36: HR | M36: 토목11-2,11-3
A37: 경 비 | K37: =E37+G37+I37 -> 0 | L37: =F37+H37+J37 -> 0
A38: 용접기 (교류) | B38: 500 AMP | C38: 대 | D38: 0.0002294 | I38: =자재단가대비표!N60 -> 544000 | J38: =ROUNDDOWN(D38*I38,1) -> 124.7 | K38: =E38+G38+I38 -> 544000 | L38: =F38+H38+J38 -> 124.7 | M38: 토목11-4 | O38: 03 | P38: 기계경비 | Q38: 1
A39: 소 계 | J39: =SUMIF($Q$37:$Q$38,1,$J$37:$J$38) -> 124.7 | L39: =F39+H39+J39 -> 124.7
A40: 합 계 | F40: =ROUNDDOWN(SUMIF($Q$37:$Q$39,1,$F$37:$F$39),0) -> 0 | H40: =ROUNDDOWN(SUMIF($Q$37:$Q$39,1,$H$37:$H$39),0) -> 0 | J40: =ROUNDDOWN(SUMIF($Q$37:$Q$39,1,$J$37:$J$39),0) -> 124 | L40: =F40+H40+J40 -> 124

Sheet 자재단가대비표
A1: 단 가 대 비 표
A2: 공사명 : 표선우체국 대수선공사
A3: 품 명 | B3: 규 격 | C3: 단위 | D3: 물가자료 | F3: 물가정보 | H3: 가격정보 | I3: 유통물가 | K3: 거래가격 | M3: 조사단가 | N3: 적용단가 | O3: 비 고
D4: 단 가 | E4: Page | F4: 단 가 | G4: Page | H4: 단 가 | I4: 단 가 | J4: Page | K4: 단 가 | L4: Page | M4: 단 가
A5: 가새 | B5: L=1518-2개 | C5: 조 | F5: 17800 | G5: 164 | I5: 17800 | J5: 77 | N5: =MIN(D5,F5,H5,I5,K5,M5) -> 17800
A6: 강관비계 | B6: D=48.6*2.3mm | C6: M | F6: 3233 | G6: 164 | H6: 2700 | I6: 3233 | J6: 77 | N6: =MIN(D6,F6,H6,I6,K6,M6) -> 2700
A7: 강관비계고정브라켓(광명단마감) | B7: TC-60 | C7: EA | M7: 1700 | N7: =MIN(D7,F7,H7,I7,K7,M7) -> 1700
A8: 강설 | B8: 고철, 작업설부산물 | C8: 톤 | H8: -240000 | N8: =MIN(D8,F8,H8,I8,K8,M8) -> -240000
A9: 건설발판 | B9: 400*1829 | C9: EA | D9: 18500 | E9: 146 | F9: 24900 | G9: 166 | N9: =MIN(D9,F9,H9,I9,K9,M9) -> 18500 | O9: 중량13㎏
A10: 관통슬리브 | B10: D200×300H | C10: EA | M10: 3550 | N10: =MIN(D10,F10,H10,I10,K10,M10) -> 3550
A11: 넝마 | C11: KG | D11: 2272 | E11: 하권130 | F11: 2000 | G11: 2-1005 | H11: 1640 | K11: 1786 | L11: 1385 | N11: =MIN(D11,F11,H11,I11,K11,M11) -> 1640
A12: 데코타일 | B12: 에코노 3.0*450*450 | C12: M2 | D12: 13000 | E12: 639 | H12: 11400 | I12: 12700 | J12: 508 | N12: =MIN(D12,F12,H12,I12,K12,M12) -> 11400
A13: 락카(낙서방지용) | B13: 투명(SB-AL-04) | C13: L | D13: 3644 | E13: 625 | N13: =MIN(D13,F13,H13,I13,K13,M13) -> 3644
A14: 모래 | B14: 자연사(도착도) | C14: M3 | D14: 23000 | E14: 103 | F14: 24000 | G14: 135 | K14: 23000 | L14: 93 | N14: =MIN(D14,F14,H14,I14,K14,M14) -> 23000
A15: 바퀴 | C15: EA | D15: 34020 | E15: 1430 | F15: 31000 | G15: 1-623 | N15: =MIN(D15,F15,H15,I15,K15,M15) -> 31000
A16: 받침철물 | B16: 나무라이트복합 | C16: EA | D16: 2900 | E16: 145 | F16: 3300 | G16: 164 | I16: 3300 | J16: 77 | N16: =MIN(D16,F16,H16,I16,K16,M16) -> 2900
A17: 비계기본틀(기둥) | B17: 1.2*1.7 ( H=1700 * W=1219 ) | C17: EA | D17: 24500 | E17: 146 | F17: 28300 | G17: 164 | H17: 20830 | I17: 28300 | J17: 77 | N17: =MIN(D17,F17,H17,I17,K17,M17) -> 20830
A18: 비계안정장치(손잡이) | B18: L=1229 | C18: EA | D18: 8000 | E18: 146 | F18: 8900 | G18: 164 | I18: 8900 | J18: 77 | M18: 1200 | N18: =MIN(D18,F18,H18,I18,K18,M18) -> 1200
A19: 비계안정장치(손잡이) | B19: L=1829 | C19: EA | D19: 24000 | E19: 146 | F19: 25200 | G19: 164 | I19: 25200 | J19: 77 | M19: 850 | N19: =MIN(D19,F19,H19,I19,K19,M19) -> 850
A20: 산소 | B20: 산소 가스 | C20: L | D20: 2 | E20: 하권33 | F20: 2 | G20: 2-909 | H20: 2 | K20: 2 | L20: 1387 | N20: =MIN(D20,F20,H20,I20,K20,M20) -> 2
A21: 손잡이기둥 | C21: EA | D21: 24500 | E21: 146 | F21: 28300 | G21: 164 | I21: 28300 | J21: 77 | M21: 2200 | N21: =MIN(D21,F21,H21,I21,K21,M21) -> 2200 | O21: 1.2*1.7
A22: 수성페인트 | B22: KSM6010-1종1급, 백색 | C22: L | D22: 5222 | E22: 621 | F22: 4061 | G22: 2-257 | H22: 3380 | I22: 4061 | J22: 473 | N22: =MIN(D22,F22,H22,I22,K22,M22) -> 3380
A23: 수평띠장 | B23: L=1829 | C23: EA | D23: 24000 | E23: 146 | F23: 25200 | G23: 164 | I23: 25200 | J23: 77 | N23: =MIN(D23,F23,H23,I23,K23,M23) -> 24000
A24: 시멘트 | B24: 40kg 포장품 | C24: KG | D24: 102 | E24: 106 | F24: 102 | G24: 136 | K24: 104 | L24: 94 | N24: =MIN(D24,F24,H24,I24,K24,M24) -> 102
A25: 신나 | B25: KSM6060-1종,알키드,페놀에나멜 | C25: L | D25: 2711 | E25: 625 | F25: 1944 | G25: 2-257 | H25: 1840 | I25: 1944 | J25: 473 | K25: 1944 | L25: 556 | N25: =MIN(D25,F25,H25,I25,K25,M25) -> 1840
A26: 신나 | B26: KSM6060-2종,조합페인트용 | C26: L | D26: 2711 | E26: 625 | F26: 1777 | G26: 2-257 | H26: 1780 | I26: 1777 | J26: 473 | K26: 1777 | L26: 556 | N26: =MIN(D26,F26,H26,I26,K26,M26) -> 1777
A27: 아세톤 | C27: L | D27: 1440 | E27: 하권10 | F27: 1500 | G27: 2-937 | N27: =MIN(D27,F27,H27,I27,K27,M27) -> 1440
A28: 아세틸렌 | C28: KG | D28: 11000 | E28: 하권33 | F28: 13000 | G28: 2-909 | H28: 9500 | K28: 10000 | L28: 1387 | N28: =MIN(D28,F28,H28,I28,K28,M28) -> 9500 | O28: 압축가스
A29: 아크론락카 | B29: 흑색.SB-AP-923 | C29: L | F29: 7338 | G29: 2-259 | I29: 7338 | J29: 478 | N29: =MIN(D29,F29,H29,I29,K29,M29) -> 7338
A30: 안전발판 | B30: 400*3000 | C30: 매 | D30: 31000 | E30: 146 | H30: 26350 | N30: =MIN(D30,F30,H30,I30,K30,M30) -> 26350
A31: 앙카용철물 | B31: 앙카용철물 | C31: EA | D31: 1000 | E31: 146 | N31: =MIN(D31,F31,H31,I31,K31,M31) -> 1000
A32: 연마지 | B32: #120~#180 | C32: 매 | D32: 220 | E32: 1418 | F32: 275 | G32: 1-634 | H32: 200 | I32: 275 | J32: 1216 | K32: 230 | L32: 1273 | N32: =MIN(D32,F32,H32,I32,K32,M32) -> 200
A33: 용접봉(연강용) | B33: ∮3.2 CR-13 | C33: KG | D33: 3150 | E33: 1389 | N33: =MIN(D33,F33,H33,I33,K33,M33) -> 3150
A34: 이음철물 | B34: 이음철물, 연결핀 | C34: EA | D34: 900 | E34: 145 | F34: 1020 | G34: 164 | H34: 830 | I34: 1020 | J34: 77 | N34: =MIN(D34,F34,H34,I34,K34,M34) -> 830
A35: 일반철물 | B35: 선홈통지지철물, 철재 | C35: EA | H35: 1690 | N35: =MIN(D35,F35,H35,I35,K35,M35) -> 1690
A36: 쟈키 | C36: EA | F36: 10600 | G36: 164 | I36: 10600 | J36: 77 | N36: =MIN(D36,F36,H36,I36,K36,M36) -> 10600
A37: 전력 | C37: ㎾h | D37: 61.3 | E37: 하권341 | N37: =MIN(D37,F37,H37,I37,K37,M37) -> 61.3
A38: 접착재 | B38: 비닐타일용 | C38: KG | H38: 2450 | N38: =MIN(D38,F38,H38,I38,K38,M38) -> 2450
A39: 조임철물 | B39: 조임철물, 직교및가새 | C39: EA | D39: 1600 | E39: 145 | F39: 1520 | G39: 164 | H39: 1270 | I39: 1520 | J39: 77 | N39: =MIN(D39,F39,H39,I39,K39,M39) -> 1270
A40: 퍼티 | B40: 319퍼티,백색 | C40: KG | D40: 3833 | E40: 620 | H40: 3090 | N40: =MIN(D40,F40,H40,I40,K40,M40) -> 3090
A41: 퍼티 | B41: 319퍼티,회색 | C41: KG | D41: 3833 | E41: 620 | H41: 3090 | N41: =MIN(D41,F41,H41,I41,K41,M41) -> 3090
A42: 휘발유 | B42: 무연 | C42: L | D42: 1371 | E42: 하권32 | F42: 1433 | G42: 2-908 | H42: 1399 | I42: 1366 | J42: 1237 | K42: 1457 | L42: 1387 | N42: =MIN(D42,F42,H42,I42,K42,M42) -> 1366
A43: 내장공 | C43: 인 | N43: 135112
A44: 도장공 | C44: 인 | N44: 122128
A45: 미장공 | C45: 인 | N45: 140811
A46: 배관공 | C46: 인 | N46: 116622
A47: 보통인부 | C47: 인 | N47: 87805
A48: 비계공 | C48: 인 | N48: 158014
A49: 용접공 | C49: 인 | N49: 134516 | O49: 용접공(일반)
A50: 일반기계운전사 | C50: 인 | N50: 88379 | O50: 운전사(기계)
A51: 철공 | C51: 인 | N51: 138946
A52: 특별인부 | C52: 인 | N52: 108245
A53: 할석공 | C53: 인 | N53: 119672
A54: 건설폐기물수집운반비(상차비) | B54: 15TON 덤프,중간처리 | C54: TON | D54: 1820 | E54: 하권168 | F54: 1820 | G54: 부록134 | N54: =MIN(D54,F54,H54,I54,K54,M54) -> 1820 | O54: 한국건설폐기물수집운반
A55: 건설폐기물수집운반비(운반비) | B55: 15TON 덤프,중간처리,30km | C55: TON | D55: 11840 | E55: 하권168 | F55: 11840 | G55: 부록134 | N55: =MIN(D55,F55,H55,I55,K55,M55) -> 11840 | O55: 한국건설폐기물수집운반
A56: 모르터믹서 | B56: 0.3㎥ | C56: 대 | M56: 4552000 | N56: =MIN(D56,F56,H56,I56,K56,M56) -> 4552000 | O56: 토목11-4
A57: 모르터펌프 | B57: 37kW | C57: 대 | M57: 33000000 | N57: =MIN(D57,F57,H57,I57,K57,M57) -> 33000000 | O57: 토목11-4
A58: 배관파이프 | B58: D50/2.6m | C58: 대 | M58: 13000 | N58: =MIN(D58,F58,H58,I58,K58,M58) -> 13000 | O58: 토목11-4
A59: 양수기 | B59: 2HP | C59: 대 | M59: 30000 | N59: =MIN(D59,F59,H59,I59,K59,M59) -> 30000 | O59: 토목11-4
A60: 용접기 (교류) | B60: 500 AMP | C60: 대 | M60: 544000 | N60: =MIN(D60,F60,H60,I60,K60,M60) -> 544000 | O60: 토목11-4
A61: 전력 | C61: ㎾h | D61: 61.3 | E61: 하권341 | N61: =MIN(D61,F61,H61,I61,K61,M61) -> 61.3
A62: 폐자재처리수수료 | B62: 건축폐자재 | C62: 톤 | D62: 27351 | E62: 하권167 | F62: 27731 | G62: 부록135 | N62: =MIN(D62,F62,H62,I62,K62,M62) -> 27351
A63: 폐자재처리수수료 | B63: 폐콘크리트 | C63: 톤 | D63: 18065 | E63: 하권167 | F63: 18244 | G63: 부록135 | N63: =MIN(D63,F63,H63,I63,K63,M63) -> 18065

Sheet 마감표지
A1: 마 감 물 량 산 출 서
C5: 공 사 명 : 표선우체국 대수선공사
C7: 발 주 처 :
C9: 공사위치 :
C11: 공사규모
C13: 대지면적 :

Sheet 1. 내,외부마감및보수공사-공종별집계표
A1: 마감집계표
A2: 공사명 : 표선우체국 대수선공사 > 내,외부마감및보수공사
A3: 품명 | B3: 규격 | C3: 산출단위 | D3: 설계수량 | E3: 환산식 | F3: 환산값 | G3: 환산수량 | H3: 할증 | I3: 단위환산 | J3: 구입단위 | K3: 구입수량 | L3: 비고
A4: [ 가설공사 ]
A5: 강관외줄비계 | B5: 까차발, 3개월 | C5: M2 | D5: 162.571 | F5: 0 | G5: 0 | H5: 0 | J5: M2 | K5: 163
A6: 건축물현장정리 | B6: 개 보수공사 | C6: M2 | D6: 28.15 | F6: 0 | G6: 0 | H6: 0 | J6: M2 | K6: 28
A7: [ 도장공사 ]
A8: 낙서방지페인트 | B8: 벽2회 | C8: M2 | D8: 3.618 | F8: 0 | G8: 0 | H8: 0 | J8: M2 | K8: 4
A9: 걸레받이용 페인트 | B9: 붓칠 2회 | C9: M2 | D9: 0.402 | F9: 0 | G9: 0 | H9: 0 | J9: M2 | K9: 0.4
A10: 난간기초 외부용 수성페인트칠 | B10: 단면복구 포함 | C10: EA | D10: 1 | F10: 0 | G10: 0 | H10: 0 | J10: EA | K10: 1
A11: 안전페인트 | B11: 철재면2회.1급 | C11: M2 | D11: 1.522 | G11: 0 | J11: M2 | K11: 2
A12: [ 기타공사 ]
A13: AL 복합판넬(국산,4t,불소) | B13: 평판,단열재 별도 | C13: M2 | D13: 182.321 | F13: 0 | G13: 0 | H13: 0 | J13: M2 | K13: 182
A14: 데코타일붙임 | B14: 450*450*3.0mm (왁스무) | C14: M2 | D14: 5.04 | F14: 0 | G14: 0 | H14: 0 | J14: M2 | K14: 5
A15: 표면세척처리 | C15: M2 | D15: 10.383 | F15: 0 | G15: 0 | H15: 0 | J15: M2 | K15: 10
A16: [ 철거공사 ]
A17: 바닥철거 | B17: 비닐타일 | C17: M2 | D17: 5.04 | F17: 0 | G17: 0 | H17: 0 | J17: M2 | K17: 5
A18: 난간기초 파손부분 철거 | C18: EA | D18: 1 | F18: 0 | G18: 0 | H18: 0 | J18: EA | K18: 1
A19: 강판후레싱철거 | C19: M2 | D19: 15.504 | F19: 0 | G19: 0 | H19: 0 | J19: M2 | K19: 16
A20: PVC선홈통철거후 재설치 | B20: VG1 ∮100 | C20: M | D20: 7.35 | F20: 0 | G20: 0 | H20: 0 | J20: M | K20: 7
A21: SST환풍기캡철거후 재설치 | B21: 환풍관 연장 L=200 | C21: EA | D21: 1 | F21: 0 | G21: 0 | H21: 0 | J21: EA | K21: 1
A22: 간판철거후 재설치 | C22: EA | D22: 2 | F22: 0 | G22: 0 | H22: 0 | J22: EA | K22: 2
A23: 인터폰철거후 재설치 | C23: EA | D23: 1 | F23: 0 | G23: 0 | H23: 0 | J23: EA | K23: 1
A24: [ 폐기물처리비 ]
A25: 폐자재처리수수료 | B25: 폐콘크리트 | C25: 톤 | D25: 0.013 | F25: 0 | G25: 0 | H25: 0 | J25: 톤 | K25: 0.01
A26: 폐자재처리수수료 | B26: 건축폐자재 | C26: 톤 | D26: 1.038 | F26: 0 | G26: 0 | H26: 0 | J26: 톤 | K26: 1.04
A27: 건설폐기물수집운반비(상차비) | B27: 15TON 덤프,중간처리 | C27: TON | D27: 1.051 | F27: 0 | G27: 0 | H27: 0 | J27: TON | K27: 1.05
A28: 건설폐기물수집운반비(운반비) | B28: 15TON 덤프,중간처리,30km | C28: TON | D28: 1.051 | F28: 0 | G28: 0 | H28: 0 | J28: TON | K28: 1.05
A29: [ 작업설 ]
A30: 강설 | B30: 고철, 작업설부산물 | C30: 톤 | D30: 0.064 | F30: 0 | G30: 0 | H30: 0 | J30: 톤 | K30: 0.06

Sheet 1. 내,외부마감및보수공사-물량산출서
A1: 마감산출서
A2: 공사명 : 표선우체국 대수선공사 > 내,외부마감및보수공사 > 내부
A3: 위치 | B3: 품명 | C3: 규격 | D3: 단위 | E3: 부위 | F3: 산출식 | G3: 물량 | H3: 개소 | I3: 수량 | J3: 비고
A4: 365코너 | E4: [비 고] | F4: 철거공사
B5: 바닥철거 | C5: 비닐타일 | D5: M2 | E5: 바닥 | F5: (3*1.68) | G5: 5.04 | H5: 1 | I5: 5.04
B7: 폐자재처리수수료 | C7: 건축폐자재 | D7: 톤 | F7: (3*1.68)*7.6KG/1000 | G7: 0.038 | H7: 1 | I7: 0.038
B8: 건설폐기물수집운반비(상차비) | C8: 15TON 덤프,중간처리 | D8: TON | F8: (3*1.68)*7.6KG/1000 | G8: 0.038 | H8: 1 | I8: 0.038
B9: 건설폐기물수집운반비(운반비) | C9: 15TON 덤프,중간처리,30km | D9: TON | F9: (3*1.68)*7.6KG/1000 | G9: 0.038 | H9: 1 | I9: 0.038
E11: [비 고] | F11: 신설공사
B12: 데코타일붙임 | C12: 450*450*3.0mm (왁스무) | D12: M2 | E12: 바닥 | F12: (3*1.68) | G12: 5.04 | H12: 1 | I12: 5.04
B13: 낙서방지페인트 | C13: 벽2회 | D13: M2 | F13: (3+1.68+0.12*2EA-0.9)*0.9H | G13: 3.618 | H13: 1 | I13: 3.618
B14: 걸레받이용 페인트 | C14: 붓칠 2회 | D14: M2 | F14: (3+1.68+0.12*2EA-0.9)*0.1 | G14: 0.402 | H14: 1 | I14: 0.402
A32: 공사명 : 표선우체국 대수선공사 > 내,외부마감및보수공사 > 외부
A33: 위치 | B33: 품명 | C33: 규격 | D33: 단위 | E33: 부위 | F33: 산출식 | G33: 물량 | H33: 개소 | I33: 수량 | J33: 비고
A34: 입면도 철거공사 | E34: [비 고] | F34: 철거공사
B35: 강판후레싱철거 | D35: M2 | F35: (1.13+0.41+1.18)*2.85*2EA | G35: 15.504 | H35: 1 | I35: 15.504
B36: 난간기초 파손부분 철거 | D36: EA | F36: 1 | G36: 1 | H36: 1 | I36: 1
B37: 간판철거후 재설치 | D37: EA | F37: 2EA | G37: 2 | H37: 1 | I37: 2
B38: PVC선홈통철거후 재설치 | C38: VG1 ∮100 | D38: M | F38: 7.35H | G38: 7.35 | H38: 1 | I38: 7.35
B39: SST환풍기캡철거후 재설치 | C39: 환풍관 연장 L=200 | D39: EA | F39: 1 | G39: 1 | H39: 1 | I39: 1
B40: 인터폰철거후 재설치 | D40: EA | F40: 1 | G40: 1 | H40: 1 | I40: 1
B42: 강설 | C42: 고철, 작업설부산물 | D42: 톤 | E42: 강판후레싱 | F42: (1.13+0.41+1.18)*2.85*2EA*4.17KG/1000 | G42: 0.064 | H42: 1 | I42: 0.064
B44: 폐자재처리수수료 | C44: 폐콘크리트 | D44: 톤 | F44: 0.006*2.3TON | G44: 0.013 | H44: 1 | I44: 0.013
B45: 건설폐기물수집운반비(상차비) | C45: 15TON 덤프,중간처리 | D45: TON | F45: 0.006*2.3TON | G45: 0.013 | H45: 1 | I45: 0.013
B46: 건설폐기물수집운반비(운반비) | C46: 15TON 덤프,중간처리,30km | D46: TON | F46: 0.006*2.3TON | G46: 0.013 | H46: 1 | I46: 0.013
A47: 입면도 신설공사 | E47: [비 고] | F47: 정면도
B48: AL 복합판넬(국산,4t,불소) | C48: 평판,단열재 별도 | D48: M2 | F48: 9.85*8.6+3.1*8.9-(주출입구:(2.95*2.85)*1)-(365문:(0.9*2.1)*1)-(1F창:(1.8*1.75)*1)-(2F창:(7.05*1.47)*1) | G48: 88.489 | H48: 1 | I48: 88.489
B49: AL 복합판넬(국산,4t,불소) | C49: 평판,단열재 별도 | D49: M2 | E49: 방풍실벽체 | F49: (1.13+0.41+1.18)*3.6H*2EA | G49: 19.584 | H49: 1 | I49: 19.584
B50: AL 복합판넬(국산,4t,불소) | C50: 평판,단열재 별도 | D50: M2 | E50: 1F 접히는 부분 | F50: (0.33*2.9H)*2면 | G50: 1.914 | H50: 1 | I50: 1.914
B51: AL 복합판넬(국산,4t,불소) | C51: 평판,단열재 별도 | D51: M2 | E51: 2F 접히는 부분 | F51: (0.15*5.8H)*2면 | G51: 1.74 | H51: 1 | I51: 1.74
B52: AL 복합판넬(국산,4t,불소) | C52: 평판,단열재 별도 | D52: M2 | E52: 2층창하부 | F52: (0.35+6.55+0.35)*0.1W | G52: 0.725 | H52: 1 | I52: 0.725
B53: AL 복합판넬(국산,4t,불소) | C53: 평판,단열재 별도 | D53: M2 | E53: 창주위 | F53: (1.8+1.75+7.05+1.47)*2*0.1W | G53: 2.414 | H53: 1 | I53: 2.414
B54: AL 복합판넬(국산,4t,불소) | C54: 평판,단열재 별도 | D54: M2 | E54: 두겁 | F54: (12.65+1.1+4.5)*(0.4+0.2+0.2) | G54: 14.6 | H54: 1 | I54: 14.6
B55: AL 복합판넬(국산,4t,불소) | C55: 평판,단열재 별도 | D55: M2 | E55: 두겁하부 | F55: (4.5+10.05+1.1)*0.1W+1.7*0.1W*2면 | G55: 1.905 | H55: 1 | I55: 1.905
B56: AL 복합판넬(국산,4t,불소) | C56: 평판,단열재 별도 | D56: M2 | E56: 돌출 | F56: 1.1*0.4*3줄 | G56: 1.32 | H56: 1 | I56: 1.32
E58: [비 고] | F58: 좌측면도
B59: AL 복합판넬(국산,4t,불소) | C59: 평판,단열재 별도 | D59: M2 | F59: 4.3*8.6+0.4*8.9-(창:(1.4*1.4)*1) | G59: 38.58 | H59: 1 | I59: 38.58
A60: 공사명 : 표선우체국 대수선공사 > 내,외부마감및보수공사 > 외부
A61: 위치 | B61: 품명 | C61: 규격 | D61: 단위 | E61: 부위 | F61: 산출식 | G61: 물량 | H61: 개소 | I61: 수량 | J61: 비고
A62: 입면도 신설공사 | B62: AL 복합판넬(국산,4t,불소) | C62: 평판,단열재 별도 | D62: M2 | E62: 전기판넬 | F62: (0.6+0.9)*2면*0.1W | G62: 0.3 | H62: 1 | I62: 0.3
E64: [비 고] | F64: 우측면도
B65: AL 복합판넬(국산,4t,불소) | C65: 평판,단열재 별도 | D65: M2 | F65: 1.25*8.6 | G65: 10.75 | H65: 1 | I65: 10.75
A66: 주출입구 | E66: [비 고] | F66: 기타공사
B67: 난간기초 외부용 수성페인트칠 | C67: 단면복구 포함 | D67: EA | F67: 1EA | G67: 1 | H67: 1 | I67: 1
B68: 안전페인트 | C68: 철재면2회.1급 | D68: M2 | E68: 충돌방지대 | F68: 0.1*3.14*(0.6+1.55+0.9H*3EA) | G68: 1.522 | H68: 1 | I68: 1.522
B69: 표면세척처리 | D69: M2 | E69: 점자블럭포함 | F69: 4.73*2.1+1.5*0.3 | G69: 10.383 | H69: 1 | I69: 10.383
A90: 공사명 : 표선우체국 대수선공사 > 내,외부마감및보수공사 > 가설
A91: 위치 | B91: 품명 | C91: 규격 | D91: 단위 | E91: 부위 | F91: 산출식 | G91: 물량 | H91: 개소 | I91: 수량 | J91: 비고
A92: 가설공사 | B92: 강관외줄비계 | C92: 까차발, 3개월 | D92: M2 | F92: (12.55+5.5+1.8)*9.1H*0.9 | G92: 162.571 | H92: 1 | I92: 162.571
B93: 건축물현장정리 | C93: 개 보수공사 | D93: M2 | F93: 12.55+4.7+0.9+10 | G93: 28.15 | H93: 1 | I93: 28.15
B95: 폐자재처리수수료 | C95: 건축폐자재 | D95: 톤 | F95: 1 | G95: 1 | H95: 1 | I95: 1
B96: 건설폐기물수집운반비(상차비) | C96: 15TON 덤프,중간처리 | D96: TON | F96: 1 | G96: 1 | H96: 1 | I96: 1
B97: 건설폐기물수집운반비(운반비) | C97: 15TON 덤프,중간처리,30km | D97: TON | F97: 1 | G97: 1 | H97: 1 | I97: 1
