Workbook

Sheet 수식관련
B2: 2015년도 금융고객상담실 등 금융창구 환경개선 및 신규설치 대상관서(총괄)
N4: (단위 : 천원)
A5: 순번 | B5: 청 명 | C5: 총괄국명 | D5: 해당국명 | E5: 구분 | J5: 총 소요예산 | O5: 우선순위 | P5: 관서급 | Q5: 총괄국여부 | R5: 설치 년도 | S5: 2013년지원 여부
E6: 환경개선 | F6: 이전설치 | G6: 비품구입/교체 | H6: 신규설치 | I6: BI변경 | J6: 설계비(A) | K6: 시설비(B) | L6: 자산취득비(C) | M6: 시설비(BI관련) | N6: 계{(A)+(B)+(C)}
A7: =ROW()-6 -> 1 | B7: 서울청 | C7: 광화문 | D7: 광화문 | G7: ○ | L7: 1200 | N7: =SUM(J7:M7) -> 1200 | P7: =VLOOKUP(D7,고객상담실현황!$F$6:$M$322,2,FALSE) -> 서기관 | Q7: =VLOOKUP(D7,고객상담실현황!$F$6:$M$322,3,FALSE) -> 0 | R7: =VLOOKUP(D7,고객상담실현황!$F$6:$M$322,4,FALSE) -> 2004 | S7: =VLOOKUP(D7,고객상담실현황!$F$6:$M$322,8,FALSE) -> 0
A8: =ROW()-6 -> 2 | B8: 서울청 | C8: 동대문 | D8: 동대문 | G8: ○ | L8: 400 | N8: =SUM(J8:M8) -> 400 | P8: =VLOOKUP(D8,고객상담실현황!$F$6:$M$322,2,FALSE) -> 서기관 | Q8: =VLOOKUP(D8,고객상담실현황!$F$6:$M$322,3,FALSE) -> 0 | R8: =VLOOKUP(D8,고객상담실현황!$F$6:$M$322,4,FALSE) -> 2005 | S8: =VLOOKUP(D8,고객상담실현황!$F$6:$M$322,8,FALSE) -> 0
A9: =ROW()-6 -> 3 | B9: 서울청 | C9: 서울강동 | D9: 서울강동 | G9: ○ | L9: 910 | N9: =SUM(J9:M9) -> 910 | P9: =VLOOKUP(D9,고객상담실현황!$F$6:$M$322,2,FALSE) -> 서기관 | Q9: =VLOOKUP(D9,고객상담실현황!$F$6:$M$322,3,FALSE) -> 0 | R9: =VLOOKUP(D9,고객상담실현황!$F$6:$M$322,4,FALSE) -> 2006 | S9: =VLOOKUP(D9,고객상담실현황!$F$6:$M$322,8,FALSE) -> 5100
A10: =ROW()-6 -> 4 | B10: 서울청 | C10: 서울강서 | D10: 서울강서 | G10: ○ | L10: 2000 | N10: =SUM(J10:M10) -> 2000 | P10: =VLOOKUP(D10,고객상담실현황!$F$6:$M$322,2,FALSE) -> 서기관 | Q10: =VLOOKUP(D10,고객상담실현황!$F$6:$M$322,3,FALSE) -> 0 | R10: =VLOOKUP(D10,고객상담실현황!$F$6:$M$322,4,FALSE) -> 2005 | S10: =VLOOKUP(D10,고객상담실현황!$F$6:$M$322,8,FALSE) -> 0
A11: =ROW()-6 -> 5 | B11: 서울청 | C11: 서울광진 | D11: 성동 | G11: ○ | L11: 2900 | N11: =SUM(J11:M11) -> 2900 | P11: =VLOOKUP(D11,고객상담실현황!$F$6:$M$322,2,FALSE) -> #N/A | Q11: =VLOOKUP(D11,고객상담실현황!$F$6:$M$322,3,FALSE) -> #N/A | R11: =VLOOKUP(D11,고객상담실현황!$F$6:$M$322,4,FALSE) -> #N/A | S11: =VLOOKUP(D11,고객상담실현황!$F$6:$M$322,8,FALSE) -> #N/A
A12: =ROW()-6 -> 6 | B12: 서울청 | C12: 서울광진 | D12: 중곡동 | G12: ○ | L12: 2000 | N12: =SUM(J12:M12) -> 2000 | P12: =VLOOKUP(D12,고객상담실현황!$F$6:$M$322,2,FALSE) -> #N/A | Q12: =VLOOKUP(D12,고객상담실현황!$F$6:$M$322,3,FALSE) -> #N/A | R12: =VLOOKUP(D12,고객상담실현황!$F$6:$M$322,4,FALSE) -> #N/A | S12: =VLOOKUP(D12,고객상담실현황!$F$6:$M$322,8,FALSE) -> #N/A
A13: =ROW()-6 -> 7 | B13: 서울청 | C13: 서울도봉 | D13: 서울강북 | G13: ○ | L13: 5802 | N13: =SUM(J13:M13) -> 5802 | P13: =VLOOKUP(D13,고객상담실현황!$F$6:$M$322,2,FALSE) -> 사무관 | Q13: =VLOOKUP(D13,고객상담실현황!$F$6:$M$322,3,FALSE) -> 관내 | R13: =VLOOKUP(D13,고객상담실현황!$F$6:$M$322,4,FALSE) -> 2005 | S13: =VLOOKUP(D13,고객상담실현황!$F$6:$M$322,8,FALSE) -> 0
A14: =ROW()-6 -> 8 | B14: 서울청 | C14: 서울도봉 | D14: 서울번2동 | G14: ○ | L14: 312 | N14: =SUM(J14:M14) -> 312 | P14: =VLOOKUP(D14,고객상담실현황!$F$6:$M$322,2,FALSE) -> #N/A | Q14: =VLOOKUP(D14,고객상담실현황!$F$6:$M$322,3,FALSE) -> #N/A | R14: =VLOOKUP(D14,고객상담실현황!$F$6:$M$322,4,FALSE) -> #N/A | S14: =VLOOKUP(D14,고객상담실현황!$F$6:$M$322,8,FALSE) -> #N/A
A15: =ROW()-6 -> 9 | B15: 서울청 | C15: 서울도봉 | D15: 서울수유3동 | G15: ○ | L15: 3381 | N15: =SUM(J15:M15) -> 3381 | P15: =VLOOKUP(D15,고객상담실현황!$F$6:$M$322,2,FALSE) -> #N/A | Q15: =VLOOKUP(D15,고객상담실현황!$F$6:$M$322,3,FALSE) -> #N/A | R15: =VLOOKUP(D15,고객상담실현황!$F$6:$M$322,4,FALSE) -> #N/A | S15: =VLOOKUP(D15,고객상담실현황!$F$6:$M$322,8,FALSE) -> #N/A
A16: =ROW()-6 -> 10 | B16: 서울청 | C16: 서울송파 | D16: 서울송파 | G16: ○ | L16: 7938 | N16: =SUM(J16:M16) -> 7938 | P16: =VLOOKUP(D16,고객상담실현황!$F$6:$M$322,2,FALSE) -> 서기관 | Q16: =VLOOKUP(D16,고객상담실현황!$F$6:$M$322,3,FALSE) -> 0 | R16: =VLOOKUP(D16,고객상담실현황!$F$6:$M$322,4,FALSE) -> 2006 | S16: =VLOOKUP(D16,고객상담실현황!$F$6:$M$322,8,FALSE) -> 0
A17: =ROW()-6 -> 11 | B17: 서울청 | C17: 서울양천 | D17: 서울양천 | G17: ○ | L17: 2350 | N17: =SUM(J17:M17) -> 2350 | P17: =VLOOKUP(D17,고객상담실현황!$F$6:$M$322,2,FALSE) -> 서기관 | Q17: =VLOOKUP(D17,고객상담실현황!$F$6:$M$322,3,FALSE) -> 0 | R17: =VLOOKUP(D17,고객상담실현황!$F$6:$M$322,4,FALSE) -> 2007 | S17: =VLOOKUP(D17,고객상담실현황!$F$6:$M$322,8,FALSE) -> 0
A18: =ROW()-6 -> 12 | B18: 서울청 | C18: 서울용산 | D18: 서울용문동 | G18: ○ | L18: 2035 | N18: =SUM(J18:M18) -> 2035 | P18: =VLOOKUP(D18,고객상담실현황!$F$6:$M$322,2,FALSE) -> #N/A | Q18: =VLOOKUP(D18,고객상담실현황!$F$6:$M$322,3,FALSE) -> #N/A | R18: =VLOOKUP(D18,고객상담실현황!$F$6:$M$322,4,FALSE) -> #N/A | S18: =VLOOKUP(D18,고객상담실현황!$F$6:$M$322,8,FALSE) -> #N/A
... A20: =ROW()-6 -> 14 | B20: 서울청 | C20: 서울중랑 | D20: 서울중랑 | G20: ○ | L20: 500 | N20: =SUM(J20:M20) -> 500 | P20: =VLOOKUP(D20,고객상담실현황!$F$6:$M$322,2,FALSE) -> 서기관 | Q20: =VLOOKUP(D20,고객상담실현황!$F$6:$M$322,3,FALSE) -> 0 | R20: =VLOOKUP(D20,고객상담실현황!$F$6:$M$322,4,FALSE) -> 2005 | S20: =VLOOKUP(D20,고객상담실현황!$F$6:$M$322,8,FALSE) -> 0
A21: =ROW()-6 -> 15 | B21: 서울청 | C21: 서울중랑 | D21: 서울면목동 | E21: ○ | K21: 8000 | N21: =SUM(J21:M21) -> 8000 | P21: =VLOOKUP(D21,고객상담실현황!$F$6:$M$322,2,FALSE) -> #N/A | Q21: =VLOOKUP(D21,고객상담실현황!$F$6:$M$322,3,FALSE) -> #N/A | R21: =VLOOKUP(D21,고객상담실현황!$F$6:$M$322,4,FALSE) -> #N/A | S21: =VLOOKUP(D21,고객상담실현황!$F$6:$M$322,8,FALSE) -> #N/A
A22: =ROW()-6 -> 16 | B22: 서울청 | C22: 서울서초 | D22: 서울서초 | G22: ○ | L22: 3348 | N22: =SUM(J22:M22) -> 3348 | P22: =VLOOKUP(D22,고객상담실현황!$F$6:$M$322,2,FALSE) -> 서기관 | Q22: =VLOOKUP(D22,고객상담실현황!$F$6:$M$322,3,FALSE) -> 0 | R22: =VLOOKUP(D22,고객상담실현황!$F$6:$M$322,4,FALSE) -> 2000 | S22: =VLOOKUP(D22,고객상담실현황!$F$6:$M$322,8,FALSE) -> 0
A23: =ROW()-6 -> 17 | B23: 서울청 | C23: 서울중앙 | D23: 서울중앙 | G23: ○ | L23: 7100 | N23: =SUM(J23:M23) -> 7100 | P23: =VLOOKUP(D23,고객상담실현황!$F$6:$M$322,2,FALSE) -> 서기관 | Q23: =VLOOKUP(D23,고객상담실현황!$F$6:$M$322,3,FALSE) -> 0 | R23: =VLOOKUP(D23,고객상담실현황!$F$6:$M$322,4,FALSE) -> 2007 | S23: =VLOOKUP(D23,고객상담실현황!$F$6:$M$322,8,FALSE) -> 0
A24: =ROW()-6 -> 18 | B24: 서울청 | C24: 서울중앙 | D24: 태평로 | G24: ○ | L24: 3000 | N24: =SUM(J24:M24) -> 3000 | P24: =VLOOKUP(D24,고객상담실현황!$F$6:$M$322,2,FALSE) -> #N/A | Q24: =VLOOKUP(D24,고객상담실현황!$F$6:$M$322,3,FALSE) -> #N/A | R24: =VLOOKUP(D24,고객상담실현황!$F$6:$M$322,4,FALSE) -> #N/A | S24: =VLOOKUP(D24,고객상담실현황!$F$6:$M$322,8,FALSE) -> #N/A | T24: =SUM(N7:N24) -> 54892
A25: =ROW()-6 -> 19 | B25: 경인청 | C25: 가평 | D25: 가평 | I25: ○ | M25: 600 | N25: =SUM(J25:M25) -> 600 | P25: =VLOOKUP(D25,고객상담실현황!$F$6:$M$322,2,FALSE) -> 사무관 | Q25: =VLOOKUP(D25,고객상담실현황!$F$6:$M$322,3,FALSE) -> 0 | R25: =VLOOKUP(D25,고객상담실현황!$F$6:$M$322,4,FALSE) -> 2007 | S25: =VLOOKUP(D25,고객상담실현황!$F$6:$M$322,8,FALSE) -> 0
A26: =ROW()-6 -> 20 | B26: 경인청 | C26: 고양일산 | D26: 고양일산 | E26: ○ | G26: ○ | I26: ○ | K26: 10000 | L26: 2000 | M26: 600 | N26: =SUM(J26:M26) -> 12600 | O26: 2 | P26: =VLOOKUP(D26,고객상담실현황!$F$6:$M$322,2,FALSE) -> 서기관 | Q26: =VLOOKUP(D26,고객상담실현황!$F$6:$M$322,3,FALSE) -> 0 | R26: =VLOOKUP(D26,고객상담실현황!$F$6:$M$322,4,FALSE) -> 2006 | S26: =VLOOKUP(D26,고객상담실현황!$F$6:$M$322,8,FALSE) -> 0
A27: =ROW()-6 -> 21 | B27: 경인청 | C27: 구리 | D27: 구리 | G27: ○ | I27: ○ | L27: 130 | M27: 300 | N27: =SUM(J27:M27) -> 430 | P27: =VLOOKUP(D27,고객상담실현황!$F$6:$M$322,2,FALSE) -> 사무관 | Q27: =VLOOKUP(D27,고객상담실현황!$F$6:$M$322,3,FALSE) -> 0 | R27: =VLOOKUP(D27,고객상담실현황!$F$6:$M$322,4,FALSE) -> 2007 | S27: =VLOOKUP(D27,고객상담실현황!$F$6:$M$322,8,FALSE) -> 0
A28: =ROW()-6 -> 22 | B28: 경인청 | C28: 구리 | D28: 구리갈매 | G28: ○ | L28: 260 | N28: =SUM(J28:M28) -> 260 | P28: =VLOOKUP(D28,고객상담실현황!$F$6:$M$322,2,FALSE) -> #N/A | Q28: =VLOOKUP(D28,고객상담실현황!$F$6:$M$322,3,FALSE) -> #N/A | R28: =VLOOKUP(D28,고객상담실현황!$F$6:$M$322,4,FALSE) -> #N/A | S28: =VLOOKUP(D28,고객상담실현황!$F$6:$M$322,8,FALSE) -> #N/A
A29: =ROW()-6 -> 23 | B29: 경인청 | C29: 남양주 | D29: 남양주 | G29: ○ | I29: ○ | L29: 1230 | M29: 1600 | N29: =SUM(J29:M29) -> 2830 | P29: =VLOOKUP(D29,고객상담실현황!$F$6:$M$322,2,FALSE) -> 서기관 | Q29: =VLOOKUP(D29,고객상담실현황!$F$6:$M$322,3,FALSE) -> 0 | R29: =VLOOKUP(D29,고객상담실현황!$F$6:$M$322,4,FALSE) -> 2008 | S29: =VLOOKUP(D29,고객상담실현황!$F$6:$M$322,8,FALSE) -> 6200
A30: =ROW()-6 -> 24 | B30: 경인청 | C30: 남인천 | D30: 남인천 | G30: ○ | I30: ○ | L30: 2320 | M30: 750 | N30: =SUM(J30:M30) -> 3070 | P30: =VLOOKUP(D30,고객상담실현황!$F$6:$M$322,2,FALSE) -> 서기관 | Q30: =VLOOKUP(D30,고객상담실현황!$F$6:$M$322,3,FALSE) -> 0 | R30: =VLOOKUP(D30,고객상담실현황!$F$6:$M$322,4,FALSE) -> 2005 | S30: =VLOOKUP(D30,고객상담실현황!$F$6:$M$322,8,FALSE) -> 0
A31: =ROW()-6 -> 25 | B31: 경인청 | C31: 남인천 | D31: 인천문학동 | G31: ○ | L31: 840 | N31: =SUM(J31:M31) -> 840 | P31: =VLOOKUP(D31,고객상담실현황!$F$6:$M$322,2,FALSE) -> #N/A | Q31: =VLOOKUP(D31,고객상담실현황!$F$6:$M$322,3,FALSE) -> #N/A | R31: =VLOOKUP(D31,고객상담실현황!$F$6:$M$322,4,FALSE) -> #N/A | S31: =VLOOKUP(D31,고객상담실현황!$F$6:$M$322,8,FALSE) -> #N/A
A32: =ROW()-6 -> 26 | B32: 경인청 | C32: 남인천 | D32: 인천숭의동 | G32: ○ | L32: 2150 | N32: =SUM(J32:M32) -> 2150 | P32: =VLOOKUP(D32,고객상담실현황!$F$6:$M$322,2,FALSE) -> #N/A | Q32: =VLOOKUP(D32,고객상담실현황!$F$6:$M$322,3,FALSE) -> #N/A | R32: =VLOOKUP(D32,고객상담실현황!$F$6:$M$322,4,FALSE) -> #N/A | S32: =VLOOKUP(D32,고객상담실현황!$F$6:$M$322,8,FALSE) -> #N/A
A33: =ROW()-6 -> 27 | B33: 경인청 | C33: 동수원 | D33: 동수원 | G33: ○ | I33: ○ | L33: 1060 | M33: 280 | N33: =SUM(J33:M33) -> 1340 | P33: =VLOOKUP(D33,고객상담실현황!$F$6:$M$322,2,FALSE) -> 서기관 | Q33: =VLOOKUP(D33,고객상담실현황!$F$6:$M$322,3,FALSE) -> 0 | R33: =VLOOKUP(D33,고객상담실현황!$F$6:$M$322,4,FALSE) -> 2007 | S33: =VLOOKUP(D33,고객상담실현황!$F$6:$M$322,8,FALSE) -> 0
A34: =ROW()-6 -> 28 | B34: 경인청 | C34: 동수원 | D34: 수원법원 | I34: ○ | M34: 280 | N34: =SUM(J34:M34) -> 280 | P34: =VLOOKUP(D34,고객상담실현황!$F$6:$M$322,2,FALSE) -> #N/A | Q34: =VLOOKUP(D34,고객상담실현황!$F$6:$M$322,3,FALSE) -> #N/A | R34: =VLOOKUP(D34,고객상담실현황!$F$6:$M$322,4,FALSE) -> #N/A | S34: =VLOOKUP(D34,고객상담실현황!$F$6:$M$322,8,FALSE) -> #N/A
A35: =ROW()-6 -> 29 | B35: 경인청 | C35: 동수원 | D35: 수원청명 | I35: ○ | M35: 460 | N35: =SUM(J35:M35) -> 460 | P35: =VLOOKUP(D35,고객상담실현황!$F$6:$M$322,2,FALSE) -> #N/A | Q35: =VLOOKUP(D35,고객상담실현황!$F$6:$M$322,3,FALSE) -> #N/A | R35: =VLOOKUP(D35,고객상담실현황!$F$6:$M$322,4,FALSE) -> #N/A | S35: =VLOOKUP(D35,고객상담실현황!$F$6:$M$322,8,FALSE) -> #N/A
A36: =ROW()-6 -> 30 | B36: 경인청 | C36: 동수원 | D36: 수원황곡 | I36: ○ | M36: 100 | N36: =SUM(J36:M36) -> 100 | P36: =VLOOKUP(D36,고객상담실현황!$F$6:$M$322,2,FALSE) -> #N/A | Q36: =VLOOKUP(D36,고객상담실현황!$F$6:$M$322,3,FALSE) -> #N/A | R36: =VLOOKUP(D36,고객상담실현황!$F$6:$M$322,4,FALSE) -> #N/A | S36: =VLOOKUP(D36,고객상담실현황!$F$6:$M$322,8,FALSE) -> #N/A
A37: =ROW()-6 -> 31 | B37: 경인청 | C37: 백령 | D37: 백령 | I37: ○ | M37: 3200 | N37: =SUM(J37:M37) -> 3200 | P37: =VLOOKUP(D37,고객상담실현황!$F$6:$M$322,2,FALSE) -> 사무관 | Q37: =VLOOKUP(D37,고객상담실현황!$F$6:$M$322,3,FALSE) -> 0 | R37: =VLOOKUP(D37,고객상담실현황!$F$6:$M$322,4,FALSE) -> 2008 | S37: =VLOOKUP(D37,고객상담실현황!$F$6:$M$322,8,FALSE) -> 0
A38: =ROW()-6 -> 32 | B38: 경인청 | C38: 부천 | D38: 부천 | I38: ○ | M38: 1900 | N38: =SUM(J38:M38) -> 1900 | P38: =VLOOKUP(D38,고객상담실현황!$F$6:$M$322,2,FALSE) -> 서기관 | Q38: =VLOOKUP(D38,고객상담실현황!$F$6:$M$322,3,FALSE) -> 0 | R38: =VLOOKUP(D38,고객상담실현황!$F$6:$M$322,4,FALSE) -> 2006 | S38: =VLOOKUP(D38,고객상담실현황!$F$6:$M$322,8,FALSE) -> 0
A39: =ROW()-6 -> 33 | B39: 경인청 | C39: 부평 | D39: 부평대로 | I39: ○ | M39: 350 | N39: =SUM(J39:M39) -> 350 | P39: =VLOOKUP(D39,고객상담실현황!$F$6:$M$322,2,FALSE) -> #N/A | Q39: =VLOOKUP(D39,고객상담실현황!$F$6:$M$322,3,FALSE) -> #N/A | R39: =VLOOKUP(D39,고객상담실현황!$F$6:$M$322,4,FALSE) -> #N/A | S39: =VLOOKUP(D39,고객상담실현황!$F$6:$M$322,8,FALSE) -> #N/A
A40: =ROW()-6 -> 34 | B40: 경인청 | C40: 부평 | D40: 부평현대아파트 | I40: ○ | M40: 200 | N40: =SUM(J40:M40) -> 200 | P40: =VLOOKUP(D40,고객상담실현황!$F$6:$M$322,2,FALSE) -> #N/A | Q40: =VLOOKUP(D40,고객상담실현황!$F$6:$M$322,3,FALSE) -> #N/A | R40: =VLOOKUP(D40,고객상담실현황!$F$6:$M$322,4,FALSE) -> #N/A | S40: =VLOOKUP(D40,고객상담실현황!$F$6:$M$322,8,FALSE) -> #N/A
A41: =ROW()-6 -> 35 | B41: 경인청 | C41: 부평 | D41: 북인천 | G41: ○ | L41: 200 | N41: =SUM(J41:M41) -> 200 | P41: =VLOOKUP(D41,고객상담실현황!$F$6:$M$322,2,FALSE) -> #N/A | Q41: =VLOOKUP(D41,고객상담실현황!$F$6:$M$322,3,FALSE) -> #N/A | R41: =VLOOKUP(D41,고객상담실현황!$F$6:$M$322,4,FALSE) -> #N/A | S41: =VLOOKUP(D41,고객상담실현황!$F$6:$M$322,8,FALSE) -> #N/A
A42: =ROW()-6 -> 36 | B42: 경인청 | C42: 부평 | D42: 인천갈산동 | G42: ○ | L42: 410 | N42: =SUM(J42:M42) -> 410 | P42: =VLOOKUP(D42,고객상담실현황!$F$6:$M$322,2,FALSE) -> #N/A | Q42: =VLOOKUP(D42,고객상담실현황!$F$6:$M$322,3,FALSE) -> #N/A | R42: =VLOOKUP(D42,고객상담실현황!$F$6:$M$322,4,FALSE) -> #N/A | S42: =VLOOKUP(D42,고객상담실현황!$F$6:$M$322,8,FALSE) -> #N/A
A43: =ROW()-6 -> 37 | B43: 경인청 | C43: 부평 | D43: 인천동암 | I43: ○ | M43: 250 | N43: =SUM(J43:M43) -> 250 | P43: =VLOOKUP(D43,고객상담실현황!$F$6:$M$322,2,FALSE) -> #N/A | Q43: =VLOOKUP(D43,고객상담실현황!$F$6:$M$322,3,FALSE) -> #N/A | R43: =VLOOKUP(D43,고객상담실현황!$F$6:$M$322,4,FALSE) -> #N/A | S43: =VLOOKUP(D43,고객상담실현황!$F$6:$M$322,8,FALSE) -> #N/A
A44: =ROW()-6 -> 38 | B44: 경인청 | C44: 부평 | D44: 인천산곡2동 | G44: ○ | I44: ○ | L44: 680 | M44: 200 | N44: =SUM(J44:M44) -> 880 | P44: =VLOOKUP(D44,고객상담실현황!$F$6:$M$322,2,FALSE) -> #N/A | Q44: =VLOOKUP(D44,고객상담실현황!$F$6:$M$322,3,FALSE) -> #N/A | R44: =VLOOKUP(D44,고객상담실현황!$F$6:$M$322,4,FALSE) -> #N/A | S44: =VLOOKUP(D44,고객상담실현황!$F$6:$M$322,8,FALSE) -> #N/A
A45: =ROW()-6 -> 39 | B45: 경인청 | C45: 부평 | D45: 인천삼산동 | I45: ○ | M45: 700 | N45: =SUM(J45:M45) -> 700 | P45: =VLOOKUP(D45,고객상담실현황!$F$6:$M$322,2,FALSE) -> #N/A | Q45: =VLOOKUP(D45,고객상담실현황!$F$6:$M$322,3,FALSE) -> #N/A | R45: =VLOOKUP(D45,고객상담실현황!$F$6:$M$322,4,FALSE) -> #N/A | S45: =VLOOKUP(D45,고객상담실현황!$F$6:$M$322,8,FALSE) -> #N/A
A46: =ROW()-6 -> 40 | B46: 경인청 | C46: 서인천 | D46: 서인천 | I46: ○ | M46: 700 | N46: =SUM(J46:M46) -> 700 | P46: =VLOOKUP(D46,고객상담실현황!$F$6:$M$322,2,FALSE) -> 서기관 | Q46: =VLOOKUP(D46,고객상담실현황!$F$6:$M$322,3,FALSE) -> 0 | R46: =VLOOKUP(D46,고객상담실현황!$F$6:$M$322,4,FALSE) -> 2005 | S46: =VLOOKUP(D46,고객상담실현황!$F$6:$M$322,8,FALSE) -> 0
A47: =ROW()-6 -> 41 | B47: 경인청 | C47: 서인천 | D47: 인천가좌2동 | I47: ○ | M47: 300 | N47: =SUM(J47:M47) -> 300 | P47: =VLOOKUP(D47,고객상담실현황!$F$6:$M$322,2,FALSE) -> #N/A | Q47: =VLOOKUP(D47,고객상담실현황!$F$6:$M$322,3,FALSE) -> #N/A | R47: =VLOOKUP(D47,고객상담실현황!$F$6:$M$322,4,FALSE) -> #N/A | S47: =VLOOKUP(D47,고객상담실현황!$F$6:$M$322,8,FALSE) -> #N/A
A48: =ROW()-6 -> 42 | B48: 경인청 | C48: 서인천 | D48: 인천검암동 | I48: ○ | M48: 300 | N48: =SUM(J48:M48) -> 300 | P48: =VLOOKUP(D48,고객상담실현황!$F$6:$M$322,2,FALSE) -> #N/A | Q48: =VLOOKUP(D48,고객상담실현황!$F$6:$M$322,3,FALSE) -> #N/A | R48: =VLOOKUP(D48,고객상담실현황!$F$6:$M$322,4,FALSE) -> #N/A | S48: =VLOOKUP(D48,고객상담실현황!$F$6:$M$322,8,FALSE) -> #N/A
A49: =ROW()-6 -> 43 | B49: 경인청 | C49: 서인천 | D49: 인천공단 | I49: ○ | M49: 300 | N49: =SUM(J49:M49) -> 300 | P49: =VLOOKUP(D49,고객상담실현황!$F$6:$M$322,2,FALSE) -> #N/A | Q49: =VLOOKUP(D49,고객상담실현황!$F$6:$M$322,3,FALSE) -> #N/A | R49: =VLOOKUP(D49,고객상담실현황!$F$6:$M$322,4,FALSE) -> #N/A | S49: =VLOOKUP(D49,고객상담실현황!$F$6:$M$322,8,FALSE) -> #N/A
A50: =ROW()-6 -> 44 | B50: 경인청 | C50: 서인천 | D50: 인천석남동 | I50: ○ | M50: 300 | N50: =SUM(J50:M50) -> 300 | P50: =VLOOKUP(D50,고객상담실현황!$F$6:$M$322,2,FALSE) -> #N/A | Q50: =VLOOKUP(D50,고객상담실현황!$F$6:$M$322,3,FALSE) -> #N/A | R50: =VLOOKUP(D50,고객상담실현황!$F$6:$M$322,4,FALSE) -> #N/A | S50: =VLOOKUP(D50,고객상담실현황!$F$6:$M$322,8,FALSE) -> #N/A
A51: =ROW()-6 -> 45 | B51: 경인청 | C51: 서인천 | D51: 인천원당 | I51: ○ | M51: 300 | N51: =SUM(J51:M51) -> 300 | P51: =VLOOKUP(D51,고객상담실현황!$F$6:$M$322,2,FALSE) -> #N/A | Q51: =VLOOKUP(D51,고객상담실현황!$F$6:$M$322,3,FALSE) -> #N/A | R51: =VLOOKUP(D51,고객상담실현황!$F$6:$M$322,4,FALSE) -> #N/A | S51: =VLOOKUP(D51,고객상담실현황!$F$6:$M$322,8,FALSE) -> #N/A
A52: =ROW()-6 -> 46 | B52: 경인청 | C52: 서인천 | D52: 인천청라1동 | I52: ○ | M52: 300 | N52: =SUM(J52:M52) -> 300 | P52: =VLOOKUP(D52,고객상담실현황!$F$6:$M$322,2,FALSE) -> #N/A | Q52: =VLOOKUP(D52,고객상담실현황!$F$6:$M$322,3,FALSE) -> #N/A | R52: =VLOOKUP(D52,고객상담실현황!$F$6:$M$322,4,FALSE) -> #N/A | S52: =VLOOKUP(D52,고객상담실현황!$F$6:$M$322,8,FALSE) -> #N/A
A53: =ROW()-6 -> 47 | B53: 경인청 | C53: 성남 | D53: 성남 | G53: ○ | L53: 1520 | M53: 110 | N53: =SUM(J53:M53) -> 1630 | P53: =VLOOKUP(D53,고객상담실현황!$F$6:$M$322,2,FALSE) -> 서기관 | Q53: =VLOOKUP(D53,고객상담실현황!$F$6:$M$322,3,FALSE) -> 0 | R53: =VLOOKUP(D53,고객상담실현황!$F$6:$M$322,4,FALSE) -> 2005 | S53: =VLOOKUP(D53,고객상담실현황!$F$6:$M$322,8,FALSE) -> 0
A54: =ROW()-6 -> 48 | B54: 경인청 | C54: 성남분당 | D54: 성남구미동 | I54: ○ | M54: 440 | N54: =SUM(J54:M54) -> 440 | P54: =VLOOKUP(D54,고객상담실현황!$F$6:$M$322,2,FALSE) -> 사무관 | Q54: =VLOOKUP(D54,고객상담실현황!$F$6:$M$322,3,FALSE) -> 관내 | R54: =VLOOKUP(D54,고객상담실현황!$F$6:$M$322,4,FALSE) -> 2011 | S54: =VLOOKUP(D54,고객상담실현황!$F$6:$M$322,8,FALSE) -> 0
A55: =ROW()-6 -> 49 | B55: 경인청 | C55: 성남분당 | D55: 성남분당 | I55: ○ | M55: 1210 | N55: =SUM(J55:M55) -> 1210 | P55: =VLOOKUP(D55,고객상담실현황!$F$6:$M$322,2,FALSE) -> 서기관 | Q55: =VLOOKUP(D55,고객상담실현황!$F$6:$M$322,3,FALSE) -> 0 | R55: =VLOOKUP(D55,고객상담실현황!$F$6:$M$322,4,FALSE) -> 2006 | S55: =VLOOKUP(D55,고객상담실현황!$F$6:$M$322,8,FALSE) -> 0
A56: =ROW()-6 -> 50 | B56: 경인청 | C56: 성남분당 | D56: 성남삼평동 | I56: ○ | M56: 660 | N56: =SUM(J56:M56) -> 660 | P56: =VLOOKUP(D56,고객상담실현황!$F$6:$M$322,2,FALSE) -> #N/A | Q56: =VLOOKUP(D56,고객상담실현황!$F$6:$M$322,3,FALSE) -> #N/A | R56: =VLOOKUP(D56,고객상담실현황!$F$6:$M$322,4,FALSE) -> #N/A | S56: =VLOOKUP(D56,고객상담실현황!$F$6:$M$322,8,FALSE) -> #N/A
A57: =ROW()-6 -> 51 | B57: 경인청 | C57: 성남분당 | D57: 성남서현1동 | I57: ○ | M57: 440 | N57: =SUM(J57:M57) -> 440 | P57: =VLOOKUP(D57,고객상담실현황!$F$6:$M$322,2,FALSE) -> 주사 | Q57: =VLOOKUP(D57,고객상담실현황!$F$6:$M$322,3,FALSE) -> 관내 | R57: =VLOOKUP(D57,고객상담실현황!$F$6:$M$322,4,FALSE) -> 2010 | S57: =VLOOKUP(D57,고객상담실현황!$F$6:$M$322,8,FALSE) -> 0
A58: =ROW()-6 -> 52 | B58: 경인청 | C58: 성남분당 | D58: 성남서현2동 | I58: ○ | M58: 550 | N58: =SUM(J58:M58) -> 550 | P58: =VLOOKUP(D58,고객상담실현황!$F$6:$M$322,2,FALSE) -> #N/A | Q58: =VLOOKUP(D58,고객상담실현황!$F$6:$M$322,3,FALSE) -> #N/A | R58: =VLOOKUP(D58,고객상담실현황!$F$6:$M$322,4,FALSE) -> #N/A | S58: =VLOOKUP(D58,고객상담실현황!$F$6:$M$322,8,FALSE) -> #N/A
A59: =ROW()-6 -> 53 | B59: 경인청 | C59: 성남분당 | D59: 성남수내동 | I59: ○ | M59: 440 | N59: =SUM(J59:M59) -> 440 | P59: =VLOOKUP(D59,고객상담실현황!$F$6:$M$322,2,FALSE) -> 주사 | Q59: =VLOOKUP(D59,고객상담실현황!$F$6:$M$322,3,FALSE) -> 관내 | R59: =VLOOKUP(D59,고객상담실현황!$F$6:$M$322,4,FALSE) -> 2011 | S59: =VLOOKUP(D59,고객상담실현황!$F$6:$M$322,8,FALSE) -> 0
A60: =ROW()-6 -> 54 | B60: 경인청 | C60: 성남분당 | D60: 성남야탑동 | I60: ○ | M60: 440 | N60: =SUM(J60:M60) -> 440 | P60: =VLOOKUP(D60,고객상담실현황!$F$6:$M$322,2,FALSE) -> 주사 | Q60: =VLOOKUP(D60,고객상담실현황!$F$6:$M$322,3,FALSE) -> 관내 | R60: =VLOOKUP(D60,고객상담실현황!$F$6:$M$322,4,FALSE) -> 2011 | S60: =VLOOKUP(D60,고객상담실현황!$F$6:$M$322,8,FALSE) -> 0
A61: =ROW()-6 -> 55 | B61: 경인청 | C61: 성남분당 | D61: 성남운중동 | I61: ○ | M61: 660 | N61: =SUM(J61:M61) -> 660 | P61: =VLOOKUP(D61,고객상담실현황!$F$6:$M$322,2,FALSE) -> #N/A | Q61: =VLOOKUP(D61,고객상담실현황!$F$6:$M$322,3,FALSE) -> #N/A | R61: =VLOOKUP(D61,고객상담실현황!$F$6:$M$322,4,FALSE) -> #N/A | S61: =VLOOKUP(D61,고객상담실현황!$F$6:$M$322,8,FALSE) -> #N/A
A62: =ROW()-6 -> 56 | B62: 경인청 | C62: 성남분당 | D62: 성남정자동 | I62: ○ | M62: 440 | N62: =SUM(J62:M62) -> 440 | P62: =VLOOKUP(D62,고객상담실현황!$F$6:$M$322,2,FALSE) -> #N/A | Q62: =VLOOKUP(D62,고객상담실현황!$F$6:$M$322,3,FALSE) -> #N/A | R62: =VLOOKUP(D62,고객상담실현황!$F$6:$M$322,4,FALSE) -> #N/A | S62: =VLOOKUP(D62,고객상담실현황!$F$6:$M$322,8,FALSE) -> #N/A
A63: =ROW()-6 -> 57 | B63: 경인청 | C63: 시흥 | D63: 시흥 | I63: ○ | M63: 500 | N63: =SUM(J63:M63) -> 500 | P63: =VLOOKUP(D63,고객상담실현황!$F$6:$M$322,2,FALSE) -> 서기관 | Q63: =VLOOKUP(D63,고객상담실현황!$F$6:$M$322,3,FALSE) -> 0 | R63: =VLOOKUP(D63,고객상담실현황!$F$6:$M$322,4,FALSE) -> 2005 | S63: =VLOOKUP(D63,고객상담실현황!$F$6:$M$322,8,FALSE) -> 0
A64: =ROW()-6 -> 58 | B64: 경인청 | C64: 시흥 | D64: 시흥대야동 | G64: ○ | H64: ○ | K64: 10000 | L64: 3510 | N64: =SUM(J64:M64) -> 13510 | O64: 1 | P64: =VLOOKUP(D64,고객상담실현황!$F$6:$M$322,2,FALSE) -> #N/A | Q64: =VLOOKUP(D64,고객상담실현황!$F$6:$M$322,3,FALSE) -> #N/A | R64: =VLOOKUP(D64,고객상담실현황!$F$6:$M$322,4,FALSE) -> #N/A | S64: =VLOOKUP(D64,고객상담실현황!$F$6:$M$322,8,FALSE) -> #N/A
A65: =ROW()-6 -> 59 | B65: 경인청 | C65: 안양 | D65: 과천 | M65: 200 | N65: =SUM(J65:M65) -> 200 | P65: =VLOOKUP(D65,고객상담실현황!$F$6:$M$322,2,FALSE) -> 주사 | Q65: =VLOOKUP(D65,고객상담실현황!$F$6:$M$322,3,FALSE) -> 관내 | R65: =VLOOKUP(D65,고객상담실현황!$F$6:$M$322,4,FALSE) -> 2009 | S65: =VLOOKUP(D65,고객상담실현황!$F$6:$M$322,8,FALSE) -> 0
A66: =ROW()-6 -> 60 | B66: 경인청 | C66: 안양 | D66: 안양 | I66: ○ | M66: 700 | N66: =SUM(J66:M66) -> 700 | P66: =VLOOKUP(D66,고객상담실현황!$F$6:$M$322,2,FALSE) -> 서기관 | Q66: =VLOOKUP(D66,고객상담실현황!$F$6:$M$322,3,FALSE) -> 0 | R66: =VLOOKUP(D66,고객상담실현황!$F$6:$M$322,4,FALSE) -> 2005 | S66: =VLOOKUP(D66,고객상담실현황!$F$6:$M$322,8,FALSE) -> 0
A67: =ROW()-6 -> 61 | B67: 경인청 | C67: 안양 | D67: 안양4동 | G67: ○ | L67: 800 | N67: =SUM(J67:M67) -> 800 | P67: =VLOOKUP(D67,고객상담실현황!$F$6:$M$322,2,FALSE) -> #N/A | Q67: =VLOOKUP(D67,고객상담실현황!$F$6:$M$322,3,FALSE) -> #N/A | R67: =VLOOKUP(D67,고객상담실현황!$F$6:$M$322,4,FALSE) -> #N/A | S67: =VLOOKUP(D67,고객상담실현황!$F$6:$M$322,8,FALSE) -> #N/A
A68: =ROW()-6 -> 62 | B68: 경인청 | C68: 안양 | D68: 안양귀인동 | M68: 1480 | N68: =SUM(J68:M68) -> 1480 | P68: =VLOOKUP(D68,고객상담실현황!$F$6:$M$322,2,FALSE) -> #N/A | Q68: =VLOOKUP(D68,고객상담실현황!$F$6:$M$322,3,FALSE) -> #N/A | R68: =VLOOKUP(D68,고객상담실현황!$F$6:$M$322,4,FALSE) -> #N/A | S68: =VLOOKUP(D68,고객상담실현황!$F$6:$M$322,8,FALSE) -> #N/A
A69: =ROW()-6 -> 63 | B69: 경인청 | C69: 안양 | D69: 안양부림동 | G69: ○ | L69: 1330 | N69: =SUM(J69:M69) -> 1330 | P69: =VLOOKUP(D69,고객상담실현황!$F$6:$M$322,2,FALSE) -> #N/A | Q69: =VLOOKUP(D69,고객상담실현황!$F$6:$M$322,3,FALSE) -> #N/A | R69: =VLOOKUP(D69,고객상담실현황!$F$6:$M$322,4,FALSE) -> #N/A | S69: =VLOOKUP(D69,고객상담실현황!$F$6:$M$322,8,FALSE) -> #N/A
A70: =ROW()-6 -> 64 | B70: 경인청 | C70: 안양 | D70: 정부과천청사 | M70: 300 | N70: =SUM(J70:M70) -> 300 | P70: =VLOOKUP(D70,고객상담실현황!$F$6:$M$322,2,FALSE) -> #N/A | Q70: =VLOOKUP(D70,고객상담실현황!$F$6:$M$322,3,FALSE) -> #N/A | R70: =VLOOKUP(D70,고객상담실현황!$F$6:$M$322,4,FALSE) -> #N/A | S70: =VLOOKUP(D70,고객상담실현황!$F$6:$M$322,8,FALSE) -> #N/A
A71: =ROW()-6 -> 65 | B71: 경인청 | C71: 여주 | D71: 여주 | I71: ○ | M71: 500 | N71: =SUM(J71:M71) -> 500 | P71: =VLOOKUP(D71,고객상담실현황!$F$6:$M$322,2,FALSE) -> 서기관 | Q71: =VLOOKUP(D71,고객상담실현황!$F$6:$M$322,3,FALSE) -> 0 | R71: =VLOOKUP(D71,고객상담실현황!$F$6:$M$322,4,FALSE) -> 2007 | S71: =VLOOKUP(D71,고객상담실현황!$F$6:$M$322,8,FALSE) -> 0
A72: =ROW()-6 -> 66 | B72: 경인청 | C72: 용인 | D72: 용인 | I72: ○ | M72: 3150 | N72: =SUM(J72:M72) -> 3150 | P72: =VLOOKUP(D72,고객상담실현황!$F$6:$M$322,2,FALSE) -> 서기관 | Q72: =VLOOKUP(D72,고객상담실현황!$F$6:$M$322,3,FALSE) -> 0 | R72: =VLOOKUP(D72,고객상담실현황!$F$6:$M$322,4,FALSE) -> 2010 | S72: =VLOOKUP(D72,고객상담실현황!$F$6:$M$322,8,FALSE) -> 7900
A73: =ROW()-6 -> 67 | B73: 경인청 | C73: 인천계양 | D73: 인천효성동 | I73: ○ | M73: 150 | N73: =SUM(J73:M73) -> 150 | P73: =VLOOKUP(D73,고객상담실현황!$F$6:$M$322,2,FALSE) -> #N/A | Q73: =VLOOKUP(D73,고객상담실현황!$F$6:$M$322,3,FALSE) -> #N/A | R73: =VLOOKUP(D73,고객상담실현황!$F$6:$M$322,4,FALSE) -> #N/A | S73: =VLOOKUP(D73,고객상담실현황!$F$6:$M$322,8,FALSE) -> #N/A
A74: =ROW()-6 -> 68 | B74: 경인청 | C74: 인천남동 | D74: 인천간석동 | G74: ○ | I74: ○ | L74: 750 | M74: 150 | N74: =SUM(J74:M74) -> 900 | P74: =VLOOKUP(D74,고객상담실현황!$F$6:$M$322,2,FALSE) -> #N/A | Q74: =VLOOKUP(D74,고객상담실현황!$F$6:$M$322,3,FALSE) -> #N/A | R74: =VLOOKUP(D74,고객상담실현황!$F$6:$M$322,4,FALSE) -> #N/A | S74: =VLOOKUP(D74,고객상담실현황!$F$6:$M$322,8,FALSE) -> #N/A
A75: =ROW()-6 -> 69 | B75: 경인청 | C75: 인천남동 | D75: 인천구월동 | G75: ○ | I75: ○ | L75: 760 | M75: 150 | N75: =SUM(J75:M75) -> 910 | P75: =VLOOKUP(D75,고객상담실현황!$F$6:$M$322,2,FALSE) -> #N/A | Q75: =VLOOKUP(D75,고객상담실현황!$F$6:$M$322,3,FALSE) -> #N/A | R75: =VLOOKUP(D75,고객상담실현황!$F$6:$M$322,4,FALSE) -> #N/A | S75: =VLOOKUP(D75,고객상담실현황!$F$6:$M$322,8,FALSE) -> #N/A
A76: =ROW()-6 -> 70 | B76: 경인청 | C76: 인천남동 | D76: 인천남동 | G76: ○ | L76: 1470 | N76: =SUM(J76:M76) -> 1470 | O76: 3 | P76: =VLOOKUP(D76,고객상담실현황!$F$6:$M$322,2,FALSE) -> #N/A | Q76: =VLOOKUP(D76,고객상담실현황!$F$6:$M$322,3,FALSE) -> #N/A | R76: =VLOOKUP(D76,고객상담실현황!$F$6:$M$322,4,FALSE) -> #N/A | S76: =VLOOKUP(D76,고객상담실현황!$F$6:$M$322,8,FALSE) -> #N/A
A77: =ROW()-6 -> 71 | B77: 경인청 | C77: 인천남동 | D77: 인천남동공단 | I77: ○ | M77: 250 | N77: =SUM(J77:M77) -> 250 | P77: =VLOOKUP(D77,고객상담실현황!$F$6:$M$322,2,FALSE) -> #N/A | Q77: =VLOOKUP(D77,고객상담실현황!$F$6:$M$322,3,FALSE) -> #N/A | R77: =VLOOKUP(D77,고객상담실현황!$F$6:$M$322,4,FALSE) -> #N/A | S77: =VLOOKUP(D77,고객상담실현황!$F$6:$M$322,8,FALSE) -> #N/A
A78: =ROW()-6 -> 72 | B78: 경인청 | C78: 인천남동 | D78: 인천논현동 | I78: ○ | M78: 150 | N78: =SUM(J78:M78) -> 150 | P78: =VLOOKUP(D78,고객상담실현황!$F$6:$M$322,2,FALSE) -> #N/A | Q78: =VLOOKUP(D78,고객상담실현황!$F$6:$M$322,3,FALSE) -> #N/A | R78: =VLOOKUP(D78,고객상담실현황!$F$6:$M$322,4,FALSE) -> #N/A | S78: =VLOOKUP(D78,고객상담실현황!$F$6:$M$322,8,FALSE) -> #N/A
A79: =ROW()-6 -> 73 | B79: 경인청 | C79: 인천남동 | D79: 인천만수1동 | I79: ○ | M79: 150 | N79: =SUM(J79:M79) -> 150 | P79: =VLOOKUP(D79,고객상담실현황!$F$6:$M$322,2,FALSE) -> #N/A | Q79: =VLOOKUP(D79,고객상담실현황!$F$6:$M$322,3,FALSE) -> #N/A | R79: =VLOOKUP(D79,고객상담실현황!$F$6:$M$322,4,FALSE) -> #N/A | S79: =VLOOKUP(D79,고객상담실현황!$F$6:$M$322,8,FALSE) -> #N/A
A80: =ROW()-6 -> 74 | B80: 경인청 | C80: 인천남동 | D80: 인천만수6동 | I80: ○ | M80: 150 | N80: =SUM(J80:M80) -> 150 | P80: =VLOOKUP(D80,고객상담실현황!$F$6:$M$322,2,FALSE) -> #N/A | Q80: =VLOOKUP(D80,고객상담실현황!$F$6:$M$322,3,FALSE) -> #N/A | R80: =VLOOKUP(D80,고객상담실현황!$F$6:$M$322,4,FALSE) -> #N/A | S80: =VLOOKUP(D80,고객상담실현황!$F$6:$M$322,8,FALSE) -> #N/A
A81: =ROW()-6 -> 75 | B81: 경인청 | C81: 인천남동 | D81: 인천만수단지 | G81: ○ | I81: ○ | L81: 450 | M81: 150 | N81: =SUM(J81:M81) -> 600 | P81: =VLOOKUP(D81,고객상담실현황!$F$6:$M$322,2,FALSE) -> #N/A | Q81: =VLOOKUP(D81,고객상담실현황!$F$6:$M$322,3,FALSE) -> #N/A | R81: =VLOOKUP(D81,고객상담실현황!$F$6:$M$322,4,FALSE) -> #N/A | S81: =VLOOKUP(D81,고객상담실현황!$F$6:$M$322,8,FALSE) -> #N/A
A82: =ROW()-6 -> 76 | B82: 경인청 | C82: 인천남동 | D82: 인천한화지구 | I82: ○ | M82: 150 | N82: =SUM(J82:M82) -> 150 | P82: =VLOOKUP(D82,고객상담실현황!$F$6:$M$322,2,FALSE) -> #N/A | Q82: =VLOOKUP(D82,고객상담실현황!$F$6:$M$322,3,FALSE) -> #N/A | R82: =VLOOKUP(D82,고객상담실현황!$F$6:$M$322,4,FALSE) -> #N/A | S82: =VLOOKUP(D82,고객상담실현황!$F$6:$M$322,8,FALSE) -> #N/A
A83: =ROW()-6 -> 77 | B83: 경인청 | C83: 파주 | D83: 파주 | I83: ○ | M83: 240 | N83: =SUM(J83:M83) -> 240 | P83: =VLOOKUP(D83,고객상담실현황!$F$6:$M$322,2,FALSE) -> 서기관 | Q83: =VLOOKUP(D83,고객상담실현황!$F$6:$M$322,3,FALSE) -> 0 | R83: =VLOOKUP(D83,고객상담실현황!$F$6:$M$322,4,FALSE) -> 2008 | S83: =VLOOKUP(D83,고객상담실현황!$F$6:$M$322,8,FALSE) -> 6800
A84: =ROW()-6 -> 78 | B84: 경인청 | C84: 화성 | D84: 화성 | I84: ○ | M84: 1650 | N84: =SUM(J84:M84) -> 1650 | P84: =VLOOKUP(D84,고객상담실현황!$F$6:$M$322,2,FALSE) -> 서기관 | Q84: =VLOOKUP(D84,고객상담실현황!$F$6:$M$322,3,FALSE) -> 0 | R84: =VLOOKUP(D84,고객상담실현황!$F$6:$M$322,4,FALSE) -> 2009 | S84: =VLOOKUP(D84,고객상담실현황!$F$6:$M$322,8,FALSE) -> 0 | T84: =SUM(N25:N84) -> 71700
A85: =ROW()-6 -> 79 | B85: 부산청 | C85: 거제 | D85: 거제 | G85: ○ | L85: 1000 | N85: =SUM(J85:M85) -> 1000 | O85: 10 | P85: =VLOOKUP(D85,고객상담실현황!$F$6:$M$322,2,FALSE) -> 서기관 | Q85: =VLOOKUP(D85,고객상담실현황!$F$6:$M$322,3,FALSE) -> 0 | R85: =VLOOKUP(D85,고객상담실현황!$F$6:$M$322,4,FALSE) -> 2007 | S85: =VLOOKUP(D85,고객상담실현황!$F$6:$M$322,8,FALSE) -> 0
A86: =ROW()-6 -> 80 | B86: 부산청 | C86: 김해 | D86: 김해부원동 | G86: ○ | L86: 500 | N86: =SUM(J86:M86) -> 500 | O86: 9 | P86: =VLOOKUP(D86,고객상담실현황!$F$6:$M$322,2,FALSE) -> #N/A | Q86: =VLOOKUP(D86,고객상담실현황!$F$6:$M$322,3,FALSE) -> #N/A | R86: =VLOOKUP(D86,고객상담실현황!$F$6:$M$322,4,FALSE) -> #N/A | S86: =VLOOKUP(D86,고객상담실현황!$F$6:$M$322,8,FALSE) -> #N/A
A87: =ROW()-6 -> 81 | B87: 부산청 | C87: 김해 | D87: 김해삼계동 | E87: ○ | K87: 5000 | N87: =SUM(J87:M87) -> 5000 | O87: 5 | P87: =VLOOKUP(D87,고객상담실현황!$F$6:$M$322,2,FALSE) -> #N/A | Q87: =VLOOKUP(D87,고객상담실현황!$F$6:$M$322,3,FALSE) -> #N/A | R87: =VLOOKUP(D87,고객상담실현황!$F$6:$M$322,4,FALSE) -> #N/A | S87: =VLOOKUP(D87,고객상담실현황!$F$6:$M$322,8,FALSE) -> #N/A
A88: =ROW()-6 -> 82 | B88: 부산청 | C88: 김해 | D88: 김해삼방동 | E88: ○ | K88: 11000 | N88: =SUM(J88:M88) -> 11000 | O88: 3 | P88: =VLOOKUP(D88,고객상담실현황!$F$6:$M$322,2,FALSE) -> #N/A | Q88: =VLOOKUP(D88,고객상담실현황!$F$6:$M$322,3,FALSE) -> #N/A | R88: =VLOOKUP(D88,고객상담실현황!$F$6:$M$322,4,FALSE) -> #N/A | S88: =VLOOKUP(D88,고객상담실현황!$F$6:$M$322,8,FALSE) -> #N/A
A89: =ROW()-6 -> 83 | B89: 부산청 | C89: 부산 | D89: 부산 | G89: ○ | L89: 600 | N89: =SUM(J89:M89) -> 600 | O89: 6 | P89: =VLOOKUP(D89,고객상담실현황!$F$6:$M$322,2,FALSE) -> 서기관 | Q89: =VLOOKUP(D89,고객상담실현황!$F$6:$M$322,3,FALSE) -> 0 | R89: =VLOOKUP(D89,고객상담실현황!$F$6:$M$322,4,FALSE) -> 2006 | S89: =VLOOKUP(D89,고객상담실현황!$F$6:$M$322,8,FALSE) -> 0
A90: =ROW()-6 -> 84 | B90: 부산청 | C90: 부산금정 | D90: 부산금정 | G90: ○ | L90: 1000 | N90: =SUM(J90:M90) -> 1000 | O90: 7 | P90: =VLOOKUP(D90,고객상담실현황!$F$6:$M$322,2,FALSE) -> 서기관 | Q90: =VLOOKUP(D90,고객상담실현황!$F$6:$M$322,3,FALSE) -> 0 | R90: =VLOOKUP(D90,고객상담실현황!$F$6:$M$322,4,FALSE) -> 2007 | S90: =VLOOKUP(D90,고객상담실현황!$F$6:$M$322,8,FALSE) -> 10000
A91: =ROW()-6 -> 85 | B91: 부산청 | C91: 부산금정 | D91: 부산남산동 | E91: ○ | K91: 12000 | N91: =SUM(J91:M91) -> 12000 | O91: 4 | P91: =VLOOKUP(D91,고객상담실현황!$F$6:$M$322,2,FALSE) -> 주사 | Q91: =VLOOKUP(D91,고객상담실현황!$F$6:$M$322,3,FALSE) -> 관내 | R91: =VLOOKUP(D91,고객상담실현황!$F$6:$M$322,4,FALSE) -> 2011 | S91: =VLOOKUP(D91,고객상담실현황!$F$6:$M$322,8,FALSE) -> 0
A92: =ROW()-6 -> 86 | B92: 부산청 | C92: 부산금정 | D92: 부산장전동 | E92: ○ | K92: 45000 | N92: =SUM(J92:M92) -> 45000 | O92: 2 | P92: =VLOOKUP(D92,고객상담실현황!$F$6:$M$322,2,FALSE) -> #N/A | Q92: =VLOOKUP(D92,고객상담실현황!$F$6:$M$322,3,FALSE) -> #N/A | R92: =VLOOKUP(D92,고객상담실현황!$F$6:$M$322,4,FALSE) -> #N/A | S92: =VLOOKUP(D92,고객상담실현황!$F$6:$M$322,8,FALSE) -> #N/A
A93: =ROW()-6 -> 87 | B93: 부산청 | C93: 부산진 | D93: 부산진 | G93: ○ | L93: 1500 | N93: =SUM(J93:M93) -> 1500 | O93: 8 | P93: =VLOOKUP(D93,고객상담실현황!$F$6:$M$322,2,FALSE) -> 서기관 | Q93: =VLOOKUP(D93,고객상담실현황!$F$6:$M$322,3,FALSE) -> 0 | R93: =VLOOKUP(D93,고객상담실현황!$F$6:$M$322,4,FALSE) -> 2003 | S93: =VLOOKUP(D93,고객상담실현황!$F$6:$M$322,8,FALSE) -> 0
A94: =ROW()-6 -> 88 | B94: 부산청 | C94: 사천 | D94: 사천선구동 | E94: ○ | K94: 600 | N94: =SUM(J94:M94) -> 600 | O94: 1 | P94: =VLOOKUP(D94,고객상담실현황!$F$6:$M$322,2,FALSE) -> 주사 | Q94: =VLOOKUP(D94,고객상담실현황!$F$6:$M$322,3,FALSE) -> 관내 | R94: =VLOOKUP(D94,고객상담실현황!$F$6:$M$322,4,FALSE) -> 2010 | S94: =VLOOKUP(D94,고객상담실현황!$F$6:$M$322,8,FALSE) -> 0 | T94: =SUM(N85:N94) -> 78200
A95: =ROW()-6 -> 89 | B95: 충청청 | C95: 공주 | D95: 공주 등10국 | I95: ○ | M95: 3500 | N95: =SUM(J95:M95) -> 3500 | O95: 11 | P95: =VLOOKUP(D95,고객상담실현황!$F$6:$M$322,2,FALSE) -> #N/A | Q95: =VLOOKUP(D95,고객상담실현황!$F$6:$M$322,3,FALSE) -> #N/A | R95: =VLOOKUP(D95,고객상담실현황!$F$6:$M$322,4,FALSE) -> #N/A | S95: =VLOOKUP(D95,고객상담실현황!$F$6:$M$322,8,FALSE) -> #N/A
A96: =ROW()-6 -> 90 | B96: 충청청 | C96: 괴산 | D96: 증평 | G96: ○ | L96: 2000 | M96: 0 | N96: =SUM(J96:M96) -> 2000 | O96: 14 | P96: =VLOOKUP(D96,고객상담실현황!$F$6:$M$322,2,FALSE) -> #N/A | Q96: =VLOOKUP(D96,고객상담실현황!$F$6:$M$322,3,FALSE) -> #N/A | R96: =VLOOKUP(D96,고객상담실현황!$F$6:$M$322,4,FALSE) -> #N/A | S96: =VLOOKUP(D96,고객상담실현황!$F$6:$M$322,8,FALSE) -> #N/A
A97: =ROW()-6 -> 91 | B97: 충청청 | C97: 금산 | D97: 금산 | I97: ○ | M97: 500 | N97: =SUM(J97:M97) -> 500 | O97: 16 | P97: =VLOOKUP(D97,고객상담실현황!$F$6:$M$322,2,FALSE) -> 사무관 | Q97: =VLOOKUP(D97,고객상담실현황!$F$6:$M$322,3,FALSE) -> 0 | R97: =VLOOKUP(D97,고객상담실현황!$F$6:$M$322,4,FALSE) -> 2007 | S97: =VLOOKUP(D97,고객상담실현황!$F$6:$M$322,8,FALSE) -> 0
A98: =ROW()-6 -> 92 | B98: 충청청 | C98: 논산 | D98: 계룡금암동 | H98: ○ | I98: ○ | K98: 12000 | L98: 4600 | M98: 500 | N98: =SUM(J98:M98) -> 17100 | O98: 1 | P98: =VLOOKUP(D98,고객상담실현황!$F$6:$M$322,2,FALSE) -> #N/A | Q98: =VLOOKUP(D98,고객상담실현황!$F$6:$M$322,3,FALSE) -> #N/A | R98: =VLOOKUP(D98,고객상담실현황!$F$6:$M$322,4,FALSE) -> #N/A | S98: =VLOOKUP(D98,고객상담실현황!$F$6:$M$322,8,FALSE) -> #N/A
A99: =ROW()-6 -> 93 | B99: 충청청 | C99: 당진 | D99: 당진 | G99: ○ | L99: 1300 | M99: 0 | N99: =SUM(J99:M99) -> 1300 | O99: 15 | P99: =VLOOKUP(D99,고객상담실현황!$F$6:$M$322,2,FALSE) -> 사무관 | Q99: =VLOOKUP(D99,고객상담실현황!$F$6:$M$322,3,FALSE) -> 0 | R99: =VLOOKUP(D99,고객상담실현황!$F$6:$M$322,4,FALSE) -> 2007 | S99: =VLOOKUP(D99,고객상담실현황!$F$6:$M$322,8,FALSE) -> 0
A100: =ROW()-6 -> 94 | B100: 충청청 | C100: 대전 | D100: 대전 | G100: ○ | L100: 3000 | M100: 0 | N100: =SUM(J100:M100) -> 3000 | O100: 12 | P100: =VLOOKUP(D100,고객상담실현황!$F$6:$M$322,2,FALSE) -> 서기관 | Q100: =VLOOKUP(D100,고객상담실현황!$F$6:$M$322,3,FALSE) -> 0 | R100: =VLOOKUP(D100,고객상담실현황!$F$6:$M$322,4,FALSE) -> 2005 | S100: =VLOOKUP(D100,고객상담실현황!$F$6:$M$322,8,FALSE) -> 0
A101: =ROW()-6 -> 95 | B101: 충청청 | C101: 대전대덕 | D101: 대전대덕 | E101: ○ | K101: 8000 | M101: 0 | N101: =SUM(J101:M101) -> 8000 | O101: 5 | P101: =VLOOKUP(D101,고객상담실현황!$F$6:$M$322,2,FALSE) -> 서기관 | Q101: =VLOOKUP(D101,고객상담실현황!$F$6:$M$322,3,FALSE) -> 0 | R101: =VLOOKUP(D101,고객상담실현황!$F$6:$M$322,4,FALSE) -> 2006 | S101: =VLOOKUP(D101,고객상담실현황!$F$6:$M$322,8,FALSE) -> 0
A102: =ROW()-6 -> 96 | B102: 충청청 | C102: 대전둔산 | D102: 대전변동 등 2국 | E102: ○ | K102: 14000 | M102: 0 | N102: =SUM(J102:M102) -> 14000 | O102: 4 | P102: =VLOOKUP(D102,고객상담실현황!$F$6:$M$322,2,FALSE) -> #N/A | Q102: =VLOOKUP(D102,고객상담실현황!$F$6:$M$322,3,FALSE) -> #N/A | R102: =VLOOKUP(D102,고객상담실현황!$F$6:$M$322,4,FALSE) -> #N/A | S102: =VLOOKUP(D102,고객상담실현황!$F$6:$M$322,8,FALSE) -> #N/A
A103: =ROW()-6 -> 97 | B103: 충청청 | C103: 동천안 | D103: 동천안 등 8국 | G103: ○ | L103: 6000 | M103: 1000 | N103: =SUM(J103:M103) -> 7000 | O103: 6 | P103: =VLOOKUP(D103,고객상담실현황!$F$6:$M$322,2,FALSE) -> #N/A | Q103: =VLOOKUP(D103,고객상담실현황!$F$6:$M$322,3,FALSE) -> #N/A | R103: =VLOOKUP(D103,고객상담실현황!$F$6:$M$322,4,FALSE) -> #N/A | S103: =VLOOKUP(D103,고객상담실현황!$F$6:$M$322,8,FALSE) -> #N/A
...

Sheet 고객상담실현황
B2: ◈ 금융고객상담실 설치 현황
B3: ★ 4급국 122국, 5급국 110국 | J3: * 2012년도는 대학구내우체국 위주로 개선
A4: 순번 | B4: 청명 | C4: 총괄국 | E4: 해당국 | G4: 관서급 | H4: 총괄국여부 | I4: 설치년도 | J4: 2013년(천원) | N4: 2014년(천원) | Q4: 2015년(천원) | T4: 2016년(천원)
C5: 국기호 | D5: 국명 | E5: 국기호 | F5: 국명 | J5: 신규 | K5: 이전설치 | L5: 환경개선 비품구입 | M5: 합계 | N5: 신규 | O5: 이전설치 | P5: 환경개선 비품구입 | Q5: 신규 | R5: 이전설치 | S5: 환경개선 비품구입 | T5: 신규 | U5: 이전설치 | V5: 환경개선 비품구입
A6: 1 | B6: 서울청 | C6: 010017 | D6: 서울중앙 | E6: 010017 | F6: 서울중앙 | G6: 서기관 | I6: 2007 | M6: =J6+K6+L6 -> 0
A7: 2 | B7: 서울청 | C7: 010025 | D7: 서울용산 | E7: 010025 | F7: 서울용산 | G7: 서기관 | I7: 2006 | M7: =J7+K7+L7 -> 0
A8: 3 | B8: 서울청 | C8: 010025 | D8: 서울용산 | E8: 012211 | F8: 서울이촌동 | G8: 주사 | H8: 관내 | I8: 2011 | M8: =J8+K8+L8 -> 0
A9: 4 | B9: 서울청 | C9: 010041 | D9: 광화문 | E9: 010041 | F9: 광화문 | G9: 서기관 | I9: 2004 | M9: =J9+K9+L9 -> 0
A10: 5 | B10: 서울청 | C10: 010751 | D10: 서울도봉 | E10: 010751 | F10: 서울도봉 | G10: 서기관 | I10: 2013 | M10: =J10+K10+L10 -> 0
A11: 7 | B11: 서울청 | C11: 010751 | D11: 서울도봉 | E11: 012237 | F11: 서울강북 | G11: 사무관 | H11: 관내 | I11: 2005 | M11: =J11+K11+L11 -> 0
A12: 6 | B12: 서울청 | C12: 011809 | D12: 동대문 | E12: 011809 | F12: 동대문 | G12: 서기관 | I12: 2005 | M12: =J12+K12+L12 -> 0
A13: 8 | B13: 서울청 | C13: 012245 | D13: 서울마포 | E13: 012245 | F13: 서울마포 | G13: 서기관 | I13: 2006 | M13: =J13+K13+L13 -> 0
A14: 9 | B14: 서울청 | C14: 012401 | D14: 서울관악 | E14: 012401 | F14: 서울관악 | G14: 서기관 | I14: 2006 | M14: =J14+K14+L14 -> 0
A15: 11 | B15: 서울청 | C15: 012435 | D15: 서울광진 | E15: 011056 | F15: 서울성동 | G15: 사무관 | H15: 관내 | I15: 2008 | L15: 500 | M15: =J15+K15+L15 -> 500
A16: 10 | B16: 서울청 | C16: 012435 | D16: 서울광진 | E16: 012435 | F16: 서울광진 | G16: 서기관 | I16: 2006 | M16: =J16+K16+L16 -> 0
A17: 12 | B17: 서울청 | C17: 012435 | D17: 서울광진 | E17: 013995 | F17: 서울자양동 | G17: 주사 | H17: 관내 | I17: 2011 | L17: 6500 | M17: =J17+K17+L17 -> 6500
A18: 13 | B18: 서울청 | C18: 012468 | D18: 서울은평 | E18: 012468 | F18: 서울은평 | G18: 서기관 | I18: 2006 | M18: =J18+K18+L18 -> 0
A19: 15 | B19: 서울청 | C19: 012591 | D19: 여의도 | E19: 010108 | F19: 영등포 | G19: 사무관 | H19: 관내 | I19: 2008 | M19: =J19+K19+L19 -> 0
A20: 14 | B20: 서울청 | C20: 012591 | D20: 여의도 | E20: 012591 | F20: 여의도 | G20: 서기관 | I20: 2006 | M20: =J20+K20+L20 -> 0
A21: 17 | B21: 서울청 | C21: 012591 | D21: 여의도 | E21: 013193 | F21: 서울대림동 | G21: 주사 | H21: 관내 | I21: 2010 | M21: =J21+K21+L21 -> 0
A22: 16 | B22: 서울청 | C22: 012591 | D22: 여의도 | E22: 013771 | F22: 서울당산동 | G22: 주사 | H22: 관내 | I22: 2010 | M22: =J22+K22+L22 -> 0
A23: 20 | B23: 서울청 | C23: 013086 | D23: 서울강남 | E23: 012765 | F23: 서울무역센터 | G23: 사무관 | H23: 관내 | I23: 2010 | M23: =J23+K23+L23 -> 0
A24: 18 | B24: 서울청 | C24: 013086 | D24: 서울강남 | E24: 013086 | F24: 서울강남 | G24: 서기관 | I24: 2004 | M24: =J24+K24+L24 -> 0
A25: 19 | B25: 서울청 | C25: 013086 | D25: 서울강남 | E25: 014506 | F25: 서울영동 | G25: 사무관 | H25: 관내 | I25: 2007 | L25: 1500 | M25: =J25+K25+L25 -> 1500
A26: 21 | B26: 서울청 | C26: 013094 | D26: 서울중랑 | E26: 013094 | F26: 서울중랑 | G26: 서기관 | I26: 2005 | M26: =J26+K26+L26 -> 0
A27: 22 | B27: 서울청 | C27: 013102 | D27: 서울강동 | E27: 013102 | F27: 서울강동 | G27: 서기관 | I27: 2006 | L27: 5100 | M27: =J27+K27+L27 -> 5100
A28: 23 | B28: 서울청 | C28: 013276 | D28: 서울금천 | E28: 013276 | F28: 서울금천 | G28: 서기관 | I28: 2010 | M28: =J28+K28+L28 -> 0
A29: 24 | B29: 서울청 | C29: 013342 | D29: 서울노원 | E29: 013342 | F29: 서울노원 | G29: 서기관 | I29: 2006 | L29: 22000 | M29: =J29+K29+L29 -> 22000
A30: 25 | B30: 서울청 | C30: 013342 | D30: 서울노원 | E30: 013979 | F30: 서울상계10동 | G30: 주사 | H30: 관내 | I30: 2008 | M30: =J30+K30+L30 -> 0
A31: 26 | B31: 서울청 | C31: 013474 | D31: 서울성북 | E31: 013474 | F31: 서울성북 | G31: 서기관 | I31: 2007 | K31: 29700 | M31: =J31+K31+L31 -> 29700
A32: 27 | B32: 서울청 | C32: 013748 | D32: 서울양천 | E32: 013748 | F32: 서울양천 | G32: 서기관 | I32: 2007 | M32: =J32+K32+L32 -> 0
A33: 29 | B33: 서울청 | C33: 013912 | D33: 서울동작 | E33: 012351 | F33: 서울사당동 | G33: 주사 | H33: 관내 | I33: 2010 | M33: =J33+K33+L33 -> 0
A34: 28 | B34: 서울청 | C34: 013912 | D34: 서울동작 | E34: 013912 | F34: 서울동작 | G34: 서기관 | I34: 2005 | M34: =J34+K34+L34 -> 0
A35: 31 | B35: 서울청 | C35: 013920 | D35: 서대문 | E35: 010033 | F35: 서울충정로 | G35: 사무관 | H35: 관내 | I35: 2008 | M35: =J35+K35+L35 -> 0
A36: 30 | B36: 서울청 | C36: 013920 | D36: 서대문 | E36: 013920 | F36: 서대문 | G36: 서기관 | I36: 2006 | M36: =J36+K36+L36 -> 0
A37: 33 | B37: 서울청 | C37: 014167 | D37: 서울서초 | E37: 013755 | F37: 서울서초1동 | G37: 주사 | H37: 관내 | I37: 2010 | M37: =J37+K37+L37 -> 0
A38: 32 | B38: 서울청 | C38: 014167 | D38: 서울서초 | E38: 014167 | F38: 서울서초 | G38: 서기관 | I38: 2000 | M38: =J38+K38+L38 -> 0
A39: 36 | B39: 서울청 | C39: 014241 | D39: 서울송파 | E39: 012864 | F39: 서울잠실3동 | G39: 주사 | H39: 관내 | I39: 2011 | M39: =J39+K39+L39 -> 0
A40: 35 | B40: 서울청 | C40: 014241 | D40: 서울송파 | E40: 013003 | F40: 서울마천동 | G40: 주사 | H40: 관내 | I40: 2008 | M40: =J40+K40+L40 -> 0
A41: 34 | B41: 서울청 | C41: 014241 | D41: 서울송파 | E41: 014241 | F41: 서울송파 | G41: 서기관 | I41: 2006 | M41: =J41+K41+L41 -> 0
A42: 38 | B42: 서울청 | C42: 014381 | D42: 서울강서 | E42: 012146 | F42: 화곡 | G42: 주사 | H42: 관내 | I42: 2011 | M42: =J42+K42+L42 -> 0
A43: 37 | B43: 서울청 | C43: 014381 | D43: 서울강서 | E43: 014381 | F43: 서울강서 | G43: 서기관 | I43: 2005 | M43: =J43+K43+L43 -> 0
A44: 39 | B44: 경인청 | C44: 100057 | D44: 평택 | E44: 100057 | F44: 평택 | G44: 서기관 | I44: 2002 | M44: =J44+K44+L44 -> 0
A45: 40 | B45: 경인청 | C45: 100073 | D45: 인천 | E45: 100073 | F45: 인천 | G45: 서기관 | I45: 2003 | M45: =J45+K45+L45 -> 0
A46: 41 | B46: 경인청 | C46: 100073 | D46: 인천 | E46: 103531 | F46: 인천송림동 | G46: 주사 | H46: 관내 | I46: 2010 | M46: =J46+K46+L46 -> 0
A47: 42 | B47: 경인청 | C47: 100115 | D47: 부평 | E47: 100115 | F47: 부평 | G47: 서기관 | I47: 2012 | M47: =J47+K47+L47 -> 0
A48: 43 | B48: 경인청 | C48: 100131 | D48: 오산 | E48: 100131 | F48: 오산 | G48: 사무관 | I48: 2007 | M48: =J48+K48+L48 -> 0
A49: 44 | B49: 경인청 | C49: 100164 | D49: 안성 | E49: 100164 | F49: 안성 | G49: 서기관 | I49: 2007 | M49: =J49+K49+L49 -> 0
A50: 45 | B50: 경인청 | C50: 100354 | D50: 가평 | E50: 100354 | F50: 가평 | G50: 사무관 | I50: 2007 | M50: =J50+K50+L50 -> 0
A51: 46 | B51: 경인청 | C51: 100362 | D51: 파주 | E51: 100362 | F51: 파주 | G51: 서기관 | I51: 2008 | L51: 6800 | M51: =J51+K51+L51 -> 6800
A52: 47 | B52: 경인청 | C52: 100479 | D52: 강화 | E52: 100479 | F52: 강화 | G52: 사무관 | I52: 2007 | M52: =J52+K52+L52 -> 0
A53: 48 | B53: 경인청 | C53: 100487 | D53: 양평 | E53: 100487 | F53: 양평 | G53: 사무관 | I53: 규모적음 | M53: =J53+K53+L53 -> 0
A54: 50 | B54: 경인청 | C54: 100495 | D54: 경기광주 | E54: 100495 | F54: 경기광주 | G54: 서기관 | I54: 2012 | M54: =J54+K54+L54 -> 0
A55: 51 | B55: 경인청 | C55: 100503 | D55: 여주 | E55: 100503 | F55: 여주 | G55: 서기관 | I55: 2007 | M55: =J55+K55+L55 -> 0
A56: 52 | B56: 경인청 | C56: 100529 | D56: 김포 | E56: 100529 | F56: 김포 | G56: 서기관 | I56: 2006 | M56: =J56+K56+L56 -> 0
A57: 53 | B57: 경인청 | C57: 100552 | D57: 포천 | E57: 100552 | F57: 포천 | G57: 사무관 | I57: 2007 | M57: =J57+K57+L57 -> 0
A58: 54 | B58: 경인청 | C58: 100636 | D58: 이천 | E58: 100636 | F58: 이천 | G58: 서기관 | I58: 2002 | M58: =J58+K58+L58 -> 0
A59: 55 | B59: 경인청 | C59: 100735 | D59: 의정부 | E59: 100735 | F59: 의정부 | G59: 서기관 | I59: 2006 | M59: =J59+K59+L59 -> 0
A60: 56 | B60: 경인청 | C60: 100735 | D60: 의정부 | E60: 103861 | F60: 의정부가능동 | G60: 주사 | H60: 관내 | I60: 2008 | M60: =J60+K60+L60 -> 0
A61: 57 | B61: 경인청 | C61: 100750 | D61: 용인 | E61: 100750 | F61: 용인 | G61: 서기관 | I61: 2010 | J61: 7900 | M61: =J61+K61+L61 -> 7900
A62: 58 | B62: 경인청 | C62: 100834 | D62: 동두천 | E62: 100834 | F62: 동두천 | G62: 사무관 | I62: 2007 | K62: 20700 | M62: =J62+K62+L62 -> 20700
A63: 59 | B63: 경인청 | C63: 100941 | D63: 수원 | E63: 100941 | F63: 수원 | G63: 서기관 | I63: 2007 | M63: =J63+K63+L63 -> 0
A64: 60 | B64: 경인청 | C64: 101261 | D64: 하남 | E64: 101261 | F64: 하남 | G64: 사무관 | I64: 2008 | M64: =J64+K64+L64 -> 0
A65: 61 | B65: 경인청 | C65: 101642 | D65: 연천 | E65: 101642 | F65: 연천 | G65: 사무관 | I65: 2007 | M65: =J65+K65+L65 -> 0
A66: 62 | B66: 경인청 | C66: 101816 | D66: 백령 | E66: 101816 | F66: 백령 | G66: 사무관 | I66: 2008 | M66: =J66+K66+L66 -> 0
A67: 63 | B67: 경인청 | C67: 102087 | D67: 시흥 | E67: 102087 | F67: 시흥 | G67: 서기관 | I67: 2005 | M67: =J67+K67+L67 -> 0
A68: 64 | B68: 경인청 | C68: 102152 | D68: 구리 | E68: 102152 | F68: 구리 | G68: 사무관 | I68: 2007 | M68: =J68+K68+L68 -> 0
A69: 65 | B69: 경인청 | C69: 102335 | D69: 성남 | E69: 102335 | F69: 성남 | G69: 서기관 | I69: 2005 | M69: =J69+K69+L69 -> 0
A70: 66 | B70: 경인청 | C70: 103432 | D70: 광명 | E70: 103432 | F70: 광명 | G70: 서기관 | I70: 2005 | M70: =J70+K70+L70 -> 0
A71: 67 | B71: 경인청 | C71: 103556 | D71: 남인천 | E71: 103556 | F71: 남인천 | G71: 서기관 | I71: 2005 | M71: =J71+K71+L71 -> 0
A72: 68 | B72: 경인청 | C72: 103937 | D72: 안산 | E72: 103937 | F72: 안산 | G72: 서기관 | I72: 2006 | M72: =J72+K72+L72 -> 0
A73: 87 | B73: 경인청 | C73: 103960 | D73: 서수원 | E73: 103960 | F73: 서수원 | G73: 서기관 | I73: 2014
A74: 69 | B74: 경인청 | C74: 104604 | D74: 동수원 | E74: 104604 | F74: 동수원 | G74: 서기관 | I74: 2007 | M74: =J74+K74+L74 -> 0
A75: 70 | B75: 경인청 | C75: 104729 | D75: 군포 | E75: 104729 | F75: 군포 | G75: 서기관 | I75: 2004 | M75: =J75+K75+L75 -> 0
A76: 73 | B76: 경인청 | C76: 104851 | D76: 안양 | E76: 100313 | F76: 과천 | G76: 주사 | H76: 관내 | I76: 2009 | M76: =J76+K76+L76 -> 0
A77: 72 | B77: 경인청 | C77: 104851 | D77: 안양 | E77: 100347 | F77: 서안양 | G77: 주사 | H77: 관내 | I77: 2008 | L77: 700 | M77: =J77+K77+L77 -> 700
A78: 71 | B78: 경인청 | C78: 104851 | D78: 안양 | E78: 104851 | F78: 안양 | G78: 서기관 | I78: 2005 | M78: =J78+K78+L78 -> 0
A79: 75 | B79: 경인청 | C79: 104869 | D79: 성남분당 | E79: 104414 | F79: 성남서현1동 | G79: 주사 | H79: 관내 | I79: 2010 | M79: =J79+K79+L79 -> 0
A80: 78 | B80: 경인청 | C80: 104869 | D80: 성남분당 | E80: 104471 | F80: 성남수내동 | G80: 주사 | H80: 관내 | I80: 2011 | M80: =J80+K80+L80 -> 0
A81: 76 | B81: 경인청 | C81: 104869 | D81: 성남분당 | E81: 104620 | F81: 성남야탑동 | G81: 주사 | H81: 관내 | I81: 2011 | M81: =J81+K81+L81 -> 0
A82: 77 | B82: 경인청 | C82: 104869 | D82: 성남분당 | E82: 104844 | F82: 성남구미동 | G82: 사무관 | H82: 관내 | I82: 2011 | M82: =J82+K82+L82 -> 0
A83: 74 | B83: 경인청 | C83: 104869 | D83: 성남분당 | E83: 104869 | F83: 성남분당 | G83: 서기관 | I83: 2006 | M83: =J83+K83+L83 -> 0
A84: 79 | B84: 경인청 | C84: 104877 | D84: 고양일산 | E84: 104877 | F84: 고양일산 | G84: 서기관 | I84: 2006 | M84: =J84+K84+L84 -> 0
A85: 80 | B85: 경인청 | C85: 104885 | D85: 서인천 | E85: 104885 | F85: 서인천 | G85: 서기관 | I85: 2005 | M85: =J85+K85+L85 -> 0
A86: 81 | B86: 경인청 | C86: 104976 | D86: 부천 | E86: 104976 | F86: 부천 | G86: 서기관 | I86: 2006 | M86: =J86+K86+L86 -> 0
A87: 82 | B87: 경인청 | C87: 104984 | D87: 고양덕양 | E87: 104984 | F87: 고양덕양 | G87: 서기관 | I87: 2004 | M87: =J87+K87+L87 -> 0
A88: 83 | B88: 경인청 | C88: 107110 | D88: 인천계양 | E88: 107110 | F88: 인천계양 | G88: 서기관 | I88: 2006 | M88: =J88+K88+L88 -> 0
A89: 84 | B89: 경인청 | C89: 107250 | D89: 용인수지 | E89: 107250 | F89: 용인수지 | G89: 서기관 | I89: 2004 | M89: =J89+K89+L89 -> 0
A90: 85 | B90: 경인청 | C90: 107458 | D90: 남양주 | E90: 107458 | F90: 남양주 | G90: 서기관 | I90: 2008 | L90: 6200 | M90: =J90+K90+L90 -> 6200
A91: 86 | B91: 경인청 | C91: 107482 | D91: 화성 | E91: 107482 | F91: 화성 | G91: 서기관 | I91: 2009 | M91: =J91+K91+L91 -> 0
A92: 49 | B92: 경인청 | C92: 100487 | D92: 양평 | E92: 101741 | F92: 경기용문 | G92: 주사 | H92: 관내 | I92: 2013 | J92: 4200 | M92: =J92+K92+L92 -> 4200
A93: 88 | B93: 부산청 | C93: 600015 | D93: 부산 | E93: 600015 | F93: 부산 | G93: 서기관 | I93: 2006 | M93: =J93+K93+L93 -> 0
A94: 90 | B94: 부산청 | C94: 600015 | D94: 부산 | E94: 600056 | F94: 부산보수동 | G94: 주사 | H94: 관내 | I94: 2010 | M94: =J94+K94+L94 -> 0
A95: 89 | B95: 부산청 | C95: 600015 | D95: 부산 | E95: 600155 | F95: 부산창선동 | G95: 주사 | H95: 관내 | I95: 2009 | M95: =J95+K95+L95 -> 0
A96: 91 | B96: 부산청 | C96: 600023 | D96: 동래 | E96: 600023 | F96: 동래 | G96: 서기관 | I96: 2007 | L96: 10200 | M96: =J96+K96+L96 -> 10200
A97: 92 | B97: 부산청 | C97: 600098 | D97: 부산영도 | E97: 600098 | F97: 부산영도 | G97: 서기관 | I97: 2003 | M97: =J97+K97+L97 -> 0
A98: 93 | B98: 부산청 | C98: 600130 | D98: 해운대 | E98: 600130 | F98: 해운대 | G98: 서기관 | I98: 2006 | M98: =J98+K98+L98 -> 0
A99: 94 | B99: 부산청 | C99: 600130 | D99: 해운대 | E99: 601526 | F99: 부산우1동 | G99: 주사 | H99: 관내 | I99: 2008 | M99: =J99+K99+L99 -> 0
A100: 95 | B100: 부산청 | C100: 600148 | D100: 부산진 | E100: 600148 | F100: 부산진 | G100: 서기관 | I100: 2003 | M100: =J100+K100+L100 -> 0
A101: 98 | B101: 부산청 | C101: 600148 | D101: 부산진 | E101: 600403 | F101: 부산당감동 | G101: 주사 | H101: 관내 | I101: 2009
...

Sheet 총괄
B2: 2015년도 금융고객상담실 등 창구노후분야 개선 및 신규설치 대상관서(총괄)
N4: (단위 : 천원)
A5: 순번 | B5: 청 명 | C5: 총괄국명 | D5: 해당국명 | E5: 구분 | J5: 총 소요예산 | O5: 우선순위 | P5: 관서급 | Q5: 총괄국여부 | R5: 설치 년도 | S5: 2013년지원 여부
E6: 환경개선 | F6: 이전설치 | G6: 비품구입/교체 | H6: 신규설치 | I6: BI변경 | J6: 설계비(A) | K6: 시설비(B) | L6: 자산취득비(C) | M6: 시설비(BI관련) | N6: 계{(A)+(B)+(C)}
A7: =ROW()-6 -> 1 | B7: 서울청 | C7: 광화문 | D7: 광화문 | G7: ○ | L7: 1200 | N7: =SUM(J7:M7) -> 1200 | P7: =VLOOKUP(D7,고객상담실현황!$F$6:$M$322,2,FALSE) -> 서기관 | Q7: =VLOOKUP(D7,고객상담실현황!$F$6:$M$322,3,FALSE) -> 0 | R7: =VLOOKUP(D7,고객상담실현황!$F$6:$M$322,4,FALSE) -> 2004 | S7: =VLOOKUP(D7,고객상담실현황!$F$6:$M$322,8,FALSE) -> 0
A8: =ROW()-6 -> 2 | B8: 서울청 | C8: 동대문 | D8: 동대문 | G8: ○ | L8: 400 | N8: =SUM(J8:M8) -> 400 | P8: =VLOOKUP(D8,고객상담실현황!$F$6:$M$322,2,FALSE) -> 서기관 | Q8: =VLOOKUP(D8,고객상담실현황!$F$6:$M$322,3,FALSE) -> 0 | R8: =VLOOKUP(D8,고객상담실현황!$F$6:$M$322,4,FALSE) -> 2005 | S8: =VLOOKUP(D8,고객상담실현황!$F$6:$M$322,8,FALSE) -> 0
A9: =ROW()-6 -> 3 | B9: 서울청 | C9: 서울강동 | D9: 서울강동 | G9: ○ | L9: 910 | N9: =SUM(J9:M9) -> 910 | P9: =VLOOKUP(D9,고객상담실현황!$F$6:$M$322,2,FALSE) -> 서기관 | Q9: =VLOOKUP(D9,고객상담실현황!$F$6:$M$322,3,FALSE) -> 0 | R9: =VLOOKUP(D9,고객상담실현황!$F$6:$M$322,4,FALSE) -> 2006 | S9: =VLOOKUP(D9,고객상담실현황!$F$6:$M$322,8,FALSE) -> 5100
A10: =ROW()-6 -> 4 | B10: 서울청 | C10: 서울강서 | D10: 서울강서 | G10: ○ | L10: 2000 | N10: =SUM(J10:M10) -> 2000 | P10: =VLOOKUP(D10,고객상담실현황!$F$6:$M$322,2,FALSE) -> 서기관 | Q10: =VLOOKUP(D10,고객상담실현황!$F$6:$M$322,3,FALSE) -> 0 | R10: =VLOOKUP(D10,고객상담실현황!$F$6:$M$322,4,FALSE) -> 2005 | S10: =VLOOKUP(D10,고객상담실현황!$F$6:$M$322,8,FALSE) -> 0
A11: =ROW()-6 -> 5 | B11: 서울청 | C11: 서울광진 | D11: 성동 | G11: ○ | L11: 2900 | N11: =SUM(J11:M11) -> 2900 | P11: =VLOOKUP(D11,고객상담실현황!$F$6:$M$322,2,FALSE) -> #N/A | Q11: =VLOOKUP(D11,고객상담실현황!$F$6:$M$322,3,FALSE) -> #N/A | R11: =VLOOKUP(D11,고객상담실현황!$F$6:$M$322,4,FALSE) -> #N/A | S11: =VLOOKUP(D11,고객상담실현황!$F$6:$M$322,8,FALSE) -> #N/A
A12: =ROW()-6 -> 6 | B12: 서울청 | C12: 서울광진 | D12: 중곡동 | G12: ○ | L12: 2000 | N12: =SUM(J12:M12) -> 2000 | P12: =VLOOKUP(D12,고객상담실현황!$F$6:$M$322,2,FALSE) -> #N/A | Q12: =VLOOKUP(D12,고객상담실현황!$F$6:$M$322,3,FALSE) -> #N/A | R12: =VLOOKUP(D12,고객상담실현황!$F$6:$M$322,4,FALSE) -> #N/A | S12: =VLOOKUP(D12,고객상담실현황!$F$6:$M$322,8,FALSE) -> #N/A
A13: =ROW()-6 -> 7 | B13: 서울청 | C13: 서울도봉 | D13: 서울강북 | G13: ○ | L13: 5802 | N13: =SUM(J13:M13) -> 5802 | P13: =VLOOKUP(D13,고객상담실현황!$F$6:$M$322,2,FALSE) -> 사무관 | Q13: =VLOOKUP(D13,고객상담실현황!$F$6:$M$322,3,FALSE) -> 관내 | R13: =VLOOKUP(D13,고객상담실현황!$F$6:$M$322,4,FALSE) -> 2005 | S13: =VLOOKUP(D13,고객상담실현황!$F$6:$M$322,8,FALSE) -> 0
A14: =ROW()-6 -> 8 | B14: 서울청 | C14: 서울도봉 | D14: 서울번2동 | G14: ○ | L14: 312 | N14: =SUM(J14:M14) -> 312 | P14: =VLOOKUP(D14,고객상담실현황!$F$6:$M$322,2,FALSE) -> #N/A | Q14: =VLOOKUP(D14,고객상담실현황!$F$6:$M$322,3,FALSE) -> #N/A | R14: =VLOOKUP(D14,고객상담실현황!$F$6:$M$322,4,FALSE) -> #N/A | S14: =VLOOKUP(D14,고객상담실현황!$F$6:$M$322,8,FALSE) -> #N/A
A15: =ROW()-6 -> 9 | B15: 서울청 | C15: 서울도봉 | D15: 서울수유3동 | G15: ○ | L15: 3381 | N15: =SUM(J15:M15) -> 3381 | P15: =VLOOKUP(D15,고객상담실현황!$F$6:$M$322,2,FALSE) -> #N/A | Q15: =VLOOKUP(D15,고객상담실현황!$F$6:$M$322,3,FALSE) -> #N/A | R15: =VLOOKUP(D15,고객상담실현황!$F$6:$M$322,4,FALSE) -> #N/A | S15: =VLOOKUP(D15,고객상담실현황!$F$6:$M$322,8,FALSE) -> #N/A
A16: =ROW()-6 -> 10 | B16: 서울청 | C16: 서울송파 | D16: 서울송파 | G16: ○ | L16: 7938 | N16: =SUM(J16:M16) -> 7938 | P16: =VLOOKUP(D16,고객상담실현황!$F$6:$M$322,2,FALSE) -> 서기관 | Q16: =VLOOKUP(D16,고객상담실현황!$F$6:$M$322,3,FALSE) -> 0 | R16: =VLOOKUP(D16,고객상담실현황!$F$6:$M$322,4,FALSE) -> 2006 | S16: =VLOOKUP(D16,고객상담실현황!$F$6:$M$322,8,FALSE) -> 0
A17: =ROW()-6 -> 11 | B17: 서울청 | C17: 서울양천 | D17: 서울양천 | G17: ○ | L17: 2350 | N17: =SUM(J17:M17) -> 2350 | P17: =VLOOKUP(D17,고객상담실현황!$F$6:$M$322,2,FALSE) -> 서기관 | Q17: =VLOOKUP(D17,고객상담실현황!$F$6:$M$322,3,FALSE) -> 0 | R17: =VLOOKUP(D17,고객상담실현황!$F$6:$M$322,4,FALSE) -> 2007 | S17: =VLOOKUP(D17,고객상담실현황!$F$6:$M$322,8,FALSE) -> 0
A18: =ROW()-6 -> 12 | B18: 서울청 | C18: 서울용산 | D18: 서울용문동 | G18: ○ | L18: 2035 | N18: =SUM(J18:M18) -> 2035 | P18: =VLOOKUP(D18,고객상담실현황!$F$6:$M$322,2,FALSE) -> #N/A | Q18: =VLOOKUP(D18,고객상담실현황!$F$6:$M$322,3,FALSE) -> #N/A | R18: =VLOOKUP(D18,고객상담실현황!$F$6:$M$322,4,FALSE) -> #N/A | S18: =VLOOKUP(D18,고객상담실현황!$F$6:$M$322,8,FALSE) -> #N/A
... A20: =ROW()-6 -> 14 | B20: 서울청 | C20: 서울중랑 | D20: 서울중랑 | G20: ○ | L20: 500 | N20: =SUM(J20:M20) -> 500 | P20: =VLOOKUP(D20,고객상담실현황!$F$6:$M$322,2,FALSE) -> 서기관 | Q20: =VLOOKUP(D20,고객상담실현황!$F$6:$M$322,3,FALSE) -> 0 | R20: =VLOOKUP(D20,고객상담실현황!$F$6:$M$322,4,FALSE) -> 2005 | S20: =VLOOKUP(D20,고객상담실현황!$F$6:$M$322,8,FALSE) -> 0
A21: =ROW()-6 -> 15 | B21: 서울청 | C21: 서울중랑 | D21: 서울면목동 | E21: ○ | K21: 8000 | N21: =SUM(J21:M21) -> 8000 | P21: =VLOOKUP(D21,고객상담실현황!$F$6:$M$322,2,FALSE) -> #N/A | Q21: =VLOOKUP(D21,고객상담실현황!$F$6:$M$322,3,FALSE) -> #N/A | R21: =VLOOKUP(D21,고객상담실현황!$F$6:$M$322,4,FALSE) -> #N/A | S21: =VLOOKUP(D21,고객상담실현황!$F$6:$M$322,8,FALSE) -> #N/A
A22: =ROW()-6 -> 16 | B22: 서울청 | C22: 서울서초 | D22: 서울서초 | G22: ○ | L22: 3348 | N22: =SUM(J22:M22) -> 3348 | P22: =VLOOKUP(D22,고객상담실현황!$F$6:$M$322,2,FALSE) -> 서기관 | Q22: =VLOOKUP(D22,고객상담실현황!$F$6:$M$322,3,FALSE) -> 0 | R22: =VLOOKUP(D22,고객상담실현황!$F$6:$M$322,4,FALSE) -> 2000 | S22: =VLOOKUP(D22,고객상담실현황!$F$6:$M$322,8,FALSE) -> 0
A23: =ROW()-6 -> 17 | B23: 서울청 | C23: 서울중앙 | D23: 서울중앙 | G23: ○ | L23: 7100 | N23: =SUM(J23:M23) -> 7100 | P23: =VLOOKUP(D23,고객상담실현황!$F$6:$M$322,2,FALSE) -> 서기관 | Q23: =VLOOKUP(D23,고객상담실현황!$F$6:$M$322,3,FALSE) -> 0 | R23: =VLOOKUP(D23,고객상담실현황!$F$6:$M$322,4,FALSE) -> 2007 | S23: =VLOOKUP(D23,고객상담실현황!$F$6:$M$322,8,FALSE) -> 0
A24: =ROW()-6 -> 18 | B24: 서울청 | C24: 서울중앙 | D24: 태평로 | G24: ○ | L24: 3000 | N24: =SUM(J24:M24) -> 3000 | P24: =VLOOKUP(D24,고객상담실현황!$F$6:$M$322,2,FALSE) -> #N/A | Q24: =VLOOKUP(D24,고객상담실현황!$F$6:$M$322,3,FALSE) -> #N/A | R24: =VLOOKUP(D24,고객상담실현황!$F$6:$M$322,4,FALSE) -> #N/A | S24: =VLOOKUP(D24,고객상담실현황!$F$6:$M$322,8,FALSE) -> #N/A | T24: =SUM(N7:N24) -> 54892
A25: =ROW()-6 -> 19 | B25: 경인청 | C25: 가평 | D25: 가평 | I25: ○ | M25: 600 | N25: =SUM(J25:M25) -> 600 | P25: =VLOOKUP(D25,고객상담실현황!$F$6:$M$322,2,FALSE) -> 사무관 | Q25: =VLOOKUP(D25,고객상담실현황!$F$6:$M$322,3,FALSE) -> 0 | R25: =VLOOKUP(D25,고객상담실현황!$F$6:$M$322,4,FALSE) -> 2007 | S25: =VLOOKUP(D25,고객상담실현황!$F$6:$M$322,8,FALSE) -> 0
A26: =ROW()-6 -> 20 | B26: 경인청 | C26: 고양일산 | D26: 고양일산 | E26: ○ | G26: ○ | I26: ○ | K26: 10000 | L26: 2000 | M26: 600 | N26: =SUM(J26:M26) -> 12600 | O26: 2 | P26: =VLOOKUP(D26,고객상담실현황!$F$6:$M$322,2,FALSE) -> 서기관 | Q26: =VLOOKUP(D26,고객상담실현황!$F$6:$M$322,3,FALSE) -> 0 | R26: =VLOOKUP(D26,고객상담실현황!$F$6:$M$322,4,FALSE) -> 2006 | S26: =VLOOKUP(D26,고객상담실현황!$F$6:$M$322,8,FALSE) -> 0
A27: =ROW()-6 -> 21 | B27: 경인청 | C27: 구리 | D27: 구리 | G27: ○ | I27: ○ | L27: 130 | M27: 300 | N27: =SUM(J27:M27) -> 430 | P27: =VLOOKUP(D27,고객상담실현황!$F$6:$M$322,2,FALSE) -> 사무관 | Q27: =VLOOKUP(D27,고객상담실현황!$F$6:$M$322,3,FALSE) -> 0 | R27: =VLOOKUP(D27,고객상담실현황!$F$6:$M$322,4,FALSE) -> 2007 | S27: =VLOOKUP(D27,고객상담실현황!$F$6:$M$322,8,FALSE) -> 0
A28: =ROW()-6 -> 22 | B28: 경인청 | C28: 구리 | D28: 구리갈매 | G28: ○ | L28: 260 | N28: =SUM(J28:M28) -> 260 | P28: =VLOOKUP(D28,고객상담실현황!$F$6:$M$322,2,FALSE) -> #N/A | Q28: =VLOOKUP(D28,고객상담실현황!$F$6:$M$322,3,FALSE) -> #N/A | R28: =VLOOKUP(D28,고객상담실현황!$F$6:$M$322,4,FALSE) -> #N/A | S28: =VLOOKUP(D28,고객상담실현황!$F$6:$M$322,8,FALSE) -> #N/A
A29: =ROW()-6 -> 23 | B29: 경인청 | C29: 남양주 | D29: 남양주 | G29: ○ | I29: ○ | L29: 1230 | M29: 1600 | N29: =SUM(J29:M29) -> 2830 | P29: =VLOOKUP(D29,고객상담실현황!$F$6:$M$322,2,FALSE) -> 서기관 | Q29: =VLOOKUP(D29,고객상담실현황!$F$6:$M$322,3,FALSE) -> 0 | R29: =VLOOKUP(D29,고객상담실현황!$F$6:$M$322,4,FALSE) -> 2008 | S29: =VLOOKUP(D29,고객상담실현황!$F$6:$M$322,8,FALSE) -> 6200
A30: =ROW()-6 -> 24 | B30: 경인청 | C30: 남인천 | D30: 남인천 | G30: ○ | I30: ○ | L30: 2320 | M30: 750 | N30: =SUM(J30:M30) -> 3070 | P30: =VLOOKUP(D30,고객상담실현황!$F$6:$M$322,2,FALSE) -> 서기관 | Q30: =VLOOKUP(D30,고객상담실현황!$F$6:$M$322,3,FALSE) -> 0 | R30: =VLOOKUP(D30,고객상담실현황!$F$6:$M$322,4,FALSE) -> 2005 | S30: =VLOOKUP(D30,고객상담실현황!$F$6:$M$322,8,FALSE) -> 0
A31: =ROW()-6 -> 25 | B31: 경인청 | C31: 남인천 | D31: 인천문학동 | G31: ○ | L31: 840 | N31: =SUM(J31:M31) -> 840 | P31: =VLOOKUP(D31,고객상담실현황!$F$6:$M$322,2,FALSE) -> #N/A | Q31: =VLOOKUP(D31,고객상담실현황!$F$6:$M$322,3,FALSE) -> #N/A | R31: =VLOOKUP(D31,고객상담실현황!$F$6:$M$322,4,FALSE) -> #N/A | S31: =VLOOKUP(D31,고객상담실현황!$F$6:$M$322,8,FALSE) -> #N/A
A32: =ROW()-6 -> 26 | B32: 경인청 | C32: 남인천 | D32: 인천숭의동 | G32: ○ | L32: 2150 | N32: =SUM(J32:M32) -> 2150 | P32: =VLOOKUP(D32,고객상담실현황!$F$6:$M$322,2,FALSE) -> #N/A | Q32: =VLOOKUP(D32,고객상담실현황!$F$6:$M$322,3,FALSE) -> #N/A | R32: =VLOOKUP(D32,고객상담실현황!$F$6:$M$322,4,FALSE) -> #N/A | S32: =VLOOKUP(D32,고객상담실현황!$F$6:$M$322,8,FALSE) -> #N/A
A33: =ROW()-6 -> 27 | B33: 경인청 | C33: 동수원 | D33: 동수원 | G33: ○ | I33: ○ | L33: 1060 | M33: 280 | N33: =SUM(J33:M33) -> 1340 | P33: =VLOOKUP(D33,고객상담실현황!$F$6:$M$322,2,FALSE) -> 서기관 | Q33: =VLOOKUP(D33,고객상담실현황!$F$6:$M$322,3,FALSE) -> 0 | R33: =VLOOKUP(D33,고객상담실현황!$F$6:$M$322,4,FALSE) -> 2007 | S33: =VLOOKUP(D33,고객상담실현황!$F$6:$M$322,8,FALSE) -> 0
A34: =ROW()-6 -> 28 | B34: 경인청 | C34: 동수원 | D34: 수원법원 | I34: ○ | M34: 280 | N34: =SUM(J34:M34) -> 280 | P34: =VLOOKUP(D34,고객상담실현황!$F$6:$M$322,2,FALSE) -> #N/A | Q34: =VLOOKUP(D34,고객상담실현황!$F$6:$M$322,3,FALSE) -> #N/A | R34: =VLOOKUP(D34,고객상담실현황!$F$6:$M$322,4,FALSE) -> #N/A | S34: =VLOOKUP(D34,고객상담실현황!$F$6:$M$322,8,FALSE) -> #N/A
A35: =ROW()-6 -> 29 | B35: 경인청 | C35: 동수원 | D35: 수원청명 | I35: ○ | M35: 460 | N35: =SUM(J35:M35) -> 460 | P35: =VLOOKUP(D35,고객상담실현황!$F$6:$M$322,2,FALSE) -> #N/A | Q35: =VLOOKUP(D35,고객상담실현황!$F$6:$M$322,3,FALSE) -> #N/A | R35: =VLOOKUP(D35,고객상담실현황!$F$6:$M$322,4,FALSE) -> #N/A | S35: =VLOOKUP(D35,고객상담실현황!$F$6:$M$322,8,FALSE) -> #N/A
A36: =ROW()-6 -> 30 | B36: 경인청 | C36: 동수원 | D36: 수원황곡 | I36: ○ | M36: 100 | N36: =SUM(J36:M36) -> 100 | P36: =VLOOKUP(D36,고객상담실현황!$F$6:$M$322,2,FALSE) -> #N/A | Q36: =VLOOKUP(D36,고객상담실현황!$F$6:$M$322,3,FALSE) -> #N/A | R36: =VLOOKUP(D36,고객상담실현황!$F$6:$M$322,4,FALSE) -> #N/A | S36: =VLOOKUP(D36,고객상담실현황!$F$6:$M$322,8,FALSE) -> #N/A
A37: =ROW()-6 -> 31 | B37: 경인청 | C37: 백령 | D37: 백령 | I37: ○ | M37: 3200 | N37: =SUM(J37:M37) -> 3200 | P37: =VLOOKUP(D37,고객상담실현황!$F$6:$M$322,2,FALSE) -> 사무관 | Q37: =VLOOKUP(D37,고객상담실현황!$F$6:$M$322,3,FALSE) -> 0 | R37: =VLOOKUP(D37,고객상담실현황!$F$6:$M$322,4,FALSE) -> 2008 | S37: =VLOOKUP(D37,고객상담실현황!$F$6:$M$322,8,FALSE) -> 0
A38: =ROW()-6 -> 32 | B38: 경인청 | C38: 부천 | D38: 부천 | I38: ○ | M38: 1900 | N38: =SUM(J38:M38) -> 1900 | P38: =VLOOKUP(D38,고객상담실현황!$F$6:$M$322,2,FALSE) -> 서기관 | Q38: =VLOOKUP(D38,고객상담실현황!$F$6:$M$322,3,FALSE) -> 0 | R38: =VLOOKUP(D38,고객상담실현황!$F$6:$M$322,4,FALSE) -> 2006 | S38: =VLOOKUP(D38,고객상담실현황!$F$6:$M$322,8,FALSE) -> 0
A39: =ROW()-6 -> 33 | B39: 경인청 | C39: 부평 | D39: 부평대로 | I39: ○ | M39: 350 | N39: =SUM(J39:M39) -> 350 | P39: =VLOOKUP(D39,고객상담실현황!$F$6:$M$322,2,FALSE) -> #N/A | Q39: =VLOOKUP(D39,고객상담실현황!$F$6:$M$322,3,FALSE) -> #N/A | R39: =VLOOKUP(D39,고객상담실현황!$F$6:$M$322,4,FALSE) -> #N/A | S39: =VLOOKUP(D39,고객상담실현황!$F$6:$M$322,8,FALSE) -> #N/A
A40: =ROW()-6 -> 34 | B40: 경인청 | C40: 부평 | D40: 부평현대아파트 | I40: ○ | M40: 200 | N40: =SUM(J40:M40) -> 200 | P40: =VLOOKUP(D40,고객상담실현황!$F$6:$M$322,2,FALSE) -> #N/A | Q40: =VLOOKUP(D40,고객상담실현황!$F$6:$M$322,3,FALSE) -> #N/A | R40: =VLOOKUP(D40,고객상담실현황!$F$6:$M$322,4,FALSE) -> #N/A | S40: =VLOOKUP(D40,고객상담실현황!$F$6:$M$322,8,FALSE) -> #N/A
A41: =ROW()-6 -> 35 | B41: 경인청 | C41: 부평 | D41: 북인천 | G41: ○ | L41: 200 | N41: =SUM(J41:M41) -> 200 | P41: =VLOOKUP(D41,고객상담실현황!$F$6:$M$322,2,FALSE) -> #N/A | Q41: =VLOOKUP(D41,고객상담실현황!$F$6:$M$322,3,FALSE) -> #N/A | R41: =VLOOKUP(D41,고객상담실현황!$F$6:$M$322,4,FALSE) -> #N/A | S41: =VLOOKUP(D41,고객상담실현황!$F$6:$M$322,8,FALSE) -> #N/A
A42: =ROW()-6 -> 36 | B42: 경인청 | C42: 부평 | D42: 인천갈산동 | G42: ○ | L42: 410 | N42: =SUM(J42:M42) -> 410 | P42: =VLOOKUP(D42,고객상담실현황!$F$6:$M$322,2,FALSE) -> #N/A | Q42: =VLOOKUP(D42,고객상담실현황!$F$6:$M$322,3,FALSE) -> #N/A | R42: =VLOOKUP(D42,고객상담실현황!$F$6:$M$322,4,FALSE) -> #N/A | S42: =VLOOKUP(D42,고객상담실현황!$F$6:$M$322,8,FALSE) -> #N/A
A43: =ROW()-6 -> 37 | B43: 경인청 | C43: 부평 | D43: 인천동암 | I43: ○ | M43: 250 | N43: =SUM(J43:M43) -> 250 | P43: =VLOOKUP(D43,고객상담실현황!$F$6:$M$322,2,FALSE) -> #N/A | Q43: =VLOOKUP(D43,고객상담실현황!$F$6:$M$322,3,FALSE) -> #N/A | R43: =VLOOKUP(D43,고객상담실현황!$F$6:$M$322,4,FALSE) -> #N/A | S43: =VLOOKUP(D43,고객상담실현황!$F$6:$M$322,8,FALSE) -> #N/A
A44: =ROW()-6 -> 38 | B44: 경인청 | C44: 부평 | D44: 인천산곡2동 | G44: ○ | I44: ○ | L44: 680 | M44: 200 | N44: =SUM(J44:M44) -> 880 | P44: =VLOOKUP(D44,고객상담실현황!$F$6:$M$322,2,FALSE) -> #N/A | Q44: =VLOOKUP(D44,고객상담실현황!$F$6:$M$322,3,FALSE) -> #N/A | R44: =VLOOKUP(D44,고객상담실현황!$F$6:$M$322,4,FALSE) -> #N/A | S44: =VLOOKUP(D44,고객상담실현황!$F$6:$M$322,8,FALSE) -> #N/A
A45: =ROW()-6 -> 39 | B45: 경인청 | C45: 부평 | D45: 인천삼산동 | I45: ○ | M45: 700 | N45: =SUM(J45:M45) -> 700 | P45: =VLOOKUP(D45,고객상담실현황!$F$6:$M$322,2,FALSE) -> #N/A | Q45: =VLOOKUP(D45,고객상담실현황!$F$6:$M$322,3,FALSE) -> #N/A | R45: =VLOOKUP(D45,고객상담실현황!$F$6:$M$322,4,FALSE) -> #N/A | S45: =VLOOKUP(D45,고객상담실현황!$F$6:$M$322,8,FALSE) -> #N/A
A46: =ROW()-6 -> 40 | B46: 경인청 | C46: 서인천 | D46: 서인천 | I46: ○ | M46: 700 | N46: =SUM(J46:M46) -> 700 | P46: =VLOOKUP(D46,고객상담실현황!$F$6:$M$322,2,FALSE) -> 서기관 | Q46: =VLOOKUP(D46,고객상담실현황!$F$6:$M$322,3,FALSE) -> 0 | R46: =VLOOKUP(D46,고객상담실현황!$F$6:$M$322,4,FALSE) -> 2005 | S46: =VLOOKUP(D46,고객상담실현황!$F$6:$M$322,8,FALSE) -> 0
A47: =ROW()-6 -> 41 | B47: 경인청 | C47: 서인천 | D47: 인천가좌2동 | I47: ○ | M47: 300 | N47: =SUM(J47:M47) -> 300 | P47: =VLOOKUP(D47,고객상담실현황!$F$6:$M$322,2,FALSE) -> #N/A | Q47: =VLOOKUP(D47,고객상담실현황!$F$6:$M$322,3,FALSE) -> #N/A | R47: =VLOOKUP(D47,고객상담실현황!$F$6:$M$322,4,FALSE) -> #N/A | S47: =VLOOKUP(D47,고객상담실현황!$F$6:$M$322,8,FALSE) -> #N/A
A48: =ROW()-6 -> 42 | B48: 경인청 | C48: 서인천 | D48: 인천검암동 | I48: ○ | M48: 300 | N48: =SUM(J48:M48) -> 300 | P48: =VLOOKUP(D48,고객상담실현황!$F$6:$M$322,2,FALSE) -> #N/A | Q48: =VLOOKUP(D48,고객상담실현황!$F$6:$M$322,3,FALSE) -> #N/A | R48: =VLOOKUP(D48,고객상담실현황!$F$6:$M$322,4,FALSE) -> #N/A | S48: =VLOOKUP(D48,고객상담실현황!$F$6:$M$322,8,FALSE) -> #N/A
A49: =ROW()-6 -> 43 | B49: 경인청 | C49: 서인천 | D49: 인천공단 | I49: ○ | M49: 300 | N49: =SUM(J49:M49) -> 300 | P49: =VLOOKUP(D49,고객상담실현황!$F$6:$M$322,2,FALSE) -> #N/A | Q49: =VLOOKUP(D49,고객상담실현황!$F$6:$M$322,3,FALSE) -> #N/A | R49: =VLOOKUP(D49,고객상담실현황!$F$6:$M$322,4,FALSE) -> #N/A | S49: =VLOOKUP(D49,고객상담실현황!$F$6:$M$322,8,FALSE) -> #N/A
A50: =ROW()-6 -> 44 | B50: 경인청 | C50: 서인천 | D50: 인천석남동 | I50: ○ | M50: 300 | N50: =SUM(J50:M50) -> 300 | P50: =VLOOKUP(D50,고객상담실현황!$F$6:$M$322,2,FALSE) -> #N/A | Q50: =VLOOKUP(D50,고객상담실현황!$F$6:$M$322,3,FALSE) -> #N/A | R50: =VLOOKUP(D50,고객상담실현황!$F$6:$M$322,4,FALSE) -> #N/A | S50: =VLOOKUP(D50,고객상담실현황!$F$6:$M$322,8,FALSE) -> #N/A
A51: =ROW()-6 -> 45 | B51: 경인청 | C51: 서인천 | D51: 인천원당 | I51: ○ | M51: 300 | N51: =SUM(J51:M51) -> 300 | P51: =VLOOKUP(D51,고객상담실현황!$F$6:$M$322,2,FALSE) -> #N/A | Q51: =VLOOKUP(D51,고객상담실현황!$F$6:$M$322,3,FALSE) -> #N/A | R51: =VLOOKUP(D51,고객상담실현황!$F$6:$M$322,4,FALSE) -> #N/A | S51: =VLOOKUP(D51,고객상담실현황!$F$6:$M$322,8,FALSE) -> #N/A
A52: =ROW()-6 -> 46 | B52: 경인청 | C52: 서인천 | D52: 인천청라1동 | I52: ○ | M52: 300 | N52: =SUM(J52:M52) -> 300 | P52: =VLOOKUP(D52,고객상담실현황!$F$6:$M$322,2,FALSE) -> #N/A | Q52: =VLOOKUP(D52,고객상담실현황!$F$6:$M$322,3,FALSE) -> #N/A | R52: =VLOOKUP(D52,고객상담실현황!$F$6:$M$322,4,FALSE) -> #N/A | S52: =VLOOKUP(D52,고객상담실현황!$F$6:$M$322,8,FALSE) -> #N/A
A53: =ROW()-6 -> 47 | B53: 경인청 | C53: 성남 | D53: 성남 | G53: ○ | L53: 1520 | M53: 110 | N53: =SUM(J53:M53) -> 1630 | P53: =VLOOKUP(D53,고객상담실현황!$F$6:$M$322,2,FALSE) -> 서기관 | Q53: =VLOOKUP(D53,고객상담실현황!$F$6:$M$322,3,FALSE) -> 0 | R53: =VLOOKUP(D53,고객상담실현황!$F$6:$M$322,4,FALSE) -> 2005 | S53: =VLOOKUP(D53,고객상담실현황!$F$6:$M$322,8,FALSE) -> 0
A54: =ROW()-6 -> 48 | B54: 경인청 | C54: 성남분당 | D54: 성남구미동 | I54: ○ | M54: 440 | N54: =SUM(J54:M54) -> 440 | P54: =VLOOKUP(D54,고객상담실현황!$F$6:$M$322,2,FALSE) -> 사무관 | Q54: =VLOOKUP(D54,고객상담실현황!$F$6:$M$322,3,FALSE) -> 관내 | R54: =VLOOKUP(D54,고객상담실현황!$F$6:$M$322,4,FALSE) -> 2011 | S54: =VLOOKUP(D54,고객상담실현황!$F$6:$M$322,8,FALSE) -> 0
A55: =ROW()-6 -> 49 | B55: 경인청 | C55: 성남분당 | D55: 성남분당 | I55: ○ | M55: 1210 | N55: =SUM(J55:M55) -> 1210 | P55: =VLOOKUP(D55,고객상담실현황!$F$6:$M$322,2,FALSE) -> 서기관 | Q55: =VLOOKUP(D55,고객상담실현황!$F$6:$M$322,3,FALSE) -> 0 | R55: =VLOOKUP(D55,고객상담실현황!$F$6:$M$322,4,FALSE) -> 2006 | S55: =VLOOKUP(D55,고객상담실현황!$F$6:$M$322,8,FALSE) -> 0
A56: =ROW()-6 -> 50 | B56: 경인청 | C56: 성남분당 | D56: 성남삼평동 | I56: ○ | M56: 660 | N56: =SUM(J56:M56) -> 660 | P56: =VLOOKUP(D56,고객상담실현황!$F$6:$M$322,2,FALSE) -> #N/A | Q56: =VLOOKUP(D56,고객상담실현황!$F$6:$M$322,3,FALSE) -> #N/A | R56: =VLOOKUP(D56,고객상담실현황!$F$6:$M$322,4,FALSE) -> #N/A | S56: =VLOOKUP(D56,고객상담실현황!$F$6:$M$322,8,FALSE) -> #N/A
A57: =ROW()-6 -> 51 | B57: 경인청 | C57: 성남분당 | D57: 성남서현1동 | I57: ○ | M57: 440 | N57: =SUM(J57:M57) -> 440 | P57: =VLOOKUP(D57,고객상담실현황!$F$6:$M$322,2,FALSE) -> 주사 | Q57: =VLOOKUP(D57,고객상담실현황!$F$6:$M$322,3,FALSE) -> 관내 | R57: =VLOOKUP(D57,고객상담실현황!$F$6:$M$322,4,FALSE) -> 2010 | S57: =VLOOKUP(D57,고객상담실현황!$F$6:$M$322,8,FALSE) -> 0
A58: =ROW()-6 -> 52 | B58: 경인청 | C58: 성남분당 | D58: 성남서현2동 | I58: ○ | M58: 550 | N58: =SUM(J58:M58) -> 550 | P58: =VLOOKUP(D58,고객상담실현황!$F$6:$M$322,2,FALSE) -> #N/A | Q58: =VLOOKUP(D58,고객상담실현황!$F$6:$M$322,3,FALSE) -> #N/A | R58: =VLOOKUP(D58,고객상담실현황!$F$6:$M$322,4,FALSE) -> #N/A | S58: =VLOOKUP(D58,고객상담실현황!$F$6:$M$322,8,FALSE) -> #N/A
A59: =ROW()-6 -> 53 | B59: 경인청 | C59: 성남분당 | D59: 성남수내동 | I59: ○ | M59: 440 | N59: =SUM(J59:M59) -> 440 | P59: =VLOOKUP(D59,고객상담실현황!$F$6:$M$322,2,FALSE) -> 주사 | Q59: =VLOOKUP(D59,고객상담실현황!$F$6:$M$322,3,FALSE) -> 관내 | R59: =VLOOKUP(D59,고객상담실현황!$F$6:$M$322,4,FALSE) -> 2011 | S59: =VLOOKUP(D59,고객상담실현황!$F$6:$M$322,8,FALSE) -> 0
A60: =ROW()-6 -> 54 | B60: 경인청 | C60: 성남분당 | D60: 성남야탑동 | I60: ○ | M60: 440 | N60: =SUM(J60:M60) -> 440 | P60: =VLOOKUP(D60,고객상담실현황!$F$6:$M$322,2,FALSE) -> 주사 | Q60: =VLOOKUP(D60,고객상담실현황!$F$6:$M$322,3,FALSE) -> 관내 | R60: =VLOOKUP(D60,고객상담실현황!$F$6:$M$322,4,FALSE) -> 2011 | S60: =VLOOKUP(D60,고객상담실현황!$F$6:$M$322,8,FALSE) -> 0
A61: =ROW()-6 -> 55 | B61: 경인청 | C61: 성남분당 | D61: 성남운중동 | I61: ○ | M61: 660 | N61: =SUM(J61:M61) -> 660 | P61: =VLOOKUP(D61,고객상담실현황!$F$6:$M$322,2,FALSE) -> #N/A | Q61: =VLOOKUP(D61,고객상담실현황!$F$6:$M$322,3,FALSE) -> #N/A | R61: =VLOOKUP(D61,고객상담실현황!$F$6:$M$322,4,FALSE) -> #N/A | S61: =VLOOKUP(D61,고객상담실현황!$F$6:$M$322,8,FALSE) -> #N/A
A62: =ROW()-6 -> 56 | B62: 경인청 | C62: 성남분당 | D62: 성남정자동 | I62: ○ | M62: 440 | N62: =SUM(J62:M62) -> 440 | P62: =VLOOKUP(D62,고객상담실현황!$F$6:$M$322,2,FALSE) -> #N/A | Q62: =VLOOKUP(D62,고객상담실현황!$F$6:$M$322,3,FALSE) -> #N/A | R62: =VLOOKUP(D62,고객상담실현황!$F$6:$M$322,4,FALSE) -> #N/A | S62: =VLOOKUP(D62,고객상담실현황!$F$6:$M$322,8,FALSE) -> #N/A
A63: =ROW()-6 -> 57 | B63: 경인청 | C63: 시흥 | D63: 시흥 | I63: ○ | M63: 500 | N63: =SUM(J63:M63) -> 500 | P63: =VLOOKUP(D63,고객상담실현황!$F$6:$M$322,2,FALSE) -> 서기관 | Q63: =VLOOKUP(D63,고객상담실현황!$F$6:$M$322,3,FALSE) -> 0 | R63: =VLOOKUP(D63,고객상담실현황!$F$6:$M$322,4,FALSE) -> 2005 | S63: =VLOOKUP(D63,고객상담실현황!$F$6:$M$322,8,FALSE) -> 0
A64: =ROW()-6 -> 58 | B64: 경인청 | C64: 시흥 | D64: 시흥대야동 | G64: ○ | H64: ○ | K64: 10000 | L64: 3510 | N64: =SUM(J64:M64) -> 13510 | O64: 1 | P64: =VLOOKUP(D64,고객상담실현황!$F$6:$M$322,2,FALSE) -> #N/A | Q64: =VLOOKUP(D64,고객상담실현황!$F$6:$M$322,3,FALSE) -> #N/A | R64: =VLOOKUP(D64,고객상담실현황!$F$6:$M$322,4,FALSE) -> #N/A | S64: =VLOOKUP(D64,고객상담실현황!$F$6:$M$322,8,FALSE) -> #N/A
A65: =ROW()-6 -> 59 | B65: 경인청 | C65: 안양 | D65: 과천 | M65: 200 | N65: =SUM(J65:M65) -> 200 | P65: =VLOOKUP(D65,고객상담실현황!$F$6:$M$322,2,FALSE) -> 주사 | Q65: =VLOOKUP(D65,고객상담실현황!$F$6:$M$322,3,FALSE) -> 관내 | R65: =VLOOKUP(D65,고객상담실현황!$F$6:$M$322,4,FALSE) -> 2009 | S65: =VLOOKUP(D65,고객상담실현황!$F$6:$M$322,8,FALSE) -> 0
A66: =ROW()-6 -> 60 | B66: 경인청 | C66: 안양 | D66: 안양 | I66: ○ | M66: 700 | N66: =SUM(J66:M66) -> 700 | P66: =VLOOKUP(D66,고객상담실현황!$F$6:$M$322,2,FALSE) -> 서기관 | Q66: =VLOOKUP(D66,고객상담실현황!$F$6:$M$322,3,FALSE) -> 0 | R66: =VLOOKUP(D66,고객상담실현황!$F$6:$M$322,4,FALSE) -> 2005 | S66: =VLOOKUP(D66,고객상담실현황!$F$6:$M$322,8,FALSE) -> 0
A67: =ROW()-6 -> 61 | B67: 경인청 | C67: 안양 | D67: 안양4동 | G67: ○ | L67: 800 | N67: =SUM(J67:M67) -> 800 | P67: =VLOOKUP(D67,고객상담실현황!$F$6:$M$322,2,FALSE) -> #N/A | Q67: =VLOOKUP(D67,고객상담실현황!$F$6:$M$322,3,FALSE) -> #N/A | R67: =VLOOKUP(D67,고객상담실현황!$F$6:$M$322,4,FALSE) -> #N/A | S67: =VLOOKUP(D67,고객상담실현황!$F$6:$M$322,8,FALSE) -> #N/A
A68: =ROW()-6 -> 62 | B68: 경인청 | C68: 안양 | D68: 안양귀인동 | M68: 1480 | N68: =SUM(J68:M68) -> 1480 | P68: =VLOOKUP(D68,고객상담실현황!$F$6:$M$322,2,FALSE) -> #N/A | Q68: =VLOOKUP(D68,고객상담실현황!$F$6:$M$322,3,FALSE) -> #N/A | R68: =VLOOKUP(D68,고객상담실현황!$F$6:$M$322,4,FALSE) -> #N/A | S68: =VLOOKUP(D68,고객상담실현황!$F$6:$M$322,8,FALSE) -> #N/A
A69: =ROW()-6 -> 63 | B69: 경인청 | C69: 안양 | D69: 안양부림동 | G69: ○ | L69: 1330 | N69: =SUM(J69:M69) -> 1330 | P69: =VLOOKUP(D69,고객상담실현황!$F$6:$M$322,2,FALSE) -> #N/A | Q69: =VLOOKUP(D69,고객상담실현황!$F$6:$M$322,3,FALSE) -> #N/A | R69: =VLOOKUP(D69,고객상담실현황!$F$6:$M$322,4,FALSE) -> #N/A | S69: =VLOOKUP(D69,고객상담실현황!$F$6:$M$322,8,FALSE) -> #N/A
A70: =ROW()-6 -> 64 | B70: 경인청 | C70: 안양 | D70: 정부과천청사 | M70: 300 | N70: =SUM(J70:M70) -> 300 | P70: =VLOOKUP(D70,고객상담실현황!$F$6:$M$322,2,FALSE) -> #N/A | Q70: =VLOOKUP(D70,고객상담실현황!$F$6:$M$322,3,FALSE) -> #N/A | R70: =VLOOKUP(D70,고객상담실현황!$F$6:$M$322,4,FALSE) -> #N/A | S70: =VLOOKUP(D70,고객상담실현황!$F$6:$M$322,8,FALSE) -> #N/A
A71: =ROW()-6 -> 65 | B71: 경인청 | C71: 여주 | D71: 여주 | I71: ○ | M71: 500 | N71: =SUM(J71:M71) -> 500 | P71: =VLOOKUP(D71,고객상담실현황!$F$6:$M$322,2,FALSE) -> 서기관 | Q71: =VLOOKUP(D71,고객상담실현황!$F$6:$M$322,3,FALSE) -> 0 | R71: =VLOOKUP(D71,고객상담실현황!$F$6:$M$322,4,FALSE) -> 2007 | S71: =VLOOKUP(D71,고객상담실현황!$F$6:$M$322,8,FALSE) -> 0
A72: =ROW()-6 -> 66 | B72: 경인청 | C72: 용인 | D72: 용인 | I72: ○ | M72: 3150 | N72: =SUM(J72:M72) -> 3150 | P72: =VLOOKUP(D72,고객상담실현황!$F$6:$M$322,2,FALSE) -> 서기관 | Q72: =VLOOKUP(D72,고객상담실현황!$F$6:$M$322,3,FALSE) -> 0 | R72: =VLOOKUP(D72,고객상담실현황!$F$6:$M$322,4,FALSE) -> 2010 | S72: =VLOOKUP(D72,고객상담실현황!$F$6:$M$322,8,FALSE) -> 7900
A73: =ROW()-6 -> 67 | B73: 경인청 | C73: 인천계양 | D73: 인천효성동 | I73: ○ | M73: 150 | N73: =SUM(J73:M73) -> 150 | P73: =VLOOKUP(D73,고객상담실현황!$F$6:$M$322,2,FALSE) -> #N/A | Q73: =VLOOKUP(D73,고객상담실현황!$F$6:$M$322,3,FALSE) -> #N/A | R73: =VLOOKUP(D73,고객상담실현황!$F$6:$M$322,4,FALSE) -> #N/A | S73: =VLOOKUP(D73,고객상담실현황!$F$6:$M$322,8,FALSE) -> #N/A
A74: =ROW()-6 -> 68 | B74: 경인청 | C74: 인천남동 | D74: 인천간석동 | G74: ○ | I74: ○ | L74: 750 | M74: 150 | N74: =SUM(J74:M74) -> 900 | P74: =VLOOKUP(D74,고객상담실현황!$F$6:$M$322,2,FALSE) -> #N/A | Q74: =VLOOKUP(D74,고객상담실현황!$F$6:$M$322,3,FALSE) -> #N/A | R74: =VLOOKUP(D74,고객상담실현황!$F$6:$M$322,4,FALSE) -> #N/A | S74: =VLOOKUP(D74,고객상담실현황!$F$6:$M$322,8,FALSE) -> #N/A
A75: =ROW()-6 -> 69 | B75: 경인청 | C75: 인천남동 | D75: 인천구월동 | G75: ○ | I75: ○ | L75: 760 | M75: 150 | N75: =SUM(J75:M75) -> 910 | P75: =VLOOKUP(D75,고객상담실현황!$F$6:$M$322,2,FALSE) -> #N/A | Q75: =VLOOKUP(D75,고객상담실현황!$F$6:$M$322,3,FALSE) -> #N/A | R75: =VLOOKUP(D75,고객상담실현황!$F$6:$M$322,4,FALSE) -> #N/A | S75: =VLOOKUP(D75,고객상담실현황!$F$6:$M$322,8,FALSE) -> #N/A
A76: =ROW()-6 -> 70 | B76: 경인청 | C76: 인천남동 | D76: 인천남동 | G76: ○ | L76: 1470 | N76: =SUM(J76:M76) -> 1470 | O76: 3 | P76: =VLOOKUP(D76,고객상담실현황!$F$6:$M$322,2,FALSE) -> #N/A | Q76: =VLOOKUP(D76,고객상담실현황!$F$6:$M$322,3,FALSE) -> #N/A | R76: =VLOOKUP(D76,고객상담실현황!$F$6:$M$322,4,FALSE) -> #N/A | S76: =VLOOKUP(D76,고객상담실현황!$F$6:$M$322,8,FALSE) -> #N/A
A77: =ROW()-6 -> 71 | B77: 경인청 | C77: 인천남동 | D77: 인천남동공단 | I77: ○ | M77: 250 | N77: =SUM(J77:M77) -> 250 | P77: =VLOOKUP(D77,고객상담실현황!$F$6:$M$322,2,FALSE) -> #N/A | Q77: =VLOOKUP(D77,고객상담실현황!$F$6:$M$322,3,FALSE) -> #N/A | R77: =VLOOKUP(D77,고객상담실현황!$F$6:$M$322,4,FALSE) -> #N/A | S77: =VLOOKUP(D77,고객상담실현황!$F$6:$M$322,8,FALSE) -> #N/A
A78: =ROW()-6 -> 72 | B78: 경인청 | C78: 인천남동 | D78: 인천논현동 | I78: ○ | M78: 150 | N78: =SUM(J78:M78) -> 150 | P78: =VLOOKUP(D78,고객상담실현황!$F$6:$M$322,2,FALSE) -> #N/A | Q78: =VLOOKUP(D78,고객상담실현황!$F$6:$M$322,3,FALSE) -> #N/A | R78: =VLOOKUP(D78,고객상담실현황!$F$6:$M$322,4,FALSE) -> #N/A | S78: =VLOOKUP(D78,고객상담실현황!$F$6:$M$322,8,FALSE) -> #N/A
A79: =ROW()-6 -> 73 | B79: 경인청 | C79: 인천남동 | D79: 인천만수1동 | I79: ○ | M79: 150 | N79: =SUM(J79:M79) -> 150 | P79: =VLOOKUP(D79,고객상담실현황!$F$6:$M$322,2,FALSE) -> #N/A | Q79: =VLOOKUP(D79,고객상담실현황!$F$6:$M$322,3,FALSE) -> #N/A | R79: =VLOOKUP(D79,고객상담실현황!$F$6:$M$322,4,FALSE) -> #N/A | S79: =VLOOKUP(D79,고객상담실현황!$F$6:$M$322,8,FALSE) -> #N/A
A80: =ROW()-6 -> 74 | B80: 경인청 | C80: 인천남동 | D80: 인천만수6동 | I80: ○ | M80: 150 | N80: =SUM(J80:M80) -> 150 | P80: =VLOOKUP(D80,고객상담실현황!$F$6:$M$322,2,FALSE) -> #N/A | Q80: =VLOOKUP(D80,고객상담실현황!$F$6:$M$322,3,FALSE) -> #N/A | R80: =VLOOKUP(D80,고객상담실현황!$F$6:$M$322,4,FALSE) -> #N/A | S80: =VLOOKUP(D80,고객상담실현황!$F$6:$M$322,8,FALSE) -> #N/A
A81: =ROW()-6 -> 75 | B81: 경인청 | C81: 인천남동 | D81: 인천만수단지 | G81: ○ | I81: ○ | L81: 450 | M81: 150 | N81: =SUM(J81:M81) -> 600 | P81: =VLOOKUP(D81,고객상담실현황!$F$6:$M$322,2,FALSE) -> #N/A | Q81: =VLOOKUP(D81,고객상담실현황!$F$6:$M$322,3,FALSE) -> #N/A | R81: =VLOOKUP(D81,고객상담실현황!$F$6:$M$322,4,FALSE) -> #N/A | S81: =VLOOKUP(D81,고객상담실현황!$F$6:$M$322,8,FALSE) -> #N/A
A82: =ROW()-6 -> 76 | B82: 경인청 | C82: 인천남동 | D82: 인천한화지구 | I82: ○ | M82: 150 | N82: =SUM(J82:M82) -> 150 | P82: =VLOOKUP(D82,고객상담실현황!$F$6:$M$322,2,FALSE) -> #N/A | Q82: =VLOOKUP(D82,고객상담실현황!$F$6:$M$322,3,FALSE) -> #N/A | R82: =VLOOKUP(D82,고객상담실현황!$F$6:$M$322,4,FALSE) -> #N/A | S82: =VLOOKUP(D82,고객상담실현황!$F$6:$M$322,8,FALSE) -> #N/A
A83: =ROW()-6 -> 77 | B83: 경인청 | C83: 파주 | D83: 파주 | I83: ○ | M83: 240 | N83: =SUM(J83:M83) -> 240 | P83: =VLOOKUP(D83,고객상담실현황!$F$6:$M$322,2,FALSE) -> 서기관 | Q83: =VLOOKUP(D83,고객상담실현황!$F$6:$M$322,3,FALSE) -> 0 | R83: =VLOOKUP(D83,고객상담실현황!$F$6:$M$322,4,FALSE) -> 2008 | S83: =VLOOKUP(D83,고객상담실현황!$F$6:$M$322,8,FALSE) -> 6800
A84: =ROW()-6 -> 78 | B84: 경인청 | C84: 화성 | D84: 화성 | I84: ○ | M84: 1650 | N84: =SUM(J84:M84) -> 1650 | P84: =VLOOKUP(D84,고객상담실현황!$F$6:$M$322,2,FALSE) -> 서기관 | Q84: =VLOOKUP(D84,고객상담실현황!$F$6:$M$322,3,FALSE) -> 0 | R84: =VLOOKUP(D84,고객상담실현황!$F$6:$M$322,4,FALSE) -> 2009 | S84: =VLOOKUP(D84,고객상담실현황!$F$6:$M$322,8,FALSE) -> 0 | T84: =SUM(N25:N84) -> 71700
A85: =ROW()-6 -> 79 | B85: 부산청 | C85: 거제 | D85: 거제 | G85: ○ | L85: 1000 | N85: =SUM(J85:M85) -> 1000 | O85: 10 | P85: =VLOOKUP(D85,고객상담실현황!$F$6:$M$322,2,FALSE) -> 서기관 | Q85: =VLOOKUP(D85,고객상담실현황!$F$6:$M$322,3,FALSE) -> 0 | R85: =VLOOKUP(D85,고객상담실현황!$F$6:$M$322,4,FALSE) -> 2007 | S85: =VLOOKUP(D85,고객상담실현황!$F$6:$M$322,8,FALSE) -> 0
A86: =ROW()-6 -> 80 | B86: 부산청 | C86: 김해 | D86: 김해부원동 | G86: ○ | L86: 500 | N86: =SUM(J86:M86) -> 500 | O86: 9 | P86: =VLOOKUP(D86,고객상담실현황!$F$6:$M$322,2,FALSE) -> #N/A | Q86: =VLOOKUP(D86,고객상담실현황!$F$6:$M$322,3,FALSE) -> #N/A | R86: =VLOOKUP(D86,고객상담실현황!$F$6:$M$322,4,FALSE) -> #N/A | S86: =VLOOKUP(D86,고객상담실현황!$F$6:$M$322,8,FALSE) -> #N/A
A87: =ROW()-6 -> 81 | B87: 부산청 | C87: 김해 | D87: 김해삼계동 | E87: ○ | K87: 5000 | N87: =SUM(J87:M87) -> 5000 | O87: 5 | P87: =VLOOKUP(D87,고객상담실현황!$F$6:$M$322,2,FALSE) -> #N/A | Q87: =VLOOKUP(D87,고객상담실현황!$F$6:$M$322,3,FALSE) -> #N/A | R87: =VLOOKUP(D87,고객상담실현황!$F$6:$M$322,4,FALSE) -> #N/A | S87: =VLOOKUP(D87,고객상담실현황!$F$6:$M$322,8,FALSE) -> #N/A
A88: =ROW()-6 -> 82 | B88: 부산청 | C88: 김해 | D88: 김해삼방동 | E88: ○ | K88: 11000 | N88: =SUM(J88:M88) -> 11000 | O88: 3 | P88: =VLOOKUP(D88,고객상담실현황!$F$6:$M$322,2,FALSE) -> #N/A | Q88: =VLOOKUP(D88,고객상담실현황!$F$6:$M$322,3,FALSE) -> #N/A | R88: =VLOOKUP(D88,고객상담실현황!$F$6:$M$322,4,FALSE) -> #N/A | S88: =VLOOKUP(D88,고객상담실현황!$F$6:$M$322,8,FALSE) -> #N/A
A89: =ROW()-6 -> 83 | B89: 부산청 | C89: 부산 | D89: 부산 | G89: ○ | L89: 600 | N89: =SUM(J89:M89) -> 600 | O89: 6 | P89: =VLOOKUP(D89,고객상담실현황!$F$6:$M$322,2,FALSE) -> 서기관 | Q89: =VLOOKUP(D89,고객상담실현황!$F$6:$M$322,3,FALSE) -> 0 | R89: =VLOOKUP(D89,고객상담실현황!$F$6:$M$322,4,FALSE) -> 2006 | S89: =VLOOKUP(D89,고객상담실현황!$F$6:$M$322,8,FALSE) -> 0
A90: =ROW()-6 -> 84 | B90: 부산청 | C90: 부산금정 | D90: 부산금정 | G90: ○ | L90: 1000 | N90: =SUM(J90:M90) -> 1000 | O90: 7 | P90: =VLOOKUP(D90,고객상담실현황!$F$6:$M$322,2,FALSE) -> 서기관 | Q90: =VLOOKUP(D90,고객상담실현황!$F$6:$M$322,3,FALSE) -> 0 | R90: =VLOOKUP(D90,고객상담실현황!$F$6:$M$322,4,FALSE) -> 2007 | S90: =VLOOKUP(D90,고객상담실현황!$F$6:$M$322,8,FALSE) -> 10000
A91: =ROW()-6 -> 85 | B91: 부산청 | C91: 부산금정 | D91: 부산남산동 | E91: ○ | K91: 12000 | N91: =SUM(J91:M91) -> 12000 | O91: 4 | P91: =VLOOKUP(D91,고객상담실현황!$F$6:$M$322,2,FALSE) -> 주사 | Q91: =VLOOKUP(D91,고객상담실현황!$F$6:$M$322,3,FALSE) -> 관내 | R91: =VLOOKUP(D91,고객상담실현황!$F$6:$M$322,4,FALSE) -> 2011 | S91: =VLOOKUP(D91,고객상담실현황!$F$6:$M$322,8,FALSE) -> 0
A92: =ROW()-6 -> 86 | B92: 부산청 | C92: 부산금정 | D92: 부산장전동 | E92: ○ | K92: 45000 | N92: =SUM(J92:M92) -> 45000 | O92: 2 | P92: =VLOOKUP(D92,고객상담실현황!$F$6:$M$322,2,FALSE) -> #N/A | Q92: =VLOOKUP(D92,고객상담실현황!$F$6:$M$322,3,FALSE) -> #N/A | R92: =VLOOKUP(D92,고객상담실현황!$F$6:$M$322,4,FALSE) -> #N/A | S92: =VLOOKUP(D92,고객상담실현황!$F$6:$M$322,8,FALSE) -> #N/A
A93: =ROW()-6 -> 87 | B93: 부산청 | C93: 부산진 | D93: 부산진 | G93: ○ | L93: 1500 | N93: =SUM(J93:M93) -> 1500 | O93: 8 | P93: =VLOOKUP(D93,고객상담실현황!$F$6:$M$322,2,FALSE) -> 서기관 | Q93: =VLOOKUP(D93,고객상담실현황!$F$6:$M$322,3,FALSE) -> 0 | R93: =VLOOKUP(D93,고객상담실현황!$F$6:$M$322,4,FALSE) -> 2003 | S93: =VLOOKUP(D93,고객상담실현황!$F$6:$M$322,8,FALSE) -> 0
A94: =ROW()-6 -> 88 | B94: 부산청 | C94: 사천 | D94: 사천선구동 | E94: ○ | K94: 600 | N94: =SUM(J94:M94) -> 600 | O94: 1 | P94: =VLOOKUP(D94,고객상담실현황!$F$6:$M$322,2,FALSE) -> 주사 | Q94: =VLOOKUP(D94,고객상담실현황!$F$6:$M$322,3,FALSE) -> 관내 | R94: =VLOOKUP(D94,고객상담실현황!$F$6:$M$322,4,FALSE) -> 2010 | S94: =VLOOKUP(D94,고객상담실현황!$F$6:$M$322,8,FALSE) -> 0 | T94: =SUM(N85:N94) -> 78200
A95: =ROW()-6 -> 89 | B95: 충청청 | C95: 공주 | D95: 공주 등10국 | I95: ○ | M95: 3500 | N95: =SUM(J95:M95) -> 3500 | O95: 11 | P95: =VLOOKUP(D95,고객상담실현황!$F$6:$M$322,2,FALSE) -> #N/A | Q95: =VLOOKUP(D95,고객상담실현황!$F$6:$M$322,3,FALSE) -> #N/A | R95: =VLOOKUP(D95,고객상담실현황!$F$6:$M$322,4,FALSE) -> #N/A | S95: =VLOOKUP(D95,고객상담실현황!$F$6:$M$322,8,FALSE) -> #N/A
A96: =ROW()-6 -> 90 | B96: 충청청 | C96: 괴산 | D96: 증평 | G96: ○ | L96: 2000 | M96: 0 | N96: =SUM(J96:M96) -> 2000 | O96: 14 | P96: =VLOOKUP(D96,고객상담실현황!$F$6:$M$322,2,FALSE) -> #N/A | Q96: =VLOOKUP(D96,고객상담실현황!$F$6:$M$322,3,FALSE) -> #N/A | R96: =VLOOKUP(D96,고객상담실현황!$F$6:$M$322,4,FALSE) -> #N/A | S96: =VLOOKUP(D96,고객상담실현황!$F$6:$M$322,8,FALSE) -> #N/A
A97: =ROW()-6 -> 91 | B97: 충청청 | C97: 금산 | D97: 금산 | I97: ○ | M97: 500 | N97: =SUM(J97:M97) -> 500 | O97: 16 | P97: =VLOOKUP(D97,고객상담실현황!$F$6:$M$322,2,FALSE) -> 사무관 | Q97: =VLOOKUP(D97,고객상담실현황!$F$6:$M$322,3,FALSE) -> 0 | R97: =VLOOKUP(D97,고객상담실현황!$F$6:$M$322,4,FALSE) -> 2007 | S97: =VLOOKUP(D97,고객상담실현황!$F$6:$M$322,8,FALSE) -> 0
A98: =ROW()-6 -> 92 | B98: 충청청 | C98: 논산 | D98: 계룡금암동 | H98: ○ | I98: ○ | K98: 12000 | L98: 4600 | M98: 500 | N98: =SUM(J98:M98) -> 17100 | O98: 1 | P98: =VLOOKUP(D98,고객상담실현황!$F$6:$M$322,2,FALSE) -> #N/A | Q98: =VLOOKUP(D98,고객상담실현황!$F$6:$M$322,3,FALSE) -> #N/A | R98: =VLOOKUP(D98,고객상담실현황!$F$6:$M$322,4,FALSE) -> #N/A | S98: =VLOOKUP(D98,고객상담실현황!$F$6:$M$322,8,FALSE) -> #N/A
A99: =ROW()-6 -> 93 | B99: 충청청 | C99: 당진 | D99: 당진 | G99: ○ | L99: 1300 | M99: 0 | N99: =SUM(J99:M99) -> 1300 | O99: 15 | P99: =VLOOKUP(D99,고객상담실현황!$F$6:$M$322,2,FALSE) -> 사무관 | Q99: =VLOOKUP(D99,고객상담실현황!$F$6:$M$322,3,FALSE) -> 0 | R99: =VLOOKUP(D99,고객상담실현황!$F$6:$M$322,4,FALSE) -> 2007 | S99: =VLOOKUP(D99,고객상담실현황!$F$6:$M$322,8,FALSE) -> 0
A100: =ROW()-6 -> 94 | B100: 충청청 | C100: 대전 | D100: 대전 | G100: ○ | L100: 3000 | M100: 0 | N100: =SUM(J100:M100) -> 3000 | O100: 12 | P100: =VLOOKUP(D100,고객상담실현황!$F$6:$M$322,2,FALSE) -> 서기관 | Q100: =VLOOKUP(D100,고객상담실현황!$F$6:$M$322,3,FALSE) -> 0 | R100: =VLOOKUP(D100,고객상담실현황!$F$6:$M$322,4,FALSE) -> 2005 | S100: =VLOOKUP(D100,고객상담실현황!$F$6:$M$322,8,FALSE) -> 0
A101: =ROW()-6 -> 95 | B101: 충청청 | C101: 대전대덕 | D101: 대전대덕 | E101: ○ | K101: 8000 | M101: 0 | N101: =SUM(J101:M101) -> 8000 | O101: 5 | P101: =VLOOKUP(D101,고객상담실현황!$F$6:$M$322,2,FALSE) -> 서기관 | Q101: =VLOOKUP(D101,고객상담실현황!$F$6:$M$322,3,FALSE) -> 0 | R101: =VLOOKUP(D101,고객상담실현황!$F$6:$M$322,4,FALSE) -> 2006 | S101: =VLOOKUP(D101,고객상담실현황!$F$6:$M$322,8,FALSE) -> 0
A102: =ROW()-6 -> 96 | B102: 충청청 | C102: 대전둔산 | D102: 대전변동 등 2국 | E102: ○ | K102: 14000 | M102: 0 | N102: =SUM(J102:M102) -> 14000 | O102: 4 | P102: =VLOOKUP(D102,고객상담실현황!$F$6:$M$322,2,FALSE) -> #N/A | Q102: =VLOOKUP(D102,고객상담실현황!$F$6:$M$322,3,FALSE) -> #N/A | R102: =VLOOKUP(D102,고객상담실현황!$F$6:$M$322,4,FALSE) -> #N/A | S102: =VLOOKUP(D102,고객상담실현황!$F$6:$M$322,8,FALSE) -> #N/A
A103: =ROW()-6 -> 97 | B103: 충청청 | C103: 동천안 | D103: 동천안 등 8국 | G103: ○ | L103: 6000 | M103: 1000 | N103: =SUM(J103:M103) -> 7000 | O103: 6 | P103: =VLOOKUP(D103,고객상담실현황!$F$6:$M$322,2,FALSE) -> #N/A | Q103: =VLOOKUP(D103,고객상담실현황!$F$6:$M$322,3,FALSE) -> #N/A | R103: =VLOOKUP(D103,고객상담실현황!$F$6:$M$322,4,FALSE) -> #N/A | S103: =VLOOKUP(D103,고객상담실현황!$F$6:$M$322,8,FALSE) -> #N/A
...

Sheet 환경개선
A2: 2015년도 금융고객상담실 등 금융분야 환경개선 대상관서 수요조사
J4: (단위 : 천원)
A5: 청명 | B5: 총괄국명 | C5: 해당국명 | D5: 현황 | G5: 환경개선 필요 사유 | H5: 소요예산
D6: 설치년도 | E6: 면적(㎡) | F6: 환경개선 실시년도 | H6: 설계비 | I6: 시설비 | J6: 계
A7: 서울청 | B7: 서울중랑 | C7: 서울면목동 | E7: 194 | G7: 바닥타일 노후, 벽면 및 천장 도색 | I7: 8000 | J7: =SUM(H7:I7) -> 8000
A8: 경인청 | B8: 고양일산 | C8: 고양일산 | D8: 2006 | E8: 32.3 | G8: 벽면,천정 노후 및 면적확장필요 | H8: 0 | I8: 10000 | J8: =SUM(H8:I8) -> 10000
A9: 부산청 | B9: 사천 | C9: 사천선구동 | D9: 2010 | E9: 85 | G9: 고객상담실 벽지 노후로 훼손 | H9: 0 | I9: 600 | J9: =SUM(H9:I9) -> 600
A10: 부산청 | B10: 부산금정 | C10: 부산장전동 | E10: 261.8 | G10: o 창구환경개선으로 금융사업 활성화 도모 1. 카운터 노후화로 카운터가 균열되면서 갈라짐 2. 2015년 하반기 2차 창구망 합리화 통합국으로 창구 수 부족으로 인한 카운터 재배치 | H10: 0 | I10: 45000 | J10: =SUM(H10:I10) -> 45000
A11: 부산청 | B11: 김해 | C11: 김해삼방동 | E11: 110 | G11: o 창구환경개선으로 금융사업 활성화 도모 공중실바닥교체 및 창구 카운터 노후화 | H11: 0 | I11: 11000 | J11: =SUM(H11:I11) -> 11000
A12: 부산청 | B12: 부산금정 | C12: 부산남산동 | E12: 724.3 | G12: o 창구환경개선으로 금융사업 활성화 도모모 1. 공중실 아크릴 등커버가 노후화되어 추락 우려로 안전 사고의 위험이 잠재되어 있음(실제 아크릴등 탈락상태임) 2. 공중실 아크릴 등커버의 통일성 부족 및 크랙이 발생한 아크릴등 커버가 많음 3. 공중실 바닥타일의 탈락 및 벗겨진 노면의 미끄러움으로 인하여 고객안전사고 발생 | H12: 0 | I12: 12000 | J12: =SUM(H12:I12) -> 12000
A13: 부산청 | B13: 김해 | C13: 김해삼계동 | E13: 200 | G13: o 창구환경개선으로 금융사업 활성화 도모 창구 전체 조명이 삽입형으로 어두워 고객불만이 많아 돌출형 조명으로 교체하여 금융사업 활성화 도모 | H13: 0 | I13: 5000 | J13: =SUM(H13:I13) -> 5000
A14: 충청청 | B14: 대전대덕 | C14: 대전대덕 | G14: 창구환경 개선(자동화부스 철거) | H14: 0 | I14: 8000 | J14: =SUM(H14:I14) -> 8000
A15: 충청청 | B15: 대전둔산 | C15: 변동, 괴정동 | G15: 창구환경 개선(자동화부스 철거) | H15: 0 | I15: 14000 | J15: =SUM(H15:I15) -> 14000
A16: 충청청 | B16: 보령 | C16: 보령 | D16: 2008 | E16: 42.9 | G16: 바닥공사(카페트 오염) | H16: 0 | I16: 3000 | J16: =SUM(H16:I16) -> 3000
A17: 충청청 | B17: 옥천 | C17: 옥천 | D17: 2008 | E17: 23.1 | F17: 2013 | G17: 바닥공사(카페트 오염) | H17: 0 | I17: 1000 | J17: =SUM(H17:I17) -> 1000
A18: 강원청 | B18: 인제 | C18: 기린 | E18: 11 | G18: 고객 이용시 불편한 창구환경 개선 | H18: 0 | I18: 5000 | J18: =SUM(H18:I18) -> 5000
A19: 강원청 | B19: 홍천 | C19: 창촌 | D19: 1997 | E19: 342㎡ | G19: 카운터CD기 인입공사 | H19: 0 | I19: 2800 | J19: =SUM(H19:I19) -> 2800
A20: 합계 | H20: =SUM(H8:H19) -> 0 | I20: =SUM(I7:I19) -> 125400 | J20: =SUM(J7:J19) -> 125400

Sheet 이전설치
A2: 2015년도 금융고객상담실 이전설치 대상관서 수요조사
K4: (단위 : 천원)
A5: 청명 | B5: 총괄국명 | C5: 해당국명 | D5: 현황 | G5: 이전설치 필요 사유 | H5: 이전 설치 면적(㎡) | I5: 소요예산
D6: 설치년도 | E6: 면적(㎡) | F6: 환경개선 실시년도 | I6: 설계비 | J6: 시설비 | K6: 계
A7: 경인청 | B7: 고양일산 | C7: 고양일산 | D7: 2006 | E7: 32.3 | G7: 현재 위치는 고객접근성이 좋지 않고 불편함 | H7: 30 | I7: 0 | J7: 10000 | K7: =SUM(I7:J7) -> 10000
A8: 전북청 | B8: 김제 | C8: 김제 | D8: 2005년 | E8: 24.5 | G8: 기존환경 개선 | H8: 29 | I8: 0 | J8: 20000 | K8: =SUM(I8:J8) -> 20000
A9: 전북청 | B9: 진안 | C9: 진안 | D9: 2006년 | E9: 철거 | G9: 기존환경 개선 | H9: 17.0 (2.5*6.8) | I9: 0 | J9: 10000 | K9: =SUM(I9:J9) -> 10000
I10: =SUM(I7:I9) -> 0 | J10: =SUM(J7:J9) -> 40000 | K10: =SUM(I10:J10) -> 40000

Sheet 비품구입 및 교체
A2: 2015년도 금융고객상담실 등 비품 신규구입 및 교체 대상관서 수요조사
S4: (단위 : 천원)
A5: 청 명 | B5: 총괄국명 | C5: 해당국명 | D5: 비품 신규 구입 | M5: 비품 교체 | S5: 소요예산
A7: 서울청 | B7: 서울강동 | C7: 서울강동 | D7: 품명 | E7: TV | F7: 냉장고 | G7: 응접의자 | H7: 응접탁자 | M7: 품명 | N7: 냉장고 | O7: 공기청정기 | P7: 고객상담의자 | S7: =SUM(E11:L11)+SUM(N11:R11) -> 910
D8: 수량 | G8: 2 | M8: 구입년도 | O8: 2006년도
D9: 구입사유 | G9: 파손,교체 | M9: 교체사유 | O9: 노후고장
D10: 단가 | G10: 200 | M10: 단가 | O10: 510
D11: 금액 | G11: 400 | M11: 금액 | O11: 510
A12: 서울청 | B12: 서울양천 | C12: 서울양천 | D12: 품명 | E12: OA칸막이 | M12: 품명 | N12: 의자(고객) | O12: 응접탁자 | S12: =SUM(E16:L16)+SUM(N16:R16) -> 2350
D13: 수량 | E13: 5 | M13: 구입년도 | N13: 2008년 | O13: 2008년
D14: 구입사유 | E14: 불편(노출) | M14: 교체사유 | N14: 노후 | O14: 노후
D15: 단가 | E15: 300 | M15: 단가 | N15: 250 | O15: 350
D16: 금액 | E16: 1500 | M16: 금액 | N16: 500 | O16: 350
A17: 서울청 | B17: 서울송파 | C17: 서울송파 | D17: 품명 | E17: 이중캐비넷 | F17: 이동서랍 | G17: 의자 | H17: 상담의자 | I17: 화일장 | J17: 책상 | K17: 책상유리 | L17: 다용도장 | M17: 품명 | N17: 탁자 | O17: 탁자유리 | P17: 응접의자 | Q17: 작업대 | R17: 로비의자 | S17: =SUM(E21:L21)+SUM(N21:R21) -> 7938
D18: 수량 | E18: 1 | F18: 2 | G18: 2 | H18: 2 | I18: 9 | J18: 2 | K18: 2 | L18: 1 | M18: 구입년도 | N18: 1 | O18: 1 | P18: 8 | Q18: 1 | R18: 6
D19: 구입사유 | E19: 신규설치 | F19: 신규설치 | G19: 신규설치 | H19: 신규설치 | I19: 신규설치 | J19: 신규설치 | K19: 신규설치 | L19: 신규설치 | M19: 교체사유 | N19: 신규설치 | O19: 신규설치 | P19: 신규설치 | Q19: 신규설치 | R19: 신규설치
D20: 단가 | E20: 350 | F20: 170 | G20: 190 | H20: 330 | I20: 275 | J20: 175 | K20: 30 | L20: 450 | M20: 단가 | N20: 300 | O20: 70 | P20: 66 | Q20: 265 | R20: 285
D21: 금액 | E21: 350 | F21: 340 | G21: 380 | H21: 660 | I21: 2475 | J21: 350 | K21: 60 | L21: 450 | M21: 금액 | N21: 300 | O21: 70 | P21: 528 | Q21: 265 | R21: 1710
A22: 서울청 | B22: 동대문 | C22: 동대문 | D22: 품명 | E22: 파티션 | M22: 품명 | S22: =SUM(E26:L26)+SUM(N26:R26) -> 400
D23: 수량 | E23: 4 | M23: 구입년도
D24: 구입사유 | E24: 신규설치 | M24: 교체사유
D25: 단가 | E25: 100 | M25: 단가
D26: 금액 | E26: 400 | M26: 금액
A27: 서울청 | B27: 광화문 | C27: 광화문 | D27: 품명 | E27: 상담의자 | M27: 품명 | S27: =SUM(E31:L31)+SUM(N31:R31) -> 1200
D28: 수량 | E28: 2 | M28: 구입년도
D29: 구입사유 | E29: 부족 | M29: 교체사유
D30: 단가 | E30: 600 | M30: 단가
D31: 금액 | E31: 1200 | M31: 금액
A32: 서울청 | B32: 서울도봉 | C32: 서울강북 | D32: 품명 | E32: 응접탁자 | M32: 품명 | N32: 책상(세트) | O32: 의자 | P32: 5단책장 | R32: 파티션 | S32: =SUM(E36:L36)+SUM(N36:R36) -> 5802
D33: 수량 | E33: 1 | M33: 구입년도 | N33: 2005년도 | O33: 2005 | P33: 2005 | R33: 2005
D34: 구입사유 | E34: 고객이용 불편 | M34: 교체사유 | N34: 노후 | O34: 노후 | P34: 장소 협소 | R34: 노후
D35: 단가 | E35: 165 | M35: 단가 | N35: 600 | O35: 224.5 | P35: 254 | R35: 3631
D36: 금액 | E36: 165 | M36: 금액 | N36: 600 | O36: 898 | P36: 508 | R36: 3631
A37: 서울청 | B37: 서울도봉 | C37: 서울수유3동 | D37: 품명 | M37: 품명 | N37: 롤스크린 | O37: 파티션 | P37: 상담실탁자 | Q37: 수납장 | R37: 상담실의자 | S37: =SUM(E41:L41)+SUM(N41:R41) -> 3381
D38: 수량 | M38: 구입년도 | N38: 2002년도 | O38: 2002년도 | P38: 2002년도 | Q38: 2002년도 | R38: 2002년도
D39: 구입사유 | M39: 교체사유 | N39: 고장 | O39: 고장 | P39: 노후및 작음 | Q39: 노후고장 | R39: 고장
D40: 단가 | M40: 단가 | N40: 567 | O40: 1191.8 | P40: 440 | Q40: 720 | R40: 462
D41: 금액 | M41: 금액 | N41: 567 | O41: 1192 | P41: 440 | Q41: 720 | R41: 462
A42: 서울청 | B42: 서울도봉 | C42: 서울번2동 | D42: 품명 | E42: 냉장고 | M42: 품명 | S42: =SUM(E46:L46)+SUM(N46:R46) -> 312
D43: 수량 | E43: 1 | M43: 구입년도
D44: 구입사유 | E44: 미설치 | M44: 교체사유
D45: 단가 | E45: 312 | M45: 단가
D46: 금액 | E46: 312 | M46: 금액
A47: 서울청 | B47: 서울중앙 | C47: 서울중앙 | D47: 품명 | E47: TV | F47: 냉장고 | G47: 응접의자 | H47: 응접탁자 | M47: 품명 | N47: 대여금고컴퓨터 H/W시스템 및 프로그램 업그레이드 교체(4SET/168칸) | S47: =SUM(E51:L51)+SUM(N51:R51) -> 7100
D48: 수량 | M48: 구입년도 | N48: 2009
D49: 구입사유 | M49: 교체사유 | N49: 노후화
D50: 단가 | M50: 단가 | N50: 7100
D51: 금액 | M51: 금액 | N51: 7100
A52: 서울청 | B52: 서울중앙 | C52: 서울태평로 | D52: 품명 | E52: 책상 | F52: 의자 | G52: 응접의자 | H52: 응접탁자 | I52: 커피포트 | M52: 품명 | N52: 고객대기의자 (3인용 3개) | S52: =SUM(E56:L56)+SUM(N56:R56) -> 3000
D53: 수량 | E53: 1 | F53: 1 | G53: 4 | H53: 1 | I53: 1 | M53: 구입년도
D54: 구입사유 | E54: 신규설치 | F54: 신규설치 | G54: 신규설치 | H54: 신규설치 | I54: 신규설치 | M54: 교체사유 | N54: 노후
D55: 단가 | E55: 700 | F55: 300 | G55: 200 | H55: 200 | I55: 100 | M55: 단가 | N55: 300
D56: 금액 | E56: =E53*E55 -> 700 | F56: =F53*F55 -> 300 | G56: =G53*G55 -> 800 | H56: =H53*H55 -> 200 | I56: =I53*I55 -> 100 | M56: 금액 | N56: 900
A57: 서울청 | B57: 서울은평 | C57: 서울응암동 | D57: 품명 | E57: 수납장 | F57: 아크릴액자 | M57: 품명 | N57: 의자 | S57: =SUM(E61:L61)+SUM(N61:R61) -> 1716
D58: 수량 | E58: 4 | F58: 2 | M58: 구입년도 | N58: 2011
D59: 구입사유 | E59: 신규설치 | F59: 신규설치 | M59: 교체사유 | N59: 고장
D60: 단가 | E60: 165 | F60: 88 | M60: 단가 | N60: 176
D61: 금액 | E61: 660 | F61: 176 | M61: 금액 | N61: 880
A62: 서울청 | B62: 서울광진 | C62: 중곡동 | D62: 품명 | E62: TV | F62: 냉장고 | G62: 응접의자 | H62: 응접탁자 | M62: 품명 | N62: 응접의자 | O62: 응접탁자 | P62: 수납장 | R62: 카운터(책상) | S62: =SUM(E66:L66)+SUM(N66:R66) -> 2000
D63: 수량 | G63: 4 | H63: 1 | M63: 구입년도
D64: 구입사유 | M64: 교체사유
D65: 단가 | G65: 250 | H65: 1000 | M65: 단가
D66: 금액 | G66: 1000 | H66: 1000 | M66: 금액
A67: 서울청 | B67: 서울광진 | C67: 서울성동 | D67: 품명 | E67: TV | F67: 냉장고 | G67: 응접의자 | H67: 응접탁자 | M67: 품명 | N67: 응접의자 | O67: 응접탁자 | P67: 수납장 | Q67: 카운터(책상) | S67: =SUM(E71:L71)+SUM(N71:R71) -> 2900
D68: 수량 | M68: 구입년도 | N68: 2007 | O68: 2007 | P68: 없음 | Q68: 2007
D69: 구입사유 | M69: 교체사유 | N69: 노후 | O69: 노후 | P69: 노후 | Q69: 노후
D70: 단가 | M70: 단가 | N70: 300 | O70: 200 | P70: 200 | Q70: 1500
D71: 금액 | M71: 금액 | N71: 600 | O71: 200 | P71: 600 | Q71: 1500
A72: 서울청 | B72: 서울서초 | C72: 서울서초 | D72: 품명 | M72: 품명 | N72: 의자 | S72: =SUM(E76:L76)+SUM(N76:R76) -> 3348
D73: 수량 | M73: 구입년도 | N73: 2004
D74: 구입사유 | M74: 교체사유 | N74: 노후
D75: 단가 | M75: 단가 | N75: 186
D76: 금액 | M76: 금액 | N76: 3348
A77: 서울청 | B77: 서울강서 | C77: 서울강서 | D77: 품명 | E77: 파티션 | M77: 품명 | S77: =SUM(E81:L81)+SUM(N81:R81) -> 2000
D78: 수량 | E78: 2세트 | M78: 구입년도
D79: 구입사유 | E79: 업무공간과 상담공간 분리 | M79: 교체사유
D80: 단가 | M80: 단가
D81: 금액 | E81: 2000 | M81: 금액
A82: 서울청 | B82: 서울용산 | C82: 서울용문동 | D82: 품명 | E82: TV | F82: 냉장고 | G82: 응접의자 | H82: 응접탁자 | M82: 품명 | N82: 철제파티션 | O82: 포스트 | P82: 마감바 | R82: 원탁 | S82: =SUM(E86:L86)+SUM(N86:R86) -> 2035
D83: 수량 | M83: 구입년도 | N83: 1999
D84: 구입사유 | M84: 갯수 | N84: 12 | O84: 3 | P84: 3 | R84: 1
D85: 단가 | M85: 단가 | N85: 140 | O85: 33 | P85: 12 | R85: 220
D86: 금액 | M86: 금액 | N86: 1680 | O86: 99 | P86: 36 | R86: 220
A87: 서울청 | B87: 서울중랑 | C87: 서울중랑 | D87: 품명 | M87: 품명 | N87: 버티컬 | S87: =SUM(E91:L91)+SUM(N91:R91) -> 500
D88: 수량 | M88: 구입년도
D89: 구입사유 | M89: 교체사유 | N89: 노후화
D90: 단가 | M90: 단가 | N90: 500
D91: 금액 | M91: 금액 | N91: 500 | T91: =SUM(S7:S91) -> 46892
A92: 경인청 | B92: 남인천 | C92: 남인천 | D92: C | E92: 선장품보관함 | M92: 품명 | N92: 고객의자 | S92: =SUM(E96:L96)+SUM(N96:R96) -> 2320
D93: 수량 | E93: 1 | M93: 구입년도 | N93: 2006
D94: 구입사유 | E94: 신규설치 | M94: 교체사유 | N94: 노후
D95: 단가 | E95: 1000 | M95: 단가 | N95: 330
D96: 금액 | E96: 1000 | M96: 금액 | N96: 1320
A97: 경인청 | B97: 남인천 | C97: 인천숭의동 | D97: 품명 | E97: 원부보관함 | F97: 원형테이블 | G97: 의자 | M97: 품명 | N97: 2단캐비넷 | O97: 3단캐비넷 | P97: 케비넷상판 | S97: =SUM(E101:L101)+SUM(N101:R101) -> 2150
D98: 수량 | E98: 1 | F98: 1 | G98: 4 | M98: 구입년도 | N98: 2006 | O98: 2006 | P98: 2006
D99: 구입사유 | E99: 신규설치 | F99: 신규설치 | G99: 신규설치 | M99: 교체사유 | N99: 노후 | O99: 노후 | P99: 노후
D100: 단가 | E100: 300 | F100: 220 | G100: 110 | M100: 단가 | N100: 220 | O100: 160 | P100: 30
D101: 금액 | E101: 300 | F101: 220 | G101: 440 | M101: 금액 | N101: 880 | O101: 160 | P101: 150
A102: 경인청 | B102: 남인천 | C102: 인천문학동 | D102: 품명 | M102: 품명 | N102: 고객의자 | S102: =SUM(E106:L106)+SUM(N106:R106) -> 840
D103: 수량 | M103: 구입년도 | N103: 2006
...

Sheet 신규설치
A1: 2015년도 금융고객상담실 신규설치 대상관서 수요조사
A3: 1 | Q3: (단위 : 억원, %, 명)
A4: 청명 | B4: 총괄국명 | C4: 우체국명 | D4: 신규 설치 면적(㎡) | E4: 소요예산 (단위 : 천원) | H4: 전담인력 상시 운용 여부 | J4: 금융단말기 신규 설치 여부 | L4: 우수고객 수 | O4: 우수고객 수신고
E5: 설계비 | F5: 시설비 | G5: 계 | H5: 가능여부 | I5: 운영자 | J5: 신규설치 | K5: 기 단말기 활용 | L5: 총 예금고객 수 | M5: 우수고객 수 | N5: 점유비 | O5: 총수신 | P5: 우수고객 수신 | Q5: 점유비
A6: 경인청 | B6: 시흥 | C6: 시흥대야동 | D6: 20㎡ | E6: 0 | F6: 10000 | G6: 10000 | H6: O | I6: 국장 | K6: O | L6: 7406 | M6: 249 | N6: 0.033621388 | O6: 227 | P6: 142 | Q6: 0.62555066
A7: 충청청 | B7: 논산 | C7: 계룡금암동 | D7: 20㎡ | E7: 0 | F7: 12000 | G7: =SUM(E7:F7) -> 12000 | I7: 국장 | J7: 1 | L7: 5444 | M7: 147 | N7: =M7/L7 -> 0.027002204 | O7: 149.73017 | P7: 104.72111 | Q7: =P7/O7 -> 0.69939887
A8: 충청청 | B8: 청주 | C8: 오창과학단지 | D8: 15㎡ | E8: 0 | F8: 12000 | G8: =SUM(E8:F8) -> 12000 | I8: 국장 | J8: 1 | L8: 3621 | M8: 152 | N8: =M8/L8 -> 0.041977354 | O8: 164 | P8: 107 | Q8: =P8/O8 -> 0.65243902
E9: =SUM(E6:E8) -> 0 | F9: =SUM(F6:F8) -> 34000 | G9: =SUM(G6:G8) -> 34000
A10: * 고객수 및 수신고는 2015.7월말 기준으로 작성

Sheet BI관련 변경
A2: 2014년도 금융고객상담실 BI변경 관련 수요조사
I4: (단위 : 천원)
A5: 청 명 | B5: 총괄국명 | C5: 해당국명 | D5: BI변경 물품 | H5: BI변경 시설 | I5: 소요예산
A7: 경인청 | B7: 서인천 | C7: 서인천 | D7: 품명 | E7: 안내판 | H7: 에버리치 띠지 | I7: =SUM(E10:H10) -> 700
D8: 수량
D9: 단가 | H9: 700
D10: 금액 | H10: 700
A11: 경인청 | B11: 서인천 | C11: 인천석남동 | D11: 품명 | H11: 에버리치 띠지 | I11: =SUM(E14:H14) -> 300
D12: 수량
D13: 단가 | H13: 300
D14: 금액 | H14: 300
A15: 경인청 | B15: 서인천 | C15: 인천가좌2동 | D15: 품명 | H15: 에버리치 띠지 | I15: =SUM(E18:H18) -> 300
D16: 수량
D17: 단가 | H17: 300
D18: 금액 | H18: 300
A19: 경인청 | B19: 서인천 | C19: 인천공단 | D19: 품명 | H19: 에버리치 띠지 | I19: =SUM(E22:H22) -> 300
D20: 수량
D21: 단가 | H21: 300
D22: 금액 | H22: 300
A23: 경인청 | B23: 서인천 | C23: 인천원당 | D23: 품명 | H23: 에버리치 띠지 | I23: =SUM(E26:H26) -> 300
D24: 수량
D25: 단가 | H25: 300
D26: 금액 | H26: 300
A27: 경인청 | B27: 서인천 | C27: 인천검암동 | D27: 품명 | H27: 에버리치 띠지 | I27: =SUM(E30:H30) -> 300
D28: 수량
D29: 단가 | H29: 300
D30: 금액 | H30: 300
A31: 경인청 | B31: 서인천 | C31: 인천청라1동 | D31: 품명 | H31: 에버리치 띠지 | I31: =SUM(E34:H34) -> 300
D32: 수량
D33: 단가 | H33: 300
D34: 금액 | H34: 300
A35: 경인청 | B35: 인천계양 | C35: 인천효성동 | D35: 품명 | H35: 에버리치 띠지 | I35: =SUM(E38:H38) -> 150
D36: 수량
D37: 단가
D38: 금액 | H38: 150
A39: 경인청 | B39: 남인천 | C39: 남인천 | D39: 품명 | H39: 에버리치 띠지 | I39: =SUM(E42:H42) -> 750
D40: 수량 | H40: 5
D41: 단가 | H41: 150
D42: 금액 | H42: 750
A43: 경인청 | B43: 인천남동 | C43: 인천간석동 | D43: 품명 | H43: 에버리치 띠지 | I43: =SUM(E46:H46) -> 150
D44: 수량 | H44: 1
D45: 단가 | H45: 150
D46: 금액 | H46: 150
A47: 경인청 | B47: 인천남동 | C47: 인천구월동 | D47: 품명 | H47: 에버리치 띠지 | I47: =SUM(E50:H50) -> 150
D48: 수량 | H48: 1
D49: 단가 | H49: 150
D50: 금액 | H50: 150
A51: 경인청 | B51: 인천남동 | C51: 인천남동공단 | D51: 품명 | H51: 에버리치 띠지 | I51: =SUM(E54:H54) -> 250
D52: 수량 | H52: 1
D53: 단가 | H53: 250
D54: 금액 | H54: 250
A55: 경인청 | B55: 인천남동 | C55: 인천만수1동 | D55: 품명 | H55: 에버리치 띠지 | I55: =SUM(E58:H58) -> 150
D56: 수량 | H56: 1
D57: 단가 | H57: 150
D58: 금액 | H58: 150
A59: 경인청 | B59: 인천남동 | C59: 인천만수6동 | D59: 품명 | H59: 에버리치 띠지 | I59: =SUM(E62:H62) -> 150
D60: 수량 | H60: 1
D61: 단가 | H61: 150
D62: 금액 | H62: 150
A63: 경인청 | B63: 인천남동 | C63: 만수단지 | D63: 품명 | H63: 에버리치 띠지 | I63: =SUM(E66:H66) -> 150
D64: 수량 | H64: 1
D65: 단가 | H65: 150
D66: 금액 | H66: 150
A67: 경인청 | B67: 인천남동 | C67: 인천논현동 | D67: 품명 | H67: 에버리치 띠지 | I67: =SUM(E70:H70) -> 150
D68: 수량 | H68: 1
D69: 단가 | H69: 150
D70: 금액 | H70: 150
A71: 경인청 | B71: 인천남동 | C71: 인천한화지구 | D71: 품명 | H71: 에버리치 띠지 | I71: =SUM(E74:H74) -> 150
D72: 수량 | H72: 1
D73: 단가 | H73: 150
D74: 금액 | H74: 150
A75: 경인청 | B75: 부평 | C75: 부평대로 | D75: 품명 | H75: 에버리치 띠지 | I75: =SUM(E78:H78) -> 350
D76: 수량 | H76: 1
D77: 단가 | H77: 350
D78: 금액 | H78: 350
A79: 경인청 | B79: 부평 | C79: 인천동암 | D79: 품명 | H79: 에버리치 띠지 | I79: =SUM(E82:H82) -> 250
D80: 수량 | H80: 1
D81: 단가 | H81: 250
D82: 금액 | H82: 250
A83: 경인청 | B83: 부평 | C83: 인천산곡2동 | D83: 품명 | H83: 에버리치 띠지 | I83: =SUM(E86:H86) -> 200
D84: 수량 | H84: 1
D85: 단가 | H85: 200
D86: 금액 | H86: 200
A87: 경인청 | B87: 부평 | C87: 인천삼산동 | D87: 품명 | H87: 에버리치 띠지 유리코팅 포함 | I87: =SUM(E90:H90) -> 700
D88: 수량 | H88: 1
D89: 단가 | H89: 700
D90: 금액 | H90: 700
A91: 경인청 | B91: 부평 | C91: 부평 현대아파트 | D91: 품명 | H91: 에버리치 띠지 | I91: =SUM(E94:H94) -> 200
D92: 수량 | H92: 1
D93: 단가 | H93: 200
D94: 금액 | H94: 200
A95: 경인청 | B95: 동수원 | C95: 동수원 | D95: 품명 | H95: 에버리치 띠지 | I95: =SUM(E98:H98) -> 280
D96: 수량 | H96: 1
D97: 단가 | H97: 280
D98: 금액 | H98: 280
A99: 경인청 | B99: 동수원 | C99: 수원법원 | D99: 품명 | H99: 에버리치 띠지 | I99: =SUM(E102:H102) -> 100
D100: 수량 | H100: 1
D101: 단가 | H101: 100
D102: 금액 | H102: 100
A103: 경인청 | B103: 동수원 | C103: 수원황곡 | D103: 품명 | H103: 에버리치 띠지 | I103: =SUM(E106:H106) -> 460
...

Sheet 예산계산
B2: 2015년도 금융고객상담실 등 금융창구 환경개선 및 신규설치 대상관서(총괄)
N4: (단위 : 천원)
A5: 순번 | B5: 청 명 | C5: 총괄국명 | D5: 해당국명 | E5: 구분 | J5: 총 소요예산 | O5: 우선순위 | P5: 관서급 | Q5: 총괄국여부 | R5: 설치 년도 | S5: 2013년지원 여부
E6: 환경개선 | F6: 이전설치 | G6: 비품구입/교체 | H6: 신규설치 | I6: BI변경 | J6: 설계비(A) | K6: 시설비(B) | L6: 자산취득비(C) | M6: 시설비(BI관련) | N6: 계{(A)+(B)+(C)}
A7: =ROW()-6 -> 1 | B7: 서울청 | C7: 광화문 | D7: 광화문 | G7: ○ | L7: 1200 | N7: =SUM(J7:M7) -> 1200 | P7: =VLOOKUP(D7,고객상담실현황!$F$6:$M$322,2,FALSE) -> 서기관 | Q7: =VLOOKUP(D7,고객상담실현황!$F$6:$M$322,3,FALSE) -> 0 | R7: =VLOOKUP(D7,고객상담실현황!$F$6:$M$322,4,FALSE) -> 2004 | S7: =VLOOKUP(D7,고객상담실현황!$F$6:$M$322,8,FALSE) -> 0
A8: =ROW()-6 -> 2 | B8: 서울청 | C8: 동대문 | D8: 동대문 | G8: ○ | L8: 400 | N8: =SUM(J8:M8) -> 400 | P8: =VLOOKUP(D8,고객상담실현황!$F$6:$M$322,2,FALSE) -> 서기관 | Q8: =VLOOKUP(D8,고객상담실현황!$F$6:$M$322,3,FALSE) -> 0 | R8: =VLOOKUP(D8,고객상담실현황!$F$6:$M$322,4,FALSE) -> 2005 | S8: =VLOOKUP(D8,고객상담실현황!$F$6:$M$322,8,FALSE) -> 0
A9: =ROW()-6 -> 3 | B9: 서울청 | C9: 서울강동 | D9: 서울강동 | G9: ○ | L9: 910 | N9: =SUM(J9:M9) -> 910 | P9: =VLOOKUP(D9,고객상담실현황!$F$6:$M$322,2,FALSE) -> 서기관 | Q9: =VLOOKUP(D9,고객상담실현황!$F$6:$M$322,3,FALSE) -> 0 | R9: =VLOOKUP(D9,고객상담실현황!$F$6:$M$322,4,FALSE) -> 2006 | S9: =VLOOKUP(D9,고객상담실현황!$F$6:$M$322,8,FALSE) -> 5100
A10: =ROW()-6 -> 4 | B10: 서울청 | C10: 서울강서 | D10: 서울강서 | G10: ○ | L10: 2000 | N10: =SUM(J10:M10) -> 2000 | P10: =VLOOKUP(D10,고객상담실현황!$F$6:$M$322,2,FALSE) -> 서기관 | Q10: =VLOOKUP(D10,고객상담실현황!$F$6:$M$322,3,FALSE) -> 0 | R10: =VLOOKUP(D10,고객상담실현황!$F$6:$M$322,4,FALSE) -> 2005 | S10: =VLOOKUP(D10,고객상담실현황!$F$6:$M$322,8,FALSE) -> 0
A11: =ROW()-6 -> 5 | B11: 서울청 | C11: 서울광진 | D11: 성동 | G11: ○ | L11: 2900 | N11: =SUM(J11:M11) -> 2900 | P11: =VLOOKUP(D11,고객상담실현황!$F$6:$M$322,2,FALSE) -> #N/A | Q11: =VLOOKUP(D11,고객상담실현황!$F$6:$M$322,3,FALSE) -> #N/A | R11: =VLOOKUP(D11,고객상담실현황!$F$6:$M$322,4,FALSE) -> #N/A | S11: =VLOOKUP(D11,고객상담실현황!$F$6:$M$322,8,FALSE) -> #N/A
A12: =ROW()-6 -> 6 | B12: 서울청 | C12: 서울광진 | D12: 중곡동 | G12: ○ | L12: 2000 | N12: =SUM(J12:M12) -> 2000 | P12: =VLOOKUP(D12,고객상담실현황!$F$6:$M$322,2,FALSE) -> #N/A | Q12: =VLOOKUP(D12,고객상담실현황!$F$6:$M$322,3,FALSE) -> #N/A | R12: =VLOOKUP(D12,고객상담실현황!$F$6:$M$322,4,FALSE) -> #N/A | S12: =VLOOKUP(D12,고객상담실현황!$F$6:$M$322,8,FALSE) -> #N/A
A13: =ROW()-6 -> 7 | B13: 서울청 | C13: 서울도봉 | D13: 서울강북 | G13: ○ | L13: 5802 | N13: =SUM(J13:M13) -> 5802 | P13: =VLOOKUP(D13,고객상담실현황!$F$6:$M$322,2,FALSE) -> 사무관 | Q13: =VLOOKUP(D13,고객상담실현황!$F$6:$M$322,3,FALSE) -> 관내 | R13: =VLOOKUP(D13,고객상담실현황!$F$6:$M$322,4,FALSE) -> 2005 | S13: =VLOOKUP(D13,고객상담실현황!$F$6:$M$322,8,FALSE) -> 0
A14: =ROW()-6 -> 8 | B14: 서울청 | C14: 서울도봉 | D14: 서울번2동 | G14: ○ | L14: 312 | N14: =SUM(J14:M14) -> 312 | P14: =VLOOKUP(D14,고객상담실현황!$F$6:$M$322,2,FALSE) -> #N/A | Q14: =VLOOKUP(D14,고객상담실현황!$F$6:$M$322,3,FALSE) -> #N/A | R14: =VLOOKUP(D14,고객상담실현황!$F$6:$M$322,4,FALSE) -> #N/A | S14: =VLOOKUP(D14,고객상담실현황!$F$6:$M$322,8,FALSE) -> #N/A
A15: =ROW()-6 -> 9 | B15: 서울청 | C15: 서울도봉 | D15: 서울수유3동 | G15: ○ | L15: 3381 | N15: =SUM(J15:M15) -> 3381 | P15: =VLOOKUP(D15,고객상담실현황!$F$6:$M$322,2,FALSE) -> #N/A | Q15: =VLOOKUP(D15,고객상담실현황!$F$6:$M$322,3,FALSE) -> #N/A | R15: =VLOOKUP(D15,고객상담실현황!$F$6:$M$322,4,FALSE) -> #N/A | S15: =VLOOKUP(D15,고객상담실현황!$F$6:$M$322,8,FALSE) -> #N/A
A16: =ROW()-6 -> 10 | B16: 서울청 | C16: 서울송파 | D16: 서울송파 | G16: ○ | L16: 7938 | N16: =SUM(J16:M16) -> 7938 | P16: =VLOOKUP(D16,고객상담실현황!$F$6:$M$322,2,FALSE) -> 서기관 | Q16: =VLOOKUP(D16,고객상담실현황!$F$6:$M$322,3,FALSE) -> 0 | R16: =VLOOKUP(D16,고객상담실현황!$F$6:$M$322,4,FALSE) -> 2006 | S16: =VLOOKUP(D16,고객상담실현황!$F$6:$M$322,8,FALSE) -> 0
A17: =ROW()-6 -> 11 | B17: 서울청 | C17: 서울양천 | D17: 서울양천 | G17: ○ | L17: 2350 | N17: =SUM(J17:M17) -> 2350 | P17: =VLOOKUP(D17,고객상담실현황!$F$6:$M$322,2,FALSE) -> 서기관 | Q17: =VLOOKUP(D17,고객상담실현황!$F$6:$M$322,3,FALSE) -> 0 | R17: =VLOOKUP(D17,고객상담실현황!$F$6:$M$322,4,FALSE) -> 2007 | S17: =VLOOKUP(D17,고객상담실현황!$F$6:$M$322,8,FALSE) -> 0
A18: =ROW()-6 -> 12 | B18: 서울청 | C18: 서울용산 | D18: 서울용문동 | G18: ○ | L18: 2035 | N18: =SUM(J18:M18) -> 2035 | P18: =VLOOKUP(D18,고객상담실현황!$F$6:$M$322,2,FALSE) -> #N/A | Q18: =VLOOKUP(D18,고객상담실현황!$F$6:$M$322,3,FALSE) -> #N/A | R18: =VLOOKUP(D18,고객상담실현황!$F$6:$M$322,4,FALSE) -> #N/A | S18: =VLOOKUP(D18,고객상담실현황!$F$6:$M$322,8,FALSE) -> #N/A
... A20: =ROW()-6 -> 14 | B20: 서울청 | C20: 서울중랑 | D20: 서울중랑 | G20: ○ | L20: 500 | N20: =SUM(J20:M20) -> 500 | P20: =VLOOKUP(D20,고객상담실현황!$F$6:$M$322,2,FALSE) -> 서기관 | Q20: =VLOOKUP(D20,고객상담실현황!$F$6:$M$322,3,FALSE) -> 0 | R20: =VLOOKUP(D20,고객상담실현황!$F$6:$M$322,4,FALSE) -> 2005 | S20: =VLOOKUP(D20,고객상담실현황!$F$6:$M$322,8,FALSE) -> 0
A21: =ROW()-6 -> 15 | B21: 서울청 | C21: 서울중랑 | D21: 서울면목동 | E21: ○ | K21: 8000 | N21: =SUM(J21:M21) -> 8000 | P21: =VLOOKUP(D21,고객상담실현황!$F$6:$M$322,2,FALSE) -> #N/A | Q21: =VLOOKUP(D21,고객상담실현황!$F$6:$M$322,3,FALSE) -> #N/A | R21: =VLOOKUP(D21,고객상담실현황!$F$6:$M$322,4,FALSE) -> #N/A | S21: =VLOOKUP(D21,고객상담실현황!$F$6:$M$322,8,FALSE) -> #N/A
A22: =ROW()-6 -> 16 | B22: 서울청 | C22: 서울서초 | D22: 서울서초 | G22: ○ | L22: 3348 | N22: =SUM(J22:M22) -> 3348 | P22: =VLOOKUP(D22,고객상담실현황!$F$6:$M$322,2,FALSE) -> 서기관 | Q22: =VLOOKUP(D22,고객상담실현황!$F$6:$M$322,3,FALSE) -> 0 | R22: =VLOOKUP(D22,고객상담실현황!$F$6:$M$322,4,FALSE) -> 2000 | S22: =VLOOKUP(D22,고객상담실현황!$F$6:$M$322,8,FALSE) -> 0
A23: =ROW()-6 -> 17 | B23: 서울청 | C23: 서울중앙 | D23: 서울중앙 | G23: ○ | L23: 7100 | N23: =SUM(J23:M23) -> 7100 | P23: =VLOOKUP(D23,고객상담실현황!$F$6:$M$322,2,FALSE) -> 서기관 | Q23: =VLOOKUP(D23,고객상담실현황!$F$6:$M$322,3,FALSE) -> 0 | R23: =VLOOKUP(D23,고객상담실현황!$F$6:$M$322,4,FALSE) -> 2007 | S23: =VLOOKUP(D23,고객상담실현황!$F$6:$M$322,8,FALSE) -> 0
A24: =ROW()-6 -> 18 | B24: 서울청 | C24: 서울중앙 | D24: 태평로 | G24: ○ | L24: 3000 | N24: =SUM(J24:M24) -> 3000 | P24: =VLOOKUP(D24,고객상담실현황!$F$6:$M$322,2,FALSE) -> #N/A | Q24: =VLOOKUP(D24,고객상담실현황!$F$6:$M$322,3,FALSE) -> #N/A | R24: =VLOOKUP(D24,고객상담실현황!$F$6:$M$322,4,FALSE) -> #N/A | S24: =VLOOKUP(D24,고객상담실현황!$F$6:$M$322,8,FALSE) -> #N/A | T24: =SUM(N7:N24) -> 54892
B25: 서울청 요약 | J25: =SUBTOTAL(9,J7:J24) -> 0 | K25: =SUBTOTAL(9,K7:K24) -> 8000 | L25: =SUBTOTAL(9,L7:L24) -> 46892 | M25: =SUBTOTAL(9,M7:M24) -> 0 | N25: =SUBTOTAL(9,N7:N24) -> 54892
A26: =ROW()-6 -> 20 | B26: 경인청 | C26: 가평 | D26: 가평 | I26: ○ | M26: 600 | N26: =SUM(J26:M26) -> 600 | P26: =VLOOKUP(D26,고객상담실현황!$F$6:$M$322,2,FALSE) -> 사무관 | Q26: =VLOOKUP(D26,고객상담실현황!$F$6:$M$322,3,FALSE) -> 0 | R26: =VLOOKUP(D26,고객상담실현황!$F$6:$M$322,4,FALSE) -> 2007 | S26: =VLOOKUP(D26,고객상담실현황!$F$6:$M$322,8,FALSE) -> 0
A27: =ROW()-6 -> 21 | B27: 경인청 | C27: 고양일산 | D27: 고양일산 | E27: ○ | G27: ○ | I27: ○ | K27: 10000 | L27: 2000 | M27: 600 | N27: =SUM(J27:M27) -> 12600 | O27: 2 | P27: =VLOOKUP(D27,고객상담실현황!$F$6:$M$322,2,FALSE) -> 서기관 | Q27: =VLOOKUP(D27,고객상담실현황!$F$6:$M$322,3,FALSE) -> 0 | R27: =VLOOKUP(D27,고객상담실현황!$F$6:$M$322,4,FALSE) -> 2006 | S27: =VLOOKUP(D27,고객상담실현황!$F$6:$M$322,8,FALSE) -> 0
A28: =ROW()-6 -> 22 | B28: 경인청 | C28: 구리 | D28: 구리 | G28: ○ | I28: ○ | L28: 130 | M28: 300 | N28: =SUM(J28:M28) -> 430 | P28: =VLOOKUP(D28,고객상담실현황!$F$6:$M$322,2,FALSE) -> 사무관 | Q28: =VLOOKUP(D28,고객상담실현황!$F$6:$M$322,3,FALSE) -> 0 | R28: =VLOOKUP(D28,고객상담실현황!$F$6:$M$322,4,FALSE) -> 2007 | S28: =VLOOKUP(D28,고객상담실현황!$F$6:$M$322,8,FALSE) -> 0
A29: =ROW()-6 -> 23 | B29: 경인청 | C29: 구리 | D29: 구리갈매 | G29: ○ | L29: 260 | N29: =SUM(J29:M29) -> 260 | P29: =VLOOKUP(D29,고객상담실현황!$F$6:$M$322,2,FALSE) -> #N/A | Q29: =VLOOKUP(D29,고객상담실현황!$F$6:$M$322,3,FALSE) -> #N/A | R29: =VLOOKUP(D29,고객상담실현황!$F$6:$M$322,4,FALSE) -> #N/A | S29: =VLOOKUP(D29,고객상담실현황!$F$6:$M$322,8,FALSE) -> #N/A
A30: =ROW()-6 -> 24 | B30: 경인청 | C30: 남양주 | D30: 남양주 | G30: ○ | I30: ○ | L30: 1230 | M30: 1600 | N30: =SUM(J30:M30) -> 2830 | P30: =VLOOKUP(D30,고객상담실현황!$F$6:$M$322,2,FALSE) -> 서기관 | Q30: =VLOOKUP(D30,고객상담실현황!$F$6:$M$322,3,FALSE) -> 0 | R30: =VLOOKUP(D30,고객상담실현황!$F$6:$M$322,4,FALSE) -> 2008 | S30: =VLOOKUP(D30,고객상담실현황!$F$6:$M$322,8,FALSE) -> 6200
A31: =ROW()-6 -> 25 | B31: 경인청 | C31: 남인천 | D31: 남인천 | G31: ○ | I31: ○ | L31: 2320 | M31: 750 | N31: =SUM(J31:M31) -> 3070 | P31: =VLOOKUP(D31,고객상담실현황!$F$6:$M$322,2,FALSE) -> 서기관 | Q31: =VLOOKUP(D31,고객상담실현황!$F$6:$M$322,3,FALSE) -> 0 | R31: =VLOOKUP(D31,고객상담실현황!$F$6:$M$322,4,FALSE) -> 2005 | S31: =VLOOKUP(D31,고객상담실현황!$F$6:$M$322,8,FALSE) -> 0
A32: =ROW()-6 -> 26 | B32: 경인청 | C32: 남인천 | D32: 인천문학동 | G32: ○ | L32: 840 | N32: =SUM(J32:M32) -> 840 | P32: =VLOOKUP(D32,고객상담실현황!$F$6:$M$322,2,FALSE) -> #N/A | Q32: =VLOOKUP(D32,고객상담실현황!$F$6:$M$322,3,FALSE) -> #N/A | R32: =VLOOKUP(D32,고객상담실현황!$F$6:$M$322,4,FALSE) -> #N/A | S32: =VLOOKUP(D32,고객상담실현황!$F$6:$M$322,8,FALSE) -> #N/A
A33: =ROW()-6 -> 27 | B33: 경인청 | C33: 남인천 | D33: 인천숭의동 | G33: ○ | L33: 2150 | N33: =SUM(J33:M33) -> 2150 | P33: =VLOOKUP(D33,고객상담실현황!$F$6:$M$322,2,FALSE) -> #N/A | Q33: =VLOOKUP(D33,고객상담실현황!$F$6:$M$322,3,FALSE) -> #N/A | R33: =VLOOKUP(D33,고객상담실현황!$F$6:$M$322,4,FALSE) -> #N/A | S33: =VLOOKUP(D33,고객상담실현황!$F$6:$M$322,8,FALSE) -> #N/A
A34: =ROW()-6 -> 28 | B34: 경인청 | C34: 동수원 | D34: 동수원 | G34: ○ | I34: ○ | L34: 1060 | M34: 280 | N34: =SUM(J34:M34) -> 1340 | P34: =VLOOKUP(D34,고객상담실현황!$F$6:$M$322,2,FALSE) -> 서기관 | Q34: =VLOOKUP(D34,고객상담실현황!$F$6:$M$322,3,FALSE) -> 0 | R34: =VLOOKUP(D34,고객상담실현황!$F$6:$M$322,4,FALSE) -> 2007 | S34: =VLOOKUP(D34,고객상담실현황!$F$6:$M$322,8,FALSE) -> 0
A35: =ROW()-6 -> 29 | B35: 경인청 | C35: 동수원 | D35: 수원법원 | I35: ○ | M35: 280 | N35: =SUM(J35:M35) -> 280 | P35: =VLOOKUP(D35,고객상담실현황!$F$6:$M$322,2,FALSE) -> #N/A | Q35: =VLOOKUP(D35,고객상담실현황!$F$6:$M$322,3,FALSE) -> #N/A | R35: =VLOOKUP(D35,고객상담실현황!$F$6:$M$322,4,FALSE) -> #N/A | S35: =VLOOKUP(D35,고객상담실현황!$F$6:$M$322,8,FALSE) -> #N/A
A36: =ROW()-6 -> 30 | B36: 경인청 | C36: 동수원 | D36: 수원청명 | I36: ○ | M36: 460 | N36: =SUM(J36:M36) -> 460 | P36: =VLOOKUP(D36,고객상담실현황!$F$6:$M$322,2,FALSE) -> #N/A | Q36: =VLOOKUP(D36,고객상담실현황!$F$6:$M$322,3,FALSE) -> #N/A | R36: =VLOOKUP(D36,고객상담실현황!$F$6:$M$322,4,FALSE) -> #N/A | S36: =VLOOKUP(D36,고객상담실현황!$F$6:$M$322,8,FALSE) -> #N/A
A37: =ROW()-6 -> 31 | B37: 경인청 | C37: 동수원 | D37: 수원황곡 | I37: ○ | M37: 100 | N37: =SUM(J37:M37) -> 100 | P37: =VLOOKUP(D37,고객상담실현황!$F$6:$M$322,2,FALSE) -> #N/A | Q37: =VLOOKUP(D37,고객상담실현황!$F$6:$M$322,3,FALSE) -> #N/A | R37: =VLOOKUP(D37,고객상담실현황!$F$6:$M$322,4,FALSE) -> #N/A | S37: =VLOOKUP(D37,고객상담실현황!$F$6:$M$322,8,FALSE) -> #N/A
A38: =ROW()-6 -> 32 | B38: 경인청 | C38: 백령 | D38: 백령 | I38: ○ | M38: 3200 | N38: =SUM(J38:M38) -> 3200 | P38: =VLOOKUP(D38,고객상담실현황!$F$6:$M$322,2,FALSE) -> 사무관 | Q38: =VLOOKUP(D38,고객상담실현황!$F$6:$M$322,3,FALSE) -> 0 | R38: =VLOOKUP(D38,고객상담실현황!$F$6:$M$322,4,FALSE) -> 2008 | S38: =VLOOKUP(D38,고객상담실현황!$F$6:$M$322,8,FALSE) -> 0
A39: =ROW()-6 -> 33 | B39: 경인청 | C39: 부천 | D39: 부천 | I39: ○ | M39: 1900 | N39: =SUM(J39:M39) -> 1900 | P39: =VLOOKUP(D39,고객상담실현황!$F$6:$M$322,2,FALSE) -> 서기관 | Q39: =VLOOKUP(D39,고객상담실현황!$F$6:$M$322,3,FALSE) -> 0 | R39: =VLOOKUP(D39,고객상담실현황!$F$6:$M$322,4,FALSE) -> 2006 | S39: =VLOOKUP(D39,고객상담실현황!$F$6:$M$322,8,FALSE) -> 0
A40: =ROW()-6 -> 34 | B40: 경인청 | C40: 부평 | D40: 부평대로 | I40: ○ | M40: 350 | N40: =SUM(J40:M40) -> 350 | P40: =VLOOKUP(D40,고객상담실현황!$F$6:$M$322,2,FALSE) -> #N/A | Q40: =VLOOKUP(D40,고객상담실현황!$F$6:$M$322,3,FALSE) -> #N/A | R40: =VLOOKUP(D40,고객상담실현황!$F$6:$M$322,4,FALSE) -> #N/A | S40: =VLOOKUP(D40,고객상담실현황!$F$6:$M$322,8,FALSE) -> #N/A
A41: =ROW()-6 -> 35 | B41: 경인청 | C41: 부평 | D41: 부평현대아파트 | I41: ○ | M41: 200 | N41: =SUM(J41:M41) -> 200 | P41: =VLOOKUP(D41,고객상담실현황!$F$6:$M$322,2,FALSE) -> #N/A | Q41: =VLOOKUP(D41,고객상담실현황!$F$6:$M$322,3,FALSE) -> #N/A | R41: =VLOOKUP(D41,고객상담실현황!$F$6:$M$322,4,FALSE) -> #N/A | S41: =VLOOKUP(D41,고객상담실현황!$F$6:$M$322,8,FALSE) -> #N/A
A42: =ROW()-6 -> 36 | B42: 경인청 | C42: 부평 | D42: 북인천 | G42: ○ | L42: 200 | N42: =SUM(J42:M42) -> 200 | P42: =VLOOKUP(D42,고객상담실현황!$F$6:$M$322,2,FALSE) -> #N/A | Q42: =VLOOKUP(D42,고객상담실현황!$F$6:$M$322,3,FALSE) -> #N/A | R42: =VLOOKUP(D42,고객상담실현황!$F$6:$M$322,4,FALSE) -> #N/A | S42: =VLOOKUP(D42,고객상담실현황!$F$6:$M$322,8,FALSE) -> #N/A
A43: =ROW()-6 -> 37 | B43: 경인청 | C43: 부평 | D43: 인천갈산동 | G43: ○ | L43: 410 | N43: =SUM(J43:M43) -> 410 | P43: =VLOOKUP(D43,고객상담실현황!$F$6:$M$322,2,FALSE) -> #N/A | Q43: =VLOOKUP(D43,고객상담실현황!$F$6:$M$322,3,FALSE) -> #N/A | R43: =VLOOKUP(D43,고객상담실현황!$F$6:$M$322,4,FALSE) -> #N/A | S43: =VLOOKUP(D43,고객상담실현황!$F$6:$M$322,8,FALSE) -> #N/A
A44: =ROW()-6 -> 38 | B44: 경인청 | C44: 부평 | D44: 인천동암 | I44: ○ | M44: 250 | N44: =SUM(J44:M44) -> 250 | P44: =VLOOKUP(D44,고객상담실현황!$F$6:$M$322,2,FALSE) -> #N/A | Q44: =VLOOKUP(D44,고객상담실현황!$F$6:$M$322,3,FALSE) -> #N/A | R44: =VLOOKUP(D44,고객상담실현황!$F$6:$M$322,4,FALSE) -> #N/A | S44: =VLOOKUP(D44,고객상담실현황!$F$6:$M$322,8,FALSE) -> #N/A
A45: =ROW()-6 -> 39 | B45: 경인청 | C45: 부평 | D45: 인천산곡2동 | G45: ○ | I45: ○ | L45: 680 | M45: 200 | N45: =SUM(J45:M45) -> 880 | P45: =VLOOKUP(D45,고객상담실현황!$F$6:$M$322,2,FALSE) -> #N/A | Q45: =VLOOKUP(D45,고객상담실현황!$F$6:$M$322,3,FALSE) -> #N/A | R45: =VLOOKUP(D45,고객상담실현황!$F$6:$M$322,4,FALSE) -> #N/A | S45: =VLOOKUP(D45,고객상담실현황!$F$6:$M$322,8,FALSE) -> #N/A
A46: =ROW()-6 -> 40 | B46: 경인청 | C46: 부평 | D46: 인천삼산동 | I46: ○ | M46: 700 | N46: =SUM(J46:M46) -> 700 | P46: =VLOOKUP(D46,고객상담실현황!$F$6:$M$322,2,FALSE) -> #N/A | Q46: =VLOOKUP(D46,고객상담실현황!$F$6:$M$322,3,FALSE) -> #N/A | R46: =VLOOKUP(D46,고객상담실현황!$F$6:$M$322,4,FALSE) -> #N/A | S46: =VLOOKUP(D46,고객상담실현황!$F$6:$M$322,8,FALSE) -> #N/A
A47: =ROW()-6 -> 41 | B47: 경인청 | C47: 서인천 | D47: 서인천 | I47: ○ | M47: 700 | N47: =SUM(J47:M47) -> 700 | P47: =VLOOKUP(D47,고객상담실현황!$F$6:$M$322,2,FALSE) -> 서기관 | Q47: =VLOOKUP(D47,고객상담실현황!$F$6:$M$322,3,FALSE) -> 0 | R47: =VLOOKUP(D47,고객상담실현황!$F$6:$M$322,4,FALSE) -> 2005 | S47: =VLOOKUP(D47,고객상담실현황!$F$6:$M$322,8,FALSE) -> 0
A48: =ROW()-6 -> 42 | B48: 경인청 | C48: 서인천 | D48: 인천가좌2동 | I48: ○ | M48: 300 | N48: =SUM(J48:M48) -> 300 | P48: =VLOOKUP(D48,고객상담실현황!$F$6:$M$322,2,FALSE) -> #N/A | Q48: =VLOOKUP(D48,고객상담실현황!$F$6:$M$322,3,FALSE) -> #N/A | R48: =VLOOKUP(D48,고객상담실현황!$F$6:$M$322,4,FALSE) -> #N/A | S48: =VLOOKUP(D48,고객상담실현황!$F$6:$M$322,8,FALSE) -> #N/A
A49: =ROW()-6 -> 43 | B49: 경인청 | C49: 서인천 | D49: 인천검암동 | I49: ○ | M49: 300 | N49: =SUM(J49:M49) -> 300 | P49: =VLOOKUP(D49,고객상담실현황!$F$6:$M$322,2,FALSE) -> #N/A | Q49: =VLOOKUP(D49,고객상담실현황!$F$6:$M$322,3,FALSE) -> #N/A | R49: =VLOOKUP(D49,고객상담실현황!$F$6:$M$322,4,FALSE) -> #N/A | S49: =VLOOKUP(D49,고객상담실현황!$F$6:$M$322,8,FALSE) -> #N/A
A50: =ROW()-6 -> 44 | B50: 경인청 | C50: 서인천 | D50: 인천공단 | I50: ○ | M50: 300 | N50: =SUM(J50:M50) -> 300 | P50: =VLOOKUP(D50,고객상담실현황!$F$6:$M$322,2,FALSE) -> #N/A | Q50: =VLOOKUP(D50,고객상담실현황!$F$6:$M$322,3,FALSE) -> #N/A | R50: =VLOOKUP(D50,고객상담실현황!$F$6:$M$322,4,FALSE) -> #N/A | S50: =VLOOKUP(D50,고객상담실현황!$F$6:$M$322,8,FALSE) -> #N/A
A51: =ROW()-6 -> 45 | B51: 경인청 | C51: 서인천 | D51: 인천석남동 | I51: ○ | M51: 300 | N51: =SUM(J51:M51) -> 300 | P51: =VLOOKUP(D51,고객상담실현황!$F$6:$M$322,2,FALSE) -> #N/A | Q51: =VLOOKUP(D51,고객상담실현황!$F$6:$M$322,3,FALSE) -> #N/A | R51: =VLOOKUP(D51,고객상담실현황!$F$6:$M$322,4,FALSE) -> #N/A | S51: =VLOOKUP(D51,고객상담실현황!$F$6:$M$322,8,FALSE) -> #N/A
A52: =ROW()-6 -> 46 | B52: 경인청 | C52: 서인천 | D52: 인천원당 | I52: ○ | M52: 300 | N52: =SUM(J52:M52) -> 300 | P52: =VLOOKUP(D52,고객상담실현황!$F$6:$M$322,2,FALSE) -> #N/A | Q52: =VLOOKUP(D52,고객상담실현황!$F$6:$M$322,3,FALSE) -> #N/A | R52: =VLOOKUP(D52,고객상담실현황!$F$6:$M$322,4,FALSE) -> #N/A | S52: =VLOOKUP(D52,고객상담실현황!$F$6:$M$322,8,FALSE) -> #N/A
A53: =ROW()-6 -> 47 | B53: 경인청 | C53: 서인천 | D53: 인천청라1동 | I53: ○ | M53: 300 | N53: =SUM(J53:M53) -> 300 | P53: =VLOOKUP(D53,고객상담실현황!$F$6:$M$322,2,FALSE) -> #N/A | Q53: =VLOOKUP(D53,고객상담실현황!$F$6:$M$322,3,FALSE) -> #N/A | R53: =VLOOKUP(D53,고객상담실현황!$F$6:$M$322,4,FALSE) -> #N/A | S53: =VLOOKUP(D53,고객상담실현황!$F$6:$M$322,8,FALSE) -> #N/A
A54: =ROW()-6 -> 48 | B54: 경인청 | C54: 성남 | D54: 성남 | G54: ○ | L54: 1520 | M54: 110 | N54: =SUM(J54:M54) -> 1630 | P54: =VLOOKUP(D54,고객상담실현황!$F$6:$M$322,2,FALSE) -> 서기관 | Q54: =VLOOKUP(D54,고객상담실현황!$F$6:$M$322,3,FALSE) -> 0 | R54: =VLOOKUP(D54,고객상담실현황!$F$6:$M$322,4,FALSE) -> 2005 | S54: =VLOOKUP(D54,고객상담실현황!$F$6:$M$322,8,FALSE) -> 0
A55: =ROW()-6 -> 49 | B55: 경인청 | C55: 성남분당 | D55: 성남구미동 | I55: ○ | M55: 440 | N55: =SUM(J55:M55) -> 440 | P55: =VLOOKUP(D55,고객상담실현황!$F$6:$M$322,2,FALSE) -> 사무관 | Q55: =VLOOKUP(D55,고객상담실현황!$F$6:$M$322,3,FALSE) -> 관내 | R55: =VLOOKUP(D55,고객상담실현황!$F$6:$M$322,4,FALSE) -> 2011 | S55: =VLOOKUP(D55,고객상담실현황!$F$6:$M$322,8,FALSE) -> 0
A56: =ROW()-6 -> 50 | B56: 경인청 | C56: 성남분당 | D56: 성남분당 | I56: ○ | M56: 1210 | N56: =SUM(J56:M56) -> 1210 | P56: =VLOOKUP(D56,고객상담실현황!$F$6:$M$322,2,FALSE) -> 서기관 | Q56: =VLOOKUP(D56,고객상담실현황!$F$6:$M$322,3,FALSE) -> 0 | R56: =VLOOKUP(D56,고객상담실현황!$F$6:$M$322,4,FALSE) -> 2006 | S56: =VLOOKUP(D56,고객상담실현황!$F$6:$M$322,8,FALSE) -> 0
A57: =ROW()-6 -> 51 | B57: 경인청 | C57: 성남분당 | D57: 성남삼평동 | I57: ○ | M57: 660 | N57: =SUM(J57:M57) -> 660 | P57: =VLOOKUP(D57,고객상담실현황!$F$6:$M$322,2,FALSE) -> #N/A | Q57: =VLOOKUP(D57,고객상담실현황!$F$6:$M$322,3,FALSE) -> #N/A | R57: =VLOOKUP(D57,고객상담실현황!$F$6:$M$322,4,FALSE) -> #N/A | S57: =VLOOKUP(D57,고객상담실현황!$F$6:$M$322,8,FALSE) -> #N/A
A58: =ROW()-6 -> 52 | B58: 경인청 | C58: 성남분당 | D58: 성남서현1동 | I58: ○ | M58: 440 | N58: =SUM(J58:M58) -> 440 | P58: =VLOOKUP(D58,고객상담실현황!$F$6:$M$322,2,FALSE) -> 주사 | Q58: =VLOOKUP(D58,고객상담실현황!$F$6:$M$322,3,FALSE) -> 관내 | R58: =VLOOKUP(D58,고객상담실현황!$F$6:$M$322,4,FALSE) -> 2010 | S58: =VLOOKUP(D58,고객상담실현황!$F$6:$M$322,8,FALSE) -> 0
A59: =ROW()-6 -> 53 | B59: 경인청 | C59: 성남분당 | D59: 성남서현2동 | I59: ○ | M59: 550 | N59: =SUM(J59:M59) -> 550 | P59: =VLOOKUP(D59,고객상담실현황!$F$6:$M$322,2,FALSE) -> #N/A | Q59: =VLOOKUP(D59,고객상담실현황!$F$6:$M$322,3,FALSE) -> #N/A | R59: =VLOOKUP(D59,고객상담실현황!$F$6:$M$322,4,FALSE) -> #N/A | S59: =VLOOKUP(D59,고객상담실현황!$F$6:$M$322,8,FALSE) -> #N/A
A60: =ROW()-6 -> 54 | B60: 경인청 | C60: 성남분당 | D60: 성남수내동 | I60: ○ | M60: 440 | N60: =SUM(J60:M60) -> 440 | P60: =VLOOKUP(D60,고객상담실현황!$F$6:$M$322,2,FALSE) -> 주사 | Q60: =VLOOKUP(D60,고객상담실현황!$F$6:$M$322,3,FALSE) -> 관내 | R60: =VLOOKUP(D60,고객상담실현황!$F$6:$M$322,4,FALSE) -> 2011 | S60: =VLOOKUP(D60,고객상담실현황!$F$6:$M$322,8,FALSE) -> 0
A61: =ROW()-6 -> 55 | B61: 경인청 | C61: 성남분당 | D61: 성남야탑동 | I61: ○ | M61: 440 | N61: =SUM(J61:M61) -> 440 | P61: =VLOOKUP(D61,고객상담실현황!$F$6:$M$322,2,FALSE) -> 주사 | Q61: =VLOOKUP(D61,고객상담실현황!$F$6:$M$322,3,FALSE) -> 관내 | R61: =VLOOKUP(D61,고객상담실현황!$F$6:$M$322,4,FALSE) -> 2011 | S61: =VLOOKUP(D61,고객상담실현황!$F$6:$M$322,8,FALSE) -> 0
A62: =ROW()-6 -> 56 | B62: 경인청 | C62: 성남분당 | D62: 성남운중동 | I62: ○ | M62: 660 | N62: =SUM(J62:M62) -> 660 | P62: =VLOOKUP(D62,고객상담실현황!$F$6:$M$322,2,FALSE) -> #N/A | Q62: =VLOOKUP(D62,고객상담실현황!$F$6:$M$322,3,FALSE) -> #N/A | R62: =VLOOKUP(D62,고객상담실현황!$F$6:$M$322,4,FALSE) -> #N/A | S62: =VLOOKUP(D62,고객상담실현황!$F$6:$M$322,8,FALSE) -> #N/A
A63: =ROW()-6 -> 57 | B63: 경인청 | C63: 성남분당 | D63: 성남정자동 | I63: ○ | M63: 440 | N63: =SUM(J63:M63) -> 440 | P63: =VLOOKUP(D63,고객상담실현황!$F$6:$M$322,2,FALSE) -> #N/A | Q63: =VLOOKUP(D63,고객상담실현황!$F$6:$M$322,3,FALSE) -> #N/A | R63: =VLOOKUP(D63,고객상담실현황!$F$6:$M$322,4,FALSE) -> #N/A | S63: =VLOOKUP(D63,고객상담실현황!$F$6:$M$322,8,FALSE) -> #N/A
A64: =ROW()-6 -> 58 | B64: 경인청 | C64: 시흥 | D64: 시흥 | I64: ○ | M64: 500 | N64: =SUM(J64:M64) -> 500 | P64: =VLOOKUP(D64,고객상담실현황!$F$6:$M$322,2,FALSE) -> 서기관 | Q64: =VLOOKUP(D64,고객상담실현황!$F$6:$M$322,3,FALSE) -> 0 | R64: =VLOOKUP(D64,고객상담실현황!$F$6:$M$322,4,FALSE) -> 2005 | S64: =VLOOKUP(D64,고객상담실현황!$F$6:$M$322,8,FALSE) -> 0
A65: =ROW()-6 -> 59 | B65: 경인청 | C65: 시흥 | D65: 시흥대야동 | G65: ○ | H65: ○ | K65: 10000 | L65: 3510 | N65: =SUM(J65:M65) -> 13510 | O65: 1 | P65: =VLOOKUP(D65,고객상담실현황!$F$6:$M$322,2,FALSE) -> #N/A | Q65: =VLOOKUP(D65,고객상담실현황!$F$6:$M$322,3,FALSE) -> #N/A | R65: =VLOOKUP(D65,고객상담실현황!$F$6:$M$322,4,FALSE) -> #N/A | S65: =VLOOKUP(D65,고객상담실현황!$F$6:$M$322,8,FALSE) -> #N/A
A66: =ROW()-6 -> 60 | B66: 경인청 | C66: 안양 | D66: 과천 | M66: 200 | N66: =SUM(J66:M66) -> 200 | P66: =VLOOKUP(D66,고객상담실현황!$F$6:$M$322,2,FALSE) -> 주사 | Q66: =VLOOKUP(D66,고객상담실현황!$F$6:$M$322,3,FALSE) -> 관내 | R66: =VLOOKUP(D66,고객상담실현황!$F$6:$M$322,4,FALSE) -> 2009 | S66: =VLOOKUP(D66,고객상담실현황!$F$6:$M$322,8,FALSE) -> 0
A67: =ROW()-6 -> 61 | B67: 경인청 | C67: 안양 | D67: 안양 | I67: ○ | M67: 700 | N67: =SUM(J67:M67) -> 700 | P67: =VLOOKUP(D67,고객상담실현황!$F$6:$M$322,2,FALSE) -> 서기관 | Q67: =VLOOKUP(D67,고객상담실현황!$F$6:$M$322,3,FALSE) -> 0 | R67: =VLOOKUP(D67,고객상담실현황!$F$6:$M$322,4,FALSE) -> 2005 | S67: =VLOOKUP(D67,고객상담실현황!$F$6:$M$322,8,FALSE) -> 0
A68: =ROW()-6 -> 62 | B68: 경인청 | C68: 안양 | D68: 안양4동 | G68: ○ | L68: 800 | N68: =SUM(J68:M68) -> 800 | P68: =VLOOKUP(D68,고객상담실현황!$F$6:$M$322,2,FALSE) -> #N/A | Q68: =VLOOKUP(D68,고객상담실현황!$F$6:$M$322,3,FALSE) -> #N/A | R68: =VLOOKUP(D68,고객상담실현황!$F$6:$M$322,4,FALSE) -> #N/A | S68: =VLOOKUP(D68,고객상담실현황!$F$6:$M$322,8,FALSE) -> #N/A
A69: =ROW()-6 -> 63 | B69: 경인청 | C69: 안양 | D69: 안양귀인동 | M69: 1480 | N69: =SUM(J69:M69) -> 1480 | P69: =VLOOKUP(D69,고객상담실현황!$F$6:$M$322,2,FALSE) -> #N/A | Q69: =VLOOKUP(D69,고객상담실현황!$F$6:$M$322,3,FALSE) -> #N/A | R69: =VLOOKUP(D69,고객상담실현황!$F$6:$M$322,4,FALSE) -> #N/A | S69: =VLOOKUP(D69,고객상담실현황!$F$6:$M$322,8,FALSE) -> #N/A
A70: =ROW()-6 -> 64 | B70: 경인청 | C70: 안양 | D70: 안양부림동 | G70: ○ | L70: 1330 | N70: =SUM(J70:M70) -> 1330 | P70: =VLOOKUP(D70,고객상담실현황!$F$6:$M$322,2,FALSE) -> #N/A | Q70: =VLOOKUP(D70,고객상담실현황!$F$6:$M$322,3,FALSE) -> #N/A | R70: =VLOOKUP(D70,고객상담실현황!$F$6:$M$322,4,FALSE) -> #N/A | S70: =VLOOKUP(D70,고객상담실현황!$F$6:$M$322,8,FALSE) -> #N/A
A71: =ROW()-6 -> 65 | B71: 경인청 | C71: 안양 | D71: 정부과천청사 | M71: 300 | N71: =SUM(J71:M71) -> 300 | P71: =VLOOKUP(D71,고객상담실현황!$F$6:$M$322,2,FALSE) -> #N/A | Q71: =VLOOKUP(D71,고객상담실현황!$F$6:$M$322,3,FALSE) -> #N/A | R71: =VLOOKUP(D71,고객상담실현황!$F$6:$M$322,4,FALSE) -> #N/A | S71: =VLOOKUP(D71,고객상담실현황!$F$6:$M$322,8,FALSE) -> #N/A
A72: =ROW()-6 -> 66 | B72: 경인청 | C72: 여주 | D72: 여주 | I72: ○ | M72: 500 | N72: =SUM(J72:M72) -> 500 | P72: =VLOOKUP(D72,고객상담실현황!$F$6:$M$322,2,FALSE) -> 서기관 | Q72: =VLOOKUP(D72,고객상담실현황!$F$6:$M$322,3,FALSE) -> 0 | R72: =VLOOKUP(D72,고객상담실현황!$F$6:$M$322,4,FALSE) -> 2007 | S72: =VLOOKUP(D72,고객상담실현황!$F$6:$M$322,8,FALSE) -> 0
A73: =ROW()-6 -> 67 | B73: 경인청 | C73: 용인 | D73: 용인 | I73: ○ | M73: 3150 | N73: =SUM(J73:M73) -> 3150 | P73: =VLOOKUP(D73,고객상담실현황!$F$6:$M$322,2,FALSE) -> 서기관 | Q73: =VLOOKUP(D73,고객상담실현황!$F$6:$M$322,3,FALSE) -> 0 | R73: =VLOOKUP(D73,고객상담실현황!$F$6:$M$322,4,FALSE) -> 2010 | S73: =VLOOKUP(D73,고객상담실현황!$F$6:$M$322,8,FALSE) -> 7900
A74: =ROW()-6 -> 68 | B74: 경인청 | C74: 인천계양 | D74: 인천효성동 | I74: ○ | M74: 150 | N74: =SUM(J74:M74) -> 150 | P74: =VLOOKUP(D74,고객상담실현황!$F$6:$M$322,2,FALSE) -> #N/A | Q74: =VLOOKUP(D74,고객상담실현황!$F$6:$M$322,3,FALSE) -> #N/A | R74: =VLOOKUP(D74,고객상담실현황!$F$6:$M$322,4,FALSE) -> #N/A | S74: =VLOOKUP(D74,고객상담실현황!$F$6:$M$322,8,FALSE) -> #N/A
A75: =ROW()-6 -> 69 | B75: 경인청 | C75: 인천남동 | D75: 인천간석동 | G75: ○ | I75: ○ | L75: 750 | M75: 150 | N75: =SUM(J75:M75) -> 900 | P75: =VLOOKUP(D75,고객상담실현황!$F$6:$M$322,2,FALSE) -> #N/A | Q75: =VLOOKUP(D75,고객상담실현황!$F$6:$M$322,3,FALSE) -> #N/A | R75: =VLOOKUP(D75,고객상담실현황!$F$6:$M$322,4,FALSE) -> #N/A | S75: =VLOOKUP(D75,고객상담실현황!$F$6:$M$322,8,FALSE) -> #N/A
A76: =ROW()-6 -> 70 | B76: 경인청 | C76: 인천남동 | D76: 인천구월동 | G76: ○ | I76: ○ | L76: 760 | M76: 150 | N76: =SUM(J76:M76) -> 910 | P76: =VLOOKUP(D76,고객상담실현황!$F$6:$M$322,2,FALSE) -> #N/A | Q76: =VLOOKUP(D76,고객상담실현황!$F$6:$M$322,3,FALSE) -> #N/A | R76: =VLOOKUP(D76,고객상담실현황!$F$6:$M$322,4,FALSE) -> #N/A | S76: =VLOOKUP(D76,고객상담실현황!$F$6:$M$322,8,FALSE) -> #N/A
A77: =ROW()-6 -> 71 | B77: 경인청 | C77: 인천남동 | D77: 인천남동 | G77: ○ | L77: 1470 | N77: =SUM(J77:M77) -> 1470 | O77: 3 | P77: =VLOOKUP(D77,고객상담실현황!$F$6:$M$322,2,FALSE) -> #N/A | Q77: =VLOOKUP(D77,고객상담실현황!$F$6:$M$322,3,FALSE) -> #N/A | R77: =VLOOKUP(D77,고객상담실현황!$F$6:$M$322,4,FALSE) -> #N/A | S77: =VLOOKUP(D77,고객상담실현황!$F$6:$M$322,8,FALSE) -> #N/A
A78: =ROW()-6 -> 72 | B78: 경인청 | C78: 인천남동 | D78: 인천남동공단 | I78: ○ | M78: 250 | N78: =SUM(J78:M78) -> 250 | P78: =VLOOKUP(D78,고객상담실현황!$F$6:$M$322,2,FALSE) -> #N/A | Q78: =VLOOKUP(D78,고객상담실현황!$F$6:$M$322,3,FALSE) -> #N/A | R78: =VLOOKUP(D78,고객상담실현황!$F$6:$M$322,4,FALSE) -> #N/A | S78: =VLOOKUP(D78,고객상담실현황!$F$6:$M$322,8,FALSE) -> #N/A
A79: =ROW()-6 -> 73 | B79: 경인청 | C79: 인천남동 | D79: 인천논현동 | I79: ○ | M79: 150 | N79: =SUM(J79:M79) -> 150 | P79: =VLOOKUP(D79,고객상담실현황!$F$6:$M$322,2,FALSE) -> #N/A | Q79: =VLOOKUP(D79,고객상담실현황!$F$6:$M$322,3,FALSE) -> #N/A | R79: =VLOOKUP(D79,고객상담실현황!$F$6:$M$322,4,FALSE) -> #N/A | S79: =VLOOKUP(D79,고객상담실현황!$F$6:$M$322,8,FALSE) -> #N/A
A80: =ROW()-6 -> 74 | B80: 경인청 | C80: 인천남동 | D80: 인천만수1동 | I80: ○ | M80: 150 | N80: =SUM(J80:M80) -> 150 | P80: =VLOOKUP(D80,고객상담실현황!$F$6:$M$322,2,FALSE) -> #N/A | Q80: =VLOOKUP(D80,고객상담실현황!$F$6:$M$322,3,FALSE) -> #N/A | R80: =VLOOKUP(D80,고객상담실현황!$F$6:$M$322,4,FALSE) -> #N/A | S80: =VLOOKUP(D80,고객상담실현황!$F$6:$M$322,8,FALSE) -> #N/A
A81: =ROW()-6 -> 75 | B81: 경인청 | C81: 인천남동 | D81: 인천만수6동 | I81: ○ | M81: 150 | N81: =SUM(J81:M81) -> 150 | P81: =VLOOKUP(D81,고객상담실현황!$F$6:$M$322,2,FALSE) -> #N/A | Q81: =VLOOKUP(D81,고객상담실현황!$F$6:$M$322,3,FALSE) -> #N/A | R81: =VLOOKUP(D81,고객상담실현황!$F$6:$M$322,4,FALSE) -> #N/A | S81: =VLOOKUP(D81,고객상담실현황!$F$6:$M$322,8,FALSE) -> #N/A
A82: =ROW()-6 -> 76 | B82: 경인청 | C82: 인천남동 | D82: 인천만수단지 | G82: ○ | I82: ○ | L82: 450 | M82: 150 | N82: =SUM(J82:M82) -> 600 | P82: =VLOOKUP(D82,고객상담실현황!$F$6:$M$322,2,FALSE) -> #N/A | Q82: =VLOOKUP(D82,고객상담실현황!$F$6:$M$322,3,FALSE) -> #N/A | R82: =VLOOKUP(D82,고객상담실현황!$F$6:$M$322,4,FALSE) -> #N/A | S82: =VLOOKUP(D82,고객상담실현황!$F$6:$M$322,8,FALSE) -> #N/A
A83: =ROW()-6 -> 77 | B83: 경인청 | C83: 인천남동 | D83: 인천한화지구 | I83: ○ | M83: 150 | N83: =SUM(J83:M83) -> 150 | P83: =VLOOKUP(D83,고객상담실현황!$F$6:$M$322,2,FALSE) -> #N/A | Q83: =VLOOKUP(D83,고객상담실현황!$F$6:$M$322,3,FALSE) -> #N/A | R83: =VLOOKUP(D83,고객상담실현황!$F$6:$M$322,4,FALSE) -> #N/A | S83: =VLOOKUP(D83,고객상담실현황!$F$6:$M$322,8,FALSE) -> #N/A
A84: =ROW()-6 -> 78 | B84: 경인청 | C84: 파주 | D84: 파주 | I84: ○ | M84: 240 | N84: =SUM(J84:M84) -> 240 | P84: =VLOOKUP(D84,고객상담실현황!$F$6:$M$322,2,FALSE) -> 서기관 | Q84: =VLOOKUP(D84,고객상담실현황!$F$6:$M$322,3,FALSE) -> 0 | R84: =VLOOKUP(D84,고객상담실현황!$F$6:$M$322,4,FALSE) -> 2008 | S84: =VLOOKUP(D84,고객상담실현황!$F$6:$M$322,8,FALSE) -> 6800
A85: =ROW()-6 -> 79 | B85: 경인청 | C85: 화성 | D85: 화성 | I85: ○ | M85: 1650 | N85: =SUM(J85:M85) -> 1650 | P85: =VLOOKUP(D85,고객상담실현황!$F$6:$M$322,2,FALSE) -> 서기관 | Q85: =VLOOKUP(D85,고객상담실현황!$F$6:$M$322,3,FALSE) -> 0 | R85: =VLOOKUP(D85,고객상담실현황!$F$6:$M$322,4,FALSE) -> 2009 | S85: =VLOOKUP(D85,고객상담실현황!$F$6:$M$322,8,FALSE) -> 0 | T85: =SUM(N26:N85) -> 71700
B86: 경인청 요약 | J86: =SUBTOTAL(9,J26:J85) -> 0 | K86: =SUBTOTAL(9,K26:K85) -> 20000 | L86: =SUBTOTAL(9,L26:L85) -> 21870 | M86: =SUBTOTAL(9,M26:M85) -> 29830 | N86: =SUBTOTAL(9,N26:N85) -> 71700
A87: =ROW()-6 -> 81 | B87: 부산청 | C87: 거제 | D87: 거제 | G87: ○ | L87: 1000 | N87: =SUM(J87:M87) -> 1000 | O87: 10 | P87: =VLOOKUP(D87,고객상담실현황!$F$6:$M$322,2,FALSE) -> 서기관 | Q87: =VLOOKUP(D87,고객상담실현황!$F$6:$M$322,3,FALSE) -> 0 | R87: =VLOOKUP(D87,고객상담실현황!$F$6:$M$322,4,FALSE) -> 2007 | S87: =VLOOKUP(D87,고객상담실현황!$F$6:$M$322,8,FALSE) -> 0
A88: =ROW()-6 -> 82 | B88: 부산청 | C88: 김해 | D88: 김해부원동 | G88: ○ | L88: 500 | N88: =SUM(J88:M88) -> 500 | O88: 9 | P88: =VLOOKUP(D88,고객상담실현황!$F$6:$M$322,2,FALSE) -> #N/A | Q88: =VLOOKUP(D88,고객상담실현황!$F$6:$M$322,3,FALSE) -> #N/A | R88: =VLOOKUP(D88,고객상담실현황!$F$6:$M$322,4,FALSE) -> #N/A | S88: =VLOOKUP(D88,고객상담실현황!$F$6:$M$322,8,FALSE) -> #N/A
A89: =ROW()-6 -> 83 | B89: 부산청 | C89: 김해 | D89: 김해삼계동 | E89: ○ | K89: 5000 | N89: =SUM(J89:M89) -> 5000 | O89: 5 | P89: =VLOOKUP(D89,고객상담실현황!$F$6:$M$322,2,FALSE) -> #N/A | Q89: =VLOOKUP(D89,고객상담실현황!$F$6:$M$322,3,FALSE) -> #N/A | R89: =VLOOKUP(D89,고객상담실현황!$F$6:$M$322,4,FALSE) -> #N/A | S89: =VLOOKUP(D89,고객상담실현황!$F$6:$M$322,8,FALSE) -> #N/A
A90: =ROW()-6 -> 84 | B90: 부산청 | C90: 김해 | D90: 김해삼방동 | E90: ○ | K90: 11000 | N90: =SUM(J90:M90) -> 11000 | O90: 3 | P90: =VLOOKUP(D90,고객상담실현황!$F$6:$M$322,2,FALSE) -> #N/A | Q90: =VLOOKUP(D90,고객상담실현황!$F$6:$M$322,3,FALSE) -> #N/A | R90: =VLOOKUP(D90,고객상담실현황!$F$6:$M$322,4,FALSE) -> #N/A | S90: =VLOOKUP(D90,고객상담실현황!$F$6:$M$322,8,FALSE) -> #N/A
A91: =ROW()-6 -> 85 | B91: 부산청 | C91: 부산 | D91: 부산 | G91: ○ | L91: 600 | N91: =SUM(J91:M91) -> 600 | O91: 6 | P91: =VLOOKUP(D91,고객상담실현황!$F$6:$M$322,2,FALSE) -> 서기관 | Q91: =VLOOKUP(D91,고객상담실현황!$F$6:$M$322,3,FALSE) -> 0 | R91: =VLOOKUP(D91,고객상담실현황!$F$6:$M$322,4,FALSE) -> 2006 | S91: =VLOOKUP(D91,고객상담실현황!$F$6:$M$322,8,FALSE) -> 0
A92: =ROW()-6 -> 86 | B92: 부산청 | C92: 부산금정 | D92: 부산금정 | G92: ○ | L92: 1000 | N92: =SUM(J92:M92) -> 1000 | O92: 7 | P92: =VLOOKUP(D92,고객상담실현황!$F$6:$M$322,2,FALSE) -> 서기관 | Q92: =VLOOKUP(D92,고객상담실현황!$F$6:$M$322,3,FALSE) -> 0 | R92: =VLOOKUP(D92,고객상담실현황!$F$6:$M$322,4,FALSE) -> 2007 | S92: =VLOOKUP(D92,고객상담실현황!$F$6:$M$322,8,FALSE) -> 10000
A93: =ROW()-6 -> 87 | B93: 부산청 | C93: 부산금정 | D93: 부산남산동 | E93: ○ | K93: 12000 | N93: =SUM(J93:M93) -> 12000 | O93: 4 | P93: =VLOOKUP(D93,고객상담실현황!$F$6:$M$322,2,FALSE) -> 주사 | Q93: =VLOOKUP(D93,고객상담실현황!$F$6:$M$322,3,FALSE) -> 관내 | R93: =VLOOKUP(D93,고객상담실현황!$F$6:$M$322,4,FALSE) -> 2011 | S93: =VLOOKUP(D93,고객상담실현황!$F$6:$M$322,8,FALSE) -> 0
A94: =ROW()-6 -> 88 | B94: 부산청 | C94: 부산금정 | D94: 부산장전동 | E94: ○ | K94: 45000 | N94: =SUM(J94:M94) -> 45000 | O94: 2 | P94: =VLOOKUP(D94,고객상담실현황!$F$6:$M$322,2,FALSE) -> #N/A | Q94: =VLOOKUP(D94,고객상담실현황!$F$6:$M$322,3,FALSE) -> #N/A | R94: =VLOOKUP(D94,고객상담실현황!$F$6:$M$322,4,FALSE) -> #N/A | S94: =VLOOKUP(D94,고객상담실현황!$F$6:$M$322,8,FALSE) -> #N/A
A95: =ROW()-6 -> 89 | B95: 부산청 | C95: 부산진 | D95: 부산진 | G95: ○ | L95: 1500 | N95: =SUM(J95:M95) -> 1500 | O95: 8 | P95: =VLOOKUP(D95,고객상담실현황!$F$6:$M$322,2,FALSE) -> 서기관 | Q95: =VLOOKUP(D95,고객상담실현황!$F$6:$M$322,3,FALSE) -> 0 | R95: =VLOOKUP(D95,고객상담실현황!$F$6:$M$322,4,FALSE) -> 2003 | S95: =VLOOKUP(D95,고객상담실현황!$F$6:$M$322,8,FALSE) -> 0
A96: =ROW()-6 -> 90 | B96: 부산청 | C96: 사천 | D96: 사천선구동 | E96: ○ | K96: 600 | N96: =SUM(J96:M96) -> 600 | O96: 1 | P96: =VLOOKUP(D96,고객상담실현황!$F$6:$M$322,2,FALSE) -> 주사 | Q96: =VLOOKUP(D96,고객상담실현황!$F$6:$M$322,3,FALSE) -> 관내 | R96: =VLOOKUP(D96,고객상담실현황!$F$6:$M$322,4,FALSE) -> 2010 | S96: =VLOOKUP(D96,고객상담실현황!$F$6:$M$322,8,FALSE) -> 0 | T96: =SUM(N87:N96) -> 78200
B97: 부산청 요약 | J97: =SUBTOTAL(9,J87:J96) -> 0 | K97: =SUBTOTAL(9,K87:K96) -> 73600 | L97: =SUBTOTAL(9,L87:L96) -> 4600 | M97: =SUBTOTAL(9,M87:M96) -> 0 | N97: =SUBTOTAL(9,N87:N96) -> 78200
A98: =ROW()-6 -> 92 | B98: 충청청 | C98: 공주 | D98: 공주 등10국 | I98: ○ | M98: 3500 | N98: =SUM(J98:M98) -> 3500 | O98: 11 | P98: =VLOOKUP(D98,고객상담실현황!$F$6:$M$322,2,FALSE) -> #N/A | Q98: =VLOOKUP(D98,고객상담실현황!$F$6:$M$322,3,FALSE) -> #N/A | R98: =VLOOKUP(D98,고객상담실현황!$F$6:$M$322,4,FALSE) -> #N/A | S98: =VLOOKUP(D98,고객상담실현황!$F$6:$M$322,8,FALSE) -> #N/A
A99: =ROW()-6 -> 93 | B99: 충청청 | C99: 괴산 | D99: 증평 | G99: ○ | L99: 2000 | M99: 0 | N99: =SUM(J99:M99) -> 2000 | O99: 14 | P99: =VLOOKUP(D99,고객상담실현황!$F$6:$M$322,2,FALSE) -> #N/A | Q99: =VLOOKUP(D99,고객상담실현황!$F$6:$M$322,3,FALSE) -> #N/A | R99: =VLOOKUP(D99,고객상담실현황!$F$6:$M$322,4,FALSE) -> #N/A | S99: =VLOOKUP(D99,고객상담실현황!$F$6:$M$322,8,FALSE) -> #N/A
A100: =ROW()-6 -> 94 | B100: 충청청 | C100: 금산 | D100: 금산 | I100: ○ | M100: 500 | N100: =SUM(J100:M100) -> 500 | O100: 16 | P100: =VLOOKUP(D100,고객상담실현황!$F$6:$M$322,2,FALSE) -> 사무관 | Q100: =VLOOKUP(D100,고객상담실현황!$F$6:$M$322,3,FALSE) -> 0 | R100: =VLOOKUP(D100,고객상담실현황!$F$6:$M$322,4,FALSE) -> 2007 | S100: =VLOOKUP(D100,고객상담실현황!$F$6:$M$322,8,FALSE) -> 0
A101: =ROW()-6 -> 95 | B101: 충청청 | C101: 논산 | D101: 계룡금암동 | H101: ○ | I101: ○ | K101: 12000 | L101: 4600 | M101: 500 | N101: =SUM(J101:M101) -> 17100 | O101: 1 | P101: =VLOOKUP(D101,고객상담실현황!$F$6:$M$322,2,FALSE) -> #N/A | Q101: =VLOOKUP(D101,고객상담실현황!$F$6:$M$322,3,FALSE) -> #N/A | R101: =VLOOKUP(D101,고객상담실현황!$F$6:$M$322,4,FALSE) -> #N/A | S101: =VLOOKUP(D101,고객상담실현황!$F$6:$M$322,8,FALSE) -> #N/A
A102: =ROW()-6 -> 96 | B102: 충청청 | C102: 당진 | D102: 당진 | G102: ○ | L102: 1300 | M102: 0 | N102: =SUM(J102:M102) -> 1300 | O102: 15 | P102: =VLOOKUP(D102,고객상담실현황!$F$6:$M$322,2,FALSE) -> 사무관 | Q102: =VLOOKUP(D102,고객상담실현황!$F$6:$M$322,3,FALSE) -> 0 | R102: =VLOOKUP(D102,고객상담실현황!$F$6:$M$322,4,FALSE) -> 2007 | S102: =VLOOKUP(D102,고객상담실현황!$F$6:$M$322,8,FALSE) -> 0
A103: =ROW()-6 -> 97 | B103: 충청청 | C103: 대전 | D103: 대전 | G103: ○ | L103: 3000 | M103: 0 | N103: =SUM(J103:M103) -> 3000 | O103: 12 | P103: =VLOOKUP(D103,고객상담실현황!$F$6:$M$322,2,FALSE) -> 서기관 | Q103: =VLOOKUP(D103,고객상담실현황!$F$6:$M$322,3,FALSE) -> 0 | R103: =VLOOKUP(D103,고객상담실현황!$F$6:$M$322,4,FALSE) -> 2005 | S103: =VLOOKUP(D103,고객상담실현황!$F$6:$M$322,8,FALSE) -> 0
...
