Workbook

Sheet 수식관련
B2: 2015년도 금융고객상담실 등 금융창구 환경개선 및 신규설치 대상관서(총괄)
N4: (단위 : 천원)
A5: 순번 | B5: 청 명 | C5: 총괄국명 | D5: 해당국명 | E5: 구분 | J5: 총 소요예산 | O5: 우선순위 | P5: 관서급 | Q5: 총괄국여부 | R5: 설치 년도 | S5: 2013년지원 여부
E6: 환경개선 | F6: 이전설치 | G6: 비품구입/교체 | H6: 신규설치 | I6: BI변경 | J6: 설계비(A) | K6: 시설비(B) | L6: 자산취득비(C) | M6: 시설비(BI관련) | N6: 계{(A)+(B)+(C)}
A7: =ROW()-6 -> 1 | B7: 서울청 | C7: 광화문 | D7: 광화문 | G7: ○ | L7: 1200 | N7: =SUM(J7:M7) -> 1200 | P7: =VLOOKUP(D7,고객상담실현황!$F$6:$M$322,2,FALSE) -> 서기관 | Q7: =VLOOKUP(D7,고객상담실현황!$F$6:$M$322,3,FALSE) -> 0 | R7: =VLOOKUP(D7,고객상담실현황!$F$6:$M$322,4,FALSE) -> 2004 | S7: =VLOOKUP(D7,고객상담실현황!$F$6:$M$322,8,FALSE) -> 0
A8: =ROW()-6 -> 2 | B8: 서울청 | C8: 동대문 | D8: 동대문 | G8: ○ | L8: 400 | N8: =SUM(J8:M8) -> 400 | P8: =VLOOKUP(D8,고객상담실현황!$F$6:$M$322,2,FALSE) -> 서기관 | Q8: =VLOOKUP(D8,고객상담실현황!$F$6:$M$322,3,FALSE) -> 0 | R8: =VLOOKUP(D8,고객상담실현황!$F$6:$M$322,4,FALSE) -> 2005 | S8: =VLOOKUP(D8,고객상담실현황!$F$6:$M$322,8,FALSE) -> 0
A9: =ROW()-6 -> 3 | B9: 서울청 | C9: 서울강동 | D9: 서울강동 | G9: ○ | L9: 910 | N9: =SUM(J9:M9) -> 910 | P9: =VLOOKUP(D9,고객상담실현황!$F$6:$M$322,2,FALSE) -> 서기관 | Q9: =VLOOKUP(D9,고객상담실현황!$F$6:$M$322,3,FALSE) -> 0 | R9: =VLOOKUP(D9,고객상담실현황!$F$6:$M$322,4,FALSE) -> 2006 | S9: =VLOOKUP(D9,고객상담실현황!$F$6:$M$322,8,FALSE) -> 5100
A10: =ROW()-6 -> 4 | B10: 서울청 | C10: 서울강서 | D10: 서울강서 | G10: ○ | L10: 2000 | N10: =SUM(J10:M10) -> 2000 | P10: =VLOOKUP(D10,고객상담실현황!$F$6:$M$322,2,FALSE) -> 서기관 | Q10: =VLOOKUP(D10,고객상담실현황!$F$6:$M$322,3,FALSE) -> 0 | R10: =VLOOKUP(D10,고객상담실현황!$F$6:$M$322,4,FALSE) -> 2005 | S10: =VLOOKUP(D10,고객상담실현황!$F$6:$M$322,8,FALSE) -> 0
A11: =ROW()-6 -> 5 | B11: 서울청 | C11: 서울광진 | D11: 성동 | G11: ○ | L11: 2900 | N11: =SUM(J11:M11) -> 2900 | P11: =VLOOKUP(D11,고객상담실현황!$F$6:$M$322,2,FALSE) -> #N/A | Q11: =VLOOKUP(D11,고객상담실현황!$F$6:$M$322,3,FALSE) -> #N/A | R11: =VLOOKUP(D11,고객상담실현황!$F$6:$M$322,4,FALSE) -> #N/A | S11: =VLOOKUP(D11,고객상담실현황!$F$6:$M$322,8,FALSE) -> #N/A
A12: =ROW()-6 -> 6 | B12: 서울청 | C12: 서울광진 | D12: 중곡동 | G12: ○ | L12: 2000 | N12: =SUM(J12:M12) -> 2000 | P12: =VLOOKUP(D12,고객상담실현황!$F$6:$M$322,2,FALSE) -> #N/A | Q12: =VLOOKUP(D12,고객상담실현황!$F$6:$M$322,3,FALSE) -> #N/A | R12: =VLOOKUP(D12,고객상담실현황!$F$6:$M$322,4,FALSE) -> #N/A | S12: =VLOOKUP(D12,고객상담실현황!$F$6:$M$322,8,FALSE) -> #N/A
A13: =ROW()-6 -> 7 | B13: 서울청 | C13: 서울도봉 | D13: 서울강북 | G13: ○ | L13: 5802 | N13: =SUM(J13:M13) -> 5802 | P13: =VLOOKUP(D13,고객상담실현황!$F$6:$M$322,2,FALSE) -> 사무관 | Q13: =VLOOKUP(D13,고객상담실현황!$F$6:$M$322,3,FALSE) -> 관내 | R13: =VLOOKUP(D13,고객상담실현황!$F$6:$M$322,4,FALSE) -> 2005 | S13: =VLOOKUP(D13,고객상담실현황!$F$6:$M$322,8,FALSE) -> 0
A14: =ROW()-6 -> 8 | B14: 서울청 | C14: 서울도봉 | D14: 서울번2동 | G14: ○ | L14: 312 | N14: =SUM(J14:M14) -> 312 | P14: =VLOOKUP(D14,고객상담실현황!$F$6:$M$322,2,FALSE) -> #N/A | Q14: =VLOOKUP(D14,고객상담실현황!$F$6:$M$322,3,FALSE) -> #N/A | R14: =VLOOKUP(D14,고객상담실현황!$F$6:$M$322,4,FALSE) -> #N/A | S14: =VLOOKUP(D14,고객상담실현황!$F$6:$M$322,8,FALSE) -> #N/A
A15: =ROW()-6 -> 9 | B15: 서울청 | C15: 서울도봉 | D15: 서울수유3동 | G15: ○ | L15: 3381 | N15: =SUM(J15:M15) -> 3381 | P15: =VLOOKUP(D15,고객상담실현황!$F$6:$M$322,2,FALSE) -> #N/A | Q15: =VLOOKUP(D15,고객상담실현황!$F$6:$M$322,3,FALSE) -> #N/A | R15: =VLOOKUP(D15,고객상담실현황!$F$6:$M$322,4,FALSE) -> #N/A | S15: =VLOOKUP(D15,고객상담실현황!$F$6:$M$322,8,FALSE) -> #N/A
A16: =ROW()-6 -> 10 | B16: 서울청 | C16: 서울송파 | D16: 서울송파 | G16: ○ | L16: 7938 | N16: =SUM(J16:M16) -> 7938 | P16: =VLOOKUP(D16,고객상담실현황!$F$6:$M$322,2,FALSE) -> 서기관 | Q16: =VLOOKUP(D16,고객상담실현황!$F$6:$M$322,3,FALSE) -> 0 | R16: =VLOOKUP(D16,고객상담실현황!$F$6:$M$322,4,FALSE) -> 2006 | S16: =VLOOKUP(D16,고객상담실현황!$F$6:$M$322,8,FALSE) -> 0
A17: =ROW()-6 -> 11 | B17: 서울청 | C17: 서울양천 | D17: 서울양천 | G17: ○ | L17: 2350 | N17: =SUM(J17:M17) -> 2350 | P17: =VLOOKUP(D17,고객상담실현황!$F$6:$M$322,2,FALSE) -> 서기관 | Q17: =VLOOKUP(D17,고객상담실현황!$F$6:$M$322,3,FALSE) -> 0 | R17: =VLOOKUP(D17,고객상담실현황!$F$6:$M$322,4,FALSE) -> 2007 | S17: =VLOOKUP(D17,고객상담실현황!$F$6:$M$322,8,FALSE) -> 0
A18: =ROW()-6 -> 12 | B18: 서울청 | C18: 서울용산 | D18: 서울용문동 | G18: ○ | L18: 2035 | N18: =SUM(J18:M18) -> 2035 | P18: =VLOOKUP(D18,고객상담실현황!$F$6:$M$322,2,FALSE) -> #N/A | Q18: =VLOOKUP(D18,고객상담실현황!$F$6:$M$322,3,FALSE) -> #N/A | R18: =VLOOKUP(D18,고객상담실현황!$F$6:$M$322,4,FALSE) -> #N/A | S18: =VLOOKUP(D18,고객상담실현황!$F$6:$M$322,8,FALSE) -> #N/A
... A20: =ROW()-6 -> 14 | B20: 서울청 | C20: 서울중랑 | D20: 서울중랑 | G20: ○ | L20: 500 | N20: =SUM(J20:M20) -> 500 | P20: =VLOOKUP(D20,고객상담실현황!$F$6:$M$322,2,FALSE) -> 서기관 | Q20: =VLOOKUP(D20,고객상담실현황!$F$6:$M$322,3,FALSE) -> 0 | R20: =VLOOKUP(D20,고객상담실현황!$F$6:$M$322,4,FALSE) -> 2005 | S20: =VLOOKUP(D20,고객상담실현황!$F$6:$M$322,8,FALSE) -> 0
A21: =ROW()-6 -> 15 | B21: 서울청 | C21: 서울중랑 | D21: 서울면목동 | E21: ○ | K21: 8000 | N21: =SUM(J21:M21) -> 8000 | P21: =VLOOKUP(D21,고객상담실현황!$F$6:$M$322,2,FALSE) -> #N/A | Q21: =VLOOKUP(D21,고객상담실현황!$F$6:$M$322,3,FALSE) -> #N/A | R21: =VLOOKUP(D21,고객상담실현황!$F$6:$M$322,4,FALSE) -> #N/A | S21: =VLOOKUP(D21,고객상담실현황!$F$6:$M$322,8,FALSE) -> #N/A
A22: =ROW()-6 -> 16 | B22: 서울청 | C22: 서울서초 | D22: 서울서초 | G22: ○ | L22: 3348 | N22: =SUM(J22:M22) -> 3348 | P22: =VLOOKUP(D22,고객상담실현황!$F$6:$M$322,2,FALSE) -> 서기관 | Q22: =VLOOKUP(D22,고객상담실현황!$F$6:$M$322,3,FALSE) -> 0 | R22: =VLOOKUP(D22,고객상담실현황!$F$6:$M$322,4,FALSE) -> 2000 | S22: =VLOOKUP(D22,고객상담실현황!$F$6:$M$322,8,FALSE) -> 0
A23: =ROW()-6 -> 17 | B23: 서울청 | C23: 서울중앙 | D23: 서울중앙 | G23: ○ | L23: 7100 | N23: =SUM(J23:M23) -> 7100 | P23: =VLOOKUP(D23,고객상담실현황!$F$6:$M$322,2,FALSE) -> 서기관 | Q23: =VLOOKUP(D23,고객상담실현황!$F$6:$M$322,3,FALSE) -> 0 | R23: =VLOOKUP(D23,고객상담실현황!$F$6:$M$322,4,FALSE) -> 2007 | S23: =VLOOKUP(D23,고객상담실현황!$F$6:$M$322,8,FALSE) -> 0
A24: =ROW()-6 -> 18 | B24: 서울청 | C24: 서울중앙 | D24: 태평로 | G24: ○ | L24: 3000 | N24: =SUM(J24:M24) -> 3000 | P24: =VLOOKUP(D24,고객상담실현황!$F$6:$M$322,2,FALSE) -> #N/A | Q24: =VLOOKUP(D24,고객상담실현황!$F$6:$M$322,3,FALSE) -> #N/A | R24: =VLOOKUP(D24,고객상담실현황!$F$6:$M$322,4,FALSE) -> #N/A | S24: =VLOOKUP(D24,고객상담실현황!$F$6:$M$322,8,FALSE) -> #N/A | T24: =SUM(N7:N24) -> 54892
A25: =ROW()-6 -> 19 | B25: 경인청 | C25: 가평 | D25: 가평 | I25: ○ | M25: 600 | N25: =SUM(J25:M25) -> 600 | P25: =VLOOKUP(D25,고객상담실현황!$F$6:$M$322,2,FALSE) -> 사무관 | Q25: =VLOOKUP(D25,고객상담실현황!$F$6:$M$322,3,FALSE) -> 0 | R25: =VLOOKUP(D25,고객상담실현황!$F$6:$M$322,4,FALSE) -> 2007 | S25: =VLOOKUP(D25,고객상담실현황!$F$6:$M$322,8,FALSE) -> 0
A26: =ROW()-6 -> 20 | B26: 경인청 | C26: 고양일산 | D26: 고양일산 | E26: ○ | G26: ○ | I26: ○ | K26: 10000 | L26: 2000 | M26: 600 | N26: =SUM(J26:M26) -> 12600 | O26: 2 | P26: =VLOOKUP(D26,고객상담실현황!$F$6:$M$322,2,FALSE) -> 서기관 | Q26: =VLOOKUP(D26,고객상담실현황!$F$6:$M$322,3,FALSE) -> 0 | R26: =VLOOKUP(D26,고객상담실현황!$F$6:$M$322,4,FALSE) -> 2006 | S26: =VLOOKUP(D26,고객상담실현황!$F$6:$M$322,8,FALSE) -> 0
A27: =ROW()-6 -> 21 | B27: 경인청 | C27: 구리 | D27: 구리 | G27: ○ | I27: ○ | L27: 130 | M27: 300 | N27: =SUM(J27:M27) -> 430 | P27: =VLOOKUP(D27,고객상담실현황!$F$6:$M$322,2,FALSE) -> 사무관 | Q27: =VLOOKUP(D27,고객상담실현황!$F$6:$M$322,3,FALSE) -> 0 | R27: =VLOOKUP(D27,고객상담실현황!$F$6:$M$322,4,FALSE) -> 2007 | S27: =VLOOKUP(D27,고객상담실현황!$F$6:$M$322,8,FALSE) -> 0
A28: =ROW()-6 -> 22 | B28: 경인청 | C28: 구리 | D28: 구리갈매 | G28: ○ | L28: 260 | N28: =SUM(J28:M28) -> 260 | P28: =VLOOKUP(D28,고객상담실현황!$F$6:$M$322,2,FALSE) -> #N/A | Q28: =VLOOKUP(D28,고객상담실현황!$F$6:$M$322,3,FALSE) -> #N/A | R28: =VLOOKUP(D28,고객상담실현황!$F$6:$M$322,4,FALSE) -> #N/A | S28: =VLOOKUP(D28,고객상담실현황!$F$6:$M$322,8,FALSE) -> #N/A
A29: =ROW()-6 -> 23 | B29: 경인청 | C29: 남양주 | D29: 남양주 | G29: ○ | I29: ○ | L29: 1230 | M29: 1600 | N29: =SUM(J29:M29) -> 2830 | P29: =VLOOKUP(D29,고객상담실현황!$F$6:$M$322,2,FALSE) -> 서기관 | Q29: =VLOOKUP(D29,고객상담실현황!$F$6:$M$322,3,FALSE) -> 0 | R29: =VLOOKUP(D29,고객상담실현황!$F$6:$M$322,4,FALSE) -> 2008 | S29: =VLOOKUP(D29,고객상담실현황!$F$6:$M$322,8,FALSE) -> 6200
A30: =ROW()-6 -> 24 | B30: 경인청 | C30: 남인천 | D30: 남인천 | G30: ○ | I30: ○ | L30: 2320 | M30: 750 | N30: =SUM(J30:M30) -> 3070 | P30: =VLOOKUP(D30,고객상담실현황!$F$6:$M$322,2,FALSE) -> 서기관 | Q30: =VLOOKUP(D30,고객상담실현황!$F$6:$M$322,3,FALSE) -> 0 | R30: =VLOOKUP(D30,고객상담실현황!$F$6:$M$322,4,FALSE) -> 2005 | S30: =VLOOKUP(D30,고객상담실현황!$F$6:$M$322,8,FALSE) -> 0
A31: =ROW()-6 -> 25 | B31: 경인청 | C31: 남인천 | D31: 인천문학동 | G31: ○ | L31: 840 | N31: =SUM(J31:M31) -> 840 | P31: =VLOOKUP(D31,고객상담실현황!$F$6:$M$322,2,FALSE) -> #N/A | Q31: =VLOOKUP(D31,고객상담실현황!$F$6:$M$322,3,FALSE) -> #N/A | R31: =VLOOKUP(D31,고객상담실현황!$F$6:$M$322,4,FALSE) -> #N/A | S31: =VLOOKUP(D31,고객상담실현황!$F$6:$M$322,8,FALSE) -> #N/A
A32: =ROW()-6 -> 26 | B32: 경인청 | C32: 남인천 | D32: 인천숭의동 | G32: ○ | L32: 2150 | N32: =SUM(J32:M32) -> 2150 | P32: =VLOOKUP(D32,고객상담실현황!$F$6:$M$322,2,FALSE) -> #N/A | Q32: =VLOOKUP(D32,고객상담실현황!$F$6:$M$322,3,FALSE) -> #N/A | R32: =VLOOKUP(D32,고객상담실현황!$F$6:$M$322,4,FALSE) -> #N/A | S32: =VLOOKUP(D32,고객상담실현황!$F$6:$M$322,8,FALSE) -> #N/A
A33: =ROW()-6 -> 27 | B33: 경인청 | C33: 동수원 | D33: 동수원 | G33: ○ | I33: ○ | L33: 1060 | M33: 280 | N33: =SUM(J33:M33) -> 1340 | P33: =VLOOKUP(D33,고객상담실현황!$F$6:$M$322,2,FALSE) -> 서기관 | Q33: =VLOOKUP(D33,고객상담실현황!$F$6:$M$322,3,FALSE) -> 0 | R33: =VLOOKUP(D33,고객상담실현황!$F$6:$M$322,4,FALSE) -> 2007 | S33: =VLOOKUP(D33,고객상담실현황!$F$6:$M$322,8,FALSE) -> 0
A34: =ROW()-6 -> 28 | B34: 경인청 | C34: 동수원 | D34: 수원법원 | I34: ○ | M34: 280 | N34: =SUM(J34:M34) -> 280 | P34: =VLOOKUP(D34,고객상담실현황!$F$6:$M$322,2,FALSE) -> #N/A | Q34: =VLOOKUP(D34,고객상담실현황!$F$6:$M$322,3,FALSE) -> #N/A | R34: =VLOOKUP(D34,고객상담실현황!$F$6:$M$322,4,FALSE) -> #N/A | S34: =VLOOKUP(D34,고객상담실현황!$F$6:$M$322,8,FALSE) -> #N/A
A35: =ROW()-6 -> 29 | B35: 경인청 | C35: 동수원 | D35: 수원청명 | I35: ○ | M35: 460 | N35: =SUM(J35:M35) -> 460 | P35: =VLOOKUP(D35,고객상담실현황!$F$6:$M$322,2,FALSE) -> #N/A | Q35: =VLOOKUP(D35,고객상담실현황!$F$6:$M$322,3,FALSE) -> #N/A | R35: =VLOOKUP(D35,고객상담실현황!$F$6:$M$322,4,FALSE) -> #N/A | S35: =VLOOKUP(D35,고객상담실현황!$F$6:$M$322,8,FALSE) -> #N/A
A36: =ROW()-6 -> 30 | B36: 경인청 | C36: 동수원 | D36: 수원황곡 | I36: ○ | M36: 100 | N36: =SUM(J36:M36) -> 100 | P36: =VLOOKUP(D36,고객상담실현황!$F$6:$M$322,2,FALSE) -> #N/A | Q36: =VLOOKUP(D36,고객상담실현황!$F$6:$M$322,3,FALSE) -> #N/A | R36: =VLOOKUP(D36,고객상담실현황!$F$6:$M$322,4,FALSE) -> #N/A | S36: =VLOOKUP(D36,고객상담실현황!$F$6:$M$322,8,FALSE) -> #N/A
A37: =ROW()-6 -> 31 | B37: 경인청 | C37: 백령 | D37: 백령 | I37: ○ | M37: 3200 | N37: =SUM(J37:M37) -> 3200 | P37: =VLOOKUP(D37,고객상담실현황!$F$6:$M$322,2,FALSE) -> 사무관 | Q37: =VLOOKUP(D37,고객상담실현황!$F$6:$M$322,3,FALSE) -> 0 | R37: =VLOOKUP(D37,고객상담실현황!$F$6:$M$322,4,FALSE) -> 2008 | S37: =VLOOKUP(D37,고객상담실현황!$F$6:$M$322,8,FALSE) -> 0
A38: =ROW()-6 -> 32 | B38: 경인청 | C38: 부천 | D38: 부천 | I38: ○ | M38: 1900 | N38: =SUM(J38:M38) -> 1900 | P38: =VLOOKUP(D38,고객상담실현황!$F$6:$M$322,2,FALSE) -> 서기관 | Q38: =VLOOKUP(D38,고객상담실현황!$F$6:$M$322,3,FALSE) -> 0 | R38: =VLOOKUP(D38,고객상담실현황!$F$6:$M$322,4,FALSE) -> 2006 | S38: =VLOOKUP(D38,고객상담실현황!$F$6:$M$322,8,FALSE) -> 0
A39: =ROW()-6 -> 33 | B39: 경인청 | C39: 부평 | D39: 부평대로 | I39: ○ | M39: 350 | N39: =SUM(J39:M39) -> 350 | P39: =VLOOKUP(D39,고객상담실현황!$F$6:$M$322,2,FALSE) -> #N/A | Q39: =VLOOKUP(D39,고객상담실현황!$F$6:$M$322,3,FALSE) -> #N/A | R39: =VLOOKUP(D39,고객상담실현황!$F$6:$M$322,4,FALSE) -> #N/A | S39: =VLOOKUP(D39,고객상담실현황!$F$6:$M$322,8,FALSE) -> #N/A
A40: =ROW()-6 -> 34 | B40: 경인청 | C40: 부평 | D40: 부평현대아파트 | I40: ○ | M40: 200 | N40: =SUM(J40:M40) -> 200 | P40: =VLOOKUP(D40,고객상담실현황!$F$6:$M$322,2,FALSE) -> #N/A | Q40: =VLOOKUP(D40,고객상담실현황!$F$6:$M$322,3,FALSE) -> #N/A | R40: =VLOOKUP(D40,고객상담실현황!$F$6:$M$322,4,FALSE) -> #N/A | S40: =VLOOKUP(D40,고객상담실현황!$F$6:$M$322,8,FALSE) -> #N/A
A41: =ROW()-6 -> 35 | B41: 경인청 | C41: 부평 | D41: 북인천 | G41: ○ | L41: 200 | N41: =SUM(J41:M41) -> 200 | P41: =VLOOKUP(D41,고객상담실현황!$F$6:$M$322,2,FALSE) -> #N/A | Q41: =VLOOKUP(D41,고객상담실현황!$F$6:$M$322,3,FALSE) -> #N/A | R41: =VLOOKUP(D41,고객상담실현황!$F$6:$M$322,4,FALSE) -> #N/A | S41: =VLOOKUP(D41,고객상담실현황!$F$6:$M$322,8,FALSE) -> #N/A
A42: =ROW()-6 -> 36 | B42: 경인청 | C42: 부평 | D42: 인천갈산동 | G42: ○ | L42: 410 | N42: =SUM(J42:M42) -> 410 | P42: =VLOOKUP(D42,고객상담실현황!$F$6:$M$322,2,FALSE) -> #N/A | Q42: =VLOOKUP(D42,고객상담실현황!$F$6:$M$322,3,FALSE) -> #N/A | R42: =VLOOKUP(D42,고객상담실현황!$F$6:$M$322,4,FALSE) -> #N/A | S42: =VLOOKUP(D42,고객상담실현황!$F$6:$M$322,8,FALSE) -> #N/A
A43: =ROW()-6 -> 37 | B43: 경인청 | C43: 부평 | D43: 인천동암 | I43: ○ | M43: 250 | N43: =SUM(J43:M43) -> 250 | P43: =VLOOKUP(D43,고객상담실현황!$F$6:$M$322,2,FALSE) -> #N/A | Q43: =VLOOKUP(D43,고객상담실현황!$F$6:$M$322,3,FALSE) -> #N/A | R43: =VLOOKUP(D43,고객상담실현황!$F$6:$M$322,4,FALSE) -> #N/A | S43: =VLOOKUP(D43,고객상담실현황!$F$6:$M$322,8,FALSE) -> #N/A
...

Sheet 고객상담실현황
B2: ◈ 금융고객상담실 설치 현황
B3: ★ 4급국 122국, 5급국 110국 | J3: * 2012년도는 대학구내우체국 위주로 개선
A4: 순번 | B4: 청명 | C4: 총괄국 | E4: 해당국 | G4: 관서급 | H4: 총괄국여부 | I4: 설치년도 | J4: 2013년(천원) | N4: 2014년(천원) | Q4: 2015년(천원) | T4: 2016년(천원)
C5: 국기호 | D5: 국명 | E5: 국기호 | F5: 국명 | J5: 신규 | K5: 이전설치 | L5: 환경개선 비품구입 | M5: 합계 | N5: 신규 | O5: 이전설치 | P5: 환경개선 비품구입 | Q5: 신규 | R5: 이전설치 | S5: 환경개선 비품구입 | T5: 신규 | U5: 이전설치 | V5: 환경개선 비품구입
A6: 1 | B6: 서울청 | C6: 010017 | D6: 서울중앙 | E6: 010017 | F6: 서울중앙 | G6: 서기관 | I6: 2007 | M6: =J6+K6+L6 -> 0
A7: 2 | B7: 서울청 | C7: 010025 | D7: 서울용산 | E7: 010025 | F7: 서울용산 | G7: 서기관 | I7: 2006 | M7: =J7+K7+L7 -> 0
A8: 3 | B8: 서울청 | C8: 010025 | D8: 서울용산 | E8: 012211 | F8: 서울이촌동 | G8: 주사 | H8: 관내 | I8: 2011 | M8: =J8+K8+L8 -> 0
A9: 4 | B9: 서울청 | C9: 010041 | D9: 광화문 | E9: 010041 | F9: 광화문 | G9: 서기관 | I9: 2004 | M9: =J9+K9+L9 -> 0
A10: 5 | B10: 서울청 | C10: 010751 | D10: 서울도봉 | E10: 010751 | F10: 서울도봉 | G10: 서기관 | I10: 2013 | M10: =J10+K10+L10 -> 0
A11: 7 | B11: 서울청 | C11: 010751 | D11: 서울도봉 | E11: 012237 | F11: 서울강북 | G11: 사무관 | H11: 관내 | I11: 2005 | M11: =J11+K11+L11 -> 0
A12: 6 | B12: 서울청 | C12: 011809 | D12: 동대문 | E12: 011809 | F12: 동대문 | G12: 서기관 | I12: 2005 | M12: =J12+K12+L12 -> 0
A13: 8 | B13: 서울청 | C13: 012245 | D13: 서울마포 | E13: 012245 | F13: 서울마포 | G13: 서기관 | I13: 2006 | M13: =J13+K13+L13 -> 0
A14: 9 | B14: 서울청 | C14: 012401 | D14: 서울관악 | E14: 012401 | F14: 서울관악 | G14: 서기관 | I14: 2006 | M14: =J14+K14+L14 -> 0
A15: 11 | B15: 서울청 | C15: 012435 | D15: 서울광진 | E15: 011056 | F15: 서울성동 | G15: 사무관 | H15: 관내 | I15: 2008 | L15: 500 | M15: =J15+K15+L15 -> 500
A16: 10 | B16: 서울청 | C16: 012435 | D16: 서울광진 | E16: 012435 | F16: 서울광진 | G16: 서기관 | I16: 2006 | M16: =J16+K16+L16 -> 0
A17: 12 | B17: 서울청 | C17: 012435 | D17: 서울광진 | E17: 013995 | F17: 서울자양동 | G17: 주사 | H17: 관내 | I17: 2011 | L17: 6500 | M17: =J17+K17+L17 -> 6500
A18: 13 | B18: 서울청 | C18: 012468 | D18: 서울은평 | E18: 012468 | F18: 서울은평 | G18: 서기관 | I18: 2006 | M18: =J18+K18+L18 -> 0
A19: 15 | B19: 서울청 | C19: 012591 | D19: 여의도 | E19: 010108 | F19: 영등포 | G19: 사무관 | H19: 관내 | I19: 2008 | M19: =J19+K19+L19 -> 0
A20: 14 | B20: 서울청 | C20: 012591 | D20: 여의도 | E20: 012591 | F20: 여의도 | G20: 서기관 | I20: 2006 | M20: =J20+K20+L20 -> 0
A21: 17 | B21: 서울청 | C21: 012591 | D21: 여의도 | E21: 013193 | F21: 서울대림동 | G21: 주사 | H21: 관내 | I21: 2010 | M21: =J21+K21+L21 -> 0
A22: 16 | B22: 서울청 | C22: 012591 | D22: 여의도 | E22: 013771 | F22: 서울당산동 | G22: 주사 | H22: 관내 | I22: 2010 | M22: =J22+K22+L22 -> 0
A23: 20 | B23: 서울청 | C23: 013086 | D23: 서울강남 | E23: 012765 | F23: 서울무역센터 | G23: 사무관 | H23: 관내 | I23: 2010 | M23: =J23+K23+L23 -> 0
A24: 18 | B24: 서울청 | C24: 013086 | D24: 서울강남 | E24: 013086 | F24: 서울강남 | G24: 서기관 | I24: 2004 | M24: =J24+K24+L24 -> 0
A25: 19 | B25: 서울청 | C25: 013086 | D25: 서울강남 | E25: 014506 | F25: 서울영동 | G25: 사무관 | H25: 관내 | I25: 2007 | L25: 1500 | M25: =J25+K25+L25 -> 1500
A26: 21 | B26: 서울청 | C26: 013094 | D26: 서울중랑 | E26: 013094 | F26: 서울중랑 | G26: 서기관 | I26: 2005 | M26: =J26+K26+L26 -> 0
A27: 22 | B27: 서울청 | C27: 013102 | D27: 서울강동 | E27: 013102 | F27: 서울강동 | G27: 서기관 | I27: 2006 | L27: 5100 | M27: =J27+K27+L27 -> 5100
A28: 23 | B28: 서울청 | C28: 013276 | D28: 서울금천 | E28: 013276 | F28: 서울금천 | G28: 서기관 | I28: 2010 | M28: =J28+K28+L28 -> 0
A29: 24 | B29: 서울청 | C29: 013342 | D29: 서울노원 | E29: 013342 | F29: 서울노원 | G29: 서기관 | I29: 2006 | L29: 22000 | M29: =J29+K29+L29 -> 22000
A30: 25 | B30: 서울청 | C30: 013342 | D30: 서울노원 | E30: 013979 | F30: 서울상계10동 | G30: 주사 | H30: 관내 | I30: 2008 | M30: =J30+K30+L30 -> 0
A31: 26 | B31: 서울청 | C31: 013474 | D31: 서울성북 | E31: 013474 | F31: 서울성북 | G31: 서기관 | I31: 2007 | K31: 29700 | M31: =J31+K31+L31 -> 29700
A32: 27 | B32: 서울청 | C32: 013748 | D32: 서울양천 | E32: 013748 | F32: 서울양천 | G32: 서기관 | I32: 2007 | M32: =J32+K32+L32 -> 0
A33: 29 | B33: 서울청 | C33: 013912 | D33: 서울동작 | E33: 012351 | F33: 서울사당동 | G33: 주사 | H33: 관내 | I33: 2010 | M33: =J33+K33+L33 -> 0
A34: 28 | B34: 서울청 | C34: 013912 | D34: 서울동작 | E34: 013912 | F34: 서울동작 | G34: 서기관 | I34: 2005 | M34: =J34+K34+L34 -> 0
A35: 31 | B35: 서울청 | C35: 013920 | D35: 서대문 | E35: 010033 | F35: 서울충정로 | G35: 사무관 | H35: 관내 | I35: 2008 | M35: =J35+K35+L35 -> 0
A36: 30 | B36: 서울청 | C36: 013920 | D36: 서대문 | E36: 013920 | F36: 서대문 | G36: 서기관 | I36: 2006 | M36: =J36+K36+L36 -> 0
A37: 33 | B37: 서울청 | C37: 014167 | D37: 서울서초 | E37: 013755 | F37: 서울서초1동 | G37: 주사 | H37: 관내 | I37: 2010 | M37: =J37+K37+L37 -> 0
A38: 32 | B38: 서울청 | C38: 014167 | D38: 서울서초 | E38: 014167 | F38: 서울서초 | G38: 서기관 | I38: 2000 | M38: =J38+K38+L38 -> 0
A39: 36 | B39: 서울청 | C39: 014241 | D39: 서울송파 | E39: 012864 | F39: 서울잠실3동 | G39: 주사 | H39: 관내 | I39: 2011 | M39: =J39+K39+L39 -> 0
A40: 35 | B40: 서울청 | C40: 014241 | D40: 서울송파 | E40: 013003 | F40: 서울마천동 | G40: 주사 | H40: 관내 | I40: 2008 | M40: =J40+K40+L40 -> 0
A41: 34 | B41: 서울청 | C41: 014241 | D41: 서울송파 | E41: 014241 | F41: 서울송파 | G41: 서기관 | I41: 2006 | M41: =J41+K41+L41 -> 0
...

Sheet 총괄
B2: 2015년도 금융고객상담실 등 창구노후분야 개선 및 신규설치 대상관서(총괄)
N4: (단위 : 천원)
A5: 순번 | B5: 청 명 | C5: 총괄국명 | D5: 해당국명 | E5: 구분 | J5: 총 소요예산 | O5: 우선순위 | P5: 관서급 | Q5: 총괄국여부 | R5: 설치 년도 | S5: 2013년지원 여부
E6: 환경개선 | F6: 이전설치 | G6: 비품구입/교체 | H6: 신규설치 | I6: BI변경 | J6: 설계비(A) | K6: 시설비(B) | L6: 자산취득비(C) | M6: 시설비(BI관련) | N6: 계{(A)+(B)+(C)}
A7: =ROW()-6 -> 1 | B7: 서울청 | C7: 광화문 | D7: 광화문 | G7: ○ | L7: 1200 | N7: =SUM(J7:M7) -> 1200 | P7: =VLOOKUP(D7,고객상담실현황!$F$6:$M$322,2,FALSE) -> 서기관 | Q7: =VLOOKUP(D7,고객상담실현황!$F$6:$M$322,3,FALSE) -> 0 | R7: =VLOOKUP(D7,고객상담실현황!$F$6:$M$322,4,FALSE) -> 2004 | S7: =VLOOKUP(D7,고객상담실현황!$F$6:$M$322,8,FALSE) -> 0
A8: =ROW()-6 -> 2 | B8: 서울청 | C8: 동대문 | D8: 동대문 | G8: ○ | L8: 400 | N8: =SUM(J8:M8) -> 400 | P8: =VLOOKUP(D8,고객상담실현황!$F$6:$M$322,2,FALSE) -> 서기관 | Q8: =VLOOKUP(D8,고객상담실현황!$F$6:$M$322,3,FALSE) -> 0 | R8: =VLOOKUP(D8,고객상담실현황!$F$6:$M$322,4,FALSE) -> 2005 | S8: =VLOOKUP(D8,고객상담실현황!$F$6:$M$322,8,FALSE) -> 0
A9: =ROW()-6 -> 3 | B9: 서울청 | C9: 서울강동 | D9: 서울강동 | G9: ○ | L9: 910 | N9: =SUM(J9:M9) -> 910 | P9: =VLOOKUP(D9,고객상담실현황!$F$6:$M$322,2,FALSE) -> 서기관 | Q9: =VLOOKUP(D9,고객상담실현황!$F$6:$M$322,3,FALSE) -> 0 | R9: =VLOOKUP(D9,고객상담실현황!$F$6:$M$322,4,FALSE) -> 2006 | S9: =VLOOKUP(D9,고객상담실현황!$F$6:$M$322,8,FALSE) -> 5100
A10: =ROW()-6 -> 4 | B10: 서울청 | C10: 서울강서 | D10: 서울강서 | G10: ○ | L10: 2000 | N10: =SUM(J10:M10) -> 2000 | P10: =VLOOKUP(D10,고객상담실현황!$F$6:$M$322,2,FALSE) -> 서기관 | Q10: =VLOOKUP(D10,고객상담실현황!$F$6:$M$322,3,FALSE) -> 0 | R10: =VLOOKUP(D10,고객상담실현황!$F$6:$M$322,4,FALSE) -> 2005 | S10: =VLOOKUP(D10,고객상담실현황!$F$6:$M$322,8,FALSE) -> 0
A11: =ROW()-6 -> 5 | B11: 서울청 | C11: 서울광진 | D11: 성동 | G11: ○ | L11: 2900 | N11: =SUM(J11:M11) -> 2900 | P11: =VLOOKUP(D11,고객상담실현황!$F$6:$M$322,2,FALSE) -> #N/A | Q11: =VLOOKUP(D11,고객상담실현황!$F$6:$M$322,3,FALSE) -> #N/A | R11: =VLOOKUP(D11,고객상담실현황!$F$6:$M$322,4,FALSE) -> #N/A | S11: =VLOOKUP(D11,고객상담실현황!$F$6:$M$322,8,FALSE) -> #N/A
A12: =ROW()-6 -> 6 | B12: 서울청 | C12: 서울광진 | D12: 중곡동 | G12: ○ | L12: 2000 | N12: =SUM(J12:M12) -> 2000 | P12: =VLOOKUP(D12,고객상담실현황!$F$6:$M$322,2,FALSE) -> #N/A | Q12: =VLOOKUP(D12,고객상담실현황!$F$6:$M$322,3,FALSE) -> #N/A | R12: =VLOOKUP(D12,고객상담실현황!$F$6:$M$322,4,FALSE) -> #N/A | S12: =VLOOKUP(D12,고객상담실현황!$F$6:$M$322,8,FALSE) -> #N/A
A13: =ROW()-6 -> 7 | B13: 서울청 | C13: 서울도봉 | D13: 서울강북 | G13: ○ | L13: 5802 | N13: =SUM(J13:M13) -> 5802 | P13: =VLOOKUP(D13,고객상담실현황!$F$6:$M$322,2,FALSE) -> 사무관 | Q13: =VLOOKUP(D13,고객상담실현황!$F$6:$M$322,3,FALSE) -> 관내 | R13: =VLOOKUP(D13,고객상담실현황!$F$6:$M$322,4,FALSE) -> 2005 | S13: =VLOOKUP(D13,고객상담실현황!$F$6:$M$322,8,FALSE) -> 0
A14: =ROW()-6 -> 8 | B14: 서울청 | C14: 서울도봉 | D14: 서울번2동 | G14: ○ | L14: 312 | N14: =SUM(J14:M14) -> 312 | P14: =VLOOKUP(D14,고객상담실현황!$F$6:$M$322,2,FALSE) -> #N/A | Q14: =VLOOKUP(D14,고객상담실현황!$F$6:$M$322,3,FALSE) -> #N/A | R14: =VLOOKUP(D14,고객상담실현황!$F$6:$M$322,4,FALSE) -> #N/A | S14: =VLOOKUP(D14,고객상담실현황!$F$6:$M$322,8,FALSE) -> #N/A
A15: =ROW()-6 -> 9 | B15: 서울청 | C15: 서울도봉 | D15: 서울수유3동 | G15: ○ | L15: 3381 | N15: =SUM(J15:M15) -> 3381 | P15: =VLOOKUP(D15,고객상담실현황!$F$6:$M$322,2,FALSE) -> #N/A | Q15: =VLOOKUP(D15,고객상담실현황!$F$6:$M$322,3,FALSE) -> #N/A | R15: =VLOOKUP(D15,고객상담실현황!$F$6:$M$322,4,FALSE) -> #N/A | S15: =VLOOKUP(D15,고객상담실현황!$F$6:$M$322,8,FALSE) -> #N/A
A16: =ROW()-6 -> 10 | B16: 서울청 | C16: 서울송파 | D16: 서울송파 | G16: ○ | L16: 7938 | N16: =SUM(J16:M16) -> 7938 | P16: =VLOOKUP(D16,고객상담실현황!$F$6:$M$322,2,FALSE) -> 서기관 | Q16: =VLOOKUP(D16,고객상담실현황!$F$6:$M$322,3,FALSE) -> 0 | R16: =VLOOKUP(D16,고객상담실현황!$F$6:$M$322,4,FALSE) -> 2006 | S16: =VLOOKUP(D16,고객상담실현황!$F$6:$M$322,8,FALSE) -> 0
A17: =ROW()-6 -> 11 | B17: 서울청 | C17: 서울양천 | D17: 서울양천 | G17: ○ | L17: 2350 | N17: =SUM(J17:M17) -> 2350 | P17: =VLOOKUP(D17,고객상담실현황!$F$6:$M$322,2,FALSE) -> 서기관 | Q17: =VLOOKUP(D17,고객상담실현황!$F$6:$M$322,3,FALSE) -> 0 | R17: =VLOOKUP(D17,고객상담실현황!$F$6:$M$322,4,FALSE) -> 2007 | S17: =VLOOKUP(D17,고객상담실현황!$F$6:$M$322,8,FALSE) -> 0
A18: =ROW()-6 -> 12 | B18: 서울청 | C18: 서울용산 | D18: 서울용문동 | G18: ○ | L18: 2035 | N18: =SUM(J18:M18) -> 2035 | P18: =VLOOKUP(D18,고객상담실현황!$F$6:$M$322,2,FALSE) -> #N/A | Q18: =VLOOKUP(D18,고객상담실현황!$F$6:$M$322,3,FALSE) -> #N/A | R18: =VLOOKUP(D18,고객상담실현황!$F$6:$M$322,4,FALSE) -> #N/A | S18: =VLOOKUP(D18,고객상담실현황!$F$6:$M$322,8,FALSE) -> #N/A
... A20: =ROW()-6 -> 14 | B20: 서울청 | C20: 서울중랑 | D20: 서울중랑 | G20: ○ | L20: 500 | N20: =SUM(J20:M20) -> 500 | P20: =VLOOKUP(D20,고객상담실현황!$F$6:$M$322,2,FALSE) -> 서기관 | Q20: =VLOOKUP(D20,고객상담실현황!$F$6:$M$322,3,FALSE) -> 0 | R20: =VLOOKUP(D20,고객상담실현황!$F$6:$M$322,4,FALSE) -> 2005 | S20: =VLOOKUP(D20,고객상담실현황!$F$6:$M$322,8,FALSE) -> 0
A21: =ROW()-6 -> 15 | B21: 서울청 | C21: 서울중랑 | D21: 서울면목동 | E21: ○ | K21: 8000 | N21: =SUM(J21:M21) -> 8000 | P21: =VLOOKUP(D21,고객상담실현황!$F$6:$M$322,2,FALSE) -> #N/A | Q21: =VLOOKUP(D21,고객상담실현황!$F$6:$M$322,3,FALSE) -> #N/A | R21: =VLOOKUP(D21,고객상담실현황!$F$6:$M$322,4,FALSE) -> #N/A | S21: =VLOOKUP(D21,고객상담실현황!$F$6:$M$322,8,FALSE) -> #N/A
A22: =ROW()-6 -> 16 | B22: 서울청 | C22: 서울서초 | D22: 서울서초 | G22: ○ | L22: 3348 | N22: =SUM(J22:M22) -> 3348 | P22: =VLOOKUP(D22,고객상담실현황!$F$6:$M$322,2,FALSE) -> 서기관 | Q22: =VLOOKUP(D22,고객상담실현황!$F$6:$M$322,3,FALSE) -> 0 | R22: =VLOOKUP(D22,고객상담실현황!$F$6:$M$322,4,FALSE) -> 2000 | S22: =VLOOKUP(D22,고객상담실현황!$F$6:$M$322,8,FALSE) -> 0
A23: =ROW()-6 -> 17 | B23: 서울청 | C23: 서울중앙 | D23: 서울중앙 | G23: ○ | L23: 7100 | N23: =SUM(J23:M23) -> 7100 | P23: =VLOOKUP(D23,고객상담실현황!$F$6:$M$322,2,FALSE) -> 서기관 | Q23: =VLOOKUP(D23,고객상담실현황!$F$6:$M$322,3,FALSE) -> 0 | R23: =VLOOKUP(D23,고객상담실현황!$F$6:$M$322,4,FALSE) -> 2007 | S23: =VLOOKUP(D23,고객상담실현황!$F$6:$M$322,8,FALSE) -> 0
A24: =ROW()-6 -> 18 | B24: 서울청 | C24: 서울중앙 | D24: 태평로 | G24: ○ | L24: 3000 | N24: =SUM(J24:M24) -> 3000 | P24: =VLOOKUP(D24,고객상담실현황!$F$6:$M$322,2,FALSE) -> #N/A | Q24: =VLOOKUP(D24,고객상담실현황!$F$6:$M$322,3,FALSE) -> #N/A | R24: =VLOOKUP(D24,고객상담실현황!$F$6:$M$322,4,FALSE) -> #N/A | S24: =VLOOKUP(D24,고객상담실현황!$F$6:$M$322,8,FALSE) -> #N/A | T24: =SUM(N7:N24) -> 54892
A25: =ROW()-6 -> 19 | B25: 경인청 | C25: 가평 | D25: 가평 | I25: ○ | M25: 600 | N25: =SUM(J25:M25) -> 600 | P25: =VLOOKUP(D25,고객상담실현황!$F$6:$M$322,2,FALSE) -> 사무관 | Q25: =VLOOKUP(D25,고객상담실현황!$F$6:$M$322,3,FALSE) -> 0 | R25: =VLOOKUP(D25,고객상담실현황!$F$6:$M$322,4,FALSE) -> 2007 | S25: =VLOOKUP(D25,고객상담실현황!$F$6:$M$322,8,FALSE) -> 0
A26: =ROW()-6 -> 20 | B26: 경인청 | C26: 고양일산 | D26: 고양일산 | E26: ○ | G26: ○ | I26: ○ | K26: 10000 | L26: 2000 | M26: 600 | N26: =SUM(J26:M26) -> 12600 | O26: 2 | P26: =VLOOKUP(D26,고객상담실현황!$F$6:$M$322,2,FALSE) -> 서기관 | Q26: =VLOOKUP(D26,고객상담실현황!$F$6:$M$322,3,FALSE) -> 0 | R26: =VLOOKUP(D26,고객상담실현황!$F$6:$M$322,4,FALSE) -> 2006 | S26: =VLOOKUP(D26,고객상담실현황!$F$6:$M$322,8,FALSE) -> 0
A27: =ROW()-6 -> 21 | B27: 경인청 | C27: 구리 | D27: 구리 | G27: ○ | I27: ○ | L27: 130 | M27: 300 | N27: =SUM(J27:M27) -> 430 | P27: =VLOOKUP(D27,고객상담실현황!$F$6:$M$322,2,FALSE) -> 사무관 | Q27: =VLOOKUP(D27,고객상담실현황!$F$6:$M$322,3,FALSE) -> 0 | R27: =VLOOKUP(D27,고객상담실현황!$F$6:$M$322,4,FALSE) -> 2007 | S27: =VLOOKUP(D27,고객상담실현황!$F$6:$M$322,8,FALSE) -> 0
A28: =ROW()-6 -> 22 | B28: 경인청 | C28: 구리 | D28: 구리갈매 | G28: ○ | L28: 260 | N28: =SUM(J28:M28) -> 260 | P28: =VLOOKUP(D28,고객상담실현황!$F$6:$M$322,2,FALSE) -> #N/A | Q28: =VLOOKUP(D28,고객상담실현황!$F$6:$M$322,3,FALSE) -> #N/A | R28: =VLOOKUP(D28,고객상담실현황!$F$6:$M$322,4,FALSE) -> #N/A | S28: =VLOOKUP(D28,고객상담실현황!$F$6:$M$322,8,FALSE) -> #N/A
A29: =ROW()-6 -> 23 | B29: 경인청 | C29: 남양주 | D29: 남양주 | G29: ○ | I29: ○ | L29: 1230 | M29: 1600 | N29: =SUM(J29:M29) -> 2830 | P29: =VLOOKUP(D29,고객상담실현황!$F$6:$M$322,2,FALSE) -> 서기관 | Q29: =VLOOKUP(D29,고객상담실현황!$F$6:$M$322,3,FALSE) -> 0 | R29: =VLOOKUP(D29,고객상담실현황!$F$6:$M$322,4,FALSE) -> 2008 | S29: =VLOOKUP(D29,고객상담실현황!$F$6:$M$322,8,FALSE) -> 6200
A30: =ROW()-6 -> 24 | B30: 경인청 | C30: 남인천 | D30: 남인천 | G30: ○ | I30: ○ | L30: 2320 | M30: 750 | N30: =SUM(J30:M30) -> 3070 | P30: =VLOOKUP(D30,고객상담실현황!$F$6:$M$322,2,FALSE) -> 서기관 | Q30: =VLOOKUP(D30,고객상담실현황!$F$6:$M$322,3,FALSE) -> 0 | R30: =VLOOKUP(D30,고객상담실현황!$F$6:$M$322,4,FALSE) -> 2005 | S30: =VLOOKUP(D30,고객상담실현황!$F$6:$M$322,8,FALSE) -> 0
A31: =ROW()-6 -> 25 | B31: 경인청 | C31: 남인천 | D31: 인천문학동 | G31: ○ | L31: 840 | N31: =SUM(J31:M31) -> 840 | P31: =VLOOKUP(D31,고객상담실현황!$F$6:$M$322,2,FALSE) -> #N/A | Q31: =VLOOKUP(D31,고객상담실현황!$F$6:$M$322,3,FALSE) -> #N/A | R31: =VLOOKUP(D31,고객상담실현황!$F$6:$M$322,4,FALSE) -> #N/A | S31: =VLOOKUP(D31,고객상담실현황!$F$6:$M$322,8,FALSE) -> #N/A
A32: =ROW()-6 -> 26 | B32: 경인청 | C32: 남인천 | D32: 인천숭의동 | G32: ○ | L32: 2150 | N32: =SUM(J32:M32) -> 2150 | P32: =VLOOKUP(D32,고객상담실현황!$F$6:$M$322,2,FALSE) -> #N/A | Q32: =VLOOKUP(D32,고객상담실현황!$F$6:$M$322,3,FALSE) -> #N/A | R32: =VLOOKUP(D32,고객상담실현황!$F$6:$M$322,4,FALSE) -> #N/A | S32: =VLOOKUP(D32,고객상담실현황!$F$6:$M$322,8,FALSE) -> #N/A
A33: =ROW()-6 -> 27 | B33: 경인청 | C33: 동수원 | D33: 동수원 | G33: ○ | I33: ○ | L33: 1060 | M33: 280 | N33: =SUM(J33:M33) -> 1340 | P33: =VLOOKUP(D33,고객상담실현황!$F$6:$M$322,2,FALSE) -> 서기관 | Q33: =VLOOKUP(D33,고객상담실현황!$F$6:$M$322,3,FALSE) -> 0 | R33: =VLOOKUP(D33,고객상담실현황!$F$6:$M$322,4,FALSE) -> 2007 | S33: =VLOOKUP(D33,고객상담실현황!$F$6:$M$322,8,FALSE) -> 0
A34: =ROW()-6 -> 28 | B34: 경인청 | C34: 동수원 | D34: 수원법원 | I34: ○ | M34: 280 | N34: =SUM(J34:M34) -> 280 | P34: =VLOOKUP(D34,고객상담실현황!$F$6:$M$322,2,FALSE) -> #N/A | Q34: =VLOOKUP(D34,고객상담실현황!$F$6:$M$322,3,FALSE) -> #N/A | R34: =VLOOKUP(D34,고객상담실현황!$F$6:$M$322,4,FALSE) -> #N/A | S34: =VLOOKUP(D34,고객상담실현황!$F$6:$M$322,8,FALSE) -> #N/A
A35: =ROW()-6 -> 29 | B35: 경인청 | C35: 동수원 | D35: 수원청명 | I35: ○ | M35: 460 | N35: =SUM(J35:M35) -> 460 | P35: =VLOOKUP(D35,고객상담실현황!$F$6:$M$322,2,FALSE) -> #N/A | Q35: =VLOOKUP(D35,고객상담실현황!$F$6:$M$322,3,FALSE) -> #N/A | R35: =VLOOKUP(D35,고객상담실현황!$F$6:$M$322,4,FALSE) -> #N/A | S35: =VLOOKUP(D35,고객상담실현황!$F$6:$M$322,8,FALSE) -> #N/A
A36: =ROW()-6 -> 30 | B36: 경인청 | C36: 동수원 | D36: 수원황곡 | I36: ○ | M36: 100 | N36: =SUM(J36:M36) -> 100 | P36: =VLOOKUP(D36,고객상담실현황!$F$6:$M$322,2,FALSE) -> #N/A | Q36: =VLOOKUP(D36,고객상담실현황!$F$6:$M$322,3,FALSE) -> #N/A | R36: =VLOOKUP(D36,고객상담실현황!$F$6:$M$322,4,FALSE) -> #N/A | S36: =VLOOKUP(D36,고객상담실현황!$F$6:$M$322,8,FALSE) -> #N/A
A37: =ROW()-6 -> 31 | B37: 경인청 | C37: 백령 | D37: 백령 | I37: ○ | M37: 3200 | N37: =SUM(J37:M37) -> 3200 | P37: =VLOOKUP(D37,고객상담실현황!$F$6:$M$322,2,FALSE) -> 사무관 | Q37: =VLOOKUP(D37,고객상담실현황!$F$6:$M$322,3,FALSE) -> 0 | R37: =VLOOKUP(D37,고객상담실현황!$F$6:$M$322,4,FALSE) -> 2008 | S37: =VLOOKUP(D37,고객상담실현황!$F$6:$M$322,8,FALSE) -> 0
A38: =ROW()-6 -> 32 | B38: 경인청 | C38: 부천 | D38: 부천 | I38: ○ | M38: 1900 | N38: =SUM(J38:M38) -> 1900 | P38: =VLOOKUP(D38,고객상담실현황!$F$6:$M$322,2,FALSE) -> 서기관 | Q38: =VLOOKUP(D38,고객상담실현황!$F$6:$M$322,3,FALSE) -> 0 | R38: =VLOOKUP(D38,고객상담실현황!$F$6:$M$322,4,FALSE) -> 2006 | S38: =VLOOKUP(D38,고객상담실현황!$F$6:$M$322,8,FALSE) -> 0
A39: =ROW()-6 -> 33 | B39: 경인청 | C39: 부평 | D39: 부평대로 | I39: ○ | M39: 350 | N39: =SUM(J39:M39) -> 350 | P39: =VLOOKUP(D39,고객상담실현황!$F$6:$M$322,2,FALSE) -> #N/A | Q39: =VLOOKUP(D39,고객상담실현황!$F$6:$M$322,3,FALSE) -> #N/A | R39: =VLOOKUP(D39,고객상담실현황!$F$6:$M$322,4,FALSE) -> #N/A | S39: =VLOOKUP(D39,고객상담실현황!$F$6:$M$322,8,FALSE) -> #N/A
A40: =ROW()-6 -> 34 | B40: 경인청 | C40: 부평 | D40: 부평현대아파트 | I40: ○ | M40: 200 | N40: =SUM(J40:M40) -> 200 | P40: =VLOOKUP(D40,고객상담실현황!$F$6:$M$322,2,FALSE) -> #N/A | Q40: =VLOOKUP(D40,고객상담실현황!$F$6:$M$322,3,FALSE) -> #N/A | R40: =VLOOKUP(D40,고객상담실현황!$F$6:$M$322,4,FALSE) -> #N/A | S40: =VLOOKUP(D40,고객상담실현황!$F$6:$M$322,8,FALSE) -> #N/A
A41: =ROW()-6 -> 35 | B41: 경인청 | C41: 부평 | D41: 북인천 | G41: ○ | L41: 200 | N41: =SUM(J41:M41) -> 200 | P41: =VLOOKUP(D41,고객상담실현황!$F$6:$M$322,2,FALSE) -> #N/A | Q41: =VLOOKUP(D41,고객상담실현황!$F$6:$M$322,3,FALSE) -> #N/A | R41: =VLOOKUP(D41,고객상담실현황!$F$6:$M$322,4,FALSE) -> #N/A | S41: =VLOOKUP(D41,고객상담실현황!$F$6:$M$322,8,FALSE) -> #N/A
A42: =ROW()-6 -> 36 | B42: 경인청 | C42: 부평 | D42: 인천갈산동 | G42: ○ | L42: 410 | N42: =SUM(J42:M42) -> 410 | P42: =VLOOKUP(D42,고객상담실현황!$F$6:$M$322,2,FALSE) -> #N/A | Q42: =VLOOKUP(D42,고객상담실현황!$F$6:$M$322,3,FALSE) -> #N/A | R42: =VLOOKUP(D42,고객상담실현황!$F$6:$M$322,4,FALSE) -> #N/A | S42: =VLOOKUP(D42,고객상담실현황!$F$6:$M$322,8,FALSE) -> #N/A
A43: =ROW()-6 -> 37 | B43: 경인청 | C43: 부평 | D43: 인천동암 | I43: ○ | M43: 250 | N43: =SUM(J43:M43) -> 250 | P43: =VLOOKUP(D43,고객상담실현황!$F$6:$M$322,2,FALSE) -> #N/A | Q43: =VLOOKUP(D43,고객상담실현황!$F$6:$M$322,3,FALSE) -> #N/A | R43: =VLOOKUP(D43,고객상담실현황!$F$6:$M$322,4,FALSE) -> #N/A | S43: =VLOOKUP(D43,고객상담실현황!$F$6:$M$322,8,FALSE) -> #N/A
...

Sheet 환경개선
A2: 2015년도 금융고객상담실 등 금융분야 환경개선 대상관서 수요조사
J4: (단위 : 천원)
A5: 청명 | B5: 총괄국명 | C5: 해당국명 | D5: 현황 | G5: 환경개선 필요 사유 | H5: 소요예산
D6: 설치년도 | E6: 면적(㎡) | F6: 환경개선 실시년도 | H6: 설계비 | I6: 시설비 | J6: 계
A7: 서울청 | B7: 서울중랑 | C7: 서울면목동 | E7: 194 | G7: 바닥타일 노후, 벽면 및 천장 도색 | I7: 8000 | J7: =SUM(H7:I7) -> 8000
A8: 경인청 | B8: 고양일산 | C8: 고양일산 | D8: 2006 | E8: 32.3 | G8: 벽면,천정 노후 및 면적확장필요 | H8: 0 | I8: 10000 | J8: =SUM(H8:I8) -> 10000
A9: 부산청 | B9: 사천 | C9: 사천선구동 | D9: 2010 | E9: 85 | G9: 고객상담실 벽지 노후로 훼손 | H9: 0 | I9: 600 | J9: =SUM(H9:I9) -> 600
A10: 부산청 | B10: 부산금정 | C10: 부산장전동 | E10: 261.8 | G10: o 창구환경개선으로 금융사업 활성화 도모 1. 카운터 노후화로 카운터가 균열되면서 갈라짐 2. 2015년 하반기 2차 창구망 합리화 통합국으로 창구 수 부족으로 인한 카운터 재배치 | H10: 0 | I10: 45000 | J10: =SUM(H10:I10) -> 45000
A11: 부산청 | B11: 김해 | C11: 김해삼방동 | E11: 110 | G11: o 창구환경개선으로 금융사업 활성화 도모 공중실바닥교체 및 창구 카운터 노후화 | H11: 0 | I11: 11000 | J11: =SUM(H11:I11) -> 11000
A12: 부산청 | B12: 부산금정 | C12: 부산남산동 | E12: 724.3 | G12: o 창구환경개선으로 금융사업 활성화 도모모 1. 공중실 아크릴 등커버가 노후화되어 추락 우려로 안전 사고의 위험이 잠재되어 있음(실제 아크릴등 탈락상태임) 2. 공중실 아크릴 등커버의 통일성 부족 및 크랙이 발생한 아크릴등 커버가 많음 3. 공중실 바닥타일의 탈락 및 벗겨진 노면의 미끄러움으로 인하여 고객안전사고 발생 | H12: 0 | I12: 12000 | J12: =SUM(H12:I12) -> 12000
A13: 부산청 | B13: 김해 | C13: 김해삼계동 | E13: 200 | G13: o 창구환경개선으로 금융사업 활성화 도모 창구 전체 조명이 삽입형으로 어두워 고객불만이 많아 돌출형 조명으로 교체하여 금융사업 활성화 도모 | H13: 0 | I13: 5000 | J13: =SUM(H13:I13) -> 5000
A14: 충청청 | B14: 대전대덕 | C14: 대전대덕 | G14: 창구환경 개선(자동화부스 철거) | H14: 0 | I14: 8000 | J14: =SUM(H14:I14) -> 8000
A15: 충청청 | B15: 대전둔산 | C15: 변동, 괴정동 | G15: 창구환경 개선(자동화부스 철거) | H15: 0 | I15: 14000 | J15: =SUM(H15:I15) -> 14000
A16: 충청청 | B16: 보령 | C16: 보령 | D16: 2008 | E16: 42.9 | G16: 바닥공사(카페트 오염) | H16: 0 | I16: 3000 | J16: =SUM(H16:I16) -> 3000
A17: 충청청 | B17: 옥천 | C17: 옥천 | D17: 2008 | E17: 23.1 | F17: 2013 | G17: 바닥공사(카페트 오염) | H17: 0 | I17: 1000 | J17: =SUM(H17:I17) -> 1000
A18: 강원청 | B18: 인제 | C18: 기린 | E18: 11 | G18: 고객 이용시 불편한 창구환경 개선 | H18: 0 | I18: 5000 | J18: =SUM(H18:I18) -> 5000
A19: 강원청 | B19: 홍천 | C19: 창촌 | D19: 1997 | E19: 342㎡ | G19: 카운터CD기 인입공사 | H19: 0 | I19: 2800 | J19: =SUM(H19:I19) -> 2800
A20: 합계 | H20: =SUM(H8:H19) -> 0 | I20: =SUM(I7:I19) -> 125400 | J20: =SUM(J7:J19) -> 125400

Sheet 이전설치
A2: 2015년도 금융고객상담실 이전설치 대상관서 수요조사
K4: (단위 : 천원)
A5: 청명 | B5: 총괄국명 | C5: 해당국명 | D5: 현황 | G5: 이전설치 필요 사유 | H5: 이전 설치 면적(㎡) | I5: 소요예산
D6: 설치년도 | E6: 면적(㎡) | F6: 환경개선 실시년도 | I6: 설계비 | J6: 시설비 | K6: 계
A7: 경인청 | B7: 고양일산 | C7: 고양일산 | D7: 2006 | E7: 32.3 | G7: 현재 위치는 고객접근성이 좋지 않고 불편함 | H7: 30 | I7: 0 | J7: 10000 | K7: =SUM(I7:J7) -> 10000
A8: 전북청 | B8: 김제 | C8: 김제 | D8: 2005년 | E8: 24.5 | G8: 기존환경 개선 | H8: 29 | I8: 0 | J8: 20000 | K8: =SUM(I8:J8) -> 20000
A9: 전북청 | B9: 진안 | C9: 진안 | D9: 2006년 | E9: 철거 | G9: 기존환경 개선 | H9: 17.0 (2.5*6.8) | I9: 0 | J9: 10000 | K9: =SUM(I9:J9) -> 10000
I10: =SUM(I7:I9) -> 0 | J10: =SUM(J7:J9) -> 40000 | K10: =SUM(I10:J10) -> 40000

Sheet 비품구입 및 교체
A2: 2015년도 금융고객상담실 등 비품 신규구입 및 교체 대상관서 수요조사
S4: (단위 : 천원)
A5: 청 명 | B5: 총괄국명 | C5: 해당국명 | D5: 비품 신규 구입 | M5: 비품 교체 | S5: 소요예산
A7: 서울청 | B7: 서울강동 | C7: 서울강동 | D7: 품명 | E7: TV | F7: 냉장고 | G7: 응접의자 | H7: 응접탁자 | M7: 품명 | N7: 냉장고 | O7: 공기청정기 | P7: 고객상담의자 | S7: =SUM(E11:L11)+SUM(N11:R11) -> 910
D8: 수량 | G8: 2 | M8: 구입년도 | O8: 2006년도
D9: 구입사유 | G9: 파손,교체 | M9: 교체사유 | O9: 노후고장
D10: 단가 | G10: 200 | M10: 단가 | O10: 510
D11: 금액 | G11: 400 | M11: 금액 | O11: 510
A12: 서울청 | B12: 서울양천 | C12: 서울양천 | D12: 품명 | E12: OA칸막이 | M12: 품명 | N12: 의자(고객) | O12: 응접탁자 | S12: =SUM(E16:L16)+SUM(N16:R16) -> 2350
D13: 수량 | E13: 5 | M13: 구입년도 | N13: 2008년 | O13: 2008년
D14: 구입사유 | E14: 불편(노출) | M14: 교체사유 | N14: 노후 | O14: 노후
D15: 단가 | E15: 300 | M15: 단가 | N15: 250 | O15: 350
D16: 금액 | E16: 1500 | M16: 금액 | N16: 500 | O16: 350
A17: 서울청 | B17: 서울송파 | C17: 서울송파 | D17: 품명 | E17: 이중캐비넷 | F17: 이동서랍 | G17: 의자 | H17: 상담의자 | I17: 화일장 | J17: 책상 | K17: 책상유리 | L17: 다용도장 | M17: 품명 | N17: 탁자 | O17: 탁자유리 | P17: 응접의자 | Q17: 작업대 | R17: 로비의자 | S17: =SUM(E21:L21)+SUM(N21:R21) -> 7938
D18: 수량 | E18: 1 | F18: 2 | G18: 2 | H18: 2 | I18: 9 | J18: 2 | K18: 2 | L18: 1 | M18: 구입년도 | N18: 1 | O18: 1 | P18: 8 | Q18: 1 | R18: 6
D19: 구입사유 | E19: 신규설치 | F19: 신규설치 | G19: 신규설치 | H19: 신규설치 | I19: 신규설치 | J19: 신규설치 | K19: 신규설치 | L19: 신규설치 | M19: 교체사유 | N19: 신규설치 | O19: 신규설치 | P19: 신규설치 | Q19: 신규설치 | R19: 신규설치
D20: 단가 | E20: 350 | F20: 170 | G20: 190 | H20: 330 | I20: 275 | J20: 175 | K20: 30 | L20: 450 | M20: 단가 | N20: 300 | O20: 70 | P20: 66 | Q20: 265 | R20: 285
D21: 금액 | E21: 350 | F21: 340 | G21: 380 | H21: 660 | I21: 2475 | J21: 350 | K21: 60 | L21: 450 | M21: 금액 | N21: 300 | O21: 70 | P21: 528 | Q21: 265 | R21: 1710
A22: 서울청 | B22: 동대문 | C22: 동대문 | D22: 품명 | E22: 파티션 | M22: 품명 | S22: =SUM(E26:L26)+SUM(N26:R26) -> 400
D23: 수량 | E23: 4 | M23: 구입년도
D24: 구입사유 | E24: 신규설치 | M24: 교체사유
D25: 단가 | E25: 100 | M25: 단가
D26: 금액 | E26: 400 | M26: 금액
A27: 서울청 | B27: 광화문 | C27: 광화문 | D27: 품명 | E27: 상담의자 | M27: 품명 | S27: =SUM(E31:L31)+SUM(N31:R31) -> 1200
D28: 수량 | E28: 2 | M28: 구입년도
D29: 구입사유 | E29: 부족 | M29: 교체사유
D30: 단가 | E30: 600 | M30: 단가
D31: 금액 | E31: 1200 | M31: 금액
A32: 서울청 | B32: 서울도봉 | C32: 서울강북 | D32: 품명 | E32: 응접탁자 | M32: 품명 | N32: 책상(세트) | O32: 의자 | P32: 5단책장 | R32: 파티션 | S32: =SUM(E36:L36)+SUM(N36:R36) -> 5802
D33: 수량 | E33: 1 | M33: 구입년도 | N33: 2005년도 | O33: 2005 | P33: 2005 | R33: 2005
D34: 구입사유 | E34: 고객이용 불편 | M34: 교체사유 | N34: 노후 | O34: 노후 | P34: 장소 협소 | R34: 노후
D35: 단가 | E35: 165 | M35: 단가 | N35: 600 | O35: 224.5 | P35: 254 | R35: 3631
D36: 금액 | E36: 165 | M36: 금액 | N36: 600 | O36: 898 | P36: 508 | R36: 3631
A37: 서울청 | B37: 서울도봉 | C37: 서울수유3동 | D37: 품명 | M37: 품명 | N37: 롤스크린 | O37: 파티션 | P37: 상담실탁자 | Q37: 수납장 | R37: 상담실의자 | S37: =SUM(E41:L41)+SUM(N41:R41) -> 3381
D38: 수량 | M38: 구입년도 | N38: 2002년도 | O38: 2002년도 | P38: 2002년도 | Q38: 2002년도 | R38: 2002년도
D39: 구입사유 | M39: 교체사유 | N39: 고장 | O39: 고장 | P39: 노후및 작음 | Q39: 노후고장 | R39: 고장
D40: 단가 | M40: 단가 | N40: 567 | O40: 1191.8 | P40: 440 | Q40: 720 | R40: 462
D41: 금액 | M41: 금액 | N41: 567 | O41: 1192 | P41: 440 | Q41: 720 | R41: 462
A42: 서울청 | B42: 서울도봉 | C42: 서울번2동 | D42: 품명 | E42: 냉장고 | M42: 품명 | S42: =SUM(E46:L46)+SUM(N46:R46) -> 312
D43: 수량 | E43: 1 | M43: 구입년도
...

Sheet 신규설치
A1: 2015년도 금융고객상담실 신규설치 대상관서 수요조사
A3: 1 | Q3: (단위 : 억원, %, 명)
A4: 청명 | B4: 총괄국명 | C4: 우체국명 | D4: 신규 설치 면적(㎡) | E4: 소요예산 (단위 : 천원) | H4: 전담인력 상시 운용 여부 | J4: 금융단말기 신규 설치 여부 | L4: 우수고객 수 | O4: 우수고객 수신고
E5: 설계비 | F5: 시설비 | G5: 계 | H5: 가능여부 | I5: 운영자 | J5: 신규설치 | K5: 기 단말기 활용 | L5: 총 예금고객 수 | M5: 우수고객 수 | N5: 점유비 | O5: 총수신 | P5: 우수고객 수신 | Q5: 점유비
A6: 경인청 | B6: 시흥 | C6: 시흥대야동 | D6: 20㎡ | E6: 0 | F6: 10000 | G6: 10000 | H6: O | I6: 국장 | K6: O | L6: 7406 | M6: 249 | N6: 0.033621388 | O6: 227 | P6: 142 | Q6: 0.62555066
A7: 충청청 | B7: 논산 | C7: 계룡금암동 | D7: 20㎡ | E7: 0 | F7: 12000 | G7: =SUM(E7:F7) -> 12000 | I7: 국장 | J7: 1 | L7: 5444 | M7: 147 | N7: =M7/L7 -> 0.027002204 | O7: 149.73017 | P7: 104.72111 | Q7: =P7/O7 -> 0.69939887
A8: 충청청 | B8: 청주 | C8: 오창과학단지 | D8: 15㎡ | E8: 0 | F8: 12000 | G8: =SUM(E8:F8) -> 12000 | I8: 국장 | J8: 1 | L8: 3621 | M8: 152 | N8: =M8/L8 -> 0.041977354 | O8: 164 | P8: 107 | Q8: =P8/O8 -> 0.65243902
E9: =SUM(E6:E8) -> 0 | F9: =SUM(F6:F8) -> 34000 | G9: =SUM(G6:G8) -> 34000
A10: * 고객수 및 수신고는 2015.7월말 기준으로 작성

Sheet BI관련 변경
A2: 2014년도 금융고객상담실 BI변경 관련 수요조사
I4: (단위 : 천원)
A5: 청 명 | B5: 총괄국명 | C5: 해당국명 | D5: BI변경 물품 | H5: BI변경 시설 | I5: 소요예산
A7: 경인청 | B7: 서인천 | C7: 서인천 | D7: 품명 | E7: 안내판 | H7: 에버리치 띠지 | I7: =SUM(E10:H10) -> 700
D8: 수량
D9: 단가 | H9: 700
D10: 금액 | H10: 700
A11: 경인청 | B11: 서인천 | C11: 인천석남동 | D11: 품명 | H11: 에버리치 띠지 | I11: =SUM(E14:H14) -> 300
D12: 수량
D13: 단가 | H13: 300
D14: 금액 | H14: 300
A15: 경인청 | B15: 서인천 | C15: 인천가좌2동 | D15: 품명 | H15: 에버리치 띠지 | I15: =SUM(E18:H18) -> 300
D16: 수량
D17: 단가 | H17: 300
D18: 금액 | H18: 300
A19: 경인청 | B19: 서인천 | C19: 인천공단 | D19: 품명 | H19: 에버리치 띠지 | I19: =SUM(E22:H22) -> 300
D20: 수량
D21: 단가 | H21: 300
D22: 금액 | H22: 300
A23: 경인청 | B23: 서인천 | C23: 인천원당 | D23: 품명 | H23: 에버리치 띠지 | I23: =SUM(E26:H26) -> 300
D24: 수량
D25: 단가 | H25: 300
D26: 금액 | H26: 300
A27: 경인청 | B27: 서인천 | C27: 인천검암동 | D27: 품명 | H27: 에버리치 띠지 | I27: =SUM(E30:H30) -> 300
D28: 수량
D29: 단가 | H29: 300
D30: 금액 | H30: 300
A31: 경인청 | B31: 서인천 | C31: 인천청라1동 | D31: 품명 | H31: 에버리치 띠지 | I31: =SUM(E34:H34) -> 300
D32: 수량
D33: 단가 | H33: 300
D34: 금액 | H34: 300
A35: 경인청 | B35: 인천계양 | C35: 인천효성동 | D35: 품명 | H35: 에버리치 띠지 | I35: =SUM(E38:H38) -> 150
D36: 수량
D37: 단가
D38: 금액 | H38: 150
A39: 경인청 | B39: 남인천 | C39: 남인천 | D39: 품명 | H39: 에버리치 띠지 | I39: =SUM(E42:H42) -> 750
D40: 수량 | H40: 5
D41: 단가 | H41: 150
D42: 금액 | H42: 750
A43: 경인청 | B43: 인천남동 | C43: 인천간석동 | D43: 품명 | H43: 에버리치 띠지 | I43: =SUM(E46:H46) -> 150
...

Sheet 예산계산
B2: 2015년도 금융고객상담실 등 금융창구 환경개선 및 신규설치 대상관서(총괄)
N4: (단위 : 천원)
A5: 순번 | B5: 청 명 | C5: 총괄국명 | D5: 해당국명 | E5: 구분 | J5: 총 소요예산 | O5: 우선순위 | P5: 관서급 | Q5: 총괄국여부 | R5: 설치 년도 | S5: 2013년지원 여부
E6: 환경개선 | F6: 이전설치 | G6: 비품구입/교체 | H6: 신규설치 | I6: BI변경 | J6: 설계비(A) | K6: 시설비(B) | L6: 자산취득비(C) | M6: 시설비(BI관련) | N6: 계{(A)+(B)+(C)}
A7: =ROW()-6 -> 1 | B7: 서울청 | C7: 광화문 | D7: 광화문 | G7: ○ | L7: 1200 | N7: =SUM(J7:M7) -> 1200 | P7: =VLOOKUP(D7,고객상담실현황!$F$6:$M$322,2,FALSE) -> 서기관 | Q7: =VLOOKUP(D7,고객상담실현황!$F$6:$M$322,3,FALSE) -> 0 | R7: =VLOOKUP(D7,고객상담실현황!$F$6:$M$322,4,FALSE) -> 2004 | S7: =VLOOKUP(D7,고객상담실현황!$F$6:$M$322,8,FALSE) -> 0
A8: =ROW()-6 -> 2 | B8: 서울청 | C8: 동대문 | D8: 동대문 | G8: ○ | L8: 400 | N8: =SUM(J8:M8) -> 400 | P8: =VLOOKUP(D8,고객상담실현황!$F$6:$M$322,2,FALSE) -> 서기관 | Q8: =VLOOKUP(D8,고객상담실현황!$F$6:$M$322,3,FALSE) -> 0 | R8: =VLOOKUP(D8,고객상담실현황!$F$6:$M$322,4,FALSE) -> 2005 | S8: =VLOOKUP(D8,고객상담실현황!$F$6:$M$322,8,FALSE) -> 0
A9: =ROW()-6 -> 3 | B9: 서울청 | C9: 서울강동 | D9: 서울강동 | G9: ○ | L9: 910 | N9: =SUM(J9:M9) -> 910 | P9: =VLOOKUP(D9,고객상담실현황!$F$6:$M$322,2,FALSE) -> 서기관 | Q9: =VLOOKUP(D9,고객상담실현황!$F$6:$M$322,3,FALSE) -> 0 | R9: =VLOOKUP(D9,고객상담실현황!$F$6:$M$322,4,FALSE) -> 2006 | S9: =VLOOKUP(D9,고객상담실현황!$F$6:$M$322,8,FALSE) -> 5100
A10: =ROW()-6 -> 4 | B10: 서울청 | C10: 서울강서 | D10: 서울강서 | G10: ○ | L10: 2000 | N10: =SUM(J10:M10) -> 2000 | P10: =VLOOKUP(D10,고객상담실현황!$F$6:$M$322,2,FALSE) -> 서기관 | Q10: =VLOOKUP(D10,고객상담실현황!$F$6:$M$322,3,FALSE) -> 0 | R10: =VLOOKUP(D10,고객상담실현황!$F$6:$M$322,4,FALSE) -> 2005 | S10: =VLOOKUP(D10,고객상담실현황!$F$6:$M$322,8,FALSE) -> 0
A11: =ROW()-6 -> 5 | B11: 서울청 | C11: 서울광진 | D11: 성동 | G11: ○ | L11: 2900 | N11: =SUM(J11:M11) -> 2900 | P11: =VLOOKUP(D11,고객상담실현황!$F$6:$M$322,2,FALSE) -> #N/A | Q11: =VLOOKUP(D11,고객상담실현황!$F$6:$M$322,3,FALSE) -> #N/A | R11: =VLOOKUP(D11,고객상담실현황!$F$6:$M$322,4,FALSE) -> #N/A | S11: =VLOOKUP(D11,고객상담실현황!$F$6:$M$322,8,FALSE) -> #N/A
A12: =ROW()-6 -> 6 | B12: 서울청 | C12: 서울광진 | D12: 중곡동 | G12: ○ | L12: 2000 | N12: =SUM(J12:M12) -> 2000 | P12: =VLOOKUP(D12,고객상담실현황!$F$6:$M$322,2,FALSE) -> #N/A | Q12: =VLOOKUP(D12,고객상담실현황!$F$6:$M$322,3,FALSE) -> #N/A | R12: =VLOOKUP(D12,고객상담실현황!$F$6:$M$322,4,FALSE) -> #N/A | S12: =VLOOKUP(D12,고객상담실현황!$F$6:$M$322,8,FALSE) -> #N/A
A13: =ROW()-6 -> 7 | B13: 서울청 | C13: 서울도봉 | D13: 서울강북 | G13: ○ | L13: 5802 | N13: =SUM(J13:M13) -> 5802 | P13: =VLOOKUP(D13,고객상담실현황!$F$6:$M$322,2,FALSE) -> 사무관 | Q13: =VLOOKUP(D13,고객상담실현황!$F$6:$M$322,3,FALSE) -> 관내 | R13: =VLOOKUP(D13,고객상담실현황!$F$6:$M$322,4,FALSE) -> 2005 | S13: =VLOOKUP(D13,고객상담실현황!$F$6:$M$322,8,FALSE) -> 0
A14: =ROW()-6 -> 8 | B14: 서울청 | C14: 서울도봉 | D14: 서울번2동 | G14: ○ | L14: 312 | N14: =SUM(J14:M14) -> 312 | P14: =VLOOKUP(D14,고객상담실현황!$F$6:$M$322,2,FALSE) -> #N/A | Q14: =VLOOKUP(D14,고객상담실현황!$F$6:$M$322,3,FALSE) -> #N/A | R14: =VLOOKUP(D14,고객상담실현황!$F$6:$M$322,4,FALSE) -> #N/A | S14: =VLOOKUP(D14,고객상담실현황!$F$6:$M$322,8,FALSE) -> #N/A
A15: =ROW()-6 -> 9 | B15: 서울청 | C15: 서울도봉 | D15: 서울수유3동 | G15: ○ | L15: 3381 | N15: =SUM(J15:M15) -> 3381 | P15: =VLOOKUP(D15,고객상담실현황!$F$6:$M$322,2,FALSE) -> #N/A | Q15: =VLOOKUP(D15,고객상담실현황!$F$6:$M$322,3,FALSE) -> #N/A | R15: =VLOOKUP(D15,고객상담실현황!$F$6:$M$322,4,FALSE) -> #N/A | S15: =VLOOKUP(D15,고객상담실현황!$F$6:$M$322,8,FALSE) -> #N/A
A16: =ROW()-6 -> 10 | B16: 서울청 | C16: 서울송파 | D16: 서울송파 | G16: ○ | L16: 7938 | N16: =SUM(J16:M16) -> 7938 | P16: =VLOOKUP(D16,고객상담실현황!$F$6:$M$322,2,FALSE) -> 서기관 | Q16: =VLOOKUP(D16,고객상담실현황!$F$6:$M$322,3,FALSE) -> 0 | R16: =VLOOKUP(D16,고객상담실현황!$F$6:$M$322,4,FALSE) -> 2006 | S16: =VLOOKUP(D16,고객상담실현황!$F$6:$M$322,8,FALSE) -> 0
A17: =ROW()-6 -> 11 | B17: 서울청 | C17: 서울양천 | D17: 서울양천 | G17: ○ | L17: 2350 | N17: =SUM(J17:M17) -> 2350 | P17: =VLOOKUP(D17,고객상담실현황!$F$6:$M$322,2,FALSE) -> 서기관 | Q17: =VLOOKUP(D17,고객상담실현황!$F$6:$M$322,3,FALSE) -> 0 | R17: =VLOOKUP(D17,고객상담실현황!$F$6:$M$322,4,FALSE) -> 2007 | S17: =VLOOKUP(D17,고객상담실현황!$F$6:$M$322,8,FALSE) -> 0
A18: =ROW()-6 -> 12 | B18: 서울청 | C18: 서울용산 | D18: 서울용문동 | G18: ○ | L18: 2035 | N18: =SUM(J18:M18) -> 2035 | P18: =VLOOKUP(D18,고객상담실현황!$F$6:$M$322,2,FALSE) -> #N/A | Q18: =VLOOKUP(D18,고객상담실현황!$F$6:$M$322,3,FALSE) -> #N/A | R18: =VLOOKUP(D18,고객상담실현황!$F$6:$M$322,4,FALSE) -> #N/A | S18: =VLOOKUP(D18,고객상담실현황!$F$6:$M$322,8,FALSE) -> #N/A
... A20: =ROW()-6 -> 14 | B20: 서울청 | C20: 서울중랑 | D20: 서울중랑 | G20: ○ | L20: 500 | N20: =SUM(J20:M20) -> 500 | P20: =VLOOKUP(D20,고객상담실현황!$F$6:$M$322,2,FALSE) -> 서기관 | Q20: =VLOOKUP(D20,고객상담실현황!$F$6:$M$322,3,FALSE) -> 0 | R20: =VLOOKUP(D20,고객상담실현황!$F$6:$M$322,4,FALSE) -> 2005 | S20: =VLOOKUP(D20,고객상담실현황!$F$6:$M$322,8,FALSE) -> 0
A21: =ROW()-6 -> 15 | B21: 서울청 | C21: 서울중랑 | D21: 서울면목동 | E21: ○ | K21: 8000 | N21: =SUM(J21:M21) -> 8000 | P21: =VLOOKUP(D21,고객상담실현황!$F$6:$M$322,2,FALSE) -> #N/A | Q21: =VLOOKUP(D21,고객상담실현황!$F$6:$M$322,3,FALSE) -> #N/A | R21: =VLOOKUP(D21,고객상담실현황!$F$6:$M$322,4,FALSE) -> #N/A | S21: =VLOOKUP(D21,고객상담실현황!$F$6:$M$322,8,FALSE) -> #N/A
A22: =ROW()-6 -> 16 | B22: 서울청 | C22: 서울서초 | D22: 서울서초 | G22: ○ | L22: 3348 | N22: =SUM(J22:M22) -> 3348 | P22: =VLOOKUP(D22,고객상담실현황!$F$6:$M$322,2,FALSE) -> 서기관 | Q22: =VLOOKUP(D22,고객상담실현황!$F$6:$M$322,3,FALSE) -> 0 | R22: =VLOOKUP(D22,고객상담실현황!$F$6:$M$322,4,FALSE) -> 2000 | S22: =VLOOKUP(D22,고객상담실현황!$F$6:$M$322,8,FALSE) -> 0
A23: =ROW()-6 -> 17 | B23: 서울청 | C23: 서울중앙 | D23: 서울중앙 | G23: ○ | L23: 7100 | N23: =SUM(J23:M23) -> 7100 | P23: =VLOOKUP(D23,고객상담실현황!$F$6:$M$322,2,FALSE) -> 서기관 | Q23: =VLOOKUP(D23,고객상담실현황!$F$6:$M$322,3,FALSE) -> 0 | R23: =VLOOKUP(D23,고객상담실현황!$F$6:$M$322,4,FALSE) -> 2007 | S23: =VLOOKUP(D23,고객상담실현황!$F$6:$M$322,8,FALSE) -> 0
A24: =ROW()-6 -> 18 | B24: 서울청 | C24: 서울중앙 | D24: 태평로 | G24: ○ | L24: 3000 | N24: =SUM(J24:M24) -> 3000 | P24: =VLOOKUP(D24,고객상담실현황!$F$6:$M$322,2,FALSE) -> #N/A | Q24: =VLOOKUP(D24,고객상담실현황!$F$6:$M$322,3,FALSE) -> #N/A | R24: =VLOOKUP(D24,고객상담실현황!$F$6:$M$322,4,FALSE) -> #N/A | S24: =VLOOKUP(D24,고객상담실현황!$F$6:$M$322,8,FALSE) -> #N/A | T24: =SUM(N7:N24) -> 54892
B25: 서울청 요약 | J25: =SUBTOTAL(9,J7:J24) -> 0 | K25: =SUBTOTAL(9,K7:K24) -> 8000 | L25: =SUBTOTAL(9,L7:L24) -> 46892 | M25: =SUBTOTAL(9,M7:M24) -> 0 | N25: =SUBTOTAL(9,N7:N24) -> 54892
A26: =ROW()-6 -> 20 | B26: 경인청 | C26: 가평 | D26: 가평 | I26: ○ | M26: 600 | N26: =SUM(J26:M26) -> 600 | P26: =VLOOKUP(D26,고객상담실현황!$F$6:$M$322,2,FALSE) -> 사무관 | Q26: =VLOOKUP(D26,고객상담실현황!$F$6:$M$322,3,FALSE) -> 0 | R26: =VLOOKUP(D26,고객상담실현황!$F$6:$M$322,4,FALSE) -> 2007 | S26: =VLOOKUP(D26,고객상담실현황!$F$6:$M$322,8,FALSE) -> 0
A27: =ROW()-6 -> 21 | B27: 경인청 | C27: 고양일산 | D27: 고양일산 | E27: ○ | G27: ○ | I27: ○ | K27: 10000 | L27: 2000 | M27: 600 | N27: =SUM(J27:M27) -> 12600 | O27: 2 | P27: =VLOOKUP(D27,고객상담실현황!$F$6:$M$322,2,FALSE) -> 서기관 | Q27: =VLOOKUP(D27,고객상담실현황!$F$6:$M$322,3,FALSE) -> 0 | R27: =VLOOKUP(D27,고객상담실현황!$F$6:$M$322,4,FALSE) -> 2006 | S27: =VLOOKUP(D27,고객상담실현황!$F$6:$M$322,8,FALSE) -> 0
A28: =ROW()-6 -> 22 | B28: 경인청 | C28: 구리 | D28: 구리 | G28: ○ | I28: ○ | L28: 130 | M28: 300 | N28: =SUM(J28:M28) -> 430 | P28: =VLOOKUP(D28,고객상담실현황!$F$6:$M$322,2,FALSE) -> 사무관 | Q28: =VLOOKUP(D28,고객상담실현황!$F$6:$M$322,3,FALSE) -> 0 | R28: =VLOOKUP(D28,고객상담실현황!$F$6:$M$322,4,FALSE) -> 2007 | S28: =VLOOKUP(D28,고객상담실현황!$F$6:$M$322,8,FALSE) -> 0
A29: =ROW()-6 -> 23 | B29: 경인청 | C29: 구리 | D29: 구리갈매 | G29: ○ | L29: 260 | N29: =SUM(J29:M29) -> 260 | P29: =VLOOKUP(D29,고객상담실현황!$F$6:$M$322,2,FALSE) -> #N/A | Q29: =VLOOKUP(D29,고객상담실현황!$F$6:$M$322,3,FALSE) -> #N/A | R29: =VLOOKUP(D29,고객상담실현황!$F$6:$M$322,4,FALSE) -> #N/A | S29: =VLOOKUP(D29,고객상담실현황!$F$6:$M$322,8,FALSE) -> #N/A
A30: =ROW()-6 -> 24 | B30: 경인청 | C30: 남양주 | D30: 남양주 | G30: ○ | I30: ○ | L30: 1230 | M30: 1600 | N30: =SUM(J30:M30) -> 2830 | P30: =VLOOKUP(D30,고객상담실현황!$F$6:$M$322,2,FALSE) -> 서기관 | Q30: =VLOOKUP(D30,고객상담실현황!$F$6:$M$322,3,FALSE) -> 0 | R30: =VLOOKUP(D30,고객상담실현황!$F$6:$M$322,4,FALSE) -> 2008 | S30: =VLOOKUP(D30,고객상담실현황!$F$6:$M$322,8,FALSE) -> 6200
A31: =ROW()-6 -> 25 | B31: 경인청 | C31: 남인천 | D31: 남인천 | G31: ○ | I31: ○ | L31: 2320 | M31: 750 | N31: =SUM(J31:M31) -> 3070 | P31: =VLOOKUP(D31,고객상담실현황!$F$6:$M$322,2,FALSE) -> 서기관 | Q31: =VLOOKUP(D31,고객상담실현황!$F$6:$M$322,3,FALSE) -> 0 | R31: =VLOOKUP(D31,고객상담실현황!$F$6:$M$322,4,FALSE) -> 2005 | S31: =VLOOKUP(D31,고객상담실현황!$F$6:$M$322,8,FALSE) -> 0
A32: =ROW()-6 -> 26 | B32: 경인청 | C32: 남인천 | D32: 인천문학동 | G32: ○ | L32: 840 | N32: =SUM(J32:M32) -> 840 | P32: =VLOOKUP(D32,고객상담실현황!$F$6:$M$322,2,FALSE) -> #N/A | Q32: =VLOOKUP(D32,고객상담실현황!$F$6:$M$322,3,FALSE) -> #N/A | R32: =VLOOKUP(D32,고객상담실현황!$F$6:$M$322,4,FALSE) -> #N/A | S32: =VLOOKUP(D32,고객상담실현황!$F$6:$M$322,8,FALSE) -> #N/A
A33: =ROW()-6 -> 27 | B33: 경인청 | C33: 남인천 | D33: 인천숭의동 | G33: ○ | L33: 2150 | N33: =SUM(J33:M33) -> 2150 | P33: =VLOOKUP(D33,고객상담실현황!$F$6:$M$322,2,FALSE) -> #N/A | Q33: =VLOOKUP(D33,고객상담실현황!$F$6:$M$322,3,FALSE) -> #N/A | R33: =VLOOKUP(D33,고객상담실현황!$F$6:$M$322,4,FALSE) -> #N/A | S33: =VLOOKUP(D33,고객상담실현황!$F$6:$M$322,8,FALSE) -> #N/A
A34: =ROW()-6 -> 28 | B34: 경인청 | C34: 동수원 | D34: 동수원 | G34: ○ | I34: ○ | L34: 1060 | M34: 280 | N34: =SUM(J34:M34) -> 1340 | P34: =VLOOKUP(D34,고객상담실현황!$F$6:$M$322,2,FALSE) -> 서기관 | Q34: =VLOOKUP(D34,고객상담실현황!$F$6:$M$322,3,FALSE) -> 0 | R34: =VLOOKUP(D34,고객상담실현황!$F$6:$M$322,4,FALSE) -> 2007 | S34: =VLOOKUP(D34,고객상담실현황!$F$6:$M$322,8,FALSE) -> 0
A35: =ROW()-6 -> 29 | B35: 경인청 | C35: 동수원 | D35: 수원법원 | I35: ○ | M35: 280 | N35: =SUM(J35:M35) -> 280 | P35: =VLOOKUP(D35,고객상담실현황!$F$6:$M$322,2,FALSE) -> #N/A | Q35: =VLOOKUP(D35,고객상담실현황!$F$6:$M$322,3,FALSE) -> #N/A | R35: =VLOOKUP(D35,고객상담실현황!$F$6:$M$322,4,FALSE) -> #N/A | S35: =VLOOKUP(D35,고객상담실현황!$F$6:$M$322,8,FALSE) -> #N/A
A36: =ROW()-6 -> 30 | B36: 경인청 | C36: 동수원 | D36: 수원청명 | I36: ○ | M36: 460 | N36: =SUM(J36:M36) -> 460 | P36: =VLOOKUP(D36,고객상담실현황!$F$6:$M$322,2,FALSE) -> #N/A | Q36: =VLOOKUP(D36,고객상담실현황!$F$6:$M$322,3,FALSE) -> #N/A | R36: =VLOOKUP(D36,고객상담실현황!$F$6:$M$322,4,FALSE) -> #N/A | S36: =VLOOKUP(D36,고객상담실현황!$F$6:$M$322,8,FALSE) -> #N/A
A37: =ROW()-6 -> 31 | B37: 경인청 | C37: 동수원 | D37: 수원황곡 | I37: ○ | M37: 100 | N37: =SUM(J37:M37) -> 100 | P37: =VLOOKUP(D37,고객상담실현황!$F$6:$M$322,2,FALSE) -> #N/A | Q37: =VLOOKUP(D37,고객상담실현황!$F$6:$M$322,3,FALSE) -> #N/A | R37: =VLOOKUP(D37,고객상담실현황!$F$6:$M$322,4,FALSE) -> #N/A | S37: =VLOOKUP(D37,고객상담실현황!$F$6:$M$322,8,FALSE) -> #N/A
A38: =ROW()-6 -> 32 | B38: 경인청 | C38: 백령 | D38: 백령 | I38: ○ | M38: 3200 | N38: =SUM(J38:M38) -> 3200 | P38: =VLOOKUP(D38,고객상담실현황!$F$6:$M$322,2,FALSE) -> 사무관 | Q38: =VLOOKUP(D38,고객상담실현황!$F$6:$M$322,3,FALSE) -> 0 | R38: =VLOOKUP(D38,고객상담실현황!$F$6:$M$322,4,FALSE) -> 2008 | S38: =VLOOKUP(D38,고객상담실현황!$F$6:$M$322,8,FALSE) -> 0
A39: =ROW()-6 -> 33 | B39: 경인청 | C39: 부천 | D39: 부천 | I39: ○ | M39: 1900 | N39: =SUM(J39:M39) -> 1900 | P39: =VLOOKUP(D39,고객상담실현황!$F$6:$M$322,2,FALSE) -> 서기관 | Q39: =VLOOKUP(D39,고객상담실현황!$F$6:$M$322,3,FALSE) -> 0 | R39: =VLOOKUP(D39,고객상담실현황!$F$6:$M$322,4,FALSE) -> 2006 | S39: =VLOOKUP(D39,고객상담실현황!$F$6:$M$322,8,FALSE) -> 0
A40: =ROW()-6 -> 34 | B40: 경인청 | C40: 부평 | D40: 부평대로 | I40: ○ | M40: 350 | N40: =SUM(J40:M40) -> 350 | P40: =VLOOKUP(D40,고객상담실현황!$F$6:$M$322,2,FALSE) -> #N/A | Q40: =VLOOKUP(D40,고객상담실현황!$F$6:$M$322,3,FALSE) -> #N/A | R40: =VLOOKUP(D40,고객상담실현황!$F$6:$M$322,4,FALSE) -> #N/A | S40: =VLOOKUP(D40,고객상담실현황!$F$6:$M$322,8,FALSE) -> #N/A
A41: =ROW()-6 -> 35 | B41: 경인청 | C41: 부평 | D41: 부평현대아파트 | I41: ○ | M41: 200 | N41: =SUM(J41:M41) -> 200 | P41: =VLOOKUP(D41,고객상담실현황!$F$6:$M$322,2,FALSE) -> #N/A | Q41: =VLOOKUP(D41,고객상담실현황!$F$6:$M$322,3,FALSE) -> #N/A | R41: =VLOOKUP(D41,고객상담실현황!$F$6:$M$322,4,FALSE) -> #N/A | S41: =VLOOKUP(D41,고객상담실현황!$F$6:$M$322,8,FALSE) -> #N/A
A42: =ROW()-6 -> 36 | B42: 경인청 | C42: 부평 | D42: 북인천 | G42: ○ | L42: 200 | N42: =SUM(J42:M42) -> 200 | P42: =VLOOKUP(D42,고객상담실현황!$F$6:$M$322,2,FALSE) -> #N/A | Q42: =VLOOKUP(D42,고객상담실현황!$F$6:$M$322,3,FALSE) -> #N/A | R42: =VLOOKUP(D42,고객상담실현황!$F$6:$M$322,4,FALSE) -> #N/A | S42: =VLOOKUP(D42,고객상담실현황!$F$6:$M$322,8,FALSE) -> #N/A
A43: =ROW()-6 -> 37 | B43: 경인청 | C43: 부평 | D43: 인천갈산동 | G43: ○ | L43: 410 | N43: =SUM(J43:M43) -> 410 | P43: =VLOOKUP(D43,고객상담실현황!$F$6:$M$322,2,FALSE) -> #N/A | Q43: =VLOOKUP(D43,고객상담실현황!$F$6:$M$322,3,FALSE) -> #N/A | R43: =VLOOKUP(D43,고객상담실현황!$F$6:$M$322,4,FALSE) -> #N/A | S43: =VLOOKUP(D43,고객상담실현황!$F$6:$M$322,8,FALSE) -> #N/A
...
