Workbook

Sheet 원가계산서
A1: 공 사 원 가 계 산 서
A2: 공사명 : 무주수련원 시설 보수공사
A3: 구 분 비 목 | D3: 구 성 비 | E3: 금 액 | F3: 비 고
A5: 순 공 사 원 가 | B5: 재료비 | C5: 직 접 재 료 비 | E5: =내역서!F52 -> 11762999
C6: 간 접 재 료 비
C7: 작업설.부산물 등(△)
C8: 소 계 | E8: =SUM(E5:E7) -> 11762999
B9: 노무비 | C9: 직 접 노 무 비 | E9: =내역서!H52 -> 11834727
C10: 간 접 노 무 비 | D10: 0.096 | E10: =ROUNDDOWN(E9*D10,0) -> 1136133
C11: 소 계 | E11: =SUM(E9:E10) -> 12970860
B12: 경 비 | C12: 기 계 경 비 | E12: =내역서!J52 -> 740800
C13: 산 재 보 험 료 | D13: 0.038 | E13: =ROUNDDOWN(E11*D13,0) -> 492892
C14: 고 용 보 험 료 | D14: 0.0087 | E14: =ROUNDDOWN(E11*D14,0) -> 112846
C15: 건 강 보 험 료 | F15: 1개월이상적용
C16: 연 금 보 험 료 | F16: 1개월이상적용
C17: 노인 장기 요양보험료 | F17: 1개월이상적용
C18: 퇴 직 공 제 부 금 비 | F18: 3억원미만
C19: 산업안전 보건관리비 | F19: 4천만원이상적용
C20: 기 타 경 비 | D20: 0.0303 | E20: =ROUNDDOWN((E8+E11)*D20,0) -> 749435
C21: 환 경 보 전 비 | D21: 0.003 | E21: =ROUNDDOWN((E8+E9+E12)*D21,0) -> 73015
C22: 소 계 | E22: =SUM(E12:E21) -> 2168988
B23: 계 | E23: =SUM(E22,E11,E8) -> 26902847
A24: 일 반 관 리 비 | D24: 0.06 | E24: =ROUNDDOWN((E8+E11+E22)*D24,0) -> 1614170
A25: 이 윤 | D25: 0.1051 | E25: =ROUNDDOWN((E11+E22+E24)*D25,0) -> 1760847
A26: 폐 기 물 처 리 비 | E26: =내역서!L50 -> 265537
A27: 총 원 가 | E27: =SUM(E23:E26) -> 30543401
A28: 부 가 가 치 세 | D28: 0.1 | E28: =ROUNDDOWN(E27*0.1,0) -> 3054340
A29: 도 급 금 액 | E29: =ROUNDDOWN(SUM(E27:E28),-3) -> 33597000 | F29: 천원이하 절사

Sheet 내역서
A1: 내 역 서
A2: 공사명 : 무주수련원 시설 보수공사
A3: 품 명 | B3: 규 격 | C3: 단위 | D3: 수 량 | E3: 재 료 비 | G3: 노 무 비 | I3: 경 비 | K3: 합 계 | M3: 비고
E4: 단 가 | F4: 금 액 | G4: 단 가 | H4: 금 액 | I4: 단 가 | J4: 금 액 | K4: 단 가 | L4: 금 액
A5: 01. 가설공사
A6: 조립 말비계 | B6: 강관,3개월,3단(6m) | C6: 대 | D6: 1 | E6: =77077*1.14*(1-0.88) -> 10544.134 | F6: =ROUNDDOWN(D6*E6,0) -> 10544 | G6: =77077*1.14*0.88 -> 77323.646 | H6: =ROUNDDOWN(D6*G6,0) -> 77323 | J6: =ROUNDDOWN(D6*I6,0) -> 0 | K6: =E6+G6+I6 -> 87867.78 | L6: =F6+H6+J6 -> 87867 | M6: 표준AA310
A7: 건설장비 대여 | B7: 스카이 18m 1t | C7: 일 | D7: 1 | F7: =ROUNDDOWN(D7*E7,0) -> 0 | H7: =ROUNDDOWN(D7*G7,0) -> 0 | I7: 700000 | J7: =ROUNDDOWN(D7*I7,0) -> 700000 | K7: =E7+G7+I7 -> 700000 | L7: =F7+H7+J7 -> 700000 | M7: INT
A8: 건축물현장정리 | B8: 개 보수공사 | C8: M2 | D8: 89.1 | F8: =ROUNDDOWN(D8*E8,0) -> 0 | G8: =일위대가목록!I5 -> 1747 | H8: =ROUNDDOWN(D8*G8,0) -> 155657 | J8: =ROUNDDOWN(D8*I8,0) -> 0 | K8: =E8+G8+I8 -> 1747 | L8: =F8+H8+J8 -> 155657 | M8: 일위 1호
A12: 소 계 | F12: =SUM(F6:F11) -> 10544 | H12: =SUM(H6:H11) -> 232980 | J12: =SUM(J6:J11) -> 700000 | L12: =SUM(L6:L11) -> 943524
A13: 02. 방수공사
A14: 바탕정리 | B14: 바닥 | C14: m2 | D14: 89.1 | E14: =일위대가목록!G6 -> 293 | F14: =ROUNDDOWN(D14*E14,0) -> 26106 | G14: =일위대가목록!I6 -> 2257 | H14: =ROUNDDOWN(D14*G14,0) -> 201098 | J14: =ROUNDDOWN(D14*I14,0) -> 0 | K14: =E14+G14+I14 -> 2550 | L14: =F14+H14+J14 -> 227204 | M14: 일위 2호
A15: 우레탄도막 | B15: 바닥3mm.노출 | C15: M2 | D15: 89.1 | E15: =일위대가목록!G7 -> 19948 | F15: =ROUNDDOWN(D15*E15,0) -> 1777366 | G15: =일위대가목록!I7 -> 10588 | H15: =ROUNDDOWN(D15*G15,0) -> 943390 | J15: =ROUNDDOWN(D15*I15,0) -> 0 | K15: =E15+G15+I15 -> 30536 | L15: =F15+H15+J15 -> 2720756 | M15: 일위 3호
A20: 소 계 | F20: =SUM(F14:F19) -> 1803472 | H20: =SUM(H14:H19) -> 1144488 | J20: =SUM(J14:J19) -> 0 | L20: =SUM(L14:L19) -> 2947960
A21: 03. 철거공사
A22: 벽돌철거 | B22: 인력 | C22: M3 | D22: 3.34 | E22: =일위대가목록!G8 -> 4988 | F22: =ROUNDDOWN(D22*E22,0) -> 16659 | G22: =일위대가목록!I8 -> 99772 | H22: =ROUNDDOWN(D22*G22,0) -> 333238 | J22: =ROUNDDOWN(D22*I22,0) -> 0 | K22: =E22+G22+I22 -> 104760 | L22: =F22+H22+J22 -> 349897 | M22: 일위 4호
A23: 화강석 철거 | B23: 판석 | C23: M2 | D23: 11.3 | E23: =일위대가목록!G9 -> 1317 | F23: =ROUNDDOWN(D23*E23,0) -> 14882 | G23: =일위대가목록!I9 -> 26341 | H23: =ROUNDDOWN(D23*G23,0) -> 297653 | J23: =ROUNDDOWN(D23*I23,0) -> 0 | K23: =E23+G23+I23 -> 27658 | L23: =F23+H23+J23 -> 312535 | M23: 일위 5호
A24: 화단조경식재 철거후 재이식 | C24: 식 | D24: 1 | F24: =ROUNDDOWN(D24*E24,0) -> 0 | G24: =일위대가목록!I9 -> 26341 | H24: =ROUNDDOWN(D24*G24,0) -> 26341 | J24: =ROUNDDOWN(D24*I24,0) -> 0 | K24: =E24+G24+I24 -> 26341 | L24: =F24+H24+J24 -> 26341 | M24: 일위 7호
A28: 소 계 | F28: =SUM(F22:F27) -> 31541 | H28: =SUM(H22:H27) -> 657232 | J28: =SUM(J22:J27) -> 0 | L28: =SUM(L22:L27) -> 688773
A29: 04. 도배/도장공사
A30: 벽지(초배유) | B30: 실크 | C30: M2 | D30: 1742.16 | E30: =4974*(1-0.45) -> 2735.7 | F30: =ROUNDDOWN(D30*E30,0) -> 4766027 | G30: =4974*0.45 -> 2238.3 | H30: =ROUNDDOWN(D30*G30,0) -> 3899476 | J30: =ROUNDDOWN(D30*I30,0) -> 0 | K30: =E30+G30+I30 -> 4974 | L30: =F30+H30+J30 -> 8665503 | M30: 실적OB113
A31: 천정지(초배유) | B31: 실크 | C31: M2 | D31: 1192.32 | E31: =7500*(1-0.53) -> 3525 | F31: =ROUNDDOWN(D31*E31,0) -> 4202928 | G31: =7500*0.53 -> 3975 | H31: =ROUNDDOWN(D31*G31,0) -> 4739472 | J31: =ROUNDDOWN(D31*I31,0) -> 0 | K31: =E31+G31+I31 -> 7500 | L31: =F31+H31+J31 -> 8942400 | M31: 실적OB133
A32: 수성페인트칠 | B32: 외벽2회,로울러칠 | C32: M2 | D32: 198.66 | E32: =4865*(1-0.84) -> 778.4 | F32: =ROUNDDOWN(D32*E32,0) -> 154636 | G32: =4865*0.84 -> 4086.6 | H32: =ROUNDDOWN(D32*G32,0) -> 811843 | J32: =ROUNDDOWN(D32*I32,0) -> 0 | K32: =E32+G32+I32 -> 4865 | L32: =F32+H32+J32 -> 966479 | M32: 실적NC132
A36: 소 계 | F36: =SUM(F30:F35) -> 9123591 | H36: =SUM(H30:H35) -> 9450791 | J36: =SUM(J22:J35) -> 0 | L36: =SUM(L30:L35) -> 18574382
A37: 05. 기타공사
A38: 보차도 및 도로 경계블록(인조화강석) | B38: 180X210X300X1,000mm,곡선 | C38: M | D38: 30 | E38: =일위대가목록!G11 -> 20663 | F38: =ROUNDDOWN(D38*E38,0) -> 619890 | G38: =일위대가목록!I11 -> 9944 | H38: =ROUNDDOWN(D38*G38,0) -> 298320 | I38: =일위대가목록!K11 -> 1360 | J38: =ROUNDDOWN(D38*I38,0) -> 40800 | K38: =E38+G38+I38 -> 31967 | L38: =F38+H38+J38 -> 959010 | M38: 일위 8호
A39: 유리교체공사 | C39: 식 | D39: 1 | E39: =일위대가목록!G12 -> 125798 | F39: =ROUNDDOWN(D39*E39,0) -> 125798 | G39: =일위대가목록!I12 -> 50916 | H39: =ROUNDDOWN(D39*G39,0) -> 50916 | J39: =ROUNDDOWN(D39*I39,0) -> 0 | K39: =E39+G39+I39 -> 176714 | L39: =F39+H39+J39 -> 176714 | M39: 일위 10호
A40: 유리주위코킹 | B40: 복층유리 5*5,실리콘 | C40: M | D40: 172.63 | E40: =일위대가목록!G14 -> 279 | F40: =ROUNDDOWN(D40*E40,0) -> 48163 | H40: =ROUNDDOWN(D40*G40,0) -> 0 | J40: =ROUNDDOWN(D40*I40,0) -> 0 | K40: =E40+G40+I40 -> 279 | L40: =F40+H40+J40 -> 48163 | M40: 일위 12호
F41: =ROUNDDOWN(D41*E41,0) -> 0 | H41: =ROUNDDOWN(D41*G41,0) -> 0 | J41: =ROUNDDOWN(D41*I41,0) -> 0 | K41: =E41+G41+I41 -> 0 | L41: =F41+H41+J41 -> 0
A43: 소 계 | F43: =SUM(F38:F42) -> 793851 | H43: =SUM(H38:H42) -> 349236 | J43: =SUM(J38:J42) -> 40800 | L43: =SUM(L38:L42) -> 1183887
A44: 06. 폐기물처리비
A45: 폐자재처리수수료 | B45: 폐콘크리트 | C45: 톤 | D45: 8.37 | F45: =ROUNDDOWN(D45*E45,0) -> 0 | H45: =ROUNDDOWN(D45*G45,0) -> 0 | I45: 18065 | J45: =ROUNDDOWN(D45*I45,0) -> 151204 | K45: =E45+G45+I45 -> 18065 | L45: =F45+H45+J45 -> 151204 | M45: 물가자료
A46: 건설폐기물수집운반비(상차비) | B46: 15TON 덤프,중간처리 | C46: TON | D46: 8.37 | F46: =ROUNDDOWN(D46*E46,0) -> 0 | H46: =ROUNDDOWN(D46*G46,0) -> 0 | I46: 1820 | J46: =ROUNDDOWN(D46*I46,0) -> 15233 | K46: =E46+G46+I46 -> 1820 | L46: =F46+H46+J46 -> 15233 | M46: 물가자료
A47: 건설폐기물수집운반비(운반비) | B47: 15TON 덤프,중간처리,30km | C47: TON | D47: 8.37 | F47: =ROUNDDOWN(D47*E47,0) -> 0 | H47: =ROUNDDOWN(D47*G47,0) -> 0 | I47: 11840 | J47: =ROUNDDOWN(D47*I47,0) -> 99100 | K47: =E47+G47+I47 -> 11840 | L47: =F47+H47+J47 -> 99100 | M47: 물가자료
A50: 소 계 | F50: =SUM(F45:F49) -> 0 | H50: =SUM(H45:H49) -> 0 | J50: =SUM(J45:J49) -> 265537 | L50: =SUM(L45:L49) -> 265537 | M50: 합계제외
A52: 합 계 | F52: =SUM(F12,F20,F28,F36,F43) -> 11762999 | G52: =SUM(G12,G20,G28,G36,G43) -> 0 | H52: =SUM(H12,H20,H28,H36,H43) -> 11834727 | I52: =SUM(I12,I20,I28,I36,I43) -> 0 | J52: =SUM(J12,J20,J28,J36,J43) -> 740800 | K52: =SUM(K12,K20,K28,K36,K43) -> 0 | L52: =SUM(L12,L20,L28,L36,L43) -> 24338526

Sheet 일위대가목록
A1: 일 위 대 가 표 목 록
A2: 공사명 : 무주수련원 대수선공사
A3: 호 표 | B3: 품 명 | C3: 규 격 | D3: 단위 | E3: 수량 | F3: 재 료 비 | H3: 노 무 비 | J3: 경 비 | L3: 합 계 | N3: 비 고
F4: 단 가 | G4: 금 액 | H4: 단 가 | I4: 금 액 | J4: 단 가 | K4: 금 액 | L4: 단 가 | M4: 금 액
A5: 일위 1호 | B5: 건축물현장정리 | C5: 개 보수공사 | D5: M2 | E5: 1 | F5: =일위대가표!F7 -> 0 | G5: =E5*F5 -> 0 | H5: =일위대가표!H7 -> 1747 | I5: =E5*H5 -> 1747 | J5: =일위대가표!J7 -> 0 | K5: =E5*J5 -> 0 | L5: =F5+H5+J5 -> 1747 | M5: =G5+I5+K5 -> 1747
A6: 일위 2호 | B6: 바탕정리 | C6: 바닥 | D6: m2 | E6: 1 | F6: =일위대가표!F13 -> 293 | G6: =E6*F6 -> 293 | H6: =일위대가표!H13 -> 2257 | I6: =E6*H6 -> 2257 | J6: =일위대가표!J13 -> 0 | K6: =E6*J6 -> 0 | L6: =F6+H6+J6 -> 2550 | M6: =G6+I6+K6 -> 2550
A7: 일위 3호 | B7: 우레탄도막 | C7: 바닥3mm.노출 | D7: M2 | E7: 1 | F7: =일위대가표!F22 -> 19948 | G7: =E7*F7 -> 19948 | H7: =일위대가표!H22 -> 10588 | I7: =E7*H7 -> 10588 | J7: =일위대가표!J22 -> 0 | K7: =E7*J7 -> 0 | L7: =F7+H7+J7 -> 30536 | M7: =G7+I7+K7 -> 30536 | N7: 참고자료
A8: 일위 4호 | B8: 벽돌철거 | C8: 인력 | D8: M3 | E8: 1 | F8: =일위대가표!F27 -> 4988 | G8: =E8*F8 -> 4988 | H8: =일위대가표!H27 -> 99772 | I8: =E8*H8 -> 99772 | J8: =일위대가표!J27 -> 0 | K8: =E8*J8 -> 0 | L8: =F8+H8+J8 -> 104760 | M8: =G8+I8+K8 -> 104760 | N8: 건축19-1-3
A9: 일위 5호 | B9: 화강석 철거 | C9: 판석 | D9: M2 | E9: 1 | F9: =일위대가표!F31 -> 1317 | G9: =E9*F9 -> 1317 | H9: =일위대가표!H31 -> 26341 | I9: =E9*H9 -> 26341 | J9: =일위대가표!J31 -> 0 | K9: =E9*J9 -> 0 | L9: =F9+H9+J9 -> 27658 | M9: =G9+I9+K9 -> 27658 | N9: 참고-조달청기준
A10: 일위 7호 | B10: 화단조경식재 철거후 재이식 | D10: 식 | E10: 1 | F10: =일위대가표!F36 -> 0 | G10: =E10*F10 -> 0 | H10: =일위대가표!H36 -> 569280 | I10: =E10*H10 -> 569280 | J10: =일위대가표!J36 -> 0 | K10: =E10*J10 -> 0 | L10: =F10+H10+J10 -> 569280 | M10: =G10+I10+K10 -> 569280
A11: 일위 8호 | B11: 보차도 및 도로 경계블록(인조화강석) | C11: 180X210X300X1,000mm,곡선 | D11: M | E11: 1 | F11: =일위대가표!F42 -> 20663 | G11: =E11*F11 -> 20663 | H11: =일위대가표!H42 -> 9944 | I11: =E11*H11 -> 9944 | J11: =일위대가표!J42 -> 1360 | K11: =E11*J11 -> 1360 | L11: =F11+H11+J11 -> 31967 | M11: =G11+I11+K11 -> 31967 | N11: 토목12-5-3.2
A12: 일위 10호 | B12: 유리교체공사 | D12: 식 | E12: 1 | F12: =일위대가표!F48 -> 125798 | G12: =E12*F12 -> 125798 | H12: =일위대가표!H48 -> 50916 | I12: =E12*H12 -> 50916 | J12: =일위대가표!J48 -> 0 | K12: =E12*J12 -> 0 | L12: =F12+H12+J12 -> 176714 | M12: =G12+I12+K12 -> 176714
A13: 일위 11호 | B13: 유리끼우기(복층유리) | C13: 커튼월, 24mm(6+12A+6) | D13: M2 | E13: 1 | F13: =일위대가표!F51 -> 0 | G13: =E13*F13 -> 0 | H13: =일위대가표!H51 -> 19844 | I13: =E13*H13 -> 19844 | J13: =일위대가표!J51 -> 0 | K13: =E13*J13 -> 0 | L13: =F13+H13+J13 -> 19844 | M13: =G13+I13+K13 -> 19844 | N13: 건축16-5-2
A14: 일위 12호 | B14: 유리주위코킹 | C14: 복층유리 5*5,실리콘 | D14: M | E14: 1 | F14: =일위대가표!F54 -> 279 | G14: =E14*F14 -> 279 | H14: =일위대가표!H54 -> 0 | I14: =E14*H14 -> 0 | J14: =일위대가표!J54 -> 0 | K14: =E14*J14 -> 0 | L14: =F14+H14+J14 -> 279 | M14: =G14+I14+K14 -> 279 | N14: 건축16-5-2
A15: 일위 13호 | B15: 유리철거 | D15: M2 | E15: 1 | F15: =일위대가표!F57 -> 0 | G15: =E15*F15 -> 0 | H15: =일위대가표!H57 -> 17872 | I15: =E15*H15 -> 17872 | J15: =일위대가표!J57 -> 0 | K15: =E15*J15 -> 0 | L15: =F15+H15+J15 -> 17872 | M15: =G15+I15+K15 -> 17872 | N15: 참고자료

Sheet 일위대가표
A1: 일 위 대 가 명 세 서
A2: 공사명 : 무주수련원 시설 보수공사
A3: 품 명 | B3: 규 격 | C3: 단위 | D3: 수 량 | E3: 재 료 비 | G3: 노 무 비 | I3: 경 비 | K3: 합 계 | M3: 비 고
E4: 단 가 | F4: 금 액 | G4: 단 가 | H4: 금 액 | I4: 단 가 | J4: 금 액 | K4: 단 가 | L4: 금 액
A5: 일위 1호 건축물현장정리 | B5: 개 보수공사 | C5: M2
A6: 보통인부 | C6: 인 | D6: 0.0199 | G6: 87805 | H6: 1747.3 | K6: 87805 | L6: 1747.3
A7: 합 계 | F7: 0 | H7: 1747 | J7: 0 | L7: 1747
A8: 일위 2호 바탕정리 | B8: 바닥 | C8: m2
A9: 방수공 | C9: 인 | D9: 0.0166 | G9: 101093 | H9: 1678.1 | K9: 101093 | L9: 1678.1
A10: 보통인부 | C10: 인 | D10: 0.0066 | G10: 87805 | H10: 579.5 | K10: 87805 | L10: 579.5
A11: 기구손료 | B11: 노무비의 10% | C11: 식 | D11: 1 | E11: 2257.6 | F11: 225.7 | K11: 2257.6 | L11: 225.7 | M11: 자재에입력
A12: 공구손료 | B12: 노무비의 3% | C12: 식 | D12: 1 | E12: 2257.6 | F12: 67.7 | K12: 2257.6 | L12: 67.7 | M12: 자재에입력
A13: 합 계 | F13: 293 | H13: 2257 | J13: 0 | L13: 2550
A14: 일위 3호 우레탄도막 | B14: 바닥3mm.노출 | C14: M2 | M14: 참고자료
A15: 우레탄방수제 | B15: 우레탄 | C15: KG | D15: 3.9 | E15: 4060 | F15: 15834 | K15: 4060 | L15: 15834
A16: 우레탄방수제 | B16: 마감코팅제 | C16: KG | D16: 0.295 | E16: 4810 | F16: 1418.9 | K16: 4810 | L16: 1418.9
A17: 우레탄방수제 | B17: 프라이머 | C17: L | D17: 0.402 | E17: 4080 | F17: 1640.1 | K17: 4080 | L17: 1640.1
A18: 우레탄방수제 | B18: 희석재 | C18: L | D18: 0.41 | E18: 1800 | F18: 738 | K18: 1800 | L18: 738
A19: 방수공 | C19: 인 | D19: 0.07 | G19: 101093 | H19: 7076.5 | K19: 101093 | L19: 7076.5
A20: 보통인부 | C20: 인 | D20: 0.04 | G20: 87805 | H20: 3512.2 | K20: 87805 | L20: 3512.2
A21: 공구손료 | B21: 노무비의 3% | C21: 식 | D21: 1 | E21: 10588.7 | F21: 317.6 | K21: 10588.7 | L21: 317.6 | M21: 자재에입력
A22: 합 계 | F22: 19948 | H22: 10588 | J22: 0 | L22: 30536
A23: 일위 4호 벽돌철거 | B23: 인력 | C23: M3 | M23: 건축19-1-3
A24: 할석공 | C24: 인 | D24: 0.1 | G24: 119672 | H24: 11967.2 | K24: 119672 | L24: 11967.2
A25: 보통인부 | C25: 인 | D25: 1 | G25: 87805 | H25: 87805 | K25: 87805 | L25: 87805
A26: 잡재료비 | B26: 노무비의 5% | C26: 식 | D26: 1 | E26: 99772.2 | F26: 4988.6 | K26: 99772.2 | L26: 4988.6
A27: 합 계 | F27: 4988 | H27: 99772 | J27: 0 | L27: 104760
A28: 일위 5호 화강석 철거 | B28: 판석 | C28: M2 | M28: 참고-조달청기준
A29: 보통인부 | C29: 인 | D29: 0.3 | G29: 87805 | H29: 26341.5 | K29: 87805 | L29: 26341.5
A30: 잡재료비 | B30: 노무비의 5% | C30: 식 | D30: 1 | E30: 26341.5 | F30: 1317 | K30: 26341.5 | L30: 1317
A31: 합 계 | F31: 1317 | H31: 26341 | J31: 0 | L31: 27658
A32: 일위 7호 화단조경식재 철거후 재이식 | C32: 식
A33: 작업반장 | C33: 인 | D33: 1 | G33: 108086 | H33: 108086 | K33: 108086 | L33: 108086
A34: 조경공 | C34: 인 | D34: 3 | G34: 124463 | H34: 373389 | K34: 124463 | L34: 373389
A35: 보통인부 | C35: 인 | D35: 1 | G35: 87805 | H35: 87805 | K35: 87805 | L35: 87805
A36: 합 계 | F36: 0 | H36: 569280 | J36: 0 | L36: 569280
A37: 일위 8호 보차도 및 도로 경계블록(인조화강석) | B37: 180X210X300X1,000mm,곡선 | C37: M | M37: 토목12-5-3.2
A38: 보차도경계블록(인조화강석) | B38: 곡선,180x210x300x1000㎜ | C38: EA | D38: 1 | E38: 19545 | F38: 19545 | K38: 19545 | L38: 19545
A39: 특별인부 | C39: 인 | D39: 0.04 | G39: 108245 | H39: 4329.8 | K39: 108245 | L39: 4329.8
A40: 보통인부 | C40: 인 | D40: 0.02 | G40: 87805 | H40: 1756.1 | K40: 87805 | L40: 1756.1
...

Sheet 공량산출
A1: 마 감 산 출 서
A2: 공사명 : 무주수련원 시설 보수공사
A3: 위치 | B3: 부위 | C3: 품명 | D3: 규격 | E3: 단위 | F3: 수량 | G3: 산출식 | H3: 비고
A4: 1. 가설공사
C5: 조립 말비계 | D5: 강관,3개월,3단(6m) | E5: 대 | F5: 1 | G5: 도장,도배 등
C6: 건설장비 대여 | D6: 스카이 18m 1t | E6: 일 | F6: 1
C7: 건축물현장정리 | D7: 개 보수공사 | E7: M2 | F7: 89.1 | G7: 방수면적
A9: 2. 방수공사
C10: 바탕정리 | D10: 바닥 | E10: m2 | F10: =4.5*6.6*3 -> 89.1 | G10: (4.5*6.6)*3
C11: 우레탄도막 | D11: 바닥3mm.노출 | E11: M2 | F11: =4.5*6.6*3 -> 89.1 | G11: (4.5*6.6)*3
A13: 3. 철거공사
C14: 벽돌철거 | D14: 인력 | E14: M3 | F14: 3.343 | G14: 9*3.14*0.338*0.35H
C15: 폐자재처리수수료 | D15: 폐콘크리트 | E15: 톤 | F15: 7.689 | G15: 9*3.14*0.338*0.35H*2.3TON
C17: 화강석 철거 | D17: 판석 | E17: M2 | F17: 11.304 | G17: 9*3.14*0.4W
C18: 폐자재처리수수료 | D18: 폐콘크리트 | E18: 톤 | F18: 0.678 | G18: 11.304*0.03*2TON
C20: 화단조경식재 철거후 재이식 | E20: 식 | F20: 1 | G20: 1
C22: 건설폐기물수집운반비(상차비) | D22: 15TON 덤프,중간처리 | E22: TON | F22: 8.367 | G22: (7.689+0.678)
C23: 건설폐기물수집운반비(운반비) | D23: 15TON 덤프,중간처리,30km | E23: TON | F23: 8.367 | G23: (7.689+0.678)
A25: 4. 도배/도장공사
C26: 벽지(초배유) | D26: 실크 | E26: M2 | F26: =((3.3+3.3)*2*2.3-(2*1+0.9*2.1+1.8*2.3)+(3.3+2.7)*2*2.3-(1.2*1+0.9*21)+(7.8+4.6)*2*2.3-(3.2+3.6)*2.1)*24 -> 1742.16 | G26: 방1:(3.3+3.3)*2*2.3-(2*1+0.9*2.1+1.8*2.3) 방2:(3.3+2.7)*2*2.3-(1.2*1+0.9*21.) 거실:(7.8+4.6)*2*2.3-(3.2+3.6)*2.1 (방1+방2+거실)*24실
C27: 천정지(초배유) | D27: 실크 | E27: M2 | F27: =(3.3*3.3+3.3*2.7+7.8*3.6+1.8*1)*24 -> 1192.32 | G27: ((방1:3.3*3.3)+(방2:3.3*2.7)+(거실:7.8*3.6+1.8*1))*24실
C28: 수성페인트칠 | D28: 외벽2회,로울러칠 | E28: M2 | F28: =(3.9+5.3+7.4+5.3+3.9)*7.7 -> 198.66 | G28: (3.9+5.3+7.4+5.3+3.9)*7.7
A32: 5. 기타공사
C33: 보차도 및 도로 경계블록(인조화강석) | D33: 180X210X300X1,000mm,곡선 | E33: M | F33: 30 | G33: 30
C34: 유리교체공사 | E34: 식 | F34: 1 | G34: 1
C35: 유리주위코킹 | D35: 복층유리 5*5,실리콘 | E35: M | F35: =11.82*9+6.85*10-1.4-0.85 -> 172.63 | G35: 11.82*9+6.85*10-1.4-0.85
A37: 6. 폐기물처리비
C38: 폐자재처리수수료 | D38: 폐콘크리트 | E38: 톤 | F38: =7.69+0.68 -> 8.37 | G38: 7.69+0.68
C39: 건설폐기물수집운반비(상차비) | D39: 15TON 덤프,중간처리 | E39: TON | F39: =7.69+0.68 -> 8.37 | G39: 7.69+0.68
C40: 건설폐기물수집운반비(운반비) | D40: 15TON 덤프,중간처리,30km | E40: TON | F40: =7.69+0.68 -> 8.37 | G40: 7.69+0.68
