Workbook

Sheet 9.7(월)
A1: 2015. 추석 명절 우편물 특별소통 일일보고(9.7.월)
A2: ▣ 총괄국별 등기소포 취급물량 현황 | L2: 2015. 추석 : 2015. 9. 7.(월) ~ 2015. 9. 26.(토) 2014. 추석 : 2014. 8.18(월) ~ 2014. 9.6.(토)
A3: 국 명 | B3: 2015. 추석(9.7.월) | H3: 2014. 추석(8.18.월) | N3: 증 감 률(누계)
B4: 합 계 | D4: 접 수 | F4: 배 달 | H4: 합 계 | J4: 접 수 | L4: 배 달 | N4: 합계 | P4: 접수 | R4: 배달
B5: 누계 | C5: 당일 | D5: 누계 | E5: 당일 | F5: 누계 | G5: 당일 | H5: 누계 | I5: 당일 | J5: 누계 | K5: 당일 | L5: 누계 | M5: 당일 | N5: 누계 | O5: 당일 | P5: 누계 | Q5: 당일 | R5: 누계 | S5: 당일
A6: 합 계 | B6: =D6+F6 -> 1292837 | C6: =SUM(C7:C33) -> 136068 | D6: =SUM(D7:D33) -> 764439 | E6: =SUM(E7:E33) -> 91813 | F6: =SUM(F7:F33) -> 528398 | G6: =SUM(G7:G33) -> 44255 | H6: =SUM(H7:H33) -> 94964 | I6: =SUM(I7:I33) -> 94964 | J6: =SUM(J7:J33) -> 65625 | ... M6: =SUM(M7:M33) -> 29339 | N6: =(B6-H6)/H6*100 -> 1261.397 | O6: =(C6-I6)/I6% -> 43.283771 | P6: =(D6-J6)/J6*100 -> 1064.8594 | Q6: =(E6-K6)/K6% -> 39.905524 | R6: =(F6-L6)/L6*100 -> 1701.0089 | S6: =(G6-M6)/M6% -> 50.840179
A7: 광 주 | B7: =D7+F7 -> 118306 | C7: =E7+G7 -> 12914 | D7: =국별소통물량!C6 -> 62362 | E7: =국별소통물량!E6 -> 8689 | F7: =국별소통물량!D6 -> 55944 | G7: =국별소통물량!F6 -> 4225 | H7: =J7+L7 -> 10926 | I7: =K7+M7 -> 10926 | J7: =K7 -> 7535 | K7: =국별소통물량!E48 -> 7535 | L7: =M7 -> 3391 | M7: 3391 | N7: =(B7-H7)/H7*100 -> 982.79334 | O7: =(C7-I7)/I7% -> 18.195131 | P7: =(D7-J7)/J7*100 -> 727.63106 | Q7: =(E7-K7)/K7% -> 15.315196 | R7: =(F7-L7)/L7*100 -> 1549.7788 | S7: =(G7-M7)/M7% -> 24.594515
A8: 북광주 | B8: =D8+F8 -> 88104 | C8: =E8+G8 -> 7932 | D8: =국별소통물량!C7 -> 17575 | E8: =국별소통물량!E7 -> 2055 | F8: =국별소통물량!D7 -> 70529 | G8: =국별소통물량!F7 -> 5877 | H8: =J8+L8 -> 10815 | I8: =K8+M8 -> 10815 | J8: =K8 -> 6702 | K8: =국별소통물량!E49 -> 6702 | L8: =M8 -> 4113 | M8: 4113 | N8: =(B8-H8)/H8*100 -> 714.64632 | O8: =(C8-I8)/I8% -> -26.65742 | P8: =(D8-J8)/J8*100 -> 162.23515 | Q8: =(E8-K8)/K8% -> -69.337511 | R8: =(F8-L8)/L8*100 -> 1614.7824 | S8: =(G8-M8)/M8% -> 42.888403
A9: 서광주 | B9: =D9+F9 -> 129641 | C9: =E9+G9 -> 15251 | D9: =국별소통물량!C8 -> 73744 | E9: =국별소통물량!E8 -> 10880 | F9: =국별소통물량!D8 -> 55897 | G9: =국별소통물량!F8 -> 4371 | H9: =J9+L9 -> 8772 | I9: =K9+M9 -> 8772 | J9: =K9 -> 5513 | K9: =국별소통물량!E50 -> 5513 | L9: =M9 -> 3259 | M9: 3259 | N9: =(B9-H9)/H9*100 -> 1377.8956 | O9: =(C9-I9)/I9% -> 73.860009 | P9: =(D9-J9)/J9*100 -> 1237.6383 | Q9: =(E9-K9)/K9% -> 97.351714 | R9: =(F9-L9)/L9*100 -> 1615.158 | S9: =(G9-M9)/M9% -> 34.120896
A10: 광주광산 | B10: =D10+F10 -> 69932 | C10: =E10+G10 -> 6407 | D10: =국별소통물량!C9 -> 14981 | E10: =국별소통물량!E9 -> 2250 | F10: =국별소통물량!D9 -> 54951 | G10: =국별소통물량!F9 -> 4157 | H10: =J10+L10 -> 9593 | I10: =K10+M10 -> 9593 | J10: =K10 -> 6076 | K10: =국별소통물량!E51 -> 6076 | L10: =M10 -> 3517 | M10: 3517 | N10: =(B10-H10)/H10*100 -> 628.98989 | O10: =(C10-I10)/I10% -> -33.211717 | P10: =(D10-J10)/J10*100 -> 146.56024 | Q10: =(E10-K10)/K10% -> -62.969059 | R10: =(F10-L10)/L10*100 -> 1462.4396 | S10: =(G10-M10)/M10% -> 18.197327
A11: 목 포 | B11: =D11+F11 -> 95525 | C11: =E11+G11 -> 10575 | D11: =국별소통물량!C10 -> 50278 | E11: =국별소통물량!E10 -> 7014 | F11: =국별소통물량!D10 -> 45247 | G11: =국별소통물량!F10 -> 3561 | H11: =J11+L11 -> 6654 | I11: =K11+M11 -> 6654 | J11: =K11 -> 3836 | K11: =국별소통물량!E52 -> 3836 | L11: =M11 -> 2818 | M11: 2818 | N11: =(B11-H11)/H11*100 -> 1335.6026 | O11: =(C11-I11)/I11% -> 58.926961 | P11: =(D11-J11)/J11*100 -> 1210.6882 | Q11: =(E11-K11)/K11% -> 82.846715 | R11: =(F11-L11)/L11*100 -> 1505.6423 | S11: =(G11-M11)/M11% -> 26.366217
A12: 여 수 | B12: =D12+F12 -> 114753 | C12: =E12+G12 -> 11362 | D12: =국별소통물량!C11 -> 72421 | E12: =국별소통물량!E11 -> 7661 | F12: =국별소통물량!D11 -> 42332 | G12: =국별소통물량!F11 -> 3701 | H12: =J12+L12 -> 6970 | I12: =K12+M12 -> 6970 | J12: =K12 -> 4718 | K12: =국별소통물량!E53 -> 4718 | L12: =M12 -> 2252 | M12: 2252 | N12: =(B12-H12)/H12*100 -> 1546.3845 | O12: =(C12-I12)/I12% -> 63.012912 | P12: =(D12-J12)/J12*100 -> 1434.9936 | Q12: =(E12-K12)/K12% -> 62.378126 | R12: =(F12-L12)/L12*100 -> 1779.7513 | S12: =(G12-M12)/M12% -> 64.342806
A13: 순 천 | B13: =D13+F13 -> 69848 | C13: =E13+G13 -> 7783 | D13: =국별소통물량!C12 -> 29552 | E13: =국별소통물량!E12 -> 4158 | F13: =국별소통물량!D12 -> 40296 | G13: =국별소통물량!F12 -> 3625 | H13: =J13+L13 -> 5272 | I13: =K13+M13 -> 5272 | J13: =K13 -> 3027 | K13: =국별소통물량!E54 -> 3027 | L13: =M13 -> 2245 | M13: 2245 | N13: =(B13-H13)/H13*100 -> 1224.8862 | O13: =(C13-I13)/I13% -> 47.628983 | P13: =(D13-J13)/J13*100 -> 876.28015 | Q13: =(E13-K13)/K13% -> 37.363726 | R13: =(F13-L13)/L13*100 -> 1694.922 | S13: =(G13-M13)/M13% -> 61.469933
A14: 강 진 | B14: =D14+F14 -> 15183 | C14: =E14+G14 -> 1404 | D14: =국별소통물량!C13 -> 9530 | E14: =국별소통물량!E13 -> 1088 | F14: =국별소통물량!D13 -> 5653 | G14: =국별소통물량!F13 -> 316 | H14: =J14+L14 -> 1225 | I14: =K14+M14 -> 1225 | J14: =K14 -> 992 | K14: =국별소통물량!E55 -> 992 | L14: =M14 -> 233 | M14: 233 | N14: =(B14-H14)/H14*100 -> 1139.4286 | O14: =(C14-I14)/I14% -> 14.612245 | P14: =(D14-J14)/J14*100 -> 860.68548 | Q14: =(E14-K14)/K14% -> 9.6774194 | R14: =(F14-L14)/L14*100 -> 2326.1803 | S14: =(G14-M14)/M14% -> 35.622318
A15: 고 흥 | B15: =D15+F15 -> 32141 | C15: =E15+G15 -> 4126 | D15: =국별소통물량!C14 -> 20227 | E15: =국별소통물량!E14 -> 2978 | F15: =국별소통물량!D14 -> 11914 | G15: =국별소통물량!F14 -> 1148 | H15: =J15+L15 -> 1277 | I15: =K15+M15 -> 1277 | J15: =K15 -> 882 | K15: =국별소통물량!E56 -> 882 | L15: =M15 -> 395 | M15: 395 | N15: =(B15-H15)/H15*100 -> 2416.9146 | O15: =(C15-I15)/I15% -> 223.10102 | P15: =(D15-J15)/J15*100 -> 2193.3107 | Q15: =(E15-K15)/K15% -> 237.64172 | R15: =(F15-L15)/L15*100 -> 2916.2025 | S15: =(G15-M15)/M15% -> 190.63291
A16: 곡 성 | B16: =D16+F16 -> 11246 | C16: =E16+G16 -> 1486 | D16: =국별소통물량!C15 -> 6067 | E16: =국별소통물량!E15 -> 748 | F16: =국별소통물량!D15 -> 5179 | G16: =국별소통물량!F15 -> 738 | H16: =J16+L16 -> 728 | I16: =K16+M16 -> 728 | J16: =K16 -> 524 | K16: =국별소통물량!E57 -> 524 | L16: =M16 -> 204 | M16: 204 | N16: =(B16-H16)/H16*100 -> 1444.7802 | O16: =(C16-I16)/I16% -> 104.12088 | P16: =(D16-J16)/J16*100 -> 1057.8244 | Q16: =(E16-K16)/K16% -> 42.748092 | R16: =(F16-L16)/L16*100 -> 2438.7255 | S16: =(G16-M16)/M16% -> 261.76471
A17: 광 양 | B17: =D17+F17 -> 34683 | C17: =E17+G17 -> 4118 | D17: =국별소통물량!C16 -> 12726 | E17: =국별소통물량!E16 -> 1923 | F17: =국별소통물량!D16 -> 21957 | G17: =국별소통물량!F16 -> 2195 | H17: =J17+L17 -> 2588 | I17: =K17+M17 -> 2588 | J17: =K17 -> 1306 | K17: =국별소통물량!E58 -> 1306 | L17: =M17 -> 1282 | M17: 1282 | N17: =(B17-H17)/H17*100 -> 1240.1468 | O17: =(C17-I17)/I17% -> 59.119011 | P17: =(D17-J17)/J17*100 -> 874.42573 | Q17: =(E17-K17)/K17% -> 47.243492 | R17: =(F17-L17)/L17*100 -> 1612.7145 | S17: =(G17-M17)/M17% -> 71.216849
A18: 구 례 | B18: =D18+F18 -> 12076 | C18: =E18+G18 -> 835 | D18: =국별소통물량!C17 -> 7545 | E18: =국별소통물량!E17 -> 540 | F18: =국별소통물량!D17 -> 4531 | G18: =국별소통물량!F17 -> 295 | H18: =J18+L18 -> 663 | I18: =K18+M18 -> 663 | J18: =K18 -> 503 | K18: =국별소통물량!E59 -> 503 | L18: =M18 -> 160 | M18: 160 | N18: =(B18-H18)/H18*100 -> 1721.4178 | O18: =(C18-I18)/I18% -> 25.942685 | P18: =(D18-J18)/J18*100 -> 1400 | Q18: =(E18-K18)/K18% -> 7.3558648 | R18: =(F18-L18)/L18*100 -> 2731.875 | S18: =(G18-M18)/M18% -> 84.375
... A33: 영암집 | B33: =D33+F33 -> 7089 | C33: =E33+G33 -> 719 | D33: =국별소통물량!C32 -> 746 | E33: =국별소통물량!E32 -> 116 | F33: =국별소통물량!D32 -> 6343 | G33: =국별소통물량!F32 -> 603 | H33: =J33+L33 -> 410 | I33: =K33+M33 -> 410 | J33: =K33 -> 46 | K33: =국별소통물량!E74 -> 46 | L33: =M33 -> 364 | M33: 364 | N33: =(B33-H33)/H33*100 -> 1629.0244 | O33: =(C33-I33)/I33% -> 75.365854 | P33: =(D33-J33)/J33*100 -> 1521.7391 | Q33: =(E33-K33)/K33% -> 152.17391 | R33: =(F33-L33)/L33*100 -> 1642.5824 | S33: =(G33-M33)/M33% -> 65.659341
A35: 집중국별 | B35: =SUM(B36:B38) -> 1292837 | C35: =SUM(C36:C38) -> 136068 | D35: =SUM(D36:D38) -> 764439 | E35: =SUM(E36:E38) -> 91813 | F35: =SUM(F36:F38) -> 528398 | G35: =SUM(G36:G38) -> 44255 | H35: =SUM(H36:H38) -> 94964 | I35: =SUM(I36:I38) -> 94964 | ... M35: =SUM(M36:M38) -> 29339 | N35: =(B35-H35)/H35*100 -> 1261.397 | O35: =(C35-I35)/I35*100 -> 43.283771 | P35: =(D35-J35)/J35*100 -> 1064.8594 | Q35: =(E35-K35)/K35*100 -> 39.905524 | R35: =(F35-L35)/L35*100 -> 1701.0089 | S35: =(G35-M35)/M35*100 -> 50.840179
A36: 광주집 | B36: =B7+B8+B9+B10+B16+B18+B19+B20+B23+B26+B29+B31+B32 -> 687603 | C36: =C7+C8+C9+C10+C16+C18+C19+C20+C23+C26+C29+C31+C32 -> 71435 | D36: =D7+D8+D9+D10+D16+D18+D19+D20+D23+D26+D29+D31+D32 -> 390863 | E36: =E7+E8+E9+E10+E16+E18+E19+E20+E23+E26+E29+E31+E32 -> 47688 | F36: =F7+F8+F9+F10+F16+F18+F19+F20+F23+F26+F29+F31+F32 -> 296740 | G36: =G7+G8+G9+G10+G16+G18+G19+G20+G23+G26+G29+G31+G32 -> 23747 | H36: =H7+H8+H9+H10+H16+H18+H19+H20+H23+H26+H29+H31+H32 -> 54164 | I36: =I7+I8+I9+I10+I16+I18+I19+I20+I23+I26+I29+I31+I32 -> 54164 | ... M36: =M7+M8+M9+M10+M16+M18+M19+M20+M23+M26+M29+M31+M32 -> 17046 | N36: =(B36-H36)/H36*100 -> 1169.4834 | O36: =(C36-I36)/I36*100 -> 31.886493 | P36: =(D36-J36)/J36*100 -> 953.02818 | Q36: =(E36-K36)/K36*100 -> 28.47675 | R36: =(F36-L36)/L36*100 -> 1640.819 | S36: =(G36-M36)/M36*100 -> 39.311275
A37: 순천집 | B37: =B12+B13+B15+B17+B22 -> 264889 | C37: =C12+C13+C15+C17+C22 -> 28572 | D37: =D12+D13+D15+D17+D22 -> 141960 | E37: =E12+E13+E15+E17+E22 -> 17519 | F37: =F12+F13+F15+F17+F22 -> 122929 | G37: =G12+G13+G15+G17+G22 -> 11053 | H37: =H12+H13+H15+H17+H22 -> 17245 | I37: =I12+I13+I15+I17+I22 -> 17245 | ... M37: =M12+M13+M15+M17+M22 -> 6417 | N37: =(B37-H37)/H37*100 -> 1436.0336 | O37: =(C37-I37)/I37*100 -> 65.682807 | P37: =(D37-J37)/J37*100 -> 1211.0454 | Q37: =(E37-K37)/K37*100 -> 61.793498 | R37: =(F37-L37)/L37*100 -> 1815.6771 | S37: =(G37-M37)/M37*100 -> 72.245598
A38: 영암집 | B38: =B11+B14+B21+B25+B27+B24+B28+B30+B33 -> 340345 | C38: =C11+C14+C21+C25+C27+C24+C28+C30+C33 -> 36061 | D38: =D11+D14+D21+D25+D27+D24+D28+D30+D33 -> 231616 | E38: =E11+E14+E21+E25+E27+E24+E28+E30+E33 -> 26606 | F38: =F11+F14+F21+F25+F27+F24+F28+F30+F33 -> 108729 | G38: =G11+G14+G21+G25+G27+G24+G28+G30+G33 -> 9455 | H38: =H11+H14+H21+H25+H27+H24+H28+H30+H33 -> 23555 | I38: =I11+I14+I21+I25+I27+I24+I28+I30+I33 -> 23555 | ... M38: =M11+M14+M21+M25+M27+M24+M28+M30+M33 -> 5876 | N38: =(B38-H38)/H38*100 -> 1344.8949 | O38: =(C38-I38)/I38*100 -> 53.092762 | P38: =(D38-J38)/J38*100 -> 1210.1194 | Q38: =(E38-K38)/K38*100 -> 50.494937 | R38: =(F38-L38)/L38*100 -> 1750.3914 | S38: =(G38-M38)/M38*100 -> 60.908781
A40: ▣ 집중국별 소포처리 현황
A41: 국 명 | B41: 당일접수 물량 | C41: 합 계 | G41: 발 송(수집) | K41: 도 착(배분)
C42: 15년 추석 | E42: 14년 추석 (누계) | F42: 증감률 (누계) | G42: 15년 추석 | I42: 14년 추석 (누계) | J42: 증감률 (누계) | K42: 15년 추석 | M42: 14년 추석 (누계) | N42: 증감률 (누계)
C43: 누계 | D43: 당일 | G43: 누계 | H43: 당일 | K43: 누계 | L43: 당일
A44: 합 계 | B44: =B45+B46+B47 -> 136068 | C44: =SUM(C45:C47) -> 1155442 | D44: =SUM(D45:D47) -> 507343 | E44: =SUM(E45:E47) -> 951274 | F44: =F45+F46+F47 -> 71.898825 | G44: =SUM(G45:G47) -> 670850 | H44: =SUM(H45:H47) -> 79502 | I44: =SUM(I45:I47) -> 547324 | J44: =(G44-I44)/I44% -> 22.569082 | K44: =SUM(K45:K47) -> 484592 | L44: =SUM(L45:L47) -> 78069 | M44: =M45+M46+M47 -> 403950 | N44: =(K44-M44)/M44% -> 19.963362
A45: 광주집 | B45: =C36 -> 71435 | C45: =G45+K45 -> 612837 | D45: =H45+L45 -> 86102 | E45: =I45+M45 -> 530033 | F45: =(C45-E45)/E45% -> 15.622424 | G45: ='집중국처리현황(구분물량)'!B6 -> 338325 | H45: ='집중국처리현황(구분물량)'!C6 -> 41566 | I45: ='집중국처리현황(구분물량)'!B23 -> 291685 | J45: =(G45-I45)/I45% -> 15.989852 | K45: ='집중국처리현황(구분물량)'!B30 -> 274512 | L45: ='집중국처리현황(구분물량)'!D30 -> 44536 | M45: ='집중국처리현황(구분물량)'!B36 -> 238348 | N45: =(K45-M45)/M45% -> 15.172773
A46: 순천집 | B46: =C37 -> 28572 | C46: =G46+K46 -> 228027 | D46: =I46+M46 -> 186509 | E46: =I46+M46 -> 186509 | F46: =(C46-E46)/E46% -> 22.260588 | G46: ='집중국처리현황(구분물량)'!B7 -> 117866 | H46: ='집중국처리현황(구분물량)'!C7 -> 14072 | I46: ='집중국처리현황(구분물량)'!B24 -> 96645 | J46: =(G46-I46)/I46% -> 21.95768 | K46: ='집중국처리현황(구분물량)'!B31 -> 110161 | L46: ='집중국처리현황(구분물량)'!D31 -> 17479 | M46: ='집중국처리현황(구분물량)'!B37 -> 89864 | N46: =(K46-M46)/M46% -> 22.586353
A47: 영암집 | B47: =C38 -> 36061 | C47: =G47+K47 -> 314578 | D47: =I47+M47 -> 234732 | E47: =I47+M47 -> 234732 | F47: =(C47-E47)/E47% -> 34.015814 | G47: ='집중국처리현황(구분물량)'!B8 -> 214659 | H47: ='집중국처리현황(구분물량)'!C8 -> 23864 | I47: ='집중국처리현황(구분물량)'!B25 -> 158994 | J47: =(G47-I47)/I47% -> 35.010755 | K47: ='집중국처리현황(구분물량)'!B32 -> 99919 | L47: ='집중국처리현황(구분물량)'!D32 -> 16054 | M47: ='집중국처리현황(구분물량)'!B38 -> 75738 | N47: =(K47-M47)/M47% -> 31.92717
A49: o 발송(수집) 구분 세부내역
A50: 구분 | B50: 집중국 | G50: 임시집중국
B51: 구분 | E51: 주간 미구분 (센터발송) | F51: 합계 | G51: 구분 | K51: 주간 미구분 (센터발송) | L51: 합계
B52: 소계 | C52: 기계 | D52: 수작업 | G52: 소계 | H52: 센터발송 | I52: 타 집중국 발송 | J52: 광주집 발송
A53: 합 계 | B53: =C53+D53 -> 98402 | C53: =SUM(C54:C56) -> 73966 | D53: =SUM(D54:D56) -> 24436 | E53: =SUM(E54:E56) -> 0 | F53: =B53+E53 -> 98402 | G53: =SUM(H53:J53) -> 0 | H53: =SUM(H54:H56) -> 0 | I53: =SUM(I54:I56) -> 0 | J53: =SUM(J54:J56) -> 0 | K53: =SUM(K54:K56) -> 0 | L53: =G53+K53 -> 0
A54: 광주집 | B54: =C54+D54 -> 41566 | C54: ='집중국처리현황(구분물량)'!C12 -> 36030 | D54: ='집중국처리현황(구분물량)'!C13 -> 5536 | F54: =B54+E54 -> 41566 | G54: =SUM(H54:J54) -> 0 | L54: =G54+K54 -> 0
A55: 순천집 | B55: =C55+D55 -> 23522 | C55: ='집중국처리현황(구분물량)'!C15 -> 14072 | D55: ='집중국처리현황(구분물량)'!D14 -> 9450 | F55: =B55+E55 -> 23522 | G55: =SUM(H55:J55) -> 0 | L55: =G55+K55 -> 0
A56: 영암집 | B56: =C56+D56 -> 33314 | C56: ='집중국처리현황(구분물량)'!C18 -> 23864 | D56: ='집중국처리현황(구분물량)'!D15 -> 9450 | F56: =B56+E56 -> 33314 | G56: =SUM(H56:J56) -> 0 | L56: =G56+K56 -> 0
A58: ▣ 집중국별 발송구분 작업인력 현황 | B58: ▣ 집중국별 소포처리 현황 | C58: ▣ 집중국별 소포처리 현황 | D58: ▣ 집중국별 소포처리 현황
...

Sheet 9.8(화)
A1: 2015. 추석 명절 우편물 특별소통 일일보고(9.8.화)
A2: ▣ 총괄국별 등기소포 취급물량 현황 | L2: 2015. 추석 : 2015. 9. 7.(월) ~ 2015. 9. 26.(토) 2014. 추석 : 2014. 8.18(월) ~ 2014. 9.6.(토)
A3: 국 명 | B3: 2015. 추석(9.8.화) | H3: 2014. 추석(8.19.화) | N3: 증 감 률(누계)
B4: 합 계 | D4: 접 수 | F4: 배 달 | H4: 합 계 | J4: 접 수 | L4: 배 달 | N4: 합계 | P4: 접수 | R4: 배달
B5: 누계 | C5: 당일 | D5: 누계 | E5: 당일 | F5: 누계 | G5: 당일 | H5: 누계 | I5: 당일 | J5: 누계 | K5: 당일 | L5: 누계 | M5: 당일 | N5: 누계 | O5: 당일 | P5: 누계 | Q5: 당일 | R5: 누계 | S5: 당일
A6: 합 계 | B6: =D6+F6 -> 1292837 | C6: =SUM(C7:C33) -> 151122 | D6: =SUM(D7:D33) -> 764439 | E6: =SUM(E7:E33) -> 64973 | F6: =SUM(F7:F33) -> 528398 | G6: =SUM(G7:G33) -> 86149 | H6: =SUM(H7:H33) -> 201716 | I6: =SUM(I7:I33) -> 106752 | J6: =SUM(J7:J33) -> 114361 | ... M6: =SUM(M7:M33) -> 58016 | N6: =(B6-H6)/H6*100 -> 540.91941 | O6: =(C6-I6)/I6% -> 41.563624 | P6: =(D6-J6)/J6*100 -> 568.44379 | Q6: =(E6-K6)/K6% -> 33.316234 | R6: =(F6-L6)/L6*100 -> 504.88581 | S6: =(G6-M6)/M6% -> 48.491795
A7: 광 주 | B7: =D7+F7 -> 118306 | C7: =E7+G7 -> 15028 | D7: =국별소통물량!C6 -> 62362 | E7: =국별소통물량!G6 -> 6832 | F7: =국별소통물량!D6 -> 55944 | G7: =국별소통물량!H6 -> 8196 | H7: =J7+L7 -> 25224 | I7: =K7+M7 -> 14298 | J7: ='9.7(월)'!K7+K7 -> 15891 | K7: =국별소통물량!G48 -> 8356 | L7: ='9.7(월)'!M7+M7 -> 9333 | M7: =국별소통물량!H48 -> 5942 | N7: =(B7-H7)/H7*100 -> 369.02157 | O7: =(C7-I7)/I7% -> 5.1056092 | P7: =(D7-J7)/J7*100 -> 292.43597 | Q7: =(E7-K7)/K7% -> -18.238392 | R7: =(F7-L7)/L7*100 -> 499.42141 | S7: =(G7-M7)/M7% -> 37.933356
A8: 북광주 | B8: =D8+F8 -> 88104 | C8: =E8+G8 -> 13271 | D8: =국별소통물량!C7 -> 17575 | E8: =국별소통물량!G7 -> 1860 | F8: =국별소통물량!D7 -> 70529 | G8: =국별소통물량!H7 -> 11411 | H8: =J8+L8 -> 24125 | I8: =K8+M8 -> 13310 | J8: ='9.7(월)'!K8+K8 -> 11871 | K8: =국별소통물량!G49 -> 5169 | L8: ='9.7(월)'!M8+M8 -> 12254 | M8: =국별소통물량!H49 -> 8141 | N8: =(B8-H8)/H8*100 -> 265.19793 | O8: =(C8-I8)/I8% -> -0.29301277 | P8: =(D8-J8)/J8*100 -> 48.049869 | Q8: =(E8-K8)/K8% -> -64.016251 | R8: =(F8-L8)/L8*100 -> 475.559 | S8: =(G8-M8)/M8% -> 40.167056
A9: 서광주 | B9: =D9+F9 -> 129641 | C9: =E9+G9 -> 17312 | D9: =국별소통물량!C8 -> 73744 | E9: =국별소통물량!G8 -> 8177 | F9: =국별소통물량!D8 -> 55897 | G9: =국별소통물량!H8 -> 9135 | H9: =J9+L9 -> 19287 | I9: =K9+M9 -> 10515 | J9: ='9.7(월)'!K9+K9 -> 10112 | K9: =국별소통물량!G50 -> 4599 | L9: ='9.7(월)'!M9+M9 -> 9175 | M9: =국별소통물량!H50 -> 5916 | N9: =(B9-H9)/H9*100 -> 572.16778 | O9: =(C9-I9)/I9% -> 64.640989 | P9: =(D9-J9)/J9*100 -> 629.27215 | Q9: =(E9-K9)/K9% -> 77.799522 | R9: =(F9-L9)/L9*100 -> 509.23161 | S9: =(G9-M9)/M9% -> 54.411765
A10: 광주광산 | B10: =D10+F10 -> 69932 | C10: =E10+G10 -> 10046 | D10: =국별소통물량!C9 -> 14981 | E10: =국별소통물량!G9 -> 1454 | F10: =국별소통물량!D9 -> 54951 | G10: =국별소통물량!H9 -> 8592 | H10: =J10+L10 -> 21621 | I10: =K10+M10 -> 12028 | J10: ='9.7(월)'!K10+K10 -> 11078 | K10: =국별소통물량!G51 -> 5002 | L10: ='9.7(월)'!M10+M10 -> 10543 | M10: =국별소통물량!H51 -> 7026 | N10: =(B10-H10)/H10*100 -> 223.4448 | O10: =(C10-I10)/I10% -> -16.478217 | P10: =(D10-J10)/J10*100 -> 35.231991 | Q10: =(E10-K10)/K10% -> -70.931627 | R10: =(F10-L10)/L10*100 -> 421.20838 | S10: =(G10-M10)/M10% -> 22.288642
A11: 목 포 | B11: =D11+F11 -> 95525 | C11: =E11+G11 -> 10806 | D11: =국별소통물량!C10 -> 50278 | E11: =국별소통물량!G10 -> 4437 | F11: =국별소통물량!D10 -> 45247 | G11: =국별소통물량!H10 -> 6369 | H11: =J11+L11 -> 14721 | I11: =K11+M11 -> 8067 | J11: ='9.7(월)'!K11+K11 -> 6459 | K11: =국별소통물량!G52 -> 2623 | L11: ='9.7(월)'!M11+M11 -> 8262 | M11: =국별소통물량!H52 -> 5444 | N11: =(B11-H11)/H11*100 -> 548.90293 | O11: =(C11-I11)/I11% -> 33.953142 | P11: =(D11-J11)/J11*100 -> 678.41771 | Q11: =(E11-K11)/K11% -> 69.157453 | R11: =(F11-L11)/L11*100 -> 447.6519 | S11: =(G11-M11)/M11% -> 16.991183
A12: 여 수 | B12: =D12+F12 -> 114753 | C12: =E12+G12 -> 11624 | D12: =국별소통물량!C11 -> 72421 | E12: =국별소통물량!G11 -> 5667 | F12: =국별소통물량!D11 -> 42332 | G12: =국별소통물량!H11 -> 5957 | H12: =J12+L12 -> 15199 | I12: =K12+M12 -> 8229 | J12: ='9.7(월)'!K12+K12 -> 8232 | K12: =국별소통물량!G53 -> 3514 | L12: ='9.7(월)'!M12+M12 -> 6967 | M12: =국별소통물량!H53 -> 4715 | N12: =(B12-H12)/H12*100 -> 655.00362 | O12: =(C12-I12)/I12% -> 41.256532 | P12: =(D12-J12)/J12*100 -> 779.74976 | Q12: =(E12-K12)/K12% -> 61.269209 | R12: =(F12-L12)/L12*100 -> 507.60729 | S12: =(G12-M12)/M12% -> 26.341463
A13: 순 천 | B13: =D13+F13 -> 69848 | C13: =E13+G13 -> 9250 | D13: =국별소통물량!C12 -> 29552 | E13: =국별소통물량!G12 -> 2616 | F13: =국별소통물량!D12 -> 40296 | G13: =국별소통물량!H12 -> 6634 | H13: =J13+L13 -> 12238 | I13: =K13+M13 -> 6966 | J13: ='9.7(월)'!K13+K13 -> 5401 | K13: =국별소통물량!G54 -> 2374 | L13: ='9.7(월)'!M13+M13 -> 6837 | M13: =국별소통물량!H54 -> 4592 | N13: =(B13-H13)/H13*100 -> 470.74685 | O13: =(C13-I13)/I13% -> 32.787827 | P13: =(D13-J13)/J13*100 -> 447.15793 | Q13: =(E13-K13)/K13% -> 10.193766 | R13: =(F13-L13)/L13*100 -> 489.38131 | S13: =(G13-M13)/M13% -> 44.468641
A14: 강 진 | B14: =D14+F14 -> 15183 | C14: =E14+G14 -> 1790 | D14: =국별소통물량!C13 -> 9530 | E14: =국별소통물량!G13 -> 636 | F14: =국별소통물량!D13 -> 5653 | G14: =국별소통물량!H13 -> 1154 | H14: =J14+L14 -> 2342 | I14: =K14+M14 -> 1117 | J14: ='9.7(월)'!K14+K14 -> 1595 | K14: =국별소통물량!G55 -> 603 | L14: ='9.7(월)'!M14+M14 -> 747 | M14: =국별소통물량!H55 -> 514 | N14: =(B14-H14)/H14*100 -> 548.29206 | O14: =(C14-I14)/I14% -> 60.250671 | P14: =(D14-J14)/J14*100 -> 497.49216 | Q14: =(E14-K14)/K14% -> 5.4726368 | R14: =(F14-L14)/L14*100 -> 656.76037 | S14: =(G14-M14)/M14% -> 124.51362
A15: 고 흥 | B15: =D15+F15 -> 32141 | C15: =E15+G15 -> 3256 | D15: =국별소통물량!C14 -> 20227 | E15: =국별소통물량!G14 -> 1075 | F15: =국별소통물량!D14 -> 11914 | G15: =국별소통물량!H14 -> 2181 | H15: =J15+L15 -> 3094 | I15: =K15+M15 -> 1817 | J15: ='9.7(월)'!K15+K15 -> 1698 | K15: =국별소통물량!G56 -> 816 | L15: ='9.7(월)'!M15+M15 -> 1396 | M15: =국별소통물량!H56 -> 1001 | N15: =(B15-H15)/H15*100 -> 938.81707 | O15: =(C15-I15)/I15% -> 79.196478 | P15: =(D15-J15)/J15*100 -> 1091.225 | Q15: =(E15-K15)/K15% -> 31.740196 | R15: =(F15-L15)/L15*100 -> 753.4384 | S15: =(G15-M15)/M15% -> 117.88212
A16: 곡 성 | B16: =D16+F16 -> 11246 | C16: =E16+G16 -> 1509 | D16: =국별소통물량!C15 -> 6067 | E16: =국별소통물량!G15 -> 462 | F16: =국별소통물량!D15 -> 5179 | G16: =국별소통물량!H15 -> 1047 | H16: =J16+L16 -> 1578 | I16: =K16+M16 -> 850 | J16: ='9.7(월)'!K16+K16 -> 1011 | K16: =국별소통물량!G57 -> 487 | L16: ='9.7(월)'!M16+M16 -> 567 | M16: =국별소통물량!H57 -> 363 | N16: =(B16-H16)/H16*100 -> 612.67427 | O16: =(C16-I16)/I16% -> 77.529412 | P16: =(D16-J16)/J16*100 -> 500.09891 | Q16: =(E16-K16)/K16% -> -5.1334702 | R16: =(F16-L16)/L16*100 -> 813.40388 | S16: =(G16-M16)/M16% -> 188.42975
A17: 광 양 | B17: =D17+F17 -> 34683 | C17: =E17+G17 -> 5484 | D17: =국별소통물량!C16 -> 12726 | E17: =국별소통물량!G16 -> 1424 | F17: =국별소통물량!D16 -> 21957 | G17: =국별소통물량!H16 -> 4060 | H17: =J17+L17 -> 6560 | I17: =K17+M17 -> 3972 | J17: ='9.7(월)'!K17+K17 -> 2562 | K17: =국별소통물량!G58 -> 1256 | L17: ='9.7(월)'!M17+M17 -> 3998 | M17: =국별소통물량!H58 -> 2716 | N17: =(B17-H17)/H17*100 -> 428.70427 | O17: =(C17-I17)/I17% -> 38.066465 | P17: =(D17-J17)/J17*100 -> 396.72131 | Q17: =(E17-K17)/K17% -> 13.375796 | R17: =(F17-L17)/L17*100 -> 449.1996 | S17: =(G17-M17)/M17% -> 49.484536
A18: 구 례 | B18: =D18+F18 -> 12076 | C18: =E18+G18 -> 686 | D18: =국별소통물량!C17 -> 7545 | E18: =국별소통물량!G17 -> 226 | F18: =국별소통물량!D17 -> 4531 | G18: =국별소통물량!H17 -> 460 | H18: =J18+L18 -> 1272 | I18: =K18+M18 -> 609 | J18: ='9.7(월)'!K18+K18 -> 760 | K18: =국별소통물량!G59 -> 257 | L18: ='9.7(월)'!M18+M18 -> 512 | M18: =국별소통물량!H59 -> 352 | N18: =(B18-H18)/H18*100 -> 849.37107 | O18: =(C18-I18)/I18% -> 12.643678 | P18: =(D18-J18)/J18*100 -> 892.76316 | Q18: =(E18-K18)/K18% -> -12.062257 | R18: =(F18-L18)/L18*100 -> 784.96094 | S18: =(G18-M18)/M18% -> 30.681818
... A33: 영암집 | B33: =D33+F33 -> 7089 | C33: =E33+G33 -> 1007 | D33: =국별소통물량!C32 -> 746 | E33: =국별소통물량!G32 -> 61 | F33: =국별소통물량!D32 -> 6343 | G33: =국별소통물량!H32 -> 946 | H33: =J33+L33 -> 1181 | I33: =K33+M33 -> 771 | J33: ='9.7(월)'!K33+K33 -> 95 | K33: =국별소통물량!G74 -> 49 | L33: ='9.7(월)'!M33+M33 -> 1086 | M33: =국별소통물량!H74 -> 722 | N33: =(B33-H33)/H33*100 -> 500.25402 | O33: =(C33-I33)/I33% -> 30.609598 | P33: =(D33-J33)/J33*100 -> 685.26316 | Q33: =(E33-K33)/K33% -> 24.489796 | R33: =(F33-L33)/L33*100 -> 484.06998 | S33: =(G33-M33)/M33% -> 31.024931
A35: 집중국별 | B35: =SUM(B36:B38) -> 1292837 | C35: =SUM(C36:C38) -> 151122 | D35: =SUM(D36:D38) -> 764439 | E35: =SUM(E36:E38) -> 64973 | F35: =SUM(F36:F38) -> 528398 | G35: =SUM(G36:G38) -> 86149 | H35: =SUM(H36:H38) -> 201716 | I35: =SUM(I36:I38) -> 106752 | ... M35: =SUM(M36:M38) -> 58016 | N35: =(B35-H35)/H35*100 -> 540.91941 | O35: =(C35-I35)/I35*100 -> 41.563624 | P35: =(D35-J35)/J35*100 -> 568.44379 | Q35: =(E35-K35)/K35*100 -> 33.316234 | R35: =(F35-L35)/L35*100 -> 504.88581 | S35: =(G35-M35)/M35*100 -> 48.491795
A36: 광주집 | B36: =B7+B8+B9+B10+B16+B18+B19+B20+B23+B26+B29+B31+B32 -> 687603 | C36: =C7+C8+C9+C10+C16+C18+C19+C20+C23+C26+C29+C31+C32 -> 83517 | D36: =D7+D8+D9+D10+D16+D18+D19+D20+D23+D26+D29+D31+D32 -> 390863 | E36: =E7+E8+E9+E10+E16+E18+E19+E20+E23+E26+E29+E31+E32 -> 34515 | F36: =F7+F8+F9+F10+F16+F18+F19+F20+F23+F26+F29+F31+F32 -> 296740 | G36: =G7+G8+G9+G10+G16+G18+G19+G20+G23+G26+G29+G31+G32 -> 49002 | H36: =H7+H8+H9+H10+H16+H18+H19+H20+H23+H26+H29+H31+H32 -> 116805 | I36: =I7+I8+I9+I10+I16+I18+I19+I20+I23+I26+I29+I31+I32 -> 62641 | ... M36: =M7+M8+M9+M10+M16+M18+M19+M20+M23+M26+M29+M31+M32 -> 32580 | N36: =(B36-H36)/H36*100 -> 488.676 | O36: =(C36-I36)/I36*100 -> 33.326416 | P36: =(D36-J36)/J36*100 -> 481.82319 | Q36: =(E36-K36)/K36*100 -> 14.81654 | R36: =(F36-L36)/L36*100 -> 497.95269 | S36: =(G36-M36)/M36*100 -> 50.405157
A37: 순천집 | B37: =B12+B13+B15+B17+B22 -> 264889 | C37: =C12+C13+C15+C17+C22 -> 31688 | D37: =D12+D13+D15+D17+D22 -> 141960 | E37: =E12+E13+E15+E17+E22 -> 11585 | F37: =F12+F13+F15+F17+F22 -> 122929 | G37: =G12+G13+G15+G17+G22 -> 20103 | H37: =H12+H13+H15+H17+H22 -> 39312 | I37: =I12+I13+I15+I17+I22 -> 22067 | ... M37: =M12+M13+M15+M17+M22 -> 13624 | N37: =(B37-H37)/H37*100 -> 573.81207 | O37: =(C37-I37)/I37*100 -> 43.599039 | P37: =(D37-J37)/J37*100 -> 636.65093 | Q37: =(E37-K37)/K37*100 -> 37.21426 | R37: =(F37-L37)/L37*100 -> 513.38756 | S37: =(G37-M37)/M37*100 -> 47.555784
A38: 영암집 | B38: =B11+B14+B21+B25+B27+B24+B28+B30+B33 -> 340345 | C38: =C11+C14+C21+C25+C27+C24+C28+C30+C33 -> 35917 | D38: =D11+D14+D21+D25+D27+D24+D28+D30+D33 -> 231616 | E38: =E11+E14+E21+E25+E27+E24+E28+E30+E33 -> 18873 | F38: =F11+F14+F21+F25+F27+F24+F28+F30+F33 -> 108729 | G38: =G11+G14+G21+G25+G27+G24+G28+G30+G33 -> 17044 | H38: =H11+H14+H21+H25+H27+H24+H28+H30+H33 -> 45599 | I38: =I11+I14+I21+I25+I27+I24+I28+I30+I33 -> 22044 | ... M38: =M11+M14+M21+M25+M27+M24+M28+M30+M33 -> 11812 | N38: =(B38-H38)/H38*100 -> 646.38698 | O38: =(C38-I38)/I38*100 -> 62.933224 | P38: =(D38-J38)/J38*100 -> 729.8377 | Q38: =(E38-K38)/K38*100 -> 84.450743 | R38: =(F38-L38)/L38*100 -> 514.70488 | S38: =(G38-M38)/M38*100 -> 44.293938
A40: ▣ 집중국별 소포처리 현황
A41: 국 명 | B41: 당일접수 물량 | C41: 합 계 | G41: 발 송(수집) | K41: 도 착(배분)
C42: 15년 추석 | E42: 14년 추석 (누계) | F42: 증감률 (누계) | G42: 15년 추석 | I42: 14년 추석 (누계) | J42: 증감률 (누계) | K42: 15년 추석 | M42: 14년 추석 (누계) | N42: 증감률 (누계)
C43: 누계 | D43: 당일 | G43: 누계 | H43: 당일 | K43: 누계 | L43: 당일
A44: 합 계 | B44: =B45+B46+B47 -> 151122 | C44: =SUM(C45:C47) -> 788785 | D44: =SUM(D45:D47) -> 362734 | E44: =SUM(E45:E47) -> 625271 | F44: =F45+F46+F47 -> 83.97188 | G44: =SUM(G45:G47) -> 670850 | H44: =SUM(H45:H47) -> 56825 | I44: =SUM(I45:I47) -> 547324 | J44: =(G44-I44)/I44% -> 22.569082 | K44: =SUM(K45:K47) -> 117935 | L44: =SUM(L45:L47) -> 78069 | M44: =M45+M46+M47 -> 77947 | N44: =(K44-M44)/M44% -> 51.301525
A45: 광주집 | B45: =C36 -> 83517 | C45: =G45+K45 -> 405879 | D45: =H45+L45 -> 74335 | E45: =I45+M45 -> 336872 | F45: =(C45-E45)/E45% -> 20.484635 | G45: ='집중국처리현황(구분물량)'!B6 -> 338325 | H45: ='집중국처리현황(구분물량)'!D6 -> 29799 | I45: ='집중국처리현황(구분물량)'!B23 -> 291685 | J45: =(G45-I45)/I45% -> 15.989852 | K45: ='집중국처리현황(구분물량)'!C30+'집중국처리현황(구분물량)'!D30 -> 67554 | L45: ='집중국처리현황(구분물량)'!D30 -> 44536 | M45: ='집중국처리현황(구분물량)'!C36+'집중국처리현황(구분물량)'!D36 -> 45187 | N45: =(K45-M45)/M45% -> 49.49875
A46: 순천집 | B46: =C37 -> 31688 | C46: =G46+K46 -> 145170 | D46: =I46+M46 -> 114525 | E46: =I46+M46 -> 114525 | F46: =(C46-E46)/E46% -> 26.75835 | G46: ='집중국처리현황(구분물량)'!B7 -> 117866 | H46: ='집중국처리현황(구분물량)'!D7 -> 9450 | I46: ='집중국처리현황(구분물량)'!B24 -> 96645 | J46: =(G46-I46)/I46% -> 21.95768 | K46: ='집중국처리현황(구분물량)'!C31+'집중국처리현황(구분물량)'!D31 -> 27304 | L46: ='집중국처리현황(구분물량)'!D31 -> 17479 | M46: ='집중국처리현황(구분물량)'!C37+'집중국처리현황(구분물량)'!D37 -> 17880 | N46: =(K46-M46)/M46% -> 52.706935
A47: 영암집 | B47: =C38 -> 35917 | C47: =G47+K47 -> 237736 | D47: =I47+M47 -> 173874 | E47: =I47+M47 -> 173874 | F47: =(C47-E47)/E47% -> 36.728896 | G47: ='집중국처리현황(구분물량)'!B8 -> 214659 | H47: ='집중국처리현황(구분물량)'!D8 -> 17576 | I47: ='집중국처리현황(구분물량)'!B25 -> 158994 | J47: =(G47-I47)/I47% -> 35.010755 | K47: ='집중국처리현황(구분물량)'!C32+'집중국처리현황(구분물량)'!D32 -> 23077 | L47: ='집중국처리현황(구분물량)'!D32 -> 16054 | M47: ='집중국처리현황(구분물량)'!C38+'집중국처리현황(구분물량)'!D38 -> 14880 | N47: =(K47-M47)/M47% -> 55.087366
A49: o 발송(수집) 구분 세부내역
A50: 구분 | B50: 집중국 | G50: 임시집중국
B51: 구분 | E51: 주간 미구분 (센터발송) | F51: 합계 | G51: 구분 | K51: 주간 미구분 (센터발송) | L51: 합계
B52: 소계 | C52: 기계 | D52: 수작업 | G52: 소계 | H52: 센터발송 | I52: 타 집중국 발송 | J52: 광주집 발송
A53: 합 계 | B53: =C53+D53 -> 56825 | C53: =SUM(C54:C56) -> 56825 | D53: =SUM(D54:D56) -> 0 | E53: =SUM(E54:E56) -> 0 | F53: =B53+E53 -> 56825 | G53: =SUM(H53:J53) -> 0 | H53: =SUM(H54:H56) -> 0 | I53: =SUM(I54:I56) -> 0 | J53: =SUM(J54:J56) -> 0 | K53: =SUM(K54:K56) -> 0 | L53: =G53+K53 -> 0
A54: 광주집 | B54: =C54+D54 -> 29799 | C54: ='집중국처리현황(구분물량)'!D12 -> 29799 | D54: 0 | F54: =B54+E54 -> 29799 | G54: =SUM(H54:J54) -> 0 | L54: =G54+K54 -> 0
A55: 순천집 | B55: =C55+D55 -> 9450 | C55: ='집중국처리현황(구분물량)'!D15 -> 9450 | D55: 0 | F55: =B55+E55 -> 9450 | G55: =SUM(H55:J55) -> 0 | L55: =G55+K55 -> 0
A56: 영암집 | B56: =C56+D56 -> 17576 | C56: ='집중국처리현황(구분물량)'!D18 -> 17576 | D56: 0 | F56: =B56+E56 -> 17576 | G56: =SUM(H56:J56) -> 0 | L56: =G56+K56 -> 0
A58: ▣ 집중국별 발송구분 작업인력 현황 | B58: ▣ 집중국별 소포처리 현황 | C58: ▣ 집중국별 소포처리 현황 | D58: ▣ 집중국별 소포처리 현황
...

Sheet 9.9(수)
A1: 2015. 추석 명절 우편물 특별소통 일일보고(9.9.수)
A2: ▣ 총괄국별 등기소포 취급물량 현황 | L2: 2015. 추석 : 2015. 9. 7.(월) ~ 2015. 9. 26.(토) 2014. 추석 : 2014. 8.18(월) ~ 2014. 9.6.(토)
A3: 국 명 | B3: 2015. 추석(9.9.수) | H3: 2014. 추석(8.20.수) | N3: 증 감 률
B4: 합 계 | D4: 접 수 | F4: 배 달 | H4: 합 계 | J4: 접 수 | L4: 배 달 | N4: 합계 | P4: 접수 | R4: 배달
B5: 누계 | C5: 당일 | D5: 누계 | E5: 당일 | F5: 누계 | G5: 당일 | H5: 누계 | I5: 당일 | J5: 누계 | K5: 당일 | L5: 누계 | M5: 당일 | N5: 누계 | O5: 당일 | P5: 누계 | Q5: 당일 | R5: 누계 | S5: 당일
A6: 합 계 | B6: =D6+F6 -> 1292837 | C6: =SUM(C7:C33) -> 122296 | D6: =SUM(D7:D33) -> 764439 | E6: =SUM(E7:E33) -> 66066 | F6: =SUM(F7:F33) -> 528398 | G6: =SUM(G7:G33) -> 56230 | H6: =SUM(H7:H33) -> 297723 | I6: =SUM(I7:I33) -> 96007 | J6: =SUM(J7:J33) -> 163708 | ... M6: =SUM(M7:M33) -> 46660 | N6: =(B6-H6)/H6*100 -> 334.24156 | O6: =(C6-I6)/I6% -> 27.382378 | P6: =(D6-J6)/J6*100 -> 366.95275 | Q6: =(E6-K6)/K6% -> 33.880479 | R6: =(F6-L6)/L6*100 -> 294.28273 | S6: =(G6-M6)/M6% -> 20.510073
A7: 광 주 | B7: =D7+F7 -> 118306 | C7: =E7+G7 -> 12357 | D7: =국별소통물량!C6 -> 62362 | E7: =국별소통물량!I6 -> 6535 | F7: =국별소통물량!D6 -> 55944 | G7: 5822 | H7: =J7+L7 -> 38195 | I7: =K7+M7 -> 12971 | J7: ='9.8(화)'!J7+K7 -> 24318 | K7: =국별소통물량!I48 -> 8427 | L7: ='9.8(화)'!L7+M7 -> 13877 | M7: =국별소통물량!J48 -> 4544 | N7: =(B7-H7)/H7*100 -> 209.74211 | O7: =(C7-I7)/I7% -> -4.7336366 | P7: =(D7-J7)/J7*100 -> 156.44379 | Q7: =(E7-K7)/K7% -> -22.451644 | R7: =(F7-L7)/L7*100 -> 303.14189 | S7: =(G7-M7)/M7% -> 28.125
A8: 북광주 | B8: =D8+F8 -> 88104 | C8: =E8+G8 -> 9828 | D8: =국별소통물량!C7 -> 17575 | E8: =국별소통물량!I7 -> 2445 | F8: =국별소통물량!D7 -> 70529 | G8: 7383 | H8: =J8+L8 -> 34708 | I8: =K8+M8 -> 10583 | J8: ='9.8(화)'!J8+K8 -> 16146 | K8: =국별소통물량!I49 -> 4275 | L8: ='9.8(화)'!L8+M8 -> 18562 | M8: =국별소통물량!J49 -> 6308 | N8: =(B8-H8)/H8*100 -> 153.84349 | O8: =(C8-I8)/I8% -> -7.134083 | P8: =(D8-J8)/J8*100 -> 8.8504893 | Q8: =(E8-K8)/K8% -> -42.807018 | R8: =(F8-L8)/L8*100 -> 279.96444 | S8: =(G8-M8)/M8% -> 17.041852
A9: 서광주 | B9: =D9+F9 -> 129641 | C9: =E9+G9 -> 13767 | D9: =국별소통물량!C8 -> 73744 | E9: =국별소통물량!I8 -> 7730 | F9: =국별소통물량!D8 -> 55897 | G9: 6037 | H9: =J9+L9 -> 28026 | I9: =K9+M9 -> 8739 | J9: ='9.8(화)'!J9+K9 -> 14159 | K9: =국별소통물량!I50 -> 4047 | L9: ='9.8(화)'!L9+M9 -> 13867 | M9: =국별소통물량!J50 -> 4692 | N9: =(B9-H9)/H9*100 -> 362.57404 | O9: =(C9-I9)/I9% -> 57.535187 | P9: =(D9-J9)/J9*100 -> 420.82774 | Q9: =(E9-K9)/K9% -> 91.005683 | R9: =(F9-L9)/L9*100 -> 303.09368 | S9: =(G9-M9)/M9% -> 28.665814
A10: 광주광산 | B10: =D10+F10 -> 69932 | C10: =E10+G10 -> 6979 | D10: =국별소통물량!C9 -> 14981 | E10: =국별소통물량!I9 -> 1328 | F10: =국별소통물량!D9 -> 54951 | G10: 5651 | H10: =J10+L10 -> 31430 | I10: =K10+M10 -> 9809 | J10: ='9.8(화)'!J10+K10 -> 15621 | K10: =국별소통물량!I51 -> 4543 | L10: ='9.8(화)'!L10+M10 -> 15809 | M10: =국별소통물량!J51 -> 5266 | N10: =(B10-H10)/H10*100 -> 122.5008 | O10: =(C10-I10)/I10% -> -28.851055 | P10: =(D10-J10)/J10*100 -> -4.0970488 | Q10: =(E10-K10)/K10% -> -70.768215 | R10: =(F10-L10)/L10*100 -> 247.59314 | S10: =(G10-M10)/M10% -> 7.311052
A11: 목 포 | B11: =D11+F11 -> 95525 | C11: =E11+G11 -> 9711 | D11: =국별소통물량!C10 -> 50278 | E11: =국별소통물량!I10 -> 4672 | F11: =국별소통물량!D10 -> 45247 | G11: 5039 | H11: =J11+L11 -> 22305 | I11: =K11+M11 -> 7584 | J11: ='9.8(화)'!J11+K11 -> 9568 | K11: =국별소통물량!I52 -> 3109 | L11: ='9.8(화)'!L11+M11 -> 12737 | M11: =국별소통물량!J52 -> 4475 | N11: =(B11-H11)/H11*100 -> 328.2672 | O11: =(C11-I11)/I11% -> 28.045886 | P11: =(D11-J11)/J11*100 -> 425.48077 | Q11: =(E11-K11)/K11% -> 50.2734 | R11: =(F11-L11)/L11*100 -> 255.24064 | S11: =(G11-M11)/M11% -> 12.603352
A12: 여 수 | B12: =D12+F12 -> 114753 | C12: =E12+G12 -> 9362 | D12: =국별소통물량!C11 -> 72421 | E12: =국별소통물량!I11 -> 4684 | F12: =국별소통물량!D11 -> 42332 | G12: 4678 | H12: =J12+L12 -> 22711 | I12: =K12+M12 -> 7512 | J12: ='9.8(화)'!J12+K12 -> 11778 | K12: =국별소통물량!I53 -> 3546 | L12: ='9.8(화)'!L12+M12 -> 10933 | M12: =국별소통물량!J53 -> 3966 | N12: =(B12-H12)/H12*100 -> 405.27498 | O12: =(C12-I12)/I12% -> 24.627263 | P12: =(D12-J12)/J12*100 -> 514.88368 | Q12: =(E12-K12)/K12% -> 32.092499 | R12: =(F12-L12)/L12*100 -> 287.19473 | S12: =(G12-M12)/M12% -> 17.952597
A13: 순 천 | B13: =D13+F13 -> 69848 | C13: =E13+G13 -> 6385 | D13: =국별소통물량!C12 -> 29552 | E13: =국별소통물량!I12 -> 2259 | F13: =국별소통물량!D12 -> 40296 | G13: 4126 | H13: =J13+L13 -> 18267 | I13: =K13+M13 -> 6029 | J13: ='9.8(화)'!J13+K13 -> 7612 | K13: =국별소통물량!I54 -> 2211 | L13: ='9.8(화)'!L13+M13 -> 10655 | M13: =국별소통물량!J54 -> 3818 | N13: =(B13-H13)/H13*100 -> 282.37258 | O13: =(C13-I13)/I13% -> 5.9047935 | P13: =(D13-J13)/J13*100 -> 288.22911 | Q13: =(E13-K13)/K13% -> 2.1709634 | R13: =(F13-L13)/L13*100 -> 278.18864 | S13: =(G13-M13)/M13% -> 8.0670508
A14: 강 진 | B14: =D14+F14 -> 15183 | C14: =E14+G14 -> 1296 | D14: =국별소통물량!C13 -> 9530 | E14: =국별소통물량!I13 -> 829 | F14: =국별소통물량!D13 -> 5653 | G14: 467 | H14: =J14+L14 -> 3251 | I14: =K14+M14 -> 909 | J14: ='9.8(화)'!J14+K14 -> 2058 | K14: =국별소통물량!I55 -> 463 | L14: ='9.8(화)'!L14+M14 -> 1193 | M14: =국별소통물량!J55 -> 446 | N14: =(B14-H14)/H14*100 -> 367.02553 | O14: =(C14-I14)/I14% -> 42.574257 | P14: =(D14-J14)/J14*100 -> 363.07094 | Q14: =(E14-K14)/K14% -> 79.049676 | R14: =(F14-L14)/L14*100 -> 373.84744 | S14: =(G14-M14)/M14% -> 4.7085202
A15: 고 흥 | B15: =D15+F15 -> 32141 | C15: =E15+G15 -> 2941 | D15: =국별소통물량!C14 -> 20227 | E15: =국별소통물량!I14 -> 1245 | F15: =국별소통물량!D14 -> 11914 | G15: 1696 | H15: =J15+L15 -> 4896 | I15: =K15+M15 -> 1802 | J15: ='9.8(화)'!J15+K15 -> 2624 | K15: =국별소통물량!I56 -> 926 | L15: ='9.8(화)'!L15+M15 -> 2272 | M15: =국별소통물량!J56 -> 876 | N15: =(B15-H15)/H15*100 -> 556.47467 | O15: =(C15-I15)/I15% -> 63.207547 | P15: =(D15-J15)/J15*100 -> 670.84604 | Q15: =(E15-K15)/K15% -> 34.449244 | R15: =(F15-L15)/L15*100 -> 424.3838 | S15: =(G15-M15)/M15% -> 93.607306
A16: 곡 성 | B16: =D16+F16 -> 11246 | C16: =E16+G16 -> 1123 | D16: =국별소통물량!C15 -> 6067 | E16: =국별소통물량!I15 -> 665 | F16: =국별소통물량!D15 -> 5179 | G16: 458 | H16: =J16+L16 -> 2138 | I16: =K16+M16 -> 560 | J16: ='9.8(화)'!J16+K16 -> 1305 | K16: =국별소통물량!I57 -> 294 | L16: ='9.8(화)'!L16+M16 -> 833 | M16: =국별소통물량!J57 -> 266 | N16: =(B16-H16)/H16*100 -> 426.00561 | O16: =(C16-I16)/I16% -> 100.53571 | P16: =(D16-J16)/J16*100 -> 364.90421 | Q16: =(E16-K16)/K16% -> 126.19048 | R16: =(F16-L16)/L16*100 -> 521.72869 | S16: =(G16-M16)/M16% -> 72.180451
A17: 광 양 | B17: =D17+F17 -> 34683 | C17: =E17+G17 -> 3786 | D17: =국별소통물량!C16 -> 12726 | E17: =국별소통물량!I16 -> 1557 | F17: =국별소통물량!D16 -> 21957 | G17: 2229 | H17: =J17+L17 -> 10437 | I17: =K17+M17 -> 3877 | J17: ='9.8(화)'!J17+K17 -> 3768 | K17: =국별소통물량!I58 -> 1206 | L17: ='9.8(화)'!L17+M17 -> 6669 | M17: =국별소통물량!J58 -> 2671 | N17: =(B17-H17)/H17*100 -> 232.30813 | O17: =(C17-I17)/I17% -> -2.3471757 | P17: =(D17-J17)/J17*100 -> 237.73885 | Q17: =(E17-K17)/K17% -> 29.104478 | R17: =(F17-L17)/L17*100 -> 229.23977 | S17: =(G17-M17)/M17% -> -16.548109
A18: 구 례 | B18: =D18+F18 -> 12076 | C18: =E18+G18 -> 700 | D18: =국별소통물량!C17 -> 7545 | E18: =국별소통물량!I17 -> 316 | F18: =국별소통물량!D17 -> 4531 | G18: 384 | H18: =J18+L18 -> 1863 | I18: =K18+M18 -> 591 | J18: ='9.8(화)'!J18+K18 -> 1001 | K18: =국별소통물량!I59 -> 241 | L18: ='9.8(화)'!L18+M18 -> 862 | M18: =국별소통물량!J59 -> 350 | N18: =(B18-H18)/H18*100 -> 548.20183 | O18: =(C18-I18)/I18% -> 18.443316 | P18: =(D18-J18)/J18*100 -> 653.74625 | Q18: =(E18-K18)/K18% -> 31.120332 | R18: =(F18-L18)/L18*100 -> 425.63805 | S18: =(G18-M18)/M18% -> 9.7142857
... A31: 화 순 | B31: =D31+F31 -> 20834 | C31: =E31+G31 -> 2144 | D31: =국별소통물량!C30 -> 11953 | E31: =국별소통물량!I30 -> 1143 | F31: =국별소통물량!D30 -> 8881 | G31: 1001 | H31: =J31+L31 -> 5631 | I31: =K31+M31 -> 1572 | J31: ='9.8(화)'!J31+K31 -> 3767 | K31: =국별소통물량!I72 -> 959 | L31: ='9.8(화)'!L31+M31 -> 1864 | M31: =국별소통물량!J72 -> 613 | N31: =(B31-H31)/H31*100 -> 269.98757 | O31: =(C31-I31)/I31% -> 36.386768 | P31: =(D31-J31)/J31*100 -> 217.3082 | Q31: =(E31-K31)/K31% -> 19.186653 | R31: =(F31-L31)/L31*100 -> 376.4485 | S31: =(G31-M31)/M31% -> 63.295269
A32: 광주집 | B32: =D32+F32 -> 70179 | C32: =E32+G32 -> 6846 | D32: =국별소통물량!C31 -> 70179 | E32: =국별소통물량!I31 -> 6846 | F32: =국별소통물량!D31 -> 0 | H32: =J32+L32 -> 357 | I32: =K32+M32 -> 187 | J32: ='9.8(화)'!J32+K32 -> 262 | K32: =국별소통물량!I73 -> 136 | L32: ='9.8(화)'!L32+M32 -> 95 | M32: =국별소통물량!J73 -> 51 | N32: =(B32-H32)/H32*100 -> 19557.983 | O32: =(C32-I32)/I32% -> 3560.9626 | P32: =(D32-J32)/J32*100 -> 26685.878 | Q32: =(E32-K32)/K32% -> 4933.8235 | R32: =(F32-L32)/L32*100 -> -100 | S32: =(G32-M32)/M32% -> -100
A33: 영암집 | B33: =D33+F33 -> 7089 | C33: =E33+G33 -> 871 | D33: =국별소통물량!C32 -> 746 | E33: =국별소통물량!I32 -> 85 | F33: =국별소통물량!D32 -> 6343 | G33: 786 | H33: =J33+L33 -> 1760 | I33: =K33+M33 -> 579 | J33: ='9.8(화)'!J33+K33 -> 137 | K33: =국별소통물량!I74 -> 42 | L33: ='9.8(화)'!L33+M33 -> 1623 | M33: =국별소통물량!J74 -> 537 | N33: =(B33-H33)/H33*100 -> 302.78409 | O33: =(C33-I33)/I33% -> 50.431779 | P33: =(D33-J33)/J33*100 -> 444.52555 | Q33: =(E33-K33)/K33% -> 102.38095 | R33: =(F33-L33)/L33*100 -> 290.81947 | S33: =(G33-M33)/M33% -> 46.368715
A35: 집중국별 | B35: =SUM(B36:B38) -> 1292837 | C35: =SUM(C36:C38) -> 122296 | D35: =SUM(D36:D38) -> 764439 | E35: =SUM(E36:E38) -> 66066 | F35: =SUM(F36:F38) -> 528398 | G35: =SUM(G36:G38) -> 56230 | H35: =SUM(H36:H38) -> 297723 | I35: =SUM(I36:I38) -> 96007 | ... M35: =SUM(M36:M38) -> 46660 | N35: =(B35-H35)/H35*100 -> 334.24156 | O35: =(C35-I35)/I35*100 -> 27.382378 | P35: =(D35-J35)/J35*100 -> 366.95275 | Q35: =(E35-K35)/K35*100 -> 33.880479 | R35: =(F35-L35)/L35*100 -> 294.28273 | S35: =(G35-M35)/M35*100 -> 20.510073
A36: 광주집 | B36: =B7+B8+B9+B10+B16+B18+B19+B20+B23+B26+B29+B31+B32 -> 687603 | C36: =C7+C8+C9+C10+C16+C18+C19+C20+C23+C26+C29+C31+C32 -> 65313 | D36: =D7+D8+D9+D10+D16+D18+D19+D20+D23+D26+D29+D31+D32 -> 390863 | E36: =E7+E8+E9+E10+E16+E18+E19+E20+E23+E26+E29+E31+E32 -> 34666 | F36: =F7+F8+F9+F10+F16+F18+F19+F20+F23+F26+F29+F31+F32 -> 296740 | G36: =G7+G8+G9+G10+G16+G18+G19+G20+G23+G26+G29+G31+G32 -> 30647 | H36: =H7+H8+H9+H10+H16+H18+H19+H20+H23+H26+H29+H31+H32 -> 171595 | I36: =I7+I8+I9+I10+I16+I18+I19+I20+I23+I26+I29+I31+I32 -> 54790 | ... M36: =M7+M8+M9+M10+M16+M18+M19+M20+M23+M26+M29+M31+M32 -> 25293 | N36: =(B36-H36)/H36*100 -> 300.71272 | O36: =(C36-I36)/I36*100 -> 19.206059 | P36: =(D36-J36)/J36*100 -> 304.302 | Q36: =(E36-K36)/K36*100 -> 17.523816 | R36: =(F36-L36)/L36*100 -> 296.0811 | S36: =(G36-M36)/M36*100 -> 21.167912
A37: 순천집 | B37: =B12+B13+B15+B17+B22 -> 264889 | C37: =C12+C13+C15+C17+C22 -> 23899 | D37: =D12+D13+D15+D17+D22 -> 141960 | E37: =E12+E13+E15+E17+E22 -> 10400 | F37: =F12+F13+F15+F17+F22 -> 122929 | G37: =G12+G13+G15+G17+G22 -> 13499 | H37: =H12+H13+H15+H17+H22 -> 59421 | I37: =I12+I13+I15+I17+I22 -> 20109 | ... M37: =M12+M13+M15+M17+M22 -> 11778 | N37: =(B37-H37)/H37*100 -> 345.78348 | O37: =(C37-I37)/I37*100 -> 18.847282 | P37: =(D37-J37)/J37*100 -> 414.31056 | Q37: =(E37-K37)/K37*100 -> 24.834954 | R37: =(F37-L37)/L37*100 -> 286.33835 | S37: =(G37-M37)/M37*100 -> 14.611988
A38: 영암집 | B38: =B11+B14+B21+B25+B27+B24+B28+B30+B33 -> 340345 | C38: =C11+C14+C21+C25+C27+C24+C28+C30+C33 -> 33084 | D38: =D11+D14+D21+D25+D27+D24+D28+D30+D33 -> 231616 | E38: =E11+E14+E21+E25+E27+E24+E28+E30+E33 -> 21000 | F38: =F11+F14+F21+F25+F27+F24+F28+F30+F33 -> 108729 | G38: =G11+G14+G21+G25+G27+G24+G28+G30+G33 -> 12084 | H38: =H11+H14+H21+H25+H27+H24+H28+H30+H33 -> 66707 | I38: =I11+I14+I21+I25+I27+I24+I28+I30+I33 -> 21108 | ... M38: =M11+M14+M21+M25+M27+M24+M28+M30+M33 -> 9589 | N38: =(B38-H38)/H38*100 -> 410.20882 | O38: =(C38-I38)/I38*100 -> 56.736782 | P38: =(D38-J38)/J38*100 -> 487.4106 | Q38: =(E38-K38)/K38*100 -> 82.307492 | R38: =(F38-L38)/L38*100 -> 298.61055 | S38: =(G38-M38)/M38*100 -> 26.019397
A40: ▣ 집중국별 소포처리 현황
A41: 국 명 | B41: 당일접수 물량 | C41: 합 계 | G41: 발 송(수집) | K41: 도 착(배분)
C42: 15년 추석 | E42: 14년 추석 (누계) | F42: 증감률 (누계) | G42: 15년 추석 | I42: 14년 추석 (누계) | J42: 증감률 (누계) | K42: 15년 추석 | M42: 14년 추석 (누계) | N42: 증감률 (누계)
C43: 누계 | D43: 당일 | G43: 누계 | H43: 당일 | K43: 누계 | L43: 당일
A44: 합 계 | B44: =B45+B46+B47 -> 122296 | C44: =SUM(C45:C47) -> 1155442 | D44: =SUM(D45:D47) -> 477437 | E44: =SUM(E45:E47) -> 951274 | F44: =F45+F46+F47 -> 71.898825 | G44: =SUM(G45:G47) -> 670850 | H44: =SUM(H45:H47) -> 55558 | I44: =SUM(I45:I47) -> 547324 | J44: =(G44-I44)/I44% -> 22.569082 | K44: =SUM(K45:K47) -> 484592 | L44: =SUM(L45:L47) -> 51366 | M44: =M45+M46+M47 -> 403950 | N44: =(K44-M44)/M44% -> 19.963362
A45: 광주집 | B45: =C36 -> 65313 | C45: =G45+K45 -> 612837 | D45: =H45+L45 -> 56196 | E45: =I45+M45 -> 530033 | F45: =(C45-E45)/E45% -> 15.622424 | G45: ='집중국처리현황(구분물량)'!B6 -> 338325 | H45: ='집중국처리현황(구분물량)'!E6 -> 28002 | I45: ='집중국처리현황(구분물량)'!B23 -> 291685 | J45: =(G45-I45)/I45% -> 15.989852 | K45: ='집중국처리현황(구분물량)'!B30 -> 274512 | L45: ='집중국처리현황(구분물량)'!E30 -> 28194 | M45: ='집중국처리현황(구분물량)'!B36 -> 238348 | N45: =(K45-M45)/M45% -> 15.172773
A46: 순천집 | B46: =C37 -> 23899 | C46: =G46+K46 -> 228027 | D46: =I46+M46 -> 186509 | E46: =I46+M46 -> 186509 | F46: =(C46-E46)/E46% -> 22.260588 | G46: ='집중국처리현황(구분물량)'!B7 -> 117866 | H46: ='집중국처리현황(구분물량)'!E7 -> 8253 | I46: ='집중국처리현황(구분물량)'!B24 -> 96645 | J46: =(G46-I46)/I46% -> 21.95768 | K46: ='집중국처리현황(구분물량)'!B31 -> 110161 | L46: ='집중국처리현황(구분물량)'!E31 -> 12295 | M46: ='집중국처리현황(구분물량)'!B37 -> 89864 | N46: =(K46-M46)/M46% -> 22.586353
A47: 영암집 | B47: =C38 -> 33084 | C47: =G47+K47 -> 314578 | D47: =I47+M47 -> 234732 | E47: =I47+M47 -> 234732 | F47: =(C47-E47)/E47% -> 34.015814 | G47: ='집중국처리현황(구분물량)'!B8 -> 214659 | H47: ='집중국처리현황(구분물량)'!E8 -> 19303 | I47: ='집중국처리현황(구분물량)'!B25 -> 158994 | J47: =(G47-I47)/I47% -> 35.010755 | K47: ='집중국처리현황(구분물량)'!B32 -> 99919 | L47: ='집중국처리현황(구분물량)'!E32 -> 10877 | M47: ='집중국처리현황(구분물량)'!B38 -> 75738 | N47: =(K47-M47)/M47% -> 31.92717
A49: o 발송(수집) 구분 세부내역
A50: 구분 | B50: 집중국 | G50: 임시집중국
B51: 구분 | E51: 주간 미구분 (센터발송) | F51: 합계 | G51: 구분 | K51: 주간 미구분 (센터발송) | L51: 합계
B52: 소계 | C52: 기계 | D52: 수작업 | G52: 소계 | H52: 센터발송 | I52: 타 집중국 발송 | J52: 광주집 발송
A53: 합 계 | B53: =C53+D53 -> 55558 | C53: =SUM(C54:C56) -> 55558 | D53: =SUM(D54:D56) -> 0 | E53: =SUM(E54:E56) -> 0 | F53: =B53+E53 -> 55558 | G53: =SUM(H53:J53) -> 0 | H53: =SUM(H54:H56) -> 0 | I53: =SUM(I54:I56) -> 0 | J53: =SUM(J54:J56) -> 0 | K53: =SUM(K54:K56) -> 0 | L53: =G53+K53 -> 0
A54: 광주집 | B54: =C54+D54 -> 28002 | C54: ='집중국처리현황(구분물량)'!E12 -> 28002 | D54: 0 | F54: =B54+E54 -> 28002 | G54: =SUM(H54:J54) -> 0 | L54: =G54+K54 -> 0
A55: 순천집 | B55: =C55+D55 -> 8253 | C55: ='집중국처리현황(구분물량)'!E15 -> 8253 | D55: 0 | F55: =B55+E55 -> 8253 | G55: =SUM(H55:J55) -> 0 | L55: =G55+K55 -> 0
...

Sheet 9.10.(목)
A1: 2015. 추석 명절 우편물 특별소통 일일보고(9.10.목)
A2: ▣ 총괄국별 등기소포 취급물량 현황 | L2: 2015. 추석 : 2015. 9. 7.(월) ~ 2015. 9. 26.(토) 2014. 추석 : 2014. 8.18(월) ~ 2014. 9.6.(토)
A3: 국 명 | B3: 2015. 추석(9.10.목) | H3: 2014. 추석(8.21.목) | N3: 증 감 률
B4: 합 계 | D4: 접 수 | F4: 배 달 | H4: 합 계 | J4: 접 수 | L4: 배 달 | N4: 합계 | P4: 접수 | R4: 배달
B5: 누계 | C5: 당일 | D5: 누계 | E5: 당일 | F5: 누계 | G5: 당일 | H5: 누계 | I5: 당일 | J5: 누계 | K5: 당일 | L5: 누계 | M5: 당일 | N5: 누계 | O5: 당일 | P5: 누계 | Q5: 당일 | R5: 누계 | S5: 당일
A6: 합 계 | B6: =D6+F6 -> 1292837 | C6: =SUM(C7:C33) -> 133118 | D6: =SUM(D7:D33) -> 764439 | E6: =SUM(E7:E33) -> 74097 | F6: =SUM(F7:F33) -> 528398 | G6: =SUM(G7:G33) -> 59021 | H6: =SUM(H7:H33) -> 392753 | I6: =SUM(I7:I33) -> 95030 | J6: =SUM(J7:J33) -> 214938 | ... M6: =SUM(M7:M33) -> 43800 | N6: =(B6-H6)/H6*100 -> 229.17304 | O6: =(C6-I6)/I6% -> 40.079975 | P6: =(D6-J6)/J6*100 -> 255.65558 | Q6: =(E6-K6)/K6% -> 44.635955 | R6: =(F6-L6)/L6*100 -> 197.16166 | S6: =(G6-M6)/M6% -> 34.751142
A7: 광 주 | B7: =D7+F7 -> 118306 | C7: =E7+G7 -> 11598 | D7: =국별소통물량!C6 -> 62362 | E7: =국별소통물량!K6 -> 5955 | F7: =국별소통물량!D6 -> 55944 | G7: =국별소통물량!L6 -> 5643 | H7: =J7+L7 -> 51938 | I7: =K7+M7 -> 13743 | J7: ='9.9(수)'!J7+K7 -> 33489 | K7: =국별소통물량!K48 -> 9171 | L7: ='9.9(수)'!L7+M7 -> 18449 | M7: =국별소통물량!L48 -> 4572 | N7: =(B7-H7)/H7*100 -> 127.78313 | O7: =(C7-I7)/I7% -> -15.607946 | P7: =(D7-J7)/J7*100 -> 86.21637 | Q7: =(E7-K7)/K7% -> -35.067059 | R7: =(F7-L7)/L7*100 -> 203.23595 | S7: =(G7-M7)/M7% -> 23.425197
A8: 북광주 | B8: =D8+F8 -> 88104 | C8: =E8+G8 -> 9271 | D8: =국별소통물량!C7 -> 17575 | E8: =국별소통물량!K7 -> 1522 | F8: =국별소통물량!D7 -> 70529 | G8: =국별소통물량!L7 -> 7749 | H8: =J8+L8 -> 44970 | I8: =K8+M8 -> 10262 | J8: ='9.9(수)'!J8+K8 -> 20539 | K8: =국별소통물량!K49 -> 4393 | L8: ='9.9(수)'!L8+M8 -> 24431 | M8: =국별소통물량!L49 -> 5869 | N8: =(B8-H8)/H8*100 -> 95.917278 | O8: =(C8-I8)/I8% -> -9.6569869 | P8: =(D8-J8)/J8*100 -> -14.431082 | Q8: =(E8-K8)/K8% -> -65.353972 | R8: =(F8-L8)/L8*100 -> 188.6865 | S8: =(G8-M8)/M8% -> 32.032714
A9: 서광주 | B9: =D9+F9 -> 129641 | C9: =E9+G9 -> 12884 | D9: =국별소통물량!C8 -> 73744 | E9: =국별소통물량!K8 -> 6787 | F9: =국별소통물량!D8 -> 55897 | G9: =국별소통물량!L8 -> 6097 | H9: =J9+L9 -> 36659 | I9: =K9+M9 -> 8633 | J9: ='9.9(수)'!J9+K9 -> 18054 | K9: =국별소통물량!K50 -> 3895 | L9: ='9.9(수)'!L9+M9 -> 18605 | M9: =국별소통물량!L50 -> 4738 | N9: =(B9-H9)/H9*100 -> 253.64031 | O9: =(C9-I9)/I9% -> 49.241283 | P9: =(D9-J9)/J9*100 -> 308.4635 | Q9: =(E9-K9)/K9% -> 74.249037 | R9: =(F9-L9)/L9*100 -> 200.44074 | S9: =(G9-M9)/M9% -> 28.682989
A10: 광주광산 | B10: =D10+F10 -> 69932 | C10: =E10+G10 -> 7421 | D10: =국별소통물량!C9 -> 14981 | E10: =국별소통물량!K9 -> 1658 | F10: =국별소통물량!D9 -> 54951 | G10: =국별소통물량!L9 -> 5763 | H10: =J10+L10 -> 40304 | I10: =K10+M10 -> 8874 | J10: ='9.9(수)'!J10+K10 -> 19381 | K10: =국별소통물량!K51 -> 3760 | L10: ='9.9(수)'!L10+M10 -> 20923 | M10: =국별소통물량!L51 -> 5114 | N10: =(B10-H10)/H10*100 -> 73.511314 | O10: =(C10-I10)/I10% -> -16.373676 | P10: =(D10-J10)/J10*100 -> -22.702647 | Q10: =(E10-K10)/K10% -> -55.904255 | R10: =(F10-L10)/L10*100 -> 162.63442 | S10: =(G10-M10)/M10% -> 12.690653
A11: 목 포 | B11: =D11+F11 -> 95525 | C11: =E11+G11 -> 11618 | D11: =국별소통물량!C10 -> 50278 | E11: =국별소통물량!K10 -> 5793 | F11: =국별소통물량!D10 -> 45247 | G11: =국별소통물량!L10 -> 5825 | H11: =J11+L11 -> 29597 | I11: =K11+M11 -> 7292 | J11: ='9.9(수)'!J11+K11 -> 12679 | K11: =국별소통물량!K52 -> 3111 | L11: ='9.9(수)'!L11+M11 -> 16918 | M11: =국별소통물량!L52 -> 4181 | N11: =(B11-H11)/H11*100 -> 222.75231 | O11: =(C11-I11)/I11% -> 59.325288 | P11: =(D11-J11)/J11*100 -> 296.54547 | Q11: =(E11-K11)/K11% -> 86.210222 | R11: =(F11-L11)/L11*100 -> 167.44887 | S11: =(G11-M11)/M11% -> 39.320737
A12: 여 수 | B12: =D12+F12 -> 114753 | C12: =E12+G12 -> 11664 | D12: =국별소통물량!C11 -> 72421 | E12: =국별소통물량!K11 -> 5995 | F12: =국별소통물량!D11 -> 42332 | G12: =국별소통물량!L11 -> 5669 | H12: =J12+L12 -> 30580 | I12: =K12+M12 -> 7869 | J12: ='9.9(수)'!J12+K12 -> 16151 | K12: =국별소통물량!K53 -> 4373 | L12: ='9.9(수)'!L12+M12 -> 14429 | M12: =국별소통물량!L53 -> 3496 | N12: =(B12-H12)/H12*100 -> 275.25507 | O12: =(C12-I12)/I12% -> 48.227221 | P12: =(D12-J12)/J12*100 -> 348.39948 | Q12: =(E12-K12)/K12% -> 37.091242 | R12: =(F12-L12)/L12*100 -> 193.38138 | S12: =(G12-M12)/M12% -> 62.156751
A13: 순 천 | B13: =D13+F13 -> 69848 | C13: =E13+G13 -> 8537 | D13: =국별소통물량!C12 -> 29552 | E13: =국별소통물량!K12 -> 3848 | F13: =국별소통물량!D12 -> 40296 | G13: =국별소통물량!L12 -> 4689 | H13: =J13+L13 -> 23880 | I13: =K13+M13 -> 5613 | J13: ='9.9(수)'!J13+K13 -> 9937 | K13: =국별소통물량!K54 -> 2325 | L13: ='9.9(수)'!L13+M13 -> 13943 | M13: =국별소통물량!L54 -> 3288 | N13: =(B13-H13)/H13*100 -> 192.49581 | O13: =(C13-I13)/I13% -> 52.093355 | P13: =(D13-J13)/J13*100 -> 197.39358 | Q13: =(E13-K13)/K13% -> 65.505376 | R13: =(F13-L13)/L13*100 -> 189.00524 | S13: =(G13-M13)/M13% -> 42.609489
A14: 강 진 | B14: =D14+F14 -> 15183 | C14: =E14+G14 -> 1735 | D14: =국별소통물량!C13 -> 9530 | E14: =국별소통물량!K13 -> 925 | F14: =국별소통물량!D13 -> 5653 | G14: =국별소통물량!L13 -> 810 | H14: =J14+L14 -> 4400 | I14: =K14+M14 -> 1149 | J14: ='9.9(수)'!J14+K14 -> 2823 | K14: =국별소통물량!K55 -> 765 | L14: ='9.9(수)'!L14+M14 -> 1577 | M14: =국별소통물량!L55 -> 384 | N14: =(B14-H14)/H14*100 -> 245.06818 | O14: =(C14-I14)/I14% -> 51.00087 | P14: =(D14-J14)/J14*100 -> 237.58413 | Q14: =(E14-K14)/K14% -> 20.915033 | R14: =(F14-L14)/L14*100 -> 258.46544 | S14: =(G14-M14)/M14% -> 110.9375
A15: 고 흥 | B15: =D15+F15 -> 32141 | C15: =E15+G15 -> 4184 | D15: =국별소통물량!C14 -> 20227 | E15: =국별소통물량!K14 -> 2792 | F15: =국별소통물량!D14 -> 11914 | G15: =국별소통물량!L14 -> 1392 | H15: =J15+L15 -> 6437 | I15: =K15+M15 -> 1541 | J15: ='9.9(수)'!J15+K15 -> 3514 | K15: =국별소통물량!K56 -> 890 | L15: ='9.9(수)'!L15+M15 -> 2923 | M15: =국별소통물량!L56 -> 651 | N15: =(B15-H15)/H15*100 -> 399.31645 | O15: =(C15-I15)/I15% -> 171.51201 | P15: =(D15-J15)/J15*100 -> 475.61184 | Q15: =(E15-K15)/K15% -> 213.70787 | R15: =(F15-L15)/L15*100 -> 307.59494 | S15: =(G15-M15)/M15% -> 113.82488
A16: 곡 성 | B16: =D16+F16 -> 11246 | C16: =E16+G16 -> 1017 | D16: =국별소통물량!C15 -> 6067 | E16: =국별소통물량!K15 -> 468 | F16: =국별소통물량!D15 -> 5179 | G16: =국별소통물량!L15 -> 549 | H16: =J16+L16 -> 2828 | I16: =K16+M16 -> 690 | J16: ='9.9(수)'!J16+K16 -> 1706 | K16: =국별소통물량!K57 -> 401 | L16: ='9.9(수)'!L16+M16 -> 1122 | M16: =국별소통물량!L57 -> 289 | N16: =(B16-H16)/H16*100 -> 297.6662 | O16: =(C16-I16)/I16% -> 47.391304 | P16: =(D16-J16)/J16*100 -> 255.6272 | Q16: =(E16-K16)/K16% -> 16.708229 | R16: =(F16-L16)/L16*100 -> 361.58645 | S16: =(G16-M16)/M16% -> 89.965398
A17: 광 양 | B17: =D17+F17 -> 34683 | C17: =E17+G17 -> 3629 | D17: =국별소통물량!C16 -> 12726 | E17: =국별소통물량!K16 -> 1324 | F17: =국별소통물량!D16 -> 21957 | G17: =국별소통물량!L16 -> 2305 | H17: =J17+L17 -> 14130 | I17: =K17+M17 -> 3693 | J17: ='9.9(수)'!J17+K17 -> 5244 | K17: =국별소통물량!K58 -> 1476 | L17: ='9.9(수)'!L17+M17 -> 8886 | M17: =국별소통물량!L58 -> 2217 | N17: =(B17-H17)/H17*100 -> 145.45648 | O17: =(C17-I17)/I17% -> -1.7330084 | P17: =(D17-J17)/J17*100 -> 142.67735 | Q17: =(E17-K17)/K17% -> -10.298103 | R17: =(F17-L17)/L17*100 -> 147.09656 | S17: =(G17-M17)/M17% -> 3.9693279
A18: 구 례 | B18: =D18+F18 -> 12076 | C18: =E18+G18 -> 1479 | D18: =국별소통물량!C17 -> 7545 | E18: =국별소통물량!K17 -> 1063 | F18: =국별소통물량!D17 -> 4531 | G18: =국별소통물량!L17 -> 416 | H18: =J18+L18 -> 2501 | I18: =K18+M18 -> 638 | J18: ='9.9(수)'!J18+K18 -> 1350 | K18: =국별소통물량!K59 -> 349 | L18: ='9.9(수)'!L18+M18 -> 1151 | M18: =국별소통물량!L59 -> 289 | N18: =(B18-H18)/H18*100 -> 382.84686 | O18: =(C18-I18)/I18% -> 131.81818 | P18: =(D18-J18)/J18*100 -> 458.88889 | Q18: =(E18-K18)/K18% -> 204.58453 | R18: =(F18-L18)/L18*100 -> 293.65769 | S18: =(G18-M18)/M18% -> 43.944637
... A33: 영암집 | B33: =D33+F33 -> 7089 | C33: =E33+G33 -> 716 | D33: =국별소통물량!C32 -> 746 | E33: =국별소통물량!K32 -> 78 | F33: =국별소통물량!D32 -> 6343 | G33: =국별소통물량!L32 -> 638 | H33: =J33+L33 -> 2377 | I33: =K33+M33 -> 617 | J33: ='9.9(수)'!J33+K33 -> 183 | K33: =국별소통물량!K74 -> 46 | L33: ='9.9(수)'!L33+M33 -> 2194 | M33: =국별소통물량!L74 -> 571 | N33: =(B33-H33)/H33*100 -> 198.23307 | O33: =(C33-I33)/I33% -> 16.045381 | P33: =(D33-J33)/J33*100 -> 307.65027 | Q33: =(E33-K33)/K33% -> 69.565217 | R33: =(F33-L33)/L33*100 -> 189.10665 | S33: =(G33-M33)/M33% -> 11.7338
A35: 집중국별 | B35: =SUM(B36:B38) -> 1292837 | C35: =SUM(C36:C38) -> 133118 | D35: =SUM(D36:D38) -> 764439 | E35: =SUM(E36:E38) -> 74097 | F35: =SUM(F36:F38) -> 528398 | G35: =SUM(G36:G38) -> 59021 | H35: =SUM(H36:H38) -> 392753 | I35: =SUM(I36:I38) -> 95030 | ... M35: =SUM(M36:M38) -> 43800 | N35: =(B35-H35)/H35*100 -> 229.17304 | O35: =(C35-I35)/I35*100 -> 40.079975 | P35: =(D35-J35)/J35*100 -> 255.65558 | Q35: =(E35-K35)/K35*100 -> 44.635955 | R35: =(F35-L35)/L35*100 -> 197.16166 | S35: =(G35-M35)/M35*100 -> 34.751142
A36: 광주집 | B36: =B7+B8+B9+B10+B16+B18+B19+B20+B23+B26+B29+B31+B32 -> 687603 | C36: =C7+C8+C9+C10+C16+C18+C19+C20+C23+C26+C29+C31+C32 -> 67420 | D36: =D7+D8+D9+D10+D16+D18+D19+D20+D23+D26+D29+D31+D32 -> 390863 | E36: =E7+E8+E9+E10+E16+E18+E19+E20+E23+E26+E29+E31+E32 -> 35960 | F36: =F7+F8+F9+F10+F16+F18+F19+F20+F23+F26+F29+F31+F32 -> 296740 | G36: =G7+G8+G9+G10+G16+G18+G19+G20+G23+G26+G29+G31+G32 -> 31460 | H36: =H7+H8+H9+H10+H16+H18+H19+H20+H23+H26+H29+H31+H32 -> 225956 | I36: =I7+I8+I9+I10+I16+I18+I19+I20+I23+I26+I29+I31+I32 -> 54361 | ... M36: =M7+M8+M9+M10+M16+M18+M19+M20+M23+M26+M29+M31+M32 -> 24730 | N36: =(B36-H36)/H36*100 -> 204.30836 | O36: =(C36-I36)/I36*100 -> 24.022737 | P36: =(D36-J36)/J36*100 -> 209.45474 | Q36: =(E36-K36)/K36*100 -> 21.359387 | R36: =(F36-L36)/L36*100 -> 197.78523 | S36: =(G36-M36)/M36*100 -> 27.21391
A37: 순천집 | B37: =B12+B13+B15+B17+B22 -> 264889 | C37: =C12+C13+C15+C17+C22 -> 29675 | D37: =D12+D13+D15+D17+D22 -> 141960 | E37: =E12+E13+E15+E17+E22 -> 14934 | F37: =F12+F13+F15+F17+F22 -> 122929 | G37: =G12+G13+G15+G17+G22 -> 14741 | H37: =H12+H13+H15+H17+H22 -> 78851 | I37: =I12+I13+I15+I17+I22 -> 19430 | ... M37: =M12+M13+M15+M17+M22 -> 10062 | N37: =(B37-H37)/H37*100 -> 235.93613 | O37: =(C37-I37)/I37*100 -> 52.727741 | P37: =(D37-J37)/J37*100 -> 283.98702 | Q37: =(E37-K37)/K37*100 -> 59.41503 | R37: =(F37-L37)/L37*100 -> 193.51973 | S37: =(G37-M37)/M37*100 -> 46.50169
A38: 영암집 | B38: =B11+B14+B21+B25+B27+B24+B28+B30+B33 -> 340345 | C38: =C11+C14+C21+C25+C27+C24+C28+C30+C33 -> 36023 | D38: =D11+D14+D21+D25+D27+D24+D28+D30+D33 -> 231616 | E38: =E11+E14+E21+E25+E27+E24+E28+E30+E33 -> 23203 | F38: =F11+F14+F21+F25+F27+F24+F28+F30+F33 -> 108729 | G38: =G11+G14+G21+G25+G27+G24+G28+G30+G33 -> 12820 | H38: =H11+H14+H21+H25+H27+H24+H28+H30+H33 -> 87946 | I38: =I11+I14+I21+I25+I27+I24+I28+I30+I33 -> 21239 | ... M38: =M11+M14+M21+M25+M27+M24+M28+M30+M33 -> 9008 | N38: =(B38-H38)/H38*100 -> 286.99315 | O38: =(C38-I38)/I38*100 -> 69.607797 | P38: =(D38-J38)/J38*100 -> 348.3382 | Q38: =(E38-K38)/K38*100 -> 89.706484 | R38: =(F38-L38)/L38*100 -> 199.65275 | S38: =(G38-M38)/M38*100 -> 42.31794
A40: ▣ 집중국별 소포처리 현황
A41: 국 명 | B41: 당일접수 물량 | C41: 합 계 | G41: 발 송(수집) | K41: 도 착(배분)
C42: 15년 추석 | E42: 14년 추석 (누계) | F42: 증감률 (누계) | G42: 15년 추석 | I42: 14년 추석 (누계) | J42: 증감률 (누계) | K42: 15년 추석 | M42: 14년 추석 (누계) | N42: 증감률 (누계)
C43: 누계 | D43: 당일 | G43: 누계 | H43: 당일 | K43: 누계 | L43: 당일
A44: 합 계 | B44: =B45+B46+B47 -> 133118 | C44: =SUM(C45:C47) -> 1155442 | D44: =SUM(D45:D47) -> 477437 | E44: =SUM(E45:E47) -> 951274 | F44: =F45+F46+F47 -> 71.898825 | G44: =SUM(G45:G47) -> 670850 | H44: =SUM(H45:H47) -> 55558 | I44: =SUM(I45:I47) -> 547324 | J44: =(G44-I44)/I44% -> 22.569082 | K44: =SUM(K45:K47) -> 484592 | L44: =SUM(L45:L47) -> 51366 | M44: =M45+M46+M47 -> 403950 | N44: =(K44-M44)/M44% -> 19.963362
A45: 광주집 | B45: =C36 -> 67420 | C45: =G45+K45 -> 612837 | D45: =H45+L45 -> 56196 | E45: =I45+M45 -> 530033 | F45: =(C45-E45)/E45% -> 15.622424 | G45: ='집중국처리현황(구분물량)'!B6 -> 338325 | H45: ='집중국처리현황(구분물량)'!E6 -> 28002 | I45: ='집중국처리현황(구분물량)'!B23 -> 291685 | J45: =(G45-I45)/I45% -> 15.989852 | K45: ='집중국처리현황(구분물량)'!B30 -> 274512 | L45: ='집중국처리현황(구분물량)'!E30 -> 28194 | M45: ='집중국처리현황(구분물량)'!B36 -> 238348 | N45: =(K45-M45)/M45% -> 15.172773
A46: 순천집 | B46: =C37 -> 29675 | C46: =G46+K46 -> 228027 | D46: =I46+M46 -> 186509 | E46: =I46+M46 -> 186509 | F46: =(C46-E46)/E46% -> 22.260588 | G46: ='집중국처리현황(구분물량)'!B7 -> 117866 | H46: ='집중국처리현황(구분물량)'!E7 -> 8253 | I46: ='집중국처리현황(구분물량)'!B24 -> 96645 | J46: =(G46-I46)/I46% -> 21.95768 | K46: ='집중국처리현황(구분물량)'!B31 -> 110161 | L46: ='집중국처리현황(구분물량)'!E31 -> 12295 | M46: ='집중국처리현황(구분물량)'!B37 -> 89864 | N46: =(K46-M46)/M46% -> 22.586353
A47: 영암집 | B47: =C38 -> 36023 | C47: =G47+K47 -> 314578 | D47: =I47+M47 -> 234732 | E47: =I47+M47 -> 234732 | F47: =(C47-E47)/E47% -> 34.015814 | G47: ='집중국처리현황(구분물량)'!B8 -> 214659 | H47: ='집중국처리현황(구분물량)'!E8 -> 19303 | I47: ='집중국처리현황(구분물량)'!B25 -> 158994 | J47: =(G47-I47)/I47% -> 35.010755 | K47: ='집중국처리현황(구분물량)'!B32 -> 99919 | L47: ='집중국처리현황(구분물량)'!E32 -> 10877 | M47: ='집중국처리현황(구분물량)'!B38 -> 75738 | N47: =(K47-M47)/M47% -> 31.92717
A49: o 발송(수집) 구분 세부내역
A50: 구분 | B50: 집중국 | G50: 임시집중국
B51: 구분 | E51: 주간 미구분 (센터발송) | F51: 합계 | G51: 구분 | K51: 주간 미구분 (센터발송) | L51: 합계
B52: 소계 | C52: 기계 | D52: 수작업 | G52: 소계 | H52: 센터발송 | I52: 타 집중국 발송 | J52: 광주집 발송
A53: 합 계 | B53: =C53+D53 -> 55558 | C53: =SUM(C54:C56) -> 55558 | D53: =SUM(D54:D56) -> 0 | E53: =SUM(E54:E56) -> 0 | F53: =B53+E53 -> 55558 | G53: =SUM(H53:J53) -> 0 | H53: =SUM(H54:H56) -> 0 | I53: =SUM(I54:I56) -> 0 | J53: =SUM(J54:J56) -> 0 | K53: =SUM(K54:K56) -> 0 | L53: =G53+K53 -> 0
A54: 광주집 | B54: =C54+D54 -> 28002 | C54: ='집중국처리현황(구분물량)'!E12 -> 28002 | D54: 0 | F54: =B54+E54 -> 28002 | G54: =SUM(H54:J54) -> 0 | L54: =G54+K54 -> 0
A55: 순천집 | B55: =C55+D55 -> 8253 | C55: ='집중국처리현황(구분물량)'!E15 -> 8253 | D55: 0 | F55: =B55+E55 -> 8253 | G55: =SUM(H55:J55) -> 0 | L55: =G55+K55 -> 0
A56: 영암집 | B56: =C56+D56 -> 19303 | C56: ='집중국처리현황(구분물량)'!E18 -> 19303 | D56: 0 | F56: =B56+E56 -> 19303 | G56: =SUM(H56:J56) -> 0 | L56: =G56+K56 -> 0
A58: ▣ 집중국별 발송구분 작업인력 현황 | B58: ▣ 집중국별 소포처리 현황 | C58: ▣ 집중국별 소포처리 현황 | D58: ▣ 집중국별 소포처리 현황
...

Sheet 9.11.(금)~13.(일)
A1: 2015. 추석 명절 우편물 특별소통 일일보고(9.13.일)
A2: ▣ 총괄국별 등기소포 취급물량 현황 | L2: 2015. 추석 : 2015. 9. 7.(월) ~ 2015. 9. 26.(토) 2014. 추석 : 2014. 8.18(월) ~ 2014. 9.6.(토)
A3: 국 명 | B3: 2015. 추석(9.13.일) | H3: 2014. 추석(8.24.일) | N3: 증 감 률
B4: 합 계 | D4: 접 수 | F4: 배 달 | H4: 합 계 | J4: 접 수 | L4: 배 달 | N4: 합계 | P4: 접수 | R4: 배달
B5: 누계 | C5: 당일 | D5: 누계 | E5: 당일 | F5: 누계 | G5: 당일 | H5: 누계 | I5: 당일 | J5: 누계 | K5: 당일 | L5: 누계 | M5: 당일 | N5: 누계 | O5: 당일 | P5: 누계 | Q5: 당일 | R5: 누계 | S5: 당일
A6: 합 계 | B6: =D6+F6 -> 1292837 | C6: =SUM(C7:C33) -> 182564 | D6: =SUM(D7:D33) -> 764439 | E6: =SUM(E7:E33) -> 83055 | F6: =SUM(F7:F33) -> 528398 | G6: =SUM(G7:G33) -> 99509 | H6: =SUM(H7:H33) -> 533991 | I6: =SUM(I7:I33) -> 141238 | J6: =SUM(J7:J33) -> 269787 | ... M6: =SUM(M7:M33) -> 86389 | N6: =(B6-H6)/H6*100 -> 142.10839 | O6: =(C6-I6)/I6% -> 29.259831 | P6: =(D6-J6)/J6*100 -> 183.34909 | Q6: =(E6-K6)/K6% -> 51.424821 | R6: =(F6-L6)/L6*100 -> 99.996215 | S6: =(G6-M6)/M6% -> 15.187119
A7: 광 주 | B7: =D7+F7 -> 118306 | C7: =E7+G7 -> 16398 | D7: =국별소통물량!C6 -> 62362 | E7: =국별소통물량!M6+국별소통물량!O6+국별소통물량!Q6 -> 6456 | F7: =국별소통물량!D6 -> 55944 | G7: =국별소통물량!N6+국별소통물량!P6+국별소통물량!R6 -> 9942 | H7: =J7+L7 -> 69758 | I7: =K7+M7 -> 17820 | J7: =SUM(국별소통물량!E48,국별소통물량!G48,국별소통물량!I48,국별소통물량!K48,국별소통물량!M48,국별소통물량!O48,국별소통물량!Q48) -> 42387 | K7: =SUM(국별소통물량!M48,국별소통물량!O48,국별소통물량!Q48) -> 8898 | L7: =SUM(국별소통물량!F48,국별소통물량!H48,국별소통물량!J48,국별소통물량!L48,국별소통물량!N48,국별소통물량!P48,국별소통물량!R48) -> 27371 | M7: =SUM(국별소통물량!N48,국별소통물량!P48,국별소통물량!R48) -> 8922 | N7: =(B7-H7)/H7*100 -> 69.594885 | O7: =(C7-I7)/I7% -> -7.979798 | P7: =(D7-J7)/J7*100 -> 47.125298 | Q7: =(E7-K7)/K7% -> -27.44437 | R7: =(F7-L7)/L7*100 -> 104.39151 | S7: =(G7-M7)/M7% -> 11.432414
A8: 북광주 | B8: =D8+F8 -> 88104 | C8: =E8+G8 -> 15068 | D8: =국별소통물량!C7 -> 17575 | E8: =국별소통물량!M7+국별소통물량!O7+국별소통물량!Q7 -> 2084 | F8: =국별소통물량!D7 -> 70529 | G8: =국별소통물량!N7+국별소통물량!P7+국별소통물량!R7 -> 12984 | H8: =J8+L8 -> 59773 | I8: =K8+M8 -> 14803 | J8: =SUM(국별소통물량!E49,국별소통물량!G49,국별소통물량!I49,국별소통물량!K49,국별소통물량!M49,국별소통물량!O49,국별소통물량!Q49) -> 24146 | K8: =SUM(국별소통물량!M49,국별소통물량!O49,국별소통물량!Q49) -> 3607 | L8: =SUM(국별소통물량!F49,국별소통물량!H49,국별소통물량!J49,국별소통물량!L49,국별소통물량!N49,국별소통물량!P49,국별소통물량!R49) -> 35627 | M8: =SUM(국별소통물량!N49,국별소통물량!P49,국별소통물량!R49) -> 11196 | N8: =(B8-H8)/H8*100 -> 47.397654 | O8: =(C8-I8)/I8% -> 1.7901777 | P8: =(D8-J8)/J8*100 -> -27.213617 | Q8: =(E8-K8)/K8% -> -42.223454 | R8: =(F8-L8)/L8*100 -> 97.965027 | S8: =(G8-M8)/M8% -> 15.969989
A9: 서광주 | B9: =D9+F9 -> 129641 | C9: =E9+G9 -> 17679 | D9: =국별소통물량!C8 -> 73744 | E9: =국별소통물량!M8+국별소통물량!O8+국별소통물량!Q8 -> 7456 | F9: =국별소통물량!D8 -> 55897 | G9: =국별소통물량!N8+국별소통물량!P8+국별소통물량!R8 -> 10223 | H9: =J9+L9 -> 50002 | I9: =K9+M9 -> 13343 | J9: =SUM(국별소통물량!E50,국별소통물량!G50,국별소통물량!I50,국별소통물량!K50,국별소통물량!M50,국별소통물량!O50,국별소통물량!Q50) -> 22394 | K9: =SUM(국별소통물량!M50,국별소통물량!O50,국별소통물량!Q50) -> 4340 | L9: =SUM(국별소통물량!F50,국별소통물량!H50,국별소통물량!J50,국별소통물량!L50,국별소통물량!N50,국별소통물량!P50,국별소통물량!R50) -> 27608 | M9: =SUM(국별소통물량!N50,국별소통물량!P50,국별소통물량!R50) -> 9003 | N9: =(B9-H9)/H9*100 -> 159.27163 | O9: =(C9-I9)/I9% -> 32.49644 | P9: =(D9-J9)/J9*100 -> 229.30249 | Q9: =(E9-K9)/K9% -> 71.797235 | R9: =(F9-L9)/L9*100 -> 102.46668 | S9: =(G9-M9)/M9% -> 13.551039
A10: 광주광산 | B10: =D10+F10 -> 69932 | C10: =E10+G10 -> 13008 | D10: =국별소통물량!C9 -> 14981 | E10: =국별소통물량!M9+국별소통물량!O9+국별소통물량!Q9 -> 1899 | F10: =국별소통물량!D9 -> 54951 | G10: =국별소통물량!N9+국별소통물량!P9+국별소통물량!R9 -> 11109 | H10: =J10+L10 -> 53134 | I10: =K10+M10 -> 12830 | J10: =SUM(국별소통물량!E51,국별소통물량!G51,국별소통물량!I51,국별소통물량!K51,국별소통물량!M51,국별소통물량!O51,국별소통물량!Q51) -> 22746 | K10: =SUM(국별소통물량!M51,국별소통물량!O51,국별소통물량!Q51) -> 3365 | L10: =SUM(국별소통물량!F51,국별소통물량!H51,국별소통물량!J51,국별소통물량!L51,국별소통물량!N51,국별소통물량!P51,국별소통물량!R51) -> 30388 | M10: =SUM(국별소통물량!N51,국별소통물량!P51,국별소통물량!R51) -> 9465 | N10: =(B10-H10)/H10*100 -> 31.614409 | O10: =(C10-I10)/I10% -> 1.3873733 | P10: =(D10-J10)/J10*100 -> -34.13787 | Q10: =(E10-K10)/K10% -> -43.566122 | R10: =(F10-L10)/L10*100 -> 80.831249 | S10: =(G10-M10)/M10% -> 17.369255
