Workbook

Sheet 9.7(월)
A1: 2015. 추석 명절 우편물 특별소통 일일보고(9.7.월)
A2: ▣ 총괄국별 등기소포 취급물량 현황 | L2: 2015. 추석 : 2015. 9. 7.(월) ~ 2015. 9. 26.(토) 2014. 추석 : 2014. 8.18(월) ~ 2014. 9.6.(토)
A3: 국 명 | B3: 2015. 추석(9.7.월) | H3: 2014. 추석(8.18.월) | N3: 증 감 률(누계)
B4: 합 계 | D4: 접 수 | F4: 배 달 | H4: 합 계 | J4: 접 수 | L4: 배 달 | N4: 합계 | P4: 접수 | R4: 배달
B5: 누계 | C5: 당일 | D5: 누계 | E5: 당일 | F5: 누계 | G5: 당일 | H5: 누계 | I5: 당일 | J5: 누계 | K5: 당일 | L5: 누계 | M5: 당일 | N5: 누계 | O5: 당일 | P5: 누계 | Q5: 당일 | R5: 누계 | S5: 당일
A6: 합 계 | B6: =D6+F6 -> 1292837 | C6: =SUM(C7:C33) -> 136068 | D6: =SUM(D7:D33) -> 764439 | E6: =SUM(E7:E33) -> 91813 | F6: =SUM(F7:F33) -> 528398 | G6: =SUM(G7:G33) -> 44255 | H6: =SUM(H7:H33) -> 94964 | I6: =SUM(I7:I33) -> 94964 | J6: =SUM(J7:J33) -> 65625 | ... M6: =SUM(M7:M33) -> 29339 | N6: =(B6-H6)/H6*100 -> 1261.397 | O6: =(C6-I6)/I6% -> 43.283771 | P6: =(D6-J6)/J6*100 -> 1064.8594 | Q6: =(E6-K6)/K6% -> 39.905524 | R6: =(F6-L6)/L6*100 -> 1701.0089 | S6: =(G6-M6)/M6% -> 50.840179
A7: 광 주 | B7: =D7+F7 -> 118306 | C7: =E7+G7 -> 12914 | D7: =국별소통물량!C6 -> 62362 | E7: =국별소통물량!E6 -> 8689 | F7: =국별소통물량!D6 -> 55944 | G7: =국별소통물량!F6 -> 4225 | H7: =J7+L7 -> 10926 | I7: =K7+M7 -> 10926 | J7: =K7 -> 7535 | K7: =국별소통물량!E48 -> 7535 | L7: =M7 -> 3391 | M7: 3391 | N7: =(B7-H7)/H7*100 -> 982.79334 | O7: =(C7-I7)/I7% -> 18.195131 | P7: =(D7-J7)/J7*100 -> 727.63106 | Q7: =(E7-K7)/K7% -> 15.315196 | R7: =(F7-L7)/L7*100 -> 1549.7788 | S7: =(G7-M7)/M7% -> 24.594515
A8: 북광주 | B8: =D8+F8 -> 88104 | C8: =E8+G8 -> 7932 | D8: =국별소통물량!C7 -> 17575 | E8: =국별소통물량!E7 -> 2055 | F8: =국별소통물량!D7 -> 70529 | G8: =국별소통물량!F7 -> 5877 | H8: =J8+L8 -> 10815 | I8: =K8+M8 -> 10815 | J8: =K8 -> 6702 | K8: =국별소통물량!E49 -> 6702 | L8: =M8 -> 4113 | M8: 4113 | N8: =(B8-H8)/H8*100 -> 714.64632 | O8: =(C8-I8)/I8% -> -26.65742 | P8: =(D8-J8)/J8*100 -> 162.23515 | Q8: =(E8-K8)/K8% -> -69.337511 | R8: =(F8-L8)/L8*100 -> 1614.7824 | S8: =(G8-M8)/M8% -> 42.888403
A9: 서광주 | B9: =D9+F9 -> 129641 | C9: =E9+G9 -> 15251 | D9: =국별소통물량!C8 -> 73744 | E9: =국별소통물량!E8 -> 10880 | F9: =국별소통물량!D8 -> 55897 | G9: =국별소통물량!F8 -> 4371 | H9: =J9+L9 -> 8772 | I9: =K9+M9 -> 8772 | J9: =K9 -> 5513 | K9: =국별소통물량!E50 -> 5513 | L9: =M9 -> 3259 | M9: 3259 | N9: =(B9-H9)/H9*100 -> 1377.8956 | O9: =(C9-I9)/I9% -> 73.860009 | P9: =(D9-J9)/J9*100 -> 1237.6383 | Q9: =(E9-K9)/K9% -> 97.351714 | R9: =(F9-L9)/L9*100 -> 1615.158 | S9: =(G9-M9)/M9% -> 34.120896
A10: 광주광산 | B10: =D10+F10 -> 69932 | C10: =E10+G10 -> 6407 | D10: =국별소통물량!C9 -> 14981 | E10: =국별소통물량!E9 -> 2250 | F10: =국별소통물량!D9 -> 54951 | G10: =국별소통물량!F9 -> 4157 | H10: =J10+L10 -> 9593 | I10: =K10+M10 -> 9593 | J10: =K10 -> 6076 | K10: =국별소통물량!E51 -> 6076 | L10: =M10 -> 3517 | M10: 3517 | N10: =(B10-H10)/H10*100 -> 628.98989 | O10: =(C10-I10)/I10% -> -33.211717 | P10: =(D10-J10)/J10*100 -> 146.56024 | Q10: =(E10-K10)/K10% -> -62.969059 | R10: =(F10-L10)/L10*100 -> 1462.4396 | S10: =(G10-M10)/M10% -> 18.197327
A11: 목 포 | B11: =D11+F11 -> 95525 | C11: =E11+G11 -> 10575 | D11: =국별소통물량!C10 -> 50278 | E11: =국별소통물량!E10 -> 7014 | F11: =국별소통물량!D10 -> 45247 | G11: =국별소통물량!F10 -> 3561 | H11: =J11+L11 -> 6654 | I11: =K11+M11 -> 6654 | J11: =K11 -> 3836 | K11: =국별소통물량!E52 -> 3836 | L11: =M11 -> 2818 | M11: 2818 | N11: =(B11-H11)/H11*100 -> 1335.6026 | O11: =(C11-I11)/I11% -> 58.926961 | P11: =(D11-J11)/J11*100 -> 1210.6882 | Q11: =(E11-K11)/K11% -> 82.846715 | R11: =(F11-L11)/L11*100 -> 1505.6423 | S11: =(G11-M11)/M11% -> 26.366217
A12: 여 수 | B12: =D12+F12 -> 114753 | C12: =E12+G12 -> 11362 | D12: =국별소통물량!C11 -> 72421 | E12: =국별소통물량!E11 -> 7661 | F12: =국별소통물량!D11 -> 42332 | G12: =국별소통물량!F11 -> 3701 | H12: =J12+L12 -> 6970 | I12: =K12+M12 -> 6970 | J12: =K12 -> 4718 | K12: =국별소통물량!E53 -> 4718 | L12: =M12 -> 2252 | M12: 2252 | N12: =(B12-H12)/H12*100 -> 1546.3845 | O12: =(C12-I12)/I12% -> 63.012912 | P12: =(D12-J12)/J12*100 -> 1434.9936 | Q12: =(E12-K12)/K12% -> 62.378126 | R12: =(F12-L12)/L12*100 -> 1779.7513 | S12: =(G12-M12)/M12% -> 64.342806
A13: 순 천 | B13: =D13+F13 -> 69848 | C13: =E13+G13 -> 7783 | D13: =국별소통물량!C12 -> 29552 | E13: =국별소통물량!E12 -> 4158 | F13: =국별소통물량!D12 -> 40296 | G13: =국별소통물량!F12 -> 3625 | H13: =J13+L13 -> 5272 | I13: =K13+M13 -> 5272 | J13: =K13 -> 3027 | K13: =국별소통물량!E54 -> 3027 | L13: =M13 -> 2245 | M13: 2245 | N13: =(B13-H13)/H13*100 -> 1224.8862 | O13: =(C13-I13)/I13% -> 47.628983 | P13: =(D13-J13)/J13*100 -> 876.28015 | Q13: =(E13-K13)/K13% -> 37.363726 | R13: =(F13-L13)/L13*100 -> 1694.922 | S13: =(G13-M13)/M13% -> 61.469933
A14: 강 진 | B14: =D14+F14 -> 15183 | C14: =E14+G14 -> 1404 | D14: =국별소통물량!C13 -> 9530 | E14: =국별소통물량!E13 -> 1088 | F14: =국별소통물량!D13 -> 5653 | G14: =국별소통물량!F13 -> 316 | H14: =J14+L14 -> 1225 | I14: =K14+M14 -> 1225 | J14: =K14 -> 992 | K14: =국별소통물량!E55 -> 992 | L14: =M14 -> 233 | M14: 233 | N14: =(B14-H14)/H14*100 -> 1139.4286 | O14: =(C14-I14)/I14% -> 14.612245 | P14: =(D14-J14)/J14*100 -> 860.68548 | Q14: =(E14-K14)/K14% -> 9.6774194 | R14: =(F14-L14)/L14*100 -> 2326.1803 | S14: =(G14-M14)/M14% -> 35.622318
A15: 고 흥 | B15: =D15+F15 -> 32141 | C15: =E15+G15 -> 4126 | D15: =국별소통물량!C14 -> 20227 | E15: =국별소통물량!E14 -> 2978 | F15: =국별소통물량!D14 -> 11914 | G15: =국별소통물량!F14 -> 1148 | H15: =J15+L15 -> 1277 | I15: =K15+M15 -> 1277 | J15: =K15 -> 882 | K15: =국별소통물량!E56 -> 882 | L15: =M15 -> 395 | M15: 395 | N15: =(B15-H15)/H15*100 -> 2416.9146 | O15: =(C15-I15)/I15% -> 223.10102 | P15: =(D15-J15)/J15*100 -> 2193.3107 | Q15: =(E15-K15)/K15% -> 237.64172 | R15: =(F15-L15)/L15*100 -> 2916.2025 | S15: =(G15-M15)/M15% -> 190.63291
A16: 곡 성 | B16: =D16+F16 -> 11246 | C16: =E16+G16 -> 1486 | D16: =국별소통물량!C15 -> 6067 | E16: =국별소통물량!E15 -> 748 | F16: =국별소통물량!D15 -> 5179 | G16: =국별소통물량!F15 -> 738 | H16: =J16+L16 -> 728 | I16: =K16+M16 -> 728 | J16: =K16 -> 524 | K16: =국별소통물량!E57 -> 524 | L16: =M16 -> 204 | M16: 204 | N16: =(B16-H16)/H16*100 -> 1444.7802 | O16: =(C16-I16)/I16% -> 104.12088 | P16: =(D16-J16)/J16*100 -> 1057.8244 | Q16: =(E16-K16)/K16% -> 42.748092 | R16: =(F16-L16)/L16*100 -> 2438.7255 | S16: =(G16-M16)/M16% -> 261.76471
A17: 광 양 | B17: =D17+F17 -> 34683 | C17: =E17+G17 -> 4118 | D17: =국별소통물량!C16 -> 12726 | E17: =국별소통물량!E16 -> 1923 | F17: =국별소통물량!D16 -> 21957 | G17: =국별소통물량!F16 -> 2195 | H17: =J17+L17 -> 2588 | I17: =K17+M17 -> 2588 | J17: =K17 -> 1306 | K17: =국별소통물량!E58 -> 1306 | L17: =M17 -> 1282 | M17: 1282 | N17: =(B17-H17)/H17*100 -> 1240.1468 | O17: =(C17-I17)/I17% -> 59.119011 | P17: =(D17-J17)/J17*100 -> 874.42573 | Q17: =(E17-K17)/K17% -> 47.243492 | R17: =(F17-L17)/L17*100 -> 1612.7145 | S17: =(G17-M17)/M17% -> 71.216849
A18: 구 례 | B18: =D18+F18 -> 12076 | C18: =E18+G18 -> 835 | D18: =국별소통물량!C17 -> 7545 | E18: =국별소통물량!E17 -> 540 | F18: =국별소통물량!D17 -> 4531 | G18: =국별소통물량!F17 -> 295 | H18: =J18+L18 -> 663 | I18: =K18+M18 -> 663 | J18: =K18 -> 503 | K18: =국별소통물량!E59 -> 503 | L18: =M18 -> 160 | M18: 160 | N18: =(B18-H18)/H18*100 -> 1721.4178 | O18: =(C18-I18)/I18% -> 25.942685 | P18: =(D18-J18)/J18*100 -> 1400 | Q18: =(E18-K18)/K18% -> 7.3558648 | R18: =(F18-L18)/L18*100 -> 2731.875 | S18: =(G18-M18)/M18% -> 84.375
... A33: 영암집 | B33: =D33+F33 -> 7089 | C33: =E33+G33 -> 719 | D33: =국별소통물량!C32 -> 746 | E33: =국별소통물량!E32 -> 116 | F33: =국별소통물량!D32 -> 6343 | G33: =국별소통물량!F32 -> 603 | H33: =J33+L33 -> 410 | I33: =K33+M33 -> 410 | J33: =K33 -> 46 | K33: =국별소통물량!E74 -> 46 | L33: =M33 -> 364 | M33: 364 | N33: =(B33-H33)/H33*100 -> 1629.0244 | O33: =(C33-I33)/I33% -> 75.365854 | P33: =(D33-J33)/J33*100 -> 1521.7391 | Q33: =(E33-K33)/K33% -> 152.17391 | R33: =(F33-L33)/L33*100 -> 1642.5824 | S33: =(G33-M33)/M33% -> 65.659341
A35: 집중국별 | B35: =SUM(B36:B38) -> 1292837 | C35: =SUM(C36:C38) -> 136068 | D35: =SUM(D36:D38) -> 764439 | E35: =SUM(E36:E38) -> 91813 | F35: =SUM(F36:F38) -> 528398 | G35: =SUM(G36:G38) -> 44255 | H35: =SUM(H36:H38) -> 94964 | I35: =SUM(I36:I38) -> 94964 | ... M35: =SUM(M36:M38) -> 29339 | N35: =(B35-H35)/H35*100 -> 1261.397 | O35: =(C35-I35)/I35*100 -> 43.283771 | P35: =(D35-J35)/J35*100 -> 1064.8594 | Q35: =(E35-K35)/K35*100 -> 39.905524 | R35: =(F35-L35)/L35*100 -> 1701.0089 | S35: =(G35-M35)/M35*100 -> 50.840179
A36: 광주집 | B36: =B7+B8+B9+B10+B16+B18+B19+B20+B23+B26+B29+B31+B32 -> 687603 | C36: =C7+C8+C9+C10+C16+C18+C19+C20+C23+C26+C29+C31+C32 -> 71435 | D36: =D7+D8+D9+D10+D16+D18+D19+D20+D23+D26+D29+D31+D32 -> 390863 | E36: =E7+E8+E9+E10+E16+E18+E19+E20+E23+E26+E29+E31+E32 -> 47688 | F36: =F7+F8+F9+F10+F16+F18+F19+F20+F23+F26+F29+F31+F32 -> 296740 | G36: =G7+G8+G9+G10+G16+G18+G19+G20+G23+G26+G29+G31+G32 -> 23747 | H36: =H7+H8+H9+H10+H16+H18+H19+H20+H23+H26+H29+H31+H32 -> 54164 | I36: =I7+I8+I9+I10+I16+I18+I19+I20+I23+I26+I29+I31+I32 -> 54164 | ... M36: =M7+M8+M9+M10+M16+M18+M19+M20+M23+M26+M29+M31+M32 -> 17046 | N36: =(B36-H36)/H36*100 -> 1169.4834 | O36: =(C36-I36)/I36*100 -> 31.886493 | P36: =(D36-J36)/J36*100 -> 953.02818 | Q36: =(E36-K36)/K36*100 -> 28.47675 | R36: =(F36-L36)/L36*100 -> 1640.819 | S36: =(G36-M36)/M36*100 -> 39.311275
A37: 순천집 | B37: =B12+B13+B15+B17+B22 -> 264889 | C37: =C12+C13+C15+C17+C22 -> 28572 | D37: =D12+D13+D15+D17+D22 -> 141960 | E37: =E12+E13+E15+E17+E22 -> 17519 | F37: =F12+F13+F15+F17+F22 -> 122929 | G37: =G12+G13+G15+G17+G22 -> 11053 | H37: =H12+H13+H15+H17+H22 -> 17245 | I37: =I12+I13+I15+I17+I22 -> 17245 | ... M37: =M12+M13+M15+M17+M22 -> 6417 | N37: =(B37-H37)/H37*100 -> 1436.0336 | O37: =(C37-I37)/I37*100 -> 65.682807 | P37: =(D37-J37)/J37*100 -> 1211.0454 | Q37: =(E37-K37)/K37*100 -> 61.793498 | R37: =(F37-L37)/L37*100 -> 1815.6771 | S37: =(G37-M37)/M37*100 -> 72.245598
A38: 영암집 | B38: =B11+B14+B21+B25+B27+B24+B28+B30+B33 -> 340345 | C38: =C11+C14+C21+C25+C27+C24+C28+C30+C33 -> 36061 | D38: =D11+D14+D21+D25+D27+D24+D28+D30+D33 -> 231616 | E38: =E11+E14+E21+E25+E27+E24+E28+E30+E33 -> 26606 | F38: =F11+F14+F21+F25+F27+F24+F28+F30+F33 -> 108729 | G38: =G11+G14+G21+G25+G27+G24+G28+G30+G33 -> 9455 | H38: =H11+H14+H21+H25+H27+H24+H28+H30+H33 -> 23555 | I38: =I11+I14+I21+I25+I27+I24+I28+I30+I33 -> 23555 | ... M38: =M11+M14+M21+M25+M27+M24+M28+M30+M33 -> 5876 | N38: =(B38-H38)/H38*100 -> 1344.8949 | O38: =(C38-I38)/I38*100 -> 53.092762 | P38: =(D38-J38)/J38*100 -> 1210.1194 | Q38: =(E38-K38)/K38*100 -> 50.494937 | R38: =(F38-L38)/L38*100 -> 1750.3914 | S38: =(G38-M38)/M38*100 -> 60.908781
A40: ▣ 집중국별 소포처리 현황
A41: 국 명 | B41: 당일접수 물량 | C41: 합 계 | G41: 발 송(수집) | K41: 도 착(배분)
C42: 15년 추석 | E42: 14년 추석 (누계) | F42: 증감률 (누계) | G42: 15년 추석 | I42: 14년 추석 (누계) | J42: 증감률 (누계) | K42: 15년 추석 | M42: 14년 추석 (누계) | N42: 증감률 (누계)
C43: 누계 | D43: 당일 | G43: 누계 | H43: 당일 | K43: 누계 | L43: 당일
A44: 합 계 | B44: =B45+B46+B47 -> 136068 | C44: =SUM(C45:C47) -> 1155442 | D44: =SUM(D45:D47) -> 507343 | E44: =SUM(E45:E47) -> 951274 | F44: =F45+F46+F47 -> 71.898825 | G44: =SUM(G45:G47) -> 670850 | H44: =SUM(H45:H47) -> 79502 | I44: =SUM(I45:I47) -> 547324 | J44: =(G44-I44)/I44% -> 22.569082 | K44: =SUM(K45:K47) -> 484592 | L44: =SUM(L45:L47) -> 78069 | M44: =M45+M46+M47 -> 403950 | N44: =(K44-M44)/M44% -> 19.963362
A45: 광주집 | B45: =C36 -> 71435 | C45: =G45+K45 -> 612837 | D45: =H45+L45 -> 86102 | E45: =I45+M45 -> 530033 | F45: =(C45-E45)/E45% -> 15.622424 | G45: ='집중국처리현황(구분물량)'!B6 -> 338325 | H45: ='집중국처리현황(구분물량)'!C6 -> 41566 | I45: ='집중국처리현황(구분물량)'!B23 -> 291685 | J45: =(G45-I45)/I45% -> 15.989852 | K45: ='집중국처리현황(구분물량)'!B30 -> 274512 | L45: ='집중국처리현황(구분물량)'!D30 -> 44536 | M45: ='집중국처리현황(구분물량)'!B36 -> 238348 | N45: =(K45-M45)/M45% -> 15.172773
A46: 순천집 | B46: =C37 -> 28572 | C46: =G46+K46 -> 228027 | D46: =I46+M46 -> 186509 | E46: =I46+M46 -> 186509 | F46: =(C46-E46)/E46% -> 22.260588 | G46: ='집중국처리현황(구분물량)'!B7 -> 117866 | H46: ='집중국처리현황(구분물량)'!C7 -> 14072 | I46: ='집중국처리현황(구분물량)'!B24 -> 96645 | J46: =(G46-I46)/I46% -> 21.95768 | K46: ='집중국처리현황(구분물량)'!B31 -> 110161 | L46: ='집중국처리현황(구분물량)'!D31 -> 17479 | M46: ='집중국처리현황(구분물량)'!B37 -> 89864 | N46: =(K46-M46)/M46% -> 22.586353
A47: 영암집 | B47: =C38 -> 36061 | C47: =G47+K47 -> 314578 | D47: =I47+M47 -> 234732 | E47: =I47+M47 -> 234732 | F47: =(C47-E47)/E47% -> 34.015814 | G47: ='집중국처리현황(구분물량)'!B8 -> 214659 | H47: ='집중국처리현황(구분물량)'!C8 -> 23864 | I47: ='집중국처리현황(구분물량)'!B25 -> 158994 | J47: =(G47-I47)/I47% -> 35.010755 | K47: ='집중국처리현황(구분물량)'!B32 -> 99919 | L47: ='집중국처리현황(구분물량)'!D32 -> 16054 | M47: ='집중국처리현황(구분물량)'!B38 -> 75738 | N47: =(K47-M47)/M47% -> 31.92717
A49: o 발송(수집) 구분 세부내역
A50: 구분 | B50: 집중국 | G50: 임시집중국
B51: 구분 | E51: 주간 미구분 (센터발송) | F51: 합계 | G51: 구분 | K51: 주간 미구분 (센터발송) | L51: 합계
B52: 소계 | C52: 기계 | D52: 수작업 | G52: 소계 | H52: 센터발송 | I52: 타 집중국 발송 | J52: 광주집 발송
A53: 합 계 | B53: =C53+D53 -> 98402 | C53: =SUM(C54:C56) -> 73966 | D53: =SUM(D54:D56) -> 24436 | E53: =SUM(E54:E56) -> 0 | F53: =B53+E53 -> 98402 | G53: =SUM(H53:J53) -> 0 | H53: =SUM(H54:H56) -> 0 | I53: =SUM(I54:I56) -> 0 | J53: =SUM(J54:J56) -> 0 | K53: =SUM(K54:K56) -> 0 | L53: =G53+K53 -> 0
A54: 광주집 | B54: =C54+D54 -> 41566 | C54: ='집중국처리현황(구분물량)'!C12 -> 36030 | D54: ='집중국처리현황(구분물량)'!C13 -> 5536 | F54: =B54+E54 -> 41566 | G54: =SUM(H54:J54) -> 0 | L54: =G54+K54 -> 0
A55: 순천집 | B55: =C55+D55 -> 23522 | C55: ='집중국처리현황(구분물량)'!C15 -> 14072 | D55: ='집중국처리현황(구분물량)'!D14 -> 9450 | F55: =B55+E55 -> 23522 | G55: =SUM(H55:J55) -> 0 | L55: =G55+K55 -> 0
A56: 영암집 | B56: =C56+D56 -> 33314 | C56: ='집중국처리현황(구분물량)'!C18 -> 23864 | D56: ='집중국처리현황(구분물량)'!D15 -> 9450 | F56: =B56+E56 -> 33314 | G56: =SUM(H56:J56) -> 0 | L56: =G56+K56 -> 0
A58: ▣ 집중국별 발송구분 작업인력 현황 | B58: ▣ 집중국별 소포처리 현황 | C58: ▣ 집중국별 소포처리 현황 | D58: ▣ 집중국별 소포처리 현황
A59: 구분 | B59: 주간작업(18시 이전) | F59: 야간작업(18시 이후)
B60: 소계 | C60: 정규직 | D60: 기존인원 (비정규직) | E60: 단기파트 (비정규직) | F60: 소계 | G60: 정규직 | H60: 기존인원 (비정규직) | I60: 단기파트 (비정규직) | J60: 우정청 지원
A61: 합계 | B61: =SUM(B62:B64) -> 127 | C61: ='집중국처리현황(인력)'!C7 -> 79 | D61: ='집중국처리현황(인력)'!D7 -> 5 | E61: ='집중국처리현황(인력)'!E7 -> 43 | F61: ='집중국처리현황(인력)'!F7 -> 329 | G61: ='집중국처리현황(인력)'!G7 -> 103 | H61: ='집중국처리현황(인력)'!H7 -> 79 | I61: ='집중국처리현황(인력)'!I7 -> 147 | J61: ='집중국처리현황(인력)'!J7 -> 0
A62: 광주집 | B62: =SUM(C62:E62) -> 44 | C62: ='집중국처리현황(인력)'!C8 -> 30 | D62: ='집중국처리현황(인력)'!D8 -> 0 | E62: ='집중국처리현황(인력)'!E8 -> 14 | F62: ='집중국처리현황(인력)'!F8 -> 145 | G62: ='집중국처리현황(인력)'!G8 -> 35 | H62: ='집중국처리현황(인력)'!H8 -> 45 | I62: ='집중국처리현황(인력)'!I8 -> 65 | J62: ='집중국처리현황(인력)'!J8 -> 0
A63: 순천집 | B63: =SUM(C63:E63) -> 32 | C63: ='집중국처리현황(인력)'!C9 -> 26 | D63: ='집중국처리현황(인력)'!D9 -> 0 | E63: ='집중국처리현황(인력)'!E9 -> 6 | F63: ='집중국처리현황(인력)'!F9 -> 108 | G63: ='집중국처리현황(인력)'!G9 -> 38 | H63: ='집중국처리현황(인력)'!H9 -> 18 | I63: ='집중국처리현황(인력)'!I9 -> 52 | J63: ='집중국처리현황(인력)'!J9 -> 0
A64: 영암집 | B64: =SUM(C64:E64) -> 51 | C64: ='집중국처리현황(인력)'!C10 -> 23 | D64: ='집중국처리현황(인력)'!D10 -> 5 | E64: ='집중국처리현황(인력)'!E10 -> 23 | F64: ='집중국처리현황(인력)'!F10 -> 76 | G64: ='집중국처리현황(인력)'!G10 -> 30 | H64: ='집중국처리현황(인력)'!H10 -> 16 | I64: ='집중국처리현황(인력)'!I10 -> 30 | J64: ='집중국처리현황(인력)'!J10 -> 0

Sheet 9.8(화)
A1: 2015. 추석 명절 우편물 특별소통 일일보고(9.8.화)
A2: ▣ 총괄국별 등기소포 취급물량 현황 | L2: 2015. 추석 : 2015. 9. 7.(월) ~ 2015. 9. 26.(토) 2014. 추석 : 2014. 8.18(월) ~ 2014. 9.6.(토)
A3: 국 명 | B3: 2015. 추석(9.8.화) | H3: 2014. 추석(8.19.화) | N3: 증 감 률(누계)
B4: 합 계 | D4: 접 수 | F4: 배 달 | H4: 합 계 | J4: 접 수 | L4: 배 달 | N4: 합계 | P4: 접수 | R4: 배달
B5: 누계 | C5: 당일 | D5: 누계 | E5: 당일 | F5: 누계 | G5: 당일 | H5: 누계 | I5: 당일 | J5: 누계 | K5: 당일 | L5: 누계 | M5: 당일 | N5: 누계 | O5: 당일 | P5: 누계 | Q5: 당일 | R5: 누계 | S5: 당일
A6: 합 계 | B6: =D6+F6 -> 1292837 | C6: =SUM(C7:C33) -> 151122 | D6: =SUM(D7:D33) -> 764439 | E6: =SUM(E7:E33) -> 64973 | F6: =SUM(F7:F33) -> 528398 | G6: =SUM(G7:G33) -> 86149 | H6: =SUM(H7:H33) -> 201716 | I6: =SUM(I7:I33) -> 106752 | J6: =SUM(J7:J33) -> 114361 | ... M6: =SUM(M7:M33) -> 58016 | N6: =(B6-H6)/H6*100 -> 540.91941 | O6: =(C6-I6)/I6% -> 41.563624 | P6: =(D6-J6)/J6*100 -> 568.44379 | Q6: =(E6-K6)/K6% -> 33.316234 | R6: =(F6-L6)/L6*100 -> 504.88581 | S6: =(G6-M6)/M6% -> 48.491795
A7: 광 주 | B7: =D7+F7 -> 118306 | C7: =E7+G7 -> 15028 | D7: =국별소통물량!C6 -> 62362 | E7: =국별소통물량!G6 -> 6832 | F7: =국별소통물량!D6 -> 55944 | G7: =국별소통물량!H6 -> 8196 | H7: =J7+L7 -> 25224 | I7: =K7+M7 -> 14298 | J7: ='9.7(월)'!K7+K7 -> 15891 | K7: =국별소통물량!G48 -> 8356 | L7: ='9.7(월)'!M7+M7 -> 9333 | M7: =국별소통물량!H48 -> 5942 | N7: =(B7-H7)/H7*100 -> 369.02157 | O7: =(C7-I7)/I7% -> 5.1056092 | P7: =(D7-J7)/J7*100 -> 292.43597 | Q7: =(E7-K7)/K7% -> -18.238392 | R7: =(F7-L7)/L7*100 -> 499.42141 | S7: =(G7-M7)/M7% -> 37.933356
A8: 북광주 | B8: =D8+F8 -> 88104 | C8: =E8+G8 -> 13271 | D8: =국별소통물량!C7 -> 17575 | E8: =국별소통물량!G7 -> 1860 | F8: =국별소통물량!D7 -> 70529 | G8: =국별소통물량!H7 -> 11411 | H8: =J8+L8 -> 24125 | I8: =K8+M8 -> 13310 | J8: ='9.7(월)'!K8+K8 -> 11871 | K8: =국별소통물량!G49 -> 5169 | L8: ='9.7(월)'!M8+M8 -> 12254 | M8: =국별소통물량!H49 -> 8141 | N8: =(B8-H8)/H8*100 -> 265.19793 | O8: =(C8-I8)/I8% -> -0.29301277 | P8: =(D8-J8)/J8*100 -> 48.049869 | Q8: =(E8-K8)/K8% -> -64.016251 | R8: =(F8-L8)/L8*100 -> 475.559 | S8: =(G8-M8)/M8% -> 40.167056
A9: 서광주 | B9: =D9+F9 -> 129641 | C9: =E9+G9 -> 17312 | D9: =국별소통물량!C8 -> 73744 | E9: =국별소통물량!G8 -> 8177 | F9: =국별소통물량!D8 -> 55897 | G9: =국별소통물량!H8 -> 9135 | H9: =J9+L9 -> 19287 | I9: =K9+M9 -> 10515 | J9: ='9.7(월)'!K9+K9 -> 10112 | K9: =국별소통물량!G50 -> 4599 | L9: ='9.7(월)'!M9+M9 -> 9175 | M9: =국별소통물량!H50 -> 5916 | N9: =(B9-H9)/H9*100 -> 572.16778 | O9: =(C9-I9)/I9% -> 64.640989 | P9: =(D9-J9)/J9*100 -> 629.27215 | Q9: =(E9-K9)/K9% -> 77.799522 | R9: =(F9-L9)/L9*100 -> 509.23161 | S9: =(G9-M9)/M9% -> 54.411765
A10: 광주광산 | B10: =D10+F10 -> 69932 | C10: =E10+G10 -> 10046 | D10: =국별소통물량!C9 -> 14981 | E10: =국별소통물량!G9 -> 1454 | F10: =국별소통물량!D9 -> 54951 | G10: =국별소통물량!H9 -> 8592 | H10: =J10+L10 -> 21621 | I10: =K10+M10 -> 12028 | J10: ='9.7(월)'!K10+K10 -> 11078 | K10: =국별소통물량!G51 -> 5002 | L10: ='9.7(월)'!M10+M10 -> 10543 | M10: =국별소통물량!H51 -> 7026 | N10: =(B10-H10)/H10*100 -> 223.4448 | O10: =(C10-I10)/I10% -> -16.478217 | P10: =(D10-J10)/J10*100 -> 35.231991 | Q10: =(E10-K10)/K10% -> -70.931627 | R10: =(F10-L10)/L10*100 -> 421.20838 | S10: =(G10-M10)/M10% -> 22.288642
A11: 목 포 | B11: =D11+F11 -> 95525 | C11: =E11+G11 -> 10806 | D11: =국별소통물량!C10 -> 50278 | E11: =국별소통물량!G10 -> 4437 | F11: =국별소통물량!D10 -> 45247 | G11: =국별소통물량!H10 -> 6369 | H11: =J11+L11 -> 14721 | I11: =K11+M11 -> 8067 | J11: ='9.7(월)'!K11+K11 -> 6459 | K11: =국별소통물량!G52 -> 2623 | L11: ='9.7(월)'!M11+M11 -> 8262 | M11: =국별소통물량!H52 -> 5444 | N11: =(B11-H11)/H11*100 -> 548.90293 | O11: =(C11-I11)/I11% -> 33.953142 | P11: =(D11-J11)/J11*100 -> 678.41771 | Q11: =(E11-K11)/K11% -> 69.157453 | R11: =(F11-L11)/L11*100 -> 447.6519 | S11: =(G11-M11)/M11% -> 16.991183
A12: 여 수 | B12: =D12+F12 -> 114753 | C12: =E12+G12 -> 11624 | D12: =국별소통물량!C11 -> 72421 | E12: =국별소통물량!G11 -> 5667 | F12: =국별소통물량!D11 -> 42332 | G12: =국별소통물량!H11 -> 5957 | H12: =J12+L12 -> 15199 | I12: =K12+M12 -> 8229 | J12: ='9.7(월)'!K12+K12 -> 8232 | K12: =국별소통물량!G53 -> 3514 | L12: ='9.7(월)'!M12+M12 -> 6967 | M12: =국별소통물량!H53 -> 4715 | N12: =(B12-H12)/H12*100 -> 655.00362 | O12: =(C12-I12)/I12% -> 41.256532 | P12: =(D12-J12)/J12*100 -> 779.74976 | Q12: =(E12-K12)/K12% -> 61.269209 | R12: =(F12-L12)/L12*100 -> 507.60729 | S12: =(G12-M12)/M12% -> 26.341463
A13: 순 천 | B13: =D13+F13 -> 69848 | C13: =E13+G13 -> 9250 | D13: =국별소통물량!C12 -> 29552 | E13: =국별소통물량!G12 -> 2616 | F13: =국별소통물량!D12 -> 40296 | G13: =국별소통물량!H12 -> 6634 | H13: =J13+L13 -> 12238 | I13: =K13+M13 -> 6966 | J13: ='9.7(월)'!K13+K13 -> 5401 | K13: =국별소통물량!G54 -> 2374 | L13: ='9.7(월)'!M13+M13 -> 6837 | M13: =국별소통물량!H54 -> 4592 | N13: =(B13-H13)/H13*100 -> 470.74685 | O13: =(C13-I13)/I13% -> 32.787827 | P13: =(D13-J13)/J13*100 -> 447.15793 | Q13: =(E13-K13)/K13% -> 10.193766 | R13: =(F13-L13)/L13*100 -> 489.38131 | S13: =(G13-M13)/M13% -> 44.468641
A14: 강 진 | B14: =D14+F14 -> 15183 | C14: =E14+G14 -> 1790 | D14: =국별소통물량!C13 -> 9530 | E14: =국별소통물량!G13 -> 636 | F14: =국별소통물량!D13 -> 5653 | G14: =국별소통물량!H13 -> 1154 | H14: =J14+L14 -> 2342 | I14: =K14+M14 -> 1117 | J14: ='9.7(월)'!K14+K14 -> 1595 | K14: =국별소통물량!G55 -> 603 | L14: ='9.7(월)'!M14+M14 -> 747 | M14: =국별소통물량!H55 -> 514 | N14: =(B14-H14)/H14*100 -> 548.29206 | O14: =(C14-I14)/I14% -> 60.250671 | P14: =(D14-J14)/J14*100 -> 497.49216 | Q14: =(E14-K14)/K14% -> 5.4726368 | R14: =(F14-L14)/L14*100 -> 656.76037 | S14: =(G14-M14)/M14% -> 124.51362
A15: 고 흥 | B15: =D15+F15 -> 32141 | C15: =E15+G15 -> 3256 | D15: =국별소통물량!C14 -> 20227 | E15: =국별소통물량!G14 -> 1075 | F15: =국별소통물량!D14 -> 11914 | G15: =국별소통물량!H14 -> 2181 | H15: =J15+L15 -> 3094 | I15: =K15+M15 -> 1817 | J15: ='9.7(월)'!K15+K15 -> 1698 | K15: =국별소통물량!G56 -> 816 | L15: ='9.7(월)'!M15+M15 -> 1396 | M15: =국별소통물량!H56 -> 1001 | N15: =(B15-H15)/H15*100 -> 938.81707 | O15: =(C15-I15)/I15% -> 79.196478 | P15: =(D15-J15)/J15*100 -> 1091.225 | Q15: =(E15-K15)/K15% -> 31.740196 | R15: =(F15-L15)/L15*100 -> 753.4384 | S15: =(G15-M15)/M15% -> 117.88212
A16: 곡 성 | B16: =D16+F16 -> 11246 | C16: =E16+G16 -> 1509 | D16: =국별소통물량!C15 -> 6067 | E16: =국별소통물량!G15 -> 462 | F16: =국별소통물량!D15 -> 5179 | G16: =국별소통물량!H15 -> 1047 | H16: =J16+L16 -> 1578 | I16: =K16+M16 -> 850 | J16: ='9.7(월)'!K16+K16 -> 1011 | K16: =국별소통물량!G57 -> 487 | L16: ='9.7(월)'!M16+M16 -> 567 | M16: =국별소통물량!H57 -> 363 | N16: =(B16-H16)/H16*100 -> 612.67427 | O16: =(C16-I16)/I16% -> 77.529412 | P16: =(D16-J16)/J16*100 -> 500.09891 | Q16: =(E16-K16)/K16% -> -5.1334702 | R16: =(F16-L16)/L16*100 -> 813.40388 | S16: =(G16-M16)/M16% -> 188.42975
A17: 광 양 | B17: =D17+F17 -> 34683 | C17: =E17+G17 -> 5484 | D17: =국별소통물량!C16 -> 12726 | E17: =국별소통물량!G16 -> 1424 | F17: =국별소통물량!D16 -> 21957 | G17: =국별소통물량!H16 -> 4060 | H17: =J17+L17 -> 6560 | I17: =K17+M17 -> 3972 | J17: ='9.7(월)'!K17+K17 -> 2562 | K17: =국별소통물량!G58 -> 1256 | L17: ='9.7(월)'!M17+M17 -> 3998 | M17: =국별소통물량!H58 -> 2716 | N17: =(B17-H17)/H17*100 -> 428.70427 | O17: =(C17-I17)/I17% -> 38.066465 | P17: =(D17-J17)/J17*100 -> 396.72131 | Q17: =(E17-K17)/K17% -> 13.375796 | R17: =(F17-L17)/L17*100 -> 449.1996 | S17: =(G17-M17)/M17% -> 49.484536
A18: 구 례 | B18: =D18+F18 -> 12076 | C18: =E18+G18 -> 686 | D18: =국별소통물량!C17 -> 7545 | E18: =국별소통물량!G17 -> 226 | F18: =국별소통물량!D17 -> 4531 | G18: =국별소통물량!H17 -> 460 | H18: =J18+L18 -> 1272 | I18: =K18+M18 -> 609 | J18: ='9.7(월)'!K18+K18 -> 760 | K18: =국별소통물량!G59 -> 257 | L18: ='9.7(월)'!M18+M18 -> 512 | M18: =국별소통물량!H59 -> 352 | N18: =(B18-H18)/H18*100 -> 849.37107 | O18: =(C18-I18)/I18% -> 12.643678 | P18: =(D18-J18)/J18*100 -> 892.76316 | Q18: =(E18-K18)/K18% -> -12.062257 | R18: =(F18-L18)/L18*100 -> 784.96094 | S18: =(G18-M18)/M18% -> 30.681818
... A33: 영암집 | B33: =D33+F33 -> 7089 | C33: =E33+G33 -> 1007 | D33: =국별소통물량!C32 -> 746 | E33: =국별소통물량!G32 -> 61 | F33: =국별소통물량!D32 -> 6343 | G33: =국별소통물량!H32 -> 946 | H33: =J33+L33 -> 1181 | I33: =K33+M33 -> 771 | J33: ='9.7(월)'!K33+K33 -> 95 | K33: =국별소통물량!G74 -> 49 | L33: ='9.7(월)'!M33+M33 -> 1086 | M33: =국별소통물량!H74 -> 722 | N33: =(B33-H33)/H33*100 -> 500.25402 | O33: =(C33-I33)/I33% -> 30.609598 | P33: =(D33-J33)/J33*100 -> 685.26316 | Q33: =(E33-K33)/K33% -> 24.489796 | R33: =(F33-L33)/L33*100 -> 484.06998 | S33: =(G33-M33)/M33% -> 31.024931
A35: 집중국별 | B35: =SUM(B36:B38) -> 1292837 | C35: =SUM(C36:C38) -> 151122 | D35: =SUM(D36:D38) -> 764439 | E35: =SUM(E36:E38) -> 64973 | F35: =SUM(F36:F38) -> 528398 | G35: =SUM(G36:G38) -> 86149 | H35: =SUM(H36:H38) -> 201716 | I35: =SUM(I36:I38) -> 106752 | ... M35: =SUM(M36:M38) -> 58016 | N35: =(B35-H35)/H35*100 -> 540.91941 | O35: =(C35-I35)/I35*100 -> 41.563624 | P35: =(D35-J35)/J35*100 -> 568.44379 | Q35: =(E35-K35)/K35*100 -> 33.316234 | R35: =(F35-L35)/L35*100 -> 504.88581 | S35: =(G35-M35)/M35*100 -> 48.491795
A36: 광주집 | B36: =B7+B8+B9+B10+B16+B18+B19+B20+B23+B26+B29+B31+B32 -> 687603 | C36: =C7+C8+C9+C10+C16+C18+C19+C20+C23+C26+C29+C31+C32 -> 83517 | D36: =D7+D8+D9+D10+D16+D18+D19+D20+D23+D26+D29+D31+D32 -> 390863 | E36: =E7+E8+E9+E10+E16+E18+E19+E20+E23+E26+E29+E31+E32 -> 34515 | F36: =F7+F8+F9+F10+F16+F18+F19+F20+F23+F26+F29+F31+F32 -> 296740 | G36: =G7+G8+G9+G10+G16+G18+G19+G20+G23+G26+G29+G31+G32 -> 49002 | H36: =H7+H8+H9+H10+H16+H18+H19+H20+H23+H26+H29+H31+H32 -> 116805 | I36: =I7+I8+I9+I10+I16+I18+I19+I20+I23+I26+I29+I31+I32 -> 62641 | ... M36: =M7+M8+M9+M10+M16+M18+M19+M20+M23+M26+M29+M31+M32 -> 32580 | N36: =(B36-H36)/H36*100 -> 488.676 | O36: =(C36-I36)/I36*100 -> 33.326416 | P36: =(D36-J36)/J36*100 -> 481.82319 | Q36: =(E36-K36)/K36*100 -> 14.81654 | R36: =(F36-L36)/L36*100 -> 497.95269 | S36: =(G36-M36)/M36*100 -> 50.405157
A37: 순천집 | B37: =B12+B13+B15+B17+B22 -> 264889 | C37: =C12+C13+C15+C17+C22 -> 31688 | D37: =D12+D13+D15+D17+D22 -> 141960 | E37: =E12+E13+E15+E17+E22 -> 11585 | F37: =F12+F13+F15+F17+F22 -> 122929 | G37: =G12+G13+G15+G17+G22 -> 20103 | H37: =H12+H13+H15+H17+H22 -> 39312 | I37: =I12+I13+I15+I17+I22 -> 22067 | ... M37: =M12+M13+M15+M17+M22 -> 13624 | N37: =(B37-H37)/H37*100 -> 573.81207 | O37: =(C37-I37)/I37*100 -> 43.599039 | P37: =(D37-J37)/J37*100 -> 636.65093 | Q37: =(E37-K37)/K37*100 -> 37.21426 | R37: =(F37-L37)/L37*100 -> 513.38756 | S37: =(G37-M37)/M37*100 -> 47.555784
A38: 영암집 | B38: =B11+B14+B21+B25+B27+B24+B28+B30+B33 -> 340345 | C38: =C11+C14+C21+C25+C27+C24+C28+C30+C33 -> 35917 | D38: =D11+D14+D21+D25+D27+D24+D28+D30+D33 -> 231616 | E38: =E11+E14+E21+E25+E27+E24+E28+E30+E33 -> 18873 | F38: =F11+F14+F21+F25+F27+F24+F28+F30+F33 -> 108729 | G38: =G11+G14+G21+G25+G27+G24+G28+G30+G33 -> 17044 | H38: =H11+H14+H21+H25+H27+H24+H28+H30+H33 -> 45599 | I38: =I11+I14+I21+I25+I27+I24+I28+I30+I33 -> 22044 | ... M38: =M11+M14+M21+M25+M27+M24+M28+M30+M33 -> 11812 | N38: =(B38-H38)/H38*100 -> 646.38698 | O38: =(C38-I38)/I38*100 -> 62.933224 | P38: =(D38-J38)/J38*100 -> 729.8377 | Q38: =(E38-K38)/K38*100 -> 84.450743 | R38: =(F38-L38)/L38*100 -> 514.70488 | S38: =(G38-M38)/M38*100 -> 44.293938
A40: ▣ 집중국별 소포처리 현황
A41: 국 명 | B41: 당일접수 물량 | C41: 합 계 | G41: 발 송(수집) | K41: 도 착(배분)
C42: 15년 추석 | E42: 14년 추석 (누계) | F42: 증감률 (누계) | G42: 15년 추석 | I42: 14년 추석 (누계) | J42: 증감률 (누계) | K42: 15년 추석 | M42: 14년 추석 (누계) | N42: 증감률 (누계)
C43: 누계 | D43: 당일 | G43: 누계 | H43: 당일 | K43: 누계 | L43: 당일
A44: 합 계 | B44: =B45+B46+B47 -> 151122 | C44: =SUM(C45:C47) -> 788785 | D44: =SUM(D45:D47) -> 362734 | E44: =SUM(E45:E47) -> 625271 | F44: =F45+F46+F47 -> 83.97188 | G44: =SUM(G45:G47) -> 670850 | H44: =SUM(H45:H47) -> 56825 | I44: =SUM(I45:I47) -> 547324 | J44: =(G44-I44)/I44% -> 22.569082 | K44: =SUM(K45:K47) -> 117935 | L44: =SUM(L45:L47) -> 78069 | M44: =M45+M46+M47 -> 77947 | N44: =(K44-M44)/M44% -> 51.301525
A45: 광주집 | B45: =C36 -> 83517 | C45: =G45+K45 -> 405879 | D45: =H45+L45 -> 74335 | E45: =I45+M45 -> 336872 | F45: =(C45-E45)/E45% -> 20.484635 | G45: ='집중국처리현황(구분물량)'!B6 -> 338325 | H45: ='집중국처리현황(구분물량)'!D6 -> 29799 | I45: ='집중국처리현황(구분물량)'!B23 -> 291685 | J45: =(G45-I45)/I45% -> 15.989852 | K45: ='집중국처리현황(구분물량)'!C30+'집중국처리현황(구분물량)'!D30 -> 67554 | L45: ='집중국처리현황(구분물량)'!D30 -> 44536 | M45: ='집중국처리현황(구분물량)'!C36+'집중국처리현황(구분물량)'!D36 -> 45187 | N45: =(K45-M45)/M45% -> 49.49875
A46: 순천집 | B46: =C37 -> 31688 | C46: =G46+K46 -> 145170 | D46: =I46+M46 -> 114525 | E46: =I46+M46 -> 114525 | F46: =(C46-E46)/E46% -> 26.75835 | G46: ='집중국처리현황(구분물량)'!B7 -> 117866 | H46: ='집중국처리현황(구분물량)'!D7 -> 9450 | I46: ='집중국처리현황(구분물량)'!B24 -> 96645 | J46: =(G46-I46)/I46% -> 21.95768 | K46: ='집중국처리현황(구분물량)'!C31+'집중국처리현황(구분물량)'!D31 -> 27304 | L46: ='집중국처리현황(구분물량)'!D31 -> 17479 | M46: ='집중국처리현황(구분물량)'!C37+'집중국처리현황(구분물량)'!D37 -> 17880 | N46: =(K46-M46)/M46% -> 52.706935
A47: 영암집 | B47: =C38 -> 35917 | C47: =G47+K47 -> 237736 | D47: =I47+M47 -> 173874 | E47: =I47+M47 -> 173874 | F47: =(C47-E47)/E47% -> 36.728896 | G47: ='집중국처리현황(구분물량)'!B8 -> 214659 | H47: ='집중국처리현황(구분물량)'!D8 -> 17576 | I47: ='집중국처리현황(구분물량)'!B25 -> 158994 | J47: =(G47-I47)/I47% -> 35.010755 | K47: ='집중국처리현황(구분물량)'!C32+'집중국처리현황(구분물량)'!D32 -> 23077 | L47: ='집중국처리현황(구분물량)'!D32 -> 16054 | M47: ='집중국처리현황(구분물량)'!C38+'집중국처리현황(구분물량)'!D38 -> 14880 | N47: =(K47-M47)/M47% -> 55.087366
A49: o 발송(수집) 구분 세부내역
A50: 구분 | B50: 집중국 | G50: 임시집중국
B51: 구분 | E51: 주간 미구분 (센터발송) | F51: 합계 | G51: 구분 | K51: 주간 미구분 (센터발송) | L51: 합계
B52: 소계 | C52: 기계 | D52: 수작업 | G52: 소계 | H52: 센터발송 | I52: 타 집중국 발송 | J52: 광주집 발송
A53: 합 계 | B53: =C53+D53 -> 56825 | C53: =SUM(C54:C56) -> 56825 | D53: =SUM(D54:D56) -> 0 | E53: =SUM(E54:E56) -> 0 | F53: =B53+E53 -> 56825 | G53: =SUM(H53:J53) -> 0 | H53: =SUM(H54:H56) -> 0 | I53: =SUM(I54:I56) -> 0 | J53: =SUM(J54:J56) -> 0 | K53: =SUM(K54:K56) -> 0 | L53: =G53+K53 -> 0
A54: 광주집 | B54: =C54+D54 -> 29799 | C54: ='집중국처리현황(구분물량)'!D12 -> 29799 | D54: 0 | F54: =B54+E54 -> 29799 | G54: =SUM(H54:J54) -> 0 | L54: =G54+K54 -> 0
A55: 순천집 | B55: =C55+D55 -> 9450 | C55: ='집중국처리현황(구분물량)'!D15 -> 9450 | D55: 0 | F55: =B55+E55 -> 9450 | G55: =SUM(H55:J55) -> 0 | L55: =G55+K55 -> 0
A56: 영암집 | B56: =C56+D56 -> 17576 | C56: ='집중국처리현황(구분물량)'!D18 -> 17576 | D56: 0 | F56: =B56+E56 -> 17576 | G56: =SUM(H56:J56) -> 0 | L56: =G56+K56 -> 0
A58: ▣ 집중국별 발송구분 작업인력 현황 | B58: ▣ 집중국별 소포처리 현황 | C58: ▣ 집중국별 소포처리 현황 | D58: ▣ 집중국별 소포처리 현황
A59: 구분 | B59: 주간작업(18시 이전) | F59: 야간작업(18시 이후)
B60: 소계 | C60: 정규직 | D60: 기존인원 (비정규직) | E60: 단기파트 (비정규직) | F60: 소계 | G60: 정규직 | H60: 기존인원 (비정규직) | I60: 단기파트 (비정규직) | J60: 우정청 지원
A61: 합계 | B61: =SUM(B62:B64) -> 127 | C61: ='집중국처리현황(인력)'!C7 -> 79 | D61: ='집중국처리현황(인력)'!D7 -> 5 | E61: ='집중국처리현황(인력)'!E7 -> 43 | F61: ='집중국처리현황(인력)'!F7 -> 329 | G61: ='집중국처리현황(인력)'!G7 -> 103 | H61: ='집중국처리현황(인력)'!H7 -> 79 | I61: ='집중국처리현황(인력)'!I7 -> 147 | J61: ='집중국처리현황(인력)'!J7 -> 0
A62: 광주집 | B62: =SUM(C62:E62) -> 44 | C62: ='집중국처리현황(인력)'!C8 -> 30 | D62: ='집중국처리현황(인력)'!D8 -> 0 | E62: ='집중국처리현황(인력)'!E8 -> 14 | F62: ='집중국처리현황(인력)'!F8 -> 145 | G62: ='집중국처리현황(인력)'!G8 -> 35 | H62: ='집중국처리현황(인력)'!H8 -> 45 | I62: ='집중국처리현황(인력)'!I8 -> 65 | J62: ='집중국처리현황(인력)'!J8 -> 0
A63: 순천집 | B63: =SUM(C63:E63) -> 32 | C63: ='집중국처리현황(인력)'!C9 -> 26 | D63: ='집중국처리현황(인력)'!D9 -> 0 | E63: ='집중국처리현황(인력)'!E9 -> 6 | F63: ='집중국처리현황(인력)'!F9 -> 108 | G63: ='집중국처리현황(인력)'!G9 -> 38 | H63: ='집중국처리현황(인력)'!H9 -> 18 | I63: ='집중국처리현황(인력)'!I9 -> 52 | J63: ='집중국처리현황(인력)'!J9 -> 0
A64: 영암집 | B64: =SUM(C64:E64) -> 51 | C64: ='집중국처리현황(인력)'!C10 -> 23 | D64: ='집중국처리현황(인력)'!D10 -> 5 | E64: ='집중국처리현황(인력)'!E10 -> 23 | F64: ='집중국처리현황(인력)'!F10 -> 76 | G64: ='집중국처리현황(인력)'!G10 -> 30 | H64: ='집중국처리현황(인력)'!H10 -> 16 | I64: ='집중국처리현황(인력)'!I10 -> 30 | J64: ='집중국처리현황(인력)'!J10 -> 0

Sheet 9.9(수)
A1: 2015. 추석 명절 우편물 특별소통 일일보고(9.9.수)
A2: ▣ 총괄국별 등기소포 취급물량 현황 | L2: 2015. 추석 : 2015. 9. 7.(월) ~ 2015. 9. 26.(토) 2014. 추석 : 2014. 8.18(월) ~ 2014. 9.6.(토)
A3: 국 명 | B3: 2015. 추석(9.9.수) | H3: 2014. 추석(8.20.수) | N3: 증 감 률
B4: 합 계 | D4: 접 수 | F4: 배 달 | H4: 합 계 | J4: 접 수 | L4: 배 달 | N4: 합계 | P4: 접수 | R4: 배달
B5: 누계 | C5: 당일 | D5: 누계 | E5: 당일 | F5: 누계 | G5: 당일 | H5: 누계 | I5: 당일 | J5: 누계 | K5: 당일 | L5: 누계 | M5: 당일 | N5: 누계 | O5: 당일 | P5: 누계 | Q5: 당일 | R5: 누계 | S5: 당일
A6: 합 계 | B6: =D6+F6 -> 1292837 | C6: =SUM(C7:C33) -> 122296 | D6: =SUM(D7:D33) -> 764439 | E6: =SUM(E7:E33) -> 66066 | F6: =SUM(F7:F33) -> 528398 | G6: =SUM(G7:G33) -> 56230 | H6: =SUM(H7:H33) -> 297723 | I6: =SUM(I7:I33) -> 96007 | J6: =SUM(J7:J33) -> 163708 | ... M6: =SUM(M7:M33) -> 46660 | N6: =(B6-H6)/H6*100 -> 334.24156 | O6: =(C6-I6)/I6% -> 27.382378 | P6: =(D6-J6)/J6*100 -> 366.95275 | Q6: =(E6-K6)/K6% -> 33.880479 | R6: =(F6-L6)/L6*100 -> 294.28273 | S6: =(G6-M6)/M6% -> 20.510073
A7: 광 주 | B7: =D7+F7 -> 118306 | C7: =E7+G7 -> 12357 | D7: =국별소통물량!C6 -> 62362 | E7: =국별소통물량!I6 -> 6535 | F7: =국별소통물량!D6 -> 55944 | G7: 5822 | H7: =J7+L7 -> 38195 | I7: =K7+M7 -> 12971 | J7: ='9.8(화)'!J7+K7 -> 24318 | K7: =국별소통물량!I48 -> 8427 | L7: ='9.8(화)'!L7+M7 -> 13877 | M7: =국별소통물량!J48 -> 4544 | N7: =(B7-H7)/H7*100 -> 209.74211 | O7: =(C7-I7)/I7% -> -4.7336366 | P7: =(D7-J7)/J7*100 -> 156.44379 | Q7: =(E7-K7)/K7% -> -22.451644 | R7: =(F7-L7)/L7*100 -> 303.14189 | S7: =(G7-M7)/M7% -> 28.125
A8: 북광주 | B8: =D8+F8 -> 88104 | C8: =E8+G8 -> 9828 | D8: =국별소통물량!C7 -> 17575 | E8: =국별소통물량!I7 -> 2445 | F8: =국별소통물량!D7 -> 70529 | G8: 7383 | H8: =J8+L8 -> 34708 | I8: =K8+M8 -> 10583 | J8: ='9.8(화)'!J8+K8 -> 16146 | K8: =국별소통물량!I49 -> 4275 | L8: ='9.8(화)'!L8+M8 -> 18562 | M8: =국별소통물량!J49 -> 6308 | N8: =(B8-H8)/H8*100 -> 153.84349 | O8: =(C8-I8)/I8% -> -7.134083 | P8: =(D8-J8)/J8*100 -> 8.8504893 | Q8: =(E8-K8)/K8% -> -42.807018 | R8: =(F8-L8)/L8*100 -> 279.96444 | S8: =(G8-M8)/M8% -> 17.041852
A9: 서광주 | B9: =D9+F9 -> 129641 | C9: =E9+G9 -> 13767 | D9: =국별소통물량!C8 -> 73744 | E9: =국별소통물량!I8 -> 7730 | F9: =국별소통물량!D8 -> 55897 | G9: 6037 | H9: =J9+L9 -> 28026 | I9: =K9+M9 -> 8739 | J9: ='9.8(화)'!J9+K9 -> 14159 | K9: =국별소통물량!I50 -> 4047 | L9: ='9.8(화)'!L9+M9 -> 13867 | M9: =국별소통물량!J50 -> 4692 | N9: =(B9-H9)/H9*100 -> 362.57404 | O9: =(C9-I9)/I9% -> 57.535187 | P9: =(D9-J9)/J9*100 -> 420.82774 | Q9: =(E9-K9)/K9% -> 91.005683 | R9: =(F9-L9)/L9*100 -> 303.09368 | S9: =(G9-M9)/M9% -> 28.665814
A10: 광주광산 | B10: =D10+F10 -> 69932 | C10: =E10+G10 -> 6979 | D10: =국별소통물량!C9 -> 14981 | E10: =국별소통물량!I9 -> 1328 | F10: =국별소통물량!D9 -> 54951 | G10: 5651 | H10: =J10+L10 -> 31430 | I10: =K10+M10 -> 9809 | J10: ='9.8(화)'!J10+K10 -> 15621 | K10: =국별소통물량!I51 -> 4543 | L10: ='9.8(화)'!L10+M10 -> 15809 | M10: =국별소통물량!J51 -> 5266 | N10: =(B10-H10)/H10*100 -> 122.5008 | O10: =(C10-I10)/I10% -> -28.851055 | P10: =(D10-J10)/J10*100 -> -4.0970488 | Q10: =(E10-K10)/K10% -> -70.768215 | R10: =(F10-L10)/L10*100 -> 247.59314 | S10: =(G10-M10)/M10% -> 7.311052
A11: 목 포 | B11: =D11+F11 -> 95525 | C11: =E11+G11 -> 9711 | D11: =국별소통물량!C10 -> 50278 | E11: =국별소통물량!I10 -> 4672 | F11: =국별소통물량!D10 -> 45247 | G11: 5039 | H11: =J11+L11 -> 22305 | I11: =K11+M11 -> 7584 | J11: ='9.8(화)'!J11+K11 -> 9568 | K11: =국별소통물량!I52 -> 3109 | L11: ='9.8(화)'!L11+M11 -> 12737 | M11: =국별소통물량!J52 -> 4475 | N11: =(B11-H11)/H11*100 -> 328.2672 | O11: =(C11-I11)/I11% -> 28.045886 | P11: =(D11-J11)/J11*100 -> 425.48077 | Q11: =(E11-K11)/K11% -> 50.2734 | R11: =(F11-L11)/L11*100 -> 255.24064 | S11: =(G11-M11)/M11% -> 12.603352
A12: 여 수 | B12: =D12+F12 -> 114753 | C12: =E12+G12 -> 9362 | D12: =국별소통물량!C11 -> 72421 | E12: =국별소통물량!I11 -> 4684 | F12: =국별소통물량!D11 -> 42332 | G12: 4678 | H12: =J12+L12 -> 22711 | I12: =K12+M12 -> 7512 | J12: ='9.8(화)'!J12+K12 -> 11778 | K12: =국별소통물량!I53 -> 3546 | L12: ='9.8(화)'!L12+M12 -> 10933 | M12: =국별소통물량!J53 -> 3966 | N12: =(B12-H12)/H12*100 -> 405.27498 | O12: =(C12-I12)/I12% -> 24.627263 | P12: =(D12-J12)/J12*100 -> 514.88368 | Q12: =(E12-K12)/K12% -> 32.092499 | R12: =(F12-L12)/L12*100 -> 287.19473 | S12: =(G12-M12)/M12% -> 17.952597
A13: 순 천 | B13: =D13+F13 -> 69848 | C13: =E13+G13 -> 6385 | D13: =국별소통물량!C12 -> 29552 | E13: =국별소통물량!I12 -> 2259 | F13: =국별소통물량!D12 -> 40296 | G13: 4126 | H13: =J13+L13 -> 18267 | I13: =K13+M13 -> 6029 | J13: ='9.8(화)'!J13+K13 -> 7612 | K13: =국별소통물량!I54 -> 2211 | L13: ='9.8(화)'!L13+M13 -> 10655 | M13: =국별소통물량!J54 -> 3818 | N13: =(B13-H13)/H13*100 -> 282.37258 | O13: =(C13-I13)/I13% -> 5.9047935 | P13: =(D13-J13)/J13*100 -> 288.22911 | Q13: =(E13-K13)/K13% -> 2.1709634 | R13: =(F13-L13)/L13*100 -> 278.18864 | S13: =(G13-M13)/M13% -> 8.0670508
A14: 강 진 | B14: =D14+F14 -> 15183 | C14: =E14+G14 -> 1296 | D14: =국별소통물량!C13 -> 9530 | E14: =국별소통물량!I13 -> 829 | F14: =국별소통물량!D13 -> 5653 | G14: 467 | H14: =J14+L14 -> 3251 | I14: =K14+M14 -> 909 | J14: ='9.8(화)'!J14+K14 -> 2058 | K14: =국별소통물량!I55 -> 463 | L14: ='9.8(화)'!L14+M14 -> 1193 | M14: =국별소통물량!J55 -> 446 | N14: =(B14-H14)/H14*100 -> 367.02553 | O14: =(C14-I14)/I14% -> 42.574257 | P14: =(D14-J14)/J14*100 -> 363.07094 | Q14: =(E14-K14)/K14% -> 79.049676 | R14: =(F14-L14)/L14*100 -> 373.84744 | S14: =(G14-M14)/M14% -> 4.7085202
A15: 고 흥 | B15: =D15+F15 -> 32141 | C15: =E15+G15 -> 2941 | D15: =국별소통물량!C14 -> 20227 | E15: =국별소통물량!I14 -> 1245 | F15: =국별소통물량!D14 -> 11914 | G15: 1696 | H15: =J15+L15 -> 4896 | I15: =K15+M15 -> 1802 | J15: ='9.8(화)'!J15+K15 -> 2624 | K15: =국별소통물량!I56 -> 926 | L15: ='9.8(화)'!L15+M15 -> 2272 | M15: =국별소통물량!J56 -> 876 | N15: =(B15-H15)/H15*100 -> 556.47467 | O15: =(C15-I15)/I15% -> 63.207547 | P15: =(D15-J15)/J15*100 -> 670.84604 | Q15: =(E15-K15)/K15% -> 34.449244 | R15: =(F15-L15)/L15*100 -> 424.3838 | S15: =(G15-M15)/M15% -> 93.607306
A16: 곡 성 | B16: =D16+F16 -> 11246 | C16: =E16+G16 -> 1123 | D16: =국별소통물량!C15 -> 6067 | E16: =국별소통물량!I15 -> 665 | F16: =국별소통물량!D15 -> 5179 | G16: 458 | H16: =J16+L16 -> 2138 | I16: =K16+M16 -> 560 | J16: ='9.8(화)'!J16+K16 -> 1305 | K16: =국별소통물량!I57 -> 294 | L16: ='9.8(화)'!L16+M16 -> 833 | M16: =국별소통물량!J57 -> 266 | N16: =(B16-H16)/H16*100 -> 426.00561 | O16: =(C16-I16)/I16% -> 100.53571 | P16: =(D16-J16)/J16*100 -> 364.90421 | Q16: =(E16-K16)/K16% -> 126.19048 | R16: =(F16-L16)/L16*100 -> 521.72869 | S16: =(G16-M16)/M16% -> 72.180451
A17: 광 양 | B17: =D17+F17 -> 34683 | C17: =E17+G17 -> 3786 | D17: =국별소통물량!C16 -> 12726 | E17: =국별소통물량!I16 -> 1557 | F17: =국별소통물량!D16 -> 21957 | G17: 2229 | H17: =J17+L17 -> 10437 | I17: =K17+M17 -> 3877 | J17: ='9.8(화)'!J17+K17 -> 3768 | K17: =국별소통물량!I58 -> 1206 | L17: ='9.8(화)'!L17+M17 -> 6669 | M17: =국별소통물량!J58 -> 2671 | N17: =(B17-H17)/H17*100 -> 232.30813 | O17: =(C17-I17)/I17% -> -2.3471757 | P17: =(D17-J17)/J17*100 -> 237.73885 | Q17: =(E17-K17)/K17% -> 29.104478 | R17: =(F17-L17)/L17*100 -> 229.23977 | S17: =(G17-M17)/M17% -> -16.548109
A18: 구 례 | B18: =D18+F18 -> 12076 | C18: =E18+G18 -> 700 | D18: =국별소통물량!C17 -> 7545 | E18: =국별소통물량!I17 -> 316 | F18: =국별소통물량!D17 -> 4531 | G18: 384 | H18: =J18+L18 -> 1863 | I18: =K18+M18 -> 591 | J18: ='9.8(화)'!J18+K18 -> 1001 | K18: =국별소통물량!I59 -> 241 | L18: ='9.8(화)'!L18+M18 -> 862 | M18: =국별소통물량!J59 -> 350 | N18: =(B18-H18)/H18*100 -> 548.20183 | O18: =(C18-I18)/I18% -> 18.443316 | P18: =(D18-J18)/J18*100 -> 653.74625 | Q18: =(E18-K18)/K18% -> 31.120332 | R18: =(F18-L18)/L18*100 -> 425.63805 | S18: =(G18-M18)/M18% -> 9.7142857
... A31: 화 순 | B31: =D31+F31 -> 20834 | C31: =E31+G31 -> 2144 | D31: =국별소통물량!C30 -> 11953 | E31: =국별소통물량!I30 -> 1143 | F31: =국별소통물량!D30 -> 8881 | G31: 1001 | H31: =J31+L31 -> 5631 | I31: =K31+M31 -> 1572 | J31: ='9.8(화)'!J31+K31 -> 3767 | K31: =국별소통물량!I72 -> 959 | L31: ='9.8(화)'!L31+M31 -> 1864 | M31: =국별소통물량!J72 -> 613 | N31: =(B31-H31)/H31*100 -> 269.98757 | O31: =(C31-I31)/I31% -> 36.386768 | P31: =(D31-J31)/J31*100 -> 217.3082 | Q31: =(E31-K31)/K31% -> 19.186653 | R31: =(F31-L31)/L31*100 -> 376.4485 | S31: =(G31-M31)/M31% -> 63.295269
A32: 광주집 | B32: =D32+F32 -> 70179 | C32: =E32+G32 -> 6846 | D32: =국별소통물량!C31 -> 70179 | E32: =국별소통물량!I31 -> 6846 | F32: =국별소통물량!D31 -> 0 | H32: =J32+L32 -> 357 | I32: =K32+M32 -> 187 | J32: ='9.8(화)'!J32+K32 -> 262 | K32: =국별소통물량!I73 -> 136 | L32: ='9.8(화)'!L32+M32 -> 95 | M32: =국별소통물량!J73 -> 51 | N32: =(B32-H32)/H32*100 -> 19557.983 | O32: =(C32-I32)/I32% -> 3560.9626 | P32: =(D32-J32)/J32*100 -> 26685.878 | Q32: =(E32-K32)/K32% -> 4933.8235 | R32: =(F32-L32)/L32*100 -> -100 | S32: =(G32-M32)/M32% -> -100
A33: 영암집 | B33: =D33+F33 -> 7089 | C33: =E33+G33 -> 871 | D33: =국별소통물량!C32 -> 746 | E33: =국별소통물량!I32 -> 85 | F33: =국별소통물량!D32 -> 6343 | G33: 786 | H33: =J33+L33 -> 1760 | I33: =K33+M33 -> 579 | J33: ='9.8(화)'!J33+K33 -> 137 | K33: =국별소통물량!I74 -> 42 | L33: ='9.8(화)'!L33+M33 -> 1623 | M33: =국별소통물량!J74 -> 537 | N33: =(B33-H33)/H33*100 -> 302.78409 | O33: =(C33-I33)/I33% -> 50.431779 | P33: =(D33-J33)/J33*100 -> 444.52555 | Q33: =(E33-K33)/K33% -> 102.38095 | R33: =(F33-L33)/L33*100 -> 290.81947 | S33: =(G33-M33)/M33% -> 46.368715
A35: 집중국별 | B35: =SUM(B36:B38) -> 1292837 | C35: =SUM(C36:C38) -> 122296 | D35: =SUM(D36:D38) -> 764439 | E35: =SUM(E36:E38) -> 66066 | F35: =SUM(F36:F38) -> 528398 | G35: =SUM(G36:G38) -> 56230 | H35: =SUM(H36:H38) -> 297723 | I35: =SUM(I36:I38) -> 96007 | ... M35: =SUM(M36:M38) -> 46660 | N35: =(B35-H35)/H35*100 -> 334.24156 | O35: =(C35-I35)/I35*100 -> 27.382378 | P35: =(D35-J35)/J35*100 -> 366.95275 | Q35: =(E35-K35)/K35*100 -> 33.880479 | R35: =(F35-L35)/L35*100 -> 294.28273 | S35: =(G35-M35)/M35*100 -> 20.510073
A36: 광주집 | B36: =B7+B8+B9+B10+B16+B18+B19+B20+B23+B26+B29+B31+B32 -> 687603 | C36: =C7+C8+C9+C10+C16+C18+C19+C20+C23+C26+C29+C31+C32 -> 65313 | D36: =D7+D8+D9+D10+D16+D18+D19+D20+D23+D26+D29+D31+D32 -> 390863 | E36: =E7+E8+E9+E10+E16+E18+E19+E20+E23+E26+E29+E31+E32 -> 34666 | F36: =F7+F8+F9+F10+F16+F18+F19+F20+F23+F26+F29+F31+F32 -> 296740 | G36: =G7+G8+G9+G10+G16+G18+G19+G20+G23+G26+G29+G31+G32 -> 30647 | H36: =H7+H8+H9+H10+H16+H18+H19+H20+H23+H26+H29+H31+H32 -> 171595 | I36: =I7+I8+I9+I10+I16+I18+I19+I20+I23+I26+I29+I31+I32 -> 54790 | ... M36: =M7+M8+M9+M10+M16+M18+M19+M20+M23+M26+M29+M31+M32 -> 25293 | N36: =(B36-H36)/H36*100 -> 300.71272 | O36: =(C36-I36)/I36*100 -> 19.206059 | P36: =(D36-J36)/J36*100 -> 304.302 | Q36: =(E36-K36)/K36*100 -> 17.523816 | R36: =(F36-L36)/L36*100 -> 296.0811 | S36: =(G36-M36)/M36*100 -> 21.167912
A37: 순천집 | B37: =B12+B13+B15+B17+B22 -> 264889 | C37: =C12+C13+C15+C17+C22 -> 23899 | D37: =D12+D13+D15+D17+D22 -> 141960 | E37: =E12+E13+E15+E17+E22 -> 10400 | F37: =F12+F13+F15+F17+F22 -> 122929 | G37: =G12+G13+G15+G17+G22 -> 13499 | H37: =H12+H13+H15+H17+H22 -> 59421 | I37: =I12+I13+I15+I17+I22 -> 20109 | ... M37: =M12+M13+M15+M17+M22 -> 11778 | N37: =(B37-H37)/H37*100 -> 345.78348 | O37: =(C37-I37)/I37*100 -> 18.847282 | P37: =(D37-J37)/J37*100 -> 414.31056 | Q37: =(E37-K37)/K37*100 -> 24.834954 | R37: =(F37-L37)/L37*100 -> 286.33835 | S37: =(G37-M37)/M37*100 -> 14.611988
A38: 영암집 | B38: =B11+B14+B21+B25+B27+B24+B28+B30+B33 -> 340345 | C38: =C11+C14+C21+C25+C27+C24+C28+C30+C33 -> 33084 | D38: =D11+D14+D21+D25+D27+D24+D28+D30+D33 -> 231616 | E38: =E11+E14+E21+E25+E27+E24+E28+E30+E33 -> 21000 | F38: =F11+F14+F21+F25+F27+F24+F28+F30+F33 -> 108729 | G38: =G11+G14+G21+G25+G27+G24+G28+G30+G33 -> 12084 | H38: =H11+H14+H21+H25+H27+H24+H28+H30+H33 -> 66707 | I38: =I11+I14+I21+I25+I27+I24+I28+I30+I33 -> 21108 | ... M38: =M11+M14+M21+M25+M27+M24+M28+M30+M33 -> 9589 | N38: =(B38-H38)/H38*100 -> 410.20882 | O38: =(C38-I38)/I38*100 -> 56.736782 | P38: =(D38-J38)/J38*100 -> 487.4106 | Q38: =(E38-K38)/K38*100 -> 82.307492 | R38: =(F38-L38)/L38*100 -> 298.61055 | S38: =(G38-M38)/M38*100 -> 26.019397
A40: ▣ 집중국별 소포처리 현황
A41: 국 명 | B41: 당일접수 물량 | C41: 합 계 | G41: 발 송(수집) | K41: 도 착(배분)
C42: 15년 추석 | E42: 14년 추석 (누계) | F42: 증감률 (누계) | G42: 15년 추석 | I42: 14년 추석 (누계) | J42: 증감률 (누계) | K42: 15년 추석 | M42: 14년 추석 (누계) | N42: 증감률 (누계)
C43: 누계 | D43: 당일 | G43: 누계 | H43: 당일 | K43: 누계 | L43: 당일
A44: 합 계 | B44: =B45+B46+B47 -> 122296 | C44: =SUM(C45:C47) -> 1155442 | D44: =SUM(D45:D47) -> 477437 | E44: =SUM(E45:E47) -> 951274 | F44: =F45+F46+F47 -> 71.898825 | G44: =SUM(G45:G47) -> 670850 | H44: =SUM(H45:H47) -> 55558 | I44: =SUM(I45:I47) -> 547324 | J44: =(G44-I44)/I44% -> 22.569082 | K44: =SUM(K45:K47) -> 484592 | L44: =SUM(L45:L47) -> 51366 | M44: =M45+M46+M47 -> 403950 | N44: =(K44-M44)/M44% -> 19.963362
A45: 광주집 | B45: =C36 -> 65313 | C45: =G45+K45 -> 612837 | D45: =H45+L45 -> 56196 | E45: =I45+M45 -> 530033 | F45: =(C45-E45)/E45% -> 15.622424 | G45: ='집중국처리현황(구분물량)'!B6 -> 338325 | H45: ='집중국처리현황(구분물량)'!E6 -> 28002 | I45: ='집중국처리현황(구분물량)'!B23 -> 291685 | J45: =(G45-I45)/I45% -> 15.989852 | K45: ='집중국처리현황(구분물량)'!B30 -> 274512 | L45: ='집중국처리현황(구분물량)'!E30 -> 28194 | M45: ='집중국처리현황(구분물량)'!B36 -> 238348 | N45: =(K45-M45)/M45% -> 15.172773
A46: 순천집 | B46: =C37 -> 23899 | C46: =G46+K46 -> 228027 | D46: =I46+M46 -> 186509 | E46: =I46+M46 -> 186509 | F46: =(C46-E46)/E46% -> 22.260588 | G46: ='집중국처리현황(구분물량)'!B7 -> 117866 | H46: ='집중국처리현황(구분물량)'!E7 -> 8253 | I46: ='집중국처리현황(구분물량)'!B24 -> 96645 | J46: =(G46-I46)/I46% -> 21.95768 | K46: ='집중국처리현황(구분물량)'!B31 -> 110161 | L46: ='집중국처리현황(구분물량)'!E31 -> 12295 | M46: ='집중국처리현황(구분물량)'!B37 -> 89864 | N46: =(K46-M46)/M46% -> 22.586353
A47: 영암집 | B47: =C38 -> 33084 | C47: =G47+K47 -> 314578 | D47: =I47+M47 -> 234732 | E47: =I47+M47 -> 234732 | F47: =(C47-E47)/E47% -> 34.015814 | G47: ='집중국처리현황(구분물량)'!B8 -> 214659 | H47: ='집중국처리현황(구분물량)'!E8 -> 19303 | I47: ='집중국처리현황(구분물량)'!B25 -> 158994 | J47: =(G47-I47)/I47% -> 35.010755 | K47: ='집중국처리현황(구분물량)'!B32 -> 99919 | L47: ='집중국처리현황(구분물량)'!E32 -> 10877 | M47: ='집중국처리현황(구분물량)'!B38 -> 75738 | N47: =(K47-M47)/M47% -> 31.92717
A49: o 발송(수집) 구분 세부내역
A50: 구분 | B50: 집중국 | G50: 임시집중국
B51: 구분 | E51: 주간 미구분 (센터발송) | F51: 합계 | G51: 구분 | K51: 주간 미구분 (센터발송) | L51: 합계
B52: 소계 | C52: 기계 | D52: 수작업 | G52: 소계 | H52: 센터발송 | I52: 타 집중국 발송 | J52: 광주집 발송
A53: 합 계 | B53: =C53+D53 -> 55558 | C53: =SUM(C54:C56) -> 55558 | D53: =SUM(D54:D56) -> 0 | E53: =SUM(E54:E56) -> 0 | F53: =B53+E53 -> 55558 | G53: =SUM(H53:J53) -> 0 | H53: =SUM(H54:H56) -> 0 | I53: =SUM(I54:I56) -> 0 | J53: =SUM(J54:J56) -> 0 | K53: =SUM(K54:K56) -> 0 | L53: =G53+K53 -> 0
A54: 광주집 | B54: =C54+D54 -> 28002 | C54: ='집중국처리현황(구분물량)'!E12 -> 28002 | D54: 0 | F54: =B54+E54 -> 28002 | G54: =SUM(H54:J54) -> 0 | L54: =G54+K54 -> 0
A55: 순천집 | B55: =C55+D55 -> 8253 | C55: ='집중국처리현황(구분물량)'!E15 -> 8253 | D55: 0 | F55: =B55+E55 -> 8253 | G55: =SUM(H55:J55) -> 0 | L55: =G55+K55 -> 0
A56: 영암집 | B56: =C56+D56 -> 19303 | C56: ='집중국처리현황(구분물량)'!E18 -> 19303 | D56: 0 | F56: =B56+E56 -> 19303 | G56: =SUM(H56:J56) -> 0 | L56: =G56+K56 -> 0
A58: ▣ 집중국별 발송구분 작업인력 현황 | B58: ▣ 집중국별 소포처리 현황 | C58: ▣ 집중국별 소포처리 현황 | D58: ▣ 집중국별 소포처리 현황
A59: 구분 | B59: 주간작업(18시 이전) | F59: 야간작업(18시 이후)
B60: 소계 | C60: 정규직 | D60: 기존인원 (비정규직) | E60: 단기파트 (비정규직) | F60: 소계 | G60: 정규직 | H60: 기존인원 (비정규직) | I60: 단기파트 (비정규직) | J60: 우정청 지원
A61: 합계 | B61: 50 | C61: 40 | D61: 5 | E61: 5 | F61: 131 | G61: 46 | H61: 81 | I61: 4 | J61: 0
A62: 광주집 | B62: 10 | C62: 10 | D62: 0 | F62: 49 | G62: 4 | H62: 45
A63: 순천집 | B63: 19 | C63: 19 | F63: 37 | G63: 19 | H63: 18
A64: 영암집 | B64: 21 | C64: 11 | D64: 5 | E64: 5 | F64: 45 | G64: 23 | H64: 18 | I64: 4 | J64: 0

Sheet 9.10.(목)
A1: 2015. 추석 명절 우편물 특별소통 일일보고(9.10.목)
A2: ▣ 총괄국별 등기소포 취급물량 현황 | L2: 2015. 추석 : 2015. 9. 7.(월) ~ 2015. 9. 26.(토) 2014. 추석 : 2014. 8.18(월) ~ 2014. 9.6.(토)
A3: 국 명 | B3: 2015. 추석(9.10.목) | H3: 2014. 추석(8.21.목) | N3: 증 감 률
B4: 합 계 | D4: 접 수 | F4: 배 달 | H4: 합 계 | J4: 접 수 | L4: 배 달 | N4: 합계 | P4: 접수 | R4: 배달
B5: 누계 | C5: 당일 | D5: 누계 | E5: 당일 | F5: 누계 | G5: 당일 | H5: 누계 | I5: 당일 | J5: 누계 | K5: 당일 | L5: 누계 | M5: 당일 | N5: 누계 | O5: 당일 | P5: 누계 | Q5: 당일 | R5: 누계 | S5: 당일
A6: 합 계 | B6: =D6+F6 -> 1292837 | C6: =SUM(C7:C33) -> 133118 | D6: =SUM(D7:D33) -> 764439 | E6: =SUM(E7:E33) -> 74097 | F6: =SUM(F7:F33) -> 528398 | G6: =SUM(G7:G33) -> 59021 | H6: =SUM(H7:H33) -> 392753 | I6: =SUM(I7:I33) -> 95030 | J6: =SUM(J7:J33) -> 214938 | ... M6: =SUM(M7:M33) -> 43800 | N6: =(B6-H6)/H6*100 -> 229.17304 | O6: =(C6-I6)/I6% -> 40.079975 | P6: =(D6-J6)/J6*100 -> 255.65558 | Q6: =(E6-K6)/K6% -> 44.635955 | R6: =(F6-L6)/L6*100 -> 197.16166 | S6: =(G6-M6)/M6% -> 34.751142
A7: 광 주 | B7: =D7+F7 -> 118306 | C7: =E7+G7 -> 11598 | D7: =국별소통물량!C6 -> 62362 | E7: =국별소통물량!K6 -> 5955 | F7: =국별소통물량!D6 -> 55944 | G7: =국별소통물량!L6 -> 5643 | H7: =J7+L7 -> 51938 | I7: =K7+M7 -> 13743 | J7: ='9.9(수)'!J7+K7 -> 33489 | K7: =국별소통물량!K48 -> 9171 | L7: ='9.9(수)'!L7+M7 -> 18449 | M7: =국별소통물량!L48 -> 4572 | N7: =(B7-H7)/H7*100 -> 127.78313 | O7: =(C7-I7)/I7% -> -15.607946 | P7: =(D7-J7)/J7*100 -> 86.21637 | Q7: =(E7-K7)/K7% -> -35.067059 | R7: =(F7-L7)/L7*100 -> 203.23595 | S7: =(G7-M7)/M7% -> 23.425197
A8: 북광주 | B8: =D8+F8 -> 88104 | C8: =E8+G8 -> 9271 | D8: =국별소통물량!C7 -> 17575 | E8: =국별소통물량!K7 -> 1522 | F8: =국별소통물량!D7 -> 70529 | G8: =국별소통물량!L7 -> 7749 | H8: =J8+L8 -> 44970 | I8: =K8+M8 -> 10262 | J8: ='9.9(수)'!J8+K8 -> 20539 | K8: =국별소통물량!K49 -> 4393 | L8: ='9.9(수)'!L8+M8 -> 24431 | M8: =국별소통물량!L49 -> 5869 | N8: =(B8-H8)/H8*100 -> 95.917278 | O8: =(C8-I8)/I8% -> -9.6569869 | P8: =(D8-J8)/J8*100 -> -14.431082 | Q8: =(E8-K8)/K8% -> -65.353972 | R8: =(F8-L8)/L8*100 -> 188.6865 | S8: =(G8-M8)/M8% -> 32.032714
A9: 서광주 | B9: =D9+F9 -> 129641 | C9: =E9+G9 -> 12884 | D9: =국별소통물량!C8 -> 73744 | E9: =국별소통물량!K8 -> 6787 | F9: =국별소통물량!D8 -> 55897 | G9: =국별소통물량!L8 -> 6097 | H9: =J9+L9 -> 36659 | I9: =K9+M9 -> 8633 | J9: ='9.9(수)'!J9+K9 -> 18054 | K9: =국별소통물량!K50 -> 3895 | L9: ='9.9(수)'!L9+M9 -> 18605 | M9: =국별소통물량!L50 -> 4738 | N9: =(B9-H9)/H9*100 -> 253.64031 | O9: =(C9-I9)/I9% -> 49.241283 | P9: =(D9-J9)/J9*100 -> 308.4635 | Q9: =(E9-K9)/K9% -> 74.249037 | R9: =(F9-L9)/L9*100 -> 200.44074 | S9: =(G9-M9)/M9% -> 28.682989
A10: 광주광산 | B10: =D10+F10 -> 69932 | C10: =E10+G10 -> 7421 | D10: =국별소통물량!C9 -> 14981 | E10: =국별소통물량!K9 -> 1658 | F10: =국별소통물량!D9 -> 54951 | G10: =국별소통물량!L9 -> 5763 | H10: =J10+L10 -> 40304 | I10: =K10+M10 -> 8874 | J10: ='9.9(수)'!J10+K10 -> 19381 | K10: =국별소통물량!K51 -> 3760 | L10: ='9.9(수)'!L10+M10 -> 20923 | M10: =국별소통물량!L51 -> 5114 | N10: =(B10-H10)/H10*100 -> 73.511314 | O10: =(C10-I10)/I10% -> -16.373676 | P10: =(D10-J10)/J10*100 -> -22.702647 | Q10: =(E10-K10)/K10% -> -55.904255 | R10: =(F10-L10)/L10*100 -> 162.63442 | S10: =(G10-M10)/M10% -> 12.690653
A11: 목 포 | B11: =D11+F11 -> 95525 | C11: =E11+G11 -> 11618 | D11: =국별소통물량!C10 -> 50278 | E11: =국별소통물량!K10 -> 5793 | F11: =국별소통물량!D10 -> 45247 | G11: =국별소통물량!L10 -> 5825 | H11: =J11+L11 -> 29597 | I11: =K11+M11 -> 7292 | J11: ='9.9(수)'!J11+K11 -> 12679 | K11: =국별소통물량!K52 -> 3111 | L11: ='9.9(수)'!L11+M11 -> 16918 | M11: =국별소통물량!L52 -> 4181 | N11: =(B11-H11)/H11*100 -> 222.75231 | O11: =(C11-I11)/I11% -> 59.325288 | P11: =(D11-J11)/J11*100 -> 296.54547 | Q11: =(E11-K11)/K11% -> 86.210222 | R11: =(F11-L11)/L11*100 -> 167.44887 | S11: =(G11-M11)/M11% -> 39.320737
A12: 여 수 | B12: =D12+F12 -> 114753 | C12: =E12+G12 -> 11664 | D12: =국별소통물량!C11 -> 72421 | E12: =국별소통물량!K11 -> 5995 | F12: =국별소통물량!D11 -> 42332 | G12: =국별소통물량!L11 -> 5669 | H12: =J12+L12 -> 30580 | I12: =K12+M12 -> 7869 | J12: ='9.9(수)'!J12+K12 -> 16151 | K12: =국별소통물량!K53 -> 4373 | L12: ='9.9(수)'!L12+M12 -> 14429 | M12: =국별소통물량!L53 -> 3496 | N12: =(B12-H12)/H12*100 -> 275.25507 | O12: =(C12-I12)/I12% -> 48.227221 | P12: =(D12-J12)/J12*100 -> 348.39948 | Q12: =(E12-K12)/K12% -> 37.091242 | R12: =(F12-L12)/L12*100 -> 193.38138 | S12: =(G12-M12)/M12% -> 62.156751
A13: 순 천 | B13: =D13+F13 -> 69848 | C13: =E13+G13 -> 8537 | D13: =국별소통물량!C12 -> 29552 | E13: =국별소통물량!K12 -> 3848 | F13: =국별소통물량!D12 -> 40296 | G13: =국별소통물량!L12 -> 4689 | H13: =J13+L13 -> 23880 | I13: =K13+M13 -> 5613 | J13: ='9.9(수)'!J13+K13 -> 9937 | K13: =국별소통물량!K54 -> 2325 | L13: ='9.9(수)'!L13+M13 -> 13943 | M13: =국별소통물량!L54 -> 3288 | N13: =(B13-H13)/H13*100 -> 192.49581 | O13: =(C13-I13)/I13% -> 52.093355 | P13: =(D13-J13)/J13*100 -> 197.39358 | Q13: =(E13-K13)/K13% -> 65.505376 | R13: =(F13-L13)/L13*100 -> 189.00524 | S13: =(G13-M13)/M13% -> 42.609489
A14: 강 진 | B14: =D14+F14 -> 15183 | C14: =E14+G14 -> 1735 | D14: =국별소통물량!C13 -> 9530 | E14: =국별소통물량!K13 -> 925 | F14: =국별소통물량!D13 -> 5653 | G14: =국별소통물량!L13 -> 810 | H14: =J14+L14 -> 4400 | I14: =K14+M14 -> 1149 | J14: ='9.9(수)'!J14+K14 -> 2823 | K14: =국별소통물량!K55 -> 765 | L14: ='9.9(수)'!L14+M14 -> 1577 | M14: =국별소통물량!L55 -> 384 | N14: =(B14-H14)/H14*100 -> 245.06818 | O14: =(C14-I14)/I14% -> 51.00087 | P14: =(D14-J14)/J14*100 -> 237.58413 | Q14: =(E14-K14)/K14% -> 20.915033 | R14: =(F14-L14)/L14*100 -> 258.46544 | S14: =(G14-M14)/M14% -> 110.9375
A15: 고 흥 | B15: =D15+F15 -> 32141 | C15: =E15+G15 -> 4184 | D15: =국별소통물량!C14 -> 20227 | E15: =국별소통물량!K14 -> 2792 | F15: =국별소통물량!D14 -> 11914 | G15: =국별소통물량!L14 -> 1392 | H15: =J15+L15 -> 6437 | I15: =K15+M15 -> 1541 | J15: ='9.9(수)'!J15+K15 -> 3514 | K15: =국별소통물량!K56 -> 890 | L15: ='9.9(수)'!L15+M15 -> 2923 | M15: =국별소통물량!L56 -> 651 | N15: =(B15-H15)/H15*100 -> 399.31645 | O15: =(C15-I15)/I15% -> 171.51201 | P15: =(D15-J15)/J15*100 -> 475.61184 | Q15: =(E15-K15)/K15% -> 213.70787 | R15: =(F15-L15)/L15*100 -> 307.59494 | S15: =(G15-M15)/M15% -> 113.82488
A16: 곡 성 | B16: =D16+F16 -> 11246 | C16: =E16+G16 -> 1017 | D16: =국별소통물량!C15 -> 6067 | E16: =국별소통물량!K15 -> 468 | F16: =국별소통물량!D15 -> 5179 | G16: =국별소통물량!L15 -> 549 | H16: =J16+L16 -> 2828 | I16: =K16+M16 -> 690 | J16: ='9.9(수)'!J16+K16 -> 1706 | K16: =국별소통물량!K57 -> 401 | L16: ='9.9(수)'!L16+M16 -> 1122 | M16: =국별소통물량!L57 -> 289 | N16: =(B16-H16)/H16*100 -> 297.6662 | O16: =(C16-I16)/I16% -> 47.391304 | P16: =(D16-J16)/J16*100 -> 255.6272 | Q16: =(E16-K16)/K16% -> 16.708229 | R16: =(F16-L16)/L16*100 -> 361.58645 | S16: =(G16-M16)/M16% -> 89.965398
A17: 광 양 | B17: =D17+F17 -> 34683 | C17: =E17+G17 -> 3629 | D17: =국별소통물량!C16 -> 12726 | E17: =국별소통물량!K16 -> 1324 | F17: =국별소통물량!D16 -> 21957 | G17: =국별소통물량!L16 -> 2305 | H17: =J17+L17 -> 14130 | I17: =K17+M17 -> 3693 | J17: ='9.9(수)'!J17+K17 -> 5244 | K17: =국별소통물량!K58 -> 1476 | L17: ='9.9(수)'!L17+M17 -> 8886 | M17: =국별소통물량!L58 -> 2217 | N17: =(B17-H17)/H17*100 -> 145.45648 | O17: =(C17-I17)/I17% -> -1.7330084 | P17: =(D17-J17)/J17*100 -> 142.67735 | Q17: =(E17-K17)/K17% -> -10.298103 | R17: =(F17-L17)/L17*100 -> 147.09656 | S17: =(G17-M17)/M17% -> 3.9693279
A18: 구 례 | B18: =D18+F18 -> 12076 | C18: =E18+G18 -> 1479 | D18: =국별소통물량!C17 -> 7545 | E18: =국별소통물량!K17 -> 1063 | F18: =국별소통물량!D17 -> 4531 | G18: =국별소통물량!L17 -> 416 | H18: =J18+L18 -> 2501 | I18: =K18+M18 -> 638 | J18: ='9.9(수)'!J18+K18 -> 1350 | K18: =국별소통물량!K59 -> 349 | L18: ='9.9(수)'!L18+M18 -> 1151 | M18: =국별소통물량!L59 -> 289 | N18: =(B18-H18)/H18*100 -> 382.84686 | O18: =(C18-I18)/I18% -> 131.81818 | P18: =(D18-J18)/J18*100 -> 458.88889 | Q18: =(E18-K18)/K18% -> 204.58453 | R18: =(F18-L18)/L18*100 -> 293.65769 | S18: =(G18-M18)/M18% -> 43.944637
... A33: 영암집 | B33: =D33+F33 -> 7089 | C33: =E33+G33 -> 716 | D33: =국별소통물량!C32 -> 746 | E33: =국별소통물량!K32 -> 78 | F33: =국별소통물량!D32 -> 6343 | G33: =국별소통물량!L32 -> 638 | H33: =J33+L33 -> 2377 | I33: =K33+M33 -> 617 | J33: ='9.9(수)'!J33+K33 -> 183 | K33: =국별소통물량!K74 -> 46 | L33: ='9.9(수)'!L33+M33 -> 2194 | M33: =국별소통물량!L74 -> 571 | N33: =(B33-H33)/H33*100 -> 198.23307 | O33: =(C33-I33)/I33% -> 16.045381 | P33: =(D33-J33)/J33*100 -> 307.65027 | Q33: =(E33-K33)/K33% -> 69.565217 | R33: =(F33-L33)/L33*100 -> 189.10665 | S33: =(G33-M33)/M33% -> 11.7338
A35: 집중국별 | B35: =SUM(B36:B38) -> 1292837 | C35: =SUM(C36:C38) -> 133118 | D35: =SUM(D36:D38) -> 764439 | E35: =SUM(E36:E38) -> 74097 | F35: =SUM(F36:F38) -> 528398 | G35: =SUM(G36:G38) -> 59021 | H35: =SUM(H36:H38) -> 392753 | I35: =SUM(I36:I38) -> 95030 | ... M35: =SUM(M36:M38) -> 43800 | N35: =(B35-H35)/H35*100 -> 229.17304 | O35: =(C35-I35)/I35*100 -> 40.079975 | P35: =(D35-J35)/J35*100 -> 255.65558 | Q35: =(E35-K35)/K35*100 -> 44.635955 | R35: =(F35-L35)/L35*100 -> 197.16166 | S35: =(G35-M35)/M35*100 -> 34.751142
A36: 광주집 | B36: =B7+B8+B9+B10+B16+B18+B19+B20+B23+B26+B29+B31+B32 -> 687603 | C36: =C7+C8+C9+C10+C16+C18+C19+C20+C23+C26+C29+C31+C32 -> 67420 | D36: =D7+D8+D9+D10+D16+D18+D19+D20+D23+D26+D29+D31+D32 -> 390863 | E36: =E7+E8+E9+E10+E16+E18+E19+E20+E23+E26+E29+E31+E32 -> 35960 | F36: =F7+F8+F9+F10+F16+F18+F19+F20+F23+F26+F29+F31+F32 -> 296740 | G36: =G7+G8+G9+G10+G16+G18+G19+G20+G23+G26+G29+G31+G32 -> 31460 | H36: =H7+H8+H9+H10+H16+H18+H19+H20+H23+H26+H29+H31+H32 -> 225956 | I36: =I7+I8+I9+I10+I16+I18+I19+I20+I23+I26+I29+I31+I32 -> 54361 | ... M36: =M7+M8+M9+M10+M16+M18+M19+M20+M23+M26+M29+M31+M32 -> 24730 | N36: =(B36-H36)/H36*100 -> 204.30836 | O36: =(C36-I36)/I36*100 -> 24.022737 | P36: =(D36-J36)/J36*100 -> 209.45474 | Q36: =(E36-K36)/K36*100 -> 21.359387 | R36: =(F36-L36)/L36*100 -> 197.78523 | S36: =(G36-M36)/M36*100 -> 27.21391
A37: 순천집 | B37: =B12+B13+B15+B17+B22 -> 264889 | C37: =C12+C13+C15+C17+C22 -> 29675 | D37: =D12+D13+D15+D17+D22 -> 141960 | E37: =E12+E13+E15+E17+E22 -> 14934 | F37: =F12+F13+F15+F17+F22 -> 122929 | G37: =G12+G13+G15+G17+G22 -> 14741 | H37: =H12+H13+H15+H17+H22 -> 78851 | I37: =I12+I13+I15+I17+I22 -> 19430 | ... M37: =M12+M13+M15+M17+M22 -> 10062 | N37: =(B37-H37)/H37*100 -> 235.93613 | O37: =(C37-I37)/I37*100 -> 52.727741 | P37: =(D37-J37)/J37*100 -> 283.98702 | Q37: =(E37-K37)/K37*100 -> 59.41503 | R37: =(F37-L37)/L37*100 -> 193.51973 | S37: =(G37-M37)/M37*100 -> 46.50169
A38: 영암집 | B38: =B11+B14+B21+B25+B27+B24+B28+B30+B33 -> 340345 | C38: =C11+C14+C21+C25+C27+C24+C28+C30+C33 -> 36023 | D38: =D11+D14+D21+D25+D27+D24+D28+D30+D33 -> 231616 | E38: =E11+E14+E21+E25+E27+E24+E28+E30+E33 -> 23203 | F38: =F11+F14+F21+F25+F27+F24+F28+F30+F33 -> 108729 | G38: =G11+G14+G21+G25+G27+G24+G28+G30+G33 -> 12820 | H38: =H11+H14+H21+H25+H27+H24+H28+H30+H33 -> 87946 | I38: =I11+I14+I21+I25+I27+I24+I28+I30+I33 -> 21239 | ... M38: =M11+M14+M21+M25+M27+M24+M28+M30+M33 -> 9008 | N38: =(B38-H38)/H38*100 -> 286.99315 | O38: =(C38-I38)/I38*100 -> 69.607797 | P38: =(D38-J38)/J38*100 -> 348.3382 | Q38: =(E38-K38)/K38*100 -> 89.706484 | R38: =(F38-L38)/L38*100 -> 199.65275 | S38: =(G38-M38)/M38*100 -> 42.31794
A40: ▣ 집중국별 소포처리 현황
A41: 국 명 | B41: 당일접수 물량 | C41: 합 계 | G41: 발 송(수집) | K41: 도 착(배분)
C42: 15년 추석 | E42: 14년 추석 (누계) | F42: 증감률 (누계) | G42: 15년 추석 | I42: 14년 추석 (누계) | J42: 증감률 (누계) | K42: 15년 추석 | M42: 14년 추석 (누계) | N42: 증감률 (누계)
C43: 누계 | D43: 당일 | G43: 누계 | H43: 당일 | K43: 누계 | L43: 당일
A44: 합 계 | B44: =B45+B46+B47 -> 133118 | C44: =SUM(C45:C47) -> 1155442 | D44: =SUM(D45:D47) -> 477437 | E44: =SUM(E45:E47) -> 951274 | F44: =F45+F46+F47 -> 71.898825 | G44: =SUM(G45:G47) -> 670850 | H44: =SUM(H45:H47) -> 55558 | I44: =SUM(I45:I47) -> 547324 | J44: =(G44-I44)/I44% -> 22.569082 | K44: =SUM(K45:K47) -> 484592 | L44: =SUM(L45:L47) -> 51366 | M44: =M45+M46+M47 -> 403950 | N44: =(K44-M44)/M44% -> 19.963362
A45: 광주집 | B45: =C36 -> 67420 | C45: =G45+K45 -> 612837 | D45: =H45+L45 -> 56196 | E45: =I45+M45 -> 530033 | F45: =(C45-E45)/E45% -> 15.622424 | G45: ='집중국처리현황(구분물량)'!B6 -> 338325 | H45: ='집중국처리현황(구분물량)'!E6 -> 28002 | I45: ='집중국처리현황(구분물량)'!B23 -> 291685 | J45: =(G45-I45)/I45% -> 15.989852 | K45: ='집중국처리현황(구분물량)'!B30 -> 274512 | L45: ='집중국처리현황(구분물량)'!E30 -> 28194 | M45: ='집중국처리현황(구분물량)'!B36 -> 238348 | N45: =(K45-M45)/M45% -> 15.172773
A46: 순천집 | B46: =C37 -> 29675 | C46: =G46+K46 -> 228027 | D46: =I46+M46 -> 186509 | E46: =I46+M46 -> 186509 | F46: =(C46-E46)/E46% -> 22.260588 | G46: ='집중국처리현황(구분물량)'!B7 -> 117866 | H46: ='집중국처리현황(구분물량)'!E7 -> 8253 | I46: ='집중국처리현황(구분물량)'!B24 -> 96645 | J46: =(G46-I46)/I46% -> 21.95768 | K46: ='집중국처리현황(구분물량)'!B31 -> 110161 | L46: ='집중국처리현황(구분물량)'!E31 -> 12295 | M46: ='집중국처리현황(구분물량)'!B37 -> 89864 | N46: =(K46-M46)/M46% -> 22.586353
A47: 영암집 | B47: =C38 -> 36023 | C47: =G47+K47 -> 314578 | D47: =I47+M47 -> 234732 | E47: =I47+M47 -> 234732 | F47: =(C47-E47)/E47% -> 34.015814 | G47: ='집중국처리현황(구분물량)'!B8 -> 214659 | H47: ='집중국처리현황(구분물량)'!E8 -> 19303 | I47: ='집중국처리현황(구분물량)'!B25 -> 158994 | J47: =(G47-I47)/I47% -> 35.010755 | K47: ='집중국처리현황(구분물량)'!B32 -> 99919 | L47: ='집중국처리현황(구분물량)'!E32 -> 10877 | M47: ='집중국처리현황(구분물량)'!B38 -> 75738 | N47: =(K47-M47)/M47% -> 31.92717
A49: o 발송(수집) 구분 세부내역
A50: 구분 | B50: 집중국 | G50: 임시집중국
B51: 구분 | E51: 주간 미구분 (센터발송) | F51: 합계 | G51: 구분 | K51: 주간 미구분 (센터발송) | L51: 합계
B52: 소계 | C52: 기계 | D52: 수작업 | G52: 소계 | H52: 센터발송 | I52: 타 집중국 발송 | J52: 광주집 발송
A53: 합 계 | B53: =C53+D53 -> 55558 | C53: =SUM(C54:C56) -> 55558 | D53: =SUM(D54:D56) -> 0 | E53: =SUM(E54:E56) -> 0 | F53: =B53+E53 -> 55558 | G53: =SUM(H53:J53) -> 0 | H53: =SUM(H54:H56) -> 0 | I53: =SUM(I54:I56) -> 0 | J53: =SUM(J54:J56) -> 0 | K53: =SUM(K54:K56) -> 0 | L53: =G53+K53 -> 0
A54: 광주집 | B54: =C54+D54 -> 28002 | C54: ='집중국처리현황(구분물량)'!E12 -> 28002 | D54: 0 | F54: =B54+E54 -> 28002 | G54: =SUM(H54:J54) -> 0 | L54: =G54+K54 -> 0
A55: 순천집 | B55: =C55+D55 -> 8253 | C55: ='집중국처리현황(구분물량)'!E15 -> 8253 | D55: 0 | F55: =B55+E55 -> 8253 | G55: =SUM(H55:J55) -> 0 | L55: =G55+K55 -> 0
A56: 영암집 | B56: =C56+D56 -> 19303 | C56: ='집중국처리현황(구분물량)'!E18 -> 19303 | D56: 0 | F56: =B56+E56 -> 19303 | G56: =SUM(H56:J56) -> 0 | L56: =G56+K56 -> 0
A58: ▣ 집중국별 발송구분 작업인력 현황 | B58: ▣ 집중국별 소포처리 현황 | C58: ▣ 집중국별 소포처리 현황 | D58: ▣ 집중국별 소포처리 현황
A59: 구분 | B59: 주간작업(18시 이전) | F59: 야간작업(18시 이후)
B60: 소계 | C60: 정규직 | D60: 기존인원 (비정규직) | E60: 단기파트 (비정규직) | F60: 소계 | G60: 정규직 | H60: 기존인원 (비정규직) | I60: 단기파트 (비정규직) | J60: 우정청 지원
A61: 합계 | B61: 50 | C61: 40 | D61: 5 | E61: 5 | F61: 131 | G61: 46 | H61: 81 | I61: 4 | J61: 0
A62: 광주집 | B62: 10 | C62: 10 | D62: 0 | F62: 49 | G62: 4 | H62: 45
A63: 순천집 | B63: 19 | C63: 19 | F63: 37 | G63: 19 | H63: 18
A64: 영암집 | B64: 21 | C64: 11 | D64: 5 | E64: 5 | F64: 45 | G64: 23 | H64: 18 | I64: 4 | J64: 0

Sheet 9.11.(금)~13.(일)
A1: 2015. 추석 명절 우편물 특별소통 일일보고(9.13.일)
A2: ▣ 총괄국별 등기소포 취급물량 현황 | L2: 2015. 추석 : 2015. 9. 7.(월) ~ 2015. 9. 26.(토) 2014. 추석 : 2014. 8.18(월) ~ 2014. 9.6.(토)
A3: 국 명 | B3: 2015. 추석(9.13.일) | H3: 2014. 추석(8.24.일) | N3: 증 감 률
B4: 합 계 | D4: 접 수 | F4: 배 달 | H4: 합 계 | J4: 접 수 | L4: 배 달 | N4: 합계 | P4: 접수 | R4: 배달
B5: 누계 | C5: 당일 | D5: 누계 | E5: 당일 | F5: 누계 | G5: 당일 | H5: 누계 | I5: 당일 | J5: 누계 | K5: 당일 | L5: 누계 | M5: 당일 | N5: 누계 | O5: 당일 | P5: 누계 | Q5: 당일 | R5: 누계 | S5: 당일
A6: 합 계 | B6: =D6+F6 -> 1292837 | C6: =SUM(C7:C33) -> 182564 | D6: =SUM(D7:D33) -> 764439 | E6: =SUM(E7:E33) -> 83055 | F6: =SUM(F7:F33) -> 528398 | G6: =SUM(G7:G33) -> 99509 | H6: =SUM(H7:H33) -> 533991 | I6: =SUM(I7:I33) -> 141238 | J6: =SUM(J7:J33) -> 269787 | ... M6: =SUM(M7:M33) -> 86389 | N6: =(B6-H6)/H6*100 -> 142.10839 | O6: =(C6-I6)/I6% -> 29.259831 | P6: =(D6-J6)/J6*100 -> 183.34909 | Q6: =(E6-K6)/K6% -> 51.424821 | R6: =(F6-L6)/L6*100 -> 99.996215 | S6: =(G6-M6)/M6% -> 15.187119
A7: 광 주 | B7: =D7+F7 -> 118306 | C7: =E7+G7 -> 16398 | D7: =국별소통물량!C6 -> 62362 | E7: =국별소통물량!M6+국별소통물량!O6+국별소통물량!Q6 -> 6456 | F7: =국별소통물량!D6 -> 55944 | G7: =국별소통물량!N6+국별소통물량!P6+국별소통물량!R6 -> 9942 | H7: =J7+L7 -> 69758 | I7: =K7+M7 -> 17820 | J7: =SUM(국별소통물량!E48,국별소통물량!G48,국별소통물량!I48,국별소통물량!K48,국별소통물량!M48,국별소통물량!O48,국별소통물량!Q48) -> 42387 | K7: =SUM(국별소통물량!M48,국별소통물량!O48,국별소통물량!Q48) -> 8898 | L7: =SUM(국별소통물량!F48,국별소통물량!H48,국별소통물량!J48,국별소통물량!L48,국별소통물량!N48,국별소통물량!P48,국별소통물량!R48) -> 27371 | M7: =SUM(국별소통물량!N48,국별소통물량!P48,국별소통물량!R48) -> 8922 | N7: =(B7-H7)/H7*100 -> 69.594885 | O7: =(C7-I7)/I7% -> -7.979798 | P7: =(D7-J7)/J7*100 -> 47.125298 | Q7: =(E7-K7)/K7% -> -27.44437 | R7: =(F7-L7)/L7*100 -> 104.39151 | S7: =(G7-M7)/M7% -> 11.432414
A8: 북광주 | B8: =D8+F8 -> 88104 | C8: =E8+G8 -> 15068 | D8: =국별소통물량!C7 -> 17575 | E8: =국별소통물량!M7+국별소통물량!O7+국별소통물량!Q7 -> 2084 | F8: =국별소통물량!D7 -> 70529 | G8: =국별소통물량!N7+국별소통물량!P7+국별소통물량!R7 -> 12984 | H8: =J8+L8 -> 59773 | I8: =K8+M8 -> 14803 | J8: =SUM(국별소통물량!E49,국별소통물량!G49,국별소통물량!I49,국별소통물량!K49,국별소통물량!M49,국별소통물량!O49,국별소통물량!Q49) -> 24146 | K8: =SUM(국별소통물량!M49,국별소통물량!O49,국별소통물량!Q49) -> 3607 | L8: =SUM(국별소통물량!F49,국별소통물량!H49,국별소통물량!J49,국별소통물량!L49,국별소통물량!N49,국별소통물량!P49,국별소통물량!R49) -> 35627 | M8: =SUM(국별소통물량!N49,국별소통물량!P49,국별소통물량!R49) -> 11196 | N8: =(B8-H8)/H8*100 -> 47.397654 | O8: =(C8-I8)/I8% -> 1.7901777 | P8: =(D8-J8)/J8*100 -> -27.213617 | Q8: =(E8-K8)/K8% -> -42.223454 | R8: =(F8-L8)/L8*100 -> 97.965027 | S8: =(G8-M8)/M8% -> 15.969989
A9: 서광주 | B9: =D9+F9 -> 129641 | C9: =E9+G9 -> 17679 | D9: =국별소통물량!C8 -> 73744 | E9: =국별소통물량!M8+국별소통물량!O8+국별소통물량!Q8 -> 7456 | F9: =국별소통물량!D8 -> 55897 | G9: =국별소통물량!N8+국별소통물량!P8+국별소통물량!R8 -> 10223 | H9: =J9+L9 -> 50002 | I9: =K9+M9 -> 13343 | J9: =SUM(국별소통물량!E50,국별소통물량!G50,국별소통물량!I50,국별소통물량!K50,국별소통물량!M50,국별소통물량!O50,국별소통물량!Q50) -> 22394 | K9: =SUM(국별소통물량!M50,국별소통물량!O50,국별소통물량!Q50) -> 4340 | L9: =SUM(국별소통물량!F50,국별소통물량!H50,국별소통물량!J50,국별소통물량!L50,국별소통물량!N50,국별소통물량!P50,국별소통물량!R50) -> 27608 | M9: =SUM(국별소통물량!N50,국별소통물량!P50,국별소통물량!R50) -> 9003 | N9: =(B9-H9)/H9*100 -> 159.27163 | O9: =(C9-I9)/I9% -> 32.49644 | P9: =(D9-J9)/J9*100 -> 229.30249 | Q9: =(E9-K9)/K9% -> 71.797235 | R9: =(F9-L9)/L9*100 -> 102.46668 | S9: =(G9-M9)/M9% -> 13.551039
A10: 광주광산 | B10: =D10+F10 -> 69932 | C10: =E10+G10 -> 13008 | D10: =국별소통물량!C9 -> 14981 | E10: =국별소통물량!M9+국별소통물량!O9+국별소통물량!Q9 -> 1899 | F10: =국별소통물량!D9 -> 54951 | G10: =국별소통물량!N9+국별소통물량!P9+국별소통물량!R9 -> 11109 | H10: =J10+L10 -> 53134 | I10: =K10+M10 -> 12830 | J10: =SUM(국별소통물량!E51,국별소통물량!G51,국별소통물량!I51,국별소통물량!K51,국별소통물량!M51,국별소통물량!O51,국별소통물량!Q51) -> 22746 | K10: =SUM(국별소통물량!M51,국별소통물량!O51,국별소통물량!Q51) -> 3365 | L10: =SUM(국별소통물량!F51,국별소통물량!H51,국별소통물량!J51,국별소통물량!L51,국별소통물량!N51,국별소통물량!P51,국별소통물량!R51) -> 30388 | M10: =SUM(국별소통물량!N51,국별소통물량!P51,국별소통물량!R51) -> 9465 | N10: =(B10-H10)/H10*100 -> 31.614409 | O10: =(C10-I10)/I10% -> 1.3873733 | P10: =(D10-J10)/J10*100 -> -34.13787 | Q10: =(E10-K10)/K10% -> -43.566122 | R10: =(F10-L10)/L10*100 -> 80.831249 | S10: =(G10-M10)/M10% -> 17.369255
A11: 목 포 | B11: =D11+F11 -> 95525 | C11: =E11+G11 -> 12820 | D11: =국별소통물량!C10 -> 50278 | E11: =국별소통물량!M10+국별소통물량!O10+국별소통물량!Q10 -> 3994 | F11: =국별소통물량!D10 -> 45247 | G11: =국별소통물량!N10+국별소통물량!P10+국별소통물량!R10 -> 8826 | H11: =J11+L11 -> 39998 | I11: =K11+M11 -> 10401 | J11: =SUM(국별소통물량!E52,국별소통물량!G52,국별소통물량!I52,국별소통물량!K52,국별소통물량!M52,국별소통물량!O52,국별소통물량!Q52) -> 15005 | K11: =SUM(국별소통물량!M52,국별소통물량!O52,국별소통물량!Q52) -> 2326 | L11: =SUM(국별소통물량!F52,국별소통물량!H52,국별소통물량!J52,국별소통물량!L52,국별소통물량!N52,국별소통물량!P52,국별소통물량!R52) -> 24993 | M11: =SUM(국별소통물량!N52,국별소통물량!P52,국별소통물량!R52) -> 8075 | N11: =(B11-H11)/H11*100 -> 138.82444 | O11: =(C11-I11)/I11% -> 23.257379 | P11: =(D11-J11)/J11*100 -> 235.07498 | Q11: =(E11-K11)/K11% -> 71.711092 | R11: =(F11-L11)/L11*100 -> 81.038691 | S11: =(G11-M11)/M11% -> 9.3003096
A12: 여 수 | B12: =D12+F12 -> 114753 | C12: =E12+G12 -> 18140 | D12: =국별소통물량!C11 -> 72421 | E12: =국별소통물량!M11+국별소통물량!O11+국별소통물량!Q11 -> 10045 | F12: =국별소통물량!D11 -> 42332 | G12: =국별소통물량!N11+국별소통물량!P11+국별소통물량!R11 -> 8095 | H12: =J12+L12 -> 43185 | I12: =K12+M12 -> 12605 | J12: =SUM(국별소통물량!E53,국별소통물량!G53,국별소통물량!I53,국별소통물량!K53,국별소통물량!M53,국별소통물량!O53,국별소통물량!Q53) -> 21415 | K12: =SUM(국별소통물량!M53,국별소통물량!O53,국별소통물량!Q53) -> 5264 | L12: =SUM(국별소통물량!F53,국별소통물량!H53,국별소통물량!J53,국별소통물량!L53,국별소통물량!N53,국별소통물량!P53,국별소통물량!R53) -> 21770 | M12: =SUM(국별소통물량!N53,국별소통물량!P53,국별소통물량!R53) -> 7341 | N12: =(B12-H12)/H12*100 -> 165.72421 | O12: =(C12-I12)/I12% -> 43.911146 | P12: =(D12-J12)/J12*100 -> 238.17885 | Q12: =(E12-K12)/K12% -> 90.824468 | R12: =(F12-L12)/L12*100 -> 94.451079 | S12: =(G12-M12)/M12% -> 10.27108
A13: 순 천 | B13: =D13+F13 -> 69848 | C13: =E13+G13 -> 10791 | D13: =국별소통물량!C12 -> 29552 | E13: =국별소통물량!M12+국별소통물량!O12+국별소통물량!Q12 -> 2487 | F13: =국별소통물량!D12 -> 40296 | G13: =국별소통물량!N12+국별소통물량!P12+국별소통물량!R12 -> 8304 | H13: =J13+L13 -> 31630 | I13: =K13+M13 -> 7750 | J13: =SUM(국별소통물량!E54,국별소통물량!G54,국별소통물량!I54,국별소통물량!K54,국별소통물량!M54,국별소통물량!O54,국별소통물량!Q54) -> 11543 | K13: =SUM(국별소통물량!M54,국별소통물량!O54,국별소통물량!Q54) -> 1606 | L13: =SUM(국별소통물량!F54,국별소통물량!H54,국별소통물량!J54,국별소통물량!L54,국별소통물량!N54,국별소통물량!P54,국별소통물량!R54) -> 20087 | M13: =SUM(국별소통물량!N54,국별소통물량!P54,국별소통물량!R54) -> 6144 | N13: =(B13-H13)/H13*100 -> 120.82833 | O13: =(C13-I13)/I13% -> 39.23871 | P13: =(D13-J13)/J13*100 -> 156.01663 | Q13: =(E13-K13)/K13% -> 54.856787 | R13: =(F13-L13)/L13*100 -> 100.60736 | S13: =(G13-M13)/M13% -> 35.15625
A14: 강 진 | B14: =D14+F14 -> 15183 | C14: =E14+G14 -> 1845 | D14: =국별소통물량!C13 -> 9530 | E14: =국별소통물량!M13+국별소통물량!O13+국별소통물량!Q13 -> 757 | F14: =국별소통물량!D13 -> 5653 | G14: =국별소통물량!N13+국별소통물량!P13+국별소통물량!R13 -> 1088 | H14: =J14+L14 -> 5652 | I14: =K14+M14 -> 1252 | J14: =SUM(국별소통물량!E55,국별소통물량!G55,국별소통물량!I55,국별소통물량!K55,국별소통물량!M55,국별소통물량!O55,국별소통물량!Q55) -> 3214 | K14: =SUM(국별소통물량!M55,국별소통물량!O55,국별소통물량!Q55) -> 391 | L14: =SUM(국별소통물량!F55,국별소통물량!H55,국별소통물량!J55,국별소통물량!L55,국별소통물량!N55,국별소통물량!P55,국별소통물량!R55) -> 2438 | M14: =SUM(국별소통물량!N55,국별소통물량!P55,국별소통물량!R55) -> 861 | N14: =(B14-H14)/H14*100 -> 168.63057 | O14: =(C14-I14)/I14% -> 47.364217 | P14: =(D14-J14)/J14*100 -> 196.51525 | Q14: =(E14-K14)/K14% -> 93.606138 | R14: =(F14-L14)/L14*100 -> 131.87039 | S14: =(G14-M14)/M14% -> 26.364692
A15: 고 흥 | B15: =D15+F15 -> 32141 | C15: =E15+G15 -> 4829 | D15: =국별소통물량!C14 -> 20227 | E15: =국별소통물량!M14+국별소통물량!O14+국별소통물량!Q14 -> 3036 | F15: =국별소통물량!D14 -> 11914 | G15: =국별소통물량!N14+국별소통물량!P14+국별소통물량!R14 -> 1793 | H15: =J15+L15 -> 10887 | I15: =K15+M15 -> 4450 | J15: =SUM(국별소통물량!E56,국별소통물량!G56,국별소통물량!I56,국별소통물량!K56,국별소통물량!M56,국별소통물량!O56,국별소통물량!Q56) -> 6808 | K15: =SUM(국별소통물량!M56,국별소통물량!O56,국별소통물량!Q56) -> 3294 | L15: =SUM(국별소통물량!F56,국별소통물량!H56,국별소통물량!J56,국별소통물량!L56,국별소통물량!N56,국별소통물량!P56,국별소통물량!R56) -> 4079 | M15: =SUM(국별소통물량!N56,국별소통물량!P56,국별소통물량!R56) -> 1156 | N15: =(B15-H15)/H15*100 -> 195.22366 | O15: =(C15-I15)/I15% -> 8.5168539 | P15: =(D15-J15)/J15*100 -> 197.10635 | Q15: =(E15-K15)/K15% -> -7.8324226 | R15: =(F15-L15)/L15*100 -> 192.08139 | S15: =(G15-M15)/M15% -> 55.103806
A16: 곡 성 | B16: =D16+F16 -> 11246 | C16: =E16+G16 -> 1307 | D16: =국별소통물량!C15 -> 6067 | E16: =국별소통물량!M15+국별소통물량!O15+국별소통물량!Q15 -> 478 | F16: =국별소통물량!D15 -> 5179 | G16: =국별소통물량!N15+국별소통물량!P15+국별소통물량!R15 -> 829 | H16: =J16+L16 -> 3623 | I16: =K16+M16 -> 795 | J16: =SUM(국별소통물량!E57,국별소통물량!G57,국별소통물량!I57,국별소통물량!K57,국별소통물량!M57,국별소통물량!O57,국별소통물량!Q57) -> 1957 | K16: =SUM(국별소통물량!M57,국별소통물량!O57,국별소통물량!Q57) -> 251 | L16: =SUM(국별소통물량!F57,국별소통물량!H57,국별소통물량!J57,국별소통물량!L57,국별소통물량!N57,국별소통물량!P57,국별소통물량!R57) -> 1666 | M16: =SUM(국별소통물량!N57,국별소통물량!P57,국별소통물량!R57) -> 544 | N16: =(B16-H16)/H16*100 -> 210.40574 | O16: =(C16-I16)/I16% -> 64.402516 | P16: =(D16-J16)/J16*100 -> 210.01533 | Q16: =(E16-K16)/K16% -> 90.438247 | R16: =(F16-L16)/L16*100 -> 210.86435 | S16: =(G16-M16)/M16% -> 52.389706
A17: 광 양 | B17: =D17+F17 -> 34683 | C17: =E17+G17 -> 4781 | D17: =국별소통물량!C16 -> 12726 | E17: =국별소통물량!M16+국별소통물량!O16+국별소통물량!Q16 -> 807 | F17: =국별소통물량!D16 -> 21957 | G17: =국별소통물량!N16+국별소통물량!P16+국별소통물량!R16 -> 3974 | H17: =J17+L17 -> 22221 | I17: =K17+M17 -> 8091 | J17: =SUM(국별소통물량!E58,국별소통물량!G58,국별소통물량!I58,국별소통물량!K58,국별소통물량!M58,국별소통물량!O58,국별소통물량!Q58) -> 6439 | K17: =SUM(국별소통물량!M58,국별소통물량!O58,국별소통물량!Q58) -> 1195 | L17: =SUM(국별소통물량!F58,국별소통물량!H58,국별소통물량!J58,국별소통물량!L58,국별소통물량!N58,국별소통물량!P58,국별소통물량!R58) -> 15782 | M17: =SUM(국별소통물량!N58,국별소통물량!P58,국별소통물량!R58) -> 6896 | N17: =(B17-H17)/H17*100 -> 56.082085 | O17: =(C17-I17)/I17% -> -40.909653 | P17: =(D17-J17)/J17*100 -> 97.639385 | Q17: =(E17-K17)/K17% -> -32.468619 | R17: =(F17-L17)/L17*100 -> 39.126853 | S17: =(G17-M17)/M17% -> -42.37239
A18: 구 례 | B18: =D18+F18 -> 12076 | C18: =E18+G18 -> 1922 | D18: =국별소통물량!C17 -> 7545 | E18: =국별소통물량!M17+국별소통물량!O17+국별소통물량!Q17 -> 661 | F18: =국별소통물량!D17 -> 4531 | G18: =국별소통물량!N17+국별소통물량!P17+국별소통물량!R17 -> 1261 | H18: =J18+L18 -> 3221 | I18: =K18+M18 -> 720 | J18: =SUM(국별소통물량!E59,국별소통물량!G59,국별소통물량!I59,국별소통물량!K59,국별소통물량!M59,국별소통물량!O59,국별소통물량!Q59) -> 1516 | K18: =SUM(국별소통물량!M59,국별소통물량!O59,국별소통물량!Q59) -> 166 | L18: =SUM(국별소통물량!F59,국별소통물량!H59,국별소통물량!J59,국별소통물량!L59,국별소통물량!N59,국별소통물량!P59,국별소통물량!R59) -> 1705 | M18: =SUM(국별소통물량!N59,국별소통물량!P59,국별소통물량!R59) -> 554 | N18: =(B18-H18)/H18*100 -> 274.91462 | O18: =(C18-I18)/I18% -> 166.94444 | P18: =(D18-J18)/J18*100 -> 397.69129 | Q18: =(E18-K18)/K18% -> 298.19277 | R18: =(F18-L18)/L18*100 -> 165.7478 | S18: =(G18-M18)/M18% -> 127.61733
... A33: 영암집 | B33: =D33+F33 -> 7089 | C33: =E33+G33 -> 1253 | D33: =국별소통물량!C32 -> 746 | E33: =국별소통물량!M32+국별소통물량!O32+국별소통물량!Q32 -> 69 | F33: =국별소통물량!D32 -> 6343 | G33: =국별소통물량!N32+국별소통물량!P32+국별소통물량!R32 -> 1184 | H33: =J33+L33 -> 3572 | I33: =K33+M33 -> 1195 | J33: =SUM(국별소통물량!E74,국별소통물량!G74,국별소통물량!I74,국별소통물량!K74,국별소통물량!M74,국별소통물량!O74,국별소통물량!Q74) -> 202 | K33: =SUM(국별소통물량!M74,국별소통물량!O74,국별소통물량!Q74) -> 19 | L33: =SUM(국별소통물량!F74,국별소통물량!H74,국별소통물량!J74,국별소통물량!L74,국별소통물량!N74,국별소통물량!P74,국별소통물량!R74) -> 3370 | M33: =SUM(국별소통물량!N74,국별소통물량!P74,국별소통물량!R74) -> 1176 | N33: =(B33-H33)/H33*100 -> 98.460246 | O33: =(C33-I33)/I33% -> 4.8535565 | P33: =(D33-J33)/J33*100 -> 269.30693 | Q33: =(E33-K33)/K33% -> 263.15789 | R33: =(F33-L33)/L33*100 -> 88.219585 | S33: =(G33-M33)/M33% -> 0.68027211
A35: 집중국별 | B35: =SUM(B36:B38) -> 1292837 | C35: =SUM(C36:C38) -> 182564 | D35: =SUM(D36:D38) -> 764439 | E35: =SUM(E36:E38) -> 83055 | F35: =SUM(F36:F38) -> 528398 | G35: =SUM(G36:G38) -> 99509 | H35: =SUM(H36:H38) -> 533991 | I35: =SUM(I36:I38) -> 141238 | ... M35: =SUM(M36:M38) -> 86389 | N35: =(B35-H35)/H35*100 -> 142.10839 | O35: =(C35-I35)/I35*100 -> 29.259831 | P35: =(D35-J35)/J35*100 -> 183.34909 | Q35: =(E35-K35)/K35*100 -> 51.424821 | R35: =(F35-L35)/L35*100 -> 99.996215 | S35: =(G35-M35)/M35*100 -> 15.187119
A36: 광주집 | B36: =B7+B8+B9+B10+B16+B18+B19+B20+B23+B26+B29+B31+B32 -> 687603 | C36: =C7+C8+C9+C10+C16+C18+C19+C20+C23+C26+C29+C31+C32 -> 96111 | D36: =D7+D8+D9+D10+D16+D18+D19+D20+D23+D26+D29+D31+D32 -> 390863 | E36: =E7+E8+E9+E10+E16+E18+E19+E20+E23+E26+E29+E31+E32 -> 40896 | F36: =F7+F8+F9+F10+F16+F18+F19+F20+F23+F26+F29+F31+F32 -> 296740 | G36: =G7+G8+G9+G10+G16+G18+G19+G20+G23+G26+G29+G31+G32 -> 55215 | H36: =H7+H8+H9+H10+H16+H18+H19+H20+H23+H26+H29+H31+H32 -> 300304 | I36: =I7+I8+I9+I10+I16+I18+I19+I20+I23+I26+I29+I31+I32 -> 74348 | ... M36: =M7+M8+M9+M10+M16+M18+M19+M20+M23+M26+M29+M31+M32 -> 46621 | N36: =(B36-H36)/H36*100 -> 128.96898 | O36: =(C36-I36)/I36*100 -> 29.271803 | P36: =(D36-J36)/J36*100 -> 153.75112 | Q36: =(E36-K36)/K36*100 -> 47.495221 | R36: =(F36-L36)/L36*100 -> 102.8714 | S36: =(G36-M36)/M36*100 -> 18.433753
A37: 순천집 | B37: =B12+B13+B15+B17+B22 -> 264889 | C37: =C12+C13+C15+C17+C22 -> 40312 | D37: =D12+D13+D15+D17+D22 -> 141960 | E37: =E12+E13+E15+E17+E22 -> 17001 | F37: =F12+F13+F15+F17+F22 -> 122929 | G37: =G12+G13+G15+G17+G22 -> 23311 | H37: =H12+H13+H15+H17+H22 -> 112774 | I37: =I12+I13+I15+I17+I22 -> 33923 | ... M37: =M12+M13+M15+M17+M22 -> 22358 | N37: =(B37-H37)/H37*100 -> 134.88481 | O37: =(C37-I37)/I37*100 -> 18.83383 | P37: =(D37-J37)/J37*100 -> 192.48996 | Q37: =(E37-K37)/K37*100 -> 47.003891 | R37: =(F37-L37)/L37*100 -> 91.361945 | S37: =(G37-M37)/M37*100 -> 4.2624564
A38: 영암집 | B38: =B11+B14+B21+B25+B27+B24+B28+B30+B33 -> 340345 | C38: =C11+C14+C21+C25+C27+C24+C28+C30+C33 -> 46141 | D38: =D11+D14+D21+D25+D27+D24+D28+D30+D33 -> 231616 | E38: =E11+E14+E21+E25+E27+E24+E28+E30+E33 -> 25158 | F38: =F11+F14+F21+F25+F27+F24+F28+F30+F33 -> 108729 | G38: =G11+G14+G21+G25+G27+G24+G28+G30+G33 -> 20983 | H38: =H11+H14+H21+H25+H27+H24+H28+H30+H33 -> 120913 | I38: =I11+I14+I21+I25+I27+I24+I28+I30+I33 -> 32967 | ... M38: =M11+M14+M21+M25+M27+M24+M28+M30+M33 -> 17410 | N38: =(B38-H38)/H38*100 -> 181.47925 | O38: =(C38-I38)/I38*100 -> 39.961173 | P38: =(D38-J38)/J38*100 -> 244.57437 | Q38: =(E38-K38)/K38*100 -> 61.714984 | R38: =(F38-L38)/L38*100 -> 102.49371 | S38: =(G38-M38)/M38*100 -> 20.522688
A40: ▣ 집중국별 소포처리 현황
A41: 국 명 | B41: 당일접수 물량 | C41: 합 계 | G41: 발 송(수집) | K41: 도 착(배분)
C42: 15년 추석 | E42: 14년 추석 (누계) | F42: 증감률 (누계) | G42: 15년 추석 | I42: 14년 추석 (누계) | J42: 증감률 (누계) | K42: 15년 추석 | M42: 14년 추석 (누계) | N42: 증감률 (누계)
C43: 누계 | D43: 당일 | G43: 누계 | H43: 당일 | K43: 누계 | L43: 당일
A44: 합 계 | B44: =B45+B46+B47 -> 182564 | C44: =SUM(C45:C47) -> 1155442 | D44: =SUM(D45:D47) -> 510725 | E44: =SUM(E45:E47) -> 951274 | F44: =F45+F46+F47 -> 71.898825 | G44: =SUM(G45:G47) -> 670850 | H44: =SUM(H45:H47) -> 71723 | I44: =SUM(I45:I47) -> 547324 | J44: =(G44-I44)/I44% -> 22.569082 | K44: =SUM(K45:K47) -> 484592 | L44: =SUM(L45:L47) -> 96495 | M44: =M45+M46+M47 -> 403950 | N44: =(K44-M44)/M44% -> 19.963362
A45: 광주집 | B45: =C36 -> 96111 | C45: =G45+K45 -> 612837 | D45: =H45+L45 -> 89484 | E45: =I45+M45 -> 530033 | F45: =(C45-E45)/E45% -> 15.622424 | G45: ='집중국처리현황(구분물량)'!B6 -> 338325 | H45: =SUM('집중국처리현황(구분물량)'!G6:I6) -> 36015 | I45: ='집중국처리현황(구분물량)'!B23 -> 291685 | J45: =(G45-I45)/I45% -> 15.989852 | K45: ='집중국처리현황(구분물량)'!B30 -> 274512 | L45: =SUM('집중국처리현황(구분물량)'!G30:I30) -> 53469 | M45: ='집중국처리현황(구분물량)'!B36 -> 238348 | N45: =(K45-M45)/M45% -> 15.172773
A46: 순천집 | B46: =C37 -> 40312 | C46: =G46+K46 -> 228027 | D46: =I46+M46 -> 186509 | E46: =I46+M46 -> 186509 | F46: =(C46-E46)/E46% -> 22.260588 | G46: ='집중국처리현황(구분물량)'!B7 -> 117866 | H46: =SUM('집중국처리현황(구분물량)'!G7:I7) -> 12900 | I46: ='집중국처리현황(구분물량)'!B24 -> 96645 | J46: =(G46-I46)/I46% -> 21.95768 | K46: ='집중국처리현황(구분물량)'!B31 -> 110161 | L46: =SUM('집중국처리현황(구분물량)'!G31:I31) -> 21991 | M46: ='집중국처리현황(구분물량)'!B37 -> 89864 | N46: =(K46-M46)/M46% -> 22.586353
A47: 영암집 | B47: =C38 -> 46141 | C47: =G47+K47 -> 314578 | D47: =I47+M47 -> 234732 | E47: =I47+M47 -> 234732 | F47: =(C47-E47)/E47% -> 34.015814 | G47: ='집중국처리현황(구분물량)'!B8 -> 214659 | H47: =SUM('집중국처리현황(구분물량)'!G8:I8) -> 22808 | I47: ='집중국처리현황(구분물량)'!B25 -> 158994 | J47: =(G47-I47)/I47% -> 35.010755 | K47: ='집중국처리현황(구분물량)'!B32 -> 99919 | L47: =SUM('집중국처리현황(구분물량)'!G32:I32) -> 21035 | M47: ='집중국처리현황(구분물량)'!B38 -> 75738 | N47: =(K47-M47)/M47% -> 31.92717
A49: o 발송(수집) 구분 세부내역
A50: 구분 | B50: 집중국 | G50: 임시집하장(재게)
B51: 구분 | E51: 주간 미구분 (센터발송) | F51: 합계 | G51: 국명 | H51: 계 | I51: 교환센터 | J51: 광주집 | K51: 타 집중국
B52: 소계 | C52: 기계 | D52: 수작업
A53: 합 계 | B53: =C53+D53 -> 71723 | C53: =SUM(C54:C56) -> 70296 | D53: =SUM(D54:D56) -> 1427 | E53: =SUM(E54:E56) -> 0 | F53: =B53+E53 -> 71723 | G53: 계 | H53: =SUM(H54:H55) -> 3843 | I53: =SUM(I54:I56) -> 0 | J53: =SUM(J54:J56) -> 3843 | K53: =SUM(K54:K56) -> 0
A54: 광주집 | B54: =C54+D54 -> 36015 | C54: =SUM('집중국처리현황(구분물량)'!G12:I12) -> 34588 | D54: =SUM('집중국처리현황(구분물량)'!G13:I13) -> 1427 | F54: =B54+E54 -> 36015 | G54: 나주 | H54: =SUM(I54:K54) -> 0 | L54: 0
A55: 순천집 | B55: =C55+D55 -> 12900 | C55: =SUM('집중국처리현황(구분물량)'!G15:I15) -> 12900 | D55: 0 | F55: =B55+E55 -> 12900 | G55: 영광 | H55: =SUM(I55:K55) -> 3843 | I55: =임시집하장!Q7+임시집하장!R7 -> 0 | J55: =임시집하장!S7+임시집하장!T7+임시집하장!U7 -> 3843 | K55: =임시집하장!V7 -> 0
A56: 영암집 | B56: =C56+D56 -> 22808 | C56: =SUM('집중국처리현황(구분물량)'!G18:I18) -> 22808 | D56: 0 | F56: =B56+E56 -> 22808
A58: ▣ 집중국별 발송구분 작업인력 현황 | B58: ▣ 집중국별 소포처리 현황 | C58: ▣ 집중국별 소포처리 현황 | D58: ▣ 집중국별 소포처리 현황
A59: 구분 | B59: 주간작업(18시 이전) | F59: 야간작업(18시 이후)
B60: 소계 | C60: 정규직 | D60: 기존인원 (비정규직) | E60: 단기파트 (비정규직) | F60: 소계 | G60: 정규직 | H60: 기존인원 (비정규직) | I60: 단기파트 (비정규직) | J60: 우정청 지원
A61: 합계 | B61: 66 | C61: 47 | D61: 4 | E61: 15 | F61: 4 | G61: 4 | H61: 0 | I61: 0 | J61: 0
A62: 광주집 | B62: 24 | C62: 20 | D62: 4
A63: 순천집 | B63: 18 | C63: 12 | E63: 6 | F63: 2 | G63: 2
A64: 영암집 | B64: 24 | C64: 15 | D64: 0 | E64: 9 | F64: 2 | G64: 2

Sheet 9.14.(월)
A1: 2015. 추석 명절 우편물 특별소통 일일보고(9.14.월)
A2: ▣ 총괄국별 등기소포 취급물량 현황 | L2: 2015. 추석 : 2015. 9. 7.(월) ~ 2015. 9. 26.(토) 2014. 추석 : 2014. 8.18(월) ~ 2014. 9.6.(토)
A3: 국 명 | B3: 2015. 추석(9.14.월) | H3: 2014. 추석(8.25.월) | N3: 증 감 률
B4: 합 계 | D4: 접 수 | F4: 배 달 | H4: 합 계 | J4: 접 수 | L4: 배 달 | N4: 합계 | P4: 접수 | R4: 배달
B5: 누계 | C5: 당일 | D5: 누계 | E5: 당일 | F5: 누계 | G5: 당일 | H5: 누계 | I5: 당일 | J5: 누계 | K5: 당일 | L5: 누계 | M5: 당일 | N5: 누계 | O5: 당일 | P5: 누계 | Q5: 당일 | R5: 누계 | S5: 당일
A6: 합 계 | B6: =D6+F6 -> 1292837 | C6: =SUM(C7:C33) -> 150868 | D6: =SUM(D7:D33) -> 764439 | E6: =SUM(E7:E33) -> 128467 | F6: =SUM(F7:F33) -> 528398 | G6: =SUM(G7:G33) -> 22401 | H6: =SUM(H7:H33) -> 637204 | I6: =SUM(I7:I33) -> 103213 | J6: =SUM(J7:J33) -> 361542 | ... M6: =SUM(M7:M33) -> 11458 | N6: =(B6-H6)/H6*100 -> 102.89217 | O6: =(C6-I6)/I6% -> 46.171509 | P6: =(D6-J6)/J6*100 -> 111.43851 | Q6: =(E6-K6)/K6% -> 40.010899 | R6: =(F6-L6)/L6*100 -> 91.683293 | S6: =(G6-M6)/M6% -> 95.505324
A7: 광 주 | B7: =D7+F7 -> 118306 | C7: =E7+G7 -> 15741 | D7: =국별소통물량!C6 -> 62362 | E7: =국별소통물량!S6 -> 11711 | F7: =국별소통물량!D6 -> 55944 | G7: =국별소통물량!T6 -> 4030 | H7: =J7+L7 -> 81098 | I7: =K7+M7 -> 11340 | J7: =SUM(국별소통물량!E48,국별소통물량!G48,국별소통물량!I48,국별소통물량!K48,국별소통물량!M48,국별소통물량!O48,국별소통물량!Q48,국별소통물량!S48) -> 52428 | K7: =국별소통물량!S48 -> 10041 | L7: =SUM(국별소통물량!F48,국별소통물량!H48,국별소통물량!J48,국별소통물량!L48,국별소통물량!N48,국별소통물량!P48,국별소통물량!R48,국별소통물량!T48) -> 28670 | M7: =국별소통물량!T48 -> 1299 | N7: =(B7-H7)/H7*100 -> 45.880293 | O7: =(C7-I7)/I7% -> 38.809524 | P7: =(D7-J7)/J7*100 -> 18.94789 | Q7: =(E7-K7)/K7% -> 16.63181 | R7: =(F7-L7)/L7*100 -> 95.130799 | S7: =(G7-M7)/M7% -> 210.23865
A8: 북광주 | B8: =D8+F8 -> 88104 | C8: =E8+G8 -> 5218 | D8: =국별소통물량!C7 -> 17575 | E8: =국별소통물량!S7 -> 2646 | F8: =국별소통물량!D7 -> 70529 | G8: =국별소통물량!T7 -> 2572 | H8: =J8+L8 -> 68042 | I8: =K8+M8 -> 8269 | J8: =SUM(국별소통물량!E49,국별소통물량!G49,국별소통물량!I49,국별소통물량!K49,국별소통물량!M49,국별소통물량!O49,국별소통물량!Q49,국별소통물량!S49) -> 31035 | K8: =국별소통물량!S49 -> 6889 | L8: =SUM(국별소통물량!F49,국별소통물량!H49,국별소통물량!J49,국별소통물량!L49,국별소통물량!N49,국별소통물량!P49,국별소통물량!R49,국별소통물량!T49) -> 37007 | M8: =국별소통물량!T49 -> 1380 | N8: =(B8-H8)/H8*100 -> 29.48473 | O8: =(C8-I8)/I8% -> -36.896844 | P8: =(D8-J8)/J8*100 -> -43.370388 | Q8: =(E8-K8)/K8% -> -61.590942 | R8: =(F8-L8)/L8*100 -> 90.582863 | S8: =(G8-M8)/M8% -> 86.376812
A9: 서광주 | B9: =D9+F9 -> 129641 | C9: =E9+G9 -> 14317 | D9: =국별소통물량!C8 -> 73744 | E9: =국별소통물량!S8 -> 12160 | F9: =국별소통물량!D8 -> 55897 | G9: =국별소통물량!T8 -> 2157 | H9: =J9+L9 -> 58544 | I9: =K9+M9 -> 8542 | J9: =SUM(국별소통물량!E50,국별소통물량!G50,국별소통물량!I50,국별소통물량!K50,국별소통물량!M50,국별소통물량!O50,국별소통물량!Q50,국별소통물량!S50) -> 29725 | K9: =국별소통물량!S50 -> 7331 | L9: =SUM(국별소통물량!F50,국별소통물량!H50,국별소통물량!J50,국별소통물량!L50,국별소통물량!N50,국별소통물량!P50,국별소통물량!R50,국별소통물량!T50) -> 28819 | M9: =국별소통물량!T50 -> 1211 | N9: =(B9-H9)/H9*100 -> 121.44199 | O9: =(C9-I9)/I9% -> 67.607118 | P9: =(D9-J9)/J9*100 -> 148.08747 | Q9: =(E9-K9)/K9% -> 65.870959 | R9: =(F9-L9)/L9*100 -> 93.958847 | S9: =(G9-M9)/M9% -> 78.117258
A10: 광주광산 | B10: =D10+F10 -> 69932 | C10: =E10+G10 -> 4410 | D10: =국별소통물량!C9 -> 14981 | E10: =국별소통물량!S9 -> 2498 | F10: =국별소통물량!D9 -> 54951 | G10: =국별소통물량!T9 -> 1912 | H10: =J10+L10 -> 59152 | I10: =K10+M10 -> 6018 | J10: =SUM(국별소통물량!E51,국별소통물량!G51,국별소통물량!I51,국별소통물량!K51,국별소통물량!M51,국별소통물량!O51,국별소통물량!Q51,국별소통물량!S51) -> 28052 | K10: =국별소통물량!S51 -> 5306 | L10: =SUM(국별소통물량!F51,국별소통물량!H51,국별소통물량!J51,국별소통물량!L51,국별소통물량!N51,국별소통물량!P51,국별소통물량!R51,국별소통물량!T51) -> 31100 | M10: =국별소통물량!T51 -> 712 | N10: =(B10-H10)/H10*100 -> 18.224236 | O10: =(C10-I10)/I10% -> -26.71984 | P10: =(D10-J10)/J10*100 -> -46.595608 | Q10: =(E10-K10)/K10% -> -52.921221 | R10: =(F10-L10)/L10*100 -> 76.691318 | S10: =(G10-M10)/M10% -> 168.53933
A11: 목 포 | B11: =D11+F11 -> 95525 | C11: =E11+G11 -> 10509 | D11: =국별소통물량!C10 -> 50278 | E11: =국별소통물량!S10 -> 8786 | F11: =국별소통물량!D10 -> 45247 | G11: =국별소통물량!T10 -> 1723 | H11: =J11+L11 -> 46756 | I11: =K11+M11 -> 6758 | J11: =SUM(국별소통물량!E52,국별소통물량!G52,국별소통물량!I52,국별소통물량!K52,국별소통물량!M52,국별소통물량!O52,국별소통물량!Q52,국별소통물량!S52) -> 20496 | K11: =국별소통물량!S52 -> 5491 | L11: =SUM(국별소통물량!F52,국별소통물량!H52,국별소통물량!J52,국별소통물량!L52,국별소통물량!N52,국별소통물량!P52,국별소통물량!R52,국별소통물량!T52) -> 26260 | M11: =국별소통물량!T52 -> 1267 | N11: =(B11-H11)/H11*100 -> 104.30533 | O11: =(C11-I11)/I11% -> 55.504587 | P11: =(D11-J11)/J11*100 -> 145.3064 | Q11: =(E11-K11)/K11% -> 60.007285 | R11: =(F11-L11)/L11*100 -> 72.303884 | S11: =(G11-M11)/M11% -> 35.990529
A12: 여 수 | B12: =D12+F12 -> 114753 | C12: =E12+G12 -> 12830 | D12: =국별소통물량!C11 -> 72421 | E12: =국별소통물량!S11 -> 10935 | F12: =국별소통물량!D11 -> 42332 | G12: =국별소통물량!T11 -> 1895 | H12: =J12+L12 -> 53017 | I12: =K12+M12 -> 9832 | J12: =SUM(국별소통물량!E53,국별소통물량!G53,국별소통물량!I53,국별소통물량!K53,국별소통물량!M53,국별소통물량!O53,국별소통물량!Q53,국별소통물량!S53) -> 30467 | K12: =국별소통물량!S53 -> 9052 | L12: =SUM(국별소통물량!F53,국별소통물량!H53,국별소통물량!J53,국별소통물량!L53,국별소통물량!N53,국별소통물량!P53,국별소통물량!R53,국별소통물량!T53) -> 22550 | M12: =국별소통물량!T53 -> 780 | N12: =(B12-H12)/H12*100 -> 116.44567 | O12: =(C12-I12)/I12% -> 30.49227 | P12: =(D12-J12)/J12*100 -> 137.70309 | Q12: =(E12-K12)/K12% -> 20.802033 | R12: =(F12-L12)/L12*100 -> 87.725055 | S12: =(G12-M12)/M12% -> 142.94872
A13: 순 천 | B13: =D13+F13 -> 69848 | C13: =E13+G13 -> 7062 | D13: =국별소통물량!C12 -> 29552 | E13: =국별소통물량!S12 -> 5603 | F13: =국별소통물량!D12 -> 40296 | G13: =국별소통물량!T12 -> 1459 | H13: =J13+L13 -> 37766 | I13: =K13+M13 -> 6136 | J13: =SUM(국별소통물량!E54,국별소통물량!G54,국별소통물량!I54,국별소통물량!K54,국별소통물량!M54,국별소통물량!O54,국별소통물량!Q54,국별소통물량!S54) -> 16626 | K13: =국별소통물량!S54 -> 5083 | L13: =SUM(국별소통물량!F54,국별소통물량!H54,국별소통물량!J54,국별소통물량!L54,국별소통물량!N54,국별소통물량!P54,국별소통물량!R54,국별소통물량!T54) -> 21140 | M13: =국별소통물량!T54 -> 1053 | N13: =(B13-H13)/H13*100 -> 84.949425 | O13: =(C13-I13)/I13% -> 15.091265 | P13: =(D13-J13)/J13*100 -> 77.7457 | Q13: =(E13-K13)/K13% -> 10.230179 | R13: =(F13-L13)/L13*100 -> 90.614948 | S13: =(G13-M13)/M13% -> 38.556505
A14: 강 진 | B14: =D14+F14 -> 15183 | C14: =E14+G14 -> 2145 | D14: =국별소통물량!C13 -> 9530 | E14: =국별소통물량!S13 -> 1919 | F14: =국별소통물량!D13 -> 5653 | G14: =국별소통물량!T13 -> 226 | H14: =J14+L14 -> 6849 | I14: =K14+M14 -> 1197 | J14: =SUM(국별소통물량!E55,국별소통물량!G55,국별소통물량!I55,국별소통물량!K55,국별소통물량!M55,국별소통물량!O55,국별소통물량!Q55,국별소통물량!S55) -> 4276 | K14: =국별소통물량!S55 -> 1062 | L14: =SUM(국별소통물량!F55,국별소통물량!H55,국별소통물량!J55,국별소통물량!L55,국별소통물량!N55,국별소통물량!P55,국별소통물량!R55,국별소통물량!T55) -> 2573 | M14: =국별소통물량!T55 -> 135 | N14: =(B14-H14)/H14*100 -> 121.682 | O14: =(C14-I14)/I14% -> 79.197995 | P14: =(D14-J14)/J14*100 -> 122.87184 | Q14: =(E14-K14)/K14% -> 80.696798 | R14: =(F14-L14)/L14*100 -> 119.70462 | S14: =(G14-M14)/M14% -> 67.407407
A15: 고 흥 | B15: =D15+F15 -> 32141 | C15: =E15+G15 -> 3705 | D15: =국별소통물량!C14 -> 20227 | E15: =국별소통물량!S14 -> 3127 | F15: =국별소통물량!D14 -> 11914 | G15: =국별소통물량!T14 -> 578 | H15: =J15+L15 -> 13262 | I15: =K15+M15 -> 2375 | J15: =SUM(국별소통물량!E56,국별소통물량!G56,국별소통물량!I56,국별소통물량!K56,국별소통물량!M56,국별소통물량!O56,국별소통물량!Q56,국별소통물량!S56) -> 9076 | K15: =국별소통물량!S56 -> 2268 | L15: =SUM(국별소통물량!F56,국별소통물량!H56,국별소통물량!J56,국별소통물량!L56,국별소통물량!N56,국별소통물량!P56,국별소통물량!R56,국별소통물량!T56) -> 4186 | M15: =국별소통물량!T56 -> 107 | N15: =(B15-H15)/H15*100 -> 142.35409 | O15: =(C15-I15)/I15% -> 56 | P15: =(D15-J15)/J15*100 -> 122.86249 | Q15: =(E15-K15)/K15% -> 37.87478 | R15: =(F15-L15)/L15*100 -> 184.61538 | S15: =(G15-M15)/M15% -> 440.18692
A16: 곡 성 | B16: =D16+F16 -> 11246 | C16: =E16+G16 -> 1509 | D16: =국별소통물량!C15 -> 6067 | E16: =국별소통물량!S15 -> 1323 | F16: =국별소통물량!D15 -> 5179 | G16: =국별소통물량!T15 -> 186 | H16: =J16+L16 -> 4471 | I16: =K16+M16 -> 848 | J16: =SUM(국별소통물량!E57,국별소통물량!G57,국별소통물량!I57,국별소통물량!K57,국별소통물량!M57,국별소통물량!O57,국별소통물량!Q57,국별소통물량!S57) -> 2754 | K16: =국별소통물량!S57 -> 797 | L16: =SUM(국별소통물량!F57,국별소통물량!H57,국별소통물량!J57,국별소통물량!L57,국별소통물량!N57,국별소통물량!P57,국별소통물량!R57,국별소통물량!T57) -> 1717 | M16: =국별소통물량!T57 -> 51 | N16: =(B16-H16)/H16*100 -> 151.5321 | O16: =(C16-I16)/I16% -> 77.948113 | P16: =(D16-J16)/J16*100 -> 120.29775 | Q16: =(E16-K16)/K16% -> 65.997491 | R16: =(F16-L16)/L16*100 -> 201.63075 | S16: =(G16-M16)/M16% -> 264.70588
A17: 광 양 | B17: =D17+F17 -> 34683 | C17: =E17+G17 -> 2794 | D17: =국별소통물량!C16 -> 12726 | E17: =국별소통물량!S16 -> 1961 | F17: =국별소통물량!D16 -> 21957 | G17: =국별소통물량!T16 -> 833 | H17: =J17+L17 -> 25003 | I17: =K17+M17 -> 2782 | J17: =SUM(국별소통물량!E58,국별소통물량!G58,국별소통물량!I58,국별소통물량!K58,국별소통물량!M58,국별소통물량!O58,국별소통물량!Q58,국별소통물량!S58) -> 8503 | K17: =국별소통물량!S58 -> 2064 | L17: =SUM(국별소통물량!F58,국별소통물량!H58,국별소통물량!J58,국별소통물량!L58,국별소통물량!N58,국별소통물량!P58,국별소통물량!R58,국별소통물량!T58) -> 16500 | M17: =국별소통물량!T58 -> 718 | N17: =(B17-H17)/H17*100 -> 38.715354 | O17: =(C17-I17)/I17% -> 0.43134436 | P17: =(D17-J17)/J17*100 -> 49.664824 | Q17: =(E17-K17)/K17% -> -4.9903101 | R17: =(F17-L17)/L17*100 -> 33.072727 | S17: =(G17-M17)/M17% -> 16.016713
A18: 구 례 | B18: =D18+F18 -> 12076 | C18: =E18+G18 -> 2607 | D18: =국별소통물량!C17 -> 7545 | E18: =국별소통물량!S17 -> 2232 | F18: =국별소통물량!D17 -> 4531 | G18: =국별소통물량!T17 -> 375 | H18: =J18+L18 -> 3744 | I18: =K18+M18 -> 523 | J18: =SUM(국별소통물량!E59,국별소통물량!G59,국별소통물량!I59,국별소통물량!K59,국별소통물량!M59,국별소통물량!O59,국별소통물량!Q59,국별소통물량!S59) -> 1933 | K18: =국별소통물량!S59 -> 417 | L18: =SUM(국별소통물량!F59,국별소통물량!H59,국별소통물량!J59,국별소통물량!L59,국별소통물량!N59,국별소통물량!P59,국별소통물량!R59,국별소통물량!T59) -> 1811 | M18: =국별소통물량!T59 -> 106 | N18: =(B18-H18)/H18*100 -> 222.54274 | O18: =(C18-I18)/I18% -> 398.47036 | P18: =(D18-J18)/J18*100 -> 290.32592 | Q18: =(E18-K18)/K18% -> 435.2518 | R18: =(F18-L18)/L18*100 -> 150.19326 | S18: =(G18-M18)/M18% -> 253.77358
... A33: 영암집 | B33: =D33+F33 -> 7089 | C33: =E33+G33 -> 512 | D33: =국별소통물량!C32 -> 746 | E33: =국별소통물량!S32 -> 113 | F33: =국별소통물량!D32 -> 6343 | G33: =국별소통물량!T32 -> 399 | H33: =J33+L33 -> 3733 | I33: =K33+M33 -> 161 | J33: =SUM(국별소통물량!E74,국별소통물량!G74,국별소통물량!I74,국별소통물량!K74,국별소통물량!M74,국별소통물량!O74,국별소통물량!Q74,국별소통물량!S74) -> 243 | K33: =국별소통물량!S74 -> 41 | L33: =SUM(국별소통물량!F74,국별소통물량!H74,국별소통물량!J74,국별소통물량!L74,국별소통물량!N74,국별소통물량!P74,국별소통물량!R74,국별소통물량!T74) -> 3490 | M33: =국별소통물량!T74 -> 120 | N33: =(B33-H33)/H33*100 -> 89.900884 | O33: =(C33-I33)/I33% -> 218.01242 | P33: =(D33-J33)/J33*100 -> 206.99588 | Q33: =(E33-K33)/K33% -> 175.60976 | R33: =(F33-L33)/L33*100 -> 81.747851 | S33: =(G33-M33)/M33% -> 232.5
A35: 집중국별 | B35: =SUM(B36:B38) -> 1292837 | C35: =SUM(C36:C38) -> 150868 | D35: =SUM(D36:D38) -> 764439 | E35: =SUM(E36:E38) -> 128467 | F35: =SUM(F36:F38) -> 528398 | G35: =SUM(G36:G38) -> 22401 | H35: =SUM(H36:H38) -> 637204 | I35: =SUM(I36:I38) -> 103213 | ... M35: =SUM(M36:M38) -> 11458 | N35: =(B35-H35)/H35*100 -> 102.89217 | O35: =(C35-I35)/I35*100 -> 46.171509 | P35: =(D35-J35)/J35*100 -> 111.43851 | Q35: =(E35-K35)/K35*100 -> 40.010899 | R35: =(F35-L35)/L35*100 -> 91.683293 | S35: =(G35-M35)/M35*100 -> 95.505324
A36: 광주집 | B36: =B7+B8+B9+B10+B16+B18+B19+B20+B23+B26+B29+B31+B32 -> 687603 | C36: =C7+C8+C9+C10+C16+C18+C19+C20+C23+C26+C29+C31+C32 -> 81334 | D36: =D7+D8+D9+D10+D16+D18+D19+D20+D23+D26+D29+D31+D32 -> 390863 | E36: =E7+E8+E9+E10+E16+E18+E19+E20+E23+E26+E29+E31+E32 -> 68106 | F36: =F7+F8+F9+F10+F16+F18+F19+F20+F23+F26+F29+F31+F32 -> 296740 | G36: =G7+G8+G9+G10+G16+G18+G19+G20+G23+G26+G29+G31+G32 -> 13228 | H36: =H7+H8+H9+H10+H16+H18+H19+H20+H23+H26+H29+H31+H32 -> 356006 | I36: =I7+I8+I9+I10+I16+I18+I19+I20+I23+I26+I29+I31+I32 -> 55702 | ... M36: =M7+M8+M9+M10+M16+M18+M19+M20+M23+M26+M29+M31+M32 -> 6126 | N36: =(B36-H36)/H36*100 -> 93.143655 | O36: =(C36-I36)/I36*100 -> 46.016301 | P36: =(D36-J36)/J36*100 -> 91.966505 | Q36: =(E36-K36)/K36*100 -> 37.376957 | R36: =(F36-L36)/L36*100 -> 94.716397 | S36: =(G36-M36)/M36*100 -> 115.93209
A37: 순천집 | B37: =B12+B13+B15+B17+B22 -> 264889 | C37: =C12+C13+C15+C17+C22 -> 27806 | D37: =D12+D13+D15+D17+D22 -> 141960 | E37: =E12+E13+E15+E17+E22 -> 22774 | F37: =F12+F13+F15+F17+F22 -> 122929 | G37: =G12+G13+G15+G17+G22 -> 5032 | H37: =H12+H13+H15+H17+H22 -> 135124 | I37: =I12+I13+I15+I17+I22 -> 22350 | ... M37: =M12+M13+M15+M17+M22 -> 2785 | N37: =(B37-H37)/H37*100 -> 96.034013 | O37: =(C37-I37)/I37*100 -> 24.411633 | P37: =(D37-J37)/J37*100 -> 108.45815 | Q37: =(E37-K37)/K37*100 -> 16.401738 | R37: =(F37-L37)/L37*100 -> 83.41042 | S37: =(G37-M37)/M37*100 -> 80.682226
A38: 영암집 | B38: =B11+B14+B21+B25+B27+B24+B28+B30+B33 -> 340345 | C38: =C11+C14+C21+C25+C27+C24+C28+C30+C33 -> 41728 | D38: =D11+D14+D21+D25+D27+D24+D28+D30+D33 -> 231616 | E38: =E11+E14+E21+E25+E27+E24+E28+E30+E33 -> 37587 | F38: =F11+F14+F21+F25+F27+F24+F28+F30+F33 -> 108729 | G38: =G11+G14+G21+G25+G27+G24+G28+G30+G33 -> 4141 | H38: =H11+H14+H21+H25+H27+H24+H28+H30+H33 -> 146074 | I38: =I11+I14+I21+I25+I27+I24+I28+I30+I33 -> 25161 | ... M38: =M11+M14+M21+M25+M27+M24+M28+M30+M33 -> 2547 | N38: =(B38-H38)/H38*100 -> 132.99492 | O38: =(C38-I38)/I38*100 -> 65.843965 | P38: =(D38-J38)/J38*100 -> 157.8324 | Q38: =(E38-K38)/K38*100 -> 66.211197 | R38: =(F38-L38)/L38*100 -> 93.323495 | S38: =(G38-M38)/M38*100 -> 62.583431
A40: ▣ 집중국별 소포처리 현황
A41: 국 명 | B41: 당일접수 배달물량 | C41: 합 계 | G41: 발 송(수집) | K41: 도 착(배분)
C42: 15년 추석 | E42: 14년 추석 (누계) | F42: 증감률 (누계) | G42: 15년 추석 | I42: 14년 추석 (누계) | J42: 증감률 (누계) | K42: 15년 추석 | M42: 14년 추석 (누계) | N42: 증감률 (누계)
C43: 누계 | D43: 당일 | G43: 누계 | H43: 당일 | K43: 누계 | L43: 당일
A44: 합 계 | B44: =B45+B46+B47 -> 150868 | C44: =SUM(C45:C47) -> 1155442 | D44: =SUM(D45:D47) -> 124594 | E44: =SUM(E45:E47) -> 951274 | F44: =F45+F46+F47 -> 71.898825 | G44: =SUM(G45:G47) -> 670850 | H44: =SUM(H45:H47) -> 115018 | I44: =SUM(I45:I47) -> 547324 | J44: =(G44-I44)/I44% -> 22.569082 | K44: =SUM(K45:K47) -> 484592 | L44: =SUM(L45:L47) -> 9576 | M44: =M45+M46+M47 -> 403950 | N44: =(K44-M44)/M44% -> 19.963362
A45: 광주집 | B45: =C36 -> 81334 | C45: =G45+K45 -> 612837 | D45: =H45+L45 -> 65297 | E45: =I45+M45 -> 530033 | F45: =(C45-E45)/E45% -> 15.622424 | G45: ='집중국처리현황(구분물량)'!B6 -> 338325 | H45: ='집중국처리현황(구분물량)'!J6 -> 59440 | I45: ='집중국처리현황(구분물량)'!B23 -> 291685 | J45: =(G45-I45)/I45% -> 15.989852 | K45: ='집중국처리현황(구분물량)'!B30 -> 274512 | L45: ='집중국처리현황(구분물량)'!J30 -> 5857 | M45: ='집중국처리현황(구분물량)'!B36 -> 238348 | N45: =(K45-M45)/M45% -> 15.172773
A46: 순천집 | B46: =C37 -> 27806 | C46: =G46+K46 -> 228027 | D46: =H46+L46 -> 22467 | E46: =I46+M46 -> 186509 | F46: =(C46-E46)/E46% -> 22.260588 | G46: ='집중국처리현황(구분물량)'!B7 -> 117866 | H46: ='집중국처리현황(구분물량)'!J7 -> 20240 | I46: ='집중국처리현황(구분물량)'!B24 -> 96645 | J46: =(G46-I46)/I46% -> 21.95768 | K46: ='집중국처리현황(구분물량)'!B31 -> 110161 | L46: ='집중국처리현황(구분물량)'!J31 -> 2227 | M46: ='집중국처리현황(구분물량)'!B37 -> 89864 | N46: =(K46-M46)/M46% -> 22.586353
A47: 영암집 | B47: =C38 -> 41728 | C47: =G47+K47 -> 314578 | D47: =H47+L47 -> 36830 | E47: =I47+M47 -> 234732 | F47: =(C47-E47)/E47% -> 34.015814 | G47: ='집중국처리현황(구분물량)'!B8 -> 214659 | H47: ='집중국처리현황(구분물량)'!J8 -> 35338 | I47: ='집중국처리현황(구분물량)'!B25 -> 158994 | J47: =(G47-I47)/I47% -> 35.010755 | K47: ='집중국처리현황(구분물량)'!B32 -> 99919 | L47: ='집중국처리현황(구분물량)'!J32 -> 1492 | M47: ='집중국처리현황(구분물량)'!B38 -> 75738 | N47: =(K47-M47)/M47% -> 31.92717
A49: o 발송(수집) 구분 세부내역
A50: 구분 | B50: 집중국 | G50: 임시집하장(재게)
B51: 구분 | E51: 주간 미구분 (센터발송) | F51: 합계 | G51: 국명 | H51: 계 | I51: 교환센터 | J51: 광주집 | K51: 타 집중국
B52: 소계 | C52: 기계 | D52: 수작업
A53: 합 계 | B53: =C53+D53 -> 115018 | C53: =SUM(C54:C56) -> 100789 | D53: =SUM(D54:D56) -> 14229 | E53: =SUM(E54:E56) -> 8283 | F53: =B53+E53 -> 123301 | G53: 계 | H53: =SUM(H54:H55) -> 5590 | I53: =SUM(I54:I56) -> 3000 | J53: =SUM(J54:J56) -> 2590 | K53: =SUM(K54:K56) -> 0
A54: 광주집 | B54: =C54+D54 -> 59440 | C54: ='집중국처리현황(구분물량)'!J12 -> 51365 | D54: ='집중국처리현황(구분물량)'!J13 -> 8075 | E54: =주간발송!E9 -> 8283 | F54: =B54+E54 -> 67723 | G54: 나주 | H54: =SUM(I54:K54) -> 0 | I54: =임시집하장!J8+임시집하장!K8 -> 0 | J54: =임시집하장!L7+임시집하장!M7+임시집하장!N7 -> 0 | K54: =임시집하장!O7 -> 0 | L54: 0
A55: 순천집 | B55: =C55+D55 -> 20240 | C55: ='집중국처리현황(구분물량)'!J15 -> 14086 | D55: ='집중국처리현황(구분물량)'!J16 -> 6154 | F55: =B55+E55 -> 20240 | G55: 영광 | H55: =SUM(I55:K55) -> 5590 | I55: =임시집하장!Q8+임시집하장!R8 -> 3000 | J55: =임시집하장!S8+임시집하장!T8+임시집하장!U8 -> 2590 | K55: =임시집하장!V8 -> 0
A56: 영암집 | B56: =C56+D56 -> 35338 | C56: ='집중국처리현황(구분물량)'!J18 -> 35338 | D56: ='집중국처리현황(구분물량)'!J19 -> 0 | F56: =B56+E56 -> 35338
A58: ▣ 집중국별 발송구분 작업인력 현황 | B58: ▣ 집중국별 소포처리 현황 | C58: ▣ 집중국별 소포처리 현황 | D58: ▣ 집중국별 소포처리 현황
A59: 구분 | B59: 주간작업(18시 이전) | F59: 야간작업(18시 이후)
B60: 소계 | C60: 정규직 | D60: 기존인원 (비정규직) | E60: 단기파트 (비정규직) | F60: 소계 | G60: 정규직 | H60: 기존인원 (비정규직) | I60: 단기파트 (비정규직) | J60: 우정청 지원
A61: 합계 | B61: =B62+B63+B64 -> 127 | C61: =C62+C63+C64 -> 79 | D61: =D62+D63+D64 -> 5 | E61: =E62+E63+E64 -> 43 | F61: =F62+F63+F64 -> 329 | G61: =G62+G63+G64 -> 103 | H61: =H62+H63+H64 -> 79 | I61: =I62+I63+I64 -> 147 | J61: =J62+J63+J64 -> 0
A62: 광주집 | B62: ='집중국처리현황(인력)'!B8 -> 44 | C62: ='집중국처리현황(인력)'!C8 -> 30 | D62: ='집중국처리현황(인력)'!D8 -> 0 | E62: ='집중국처리현황(인력)'!E8 -> 14 | F62: ='집중국처리현황(인력)'!F8 -> 145 | G62: ='집중국처리현황(인력)'!G8 -> 35 | H62: ='집중국처리현황(인력)'!H8 -> 45 | I62: ='집중국처리현황(인력)'!I8 -> 65 | J62: ='집중국처리현황(인력)'!J8 -> 0
A63: 순천집 | B63: ='집중국처리현황(인력)'!B9 -> 32 | C63: ='집중국처리현황(인력)'!C9 -> 26 | D63: ='집중국처리현황(인력)'!D9 -> 0 | E63: ='집중국처리현황(인력)'!E9 -> 6 | F63: ='집중국처리현황(인력)'!F9 -> 108 | G63: ='집중국처리현황(인력)'!G9 -> 38 | H63: ='집중국처리현황(인력)'!H9 -> 18 | I63: ='집중국처리현황(인력)'!I9 -> 52 | J63: ='집중국처리현황(인력)'!J9 -> 0
A64: 영암집 | B64: ='집중국처리현황(인력)'!B10 -> 51 | C64: ='집중국처리현황(인력)'!C10 -> 23 | D64: ='집중국처리현황(인력)'!D10 -> 5 | E64: ='집중국처리현황(인력)'!E10 -> 23 | F64: ='집중국처리현황(인력)'!F10 -> 76 | G64: ='집중국처리현황(인력)'!G10 -> 30 | H64: ='집중국처리현황(인력)'!H10 -> 16 | I64: ='집중국처리현황(인력)'!I10 -> 30 | J64: ='집중국처리현황(인력)'!J10 -> 0

Sheet 9.15.(화)
A1: 2015. 추석 명절 우편물 특별소통 일일보고(9.15.화)
A2: ▣ 총괄국별 등기소포 취급물량 현황 | L2: 2015. 추석 : 2015. 9. 7.(월) ~ 2015. 9. 26.(토) 2014. 추석 : 2014. 8.18(월) ~ 2014. 9.6.(토)
A3: 국 명 | B3: 2015. 추석(9.15.화) | H3: 2014. 추석(8.26.화) | N3: 증 감 률
B4: 합 계 | D4: 접 수 | F4: 배 달 | H4: 합 계 | J4: 접 수 | L4: 배 달 | N4: 합계 | P4: 접수 | R4: 배달
B5: 누계 | C5: 당일 | D5: 누계 | E5: 당일 | F5: 누계 | G5: 당일 | H5: 누계 | I5: 당일 | J5: 누계 | K5: 당일 | L5: 누계 | M5: 당일 | N5: 누계 | O5: 당일 | P5: 누계 | Q5: 당일 | R5: 누계 | S5: 당일
A6: 합 계 | B6: =D6+F6 -> 1292837 | C6: =SUM(C7:C33) -> 202796 | D6: =SUM(D7:D33) -> 764439 | E6: =SUM(E7:E33) -> 117785 | F6: =SUM(F7:F33) -> 528398 | G6: =SUM(G7:G33) -> 85011 | H6: =SUM(H7:H33) -> 815287 | I6: =SUM(I7:I33) -> 178083 | J6: =SUM(J7:J33) -> 468299 | ... M6: =SUM(M7:M33) -> 71326 | N6: =(B6-H6)/H6*100 -> 58.574465 | O6: =(C6-I6)/I6% -> 13.877237 | P6: =(D6-J6)/J6*100 -> 63.237376 | Q6: =(E6-K6)/K6% -> 10.330002 | R6: =(F6-L6)/L6*100 -> 52.281347 | S6: =(G6-M6)/M6% -> 19.186552
A7: 광 주 | B7: =D7+F7 -> 118306 | C7: =E7+G7 -> 17302 | D7: =국별소통물량!C6 -> 62362 | E7: =국별소통물량!U6 -> 7753 | F7: =국별소통물량!D6 -> 55944 | G7: =국별소통물량!V6 -> 9549 | H7: =J7+L7 -> 96550 | I7: =K7+M7 -> 15452 | J7: =SUM(국별소통물량!E48,국별소통물량!G48,국별소통물량!I48,국별소통물량!K48,국별소통물량!M48,국별소통물량!O48,국별소통물량!Q48,국별소통물량!S48,국별소통물량!U48) -> 59811 | K7: =국별소통물량!U48 -> 7383 | L7: =SUM(국별소통물량!F48,국별소통물량!H48,국별소통물량!J48,국별소통물량!L48,국별소통물량!N48,국별소통물량!P48,국별소통물량!R48,국별소통물량!T48,국별소통물량!V48) -> 36739 | M7: =국별소통물량!V48 -> 8069 | N7: =(B7-H7)/H7*100 -> 22.533402 | O7: =(C7-I7)/I7% -> 11.97256 | P7: =(D7-J7)/J7*100 -> 4.2651017 | Q7: =(E7-K7)/K7% -> 5.0115129 | R7: =(F7-L7)/L7*100 -> 52.27415 | S7: =(G7-M7)/M7% -> 18.341802
A8: 북광주 | B8: =D8+F8 -> 88104 | C8: =E8+G8 -> 14316 | D8: =국별소통물량!C7 -> 17575 | E8: =국별소통물량!U7 -> 2296 | F8: =국별소통물량!D7 -> 70529 | G8: =국별소통물량!V7 -> 12020 | H8: =J8+L8 -> 83464 | I8: =K8+M8 -> 15422 | J8: =SUM(국별소통물량!E49,국별소통물량!G49,국별소통물량!I49,국별소통물량!K49,국별소통물량!M49,국별소통물량!O49,국별소통물량!Q49,국별소통물량!S49,국별소통물량!U49) -> 37166 | K8: =국별소통물량!U49 -> 6131 | L8: =SUM(국별소통물량!F49,국별소통물량!H49,국별소통물량!J49,국별소통물량!L49,국별소통물량!N49,국별소통물량!P49,국별소통물량!R49,국별소통물량!T49,국별소통물량!V49) -> 46298 | M8: =국별소통물량!V49 -> 9291 | N8: =(B8-H8)/H8*100 -> 5.559283 | O8: =(C8-I8)/I8% -> -7.1715731 | P8: =(D8-J8)/J8*100 -> -52.712156 | Q8: =(E8-K8)/K8% -> -62.55097 | R8: =(F8-L8)/L8*100 -> 52.337034 | S8: =(G8-M8)/M8% -> 29.372511
A9: 서광주 | B9: =D9+F9 -> 129641 | C9: =E9+G9 -> 19836 | D9: =국별소통물량!C8 -> 73744 | E9: =국별소통물량!U8 -> 10272 | F9: =국별소통물량!D8 -> 55897 | G9: =국별소통물량!V8 -> 9564 | H9: =J9+L9 -> 73565 | I9: =K9+M9 -> 15021 | J9: =SUM(국별소통물량!E50,국별소통물량!G50,국별소통물량!I50,국별소통물량!K50,국별소통물량!M50,국별소통물량!O50,국별소통물량!Q50,국별소통물량!S50,국별소통물량!U50) -> 36298 | K9: =국별소통물량!U50 -> 6573 | L9: =SUM(국별소통물량!F50,국별소통물량!H50,국별소통물량!J50,국별소통물량!L50,국별소통물량!N50,국별소통물량!P50,국별소통물량!R50,국별소통물량!T50,국별소통물량!V50) -> 37267 | M9: =국별소통물량!V50 -> 8448 | N9: =(B9-H9)/H9*100 -> 76.226466 | O9: =(C9-I9)/I9% -> 32.055123 | P9: =(D9-J9)/J9*100 -> 103.16271 | Q9: =(E9-K9)/K9% -> 56.275673 | R9: =(F9-L9)/L9*100 -> 49.990608 | S9: =(G9-M9)/M9% -> 13.210227
A10: 광주광산 | B10: =D10+F10 -> 69932 | C10: =E10+G10 -> 11205 | D10: =국별소통물량!C9 -> 14981 | E10: =국별소통물량!U9 -> 1987 | F10: =국별소통물량!D9 -> 54951 | G10: =국별소통물량!V9 -> 9218 | H10: =J10+L10 -> 72921 | I10: =K10+M10 -> 13769 | J10: =SUM(국별소통물량!E51,국별소통물량!G51,국별소통물량!I51,국별소통물량!K51,국별소통물량!M51,국별소통물량!O51,국별소통물량!Q51,국별소통물량!S51,국별소통물량!U51) -> 34033 | K10: =국별소통물량!U51 -> 5981 | L10: =SUM(국별소통물량!F51,국별소통물량!H51,국별소통물량!J51,국별소통물량!L51,국별소통물량!N51,국별소통물량!P51,국별소통물량!R51,국별소통물량!T51,국별소통물량!V51) -> 38888 | M10: =국별소통물량!V51 -> 7788 | N10: =(B10-H10)/H10*100 -> -4.0989564 | O10: =(C10-I10)/I10% -> -18.621541 | P10: =(D10-J10)/J10*100 -> -55.98096 | Q10: =(E10-K10)/K10% -> -66.778131 | R10: =(F10-L10)/L10*100 -> 41.305801 | S10: =(G10-M10)/M10% -> 18.361582
A11: 목 포 | B11: =D11+F11 -> 95525 | C11: =E11+G11 -> 15236 | D11: =국별소통물량!C10 -> 50278 | E11: =국별소통물량!U10 -> 7838 | F11: =국별소통물량!D10 -> 45247 | G11: =국별소통물량!V10 -> 7398 | H11: =J11+L11 -> 58675 | I11: =K11+M11 -> 11919 | J11: =SUM(국별소통물량!E52,국별소통물량!G52,국별소통물량!I52,국별소통물량!K52,국별소통물량!M52,국별소통물량!O52,국별소통물량!Q52,국별소통물량!S52,국별소통물량!U52) -> 26453 | K11: =국별소통물량!U52 -> 5957 | L11: =SUM(국별소통물량!F52,국별소통물량!H52,국별소통물량!J52,국별소통물량!L52,국별소통물량!N52,국별소통물량!P52,국별소통물량!R52,국별소통물량!T52,국별소통물량!V52) -> 32222 | M11: =국별소통물량!V52 -> 5962 | N11: =(B11-H11)/H11*100 -> 62.803579 | O11: =(C11-I11)/I11% -> 27.829516 | P11: =(D11-J11)/J11*100 -> 90.065399 | Q11: =(E11-K11)/K11% -> 31.576297 | R11: =(F11-L11)/L11*100 -> 40.422693 | S11: =(G11-M11)/M11% -> 24.085877
A12: 여 수 | B12: =D12+F12 -> 114753 | C12: =E12+G12 -> 20360 | D12: =국별소통물량!C11 -> 72421 | E12: =국별소통물량!U11 -> 13757 | F12: =국별소통물량!D11 -> 42332 | G12: =국별소통물량!V11 -> 6603 | H12: =J12+L12 -> 69907 | I12: =K12+M12 -> 16890 | J12: =SUM(국별소통물량!E53,국별소통물량!G53,국별소통물량!I53,국별소통물량!K53,국별소통물량!M53,국별소통물량!O53,국별소통물량!Q53,국별소통물량!S53,국별소통물량!U53) -> 41738 | K12: =국별소통물량!U53 -> 11271 | L12: =SUM(국별소통물량!F53,국별소통물량!H53,국별소통물량!J53,국별소통물량!L53,국별소통물량!N53,국별소통물량!P53,국별소통물량!R53,국별소통물량!T53,국별소통물량!V53) -> 28169 | M12: =국별소통물량!V53 -> 5619 | N12: =(B12-H12)/H12*100 -> 64.150943 | O12: =(C12-I12)/I12% -> 20.544701 | P12: =(D12-J12)/J12*100 -> 73.513345 | Q12: =(E12-K12)/K12% -> 22.056605 | R12: =(F12-L12)/L12*100 -> 50.278675 | S12: =(G12-M12)/M12% -> 17.512013
A13: 순 천 | B13: =D13+F13 -> 69848 | C13: =E13+G13 -> 9876 | D13: =국별소통물량!C12 -> 29552 | E13: =국별소통물량!U12 -> 3916 | F13: =국별소통물량!D12 -> 40296 | G13: =국별소통물량!V12 -> 5960 | H13: =J13+L13 -> 48385 | I13: =K13+M13 -> 10619 | J13: =SUM(국별소통물량!E54,국별소통물량!G54,국별소통물량!I54,국별소통물량!K54,국별소통물량!M54,국별소통물량!O54,국별소통물량!Q54,국별소통물량!S54,국별소통물량!U54) -> 21685 | K13: =국별소통물량!U54 -> 5059 | L13: =SUM(국별소통물량!F54,국별소통물량!H54,국별소통물량!J54,국별소통물량!L54,국별소통물량!N54,국별소통물량!P54,국별소통물량!R54,국별소통물량!T54,국별소통물량!V54) -> 26700 | M13: =국별소통물량!V54 -> 5560 | N13: =(B13-H13)/H13*100 -> 44.358789 | O13: =(C13-I13)/I13% -> -6.9968924 | P13: =(D13-J13)/J13*100 -> 36.278534 | Q13: =(E13-K13)/K13% -> -22.593398 | R13: =(F13-L13)/L13*100 -> 50.921348 | S13: =(G13-M13)/M13% -> 7.1942446
A14: 강 진 | B14: =D14+F14 -> 15183 | C14: =E14+G14 -> 2462 | D14: =국별소통물량!C13 -> 9530 | E14: =국별소통물량!U13 -> 1515 | F14: =국별소통물량!D13 -> 5653 | G14: =국별소통물량!V13 -> 947 | H14: =J14+L14 -> 9029 | I14: =K14+M14 -> 2180 | J14: =SUM(국별소통물량!E55,국별소통물량!G55,국별소통물량!I55,국별소통물량!K55,국별소통물량!M55,국별소통물량!O55,국별소통물량!Q55,국별소통물량!S55,국별소통물량!U55) -> 5627 | K14: =국별소통물량!U55 -> 1351 | L14: =SUM(국별소통물량!F55,국별소통물량!H55,국별소통물량!J55,국별소통물량!L55,국별소통물량!N55,국별소통물량!P55,국별소통물량!R55,국별소통물량!T55,국별소통물량!V55) -> 3402 | M14: =국별소통물량!V55 -> 829 | N14: =(B14-H14)/H14*100 -> 68.158157 | O14: =(C14-I14)/I14% -> 12.93578 | P14: =(D14-J14)/J14*100 -> 69.362005 | Q14: =(E14-K14)/K14% -> 12.139156 | R14: =(F14-L14)/L14*100 -> 66.166961 | S14: =(G14-M14)/M14% -> 14.234017
A15: 고 흥 | B15: =D15+F15 -> 32141 | C15: =E15+G15 -> 4626 | D15: =국별소통물량!C14 -> 20227 | E15: =국별소통물량!U14 -> 2866 | F15: =국별소통물량!D14 -> 11914 | G15: =국별소통물량!V14 -> 1760 | H15: =J15+L15 -> 16620 | I15: =K15+M15 -> 3358 | J15: =SUM(국별소통물량!E56,국별소통물량!G56,국별소통물량!I56,국별소통물량!K56,국별소통물량!M56,국별소통물량!O56,국별소통물량!Q56,국별소통물량!S56,국별소통물량!U56) -> 11006 | K15: =국별소통물량!U56 -> 1930 | L15: =SUM(국별소통물량!F56,국별소통물량!H56,국별소통물량!J56,국별소통물량!L56,국별소통물량!N56,국별소통물량!P56,국별소통물량!R56,국별소통물량!T56,국별소통물량!V56) -> 5614 | M15: =국별소통물량!V56 -> 1428 | N15: =(B15-H15)/H15*100 -> 93.387485 | O15: =(C15-I15)/I15% -> 37.760572 | P15: =(D15-J15)/J15*100 -> 83.781574 | Q15: =(E15-K15)/K15% -> 48.497409 | R15: =(F15-L15)/L15*100 -> 112.21945 | S15: =(G15-M15)/M15% -> 23.2493
A16: 곡 성 | B16: =D16+F16 -> 11246 | C16: =E16+G16 -> 1691 | D16: =국별소통물량!C15 -> 6067 | E16: =국별소통물량!U15 -> 907 | F16: =국별소통물량!D15 -> 5179 | G16: =국별소통물량!V15 -> 784 | H16: =J16+L16 -> 5499 | I16: =K16+M16 -> 1028 | J16: =SUM(국별소통물량!E57,국별소통물량!G57,국별소통물량!I57,국별소통물량!K57,국별소통물량!M57,국별소통물량!O57,국별소통물량!Q57,국별소통물량!S57,국별소통물량!U57) -> 3397 | K16: =국별소통물량!U57 -> 643 | L16: =SUM(국별소통물량!F57,국별소통물량!H57,국별소통물량!J57,국별소통물량!L57,국별소통물량!N57,국별소통물량!P57,국별소통물량!R57,국별소통물량!T57,국별소통물량!V57) -> 2102 | M16: =국별소통물량!V57 -> 385 | N16: =(B16-H16)/H16*100 -> 104.50991 | O16: =(C16-I16)/I16% -> 64.494163 | P16: =(D16-J16)/J16*100 -> 78.598764 | Q16: =(E16-K16)/K16% -> 41.057543 | R16: =(F16-L16)/L16*100 -> 146.3844 | S16: =(G16-M16)/M16% -> 103.63636
A17: 광 양 | B17: =D17+F17 -> 34683 | C17: =E17+G17 -> 5070 | D17: =국별소통물량!C16 -> 12726 | E17: =국별소통물량!U16 -> 1756 | F17: =국별소통물량!D16 -> 21957 | G17: =국별소통물량!V16 -> 3314 | H17: =J17+L17 -> 30931 | I17: =K17+M17 -> 5928 | J17: =SUM(국별소통물량!E58,국별소통물량!G58,국별소통물량!I58,국별소통물량!K58,국별소통물량!M58,국별소통물량!O58,국별소통물량!Q58,국별소통물량!S58,국별소통물량!U58) -> 10931 | K17: =국별소통물량!U58 -> 2428 | L17: =SUM(국별소통물량!F58,국별소통물량!H58,국별소통물량!J58,국별소통물량!L58,국별소통물량!N58,국별소통물량!P58,국별소통물량!R58,국별소통물량!T58,국별소통물량!V58) -> 20000 | M17: =국별소통물량!V58 -> 3500 | N17: =(B17-H17)/H17*100 -> 12.130225 | O17: =(C17-I17)/I17% -> -14.473684 | P17: =(D17-J17)/J17*100 -> 16.421187 | Q17: =(E17-K17)/K17% -> -27.6771 | R17: =(F17-L17)/L17*100 -> 9.785 | S17: =(G17-M17)/M17% -> -5.3142857
A18: 구 례 | B18: =D18+F18 -> 12076 | C18: =E18+G18 -> 1935 | D18: =국별소통물량!C17 -> 7545 | E18: =국별소통물량!U17 -> 1170 | F18: =국별소통물량!D17 -> 4531 | G18: =국별소통물량!V17 -> 765 | H18: =J18+L18 -> 4581 | I18: =K18+M18 -> 837 | J18: =SUM(국별소통물량!E59,국별소통물량!G59,국별소통물량!I59,국별소통물량!K59,국별소통물량!M59,국별소통물량!O59,국별소통물량!Q59,국별소통물량!S59,국별소통물량!U59) -> 2380 | K18: =국별소통물량!U59 -> 447 | L18: =SUM(국별소통물량!F59,국별소통물량!H59,국별소통물량!J59,국별소통물량!L59,국별소통물량!N59,국별소통물량!P59,국별소통물량!R59,국별소통물량!T59,국별소통물량!V59) -> 2201 | M18: =국별소통물량!V59 -> 390 | N18: =(B18-H18)/H18*100 -> 163.61057 | O18: =(C18-I18)/I18% -> 131.1828 | P18: =(D18-J18)/J18*100 -> 217.01681 | Q18: =(E18-K18)/K18% -> 161.74497 | R18: =(F18-L18)/L18*100 -> 105.86097 | S18: =(G18-M18)/M18% -> 96.153846
... A33: 영암집 | B33: =D33+F33 -> 7089 | C33: =E33+G33 -> 1064 | D33: =국별소통물량!C32 -> 746 | E33: =국별소통물량!U32 -> 132 | F33: =국별소통물량!D32 -> 6343 | G33: =국별소통물량!V32 -> 932 | H33: =J33+L33 -> 4773 | I33: =K33+M33 -> 1040 | J33: =SUM(국별소통물량!E74,국별소통물량!G74,국별소통물량!I74,국별소통물량!K74,국별소통물량!M74,국별소통물량!O74,국별소통물량!Q74,국별소통물량!S74,국별소통물량!U74) -> 299 | K33: =국별소통물량!U74 -> 56 | L33: =SUM(국별소통물량!F74,국별소통물량!H74,국별소통물량!J74,국별소통물량!L74,국별소통물량!N74,국별소통물량!P74,국별소통물량!R74,국별소통물량!T74,국별소통물량!V74) -> 4474 | M33: =국별소통물량!V74 -> 984 | N33: =(B33-H33)/H33*100 -> 48.522942 | O33: =(C33-I33)/I33% -> 2.3076923 | P33: =(D33-J33)/J33*100 -> 149.49833 | Q33: =(E33-K33)/K33% -> 135.71429 | R33: =(F33-L33)/L33*100 -> 41.774698 | S33: =(G33-M33)/M33% -> -5.2845528
A35: 집중국별 | B35: =SUM(B36:B38) -> 1292837 | C35: =SUM(C36:C38) -> 202796 | D35: =SUM(D36:D38) -> 764439 | E35: =SUM(E36:E38) -> 117785 | F35: =SUM(F36:F38) -> 528398 | G35: =SUM(G36:G38) -> 85011 | H35: =SUM(H36:H38) -> 815287 | I35: =SUM(I36:I38) -> 178083 | ... M35: =SUM(M36:M38) -> 71326 | N35: =(B35-H35)/H35*100 -> 58.574465 | O35: =(C35-I35)/I35*100 -> 13.877237 | P35: =(D35-J35)/J35*100 -> 63.237376 | Q35: =(E35-K35)/K35*100 -> 10.330002 | R35: =(F35-L35)/L35*100 -> 52.281347 | S35: =(G35-M35)/M35*100 -> 19.186552
A36: 광주집 | B36: =B7+B8+B9+B10+B16+B18+B19+B20+B23+B26+B29+B31+B32 -> 687603 | C36: =C7+C8+C9+C10+C16+C18+C19+C20+C23+C26+C29+C31+C32 -> 108957 | D36: =D7+D8+D9+D10+D16+D18+D19+D20+D23+D26+D29+D31+D32 -> 390863 | E36: =E7+E8+E9+E10+E16+E18+E19+E20+E23+E26+E29+E31+E32 -> 59717 | F36: =F7+F8+F9+F10+F16+F18+F19+F20+F23+F26+F29+F31+F32 -> 296740 | G36: =G7+G8+G9+G10+G16+G18+G19+G20+G23+G26+G29+G31+G32 -> 49240 | H36: =H7+H8+H9+H10+H16+H18+H19+H20+H23+H26+H29+H31+H32 -> 444742 | I36: =I7+I8+I9+I10+I16+I18+I19+I20+I23+I26+I29+I31+I32 -> 88736 | ... M36: =M7+M8+M9+M10+M16+M18+M19+M20+M23+M26+M29+M31+M32 -> 40466 | N36: =(B36-H36)/H36*100 -> 54.607166 | O36: =(C36-I36)/I36*100 -> 22.78782 | P36: =(D36-J36)/J36*100 -> 55.178259 | Q36: =(E36-K36)/K36*100 -> 23.714522 | R36: =(F36-L36)/L36*100 -> 53.86131 | S36: =(G36-M36)/M36*100 -> 21.6824
A37: 순천집 | B37: =B12+B13+B15+B17+B22 -> 264889 | C37: =C12+C13+C15+C17+C22 -> 41972 | D37: =D12+D13+D15+D17+D22 -> 141960 | E37: =E12+E13+E15+E17+E22 -> 23314 | F37: =F12+F13+F15+F17+F22 -> 122929 | G37: =G12+G13+G15+G17+G22 -> 18658 | H37: =H12+H13+H15+H17+H22 -> 173117 | I37: =I12+I13+I15+I17+I22 -> 37993 | ... M37: =M12+M13+M15+M17+M22 -> 16808 | N37: =(B37-H37)/H37*100 -> 53.011547 | O37: =(C37-I37)/I37*100 -> 10.472982 | P37: =(D37-J37)/J37*100 -> 58.996472 | Q37: =(E37-K37)/K37*100 -> 10.049563 | R37: =(F37-L37)/L37*100 -> 46.637322 | S37: =(G37-M37)/M37*100 -> 11.006663
A38: 영암집 | B38: =B11+B14+B21+B25+B27+B24+B28+B30+B33 -> 340345 | C38: =C11+C14+C21+C25+C27+C24+C28+C30+C33 -> 51867 | D38: =D11+D14+D21+D25+D27+D24+D28+D30+D33 -> 231616 | E38: =E11+E14+E21+E25+E27+E24+E28+E30+E33 -> 34754 | F38: =F11+F14+F21+F25+F27+F24+F28+F30+F33 -> 108729 | G38: =G11+G14+G21+G25+G27+G24+G28+G30+G33 -> 17113 | H38: =H11+H14+H21+H25+H27+H24+H28+H30+H33 -> 197428 | I38: =I11+I14+I21+I25+I27+I24+I28+I30+I33 -> 51354 | ... M38: =M11+M14+M21+M25+M27+M24+M28+M30+M33 -> 14052 | N38: =(B38-H38)/H38*100 -> 72.389428 | O38: =(C38-I38)/I38*100 -> 0.99894848 | P38: =(D38-J38)/J38*100 -> 82.182579 | Q38: =(E38-K38)/K38*100 -> -6.8307329 | R38: =(F38-L38)/L38*100 -> 54.677497 | S38: =(G38-M38)/M38*100 -> 21.783376
A40: ▣ 집중국별 소포처리 현황
A41: 국 명 | B41: 당일접수 배달물량 | C41: 합 계 | G41: 발 송(수집) | K41: 도 착(배분)
C42: 15년 추석 | E42: 14년 추석 (누계) | F42: 증감률 (누계) | G42: 15년 추석 | I42: 14년 추석 (누계) | J42: 증감률 (누계) | K42: 15년 추석 | M42: 14년 추석 (누계) | N42: 증감률 (누계)
C43: 누계 | D43: 당일 | G43: 누계 | H43: 당일 | K43: 누계 | L43: 당일
A44: 합 계 | B44: =B45+B46+B47 -> 202796 | C44: =SUM(C45:C47) -> 1155442 | D44: =SUM(D45:D47) -> 185403 | E44: =SUM(E45:E47) -> 951274 | F44: =F45+F46+F47 -> 71.898825 | G44: =SUM(G45:G47) -> 670850 | H44: =SUM(H45:H47) -> 104261 | I44: =SUM(I45:I47) -> 547324 | J44: =(G44-I44)/I44% -> 22.569082 | K44: =SUM(K45:K47) -> 484592 | L44: =SUM(L45:L47) -> 81142 | M44: =M45+M46+M47 -> 403950 | N44: =(K44-M44)/M44% -> 19.963362
A45: 광주집 | B45: =C36 -> 108957 | C45: =G45+K45 -> 612837 | D45: =H45+L45 -> 98537 | E45: =I45+M45 -> 530033 | F45: =(C45-E45)/E45% -> 15.622424 | G45: ='집중국처리현황(구분물량)'!B6 -> 338325 | H45: ='집중국처리현황(구분물량)'!K6 -> 51136 | I45: ='집중국처리현황(구분물량)'!B23 -> 291685 | J45: =(G45-I45)/I45% -> 15.989852 | K45: ='집중국처리현황(구분물량)'!B30 -> 274512 | L45: ='집중국처리현황(구분물량)'!K30 -> 47401 | M45: ='집중국처리현황(구분물량)'!B36 -> 238348 | N45: =(K45-M45)/M45% -> 15.172773
A46: 순천집 | B46: =C37 -> 41972 | C46: =G46+K46 -> 228027 | D46: =H46+L46 -> 37986 | E46: =I46+M46 -> 186509 | F46: =(C46-E46)/E46% -> 22.260588 | G46: ='집중국처리현황(구분물량)'!B7 -> 117866 | H46: ='집중국처리현황(구분물량)'!K7 -> 20303 | I46: ='집중국처리현황(구분물량)'!B24 -> 96645 | J46: =(G46-I46)/I46% -> 21.95768 | K46: ='집중국처리현황(구분물량)'!B31 -> 110161 | L46: ='집중국처리현황(구분물량)'!K31 -> 17683 | M46: ='집중국처리현황(구분물량)'!B37 -> 89864 | N46: =(K46-M46)/M46% -> 22.586353
A47: 영암집 | B47: =C38 -> 51867 | C47: =G47+K47 -> 314578 | D47: =H47+L47 -> 48880 | E47: =I47+M47 -> 234732 | F47: =(C47-E47)/E47% -> 34.015814 | G47: ='집중국처리현황(구분물량)'!B8 -> 214659 | H47: ='집중국처리현황(구분물량)'!K8 -> 32822 | I47: ='집중국처리현황(구분물량)'!B25 -> 158994 | J47: =(G47-I47)/I47% -> 35.010755 | K47: ='집중국처리현황(구분물량)'!B32 -> 99919 | L47: ='집중국처리현황(구분물량)'!K32 -> 16058 | M47: ='집중국처리현황(구분물량)'!B38 -> 75738 | N47: =(K47-M47)/M47% -> 31.92717
A49: o 발송(수집) 구분 세부내역
A50: 구분 | B50: 집중국 | G50: 임시집하장(재게)
B51: 구분 | E51: 주간 미구분 (센터발송) | F51: 합계 | G51: 국명 | H51: 계 | I51: 교환센터 | J51: 광주집 | K51: 타 집중국
B52: 소계 | C52: 기계 | D52: 수작업
A53: 합 계 | B53: =C53+D53 -> 104261 | C53: =SUM(C54:C56) -> 87661 | D53: =SUM(D54:D56) -> 16600 | E53: =SUM(E54:E56) -> 8283 | F53: =B53+E53 -> 112544 | G53: 계 | H53: =SUM(H54:H55) -> 13110 | I53: =SUM(I54:I56) -> 7000 | J53: =SUM(J54:J56) -> 6110 | K53: =SUM(K54:K56) -> 0
A54: 광주집 | B54: =C54+D54 -> 51136 | C54: ='집중국처리현황(구분물량)'!K12 -> 42726 | D54: ='집중국처리현황(구분물량)'!K13 -> 8410 | E54: =주간발송!E9 -> 8283 | F54: =B54+E54 -> 59419 | G54: 나주 | H54: =SUM(I54:K54) -> 6000 | I54: =임시집하장!J9+임시집하장!K9 -> 3000 | J54: =임시집하장!L9+임시집하장!M9+임시집하장!N9 -> 3000 | K54: =임시집하장!O9 -> 0 | L54: 0
A55: 순천집 | B55: =C55+D55 -> 20303 | C55: ='집중국처리현황(구분물량)'!K15 -> 12113 | D55: ='집중국처리현황(구분물량)'!K16 -> 8190 | F55: =B55+E55 -> 20303 | G55: 영광 | H55: =SUM(I55:K55) -> 7110 | I55: =임시집하장!Q9+임시집하장!R9 -> 4000 | J55: =임시집하장!S9+임시집하장!T9+임시집하장!U9 -> 3110 | K55: =임시집하장!V9 -> 0
A56: 영암집 | B56: =C56+D56 -> 32822 | C56: ='집중국처리현황(구분물량)'!K18 -> 32822 | D56: ='집중국처리현황(구분물량)'!J19 -> 0 | F56: =B56+E56 -> 32822
A58: ▣ 집중국별 발송구분 작업인력 현황 | B58: ▣ 집중국별 소포처리 현황 | C58: ▣ 집중국별 소포처리 현황 | D58: ▣ 집중국별 소포처리 현황
A59: 구분 | B59: 주간작업(18시 이전) | F59: 야간작업(18시 이후)
B60: 소계 | C60: 정규직 | D60: 기존인원 (비정규직) | E60: 단기파트 (비정규직) | F60: 소계 | G60: 정규직 | H60: 기존인원 (비정규직) | I60: 단기파트 (비정규직) | J60: 우정청 지원
A61: 합계 | B61: =B62+B63+B64 -> 127 | C61: =C62+C63+C64 -> 79 | D61: =D62+D63+D64 -> 5 | E61: =E62+E63+E64 -> 43 | F61: =F62+F63+F64 -> 329 | G61: =G62+G63+G64 -> 103 | H61: =H62+H63+H64 -> 79 | I61: =I62+I63+I64 -> 147 | J61: =J62+J63+J64 -> 0
A62: 광주집 | B62: ='집중국처리현황(인력)'!B8 -> 44 | C62: ='집중국처리현황(인력)'!C8 -> 30 | D62: ='집중국처리현황(인력)'!D8 -> 0 | E62: ='집중국처리현황(인력)'!E8 -> 14 | F62: ='집중국처리현황(인력)'!F8 -> 145 | G62: ='집중국처리현황(인력)'!G8 -> 35 | H62: ='집중국처리현황(인력)'!H8 -> 45 | I62: ='집중국처리현황(인력)'!I8 -> 65 | J62: ='집중국처리현황(인력)'!J8 -> 0
A63: 순천집 | B63: ='집중국처리현황(인력)'!B9 -> 32 | C63: ='집중국처리현황(인력)'!C9 -> 26 | D63: ='집중국처리현황(인력)'!D9 -> 0 | E63: ='집중국처리현황(인력)'!E9 -> 6 | F63: ='집중국처리현황(인력)'!F9 -> 108 | G63: ='집중국처리현황(인력)'!G9 -> 38 | H63: ='집중국처리현황(인력)'!H9 -> 18 | I63: ='집중국처리현황(인력)'!I9 -> 52 | J63: ='집중국처리현황(인력)'!J9 -> 0
A64: 영암집 | B64: ='집중국처리현황(인력)'!B10 -> 51 | C64: ='집중국처리현황(인력)'!C10 -> 23 | D64: ='집중국처리현황(인력)'!D10 -> 5 | E64: ='집중국처리현황(인력)'!E10 -> 23 | F64: ='집중국처리현황(인력)'!F10 -> 76 | G64: ='집중국처리현황(인력)'!G10 -> 30 | H64: ='집중국처리현황(인력)'!H10 -> 16 | I64: ='집중국처리현황(인력)'!I10 -> 30 | J64: ='집중국처리현황(인력)'!J10 -> 0

Sheet 9.16.수
A1: 2015. 추석 명절 우편물 특별소통 일일보고(9.16.수)
A2: ▣ 총괄국별 등기소포 취급물량 현황 | L2: 2015. 추석 : 2015. 9. 7.(월) ~ 2015. 9. 26.(토) 2014. 추석 : 2014. 8.18(월) ~ 2014. 9.6.(토)
A3: 국 명 | B3: 2015. 추석(9.16.수) | H3: 2014. 추석(8.27.수) | N3: 증 감 률
B4: 합 계 | D4: 접 수 | F4: 배 달 | H4: 합 계 | J4: 접 수 | L4: 배 달 | N4: 합계 | P4: 접수 | R4: 배달
B5: 누계 | C5: 당일 | D5: 누계 | E5: 당일 | F5: 누계 | G5: 당일 | H5: 누계 | I5: 당일 | J5: 누계 | K5: 당일 | L5: 누계 | M5: 당일 | N5: 누계 | O5: 당일 | P5: 누계 | Q5: 당일 | R5: 누계 | S5: 당일
A6: 합 계 | B6: =D6+F6 -> 1292837 | C6: =SUM(C7:C33) -> 215905 | D6: =SUM(D7:D33) -> 764439 | E6: =SUM(E7:E33) -> 140083 | F6: =SUM(F7:F33) -> 528398 | G6: =SUM(G7:G33) -> 75822 | H6: =SUM(H7:H33) -> 1017202 | I6: =SUM(I7:I33) -> 201915 | J6: =SUM(J7:J33) -> 600378 | ... M6: =SUM(M7:M33) -> 69836 | N6: =(B6-H6)/H6*100 -> 27.097371 | O6: =(C6-I6)/I6% -> 6.9286581 | P6: =(D6-J6)/J6*100 -> 27.326284 | Q6: =(E6-K6)/K6% -> 6.0600095 | R6: =(F6-L6)/L6*100 -> 26.767653 | S6: =(G6-M6)/M6% -> 8.5715104
A7: 광 주 | B7: =D7+F7 -> 118306 | C7: =E7+G7 -> 17636 | D7: =국별소통물량!C6 -> 62362 | E7: =국별소통물량!W6 -> 9099 | F7: =국별소통물량!D6 -> 55944 | G7: =국별소통물량!X6 -> 8537 | H7: =J7+L7 -> 112926 | I7: =K7+M7 -> 16376 | J7: =SUM(국별소통물량!E48,국별소통물량!G48,국별소통물량!I48,국별소통물량!K48,국별소통물량!M48,국별소통물량!O48,국별소통물량!Q48,국별소통물량!S48,국별소통물량!U48,국별소통물량!W48) -> 67998 | K7: =국별소통물량!W48 -> 8187 | L7: =SUM(국별소통물량!F48,국별소통물량!H48,국별소통물량!J48,국별소통물량!L48,국별소통물량!N48,국별소통물량!P48,국별소통물량!R48,국별소통물량!T48,국별소통물량!V48,국별소통물량!X48) -> 44928 | M7: =국별소통물량!X48 -> 8189 | N7: =(B7-H7)/H7*100 -> 4.7641819 | O7: =(C7-I7)/I7% -> 7.6941866 | P7: =(D7-J7)/J7*100 -> -8.2884791 | Q7: =(E7-K7)/K7% -> 11.139612 | R7: =(F7-L7)/L7*100 -> 24.519231 | S7: =(G7-M7)/M7% -> 4.2496031
A8: 북광주 | B8: =D8+F8 -> 88104 | C8: =E8+G8 -> 13200 | D8: =국별소통물량!C7 -> 17575 | E8: =국별소통물량!W7 -> 2667 | F8: =국별소통물량!D7 -> 70529 | G8: =국별소통물량!X7 -> 10533 | H8: =J8+L8 -> 99719 | I8: =K8+M8 -> 16255 | J8: =SUM(국별소통물량!E49,국별소통물량!G49,국별소통물량!I49,국별소통물량!K49,국별소통물량!M49,국별소통물량!O49,국별소통물량!Q49,국별소통물량!S49,국별소통물량!U49,국별소통물량!W49) -> 43203 | K8: =국별소통물량!W49 -> 6037 | L8: =SUM(국별소통물량!F49,국별소통물량!H49,국별소통물량!J49,국별소통물량!L49,국별소통물량!N49,국별소통물량!P49,국별소통물량!R49,국별소통물량!T49,국별소통물량!V49,국별소통물량!X49) -> 56516 | M8: =국별소통물량!X49 -> 10218 | N8: =(B8-H8)/H8*100 -> -11.64773 | O8: =(C8-I8)/I8% -> -18.794217 | P8: =(D8-J8)/J8*100 -> -59.319955 | Q8: =(E8-K8)/K8% -> -55.822428 | R8: =(F8-L8)/L8*100 -> 24.794748 | S8: =(G8-M8)/M8% -> 3.0827951
A9: 서광주 | B9: =D9+F9 -> 129641 | C9: =E9+G9 -> 18706 | D9: =국별소통물량!C8 -> 73744 | E9: =국별소통물량!W8 -> 10393 | F9: =국별소통물량!D8 -> 55897 | G9: =국별소통물량!X8 -> 8313 | H9: =J9+L9 -> 90065 | I9: =K9+M9 -> 16500 | J9: =SUM(국별소통물량!E50,국별소통물량!G50,국별소통물량!I50,국별소통물량!K50,국별소통물량!M50,국별소통물량!O50,국별소통물량!Q50,국별소통물량!S50,국별소통물량!U50,국별소통물량!W50) -> 44895 | K9: =국별소통물량!W50 -> 8597 | L9: =SUM(국별소통물량!F50,국별소통물량!H50,국별소통물량!J50,국별소통물량!L50,국별소통물량!N50,국별소통물량!P50,국별소통물량!R50,국별소통물량!T50,국별소통물량!V50,국별소통물량!X50) -> 45170 | M9: =국별소통물량!X50 -> 7903 | N9: =(B9-H9)/H9*100 -> 43.941598 | O9: =(C9-I9)/I9% -> 13.369697 | P9: =(D9-J9)/J9*100 -> 64.258826 | Q9: =(E9-K9)/K9% -> 20.891008 | R9: =(F9-L9)/L9*100 -> 23.748063 | S9: =(G9-M9)/M9% -> 5.1879033
A10: 광주광산 | B10: =D10+F10 -> 69932 | C10: =E10+G10 -> 10456 | D10: =국별소통물량!C9 -> 14981 | E10: =국별소통물량!W9 -> 1907 | F10: =국별소통물량!D9 -> 54951 | G10: =국별소통물량!X9 -> 8549 | H10: =J10+L10 -> 87018 | I10: =K10+M10 -> 14097 | J10: =SUM(국별소통물량!E51,국별소통물량!G51,국별소통물량!I51,국별소통물량!K51,국별소통물량!M51,국별소통물량!O51,국별소통물량!Q51,국별소통물량!S51,국별소통물량!U51,국별소통물량!W51) -> 40759 | K10: =국별소통물량!W51 -> 6726 | L10: =SUM(국별소통물량!F51,국별소통물량!H51,국별소통물량!J51,국별소통물량!L51,국별소통물량!N51,국별소통물량!P51,국별소통물량!R51,국별소통물량!T51,국별소통물량!V51,국별소통물량!X51) -> 46259 | M10: =국별소통물량!X51 -> 7371 | N10: =(B10-H10)/H10*100 -> -19.635018 | O10: =(C10-I10)/I10% -> -25.82819 | P10: =(D10-J10)/J10*100 -> -63.244928 | Q10: =(E10-K10)/K10% -> -71.647339 | R10: =(F10-L10)/L10*100 -> 18.789857 | S10: =(G10-M10)/M10% -> 15.981549
A11: 목 포 | B11: =D11+F11 -> 95525 | C11: =E11+G11 -> 14292 | D11: =국별소통물량!C10 -> 50278 | E11: =국별소통물량!W10 -> 7786 | F11: =국별소통물량!D10 -> 45247 | G11: =국별소통물량!X10 -> 6506 | H11: =J11+L11 -> 71598 | I11: =K11+M11 -> 12923 | J11: =SUM(국별소통물량!E52,국별소통물량!G52,국별소통물량!I52,국별소통물량!K52,국별소통물량!M52,국별소통물량!O52,국별소통물량!Q52,국별소통물량!S52,국별소통물량!U52,국별소통물량!W52) -> 33881 | K11: =국별소통물량!W52 -> 7428 | L11: =SUM(국별소통물량!F52,국별소통물량!H52,국별소통물량!J52,국별소통물량!L52,국별소통물량!N52,국별소통물량!P52,국별소통물량!R52,국별소통물량!T52,국별소통물량!V52,국별소통물량!X52) -> 37717 | M11: =국별소통물량!X52 -> 5495 | N11: =(B11-H11)/H11*100 -> 33.418531 | O11: =(C11-I11)/I11% -> 10.593515 | P11: =(D11-J11)/J11*100 -> 48.395856 | Q11: =(E11-K11)/K11% -> 4.8196015 | R11: =(F11-L11)/L11*100 -> 19.964472 | S11: =(G11-M11)/M11% -> 18.398544
A12: 여 수 | B12: =D12+F12 -> 114753 | C12: =E12+G12 -> 19411 | D12: =국별소통물량!C11 -> 72421 | E12: =국별소통물량!W11 -> 13677 | F12: =국별소통물량!D11 -> 42332 | G12: =국별소통물량!X11 -> 5734 | H12: =J12+L12 -> 88959 | I12: =K12+M12 -> 19052 | J12: =SUM(국별소통물량!E53,국별소통물량!G53,국별소통물량!I53,국별소통물량!K53,국별소통물량!M53,국별소통물량!O53,국별소통물량!Q53,국별소통물량!S53,국별소통물량!U53,국별소통물량!W53) -> 55141 | K12: =국별소통물량!W53 -> 13403 | L12: =SUM(국별소통물량!F53,국별소통물량!H53,국별소통물량!J53,국별소통물량!L53,국별소통물량!N53,국별소통물량!P53,국별소통물량!R53,국별소통물량!T53,국별소통물량!V53,국별소통물량!X53) -> 33818 | M12: =국별소통물량!X53 -> 5649 | N12: =(B12-H12)/H12*100 -> 28.99538 | O12: =(C12-I12)/I12% -> 1.8843166 | P12: =(D12-J12)/J12*100 -> 31.337843 | Q12: =(E12-K12)/K12% -> 2.0443184 | R12: =(F12-L12)/L12*100 -> 25.175942 | S12: =(G12-M12)/M12% -> 1.5046911
A13: 순 천 | B13: =D13+F13 -> 69848 | C13: =E13+G13 -> 10164 | D13: =국별소통물량!C12 -> 29552 | E13: =국별소통물량!W12 -> 4665 | F13: =국별소통물량!D12 -> 40296 | G13: =국별소통물량!X12 -> 5499 | H13: =J13+L13 -> 58438 | I13: =K13+M13 -> 10053 | J13: =SUM(국별소통물량!E54,국별소통물량!G54,국별소통물량!I54,국별소통물량!K54,국별소통물량!M54,국별소통물량!O54,국별소통물량!Q54,국별소통물량!S54,국별소통물량!U54,국별소통물량!W54) -> 26563 | K13: =국별소통물량!W54 -> 4878 | L13: =SUM(국별소통물량!F54,국별소통물량!H54,국별소통물량!J54,국별소통물량!L54,국별소통물량!N54,국별소통물량!P54,국별소통물량!R54,국별소통물량!T54,국별소통물량!V54,국별소통물량!X54) -> 31875 | M13: =국별소통물량!X54 -> 5175 | N13: =(B13-H13)/H13*100 -> 19.524967 | O13: =(C13-I13)/I13% -> 1.104148 | P13: =(D13-J13)/J13*100 -> 11.252494 | Q13: =(E13-K13)/K13% -> -4.3665437 | R13: =(F13-L13)/L13*100 -> 26.418824 | S13: =(G13-M13)/M13% -> 6.2608696
A14: 강 진 | B14: =D14+F14 -> 15183 | C14: =E14+G14 -> 2506 | D14: =국별소통물량!C13 -> 9530 | E14: =국별소통물량!W13 -> 1861 | F14: =국별소통물량!D13 -> 5653 | G14: =국별소통물량!X13 -> 645 | H14: =J14+L14 -> 11664 | I14: =K14+M14 -> 2635 | J14: =SUM(국별소통물량!E55,국별소통물량!G55,국별소통물량!I55,국별소통물량!K55,국별소통물량!M55,국별소통물량!O55,국별소통물량!Q55,국별소통물량!S55,국별소통물량!U55,국별소통물량!W55) -> 7450 | K14: =국별소통물량!W55 -> 1823 | L14: =SUM(국별소통물량!F55,국별소통물량!H55,국별소통물량!J55,국별소통물량!L55,국별소통물량!N55,국별소통물량!P55,국별소통물량!R55,국별소통물량!T55,국별소통물량!V55,국별소통물량!X55) -> 4214 | M14: =국별소통물량!X55 -> 812 | N14: =(B14-H14)/H14*100 -> 30.169753 | O14: =(C14-I14)/I14% -> -4.8956357 | P14: =(D14-J14)/J14*100 -> 27.919463 | Q14: =(E14-K14)/K14% -> 2.0844761 | R14: =(F14-L14)/L14*100 -> 34.148078 | S14: =(G14-M14)/M14% -> -20.566502
A15: 고 흥 | B15: =D15+F15 -> 32141 | C15: =E15+G15 -> 4474 | D15: =국별소통물량!C14 -> 20227 | E15: =국별소통물량!W14 -> 3108 | F15: =국별소통물량!D14 -> 11914 | G15: =국별소통물량!X14 -> 1366 | H15: =J15+L15 -> 21039 | I15: =K15+M15 -> 4419 | J15: =SUM(국별소통물량!E56,국별소통물량!G56,국별소통물량!I56,국별소통물량!K56,국별소통물량!M56,국별소통물량!O56,국별소통물량!Q56,국별소통물량!S56,국별소통물량!U56,국별소통물량!W56) -> 14077 | K15: =국별소통물량!W56 -> 3071 | L15: =SUM(국별소통물량!F56,국별소통물량!H56,국별소통물량!J56,국별소통물량!L56,국별소통물량!N56,국별소통물량!P56,국별소통물량!R56,국별소통물량!T56,국별소통물량!V56,국별소통물량!X56) -> 6962 | M15: =국별소통물량!X56 -> 1348 | N15: =(B15-H15)/H15*100 -> 52.768668 | O15: =(C15-I15)/I15% -> 1.2446255 | P15: =(D15-J15)/J15*100 -> 43.688286 | Q15: =(E15-K15)/K15% -> 1.2048193 | R15: =(F15-L15)/L15*100 -> 71.128986 | S15: =(G15-M15)/M15% -> 1.3353116
A16: 곡 성 | B16: =D16+F16 -> 11246 | C16: =E16+G16 -> 1604 | D16: =국별소통물량!C15 -> 6067 | E16: =국별소통물량!W15 -> 1016 | F16: =국별소통물량!D15 -> 5179 | G16: =국별소통물량!X15 -> 588 | H16: =J16+L16 -> 7399 | I16: =K16+M16 -> 1900 | J16: =SUM(국별소통물량!E57,국별소통물량!G57,국별소통물량!I57,국별소통물량!K57,국별소통물량!M57,국별소통물량!O57,국별소통물량!Q57,국별소통물량!S57,국별소통물량!U57,국별소통물량!W57) -> 4509 | K16: =국별소통물량!W57 -> 1112 | L16: =SUM(국별소통물량!F57,국별소통물량!H57,국별소통물량!J57,국별소통물량!L57,국별소통물량!N57,국별소통물량!P57,국별소통물량!R57,국별소통물량!T57,국별소통물량!V57,국별소통물량!X57) -> 2890 | M16: =국별소통물량!X57 -> 788 | N16: =(B16-H16)/H16*100 -> 51.993513 | O16: =(C16-I16)/I16% -> -15.578947 | P16: =(D16-J16)/J16*100 -> 34.553116 | Q16: =(E16-K16)/K16% -> -8.6330935 | R16: =(F16-L16)/L16*100 -> 79.204152 | S16: =(G16-M16)/M16% -> -25.380711
A17: 광 양 | B17: =D17+F17 -> 34683 | C17: =E17+G17 -> 5021 | D17: =국별소통물량!C16 -> 12726 | E17: =국별소통물량!W16 -> 1974 | F17: =국별소통물량!D16 -> 21957 | G17: =국별소통물량!X16 -> 3047 | H17: =J17+L17 -> 37063 | I17: =K17+M17 -> 6132 | J17: =SUM(국별소통물량!E58,국별소통물량!G58,국별소통물량!I58,국별소통물량!K58,국별소통물량!M58,국별소통물량!O58,국별소통물량!Q58,국별소통물량!S58,국별소통물량!U58,국별소통물량!W58) -> 13780 | K17: =국별소통물량!W58 -> 2849 | L17: =SUM(국별소통물량!F58,국별소통물량!H58,국별소통물량!J58,국별소통물량!L58,국별소통물량!N58,국별소통물량!P58,국별소통물량!R58,국별소통물량!T58,국별소통물량!V58,국별소통물량!X58) -> 23283 | M17: =국별소통물량!X58 -> 3283 | N17: =(B17-H17)/H17*100 -> -6.4214985 | O17: =(C17-I17)/I17% -> -18.118069 | P17: =(D17-J17)/J17*100 -> -7.6487663 | Q17: =(E17-K17)/K17% -> -30.712531 | R17: =(F17-L17)/L17*100 -> -5.6951424 | S17: =(G17-M17)/M17% -> -7.1885471
A18: 구 례 | B18: =D18+F18 -> 12076 | C18: =E18+G18 -> 1912 | D18: =국별소통물량!C17 -> 7545 | E18: =국별소통물량!W17 -> 1337 | F18: =국별소통물량!D17 -> 4531 | G18: =국별소통물량!X17 -> 575 | H18: =J18+L18 -> 6104 | I18: =K18+M18 -> 1523 | J18: =SUM(국별소통물량!E59,국별소통물량!G59,국별소통물량!I59,국별소통물량!K59,국별소통물량!M59,국별소통물량!O59,국별소통물량!Q59,국별소통물량!S59,국별소통물량!U59,국별소통물량!W59) -> 3468 | K18: =국별소통물량!W59 -> 1088 | L18: =SUM(국별소통물량!F59,국별소통물량!H59,국별소통물량!J59,국별소통물량!L59,국별소통물량!N59,국별소통물량!P59,국별소통물량!R59,국별소통물량!T59,국별소통물량!V59,국별소통물량!X59) -> 2636 | M18: =국별소통물량!X59 -> 435 | N18: =(B18-H18)/H18*100 -> 97.837484 | O18: =(C18-I18)/I18% -> 25.541694 | P18: =(D18-J18)/J18*100 -> 117.56055 | Q18: =(E18-K18)/K18% -> 22.886029 | R18: =(F18-L18)/L18*100 -> 71.889226 | S18: =(G18-M18)/M18% -> 32.183908
... A33: 영암집 | B33: =D33+F33 -> 7089 | C33: =E33+G33 -> 947 | D33: =국별소통물량!C32 -> 746 | E33: =국별소통물량!W32 -> 92 | F33: =국별소통물량!D32 -> 6343 | G33: =국별소통물량!X32 -> 855 | H33: =J33+L33 -> 5528 | I33: =K33+M33 -> 755 | J33: =SUM(국별소통물량!E74,국별소통물량!G74,국별소통물량!I74,국별소통물량!K74,국별소통물량!M74,국별소통물량!O74,국별소통물량!Q74,국별소통물량!S74,국별소통물량!U74,국별소통물량!W74) -> 351 | K33: =국별소통물량!W74 -> 52 | L33: =SUM(국별소통물량!F74,국별소통물량!H74,국별소통물량!J74,국별소통물량!L74,국별소통물량!N74,국별소통물량!P74,국별소통물량!R74,국별소통물량!T74,국별소통물량!V74,국별소통물량!X74) -> 5177 | M33: =국별소통물량!X74 -> 703 | N33: =(B33-H33)/H33*100 -> 28.238061 | O33: =(C33-I33)/I33% -> 25.430464 | P33: =(D33-J33)/J33*100 -> 112.53561 | Q33: =(E33-K33)/K33% -> 76.923077 | R33: =(F33-L33)/L33*100 -> 22.522697 | S33: =(G33-M33)/M33% -> 21.621622
A35: 집중국별 | B35: =SUM(B36:B38) -> 1292837 | C35: =SUM(C36:C38) -> 215905 | D35: =SUM(D36:D38) -> 764439 | E35: =SUM(E36:E38) -> 140083 | F35: =SUM(F36:F38) -> 528398 | G35: =SUM(G36:G38) -> 75822 | H35: =SUM(H36:H38) -> 1017202 | I35: =SUM(I36:I38) -> 201915 | ... M35: =SUM(M36:M38) -> 69836 | N35: =(B35-H35)/H35*100 -> 27.097371 | O35: =(C35-I35)/I35*100 -> 6.9286581 | P35: =(D35-J35)/J35*100 -> 27.326284 | Q35: =(E35-K35)/K35*100 -> 6.0600095 | R35: =(F35-L35)/L35*100 -> 26.767653 | S35: =(G35-M35)/M35*100 -> 8.5715104
A36: 광주집 | B36: =B7+B8+B9+B10+B16+B18+B19+B20+B23+B26+B29+B31+B32 -> 687603 | C36: =C7+C8+C9+C10+C16+C18+C19+C20+C23+C26+C29+C31+C32 -> 115374 | D36: =D7+D8+D9+D10+D16+D18+D19+D20+D23+D26+D29+D31+D32 -> 390863 | E36: =E7+E8+E9+E10+E16+E18+E19+E20+E23+E26+E29+E31+E32 -> 71173 | F36: =F7+F8+F9+F10+F16+F18+F19+F20+F23+F26+F29+F31+F32 -> 296740 | G36: =G7+G8+G9+G10+G16+G18+G19+G20+G23+G26+G29+G31+G32 -> 44201 | H36: =H7+H8+H9+H10+H16+H18+H19+H20+H23+H26+H29+H31+H32 -> 548071 | I36: =I7+I8+I9+I10+I16+I18+I19+I20+I23+I26+I29+I31+I32 -> 103329 | ... M36: =M7+M8+M9+M10+M16+M18+M19+M20+M23+M26+M29+M31+M32 -> 40984 | N36: =(B36-H36)/H36*100 -> 25.458745 | O36: =(C36-I36)/I36*100 -> 11.65694 | P36: =(D36-J36)/J36*100 -> 24.38953 | Q36: =(E36-K36)/K36*100 -> 14.159917 | R36: =(F36-L36)/L36*100 -> 26.895478 | S36: =(G36-M36)/M36*100 -> 7.8494046
A37: 순천집 | B37: =B12+B13+B15+B17+B22 -> 264889 | C37: =C12+C13+C15+C17+C22 -> 40965 | D37: =D12+D13+D15+D17+D22 -> 141960 | E37: =E12+E13+E15+E17+E22 -> 24433 | F37: =F12+F13+F15+F17+F22 -> 122929 | G37: =G12+G13+G15+G17+G22 -> 16532 | H37: =H12+H13+H15+H17+H22 -> 214473 | I37: =I12+I13+I15+I17+I22 -> 41356 | ... M37: =M12+M13+M15+M17+M22 -> 16328 | N37: =(B37-H37)/H37*100 -> 23.506922 | O37: =(C37-I37)/I37*100 -> -0.94544927 | P37: =(D37-J37)/J37*100 -> 24.185351 | Q37: =(E37-K37)/K37*100 -> -2.3773374 | R37: =(F37-L37)/L37*100 -> 22.732628 | S37: =(G37-M37)/M37*100 -> 1.2493876
A38: 영암집 | B38: =B11+B14+B21+B25+B27+B24+B28+B30+B33 -> 340345 | C38: =C11+C14+C21+C25+C27+C24+C28+C30+C33 -> 59566 | D38: =D11+D14+D21+D25+D27+D24+D28+D30+D33 -> 231616 | E38: =E11+E14+E21+E25+E27+E24+E28+E30+E33 -> 44477 | F38: =F11+F14+F21+F25+F27+F24+F28+F30+F33 -> 108729 | G38: =G11+G14+G21+G25+G27+G24+G28+G30+G33 -> 15089 | H38: =H11+H14+H21+H25+H27+H24+H28+H30+H33 -> 254658 | I38: =I11+I14+I21+I25+I27+I24+I28+I30+I33 -> 57230 | ... M38: =M11+M14+M21+M25+M27+M24+M28+M30+M33 -> 12524 | N38: =(B38-H38)/H38*100 -> 33.647873 | O38: =(C38-I38)/I38*100 -> 4.0817753 | P38: =(D38-J38)/J38*100 -> 34.785847 | Q38: =(E38-K38)/K38*100 -> -0.51223549 | R38: =(F38-L38)/L38*100 -> 31.286677 | S38: =(G38-M38)/M38*100 -> 20.480677
A40: ▣ 집중국별 소포처리 현황
A41: 국 명 | B41: 당일접수 배달물량 | C41: 합 계 | G41: 발 송(수집) | K41: 도 착(배분)
C42: 15년 추석 | E42: 14년 추석 (누계) | F42: 증감률 (누계) | G42: 15년 추석 | I42: 14년 추석 (누계) | J42: 증감률 (누계) | K42: 15년 추석 | M42: 14년 추석 (누계) | N42: 증감률 (누계)
C43: 누계 | D43: 당일 | G43: 누계 | H43: 당일 | K43: 누계 | L43: 당일
A44: 합 계 | B44: =B45+B46+B47 -> 215905 | C44: =SUM(C45:C47) -> 1155442 | D44: =SUM(D45:D47) -> 197125 | E44: =SUM(E45:E47) -> 951274 | F44: =F45+F46+F47 -> 71.898825 | G44: =SUM(G45:G47) -> 670850 | H44: =SUM(H45:H47) -> 124341 | I44: =SUM(I45:I47) -> 547324 | J44: =(G44-I44)/I44% -> 22.569082 | K44: =SUM(K45:K47) -> 484592 | L44: =SUM(L45:L47) -> 72784 | M44: =M45+M46+M47 -> 403950 | N44: =(K44-M44)/M44% -> 19.963362
A45: 광주집 | B45: =C36 -> 115374 | C45: =G45+K45 -> 612837 | D45: =H45+L45 -> 103186 | E45: =I45+M45 -> 530033 | F45: =(C45-E45)/E45% -> 15.622424 | G45: ='집중국처리현황(구분물량)'!B6 -> 338325 | H45: ='집중국처리현황(구분물량)'!L6 -> 61492 | I45: ='집중국처리현황(구분물량)'!B23 -> 291685 | J45: =(G45-I45)/I45% -> 15.989852 | K45: ='집중국처리현황(구분물량)'!B30 -> 274512 | L45: ='집중국처리현황(구분물량)'!L30 -> 41694 | M45: ='집중국처리현황(구분물량)'!B36 -> 238348 | N45: =(K45-M45)/M45% -> 15.172773
A46: 순천집 | B46: =C37 -> 40965 | C46: =G46+K46 -> 228027 | D46: =H46+L46 -> 35840 | E46: =I46+M46 -> 186509 | F46: =(C46-E46)/E46% -> 22.260588 | G46: ='집중국처리현황(구분물량)'!B7 -> 117866 | H46: ='집중국처리현황(구분물량)'!L7 -> 20454 | I46: ='집중국처리현황(구분물량)'!B24 -> 96645 | J46: =(G46-I46)/I46% -> 21.95768 | K46: ='집중국처리현황(구분물량)'!B31 -> 110161 | L46: ='집중국처리현황(구분물량)'!L31 -> 15386 | M46: ='집중국처리현황(구분물량)'!B37 -> 89864 | N46: =(K46-M46)/M46% -> 22.586353
A47: 영암집 | B47: =C38 -> 59566 | C47: =G47+K47 -> 314578 | D47: =H47+L47 -> 58099 | E47: =I47+M47 -> 234732 | F47: =(C47-E47)/E47% -> 34.015814 | G47: ='집중국처리현황(구분물량)'!B8 -> 214659 | H47: ='집중국처리현황(구분물량)'!L8 -> 42395 | I47: ='집중국처리현황(구분물량)'!B25 -> 158994 | J47: =(G47-I47)/I47% -> 35.010755 | K47: ='집중국처리현황(구분물량)'!B32 -> 99919 | L47: ='집중국처리현황(구분물량)'!L32 -> 15704 | M47: ='집중국처리현황(구분물량)'!B38 -> 75738 | N47: =(K47-M47)/M47% -> 31.92717
A49: o 발송(수집) 구분 세부내역
A50: 구분 | B50: 집중국 | G50: 임시집하장(재게)
B51: 구분 | E51: 주간 미구분 (센터발송) | F51: 합계 | G51: 국명 | H51: 계 | I51: 교환센터 | J51: 광주집 | K51: 타 집중국
B52: 소계 | C52: 기계 | D52: 수작업
A53: 합 계 | B53: =C53+D53 -> 124341 | C53: =SUM(C54:C56) -> 104049 | D53: =SUM(D54:D56) -> 20292 | E53: =SUM(E54:E56) -> 8160 | F53: =B53+E53 -> 132501 | G53: 계 | H53: =SUM(H54:H55) -> 15910 | I53: =SUM(I54:I56) -> 9500 | J53: =SUM(J54:J56) -> 6410 | K53: =SUM(K54:K56) -> 0
A54: 광주집 | B54: =C54+D54 -> 61492 | C54: ='집중국처리현황(구분물량)'!L12 -> 52663 | D54: ='집중국처리현황(구분물량)'!L13 -> 8829 | E54: =주간발송!E10 -> 8160 | F54: =B54+E54 -> 69652 | G54: 나주 | H54: =SUM(I54:K54) -> 7700 | I54: =임시집하장!J10+임시집하장!K10 -> 4500 | J54: =임시집하장!L10+임시집하장!M10+임시집하장!N10 -> 3200 | K54: =임시집하장!O10 -> 0 | L54: 0
A55: 순천집 | B55: =C55+D55 -> 20454 | C55: ='집중국처리현황(구분물량)'!L15 -> 12391 | D55: ='집중국처리현황(구분물량)'!L16 -> 8063 | F55: =B55+E55 -> 20454 | G55: 영광 | H55: =SUM(I55:K55) -> 8210 | I55: =임시집하장!Q10+임시집하장!R10 -> 5000 | J55: =임시집하장!S10+임시집하장!T10+임시집하장!U10 -> 3210 | K55: =임시집하장!V10 -> 0
A56: 영암집 | B56: =C56+D56 -> 42395 | C56: ='집중국처리현황(구분물량)'!L18 -> 38995 | D56: ='집중국처리현황(구분물량)'!L19 -> 3400 | F56: =B56+E56 -> 42395
A58: ▣ 집중국별 발송구분 작업인력 현황 | B58: ▣ 집중국별 소포처리 현황 | C58: ▣ 집중국별 소포처리 현황 | D58: ▣ 집중국별 소포처리 현황
A59: 구분 | B59: 주간작업(18시 이전) | F59: 야간작업(18시 이후)
B60: 소계 | C60: 정규직 | D60: 기존인원 (비정규직) | E60: 단기파트 (비정규직) | F60: 소계 | G60: 정규직 | H60: 기존인원 (비정규직) | I60: 단기파트 (비정규직) | J60: 우정청 지원
A61: 합계 | B61: =B62+B63+B64 -> 127 | C61: =C62+C63+C64 -> 79 | D61: =D62+D63+D64 -> 5 | E61: =E62+E63+E64 -> 43 | F61: =F62+F63+F64 -> 329 | G61: =G62+G63+G64 -> 103 | H61: =H62+H63+H64 -> 79 | I61: =I62+I63+I64 -> 147 | J61: =J62+J63+J64 -> 0
A62: 광주집 | B62: ='집중국처리현황(인력)'!B8 -> 44 | C62: ='집중국처리현황(인력)'!C8 -> 30 | D62: ='집중국처리현황(인력)'!D8 -> 0 | E62: ='집중국처리현황(인력)'!E8 -> 14 | F62: ='집중국처리현황(인력)'!F8 -> 145 | G62: ='집중국처리현황(인력)'!G8 -> 35 | H62: ='집중국처리현황(인력)'!H8 -> 45 | I62: ='집중국처리현황(인력)'!I8 -> 65 | J62: ='집중국처리현황(인력)'!J8 -> 0
A63: 순천집 | B63: ='집중국처리현황(인력)'!B9 -> 32 | C63: ='집중국처리현황(인력)'!C9 -> 26 | D63: ='집중국처리현황(인력)'!D9 -> 0 | E63: ='집중국처리현황(인력)'!E9 -> 6 | F63: ='집중국처리현황(인력)'!F9 -> 108 | G63: ='집중국처리현황(인력)'!G9 -> 38 | H63: ='집중국처리현황(인력)'!H9 -> 18 | I63: ='집중국처리현황(인력)'!I9 -> 52 | J63: ='집중국처리현황(인력)'!J9 -> 0
A64: 영암집 | B64: ='집중국처리현황(인력)'!B10 -> 51 | C64: ='집중국처리현황(인력)'!C10 -> 23 | D64: ='집중국처리현황(인력)'!D10 -> 5 | E64: ='집중국처리현황(인력)'!E10 -> 23 | F64: ='집중국처리현황(인력)'!F10 -> 76 | G64: ='집중국처리현황(인력)'!G10 -> 30 | H64: ='집중국처리현황(인력)'!H10 -> 16 | I64: ='집중국처리현황(인력)'!I10 -> 30 | J64: ='집중국처리현황(인력)'!J10 -> 0

Sheet 국별소통물량
A1: ○ 2015년 추석
A2: 일자별 | B2: 누계 | E2: 2015-09-07(월) | G2: 2015-09-08(화) | I2: 2015-09-09(수) | K2: 2015-09-10(목) | M2: 2015-09-11(금) | O2: 2015-09-12(토) | Q2: 2015-09-13(일) | S2: 2015-09-14(월) | U2: 2015-09-15(화) | W2: 2015-09-16(수) | Y2: 2015-09-17(목) | AA2: 2015-09-18(금) | AC2: 2015-09-19(토) | AE2: 2015-09-20(일) | AG2: 2015-09-21(월) | AI2: 2015-09-22(화) | AK2: 2015-09-23(수) | AM2: 2015-09-24(목) | AO2: 2015-09-25(금) | AQ2: 2015-09-26(토)
E3: D-20 | G3: D-19 | I3: D-18 | K3: D-17 | M3: D-16 | O3: D-15 | Q3: D-14 | S3: D-13 | U3: D-12 | W3: D-11 | Y3: D-10 | AA3: D-9 | AC3: D-8 | AE3: D-7 | AG3: D-6 | AI3: D-5 | AK3: D-4 | AM3: D-3 | AO3: D-2 | AQ3: D-1
B4: 합계 | C4: 접수 | D4: 배달 | E4: 접수 | F4: 배달 | G4: 접수 | H4: 배달 | I4: 접수 | J4: 배달 | K4: 접수 | L4: 배달 | M4: 접수 | N4: 배달 | O4: 접수 | P4: 배달 | Q4: 접수 | R4: 배달 | S4: 접수 | T4: 배달 | U4: 접수 | V4: 배달 | W4: 접수 | X4: 배달 | Y4: 접수 | Z4: 배달 | AA4: 접수 | AB4: 배달 | AC4: 접수 | AD4: 배달 | AE4: 접수 | AF4: 배달 | AG4: 접수 | AH4: 배달 | AI4: 접수 | AJ4: 배달 | AK4: 접수 | AL4: 배달 | AM4: 접수 | AN4: 배달 | AO4: 접수 | AP4: 배달 | AQ4: 접수 | AR4: 배달
A5: 합계 | B5: =C5+D5 -> 1292837 | C5: =SUM(C6:C32) -> 764439 | D5: =SUM(D6:D32) -> 528398 | E5: =SUM(E6:E32) -> 91813 | F5: =SUM(F6:F32) -> 44255 | G5: =SUM(G6:G32) -> 64973 | H5: =SUM(H6:H32) -> 86149 | I5: =SUM(I6:I32) -> 66066 | J5: =SUM(J6:J32) -> 56230 | ... AR5: =SUM(AR6:AR32) -> 0
A6: 광주 | B6: =C6+D6 -> 118306 | C6: =SUM(E6,G6,I6,K6,M6,Q6,S6,U6,W6,Y6,AA6,AC6,AE6,AG6,AI6,AK6,AM6,AO6,AQ6) -> 62362 | D6: =SUM(F6,H6,J6,L6,N6,P6,R6,T6,V6,X6,Z6,AB6,AD6,AF6,AH6,AJ6,AL6,AN6,AP6,AR6) -> 55944 | E6: 8689 | F6: 4225 | G6: 6832 | H6: 8196 | I6: 6535 | J6: 5822 | K6: =VLOOKUP(A6,'[2]국내종별~국제특수'!$B$2:$C$29,2,0) -> 5955 | L6: 5643 | M6: 5788 | N6: 5580 | O6: 668 | P6: 4362 | S6: 11711 | T6: 4030 | U6: =VLOOKUP(A6,'[3]국내종별~국제특수'!$B$2:$C$29,2,0) -> 7753 | V6: 9549 | W6: =VLOOKUP(A6,'[4]국내종별~국제특수'!$B$2:$C$29,2,0) -> 9099 | X6: 8537
A7: 북광주 | B7: =C7+D7 -> 88104 | C7: =SUM(E7,G7,I7,K7,M7,Q7,S7,U7,W7,Y7,AA7,AC7,AE7,AG7,AI7,AK7,AM7,AO7,AQ7) -> 17575 | D7: =SUM(F7,H7,J7,L7,N7,P7,R7,T7,V7,X7,Z7,AB7,AD7,AF7,AH7,AJ7,AL7,AN7,AP7,AR7) -> 70529 | E7: 2055 | F7: 5877 | G7: 1860 | H7: 11411 | I7: 2445 | J7: 7383 | K7: =VLOOKUP(A7,'[2]국내종별~국제특수'!$B$2:$C$29,2,0) -> 1522 | L7: 7749 | M7: 2084 | N7: 7417 | O7: 0 | P7: 5567 | S7: 2646 | T7: 2572 | U7: =VLOOKUP(A7,'[3]국내종별~국제특수'!$B$2:$C$29,2,0) -> 2296 | V7: 12020 | W7: =VLOOKUP(A7,'[4]국내종별~국제특수'!$B$2:$C$29,2,0) -> 2667 | X7: 10533
A8: 서광주 | B8: =C8+D8 -> 129641 | C8: =SUM(E8,G8,I8,K8,M8,Q8,S8,U8,W8,Y8,AA8,AC8,AE8,AG8,AI8,AK8,AM8,AO8,AQ8) -> 73744 | D8: =SUM(F8,H8,J8,L8,N8,P8,R8,T8,V8,X8,Z8,AB8,AD8,AF8,AH8,AJ8,AL8,AN8,AP8,AR8) -> 55897 | E8: 10880 | F8: 4371 | G8: 8177 | H8: 9135 | I8: 7730 | J8: 6037 | K8: =VLOOKUP(A8,'[2]국내종별~국제특수'!$B$2:$C$29,2,0) -> 6787 | L8: 6097 | M8: 7345 | N8: 5622 | O8: 111 | P8: 4601 | S8: 12160 | T8: 2157 | U8: =VLOOKUP(A8,'[3]국내종별~국제특수'!$B$2:$C$29,2,0) -> 10272 | V8: 9564 | W8: =VLOOKUP(A8,'[4]국내종별~국제특수'!$B$2:$C$29,2,0) -> 10393 | X8: 8313
A9: 광주광산 | B9: =C9+D9 -> 69932 | C9: =SUM(E9,G9,I9,K9,M9,Q9,S9,U9,W9,Y9,AA9,AC9,AE9,AG9,AI9,AK9,AM9,AO9,AQ9) -> 14981 | D9: =SUM(F9,H9,J9,L9,N9,P9,R9,T9,V9,X9,Z9,AB9,AD9,AF9,AH9,AJ9,AL9,AN9,AP9,AR9) -> 54951 | E9: 2250 | F9: 4157 | G9: 1454 | H9: 8592 | I9: 1328 | J9: 5651 | K9: =VLOOKUP(A9,'[2]국내종별~국제특수'!$B$2:$C$29,2,0) -> 1658 | L9: 5763 | M9: 1899 | N9: 5827 | O9: 0 | P9: 5282 | S9: 2498 | T9: 1912 | U9: =VLOOKUP(A9,'[3]국내종별~국제특수'!$B$2:$C$29,2,0) -> 1987 | V9: 9218 | W9: =VLOOKUP(A9,'[4]국내종별~국제특수'!$B$2:$C$29,2,0) -> 1907 | X9: 8549
A10: 목포 | B10: =C10+D10 -> 95525 | C10: =SUM(E10,G10,I10,K10,M10,Q10,S10,U10,W10,Y10,AA10,AC10,AE10,AG10,AI10,AK10,AM10,AO10,AQ10) -> 50278 | D10: =SUM(F10,H10,J10,L10,N10,P10,R10,T10,V10,X10,Z10,AB10,AD10,AF10,AH10,AJ10,AL10,AN10,AP10,AR10) -> 45247 | E10: 7014 | F10: 3561 | G10: 4437 | H10: 6369 | I10: 4672 | J10: 5039 | K10: =VLOOKUP(A10,'[2]국내종별~국제특수'!$B$2:$C$29,2,0) -> 5793 | L10: 5825 | M10: 3632 | N10: 4833 | O10: 42 | P10: 3993 | Q10: 320 | S10: 8786 | T10: 1723 | U10: =VLOOKUP(A10,'[3]국내종별~국제특수'!$B$2:$C$29,2,0) -> 7838 | V10: 7398 | W10: =VLOOKUP(A10,'[4]국내종별~국제특수'!$B$2:$C$29,2,0) -> 7786 | X10: 6506
A11: 여수 | B11: =C11+D11 -> 114753 | C11: =SUM(E11,G11,I11,K11,M11,Q11,S11,U11,W11,Y11,AA11,AC11,AE11,AG11,AI11,AK11,AM11,AO11,AQ11) -> 72421 | D11: =SUM(F11,H11,J11,L11,N11,P11,R11,T11,V11,X11,Z11,AB11,AD11,AF11,AH11,AJ11,AL11,AN11,AP11,AR11) -> 42332 | E11: 7661 | F11: 3701 | G11: 5667 | H11: 5957 | I11: 4684 | J11: 4678 | K11: =VLOOKUP(A11,'[2]국내종별~국제특수'!$B$2:$C$29,2,0) -> 5995 | L11: 5669 | M11: 5875 | N11: 4674 | O11: 0 | P11: 3421 | Q11: 4170 | S11: 10935 | T11: 1895 | U11: =VLOOKUP(A11,'[3]국내종별~국제특수'!$B$2:$C$29,2,0) -> 13757 | V11: 6603 | W11: =VLOOKUP(A11,'[4]국내종별~국제특수'!$B$2:$C$29,2,0) -> 13677 | X11: 5734
A12: 순천 | B12: =C12+D12 -> 69848 | C12: =SUM(E12,G12,I12,K12,M12,Q12,S12,U12,W12,Y12,AA12,AC12,AE12,AG12,AI12,AK12,AM12,AO12,AQ12) -> 29552 | D12: =SUM(F12,H12,J12,L12,N12,P12,R12,T12,V12,X12,Z12,AB12,AD12,AF12,AH12,AJ12,AL12,AN12,AP12,AR12) -> 40296 | E12: 4158 | F12: 3625 | G12: 2616 | H12: 6634 | I12: 2259 | J12: 4126 | K12: =VLOOKUP(A12,'[2]국내종별~국제특수'!$B$2:$C$29,2,0) -> 3848 | L12: 4689 | M12: 2487 | N12: 5057 | O12: 0 | P12: 3247 | S12: 5603 | T12: 1459 | U12: =VLOOKUP(A12,'[3]국내종별~국제특수'!$B$2:$C$29,2,0) -> 3916 | V12: 5960 | W12: =VLOOKUP(A12,'[4]국내종별~국제특수'!$B$2:$C$29,2,0) -> 4665 | X12: 5499
A13: 강진 | B13: =C13+D13 -> 15183 | C13: =SUM(E13,G13,I13,K13,M13,Q13,S13,U13,W13,Y13,AA13,AC13,AE13,AG13,AI13,AK13,AM13,AO13,AQ13) -> 9530 | D13: =SUM(F13,H13,J13,L13,N13,P13,R13,T13,V13,X13,Z13,AB13,AD13,AF13,AH13,AJ13,AL13,AN13,AP13,AR13) -> 5653 | E13: 1088 | F13: 316 | G13: 636 | H13: 1154 | I13: 829 | J13: 467 | K13: =VLOOKUP(A13,'[2]국내종별~국제특수'!$B$2:$C$29,2,0) -> 925 | L13: 810 | M13: 757 | N13: 577 | O13: 0 | P13: 511 | S13: 1919 | T13: 226 | U13: =VLOOKUP(A13,'[3]국내종별~국제특수'!$B$2:$C$29,2,0) -> 1515 | V13: 947 | W13: =VLOOKUP(A13,'[4]국내종별~국제특수'!$B$2:$C$29,2,0) -> 1861 | X13: 645
A14: 고흥 | B14: =C14+D14 -> 32141 | C14: =SUM(E14,G14,I14,K14,M14,Q14,S14,U14,W14,Y14,AA14,AC14,AE14,AG14,AI14,AK14,AM14,AO14,AQ14) -> 20227 | D14: =SUM(F14,H14,J14,L14,N14,P14,R14,T14,V14,X14,Z14,AB14,AD14,AF14,AH14,AJ14,AL14,AN14,AP14,AR14) -> 11914 | E14: 2978 | F14: 1148 | G14: 1075 | H14: 2181 | I14: 1245 | J14: 1696 | K14: =VLOOKUP(A14,'[2]국내종별~국제특수'!$B$2:$C$29,2,0) -> 2792 | L14: 1392 | M14: 3036 | N14: 1143 | O14: 0 | P14: 650 | S14: 3127 | T14: 578 | U14: =VLOOKUP(A14,'[3]국내종별~국제특수'!$B$2:$C$29,2,0) -> 2866 | V14: 1760 | W14: =VLOOKUP(A14,'[4]국내종별~국제특수'!$B$2:$C$29,2,0) -> 3108 | X14: 1366
A15: 곡성 | B15: =C15+D15 -> 11246 | C15: =SUM(E15,G15,I15,K15,M15,Q15,S15,U15,W15,Y15,AA15,AC15,AE15,AG15,AI15,AK15,AM15,AO15,AQ15) -> 6067 | D15: =SUM(F15,H15,J15,L15,N15,P15,R15,T15,V15,X15,Z15,AB15,AD15,AF15,AH15,AJ15,AL15,AN15,AP15,AR15) -> 5179 | E15: 748 | F15: 738 | G15: 462 | H15: 1047 | I15: 665 | J15: 458 | K15: =VLOOKUP(A15,'[2]국내종별~국제특수'!$B$2:$C$29,2,0) -> 468 | L15: 549 | M15: 478 | N15: 500 | O15: 0 | P15: 329 | S15: 1323 | T15: 186 | U15: =VLOOKUP(A15,'[3]국내종별~국제특수'!$B$2:$C$29,2,0) -> 907 | V15: 784 | W15: =VLOOKUP(A15,'[4]국내종별~국제특수'!$B$2:$C$29,2,0) -> 1016 | X15: 588
A16: 광양 | B16: =C16+D16 -> 34683 | C16: =SUM(E16,G16,I16,K16,M16,Q16,S16,U16,W16,Y16,AA16,AC16,AE16,AG16,AI16,AK16,AM16,AO16,AQ16) -> 12726 | D16: =SUM(F16,H16,J16,L16,N16,P16,R16,T16,V16,X16,Z16,AB16,AD16,AF16,AH16,AJ16,AL16,AN16,AP16,AR16) -> 21957 | E16: 1923 | F16: 2195 | G16: 1424 | H16: 4060 | I16: 1557 | J16: 2229 | K16: =VLOOKUP(A16,'[2]국내종별~국제특수'!$B$2:$C$29,2,0) -> 1324 | L16: 2305 | M16: 807 | N16: 2296 | O16: 0 | P16: 1678 | S16: 1961 | T16: 833 | U16: =VLOOKUP(A16,'[3]국내종별~국제특수'!$B$2:$C$29,2,0) -> 1756 | V16: 3314 | W16: =VLOOKUP(A16,'[4]국내종별~국제특수'!$B$2:$C$29,2,0) -> 1974 | X16: 3047
A17: 구례 | B17: =C17+D17 -> 12076 | C17: =SUM(E17,G17,I17,K17,M17,Q17,S17,U17,W17,Y17,AA17,AC17,AE17,AG17,AI17,AK17,AM17,AO17,AQ17) -> 7545 | D17: =SUM(F17,H17,J17,L17,N17,P17,R17,T17,V17,X17,Z17,AB17,AD17,AF17,AH17,AJ17,AL17,AN17,AP17,AR17) -> 4531 | E17: 540 | F17: 295 | G17: 226 | H17: 460 | I17: 316 | J17: 384 | K17: =VLOOKUP(A17,'[2]국내종별~국제특수'!$B$2:$C$29,2,0) -> 1063 | L17: 416 | M17: 661 | N17: 952 | O17: 0 | P17: 309 | S17: 2232 | T17: 375 | U17: =VLOOKUP(A17,'[3]국내종별~국제특수'!$B$2:$C$29,2,0) -> 1170 | V17: 765 | W17: =VLOOKUP(A17,'[4]국내종별~국제특수'!$B$2:$C$29,2,0) -> 1337 | X17: 575
A18: 나주 | B18: =C18+D18 -> 60261 | C18: =SUM(E18,G18,I18,K18,M18,Q18,S18,U18,W18,Y18,AA18,AC18,AE18,AG18,AI18,AK18,AM18,AO18,AQ18) -> 45203 | D18: =SUM(F18,H18,J18,L18,N18,P18,R18,T18,V18,X18,Z18,AB18,AD18,AF18,AH18,AJ18,AL18,AN18,AP18,AR18) -> 15058 | E18: 2781 | F18: 1051 | G18: 2286 | H18: 3207 | I18: 2199 | J18: 1493 | K18: =VLOOKUP(A18,'[2]국내종별~국제특수'!$B$2:$C$29,2,0) -> 3080 | L18: 1593 | M18: 3139 | N18: 1580 | O18: 0 | P18: 885 | Q18: 731 | S18: 8340 | T18: 848 | U18: =VLOOKUP(A18,'[3]국내종별~국제특수'!$B$2:$C$29,2,0) -> 9378 | V18: 2029 | W18: =VLOOKUP(A18,'[4]국내종별~국제특수'!$B$2:$C$29,2,0) -> 13269 | X18: 2372
A19: 담양 | B19: =C19+D19 -> 23870 | C19: =SUM(E19,G19,I19,K19,M19,Q19,S19,U19,W19,Y19,AA19,AC19,AE19,AG19,AI19,AK19,AM19,AO19,AQ19) -> 16829 | D19: =SUM(F19,H19,J19,L19,N19,P19,R19,T19,V19,X19,Z19,AB19,AD19,AF19,AH19,AJ19,AL19,AN19,AP19,AR19) -> 7041 | E19: 2585 | F19: 427 | G19: 890 | H19: 1701 | I19: 1019 | J19: 635 | K19: =VLOOKUP(A19,'[2]국내종별~국제특수'!$B$2:$C$29,2,0) -> 2692 | L19: 727 | M19: 1129 | N19: 757 | O19: 211 | P19: 501 | S19: 2756 | T19: 223 | U19: =VLOOKUP(A19,'[3]국내종별~국제특수'!$B$2:$C$29,2,0) -> 2514 | V19: 987 | W19: =VLOOKUP(A19,'[4]국내종별~국제특수'!$B$2:$C$29,2,0) -> 3244 | X19: 1083
A20: 무안 | B20: =C20+D20 -> 26439 | C20: =SUM(E20,G20,I20,K20,M20,Q20,S20,U20,W20,Y20,AA20,AC20,AE20,AG20,AI20,AK20,AM20,AO20,AQ20) -> 14129 | D20: =SUM(F20,H20,J20,L20,N20,P20,R20,T20,V20,X20,Z20,AB20,AD20,AF20,AH20,AJ20,AL20,AN20,AP20,AR20) -> 12310 | E20: 1732 | F20: 944 | G20: 1050 | H20: 1859 | I20: 2295 | J20: 1218 | K20: =VLOOKUP(A20,'[2]국내종별~국제특수'!$B$2:$C$29,2,0) -> 2019 | L20: 1461 | M20: 1098 | N20: 1631 | O20: 0 | P20: 970 | S20: 2429 | T20: 399 | U20: =VLOOKUP(A20,'[3]국내종별~국제특수'!$B$2:$C$29,2,0) -> 2113 | V20: 2041 | W20: =VLOOKUP(A20,'[4]국내종별~국제특수'!$B$2:$C$29,2,0) -> 1393 | X20: 1787
A21: 보성 | B21: =C21+D21 -> 13464 | C21: =SUM(E21,G21,I21,K21,M21,Q21,S21,U21,W21,Y21,AA21,AC21,AE21,AG21,AI21,AK21,AM21,AO21,AQ21) -> 7034 | D21: =SUM(F21,H21,J21,L21,N21,P21,R21,T21,V21,X21,Z21,AB21,AD21,AF21,AH21,AJ21,AL21,AN21,AP21,AR21) -> 6430 | E21: 799 | F21: 384 | G21: 803 | H21: 1271 | I21: 655 | J21: 770 | K21: =VLOOKUP(A21,'[2]국내종별~국제특수'!$B$2:$C$29,2,0) -> 975 | L21: 686 | M21: 626 | N21: 659 | O21: 0 | P21: 486 | S21: 1148 | T21: 267 | U21: =VLOOKUP(A21,'[3]국내종별~국제특수'!$B$2:$C$29,2,0) -> 1019 | V21: 1021 | W21: =VLOOKUP(A21,'[4]국내종별~국제특수'!$B$2:$C$29,2,0) -> 1009 | X21: 886
A22: 영광 | B22: =C22+D22 -> 53055 | C22: =SUM(E22,G22,I22,K22,M22,Q22,S22,U22,W22,Y22,AA22,AC22,AE22,AG22,AI22,AK22,AM22,AO22,AQ22) -> 46215 | D22: =SUM(F22,H22,J22,L22,N22,P22,R22,T22,V22,X22,Z22,AB22,AD22,AF22,AH22,AJ22,AL22,AN22,AP22,AR22) -> 6840 | E22: 2688 | F22: 578 | G22: 2735 | H22: 1286 | I22: 2827 | J22: 650 | K22: =VLOOKUP(A22,'[2]국내종별~국제특수'!$B$2:$C$29,2,0) -> 3723 | L22: 761 | M22: 3008 | N22: 702 | O22: 0 | P22: 523 | Q22: 3843 | S22: 7498 | T22: 183 | U22: =VLOOKUP(A22,'[3]국내종별~국제특수'!$B$2:$C$29,2,0) -> 8851 | V22: 1148 | W22: =VLOOKUP(A22,'[4]국내종별~국제특수'!$B$2:$C$29,2,0) -> 11042 | X22: 1009
A23: 영암 | B23: =C23+D23 -> 9919 | C23: =SUM(E23,G23,I23,K23,M23,Q23,S23,U23,W23,Y23,AA23,AC23,AE23,AG23,AI23,AK23,AM23,AO23,AQ23) -> 6367 | D23: =SUM(F23,H23,J23,L23,N23,P23,R23,T23,V23,X23,Z23,AB23,AD23,AF23,AH23,AJ23,AL23,AN23,AP23,AR23) -> 3552 | E23: 540 | F23: 234 | G23: 528 | H23: 657 | I23: 500 | J23: 501 | K23: =VLOOKUP(A23,'[2]국내종별~국제특수'!$B$2:$C$29,2,0) -> 983 | L23: 337 | M23: 622 | N23: 438 | O23: 0 | P23: 258 | S23: 1426 | T23: 174 | U23: =VLOOKUP(A23,'[3]국내종별~국제특수'!$B$2:$C$29,2,0) -> 497 | V23: 508 | W23: =VLOOKUP(A23,'[4]국내종별~국제특수'!$B$2:$C$29,2,0) -> 1271 | X23: 445
A24: 완도 | B24: =C24+D24 -> 111564 | C24: =SUM(E24,G24,I24,K24,M24,Q24,S24,U24,W24,Y24,AA24,AC24,AE24,AG24,AI24,AK24,AM24,AO24,AQ24) -> 99421 | D24: =SUM(F24,H24,J24,L24,N24,P24,R24,T24,V24,X24,Z24,AB24,AD24,AF24,AH24,AJ24,AL24,AN24,AP24,AR24) -> 12143 | E24: 9074 | F24: 830 | G24: 7803 | H24: 1800 | I24: 9155 | J24: 1475 | K24: =VLOOKUP(A24,'[2]국내종별~국제특수'!$B$2:$C$29,2,0) -> 8002 | L24: 1299 | M24: 7123 | N24: 1684 | O24: 0 | P24: 962 | Q24: 6599 | S24: 13711 | T24: 369 | U24: =VLOOKUP(A24,'[3]국내종별~국제특수'!$B$2:$C$29,2,0) -> 15809 | V24: 1960 | W24: =VLOOKUP(A24,'[4]국내종별~국제특수'!$B$2:$C$29,2,0) -> 22145 | X24: 1764
A25: 장성 | B25: =C25+D25 -> 17006 | C25: =SUM(E25,G25,I25,K25,M25,Q25,S25,U25,W25,Y25,AA25,AC25,AE25,AG25,AI25,AK25,AM25,AO25,AQ25) -> 10269 | D25: =SUM(F25,H25,J25,L25,N25,P25,R25,T25,V25,X25,Z25,AB25,AD25,AF25,AH25,AJ25,AL25,AN25,AP25,AR25) -> 6737 | E25: 1160 | F25: 651 | G25: 962 | H25: 1084 | I25: 970 | J25: 728 | K25: =VLOOKUP(A25,'[2]국내종별~국제특수'!$B$2:$C$29,2,0) -> 1230 | L25: 663 | M25: 1432 | N25: 839 | O25: 0 | P25: 424 | S25: 1975 | T25: 270 | U25: =VLOOKUP(A25,'[3]국내종별~국제특수'!$B$2:$C$29,2,0) -> 1163 | V25: 1210 | W25: =VLOOKUP(A25,'[4]국내종별~국제특수'!$B$2:$C$29,2,0) -> 1377 | X25: 868
A26: 장흥 | B26: =C26+D26 -> 25326 | C26: =SUM(E26,G26,I26,K26,M26,Q26,S26,U26,W26,Y26,AA26,AC26,AE26,AG26,AI26,AK26,AM26,AO26,AQ26) -> 19369 | D26: =SUM(F26,H26,J26,L26,N26,P26,R26,T26,V26,X26,Z26,AB26,AD26,AF26,AH26,AJ26,AL26,AN26,AP26,AR26) -> 5957 | E26: 2734 | F26: 315 | G26: 1096 | H26: 1338 | I26: 1067 | J26: 538 | K26: =VLOOKUP(A26,'[2]국내종별~국제특수'!$B$2:$C$29,2,0) -> 2009 | L26: 567 | M26: 1450 | N26: 554 | O26: 0 | P26: 468 | S26: 3803 | T26: 253 | U26: =VLOOKUP(A26,'[3]국내종별~국제특수'!$B$2:$C$29,2,0) -> 2605 | V26: 1110 | W26: =VLOOKUP(A26,'[4]국내종별~국제특수'!$B$2:$C$29,2,0) -> 4605 | X26: 814
A27: 진도 | B27: =C27+D27 -> 21598 | C27: =SUM(E27,G27,I27,K27,M27,Q27,S27,U27,W27,Y27,AA27,AC27,AE27,AG27,AI27,AK27,AM27,AO27,AQ27) -> 15651 | D27: =SUM(F27,H27,J27,L27,N27,P27,R27,T27,V27,X27,Z27,AB27,AD27,AF27,AH27,AJ27,AL27,AN27,AP27,AR27) -> 5947 | E27: 1197 | F27: 685 | G27: 1238 | H27: 1055 | I27: 932 | J27: 639 | K27: =VLOOKUP(A27,'[2]국내종별~국제특수'!$B$2:$C$29,2,0) -> 1833 | L27: 717 | M27: 2017 | N27: 690 | O27: 0 | P27: 333 | S27: 2644 | T27: 217 | U27: =VLOOKUP(A27,'[3]국내종별~국제특수'!$B$2:$C$29,2,0) -> 2461 | V27: 766 | W27: =VLOOKUP(A27,'[4]국내종별~국제특수'!$B$2:$C$29,2,0) -> 3329 | X27: 845
A28: 함평 | B28: =C28+D28 -> 13093 | C28: =SUM(E28,G28,I28,K28,M28,Q28,S28,U28,W28,Y28,AA28,AC28,AE28,AG28,AI28,AK28,AM28,AO28,AQ28) -> 7941 | D28: =SUM(F28,H28,J28,L28,N28,P28,R28,T28,V28,X28,Z28,AB28,AD28,AF28,AH28,AJ28,AL28,AN28,AP28,AR28) -> 5152 | E28: 1512 | F28: 734 | G28: 629 | H28: 1239 | I28: 643 | J28: 405 | K28: =VLOOKUP(A28,'[2]국내종별~국제특수'!$B$2:$C$29,2,0) -> 573 | L28: 565 | M28: 373 | N28: 686 | O28: 0 | P28: 278 | S28: 1505 | T28: 135 | U28: =VLOOKUP(A28,'[3]국내종별~국제특수'!$B$2:$C$29,2,0) -> 816 | V28: 586 | W28: =VLOOKUP(A28,'[4]국내종별~국제특수'!$B$2:$C$29,2,0) -> 1890 | X28: 524
A29: 해남 | B29: =C29+D29 -> 27702 | C29: =SUM(E29,G29,I29,K29,M29,Q29,S29,U29,W29,Y29,AA29,AC29,AE29,AG29,AI29,AK29,AM29,AO29,AQ29) -> 16125 | D29: =SUM(F29,H29,J29,L29,N29,P29,R29,T29,V29,X29,Z29,AB29,AD29,AF29,AH29,AJ29,AL29,AN29,AP29,AR29) -> 11577 | E29: 3111 | F29: 1967 | G29: 2024 | H29: 1866 | I29: 1465 | J29: 1421 | K29: =VLOOKUP(A29,'[2]국내종별~국제특수'!$B$2:$C$29,2,0) -> 1561 | L29: 1166 | M29: 1429 | N29: 961 | O29: 0 | P29: 936 | S29: 2756 | T29: 381 | U29: =VLOOKUP(A29,'[3]국내종별~국제특수'!$B$2:$C$29,2,0) -> 1784 | V29: 1451 | W29: =VLOOKUP(A29,'[4]국내종별~국제특수'!$B$2:$C$29,2,0) -> 1995 | X29: 1428
A30: 화순 | B30: =C30+D30 -> 20834 | C30: =SUM(E30,G30,I30,K30,M30,Q30,S30,U30,W30,Y30,AA30,AC30,AE30,AG30,AI30,AK30,AM30,AO30,AQ30) -> 11953 | D30: =SUM(F30,H30,J30,L30,N30,P30,R30,T30,V30,X30,Z30,AB30,AD30,AF30,AH30,AJ30,AL30,AN30,AP30,AR30) -> 8881 | E30: 1828 | F30: 643 | G30: 1423 | H30: 1644 | I30: 1143 | J30: 1001 | K30: =VLOOKUP(A30,'[2]국내종별~국제특수'!$B$2:$C$29,2,0) -> 1130 | L30: 934 | M30: 579 | N30: 941 | O30: 0 | P30: 751 | S30: 1774 | T30: 337 | U30: =VLOOKUP(A30,'[3]국내종별~국제특수'!$B$2:$C$29,2,0) -> 1863 | V30: 1380 | W30: =VLOOKUP(A30,'[4]국내종별~국제특수'!$B$2:$C$29,2,0) -> 2213 | X30: 1250
A31: 광주집 | B31: =C31+D31 -> 70179 | C31: =SUM(E31,G31,I31,K31,M31,Q31,S31,U31,W31,Y31,AA31,AC31,AE31,AG31,AI31,AK31,AM31,AO31,AQ31) -> 70179 | D31: =SUM(F31,H31,J31,L31,N31,P31,R31,T31,V31,X31,Z31,AB31,AD31,AF31,AH31,AJ31,AL31,AN31,AP31,AR31) -> 0 | E31: 9972 | G31: 6579 | I31: 6846 | K31: 6079 | M31: 6549 | O31: 868 | S31: 11688 | T31: 0 | U31: 10747 | W31: 11719
A32: 영암집 | B32: =C32+D32 -> 7089 | C32: =SUM(E32,G32,I32,K32,M32,Q32,S32,U32,W32,Y32,AA32,AC32,AE32,AG32,AI32,AK32,AM32,AO32,AQ32) -> 746 | D32: =SUM(F32,H32,J32,L32,N32,P32,R32,T32,V32,X32,Z32,AB32,AD32,AF32,AH32,AJ32,AL32,AN32,AP32,AR32) -> 6343 | E32: 116 | F32: 603 | G32: 61 | H32: 946 | I32: 85 | J32: 786 | K32: 78 | L32: 638 | M32: 69 | N32: 825 | P32: 359 | S32: 113 | T32: 399 | U32: 132 | V32: 932 | W32: 92 | X32: 855
A33: 계 | B33: =SUM(B34:B36) -> #REF! | C33: =SUM(C34:C36) -> #REF! | D33: =SUM(D34:D36) -> #REF! | E33: =SUM(E34:E36) -> 91813 | F33: =SUM(F34:F36) -> 44255 | G33: =SUM(G34:G36) -> 64973 | H33: =SUM(H34:H36) -> 86149 | I33: =SUM(I34:I36) -> 66066 | ... N33: =SUM(N34:N36) -> 57425
A34: 광주집 | B34: =C34+D34 -> #REF! | C34: =#REF!+#REF!+#REF!+#REF!+#REF!+#REF!+E34+G34+I34+K34+M34 -> #REF! | D34: =#REF!+#REF!+#REF!+#REF!+#REF!+#REF!+F34+H34+J34+L34+N34 -> #REF! | E34: =SUM(E6:E9)+E15+SUM(E17:E19)+E22+E25+E28+E30+E31 -> 47688 | F34: =SUM(F6:F9)+F15+SUM(F17:F19)+F22+F25+F28+F30+F31 -> 23747 | G34: =SUM(G6:G9)+G15+SUM(G17:G19)+G22+G25+G28+G30+G31 -> 34515 | H34: =SUM(H6:H9)+H15+SUM(H17:H19)+H22+H25+H28+H30+H31 -> 49002 | I34: =SUM(I6:I9)+I15+SUM(I17:I19)+I22+I25+I28+I30+I31 -> 34666 | J34: =SUM(J6:J9)+J15+SUM(J17:J19)+J22+J25+J28+J30+J31 -> 30647 | K34: =SUM(K6:K9)+K15+SUM(K17:K19)+K22+K25+K28+K30+K31 -> 35960 | L34: =SUM(L6:L9)+L15+SUM(L17:L19)+L22+L25+L28+L30+L31 -> 31460 | ... N34: =SUM(N6:N9)+N15+SUM(N17:N19)+N22+N25+N28+N30+N31 -> 31403
A35: 순천집 | B35: =C35+D35 -> #REF! | C35: =#REF!+#REF!+#REF!+#REF!+#REF!+#REF!+E35+G35+I35+K35+M35 -> #REF! | D35: =#REF!+#REF!+#REF!+#REF!+#REF!+#REF!+F35+H35+J35+L35+N35 -> #REF! | E35: =E11+E14+E12+E21+E16 -> 17519 | F35: =F11+F14+F12+F21+F16 -> 11053 | G35: =G11+G14+G12+G21+G16 -> 11585 | H35: =H11+H14+H12+H21+H16 -> 20103 | I35: =I11+I14+I12+I21+I16 -> 10400 | J35: =J11+J14+J12+J21+J16 -> 13499 | K35: =K11+K14+K12+K21+K16 -> 14934 | L35: =L11+L14+L12+L21+L16 -> 14741 | ... N35: =N11+N14+N12+N21+N16 -> 13829
A36: 영암집 | B36: =C36+D36 -> #REF! | C36: =#REF!+#REF!+#REF!+#REF!+#REF!+#REF!+E36+G36+I36+K36+M36 -> #REF! | D36: =#REF!+#REF!+#REF!+#REF!+#REF!+#REF!+F36+H36+J36+L36+N36 -> #REF! | E36: =E10+E13+E20+E23+E24+E26+E27+E29+E32 -> 26606 | F36: =F10+F13+F20+F23+F24+F26+F27+F29+F32 -> 9455 | G36: =G10+G13+G20+G23+G24+G26+G27+G29+G32 -> 18873 | H36: =H10+H13+H20+H23+H24+H26+H27+H29+H32 -> 17044 | I36: =I10+I13+I20+I23+I24+I26+I27+I29+I32 -> 21000 | J36: =J10+J13+J20+J23+J24+J26+J27+J29+J32 -> 12084 | K36: =K10+K13+K20+K23+K24+K26+K27+K29+K32 -> 23203 | L36: =L10+L13+L20+L23+L24+L26+L27+L29+L32 -> 12820 | ... N36: =N10+N13+N20+N23+N24+N26+N27+N29+N32 -> 12193
A37: 본부 | C37: =SUM(E37,G37,I37,K37,M37,Q37,S37,U37,W37,Y37,AA37,AC37,AE37,AG37,AI37,AK37,AM37,AO37,AQ37) -> 7761844 | E37: 1029582 | G37: 803470 | I37: 758817 | K37: 772452 | M37: 737414 | O37: 135900 | Q37: 26076 | S37: 1323934 | U37: 1077108 | W37: 1232991
A39: ○ 2014. 추석
A40: 계 | B40: =SUM(B41:B43) -> #REF! | C40: =SUM(C41:C43) -> #REF! | D40: =SUM(D41:D43) -> #REF! | E40: =SUM(E41:E43) -> #REF! | F40: =SUM(F41:F43) -> #REF! | G40: =SUM(G41:G43) -> #REF! | H40: =SUM(H41:H43) -> #REF! | I40: =SUM(I41:I43) -> #REF! | ... N40: =SUM(N41:N43) -> #REF!
A41: 광주집 | B41: =C41+D41 -> #REF! | C41: =#REF!+#REF!+#REF!+#REF!+#REF!+#REF!+E41+G41+I41+K41+M41 -> #REF! | D41: =#REF!+#REF!+#REF!+#REF!+#REF!+#REF!+F41+H41+J41+L41+N41 -> #REF! | E41: =SUM(#REF!)+#REF!+SUM(#REF!)+#REF!+#REF!+#REF!+#REF!+#REF! -> #REF! | F41: =SUM(#REF!)+#REF!+SUM(#REF!)+#REF!+#REF!+#REF!+#REF!+#REF! -> #REF! | G41: =SUM(#REF!)+#REF!+SUM(#REF!)+#REF!+#REF!+#REF!+#REF!+#REF! -> #REF! | H41: =SUM(#REF!)+#REF!+SUM(#REF!)+#REF!+#REF!+#REF!+#REF!+#REF! -> #REF! | I41: =SUM(#REF!)+#REF!+SUM(#REF!)+#REF!+#REF!+#REF!+#REF!+#REF! -> #REF! | J41: =SUM(#REF!)+#REF!+SUM(#REF!)+#REF!+#REF!+#REF!+#REF!+#REF! -> #REF! | K41: =SUM(#REF!)+#REF!+SUM(#REF!)+#REF!+#REF!+#REF!+#REF!+#REF! -> #REF! | L41: =SUM(#REF!)+#REF!+SUM(#REF!)+#REF!+#REF!+#REF!+#REF!+#REF! -> #REF! | ... N41: =SUM(#REF!)+#REF!+SUM(#REF!)+#REF!+#REF!+#REF!+#REF!+#REF! -> #REF!
A42: 순천집 | B42: =C42+D42 -> #REF! | C42: =#REF!+#REF!+#REF!+#REF!+#REF!+#REF!+E42+G42+I42+K42+M42 -> #REF! | D42: =#REF!+#REF!+#REF!+#REF!+#REF!+#REF!+F42+H42+J42+L42+N42 -> #REF! | E42: =#REF!+#REF!+#REF!+#REF!+#REF! -> #REF! | F42: =#REF!+#REF!+#REF!+#REF!+#REF! -> #REF! | G42: =#REF!+#REF!+#REF!+#REF!+#REF! -> #REF! | H42: =#REF!+#REF!+#REF!+#REF!+#REF! -> #REF! | I42: =#REF!+#REF!+#REF!+#REF!+#REF! -> #REF! | J42: =#REF!+#REF!+#REF!+#REF!+#REF! -> #REF! | K42: =#REF!+#REF!+#REF!+#REF!+#REF! -> #REF! | L42: =#REF!+#REF!+#REF!+#REF!+#REF! -> #REF! | ... N42: =#REF!+#REF!+#REF!+#REF!+#REF! -> #REF!
A43: 영암집 | B43: =C43+D43 -> #REF! | C43: =#REF!+#REF!+#REF!+#REF!+#REF!+#REF!+E43+G43+I43+K43+M43 -> #REF! | D43: =#REF!+#REF!+#REF!+#REF!+#REF!+#REF!+F43+H43+J43+L43+N43 -> #REF! | E43: =#REF!+#REF!+#REF!+#REF!+#REF!+#REF!+#REF!+#REF!+#REF! -> #REF! | F43: =#REF!+#REF!+#REF!+#REF!+#REF!+#REF!+#REF!+#REF!+#REF! -> #REF! | G43: =#REF!+#REF!+#REF!+#REF!+#REF!+#REF!+#REF!+#REF!+#REF! -> #REF! | H43: =#REF!+#REF!+#REF!+#REF!+#REF!+#REF!+#REF!+#REF!+#REF! -> #REF! | I43: =#REF!+#REF!+#REF!+#REF!+#REF!+#REF!+#REF!+#REF!+#REF! -> #REF! | J43: =#REF!+#REF!+#REF!+#REF!+#REF!+#REF!+#REF!+#REF!+#REF! -> #REF! | K43: =#REF!+#REF!+#REF!+#REF!+#REF!+#REF!+#REF!+#REF!+#REF! -> #REF! | L43: =#REF!+#REF!+#REF!+#REF!+#REF!+#REF!+#REF!+#REF!+#REF! -> #REF! | ... N43: =#REF!+#REF!+#REF!+#REF!+#REF!+#REF!+#REF!+#REF!+#REF! -> #REF!
A44: 일자별 | B44: 누계 | E44: 2014-08-18(월) | G44: 2014-08-19(화) | I44: 2014-08-20(수) | K44: 2014-08-21(목) | M44: 2014-08-22(금) | O44: 2014-08-23(토) | Q44: 2014-08-24(일) | S44: 2014-08-25(월) | U44: 2014-08-26(화) | W44: 2014-08-27(수) | Y44: 2014-08-28(목) | AA44: 2014-08-29(금) | AC44: 2014-08-30(토) | AE44: 2014-08-31(일) | AG44: 2014-09-01(월) | AI44: 2014-09-02(화) | AK44: 2014-09-03(수) | AM44: 2014-09-04(목) | AO44: 2014-09-05(금) | AQ44: 2014-09-06(토) | AS44: 2014-08-39(화)
E45: D-20 | G45: D-19 | I45: D-18 | K45: D-17 | M45: D-16 | O45: D-15 | Q45: D-14 | S45: D-13 | U45: D-12 | W45: D-11 | Y45: D-10 | AA45: D-9 | AC45: D-8 | AE45: D-7 | AG45: D-6 | AI45: D-5 | AK45: D-4 | AM45: D-3 | AO45: D-2 | AQ45: D-1 | AS45: D-2
B46: 합계 | C46: 접수 | D46: 배달 | E46: 접수 | F46: 배달 | G46: 접수 | H46: 배달 | I46: 접수 | J46: 배달 | K46: 접수 | L46: 배달 | M46: 접수 | N46: 배달 | O46: 접수 | P46: 배달 | Q46: 접수 | R46: 배달 | S46: 접수 | T46: 배달 | U46: 접수 | V46: 배달 | W46: 접수 | X46: 배달 | Y46: 접수 | Z46: 배달 | AA46: 접수 | AB46: 배달 | AC46: 접수 | AD46: 배달 | AE46: 접수 | AF46: 배달 | AG46: 접수 | AH46: 배달 | AI46: 접수 | AJ46: 배달 | AK46: 접수 | AL46: 배달 | AM46: 접수 | AN46: 배달 | AO46: 접수 | AP46: 배달 | AQ46: 접수 | AR46: 배달 | AS46: 접수 | AT46: 배달
A47: 합계 | B47: =C47+D47 -> 2888984 | C47: =SUM(C48:C74) -> 1687148 | D47: =SUM(D48:D74) -> 1201836 | E47: =SUM(E48:E74) -> 65625 | F47: =SUM(F48:F74) -> 29339 | G47: =SUM(G48:G74) -> 48736 | H47: =SUM(H48:H74) -> 58016 | I47: =SUM(I48:I74) -> 49347 | J47: =SUM(J48:J74) -> 46660 | ... AT47: =SUM(AT48:AT74) -> 0
A48: 광주 | B48: =C48+D48 -> 265122 | C48: =SUM(E48,G48,I48,K48,M48,O48,Q48,S48,U48,W48,Y48,AA48,AC48,AE48,AG48,AI48,AK48,AM48,AO48,AQ48,AS48) -> 132692 | D48: =SUM(F48,H48,J48,L48,N48,P48,R48,T48,V48,X48,Z48,AB48,AD48,AF48,AH48,AJ48,AL48,AN48,AP48,AR48,AT48,AV48) -> 132430 | E48: =VLOOKUP(A48,'(참고)예상물량'!A5:C31,3,0) -> 7535 | F48: 3391 | G48: 8356 | H48: 5942 | I48: 8427 | J48: 4544 | K48: 9171 | L48: 4572 | M48: 7443 | N48: 4392 | O48: 1455 | P48: 4126 | Q48: 0 | R48: 404 | S48: 10041 | T48: 1299 | U48: 7383 | V48: 8069 | W48: 8187 | X48: 8189 | Y48: 9194 | Z48: 9184 | AA48: 10376 | AB48: 10002 | AC48: 2426 | AD48: 12780 | AE48: 1276 | AF48: 3285 | AG48: 12589 | AH48: 5227 | AI48: 9314 | AJ48: 13237 | AK48: 8686 | AL48: 12832 | AM48: 6568 | AN48: 9970 | AO48: 4265 | AP48: 7380 | AQ48: 0 | AR48: 3605
A49: 북광주 | B49: =C49+D49 -> 256302 | C49: =SUM(E49,G49,I49,K49,M49,O49,Q49,S49,U49,W49,Y49,AA49,AC49,AE49,AG49,AI49,AK49,AM49,AO49,AQ49,AS49) -> 93851 | D49: =SUM(F49,H49,J49,L49,N49,P49,R49,T49,V49,X49,Z49,AB49,AD49,AF49,AH49,AJ49,AL49,AN49,AP49,AR49,AT49,AV49) -> 162451 | E49: =VLOOKUP(A49,'(참고)예상물량'!A6:C32,3,0) -> 6702 | F49: 4113 | G49: 5169 | H49: 8141 | I49: 4275 | J49: 6308 | K49: 4393 | L49: 5869 | M49: 2963 | N49: 5822 | O49: 644 | P49: 4584 | Q49: 0 | R49: 790 | S49: 6889 | T49: 1380 | U49: 6131 | V49: 9291 | W49: 6037 | X49: 10218 | Y49: 6431 | Z49: 10652 | AA49: 6248 | AB49: 13103 | AC49: 2136 | AD49: 12470 | AE49: 1852 | AF49: 3571 | AG49: 9470 | AH49: 6376 | AI49: 8266 | AJ49: 17167 | AK49: 7269 | AL49: 15867 | AM49: 5878 | AN49: 12661 | AO49: 3098 | AP49: 9615 | AQ49: 0 | AR49: 4453
A50: 서광주 | B50: =C50+D50 -> 258890 | C50: =SUM(E50,G50,I50,K50,M50,O50,Q50,S50,U50,W50,Y50,AA50,AC50,AE50,AG50,AI50,AK50,AM50,AO50,AQ50,AS50) -> 124104 | D50: =SUM(F50,H50,J50,L50,N50,P50,R50,T50,V50,X50,Z50,AB50,AD50,AF50,AH50,AJ50,AL50,AN50,AP50,AR50,AT50,AV50) -> 134786 | E50: =VLOOKUP(A50,'(참고)예상물량'!A7:C33,3,0) -> 5513 | F50: 3259 | G50: 4599 | H50: 5916 | I50: 4047 | J50: 4692 | K50: 3895 | L50: 4738 | M50: 4057 | N50: 4686 | O50: 283 | P50: 3868 | Q50: 0 | R50: 449 | S50: 7331 | T50: 1211 | U50: 6573 | V50: 8448 | W50: 8597 | X50: 7903 | Y50: 11192 | Z50: 10658 | AA50: 10484 | AB50: 10672 | AC50: 3816 | AD50: 10982 | AE50: 5012 | AF50: 2648 | AG50: 14488 | AH50: 5318 | AI50: 12259 | AJ50: 14370 | AK50: 10958 | AL50: 13254 | AM50: 8695 | AN50: 10485 | AO50: 2305 | AP50: 7819 | AQ50: 0 | AR50: 3410
A51: 광주광산 | B51: =C51+D51 -> 250385 | C51: =SUM(E51,G51,I51,K51,M51,O51,Q51,S51,U51,W51,Y51,AA51,AC51,AE51,AG51,AI51,AK51,AM51,AO51,AQ51,AS51) -> 124633 | D51: =SUM(F51,H51,J51,L51,N51,P51,R51,T51,V51,X51,Z51,AB51,AD51,AF51,AH51,AJ51,AL51,AN51,AP51,AR51,AT51,AV51) -> 125752 | E51: =VLOOKUP(A51,'(참고)예상물량'!A8:C34,3,0) -> 6076 | F51: 3517 | G51: 5002 | H51: 7026 | I51: 4543 | J51: 5266 | K51: 3760 | L51: 5114 | M51: 2971 | N51: 4964 | O51: 235 | P51: 4081 | Q51: 159 | R51: 420 | S51: 5306 | T51: 712 | U51: 5981 | V51: 7788 | W51: 6726 | X51: 7371 | Y51: 8842 | Z51: 8172 | AA51: 8619 | AB51: 9926 | AC51: 3865 | AD51: 9195 | AE51: 7121 | AF51: 2248 | AG51: 13840 | AH51: 4317 | AI51: 15873 | AJ51: 12637 | AK51: 14196 | AL51: 12592 | AM51: 9080 | AN51: 9999 | AO51: 2438 | AP51: 7098 | AQ51: 0 | AR51: 3309
A52: 목포 | B52: =C52+D52 -> 203610 | C52: =SUM(E52,G52,I52,K52,M52,O52,Q52,S52,U52,W52,Y52,AA52,AC52,AE52,AG52,AI52,AK52,AM52,AO52,AQ52,AS52) -> 98570 | D52: =SUM(F52,H52,J52,L52,N52,P52,R52,T52,V52,X52,Z52,AB52,AD52,AF52,AH52,AJ52,AL52,AN52,AP52,AR52,AT52,AV52) -> 105040 | E52: =VLOOKUP(A52,'(참고)예상물량'!A9:C35,3,0) -> 3836 | F52: 2818 | G52: 2623 | H52: 5444 | I52: 3109 | J52: 4475 | K52: 3111 | L52: 4181 | M52: 2326 | N52: 4593 | O52: 0 | P52: 3386 | Q52: 0 | R52: 96 | S52: 5491 | T52: 1267 | U52: 5957 | V52: 5962 | W52: 7428 | X52: 5495 | Y52: 10127 | Z52: 7226 | AA52: 11314 | AB52: 8201 | AC52: 2397 | AD52: 9249 | AE52: 859 | AF52: 3090 | AG52: 11986 | AH52: 3289 | AI52: 12098 | AJ52: 9741 | AK52: 7982 | AL52: 9796 | AM52: 5638 | AN52: 8578 | AO52: 2288 | AP52: 5588 | AQ52: 0 | AR52: 2565
A53: 여수 | B53: =C53+D53 -> 227619 | C53: =SUM(E53,G53,I53,K53,M53,O53,Q53,S53,U53,W53,Y53,AA53,AC53,AE53,AG53,AI53,AK53,AM53,AO53,AQ53,AS53) -> 136638 | D53: =SUM(F53,H53,J53,L53,N53,P53,R53,T53,V53,X53,Z53,AB53,AD53,AF53,AH53,AJ53,AL53,AN53,AP53,AR53,AT53,AV53) -> 90981 | E53: =VLOOKUP(A53,'(참고)예상물량'!A10:C36,3,0) -> 4718 | F53: 2252 | G53: 3514 | H53: 4715 | I53: 3546 | J53: 3966 | K53: 4373 | L53: 3496 | M53: 3963 | N53: 4171 | O53: 0 | P53: 2910 | Q53: 1301 | R53: 260 | S53: 9052 | T53: 780 | U53: 11271 | V53: 5619 | W53: 13403 | X53: 5649 | Y53: 13443 | Z53: 6708 | AA53: 14458 | AB53: 7302 | AC53: 0 | AD53: 7804 | AE53: 9906 | AF53: 1270 | AG53: 14479 | AH53: 4100 | AI53: 13197 | AJ53: 8186 | AK53: 8842 | AL53: 8502 | AM53: 5954 | AN53: 6455 | AO53: 1218 | AP53: 4909 | AQ53: 0 | AR53: 1927
A54: 순천 | B54: =C54+D54 -> 165505 | C54: =SUM(E54,G54,I54,K54,M54,O54,Q54,S54,U54,W54,Y54,AA54,AC54,AE54,AG54,AI54,AK54,AM54,AO54,AQ54,AS54) -> 68789 | D54: =SUM(F54,H54,J54,L54,N54,P54,R54,T54,V54,X54,Z54,AB54,AD54,AF54,AH54,AJ54,AL54,AN54,AP54,AR54,AT54,AV54) -> 96716 | E54: =VLOOKUP(A54,'(참고)예상물량'!A11:C37,3,0) -> 3027 | F54: 2245 | G54: 2374 | H54: 4592 | I54: 2211 | J54: 3818 | K54: 2325 | L54: 3288 | M54: 1606 | N54: 3366 | O54: 0 | P54: 2570 | Q54: 0 | R54: 208 | S54: 5083 | T54: 1053 | U54: 5059 | V54: 5560 | W54: 4878 | X54: 5175 | Y54: 6851 | Z54: 6380 | AA54: 4258 | AB54: 8583 | AC54: 3036 | AD54: 8267 | AE54: 1578 | AF54: 2408 | AG54: 9165 | AH54: 5248 | AI54: 7233 | AJ54: 10231 | AK54: 4854 | AL54: 9864 | AM54: 3825 | AN54: 7420 | AO54: 1426 | AP54: 5346 | AQ54: 0 | AR54: 1094
A55: 강진 | B55: =C55+D55 -> 33044 | C55: =SUM(E55,G55,I55,K55,M55,O55,Q55,S55,U55,W55,Y55,AA55,AC55,AE55,AG55,AI55,AK55,AM55,AO55,AQ55,AS55) -> 20188 | D55: =SUM(F55,H55,J55,L55,N55,P55,R55,T55,V55,X55,Z55,AB55,AD55,AF55,AH55,AJ55,AL55,AN55,AP55,AR55,AT55,AV55) -> 12856 | E55: =VLOOKUP(A55,'(참고)예상물량'!A12:C38,3,0) -> 992 | F55: 233 | G55: 603 | H55: 514 | I55: 463 | J55: 446 | K55: 765 | L55: 384 | M55: 391 | N55: 462 | O55: 0 | P55: 342 | Q55: 0 | R55: 57 | S55: 1062 | T55: 135 | U55: 1351 | V55: 829 | W55: 1823 | X55: 812 | Y55: 1670 | Z55: 852 | AA55: 1851 | AB55: 1101 | AC55: 0 | AD55: 1157 | AE55: 0 | AF55: 386 | AG55: 3826 | AH55: 569 | AI55: 2567 | AJ55: 1573 | AK55: 1777 | AL55: 1245 | AM55: 833 | AN55: 848 | AO55: 214 | AP55: 678 | AQ55: 0 | AR55: 233
A56: 고흥 | B56: =C56+D56 -> 55245 | C56: =SUM(E56,G56,I56,K56,M56,O56,Q56,S56,U56,W56,Y56,AA56,AC56,AE56,AG56,AI56,AK56,AM56,AO56,AQ56,AS56) -> 30546 | D56: =SUM(F56,H56,J56,L56,N56,P56,R56,T56,V56,X56,Z56,AB56,AD56,AF56,AH56,AJ56,AL56,AN56,AP56,AR56,AT56,AV56) -> 24699 | E56: =VLOOKUP(A56,'(참고)예상물량'!A13:C39,3,0) -> 882 | F56: 395 | G56: 816 | H56: 1001 | I56: 926 | J56: 876 | K56: 890 | L56: 651 | M56: 3294 | N56: 684 | O56: 0 | P56: 458 | Q56: 0 | R56: 14 | S56: 2268 | T56: 107 | U56: 1930 | V56: 1428 | W56: 3071 | X56: 1348 | Y56: 2831 | Z56: 4516 | AA56: 3552 | AB56: 1787 | AC56: 0 | AD56: 1554 | AE56: 0 | AF56: 127 | AG56: 3824 | AH56: 1356 | AI56: 2818 | AJ56: 2745 | AK56: 1737 | AL56: 2313 | AM56: 1276 | AN56: 1643 | AO56: 431 | AP56: 1331 | AQ56: 0 | AR56: 365
A57: 곡성 | B57: =C57+D57 -> 24621 | C57: =SUM(E57,G57,I57,K57,M57,O57,Q57,S57,U57,W57,Y57,AA57,AC57,AE57,AG57,AI57,AK57,AM57,AO57,AQ57,AS57) -> 13714 | D57: =SUM(F57,H57,J57,L57,N57,P57,R57,T57,V57,X57,Z57,AB57,AD57,AF57,AH57,AJ57,AL57,AN57,AP57,AR57,AT57,AV57) -> 10907 | E57: =VLOOKUP(A57,'(참고)예상물량'!A14:C40,3,0) -> 524 | F57: 204 | G57: 487 | H57: 363 | I57: 294 | J57: 266 | K57: 401 | L57: 289 | M57: 251 | N57: 272 | O57: 0 | P57: 222 | Q57: 0 | R57: 50 | S57: 797 | T57: 51 | U57: 643 | V57: 385 | W57: 1112 | X57: 788 | Y57: 1062 | Z57: 997 | AA57: 911 | AB57: 953 | AC57: 0 | AD57: 1197 | AE57: 0 | AF57: 526 | AG57: 3513 | AH57: 511 | AI57: 1579 | AJ57: 1375 | AK57: 1294 | AL57: 993 | AM57: 733 | AN57: 757 | AO57: 113 | AP57: 521 | AQ57: 0 | AR57: 187
A58: 광양 | B58: =C58+D58 -> 83891 | C58: =SUM(E58,G58,I58,K58,M58,O58,Q58,S58,U58,W58,Y58,AA58,AC58,AE58,AG58,AI58,AK58,AM58,AO58,AQ58,AS58) -> 30280 | D58: =SUM(F58,H58,J58,L58,N58,P58,R58,T58,V58,X58,Z58,AB58,AD58,AF58,AH58,AJ58,AL58,AN58,AP58,AR58,AT58,AV58) -> 53611 | E58: =VLOOKUP(A58,'(참고)예상물량'!A15:C41,3,0) -> 1306 | F58: 1282 | G58: 1256 | H58: 2716 | I58: 1206 | J58: 2671 | K58: 1476 | L58: 2217 | M58: 1195 | N58: 2822 | O58: 0 | P58: 3022 | Q58: 0 | R58: 1052 | S58: 2064 | T58: 718 | U58: 2428 | V58: 3500 | W58: 2849 | X58: 3283 | Y58: 2513 | Z58: 4581 | AA58: 2889 | AB58: 3708 | AC58: 0 | AD58: 3544 | AE58: 1875 | AF58: 1325 | AG58: 3076 | AH58: 1852 | AI58: 2705 | AJ58: 4219 | AK58: 1577 | AL58: 4071 | AM58: 1289 | AN58: 3358 | AO58: 576 | AP58: 2536 | AQ58: 0 | AR58: 1134
A59: 구례 | B59: =C59+D59 -> 19509 | C59: =SUM(E59,G59,I59,K59,M59,O59,Q59,S59,U59,W59,Y59,AA59,AC59,AE59,AG59,AI59,AK59,AM59,AO59,AQ59,AS59) -> 11544 | D59: =SUM(F59,H59,J59,L59,N59,P59,R59,T59,V59,X59,Z59,AB59,AD59,AF59,AH59,AJ59,AL59,AN59,AP59,AR59,AT59,AV59) -> 7965 | E59: =VLOOKUP(A59,'(참고)예상물량'!A16:C42,3,0) -> 503 | F59: 160 | G59: 257 | H59: 352 | I59: 241 | J59: 350 | K59: 349 | L59: 289 | M59: 166 | N59: 268 | O59: 0 | P59: 269 | Q59: 0 | R59: 17 | S59: 417 | T59: 106 | U59: 447 | V59: 390 | W59: 1088 | X59: 435 | Y59: 1718 | Z59: 643 | AA59: 926 | AB59: 804 | AC59: 0 | AD59: 551 | AE59: 962 | AF59: 87 | AG59: 1752 | AH59: 252 | AI59: 1265 | AJ59: 825 | AK59: 777 | AL59: 761 | AM59: 519 | AN59: 733 | AO59: 157 | AP59: 496 | AQ59: 0 | AR59: 177
... A74: 영암집 | B74: =C74+D74 -> 13386 | C74: =SUM(E74,G74,I74,K74,M74,O74,Q74,S74,U74,W74,Y74,AA74,AC74,AE74,AG74,AI74,AK74,AM74,AO74,AQ74,AS74) -> 790 | D74: =SUM(F74,H74,J74,L74,N74,P74,R74,T74,V74,X74,Z74,AB74,AD74,AF74,AH74,AJ74,AL74,AN74,AP74,AR74,AT74,AV74) -> 12596 | E74: =VLOOKUP(A74,'(참고)예상물량'!A31:C57,3,0) -> 46 | F74: 364 | G74: 49 | H74: 722 | I74: 42 | J74: 537 | K74: 46 | L74: 571 | M74: 19 | N74: 619 | O74: 0 | P74: 484 | Q74: 0 | R74: 73 | S74: 41 | T74: 120 | U74: 56 | V74: 984 | W74: 52 | X74: 703 | Y74: 63 | Z74: 933 | AA74: 75 | AB74: 871 | AC74: 0 | AD74: 1065 | AE74: 0 | AF74: 242 | AG74: 112 | AH74: 441 | AI74: 62 | AJ74: 1096 | AK74: 46 | AL74: 1136 | AM74: 42 | AN74: 754 | AO74: 39 | AP74: 562 | AQ74: 0 | AR74: 319
G75: 55864 | H75: 47132 | I75: 3299 | J75: 44395 | K75: 0 | L75: 188 | M75: 100143 | N75: 16286 | O75: 71898 | P75: 74110 | Q75: 78873 | R75: 60218 | S75: 90648 | T75: 60200 | U75: 117465 | V75: 67686 | W75: 11972 | X75: 76414 | Y75: 31694 | Z75: 15904 | AA75: 179852 | AB75: 28356 | AC75: 164803 | AD75: 112083 | AE75: 190124 | AF75: 103452 | AG75: 210223 | AH75: 109533 | AI75: 151434 | AJ75: 127136 | AK75: 31005 | AL75: 107673 | AM75: 45632 | AN75: 24265 | AO75: 140691 | AP75: 35549 | AQ75: 56530 | AR75: 102362 | AS75: 12488 | AT75: 49698 | AU75: 0 | AV75: 13846
A76: 본부 | C76: =SUM(E76,G76,I76,K76,M76,O76,Q76,S76,U76,W76,Y76,AA76,AC76,AE76,AG76,AI76,AK76,AM76,AO76,AQ76,AS76) -> 7229347 | E76: 974829 | G76: 753681 | I76: 729782 | K76: 719912 | M76: 603081 | O76: 81069 | Q76: 18486 | S76: 1129579 | U76: 1016224 | W76: 1202704
A78: 증감 | C78: =(C37-C76)/C76% -> 7.365769

Sheet 본부보고
B1: 2015년 추석명절 우편물 특별처리기간 집중국 처리현황
B2: □ 일 자 : | C2: 2015. 9. 16.(수) 09:00 현재
B3: □ 집중국별 소포우편물 처리현황
O4: (단위 : 통)
B5: 청명 | C5: 집중국명 | D5: 발송 처리물량(9.15) | J5: 도착 처리물량(9.16) | N5: 처리물량 | O5: 특이사항 | Q5: <작성시 주의사항>
D6: 대전교환센터 발송 물량 | G6: 직발송 물량 | H6: 발송 완료시각 | I6: 미발송 물량 | J6: 배분물량 (09:00이전) | K6: 배분완료 시각 | L6: 미배분 물량(이후) | M6: 미배분완료 예정시각 | Q6: 1. 주간구분 : 대전교환센터로 발송한 주간소포구분 물량
D7: 주간구분 | E7: 교환1호편 | F7: 교환2호편 | Q7: 2. 발송완료시각 : 대전교환 및 직발송등 발송집중국의 마지막차량 출발시각기재
B8: 전남청 | C8: 광주집 | D8: 8160 | E8: 5531 | F8: 0 | G8: 47801 | H8: 0.94791667 | I8: 0 | J8: 46082 | K8: 0.30416667 | L8: 0 | M8: 0 | N8: 107574
C9: 순 천 | E9: 4086 | G9: 16368 | H9: 0.93958333 | J9: 18181 | K9: 0.31666667 | N9: 38635
C10: 영암집 | E10: 15359 | G10: 27036 | H10: 0.90277778 | I10: 0 | J10: 15704 | K10: 0.31527778 | N10: 58099 | O10: ○ 청와대소포 배분 : 87개(이상무)
B11: 계 | D11: =SUM(D8:D10) -> 8160 | E11: =SUM(E8:E10) -> 24976 | G11: =SUM(G8:G10) -> 91205 | J11: =SUM(J8:J10) -> 79967 | L11: =SUM(L8:L10) -> 0 | N11: =SUM(N8:N10) -> 204308
B13: □ 특이사항

Sheet 집중국처리현황(구분물량)
A1: 우편집중국 소포우편물 처리현황
A3: ○ 발송(수집)구분
A4: 2015년 추석 | B4: 누계 | C4: 2015-09-07(월) | D4: 2015-09-08(화) | E4: 2015-09-09(수) | F4: 2015-09-10(목) | G4: 2015-09-11(금) | H4: 2015-09-12(토) | I4: 2015-09-13(일) | J4: 2015-09-14(월) | K4: 2015-09-15(화) | L4: 2015-09-16(수) | M4: 2015-09-17(목) | N4: 2015-09-18(금) | O4: 2015-09-19(월) | P4: 2015-09-20(월) | Q4: 2015-09-21(월) | R4: 2015-09-22(월) | S4: 2015-09-23(월) | T4: 2015-09-24(월) | U4: 2015-09-25(월) | V4: 2015-09-26(월)
A5: 합 계 | B5: =SUM(B6:B8) -> 670850 | C5: =SUM(C6:C8) -> 79502 | D5: =SUM(D6:D8) -> 56825 | E5: =SUM(E6:E8) -> 55558 | F5: =SUM(F6:F8) -> 63622 | G5: =SUM(G6:G8) -> 57541 | H5: =SUM(H6:H8) -> 1417 | I5: =SUM(I6:I8) -> 12765 | ... U5: =SUM(U6:U8) -> 0
A6: 광주집 | B6: =SUM(C6:U6) -> 338325 | C6: 41566 | D6: 29799 | E6: 28002 | F6: 30875 | G6: =G12+G13 -> 30239 | H6: 1417 | I6: 4359 | J6: 59440 | K6: 51136 | L6: 61492
A7: 순천집 | B7: =SUM(C7:U7) -> 117866 | C7: 14072 | D7: 9450 | E7: 8253 | F7: 12194 | G7: 10741 | H7: 0 | I7: 2159 | J7: 20240 | K7: 20303 | L7: 20454
A8: 영암집 | B8: =SUM(C8:U8) -> 214659 | C8: 23864 | D8: 17576 | E8: 19303 | F8: 20553 | G8: 16561 | H8: 0 | I8: 6247 | J8: 35338 | K8: 32822 | L8: 42395
A10: - 재게(구분물량)
A11: 광주집 | B11: 합계 | C11: =SUM(C12:C13) -> 41566 | D11: =SUM(D12:D13) -> 29799 | E11: =SUM(E12:E13) -> 28002 | F11: =SUM(F12:F13) -> 30875 | G11: =SUM(G12:G13) -> 30239 | H11: =SUM(H12:H13) -> 1417 | I11: =SUM(I12:I13) -> 4359 | J11: =SUM(J12:J13) -> 59440 | ... U11: =SUM(U12:U13) -> 0
B12: 기계구분 | C12: 36030 | D12: 29799 | E12: 28002 | F12: 26477 | G12: 28812 | H12: 1417 | I12: 4359 | J12: 51365 | K12: 42726 | L12: 52663
B13: 수구분 | C13: 5536 | F13: 4398 | G13: 1427 | J13: 8075 | K13: 8410 | L13: 8829
A14: 순천집 | B14: 합계 | C14: =SUM(C15:C16) -> 14072 | D14: =SUM(D15:D16) -> 9450 | E14: =SUM(E15:E16) -> 8253 | F14: =SUM(F15:F16) -> 12194 | G14: =SUM(G15:G16) -> 10741 | H14: =SUM(H15:H16) -> 0 | I14: =SUM(I15:I16) -> 2159 | J14: =SUM(J15:J16) -> 20240 | ... U14: =SUM(U15:U16) -> 0
B15: 기계구분 | C15: 14072 | D15: 9450 | E15: 8253 | F15: 12194 | G15: 10741 | H15: 0 | I15: 2159 | J15: 14086 | K15: 12113 | L15: 12391
B16: 수구분 | J16: 6154 | K16: 8190 | L16: 8063
A17: 영암집 | B17: 합계 | C17: =SUM(C18:C19) -> 23864 | D17: =SUM(D18:D19) -> 17576 | E17: =SUM(E18:E19) -> 19303 | F17: =SUM(F18:F19) -> 20553 | G17: =SUM(G18:G19) -> 16561 | H17: =SUM(H18:H19) -> 0 | I17: =SUM(I18:I19) -> 6247 | J17: =SUM(J18:J19) -> 35338 | ... V17: =SUM(V18:V19) -> 0
B18: 기계구분 | C18: 23864 | D18: 17576 | E18: 19303 | F18: 20553 | G18: 16561 | I18: 6247 | J18: 35338 | K18: 32822 | L18: 38995
B19: 수구분 | L19: 3400
A21: 2014년 추석 | B21: 누계 | C21: 2014-08-18(월) | D21: 2014-08-19(화) | E21: 2014-08-20(수) | F21: 2014-08-21(목) | G21: 2014-08-22(금) | H21: 2014-08-23(토) | I21: 2014-08-24(일) | J21: 2014-08-25(월) | K21: 2014-08-26(화) | L21: 2014-08-27(수) | M21: 2014-08-28(목) | N21: 2014-08-29(금) | O21: 2014-08-30(토) | P21: 2014-08-31(일) | Q21: 2014-09-01(월) | R21: 2014-09-02(화) | S21: 2014-09-03(수) | T21: 2014-09-04(목) | U21: 2014-09-05(금) | V21: 2014-09-06(토)
A22: 합 계 | B22: =SUM(B23:B25) -> 547324 | C22: =SUM(C23:C25) -> 55630 | D22: =SUM(D23:D25) -> 46150 | E22: =SUM(E23:E25) -> 46294 | F22: =SUM(F23:F25) -> 43234 | G22: =SUM(G23:G25) -> 42215 | H22: =SUM(H23:H25) -> 2298 | I22: =SUM(I23:I25) -> 6944 | ... V22: =SUM(V23:V25) -> 0
A23: 광주집 | B23: =SUM(C23:V23) -> 291685 | C23: 30061 | D23: 29497 | E23: 28631 | F23: 24280 | G23: 24280 | H23: 2298 | I23: 725 | J23: 45707 | K23: 48610 | L23: 57596
A24: 순천집 | B24: =SUM(C24:V24) -> 96645 | C24: 9077 | D24: 7056 | E24: 6916 | F24: 7474 | G24: 8722 | H24: 0 | I24: 1301 | J24: 17324 | K24: 18058 | L24: 20717
A25: 영암집 | B25: =SUM(C25:V25) -> 158994 | C25: 16492 | D25: 9597 | E25: 10747 | F25: 11480 | G25: 9213 | H25: 0 | I25: 4918 | J25: 21001 | K25: 33751 | L25: 41795
A27: ○ 도착(배분)구분
A28: 2015년 추석 | B28: 누계 | C28: 2015-09-07(월) | D28: 2015-09-08(화) | E28: 2015-09-09(수) | F28: 2015-09-10(목) | G28: 2015-09-11(금) | H28: 2015-09-12(토) | I28: 2015-09-13(일) | J28: 2015-09-14(월) | K28: 2015-09-15(화) | L28: 2015-09-16(수) | M28: 2015-09-17(목) | N28: 2015-09-18(금) | O28: 2015-09-19(월) | P28: 2015-09-20(월) | Q28: 2015-09-21(월) | R28: 2015-09-22(월) | S28: 2015-09-23(월) | T28: 2015-09-24(월) | U28: 2015-09-25(월) | V28: 2015-09-26(월)
A29: 합 계 | B29: =SUM(B30:B32) -> 484592 | C29: =SUM(C30:C32) -> 39866 | D29: =SUM(D30:D32) -> 78069 | E29: =SUM(E30:E32) -> 51366 | F29: =SUM(F30:F32) -> 55294 | G29: =SUM(G30:G32) -> 54938 | H29: =SUM(H30:H32) -> 41514 | I29: =SUM(I30:I32) -> 43 | ... V29: =SUM(V30:V32) -> 0
A30: 광주집 | B30: =SUM(C30:V30) -> 274512 | C30: 23018 | D30: 44536 | E30: 28194 | F30: 30343 | G30: 30343 | H30: 23126 | I30: 0 | J30: 5857 | K30: 47401 | L30: 41694
A31: 순천집 | B31: =SUM(C31:V31) -> 110161 | C31: 9825 | D31: 17479 | E31: 12295 | F31: 13275 | G31: 13275 | H31: 8673 | I31: 43 | J31: 2227 | K31: 17683 | L31: 15386
A32: 영암집 | B32: =SUM(C32:V32) -> 99919 | C32: 7023 | D32: 16054 | E32: 10877 | F32: 11676 | G32: 11320 | H32: 9715 | J32: 1492 | K32: 16058 | L32: 15704
A34: 2014년 추석 | B34: 누계 | C34: 2014-08-18(월) | D34: 2014-08-19(화) | E34: 2014-08-20(수) | F34: 2014-08-21(목) | G34: 2014-08-22(금) | H34: 2014-08-23(토) | I34: 2014-08-24(일) | J34: 2014-08-25(월) | K34: 2014-08-26(화) | L34: 2014-08-27(수) | M34: 2014-08-28(목) | N34: 2014-08-29(금) | O34: 2014-08-30(토) | P34: 2014-08-31(일) | Q34: 2014-09-01(월) | R34: 2014-09-02(화) | S34: 2014-09-03(수) | T34: 2014-09-04(목) | U34: 2014-09-05(금) | V34: 2014-09-06(토)
A35: 합 계 | B35: =SUM(B36:B38) -> 403950 | C35: =SUM(C36:C38) -> 27639 | D35: =SUM(D36:D38) -> 50308 | E35: =SUM(E36:E38) -> 48014 | F35: =SUM(F36:F38) -> 39162 | G35: =SUM(G36:G38) -> 42836 | H35: =SUM(H36:H38) -> 34404 | I35: =SUM(I36:I38) -> 21699 | ... V35: =SUM(V36:V38) -> 0
A36: 광주집 | B36: =SUM(C36:V36) -> 238348 | C36: 16685 | D36: 28502 | E36: 29580 | F36: 19813 | G36: 22540 | H36: 17590 | I36: 19813 | J36: 2375 | K36: 40466 | L36: 40984
A37: 순천집 | B37: =SUM(C37:V37) -> 89864 | C37: 5930 | D37: 11950 | E37: 10067 | F37: 10695 | G37: 10695 | H37: 9279 | I37: 936 | J37: 217 | K37: 15762 | L37: 14333
A38: 영암집 | B38: =SUM(C38:V38) -> 75738 | C38: 5024 | D38: 9856 | E38: 8367 | F38: 8654 | G38: 9601 | H38: 7535 | I38: 950 | J38: 134 | K38: 13812 | L38: 11805

Sheet 집중국처리현황(인력)
A1: 우편집중국 발송구분 인력배치 현황
A3: ○ 발송(수집)구분
A4: - 일자 : 2015. 9. 15.(화)
A5: 구분 | B5: 주간작업(18시 이전) | F5: 야간작업(18시 이후)
B6: 소계 | C6: 정규직 | D6: 기존인원 (비정규직) | E6: 추석 단기채용 인원 (비정규직) | F6: 소계 | G6: 정규직 | H6: 기존인원 (비정규직) | I6: 추석 단기채용 인원 (비정규직) | J6: 우정청 지원
A7: 합계 | B7: =SUM(B8:B10) -> 127 | C7: =SUM(C8:C10) -> 79 | D7: =SUM(D8:D10) -> 5 | E7: =SUM(E8:E10) -> 43 | F7: =SUM(F8:F10) -> 329 | G7: =SUM(G8:G10) -> 103 | H7: =SUM(H8:H10) -> 79 | I7: =SUM(I8:I10) -> 147 | J7: =SUM(J8:J10) -> 0
A8: 광주집 | B8: 44 | C8: 30 | E8: 14 | F8: 145 | G8: 35 | H8: 45 | I8: 65
A9: 순천집 | B9: 32 | C9: 26 | E9: 6 | F9: 108 | G9: 38 | H9: 18 | I9: 52
A10: 영암집 | B10: 51 | C10: 23 | D10: 5 | E10: 23 | F10: 76 | G10: 30 | H10: 16 | I10: 30 | J10: 0

Sheet 임시집하장
A1: 임시집하장 운영 실적
A2: ○ 2015년 추석 | V2: (단위 : 개)
B3: 합 계 | I3: 나주 | P3: 영광
B4: 합계 | C4: 교환센터 | E4: 광주집 | H4: 직발송 | I4: 합계 | J4: 교환센터 | L4: 광주집 | O4: 직발송 | P4: 합계 | Q4: 교환센터 | S4: 광주집 | V4: 직발송
C5: 구분 (직파렛) | D5: 미구분 | E5: 구분(직파렛) | G5: 미구분 | J5: 구분 (직파렛) | K5: 미구분 | L5: 구분(직파렛) | N5: 미구분 | Q5: 구분 (직파렛) | R5: 미구분 | S5: 구분(직파렛) | U5: 미구분
E6: 자집 | F6: 타집 | L6: 자집 | M6: 타집 | S6: 자집 | T6: 타집
A7: 2015-09-13(일) | B7: =SUM(C7:H7) -> 3843 | C7: =J7+Q7 -> 0 | D7: =K7+R7 -> 0 | E7: =L7+S7 -> 0 | F7: =M7+T7 -> 0 | G7: =N7+U7 -> 3843 | H7: =O7+V7 -> 0 | I7: =SUM(J7:O7) -> 0 | P7: =SUM(Q7:V7) -> 3843 | U7: 3843
A8: 2015-09-14(월) | B8: =SUM(C8:H8) -> 5590 | C8: =J8+Q8 -> 0 | D8: =K8+R8 -> 3000 | E8: =L8+S8 -> 490 | F8: =M8+T8 -> 210 | G8: =N8+U8 -> 1890 | H8: =O8+V8 -> 0 | I8: =SUM(J8:O8) -> 0 | P8: =SUM(Q8:V8) -> 5590 | R8: 3000 | S8: 490 | T8: 210 | U8: 1890
A9: 2015-09-15(화) | B9: =SUM(C9:H9) -> 13110 | C9: =J9+Q9 -> 0 | D9: =K9+R9 -> 7000 | E9: =L9+S9 -> 1000 | F9: =M9+T9 -> 1950 | G9: =N9+U9 -> 3160 | H9: =O9+V9 -> 0 | I9: =SUM(J9:O9) -> 6000 | K9: 3000 | L9: 500 | M9: 1400 | N9: 1100 | P9: =SUM(Q9:V9) -> 7110 | R9: 4000 | S9: 500 | T9: 550 | U9: 2060
A10: 2015-09-16(수) | B10: =SUM(C10:H10) -> 15910 | C10: =J10+Q10 -> 2000 | D10: =K10+R10 -> 7500 | E10: =L10+S10 -> 2430 | F10: =M10+T10 -> 2580 | G10: =N10+U10 -> 1400 | H10: =O10+V10 -> 0 | I10: =SUM(J10:O10) -> 7700 | K10: 4500 | L10: 750 | M10: 1950 | N10: 500 | P10: =SUM(Q10:V10) -> 8210 | Q10: 2000 | R10: 3000 | S10: 1680 | T10: 630 | U10: 900
A11: 2015-09-17(목) | B11: =SUM(C11:H11) -> 0 | C11: =J11+Q11 -> 0 | D11: =K11+R11 -> 0 | E11: =L11+S11 -> 0 | F11: =M11+T11 -> 0 | G11: =N11+U11 -> 0 | H11: =O11+V11 -> 0 | I11: =SUM(J11:O11) -> 0 | P11: =SUM(Q11:V11) -> 0
A12: 2015-09-18(금) | B12: =SUM(C12:H12) -> 0 | C12: =J12+Q12 -> 0 | D12: =K12+R12 -> 0 | E12: =L12+S12 -> 0 | F12: =M12+T12 -> 0 | G12: =N12+U12 -> 0 | H12: =O12+V12 -> 0 | I12: =SUM(J12:O12) -> 0 | P12: =SUM(Q12:V12) -> 0
A13: 2015-09-19(토) | B13: =SUM(C13:H13) -> 0 | C13: =J13+Q13 -> 0 | D13: =K13+R13 -> 0 | E13: =L13+S13 -> 0 | F13: =M13+T13 -> 0 | G13: =N13+U13 -> 0 | H13: =O13+V13 -> 0 | I13: =SUM(J13:O13) -> 0 | P13: =SUM(Q13:V13) -> 0
A14: 2015-09-20(일) | B14: =SUM(C14:H14) -> 0 | C14: =J14+Q14 -> 0 | D14: =K14+R14 -> 0 | E14: =L14+S14 -> 0 | F14: =M14+T14 -> 0 | G14: =N14+U14 -> 0 | H14: =O14+V14 -> 0 | I14: =SUM(J14:O14) -> 0 | P14: =SUM(Q14:V14) -> 0
A15: 2015-09-21(월) | B15: =SUM(C15:H15) -> 0 | C15: =J15+Q15 -> 0 | D15: =K15+R15 -> 0 | E15: =L15+S15 -> 0 | F15: =M15+T15 -> 0 | G15: =N15+U15 -> 0 | H15: =O15+V15 -> 0 | I15: =SUM(J15:O15) -> 0 | P15: =SUM(Q15:V15) -> 0
A16: 2015-09-22(화) | B16: =SUM(C16:H16) -> 0 | C16: =J16+Q16 -> 0 | D16: =K16+R16 -> 0 | E16: =L16+S16 -> 0 | F16: =M16+T16 -> 0 | G16: =N16+U16 -> 0 | H16: =O16+V16 -> 0 | I16: =SUM(J16:O16) -> 0 | P16: =SUM(Q16:V16) -> 0
A17: 2015-09-23(수) | B17: =SUM(C17:H17) -> 0 | C17: =J17+Q17 -> 0 | D17: =K17+R17 -> 0 | E17: =L17+S17 -> 0 | F17: =M17+T17 -> 0 | G17: =N17+U17 -> 0 | H17: =O17+V17 -> 0 | I17: =SUM(J17:O17) -> 0 | P17: =SUM(Q17:V17) -> 0
A18: 2015-09-24(목) | B18: =SUM(C18:H18) -> 0 | C18: =J18+Q18 -> 0 | D18: =K18+R18 -> 0 | E18: =L18+S18 -> 0 | F18: =M18+T18 -> 0 | G18: =N18+U18 -> 0 | H18: =O18+V18 -> 0 | I18: =SUM(J18:O18) -> 0 | P18: =SUM(Q18:V18) -> 0
A19: 2015-09-25(금) | B19: =SUM(C19:H19) -> 0 | C19: =J19+Q19 -> 0 | D19: =K19+R19 -> 0 | E19: =L19+S19 -> 0 | F19: =M19+T19 -> 0 | G19: =N19+U19 -> 0 | H19: =O19+V19 -> 0 | I19: =SUM(J19:O19) -> 0 | P19: =SUM(Q19:V19) -> 0
A20: 2015-09-26(토) | B20: =SUM(C20:H20) -> 0 | C20: =J20+Q20 -> 0 | D20: =K20+R20 -> 0 | E20: =L20+S20 -> 0 | F20: =M20+T20 -> 0 | G20: =N20+U20 -> 0 | H20: =O20+V20 -> 0 | I20: =SUM(J20:O20) -> 0 | P20: =SUM(Q20:V20) -> 0
A21: 합 계 | B21: =SUM(B7:B18) -> 38453 | C21: =SUM(C7:C18) -> 2000 | D21: =SUM(D7:D18) -> 17500 | E21: =SUM(E7:E18) -> 3920 | F21: =SUM(F7:F18) -> 4740 | H21: =SUM(H7:H18) -> 0 | I21: =SUM(I7:I18) -> 13700 | J21: =SUM(J7:J18) -> 0 | K21: =SUM(K7:K18) -> 7500 | L21: =SUM(L7:L18) -> 1250 | M21: =SUM(M7:M18) -> 3350 | O21: =SUM(O7:O18) -> 0 | P21: =SUM(P7:P18) -> 24753 | Q21: =SUM(Q7:Q18) -> 2000 | R21: =SUM(R7:R18) -> 10000 | S21: =SUM(S7:S18) -> 2670 | T21: =SUM(T7:T18) -> 1390 | V21: =SUM(V7:V18) -> 0
A23: ○ 2014년 추석 | V23: (단위 : 개)
B24: 합 계 | I24: 나주 | P24: 영광
B25: 합계 | C25: 교환센터 | E25: 광주집 | H25: 직발송 | I25: 합계 | J25: 교환센터 | L25: 광주집 | O25: 직발송 | P25: 합계 | Q25: 교환센터 | S25: 광주집 | V25: 직발송
C26: 구분 (직파렛) | D26: 미구분 | E26: 구분(직파렛) | G26: 미구분 | J26: 구분 (직파렛) | K26: 미구분 | L26: 구분(직파렛) | N26: 미구분 | Q26: 구분 (직파렛) | R26: 미구분 | S26: 구분(직파렛) | U26: 미구분
E27: 자집 | F27: 타집 | L27: 자집 | M27: 타집 | S27: 자집 | T27: 타집
A28: 41876 | B28: =SUM(C28:H28) -> 3670 | C28: =J28+Q28 -> 0 | D28: =K28+R28 -> 2100 | E28: =L28+S28 -> 720 | F28: =M28+T28 -> 200 | G28: =N28+U28 -> 650 | H28: =O28+V28 -> 0 | I28: =SUM(J28:O28) -> 0 | P28: =SUM(Q28:V28) -> 3670 | R28: 2100 | S28: 720 | T28: 200 | U28: 650
A29: 41877 | B29: =SUM(C29:H29) -> 5700 | C29: =J29+Q29 -> 2000 | D29: =K29+R29 -> 2100 | E29: =L29+S29 -> 330 | F29: =M29+T29 -> 70 | G29: =N29+U29 -> 1200 | H29: =O29+V29 -> 0 | I29: =SUM(J29:O29) -> 0 | P29: =SUM(Q29:V29) -> 5700 | Q29: 2000 | R29: 2100 | S29: 330 | T29: 70 | U29: 1200
A30: 41878 | B30: =SUM(C30:H30) -> 6980 | C30: =J30+Q30 -> 960 | D30: =K30+R30 -> 4160 | E30: =L30+S30 -> 910 | F30: =M30+T30 -> 350 | G30: =N30+U30 -> 600 | H30: =O30+V30 -> 0 | I30: =SUM(J30:O30) -> 1920 | J30: 960 | K30: 960 | P30: =SUM(Q30:V30) -> 5060 | R30: 3200 | S30: 910 | T30: 350 | U30: 600
A31: 41879 | B31: =SUM(C31:H31) -> 18800 | C31: =J31+Q31 -> 5060 | D31: =K31+R31 -> 6940 | E31: =L31+S31 -> 1390 | F31: =M31+T31 -> 1940 | G31: =N31+U31 -> 3470 | H31: =O31+V31 -> 0 | I31: =SUM(J31:O31) -> 9060 | J31: 960 | K31: 3840 | L31: 480 | M31: 1680 | N31: 2100 | P31: =SUM(Q31:V31) -> 9740 | Q31: 4100 | R31: 3100 | S31: 910 | T31: 260 | U31: 1370
A32: 41880 | B32: =SUM(C32:H32) -> 17120 | C32: =J32+Q32 -> 3920 | D32: =K32+R32 -> 4980 | E32: =L32+S32 -> 1390 | F32: =M32+T32 -> 1850 | G32: =N32+U32 -> 4560 | H32: =O32+V32 -> 420 | I32: =SUM(J32:O32) -> 9900 | J32: 1920 | K32: 2880 | L32: 480 | M32: 1200 | N32: 3000 | O32: 420 | P32: =SUM(Q32:V32) -> 7220 | Q32: 2000 | R32: 2100 | S32: 910 | T32: 650 | U32: 1560
A33: 41881 | B33: =SUM(C33:H33) -> 7320 | C33: =J33+Q33 -> 720 | D33: =K33+R33 -> 4560 | E33: =L33+S33 -> 360 | F33: =M33+T33 -> 720 | G33: =N33+U33 -> 960 | H33: =O33+V33 -> 0 | I33: =SUM(J33:O33) -> 7320 | J33: 720 | K33: 4560 | L33: 360 | M33: 720 | N33: 960 | P33: =SUM(Q33:V33) -> 0
A34: 41882 | B34: =SUM(C34:H34) -> 26227 | C34: =J34+Q34 -> 6180 | D34: =K34+R34 -> 6780 | E34: =L34+S34 -> 2680 | F34: =M34+T34 -> 3480 | G34: =N34+U34 -> 4687 | H34: =O34+V34 -> 2420 | I34: =SUM(J34:O34) -> 10080 | J34: 1980 | K34: 2880 | L34: 600 | M34: 1920 | N34: 2280 | O34: 420 | P34: =SUM(Q34:V34) -> 16147 | Q34: 4200 | R34: 3900 | S34: 2080 | T34: 1560 | U34: 2407 | V34: 2000
A35: 41883 | B35: =SUM(C35:H35) -> 26110 | C35: =J35+Q35 -> 3950 | D35: =K35+R35 -> 9470 | E35: =L35+S35 -> 2570 | F35: =M35+T35 -> 4520 | G35: =N35+U35 -> 5600 | H35: =O35+V35 -> 0 | I35: =SUM(J35:O35) -> 14640 | J35: 960 | K35: 6480 | L35: 1140 | M35: 3540 | N35: 2520 | P35: =SUM(Q35:V35) -> 11470 | Q35: 2990 | R35: 2990 | S35: 1430 | T35: 980 | U35: 3080
A36: 41884 | B36: =SUM(C36:H36) -> 27430 | C36: =J36+Q36 -> 4080 | D36: =K36+R36 -> 11350 | E36: =L36+S36 -> 2520 | F36: =M36+T36 -> 3220 | G36: =N36+U36 -> 4880 | H36: =O36+V36 -> 1380 | I36: =SUM(J36:O36) -> 14580 | J36: 960 | K36: 7320 | L36: 1020 | M36: 1620 | N36: 2280 | O36: 1380 | P36: =SUM(Q36:V36) -> 12850 | Q36: 3120 | R36: 4030 | S36: 1500 | T36: 1600 | U36: 2600
A37: 41885 | B37: =SUM(C37:H37) -> 17830 | C37: =J37+Q37 -> 2400 | D37: =K37+R37 -> 7800 | E37: =L37+S37 -> 1880 | F37: =M37+T37 -> 2260 | G37: =N37+U37 -> 3490 | H37: =O37+V37 -> 0 | I37: =SUM(J37:O37) -> 9240 | J37: 840 | K37: 4680 | L37: 840 | M37: 1860 | N37: 1020 | P37: =SUM(Q37:V37) -> 8590 | Q37: 1560 | R37: 3120 | S37: 1040 | T37: 400 | U37: 2470
A38: 41886 | B38: =SUM(C38:H38) -> 14280 | C38: =J38+Q38 -> 1950 | D38: =K38+R38 -> 4080 | E38: =L38+S38 -> 1790 | F38: =M38+T38 -> 2290 | G38: =N38+U38 -> 4170 | H38: =O38+V38 -> 0 | I38: =SUM(J38:O38) -> 3360 | K38: 960 | L38: 360 | M38: 1380 | N38: 660 | P38: =SUM(Q38:V38) -> 10920 | Q38: 1950 | R38: 3120 | S38: 1430 | T38: 910 | U38: 3510
A39: 41887 | B39: =SUM(C39:H39) -> 0 | C39: =J39+Q39 -> 0 | D39: =K39+R39 -> 0 | E39: =L39+S39 -> 0 | F39: =M39+T39 -> 0 | G39: =N39+U39 -> 0 | H39: =O39+V39 -> 0 | I39: =SUM(J39:O39) -> 0 | P39: =SUM(Q39:V39) -> 0
A40: 합 계 | B40: =SUM(B28:B39) -> 171467 | C40: =SUM(C28:C39) -> 31220 | D40: =SUM(D28:D39) -> 64320 | E40: =SUM(E28:E39) -> 16540 | F40: =SUM(F28:F39) -> 20900 | H40: =SUM(H28:H39) -> 4220 | I40: =SUM(I28:I39) -> 80100 | J40: =SUM(J28:J39) -> 9300 | K40: =SUM(K28:K39) -> 34560 | L40: =SUM(L28:L39) -> 5280 | M40: =SUM(M28:M39) -> 13920 | O40: =SUM(O28:O39) -> 2220 | P40: =SUM(P28:P39) -> 91367 | Q40: =SUM(Q28:Q39) -> 21920 | R40: =SUM(R28:R39) -> 29760 | S40: =SUM(S28:S39) -> 11260 | T40: =SUM(T28:T39) -> 6980 | V40: =SUM(V28:V39) -> 2000

Sheet 주간발송
A1: 교환센터 주간구분 발송물량
A2: o 교환센터 도착 마감시각 : 19시 | L2: (단위 : 대. 개)
A3: 구 분 | C3: 본부 지정 | E3: 실제 발송물량
E4: 합계 | G4: 광주집 | I4: 나주 | K4: 영광
C5: 물량 | D5: 차량대수 | E5: 물량 | F5: 차량대수 | G5: 물량 | H5: 차량대수 | I5: 물량 | J5: 차량대수 | K5: 물량 | L5: 차량대수
A6: 42257 | B6: 목 | C6: 4000 | D6: 4 | E6: =SUM(G6,I6,K6) -> 0 | F6: =SUM(H6,J6,L6) -> 0
A7: 42258 | B7: 금 | C7: 4000 | D7: 4 | E7: =SUM(G7,I7,K7) -> 0 | F7: =SUM(H7,J7,L7) -> 0
A8: 42261 | B8: 월 | C8: 6500 | D8: 7 | E8: =SUM(G8,I8,K8) -> 5709 | F8: =SUM(H8,J8,L8) -> 6 | G8: 2000 | H8: 2 | I8: 1150 | J8: 1 | K8: 2559 | L8: 3
A9: 42262 | B9: 화 | C9: 7500 | D9: 8 | E9: =SUM(G9,I9,K9) -> 8283 | F9: =SUM(H9,J9,L9) -> 8 | G9: 1283 | H9: 1 | I9: 3000 | J9: 3 | K9: 4000 | L9: 4
A10: 42263 | B10: 수 | C10: 7500 | D10: 8 | E10: 8160 | F10: 9 | G10: 1160 | H10: 1 | I10: 4000 | J10: 5 | K10: 3000 | L10: 3
A11: 42264 | B11: 목 | C11: 5500 | D11: 6 | E11: =SUM(G11,I11,K11) -> 0 | F11: =SUM(H11,J11,L11) -> 0
A12: 42265 | B12: 금 | C12: 4000 | D12: 4 | E12: =SUM(G12,I12,K12) -> 0 | F12: =SUM(H12,J12,L12) -> 0
A13: 42266 | B13: 토 | C13: 3000 | D13: 3 | E13: =SUM(G13,I13,K13) -> 0 | F13: =SUM(H13,J13,L13) -> 0
A14: 42267 | B14: 일 | C14: 10000 | D14: 10 | E14: =SUM(G14,I14,K14) -> 0 | F14: =SUM(H14,J14,L14) -> 0
A15: 42268 | B15: 월 | C15: 5500 | D15: 6 | E15: =SUM(G15,I15,K15) -> 0 | F15: =SUM(H15,J15,L15) -> 0
A16: 42269 | B16: 화 | C16: 4000 | D16: 4 | E16: =SUM(G16,I16,K16) -> 0 | F16: =SUM(H16,J16,L16) -> 0
A17: 42270 | B17: 수 | C17: 5000 | D17: 5 | E17: =SUM(G17,I17,K17) -> 0 | F17: =SUM(H17,J17,L17) -> 0
A18: 42271 | B18: 목 | C18: 10000 | D18: 10 | E18: =SUM(G18,I18,K18) -> 0 | F18: =SUM(H18,J18,L18) -> 0
A19: 42272 | B19: 금 | E19: =SUM(G19,I19,K19) -> 0 | F19: =SUM(H19,J19,L19) -> 0
A20: 합 계 | C20: =SUM(C6:C19) -> 76500 | D20: =SUM(D6:D19) -> 79 | E20: =SUM(E6:E19) -> 22152 | F20: =SUM(F6:F19) -> 23 | G20: =SUM(G6:G19) -> 4443 | H20: =SUM(H6:H19) -> 4 | I20: =SUM(I6:I19) -> 8150 | J20: =SUM(J6:J19) -> 9 | ... L20: =SUM(L6:L19) -> 10
G23: (단위 : 대. 개)
A24: 구 분 | C24: 본부 지정 | E24: 실제 발송
C25: 차량대수 | D25: 물량환산 | E25: 차량대수 | F25: 물량환산
A26: 41872 | B26: 목 | C26: 7 | D26: =C26*800 -> 5600 | E26: 25톤 2대 | F26: 2000
A27: 41873 | B27: 금 | C27: 5 | D27: =C27*800 -> 4000 | E27: 25톤 1대 | F27: 1200
A28: 41874 | B28: 토 | D28: =C28*800 -> 0 | F28: 0
A29: 41875 | B29: 일 | D29: =C29*800 -> 0 | F29: 0
A30: 41876 | B30: 월 | C30: 10 | D30: =C30*800 -> 8000 | E30: 25톤 5대 | F30: 5400
A31: 41877 | B31: 화 | C31: 7 | D31: =C31*800 -> 5600 | E31: 25톤 4대 | F31: 4363
A32: 41878 | B32: 수 | C32: 7 | D32: =C32*800 -> 5600 | E32: 25톤 5대 | F32: 4810
A33: 41879 | B33: 목 | C33: 7 | D33: =C33*800 -> 5600 | E33: 25톤 7대 | F33: 7440
A34: 41880 | B34: 금 | C34: 5 | D34: =C34*800 -> 4000 | E34: 25톤 5대 | F34: 5280
A35: 41881 | B35: 토 | C35: 10 | D35: =C35*800 -> 8000 | E35: 25톤 5대 | F35: 5512
A36: 41882 | B36: 일 | C36: 10 | D36: =C36*800 -> 8000 | E36: 25톤 7대 | F36: 7280
A37: 41883 | B37: 월 | C37: 12 | D37: =C37*800 -> 9600 | E37: 25톤 11대 | F37: 10510
A38: 41884 | B38: 화 | C38: 12 | D38: =C38*800 -> 9600 | E38: 25톤 12대 | F38: 11350
A39: 41885 | B39: 수 | C39: 12 | D39: =C39*800 -> 9600 | E39: 18톤 3대, 25톤 6대 | F39: 7800
A40: 41886 | B40: 목 | E40: 25톤 3대, 18톤 1대 | F40: 4080
A41: 합 계 | C41: =SUM(C26:C39) -> 104 | D41: =SUM(D26:D39) -> 83200 | F41: =SUM(F26:F40) -> 77025
A42: ※ 본부 8톤 기준, 대당 800개

Sheet (참고)예상물량
A1: 추석 명절 등기소포 접수 및 배달물량 조사(2014년 실적, 2015년 예상)
A2: 0 2014년 접수실적
A3: 구분 | B3: 계 | C3: 41869 | D3: 41870 | E3: 41871 | F3: 41872 | G3: 41873 | H3: 41874 | I3: 41875 | J3: 41876 | K3: 41877 | L3: 41878 | M3: 41879 | N3: 41880 | O3: 41881 | P3: 41882 | Q3: 41883 | R3: 41884 | S3: 41885 | T3: 41886 | U3: 41887 | V3: 41888
C4: 월 | D4: 화 | E4: 수 | F4: 목 | G4: 금 | H4: 토 | I4: 일 | J4: 월 | K4: 화 | L4: 수 | M4: 목 | N4: 금 | O4: 토 | P4: 일 | Q4: 월 | R4: 화 | S4: 수 | T4: 목 | U4: 금 | V4: 토
A5: 광주 | B5: =SUM(C5:V5) -> 132692 | C5: 7535 | D5: 8356 | E5: 8427 | F5: 9171 | G5: 7443 | H5: 1455 | I5: 0 | J5: 10041 | K5: 7383 | L5: 8187 | M5: 9194 | N5: 10376 | O5: 2426 | P5: 1276 | Q5: 12589 | R5: 9314 | S5: 8686 | T5: 6568 | U5: 4265 | V5: 0
A6: 북광주 | B6: =SUM(C6:V6) -> 93851 | C6: 6702 | D6: 5169 | E6: 4275 | F6: 4393 | G6: 2963 | H6: 644 | I6: 0 | J6: 6889 | K6: 6131 | L6: 6037 | M6: 6431 | N6: 6248 | O6: 2136 | P6: 1852 | Q6: 9470 | R6: 8266 | S6: 7269 | T6: 5878 | U6: 3098 | V6: 0
A7: 서광주 | B7: =SUM(C7:V7) -> 124104 | C7: 5513 | D7: 4599 | E7: 4047 | F7: 3895 | G7: 4057 | H7: 283 | I7: 0 | J7: 7331 | K7: 6573 | L7: 8597 | M7: 11192 | N7: 10484 | O7: 3816 | P7: 5012 | Q7: 14488 | R7: 12259 | S7: 10958 | T7: 8695 | U7: 2305 | V7: 0
A8: 광주광산 | B8: =SUM(C8:V8) -> 124633 | C8: 6076 | D8: 5002 | E8: 4543 | F8: 3760 | G8: 2971 | H8: 235 | I8: 159 | J8: 5306 | K8: 5981 | L8: 6726 | M8: 8842 | N8: 8619 | O8: 3865 | P8: 7121 | Q8: 13840 | R8: 15873 | S8: 14196 | T8: 9080 | U8: 2438 | V8: 0
A9: 목포 | B9: =SUM(C9:V9) -> 98570 | C9: 3836 | D9: 2623 | E9: 3109 | F9: 3111 | G9: 2326 | H9: 0 | I9: 0 | J9: 5491 | K9: 5957 | L9: 7428 | M9: 10127 | N9: 11314 | O9: 2397 | P9: 859 | Q9: 11986 | R9: 12098 | S9: 7982 | T9: 5638 | U9: 2288 | V9: 0
A10: 여수 | B10: =SUM(C10:V10) -> 136638 | C10: 4718 | D10: 3514 | E10: 3546 | F10: 4373 | G10: 3963 | H10: 0 | I10: 1301 | J10: 9052 | K10: 11271 | L10: 13403 | M10: 13443 | N10: 14458 | O10: 0 | P10: 9906 | Q10: 14479 | R10: 13197 | S10: 8842 | T10: 5954 | U10: 1218 | V10: 0
A11: 순천 | B11: =SUM(C11:V11) -> 68789 | C11: 3027 | D11: 2374 | E11: 2211 | F11: 2325 | G11: 1606 | H11: 0 | I11: 0 | J11: 5083 | K11: 5059 | L11: 4878 | M11: 6851 | N11: 4258 | O11: 3036 | P11: 1578 | Q11: 9165 | R11: 7233 | S11: 4854 | T11: 3825 | U11: 1426 | V11: 0
A12: 강진 | B12: =SUM(C12:V12) -> 20188 | C12: 992 | D12: 603 | E12: 463 | F12: 765 | G12: 391 | H12: 0 | I12: 0 | J12: 1062 | K12: 1351 | L12: 1823 | M12: 1670 | N12: 1851 | O12: 0 | P12: 0 | Q12: 3826 | R12: 2567 | S12: 1777 | T12: 833 | U12: 214 | V12: 0
A13: 고흥 | B13: =SUM(C13:V13) -> 30546 | C13: 882 | D13: 816 | E13: 926 | F13: 890 | G13: 3294 | H13: 0 | I13: 0 | J13: 2268 | K13: 1930 | L13: 3071 | M13: 2831 | N13: 3552 | O13: 0 | P13: 0 | Q13: 3824 | R13: 2818 | S13: 1737 | T13: 1276 | U13: 431 | V13: 0
A14: 곡성 | B14: =SUM(C14:V14) -> 13714 | C14: 524 | D14: 487 | E14: 294 | F14: 401 | G14: 251 | H14: 0 | I14: 0 | J14: 797 | K14: 643 | L14: 1112 | M14: 1062 | N14: 911 | O14: 0 | P14: 0 | Q14: 3513 | R14: 1579 | S14: 1294 | T14: 733 | U14: 113 | V14: 0
A15: 광양 | B15: =SUM(C15:V15) -> 30280 | C15: 1306 | D15: 1256 | E15: 1206 | F15: 1476 | G15: 1195 | H15: 0 | I15: 0 | J15: 2064 | K15: 2428 | L15: 2849 | M15: 2513 | N15: 2889 | O15: 0 | P15: 1875 | Q15: 3076 | R15: 2705 | S15: 1577 | T15: 1289 | U15: 576 | V15: 0
A16: 구례 | B16: =SUM(C16:V16) -> 11544 | C16: 503 | D16: 257 | E16: 241 | F16: 349 | G16: 166 | H16: 0 | I16: 0 | J16: 417 | K16: 447 | L16: 1088 | M16: 1718 | N16: 926 | O16: 0 | P16: 962 | Q16: 1752 | R16: 1265 | S16: 777 | T16: 519 | U16: 157 | V16: 0
... A31: 영암집 | B31: =SUM(C31:V31) -> 790 | C31: 46 | D31: 49 | E31: 42 | F31: 46 | G31: 19 | H31: 0 | I31: 0 | J31: 41 | K31: 56 | L31: 52 | M31: 63 | N31: 75 | O31: 0 | P31: 0 | Q31: 112 | R31: 62 | S31: 46 | T31: 42 | U31: 39 | V31: 0
A32: 계 | B32: =SUM(B5:B31) -> 1687148 | C32: =SUM(C5:C31) -> 65625 | D32: =SUM(D5:D31) -> 48736 | E32: =SUM(E5:E31) -> 49347 | F32: =SUM(F5:F31) -> 51230 | G32: =SUM(G5:G31) -> 44811 | H32: =SUM(H5:H31) -> 2618 | I32: =SUM(I5:I31) -> 7420 | ... V32: =SUM(V5:V31) -> 3
A34: 0 2014년 배달실적 | V34: (단위:통)
A35: 구분 | B35: 계 | C35: 41869 | D35: 41870 | E35: 41871 | F35: 41872 | G35: 41873 | H35: 41874 | I35: 41875 | J35: 41876 | K35: 41877 | L35: 41878 | M35: 41879 | N35: 41880 | O35: 41881 | P35: 41882 | Q35: 41883 | R35: 41884 | S35: 41885 | T35: 41886 | U35: 41887 | V35: 41888
C36: 월 | D36: 화 | E36: 수 | F36: 목 | G36: 금 | H36: 토 | I36: 일 | J36: 월 | K36: 화 | L36: 수 | M36: 목 | N36: 금 | O36: 토 | P36: 일 | Q36: 월 | R36: 화 | S36: 수 | T36: 목 | U36: 금 | V36: 토
A37: 광주 | B37: =SUM(C37:V37) -> 132430 | C37: 3391 | D37: 5942 | E37: 4544 | F37: 4572 | G37: 4392 | H37: 4126 | I37: 404 | J37: 1299 | K37: 8069 | L37: 8189 | M37: 9184 | N37: 10002 | O37: 12780 | P37: 3285 | Q37: 5227 | R37: 13237 | S37: 12832 | T37: 9970 | U37: 7380 | V37: 3605
A38: 북광주 | B38: =SUM(C38:V38) -> 162451 | C38: 4113 | D38: 8141 | E38: 6308 | F38: 5869 | G38: 5822 | H38: 4584 | I38: 790 | J38: 1380 | K38: 9291 | L38: 10218 | M38: 10652 | N38: 13103 | O38: 12470 | P38: 3571 | Q38: 6376 | R38: 17167 | S38: 15867 | T38: 12661 | U38: 9615 | V38: 4453
A39: 서광주 | B39: =SUM(C39:V39) -> 134786 | C39: 3259 | D39: 5916 | E39: 4692 | F39: 4738 | G39: 4686 | H39: 3868 | I39: 449 | J39: 1211 | K39: 8448 | L39: 7903 | M39: 10658 | N39: 10672 | O39: 10982 | P39: 2648 | Q39: 5318 | R39: 14370 | S39: 13254 | T39: 10485 | U39: 7819 | V39: 3410
A40: 광주광산 | B40: =SUM(C40:V40) -> 125752 | C40: 3517 | D40: 7026 | E40: 5266 | F40: 5114 | G40: 4964 | H40: 4081 | I40: 420 | J40: 712 | K40: 7788 | L40: 7371 | M40: 8172 | N40: 9926 | O40: 9195 | P40: 2248 | Q40: 4317 | R40: 12637 | S40: 12592 | T40: 9999 | U40: 7098 | V40: 3309
A41: 목포 | B41: =SUM(C41:V41) -> 105040 | C41: 2818 | D41: 5444 | E41: 4475 | F41: 4181 | G41: 4593 | H41: 3386 | I41: 96 | J41: 1267 | K41: 5962 | L41: 5495 | M41: 7226 | N41: 8201 | O41: 9249 | P41: 3090 | Q41: 3289 | R41: 9741 | S41: 9796 | T41: 8578 | U41: 5588 | V41: 2565
A42: 여수 | B42: =SUM(C42:V42) -> 90981 | C42: 2252 | D42: 4715 | E42: 3966 | F42: 3496 | G42: 4171 | H42: 2910 | I42: 260 | J42: 780 | K42: 5619 | L42: 5649 | M42: 6708 | N42: 7302 | O42: 7804 | P42: 1270 | Q42: 4100 | R42: 8186 | S42: 8502 | T42: 6455 | U42: 4909 | V42: 1927
A43: 순천 | B43: =SUM(C43:V43) -> 96716 | C43: 2245 | D43: 4592 | E43: 3818 | F43: 3288 | G43: 3366 | H43: 2570 | I43: 208 | J43: 1053 | K43: 5560 | L43: 5175 | M43: 6380 | N43: 8583 | O43: 8267 | P43: 2408 | Q43: 5248 | R43: 10231 | S43: 9864 | T43: 7420 | U43: 5346 | V43: 1094
A44: 강진 | B44: =SUM(C44:V44) -> 12856 | C44: 233 | D44: 514 | E44: 446 | F44: 384 | G44: 462 | H44: 342 | I44: 57 | J44: 135 | K44: 829 | L44: 812 | M44: 852 | N44: 1101 | O44: 1157 | P44: 386 | Q44: 569 | R44: 1573 | S44: 1245 | T44: 848 | U44: 678 | V44: 233
A45: 고흥 | B45: =SUM(C45:V45) -> 24699 | C45: 395 | D45: 1001 | E45: 876 | F45: 651 | G45: 684 | H45: 458 | I45: 14 | J45: 107 | K45: 1428 | L45: 1348 | M45: 4516 | N45: 1787 | O45: 1554 | P45: 127 | Q45: 1356 | R45: 2745 | S45: 2313 | T45: 1643 | U45: 1331 | V45: 365
A46: 곡성 | B46: =SUM(C46:V46) -> 10907 | C46: 204 | D46: 363 | E46: 266 | F46: 289 | G46: 272 | H46: 222 | I46: 50 | J46: 51 | K46: 385 | L46: 788 | M46: 997 | N46: 953 | O46: 1197 | P46: 526 | Q46: 511 | R46: 1375 | S46: 993 | T46: 757 | U46: 521 | V46: 187
A47: 광양 | B47: =SUM(C47:V47) -> 53611 | C47: 1282 | D47: 2716 | E47: 2671 | F47: 2217 | G47: 2822 | H47: 3022 | I47: 1052 | J47: 718 | K47: 3500 | L47: 3283 | M47: 4581 | N47: 3708 | O47: 3544 | P47: 1325 | Q47: 1852 | R47: 4219 | S47: 4071 | T47: 3358 | U47: 2536 | V47: 1134
A48: 구례 | B48: =SUM(C48:V48) -> 7965 | C48: 160 | D48: 352 | E48: 350 | F48: 289 | G48: 268 | H48: 269 | I48: 17 | J48: 106 | K48: 390 | L48: 435 | M48: 643 | N48: 804 | O48: 551 | P48: 87 | Q48: 252 | R48: 825 | S48: 761 | T48: 733 | U48: 496 | V48: 177
... A63: 영암집 | B63: =SUM(C63:V63) -> 12596 | C63: 364 | D63: 722 | E63: 537 | F63: 571 | G63: 619 | H63: 484 | I63: 73 | J63: 120 | K63: 984 | L63: 703 | M63: 933 | N63: 871 | O63: 1065 | P63: 242 | Q63: 441 | R63: 1096 | S63: 1136 | T63: 754 | U63: 562 | V63: 319
A64: 계 | B64: =SUM(B37:B63) -> 1201836 | C64: =SUM(C37:C63) -> 29339 | D64: =SUM(D37:D63) -> 58016 | E64: =SUM(E37:E63) -> 46660 | F64: =SUM(F37:F63) -> 43800 | G64: =SUM(G37:G63) -> 45788 | H64: =SUM(H37:H63) -> 36375 | I64: =SUM(I37:I63) -> 4226 | ... V64: =SUM(V37:V63) -> 27664
A66: 0 2015년 접수예상 | V66: (단위:통)
A67: 구분 | B67: 합계 | C67: 42254 | D67: 42255 | E67: 42256 | F67: 42257 | G67: 42258 | H67: 42259 | I67: 42260 | J67: 42261 | K67: 42262 | L67: 42263 | M67: 42264 | N67: 42265 | O67: 42266 | P67: 42267 | Q67: 42268 | R67: 42269 | S67: 42270 | T67: 42271 | U67: 42272 | V67: 42273
C68: 월 | D68: 화 | E68: 수 | F68: 목 | G68: 금 | H68: 토 | I68: 일 | J68: 월 | K68: 화 | L68: 수 | M68: 목 | N68: 금 | O68: 토 | P68: 일 | Q68: 월 | R68: 화 | S68: 수 | T68: 목 | U68: 금 | V68: 토
A69: 광주 | B69: =SUM(C69:V69) -> 141300 | C69: 8500 | D69: 9000 | E69: 9000 | F69: 10000 | G69: 8000 | H69: 2000 | I69: 0 | J69: 2000 | K69: 8500 | L69: 9000 | M69: 10000 | N69: 11000 | O69: 3000 | P69: 1300 | Q69: 16000 | R69: 10000 | S69: 11000 | T69: 8000 | U69: 5000
A70: 북광주 | B70: =SUM(C70:V70) -> 25000 | C70: 2000 | D70: 1500 | E70: 1500 | F70: 1500 | G70: 1000 | H70: 0 | I70: 0 | J70: 2000 | K70: 2000 | L70: 2000 | M70: 1500 | N70: 1000 | O70: 0 | P70: 0 | Q70: 2000 | R70: 2000 | S70: 2000 | T70: 2000 | U70: 1000 | V70: 0
A71: 서광주 | B71: =SUM(C71:V71) -> 144600 | C71: 5000 | D71: 5000 | E71: 6500 | F71: 5700 | G71: 3000 | H71: 700 | J71: 9900 | K71: 9000 | L71: 12000 | M71: 14800 | N71: 13000 | O71: 7000 | Q71: 14000 | R71: 13000 | S71: 12000 | T71: 11000 | U71: 3000
A72: 광주광산 | B72: =SUM(C72:V72) -> 38750 | C72: 1500 | D72: 1200 | E72: 1300 | F72: 1200 | G72: 1100 | H72: 50 | I72: 100 | J72: 1800 | K72: 1800 | L72: 2400 | M72: 3600 | N72: 3500 | O72: 1200 | P72: 1400 | Q72: 5400 | R72: 4900 | S72: 3000 | T72: 2400 | U72: 900
A73: 목포 | B73: =SUM(C73:V73) -> 122190 | C73: 4745 | D73: 3256 | E73: 3862 | F73: 3856 | G73: 2869 | J73: 6757 | K73: 7395 | L73: 9175 | M73: 12489 | N73: 13977 | O73: 2955 | P73: 1059 | Q73: 15121 | R73: 14941 | S73: 9956 | T73: 6954 | U73: 2823 | V73: 0
A74: 여수 | B74: =SUM(C74:V74) -> 135800 | C74: 4500 | D74: 3000 | E74: 3000 | F74: 4500 | G74: 2000 | I74: 2500 | J74: 9000 | K74: 13000 | L74: 14500 | M74: 15000 | N74: 11000 | P74: 10000 | Q74: 14500 | R74: 13000 | S74: 9000 | T74: 6000 | U74: 1300
A75: 순천 | B75: =SUM(C75:V75) -> 76300 | C75: 3400 | D75: 2900 | E75: 2800 | F75: 2800 | G75: 1200 | H75: 0 | I75: 0 | J75: 5200 | K75: 5300 | L75: 5000 | M75: 7300 | N75: 4300 | O75: 4000 | P75: 2300 | Q75: 7500 | R75: 6500 | S75: 5400 | T75: 7600 | U75: 2800 | V75: 0
A76: 강진 | B76: =SUM(C76:V76) -> 25250 | C76: 1200 | D76: 700 | E76: 650 | F76: 650 | G76: 500 | J76: 1500 | K76: 1500 | L76: 1800 | M76: 1800 | N76: 1700 | Q76: 4000 | R76: 3500 | S76: 2000 | T76: 3500 | U76: 250
A77: 고흥 | B77: =SUM(C77:V77) -> 31920 | C77: 1000 | D77: 920 | E77: 1600 | F77: 3800 | G77: 700 | J77: 3600 | K77: 3100 | L77: 3200 | M77: 3500 | N77: 1300 | Q77: 4000 | R77: 2300 | S77: 2000 | T77: 500 | U77: 400
A78: 곡성 | B78: =SUM(C78:V78) -> 15373 | C78: 1048 | D78: =INT(C14*120%) -> 628 | E78: =INT(D14*120%) -> 584 | F78: =INT(E14*120%) -> 352 | G78: 150 | J78: =INT(I14*150%) -> 0 | K78: =INT(J14*120%) -> 956 | L78: =INT(K14*120%) -> 771 | M78: =INT(L14*120%) -> 1334 | N78: 1010 | Q78: =INT(P14*120%) -> 0 | R78: =INT(Q14*120%) -> 4215 | S78: =INT(R14*120%) -> 1894 | T78: =INT(S14*120%) -> 1552 | U78: =INT(T14*120%) -> 879
A79: 광양 | B79: =SUM(C79:V79) -> 29865 | C79: 1350 | D79: 1360 | E79: 1475 | F79: 1450 | G79: 650 | J79: 2110 | K79: 2300 | L79: 2350 | M79: 2900 | N79: 2750 | P79: 2000 | Q79: 3100 | R79: 2710 | S79: 1550 | T79: 1210 | U79: 600
A80: 구례 | B80: =SUM(C80:V80) -> 11800 | C80: 500 | D80: 250 | E80: 250 | F80: 350 | G80: 150 | J80: 450 | K80: 450 | L80: 1100 | M80: 1800 | N80: 950 | P80: 950 | Q80: 1800 | R80: 1300 | S80: 800 | T80: 550 | U80: 150
A81: 나주 | B81: =SUM(C81:V81) -> 162000 | C81: 2000 | D81: 1500 | E81: 2000 | F81: 2000 | G81: 1500 | H81: 0 | I81: 500 | J81: 5500 | K81: 7000 | L81: 9200 | M81: 13100 | N81: 13800 | O81: 9400 | P81: 13000 | Q81: 29700 | R81: 26300 | S81: 15000 | T81: 8500 | U81: 2000 | V81: 0
A82: 담양 | B82: =SUM(C82:V82) -> 41200 | C82: 1000 | D82: 1500 | E82: 1500 | F82: 1000 | G82: 500 | H82: 1000 | I82: 300 | J82: 5000 | K82: 3000 | L82: 5000 | M82: 5000 | N82: 5000 | O82: 1000 | P82: 300 | Q82: 5000 | R82: 3000 | S82: 1500 | T82: 500 | U82: 100
A83: 무안 | B83: =SUM(C83:V83) -> 17372.52 | C83: 707.56 | D83: 696.78 | E83: 513.52 | F83: 604.66 | G83: 700 | H83: 0 | I83: 0 | J83: 1480 | K83: 1510 | L83: 1550 | M83: 1630 | N83: 1750 | O83: 0 | P83: 0 | Q83: 1950 | R83: 1870 | S83: 1350 | T83: 660 | U83: 400 | V83: 0
A84: 보성 | B84: =SUM(C84:V84) -> 15140 | C84: 600 | D84: 400 | E84: 380 | F84: 280 | G84: 200 | J84: 1000 | K84: 450 | L84: 730 | M84: 1650 | N84: 1800 | Q84: 3200 | R84: 1900 | S84: 1300 | T84: 1000 | U84: 250
A85: 영광 | B85: =SUM(C85:V85) -> 175300 | C85: 2500 | D85: 3000 | E85: 3000 | F85: 2800 | G85: 3000 | H85: 0 | I85: 10000 | J85: 14000 | K85: 14000 | L85: 17000 | M85: 15000 | N85: 12000 | O85: 0 | P85: 20000 | Q85: 17000 | R85: 17000 | S85: 16000 | T85: 7000 | U85: 2000 | V85: 0
A86: 영암 | B86: =SUM(C86:V86) -> 13700 | C86: 500 | D86: 500 | E86: 1000 | F86: 500 | G86: 300 | J86: 1000 | K86: 1500 | L86: 2000 | M86: 2000 | N86: 500 | Q86: 1500 | R86: 1500 | S86: 500 | T86: 300 | U86: 100
A87: 완도 | B87: =SUM(C87:V87) -> 231500 | C87: 8000 | D87: 4000 | E87: 5000 | F87: 4500 | G87: 4000 | I87: 6000 | J87: 8000 | K87: 17000 | L87: 20000 | M87: 25000 | N87: 20000 | O87: 9000 | P87: 20000 | Q87: 17000 | R87: 23000 | S87: 14000 | T87: 7000 | U87: 20000
A88: 장성 | B88: =SUM(C88:V88) -> 23100 | C88: 1600 | D88: 1000 | E88: 1100 | F88: 1600 | G88: 700 | J88: 2600 | K88: 2000 | L88: 2000 | M88: 2000 | N88: 1500 | Q88: 2000 | R88: 2000 | S88: 1500 | T88: 1000 | U88: 500
A89: 장흥 | B89: =SUM(C89:V89) -> 55500 | C89: 1000 | D89: 1000 | E89: 1500 | F89: 1500 | G89: 1500 | J89: 5500 | K89: 6000 | L89: 7500 | M89: 5000 | N89: 4000 | O89: 2000 | Q89: 7000 | R89: 6000 | S89: 3000 | T89: 2000 | U89: 1000
A90: 진도 | B90: =SUM(C90:V90) -> 45480 | C90: 650 | D90: 500 | E90: 900 | F90: 930 | G90: 1500 | J90: 6000 | K90: 3000 | L90: 4000 | M90: 4500 | N90: 6000 | Q90: 6000 | R90: 4000 | S90: 3000 | T90: 3000 | U90: 1500
A91: 함평 | B91: =SUM(C91:V91) -> 13950 | C91: 850 | D91: 550 | E91: 750 | F91: 350 | G91: 450 | J91: 850 | K91: 950 | L91: 1100 | M91: 850 | N91: 1000 | Q91: 2100 | R91: 1400 | S91: 1100 | T91: 1500 | U91: 150
A92: 해남 | B92: =SUM(C92:V92) -> 29100 | C92: 2000 | D92: 1500 | E92: 1500 | F92: 1000 | G92: 800 | J92: 4000 | K92: 2000 | L92: 2000 | M92: 2000 | N92: 1500 | Q92: 5000 | R92: 3000 | S92: 2000 | T92: 500 | U92: 300
