Workbook

Sheet 정원현황(우체국택배원)
A1: 우체국택배원 채용 예정 인원
G3: (단위: 명)
A4: 권역 | B4: 구분 | C4: 정원 | D4: 현원 | E4: 결위예상 인원 | F4: 채용예정 인원 | G4: 비고 (결위 발생 내역)
A5: 대전권 | B5: 대전 | C5: 5 | D5: =Sheet1!E4 -> 2 | E5: -3 | F5: 3 | G5: 정원 대비 결원(-3명)
A6: 대전권 | B6: 대전유성 | C6: 10 | D6: =Sheet1!E6 -> 8 | E6: -3 | F6: 2 | G6: 상시계약집배원 임용 예정(-1명), 현원 대비 결원(-2명), 택배물량감소로 2명만 채용
A7: 대전권 | B7: 대전대덕 | C7: 2 | D7: =Sheet1!E7 -> 2 | E7: -1 | F7: 1 | G7: 상시계약집배원 임용 예정(-1명)
A8: 대전권 | B8: 대전둔산 | C8: 4 | D8: =Sheet1!E8 -> 3 | E8: -1 | F8: 1 | G8: 정원 대비 결원(-1명)
A9: 대전권 소계 | C9: =SUM(C5:C8) -> 21 | D9: =SUM(D5:D8) -> 15 | E9: =SUM(E5:E8) -> -8 | F9: 7
A10: 천안권 | B10: 동천안 | C10: 4 | D10: =Sheet1!E10 -> 2 | E10: -2 | F10: 2 | G10: 정원 대비 결원(-2명)
A11: 천안권 소계 | C11: =SUM(C10) -> 4 | D11: =SUM(D10) -> 2 | E11: -2 | F11: 2
A12: 논산권 | B12: 논산 | C12: 1 | D12: =Sheet1!E13 -> 0 | E12: -1 | F12: 1 | G12: 정원 대비 결원(-1명)
A13: 논산권 소계 | C13: =SUM(C12) -> 1 | D13: =SUM(D12) -> 0 | E13: -1 | F13: 1
A14: 청주권 | B14: 청주 | C14: 4 | D14: 3 | E14: -2 | F14: 2 | G14: 상시계약집배원 임용 에정(1명)
A15: 청주권 | B15: 서청주 | C15: 4 | D15: =Sheet1!E15 -> 3 | E15: -1 | F15: 1 | G15: 정원 대비 결원(-1명)
A16: 청구권 소계 | C16: =SUM(C14:C15) -> 8 | D16: =SUM(D14:D15) -> 6 | E16: -3 | F16: 3
A17: 충주제천권 | B17: 충주 | C17: 2 | D17: =Sheet1!E16 -> 1 | E17: -1 | F17: 1 | G17: 정원 대비 결원(-1명)
A18: 충주제천권 소계 | C18: =SUM(C17) -> 2 | D18: =SUM(D17) -> 1 | E18: -1 | F18: 1
B19: 총합계 | C19: =C9+C11+C13+C16+C18 -> 36 | D19: =D9+D11+D13+D16+D18 -> 24 | E19: =E9+E11+E13+E16+E18 -> -15 | F19: 14

Sheet 정원현황(20150910)
A1: 우체국택배원 결원(채용예정)인원 조사
A2: □ 작성시 유의사항
A3: o 현원은 9.10.(목) 현재 HRM시스템에 등록된 무기계약 우체국택배원 현원임(기간제근로자 제외, 기간제근로자는 결원으로 산정)
A4: - 현원 내역이 틀릴경우 파란색 굵은글씨로 수정
A5: o 추가결원 예정은 9.30.(수)까지 결원 예정인원을 기재하며 추가결원 발생사유를 반드시 기재
H6: (단위: 명)
A7: 권역 | B7: 구분 | C7: 정원 | D7: 현원 | E7: 결원 (A) | F7: 9.30. 까지 추가결원 예정(B) | G7: 채용예정 인원(A+B) | H7: 9.30.까지 추가결원 발생 사유
B8: 대전 | C8: 5 | D8: =Sheet1!E4 -> 2 | E8: =C8-D8 -> 3 | G8: =E8+F8 -> 3
B9: 서대전 | C9: 4 | D9: =Sheet1!E5 -> 4 | E9: =C9-D9 -> 0
B10: 대전유성 | C10: 10 | D10: =Sheet1!E6 -> 8 | E10: 1 | F10: 1 | G10: =E10+F10 -> 2 | H10: 우체국 택배원 상시계약집배원 임용, 1명은 결원 유지
B11: 대전대덕 | C11: 2 | D11: =Sheet1!E7 -> 2 | E11: =C11-D11 -> 0 | F11: 1 | G11: =E11+F11 -> 1 | H11: 우체국택배원 상시계약집배원으로 이직
B12: 대전둔산 | C12: 4 | D12: =Sheet1!E8 -> 3 | E12: =C12-D12 -> 1 | G12: =E12+F12 -> 1
B13: 동천안 | C13: 4 | D13: =Sheet1!E10 -> 2 | E13: =C13-D13 -> 2 | G13: =E13+F13 -> 2
B14: 아산 | C14: 1 | D14: =Sheet1!E12 -> 1 | E14: =C14-D14 -> 0
B15: 논산 | C15: 1 | D15: =Sheet1!E13 -> 0 | E15: =C15-D15 -> 1 | G15: =E15+F15 -> 1
B16: 청주 | C16: 4 | D16: 3 | E16: =C16-D16 -> 1 | F16: 1 | G16: =E16+F16 -> 2 | H16: 우체국택배원 상시계약집배원 임용(1명)
B17: 서청주 | C17: 4 | D17: =Sheet1!E15 -> 3 | E17: =C17-D17 -> 1 | G17: =E17+F17 -> 1
B18: 충주 | C18: 2 | D18: =Sheet1!E16 -> 1 | E18: =C18-D18 -> 1 | G18: =E18+F18 -> 1
B19: 총합계 | C19: =SUM(C8:C18) -> 41 | D19: =SUM(D8:D18) -> 29 | E19: =C19-D19 -> 12 | F19: =SUM(F8:F18) -> 3 | G19: =SUM(G8:G18) -> 14

Sheet Sheet1
A2: 구분 | B2: 상시집배원 | E2: 우체국택배원 | H2: 총합계
B3: 무기계약 | C3: 기간제 | D3: 합계 | E3: 무기계약 | F3: 기간제 | G3: 합계
A4: 대전 | B4: 8 | D4: 8 | E4: 2 | F4: 2 | G4: 4 | H4: 12
A5: 서대전 | B5: 4 | D5: 4 | E5: 4 | G5: 4 | H5: 8
A6: 대전유성 | B6: 14 | C6: 1 | D6: 15 | E6: 8 | F6: 1 | G6: 9 | H6: 24
A7: 대전대덕 | B7: 6 | D7: 6 | E7: 2 | G7: 2 | H7: 8
A8: 대전둔산 | B8: 21 | D8: 21 | E8: 3 | F8: 1 | G8: 4 | H8: 25
A9: 천안 | B9: 20 | D9: 20 | H9: 20
A10: 동천안 | B10: 16 | D10: 16 | E10: 2 | F10: 2 | G10: 4 | H10: 20
A11: 공주 | B11: 4 | D11: 4 | H11: 4
A12: 아산 | B12: 21 | C12: 1 | D12: 22 | E12: 1 | G12: 1 | H12: 23
A13: 논산 | B13: 11 | D13: 11 | H13: 11
A14: 청주 | B14: 14 | D14: 14 | E14: 3 | F14: 1 | G14: 4 | H14: 18
A15: 서청주 | B15: 22 | D15: 22 | E15: 3 | F15: 1 | G15: 4 | H15: 26
A16: 충주 | B16: 8 | C16: 1 | D16: 9 | E16: 1 | F16: 1 | G16: 2 | H16: 11
A17: 제천 | B17: 5 | D17: 5 | H17: 5
A18: 세종 | B18: 13 | D18: 13 | H18: 13
A19: 서산 | B19: 11 | D19: 11 | H19: 11
A20: 금산 | B20: 7 | D20: 7 | H20: 7
A21: 홍성 | B21: 9 | D21: 9 | H21: 9
A22: 예산 | B22: 6 | D22: 6 | H22: 6
A23: 서천 | B23: 4 | D23: 4 | H23: 4
A24: 당진 | B24: 16 | C24: 1 | D24: 17 | H24: 17
A25: 청양 | B25: 4 | D25: 4 | H25: 4
A26: 부여 | B26: 6 | D26: 6 | H26: 6
A27: 보령 | B27: 6 | D27: 6 | H27: 6
A28: 태안 | B28: 8 | D28: 8 | H28: 8
A29: 단양 | B29: 1 | D29: 1 | H29: 1
A30: 괴산 | B30: 5 | D30: 5 | H30: 5
A31: 진천 | B31: 6 | D31: 6 | H31: 6
A32: 옥천 | B32: 4 | D32: 4 | F32: 1 | G32: 1 | H32: 5
A33: 음성 | B33: 9 | C33: 2 | D33: 11 | H33: 11
A34: 영동 | B34: 2 | D34: 2 | H34: 2
A35: 보은 | B35: 2 | D35: 2 | H35: 2
A36: 총합계 | B36: 293 | C36: 6 | D36: 299 | E36: 29 | F36: 10 | G36: 39 | H36: 338
