Workbook

Sheet 원가계산서
B1: 공 사 원 가 계 산 서
F2: 적서 : 계약금액
B3: 공사명 : 서귀포 중앙동우체국 임대공간 조성건축공사 | F3: 흑서 : 준공금액
B4: 비 목 | E4: 금 액 | F4: 구 성 비 | G4: 비 고
B5: 순 공 사 원 가 | C5: 재 료 비 | D5: 직 접 재 료 비 | E5: =TRUNC(공종별집계표!F5,0) -> 23423148
A6: A1 | E6: =TRUNC(공종별집계표!F6,0) -> 23691103
D7: 간 접 재 료 비
A8: A2
D9: 작업설, 부산물(△) | E9: =공종별집계표!L39 -> 53764
A10: A3 | E10: =공종별집계표!L40 -> 53764
D11: [ 소 계 ] | E11: =TRUNC(E5+E7-E9,0) -> 23369384
A12: AS | E12: =TRUNC(E6+E8-E10,0) -> 23637339
C13: 노 무 비 | D13: 직 접 노 무 비 | E13: =TRUNC(공종별집계표!H5,0) -> 10540828
A14: B1 | E14: =TRUNC(공종별집계표!H6,0) -> 10697713
D15: 간 접 노 무 비 | E15: =TRUNC(E13*0.02,0) -> 210816 | F15: 직접노무비 * 2.0%
A16: B2 | E16: =TRUNC(E14*0.02,0) -> 213954 | F16: 직접노무비 * 2.0%
D17: [ 소 계 ] | E17: =TRUNC(E13+E15,0) -> 10751644
A18: BS | E18: =TRUNC(E14+E16,0) -> 10911667
C19: 경 비 | D19: 기 계 경 비 | E19: =TRUNC(공종별집계표!J5,0) -> 143351
A20: C2 | E20: =TRUNC(공종별집계표!J6,0) -> 143351
D21: 산 재 보 험 료 | E21: =TRUNC(E17*0.038,0) -> 408562 | F21: 노무비 * 3.8%
A22: C4 | E22: =TRUNC(E18*0.038,0) -> 414643 | F22: 노무비 * 3.8%
D23: 고 용 보 험 료 | E23: =TRUNC(E17*0.0087,0) -> 93539 | F23: 노무비 * 0.87%
A24: C5 | E24: =TRUNC(E18*0.0087,0) -> 94931 | F24: 노무비 * 0.87%
D25: 국민 건강 보험료 | E25: =TRUNC(E13*0.017,0) -> 179194 | F25: 직접노무비 * 1.7%
A26: C6 | E26: 0 | F26: 직접노무비 * 1.7% | I26: =358300/2 -> 179150
D27: 국민 연금 보험료 | E27: =TRUNC(E13*0.0249,0) -> 262466 | F27: 직접노무비 * 2.49%
A28: C7 | E28: 0 | F28: 직접노무비 * 2.49% | I28: =517940/2 -> 258970
D29: 노인장기요양보험료 | E29: =TRUNC(E25*0.0655,0) -> 11737 | F29: 건강보험료 * 6.55%
A30: CB | E30: 0 | F30: 건강보험료 * 6.55% | I30: =23440/2 -> 11720
D31: 퇴직 공제 부금비 | E31: =TRUNC(E13*0.023*0,0) -> 0 | F31: 직접노무비 * 0.0%
A32: C8 | E32: =TRUNC(E14*0.023*0,0) -> 0 | F32: 직접노무비 * 0.0%
D33: 산업안전보건관리비 | E33: =TRUNC((E11+E13)*0.0293,0) -> 993569 | F33: (재료비+직노+0<도급자관급/1.1>) * 2.93%
A34: CA | E34: =TRUNC((E12+E14)*0.0293,0) -> 1006017 | F34: (재료비+직노+0<도급자관급/1.1>) * 2.93%
D35: 환 경 보 전 비 | E35: =TRUNC((E11+E13+E19)*0.003,0) -> 102160 | F35: (재료비+직노+기계경비) * 0.3%
A36: CH | E36: 0 | F36: (재료비+직노+기계경비) * 0.3%
D37: 기 타 경 비 | E37: =TRUNC((E11+E17)*0.02,0)+27583+23837 -> 733840 | F37: (재료비+노무비) * 2.0%
A38: CG | E38: =TRUNC((E12+E18)*0.02,0)+27583+23837 -> 742400 | F38: (재료비+노무비) * 2.0%
D39: 하도급지급보증수수료 | F39: (재료비+직노+기계경비) * 0.081%
A40: CK | F40: (재료비+직노+기계경비) * 0.081%
...

Sheet 공종별집계표
A1: 공 종 별 집 계 표
A2: [ 서귀포 중앙동우체국 임대공간 조성건축공사 ]
A3: 품 명 | B3: 규 격 | C3: 단위 | D3: 수량 | E3: 재 료 비 | G3: 노 무 비 | I3: 경 비 | K3: 합 계 | M3: 비 고 | N3: 공종코드 | O3: 변수 | P3: 상위공종 | Q3: 공종구분 | R3: 공종레벨 | S3: 공종소계 | T3: 원가계산서 연결금액
E4: 단 가 | F4: 금 액 | G4: 단 가 | H4: 금 액 | I4: 단 가 | J4: 금 액 | K4: 단 가 | L4: 금 액
A5: 01 서귀포 중앙동우체국 임대공간 조성공사 | D5: 1 | E5: =F7+F9+F11+F13+F15+F17+F19+F21+F23+F25+F27+F29+F31+F33 -> 23423148 | F5: =E5*D5 -> 23423148 | G5: =H7+H9+H11+H13+H15+H17+H19+H21+H23+H25+H27+H29+H31+H33 -> 10540828 | H5: =G5*D5 -> 10540828 | I5: =J7+J9+J11+J13+J15+J17+J19+J21+J23+J25+J27+J29+J31+J33 -> 143351 | J5: =I5*D5 -> 143351 | K5: =E5+G5+I5 -> 34107327 | L5: =F5+H5+J5 -> 34107327
D6: 1 | E6: =F8+F10+F12+F14+F16+F18+F20+F22+F24+F26+F28+F30+F32+F34 -> 23691103 | F6: =E6*D6 -> 23691103 | G6: =H8+H10+H12+H14+H16+H18+H20+H22+H24+H26+H28+H30+H32+H34 -> 10697713 | H6: =G6*D6 -> 10697713 | I6: =J8+J10+J12+J14+J16+J18+J20+J22+J24+J26+J28+J30+J32+J34 -> 143351 | J6: =I6*D6 -> 143351 | K6: =E6+G6+I6 -> 34532167 | L6: =F6+H6+J6 -> 34532167 | N6: 01 | R6: 1 | V6: =L6-L5 -> 424840
A7: 0101 가 설 공 사 | D7: 1 | E7: =공종별내역서!F25 -> 331626 | F7: =E7*D7 -> 331626 | G7: =공종별내역서!H25 -> 1463968 | H7: =G7*D7 -> 1463968 | I7: =공종별내역서!J25 -> 0 | J7: =I7*D7 -> 0 | K7: =E7+G7+I7 -> 1795594 | L7: =F7+H7+J7 -> 1795594
D8: 1 | E8: =공종별내역서!F26 -> 331626 | F8: =E8*D8 -> 331626 | G8: =공종별내역서!H26 -> 1463968 | H8: =G8*D8 -> 1463968 | I8: =공종별내역서!J26 -> 0 | J8: =I8*D8 -> 0 | K8: =E8+G8+I8 -> 1795594 | L8: =F8+H8+J8 -> 1795594 | N8: 0101 | P8: 01 | R8: 2 | V8: =L8-L7 -> 0
A9: 0102 토 및 지정공사 | D9: 1 | E9: =공종별내역서!F48 -> 35450 | F9: =E9*D9 -> 35450 | G9: =공종별내역서!H48 -> 97738 | H9: =G9*D9 -> 97738 | I9: =공종별내역서!J48 -> 26829 | J9: =I9*D9 -> 26829 | K9: =E9+G9+I9 -> 160017 | L9: =F9+H9+J9 -> 160017
D10: 1 | E10: =공종별내역서!F49 -> 35450 | F10: =E10*D10 -> 35450 | G10: =공종별내역서!H49 -> 97738 | H10: =G10*D10 -> 97738 | I10: =공종별내역서!J49 -> 26829 | J10: =I10*D10 -> 26829 | K10: =E10+G10+I10 -> 160017 | L10: =F10+H10+J10 -> 160017 | N10: 0102 | P10: 01 | R10: 2 | V10: =L10-L9 -> 0
A11: 0103 철근콘크리트공사 | D11: 1 | E11: =공종별내역서!F71 -> 1844398 | F11: =E11*D11 -> 1844398 | G11: =공종별내역서!H71 -> 1412993 | H11: =G11*D11 -> 1412993 | I11: =공종별내역서!J71 -> 23159 | J11: =I11*D11 -> 23159 | K11: =E11+G11+I11 -> 3280550 | L11: =F11+H11+J11 -> 3280550
D12: 1 | E12: =공종별내역서!F72 -> 1844398 | F12: =E12*D12 -> 1844398 | G12: =공종별내역서!H72 -> 1412993 | H12: =G12*D12 -> 1412993 | I12: =공종별내역서!J72 -> 23159 | J12: =I12*D12 -> 23159 | K12: =E12+G12+I12 -> 3280550 | L12: =F12+H12+J12 -> 3280550 | N12: 0103 | P12: 01 | R12: 2 | V12: =L12-L11 -> 0
A13: 0104 돌 공 사 | D13: 1 | E13: =공종별내역서!F94 -> 2107600 | F13: =E13*D13 -> 2107600 | G13: =공종별내역서!H94 -> 2401033 | H13: =G13*D13 -> 2401033 | I13: =공종별내역서!J94 -> 0 | J13: =I13*D13 -> 0 | K13: =E13+G13+I13 -> 4508633 | L13: =F13+H13+J13 -> 4508633
D14: 1 | E14: =공종별내역서!F95 -> 2107600 | F14: =E14*D14 -> 2107600 | G14: =공종별내역서!H95 -> 2401033 | H14: =G14*D14 -> 2401033 | I14: =공종별내역서!J95 -> 0 | J14: =I14*D14 -> 0 | K14: =E14+G14+I14 -> 4508633 | L14: =F14+H14+J14 -> 4508633 | N14: 0104 | P14: 01 | R14: 2 | V14: =L14-L13 -> 0
A15: 0105 방 수 공 사 | D15: 1 | E15: =공종별내역서!F117 -> 12878 | F15: =E15*D15 -> 12878 | G15: =공종별내역서!H117 -> 74669 | H15: =G15*D15 -> 74669 | I15: =공종별내역서!J117 -> 0 | J15: =I15*D15 -> 0 | K15: =E15+G15+I15 -> 87547 | L15: =F15+H15+J15 -> 87547
D16: 1 | E16: =공종별내역서!F118 -> 12878 | F16: =E16*D16 -> 12878 | G16: =공종별내역서!H118 -> 74669 | H16: =G16*D16 -> 74669 | I16: =공종별내역서!J118 -> 0 | J16: =I16*D16 -> 0 | K16: =E16+G16+I16 -> 87547 | L16: =F16+H16+J16 -> 87547 | N16: 0105 | P16: 01 | R16: 2 | V16: =L16-L15 -> 0
A17: 0106 금 속 공 사 | D17: 1 | E17: =공종별내역서!F140 -> 436445 | F17: =E17*D17 -> 436445 | G17: =공종별내역서!H140 -> 360284 | H17: =G17*D17 -> 360284 | I17: =공종별내역서!J140 -> 129 | J17: =I17*D17 -> 129 | K17: =E17+G17+I17 -> 796858 | L17: =F17+H17+J17 -> 796858
D18: 1 | E18: =공종별내역서!F141 -> 436445 | F18: =E18*D18 -> 436445 | G18: =공종별내역서!H141 -> 360284 | H18: =G18*D18 -> 360284 | I18: =공종별내역서!J141 -> 129 | J18: =I18*D18 -> 129 | K18: =E18+G18+I18 -> 796858 | L18: =F18+H18+J18 -> 796858 | N18: 0106 | P18: 01 | R18: 2 | V18: =L18-L17 -> 0
A19: 0107 창 호 공 사 | D19: 1 | E19: =공종별내역서!F187 -> 7619502 | F19: =E19*D19 -> 7619502 | G19: =공종별내역서!H187 -> 1377169 | H19: =G19*D19 -> 1377169 | I19: =공종별내역서!J187 -> 25332 | J19: =I19*D19 -> 25332 | K19: =E19+G19+I19 -> 9022003 | L19: =F19+H19+J19 -> 9022003
D20: 1 | E20: =공종별내역서!F188 -> 7619502 | F20: =E20*D20 -> 7619502 | G20: =공종별내역서!H188 -> 1377169 | H20: =G20*D20 -> 1377169 | I20: =공종별내역서!J188 -> 25332 | J20: =I20*D20 -> 25332 | K20: =E20+G20+I20 -> 9022003 | L20: =F20+H20+J20 -> 9022003 | N20: 0107 | P20: 01 | R20: 2 | V20: =L20-L19 -> 0
A21: 0108 유 리 공 사 | D21: 1 | E21: =공종별내역서!F210 -> 784315 | F21: =E21*D21 -> 784315 | G21: =공종별내역서!H210 -> 261938 | H21: =G21*D21 -> 261938 | I21: =공종별내역서!J210 -> 0 | J21: =I21*D21 -> 0 | K21: =E21+G21+I21 -> 1046253 | L21: =F21+H21+J21 -> 1046253
D22: 1 | E22: =공종별내역서!F211 -> 784315 | F22: =E22*D22 -> 784315 | G22: =공종별내역서!H211 -> 261938 | H22: =G22*D22 -> 261938 | I22: =공종별내역서!J211 -> 0 | J22: =I22*D22 -> 0 | K22: =E22+G22+I22 -> 1046253 | L22: =F22+H22+J22 -> 1046253 | N22: 0108 | P22: 01 | R22: 2 | V22: =L22-L21 -> 0
A23: 0109 칠 공 사 | D23: 1 | E23: =공종별내역서!F233 -> 116616 | F23: =E23*D23 -> 116616 | G23: =공종별내역서!H233 -> 519318 | H23: =G23*D23 -> 519318 | I23: =공종별내역서!J233 -> 4674 | J23: =I23*D23 -> 4674 | K23: =E23+G23+I23 -> 640608 | L23: =F23+H23+J23 -> 640608
D24: 1 | E24: =공종별내역서!F234 -> 116616 | F24: =E24*D24 -> 116616 | G24: =공종별내역서!H234 -> 519318 | H24: =G24*D24 -> 519318 | I24: =공종별내역서!J234 -> 4674 | J24: =I24*D24 -> 4674 | K24: =E24+G24+I24 -> 640608 | L24: =F24+H24+J24 -> 640608 | N24: 0109 | P24: 01 | R24: 2 | V24: =L24-L23 -> 0
A25: 0110 수 장 공 사 | D25: 1 | E25: =공종별내역서!F256 -> 3707772 | F25: =E25*D25 -> 3707772 | G25: =공종별내역서!H256 -> 638361 | H25: =G25*D25 -> 638361 | I25: =공종별내역서!J256 -> 5776 | J25: =I25*D25 -> 5776 | K25: =E25+G25+I25 -> 4351909 | L25: =F25+H25+J25 -> 4351909
D26: 1 | E26: =공종별내역서!F257 -> 3707772 | F26: =E26*D26 -> 3707772 | G26: =공종별내역서!H257 -> 638361 | H26: =G26*D26 -> 638361 | I26: =공종별내역서!J257 -> 5776 | J26: =I26*D26 -> 5776 | K26: =E26+G26+I26 -> 4351909 | L26: =F26+H26+J26 -> 4351909 | N26: 0110 | P26: 01 | R26: 2 | V26: =L26-L25 -> 0
A27: 0111 기 타 공 사 | D27: 1 | E27: =공종별내역서!F279 -> 6000000 | F27: =E27*D27 -> 6000000 | G27: =공종별내역서!H279 -> 0 | H27: =G27*D27 -> 0 | I27: =공종별내역서!J279 -> 0 | J27: =I27*D27 -> 0 | K27: =E27+G27+I27 -> 6000000 | L27: =F27+H27+J27 -> 6000000
D28: 1 | E28: =공종별내역서!F280 -> 6278440 | F28: =E28*D28 -> 6278440 | G28: =공종별내역서!H280 -> 297914 | H28: =G28*D28 -> 297914 | I28: =공종별내역서!J280 -> 0 | J28: =I28*D28 -> 0 | K28: =E28+G28+I28 -> 6576354 | L28: =F28+H28+J28 -> 6576354 | N28: 0111 | P28: 01 | R28: 2 | V28: =L28-L27 -> 576354
A29: 0112 조 경 공 사 | D29: 1 | E29: =공종별내역서!F302 -> 10485 | F29: =E29*D29 -> 10485 | G29: =공종별내역서!H302 -> 7172 | H29: =G29*D29 -> 7172 | I29: =공종별내역서!J302 -> 0 | J29: =I29*D29 -> 0 | K29: =E29+G29+I29 -> 17657 | L29: =F29+H29+J29 -> 17657
D30: 1 | E30: =공종별내역서!F303 -> 0 | F30: =E30*D30 -> 0 | G30: =공종별내역서!H303 -> 0 | H30: =G30*D30 -> 0 | I30: =공종별내역서!J303 -> 0 | J30: =I30*D30 -> 0 | K30: =E30+G30+I30 -> 0 | L30: =F30+H30+J30 -> 0 | N30: 0112 | P30: 01 | R30: 2 | V30: =L30-L29 -> -17657
A31: 0113 골 재 비 | D31: 1 | E31: =공종별내역서!F325 -> 200270 | F31: =E31*D31 -> 200270 | G31: =공종별내역서!H325 -> 0 | H31: =G31*D31 -> 0 | I31: =공종별내역서!J325 -> 0 | J31: =I31*D31 -> 0 | K31: =E31+G31+I31 -> 200270 | L31: =F31+H31+J31 -> 200270
D32: 1 | E32: =공종별내역서!F326 -> 200270 | F32: =E32*D32 -> 200270 | G32: =공종별내역서!H326 -> 0 | H32: =G32*D32 -> 0 | I32: =공종별내역서!J326 -> 0 | J32: =I32*D32 -> 0 | K32: =E32+G32+I32 -> 200270 | L32: =F32+H32+J32 -> 200270 | N32: 0113 | P32: 01 | R32: 2 | V32: =L32-L31 -> 0
A33: 0114 철 거 공 사 | D33: 1 | E33: =공종별내역서!F372 -> 215791 | F33: =E33*D33 -> 215791 | G33: =공종별내역서!H372 -> 1926185 | H33: =G33*D33 -> 1926185 | I33: =공종별내역서!J372 -> 57452 | J33: =I33*D33 -> 57452 | K33: =E33+G33+I33 -> 2199428 | L33: =F33+H33+J33 -> 2199428
D34: 1 | E34: =공종별내역서!F373 -> 215791 | F34: =E34*D34 -> 215791 | G34: =공종별내역서!H373 -> 1792328 | H34: =G34*D34 -> 1792328 | I34: =공종별내역서!J373 -> 57452 | J34: =I34*D34 -> 57452 | K34: =E34+G34+I34 -> 2065571 | L34: =F34+H34+J34 -> 2065571 | N34: 0114 | P34: 01 | R34: 2 | V34: =L34-L33 -> -133857
A35: 0115 관급자재비-기계설비 | D35: 1 | E35: =공종별내역서!F395 -> 7646187 | F35: =E35*D35 -> 7646187 | G35: =공종별내역서!H395 -> 0 | H35: =G35*D35 -> 0 | I35: =공종별내역서!J395 -> 0 | J35: =I35*D35 -> 0 | K35: =E35+G35+I35 -> 7646187 | L35: =F35+H35+J35 -> 7646187
D36: 1 | E36: =공종별내역서!F396 -> 7646187 | F36: =E36*D36 -> 7646187 | G36: =공종별내역서!H396 -> 0 | H36: =G36*D36 -> 0 | I36: =공종별내역서!J396 -> 0 | J36: =I36*D36 -> 0 | K36: =E36+G36+I36 -> 7646187 | L36: =F36+H36+J36 -> 7646187 | N36: 0115 | Q36: 3 | R36: 2 | T36: =L36*1 -> 7646187 | V36: =L36-L35 -> 0
A37: 0116 건설폐기물처리비 | D37: 1 | E37: =공종별내역서!F418 -> 0 | F37: =E37*D37 -> 0 | G37: =공종별내역서!H418 -> 0 | H37: =G37*D37 -> 0 | I37: =공종별내역서!J418 -> 551679 | J37: =I37*D37 -> 551679 | K37: =E37+G37+I37 -> 551679 | L37: =F37+H37+J37 -> 551679
D38: 1 | E38: =공종별내역서!F419 -> 0 | F38: =E38*D38 -> 0 | G38: =공종별내역서!H419 -> 0 | H38: =G38*D38 -> 0 | I38: =공종별내역서!J419 -> 508119 | J38: =I38*D38 -> 508119 | K38: =E38+G38+I38 -> 508119 | L38: =F38+H38+J38 -> 508119 | N38: 0116 | Q38: 6 | R38: 2 | T38: =L38*1 -> 508119 | V38: =L38-L37 -> -43560
A39: 0117 작 업 부 산 물 | D39: 1 | E39: =공종별내역서!F441 -> 53764 | F39: =E39*D39 -> 53764 | G39: =공종별내역서!H441 -> 0 | H39: =G39*D39 -> 0 | I39: =공종별내역서!J441 -> 0 | J39: =I39*D39 -> 0 | K39: =E39+G39+I39 -> 53764 | L39: =F39+H39+J39 -> 53764
D40: 1 | E40: =공종별내역서!F442 -> 53764 | F40: =E40*D40 -> 53764 | G40: =공종별내역서!H442 -> 0 | H40: =G40*D40 -> 0 | I40: =공종별내역서!J442 -> 0 | J40: =I40*D40 -> 0 | K40: =E40+G40+I40 -> 53764 | L40: =F40+H40+J40 -> 53764 | N40: 0117 | Q40: 1 | R40: 2 | T40: =L40*1 -> 53764 | V40: =L40-L39 -> 0
...

Sheet 공종별내역서
A1: [ 서귀포 중앙동우체국 임대공간 조성건축공사 ]
A2: 품 명 | B2: 규 격 | C2: 단위 | D2: 수량 | E2: 재 료 비 | G2: 노 무 비 | I2: 경 비 | K2: 합 계 | M2: 비 고 | N2: 품목코드 | O2: 변수 | P2: 설정 | Q2: 공종코드 | R2: 일위 | S2: 단산 | T2: 자재 | U2: 손료적용 | V2: 손료저장 | W2: 적용율 | X2: JUK1 | Y2: JUK2 | Z2: JUK3 | AA2: JUK4 | AB2: JUK5 | AC2: JUK6 | AD2: JUK7 | AE2: JUK8 | AF2: JUK9 | AG2: JUK10 | AH2: JUK11 | AI2: JUK12 | AJ2: JUK13 | AK2: JUK14 | AL2: JUK15 | AM2: JUK16 | AN2: JUK17 | AO2: JUK18 | AP2: JUK19 | AQ2: JUK20 | AR2: 자재구분 | AS2: 공종구분 | AT2: 공종레벨 | AU2: 공종+자재 | AV2: 고유번호
E3: 단 가 | F3: 금 액 | G3: 단 가 | H3: 금 액 | I3: 단 가 | J3: 금 액 | K3: 단 가 | L3: 금 액
A4: 0101 가 설 공 사 | Q4: 0101
A5: 면적당규준틀 | C5: M2 | D5: 20.44 | E5: 718 | F5: =TRUNC(E5*D5,0) -> 14675 | G5: 3912 | H5: =TRUNC(G5*D5,0) -> 79961 | J5: =TRUNC(I5*D5,0) -> 0 | K5: =TRUNC(E5+G5+I5,0) -> 4630 | L5: =TRUNC(F5+H5+J5,0) -> 94636
D6: 20.44 | E6: =TRUNC(일위대가목록!E4,0) -> 718 | F6: =TRUNC(E6*D6,0) -> 14675 | G6: =TRUNC(일위대가목록!F4,0) -> 3912 | H6: =TRUNC(G6*D6,0) -> 79961 | J6: =TRUNC(I6*D6,0) -> 0 | K6: =TRUNC(E6+G6+I6,0) -> 4630 | L6: =TRUNC(F6+H6+J6,0) -> 94636 | N6: 5E6935D0984A9A17F7FF443DCA3F | R6: T | S6: F | T6: F | AU6: 01015E6935D0984A9A17F7FF443DCA3F | AV6: 4
A7: 이동식강관말비계 | B7: 1단(2m), 3개월 | C7: 1대 | D7: 1 | E7: 45633 | F7: =TRUNC(E7*D7,0) -> 45633 | G7: 52683 | H7: =TRUNC(G7*D7,0) -> 52683 | J7: =TRUNC(I7*D7,0) -> 0 | K7: =TRUNC(E7+G7+I7,0) -> 98316 | L7: =TRUNC(F7+H7+J7,0) -> 98316
D8: 1 | E8: =TRUNC(일위대가목록!E5,0) -> 45633 | F8: =TRUNC(E8*D8,0) -> 45633 | G8: =TRUNC(일위대가목록!F5,0) -> 52683 | H8: =TRUNC(G8*D8,0) -> 52683 | J8: =TRUNC(I8*D8,0) -> 0 | K8: =TRUNC(E8+G8+I8,0) -> 98316 | L8: =TRUNC(F8+H8+J8,0) -> 98316 | N8: 5E6935D0984A9A17F7DC48342078 | R8: T | S8: F | T8: F | AU8: 01015E6935D0984A9A17F7DC48342078 | AV8: 5
A9: CONC보양 | B9: 살수 | C9: M2 | D9: 20.44 | F9: =TRUNC(E9*D9,0) -> 0 | G9: 351 | H9: =TRUNC(G9*D9,0) -> 7174 | J9: =TRUNC(I9*D9,0) -> 0 | K9: =TRUNC(E9+G9+I9,0) -> 351 | L9: =TRUNC(F9+H9+J9,0) -> 7174
D10: 20.44 | F10: =TRUNC(E10*D10,0) -> 0 | G10: =TRUNC(일위대가목록!F6,0) -> 351 | H10: =TRUNC(G10*D10,0) -> 7174 | J10: =TRUNC(I10*D10,0) -> 0 | K10: =TRUNC(E10+G10+I10,0) -> 351 | L10: =TRUNC(F10+H10+J10,0) -> 7174 | N10: 5E6935D0984A9A17F7B1933E3015 | R10: T | S10: F | T10: F | AU10: 01015E6935D0984A9A17F7B1933E3015 | AV10: 6
A11: 건축물보양-석재면,테라조면 | B11: 하드롱지 | C11: M2 | D11: 19.89 | E11: 378 | F11: =TRUNC(E11*D11,0) -> 7518 | G11: 878 | H11: =TRUNC(G11*D11,0) -> 17463 | J11: =TRUNC(I11*D11,0) -> 0 | K11: =TRUNC(E11+G11+I11,0) -> 1256 | L11: =TRUNC(F11+H11+J11,0) -> 24981
D12: 19.89 | E12: =TRUNC(일위대가목록!E7,0) -> 378 | F12: =TRUNC(E12*D12,0) -> 7518 | G12: =TRUNC(일위대가목록!F7,0) -> 878 | H12: =TRUNC(G12*D12,0) -> 17463 | J12: =TRUNC(I12*D12,0) -> 0 | K12: =TRUNC(E12+G12+I12,0) -> 1256 | L12: =TRUNC(F12+H12+J12,0) -> 24981 | N12: 5E6935D0984A9A17F7B1933E313B | R12: T | S12: F | T12: F | AU12: 01015E6935D0984A9A17F7B1933E313B | AV12: 7
A13: 건축물현장정리 | B13: 철근CON'C조 | C13: M2 | D13: 20.44 | F13: =TRUNC(E13*D13,0) -> 0 | G13: 13170 | H13: =TRUNC(G13*D13,0) -> 269194 | J13: =TRUNC(I13*D13,0) -> 0 | K13: =TRUNC(E13+G13+I13,0) -> 13170 | L13: =TRUNC(F13+H13+J13,0) -> 269194
D14: 20.44 | F14: =TRUNC(E14*D14,0) -> 0 | G14: =TRUNC(일위대가목록!F8,0) -> 13170 | H14: =TRUNC(G14*D14,0) -> 269194 | J14: =TRUNC(I14*D14,0) -> 0 | K14: =TRUNC(E14+G14+I14,0) -> 13170 | L14: =TRUNC(F14+H14+J14,0) -> 269194 | N14: 5E6935D0984A9A17F7B181372BCD | R14: T | S14: F | T14: F | AU14: 01015E6935D0984A9A17F7B181372BCD | AV14: 8
A15: 건축물현장정리 | B15: 개보수,리모델링 | C15: M2 | D15: 83.8 | F15: =TRUNC(E15*D15,0) -> 0 | G15: 3073 | H15: =TRUNC(G15*D15,0) -> 257517 | J15: =TRUNC(I15*D15,0) -> 0 | K15: =TRUNC(E15+G15+I15,0) -> 3073 | L15: =TRUNC(F15+H15+J15,0) -> 257517
D16: 83.8 | F16: =TRUNC(E16*D16,0) -> 0 | G16: =TRUNC(일위대가목록!F9,0) -> 3073 | H16: =TRUNC(G16*D16,0) -> 257517 | J16: =TRUNC(I16*D16,0) -> 0 | K16: =TRUNC(E16+G16+I16,0) -> 3073 | L16: =TRUNC(F16+H16+J16,0) -> 257517 | N16: 5E6935D0984A9A17F7B181372E80 | R16: T | S16: F | T16: F | AU16: 01015E6935D0984A9A17F7B181372E80 | AV16: 9
A17: 거푸집 먹매김 | B17: 일반 | C17: M2 | D17: 20.44 | F17: =TRUNC(E17*D17,0) -> 0 | G17: 1671 | H17: =TRUNC(G17*D17,0) -> 34155 | J17: =TRUNC(I17*D17,0) -> 0 | K17: =TRUNC(E17+G17+I17,0) -> 1671 | L17: =TRUNC(F17+H17+J17,0) -> 34155
D18: 20.44 | F18: =TRUNC(E18*D18,0) -> 0 | G18: =TRUNC(일위대가목록!F10,0) -> 1671 | H18: =TRUNC(G18*D18,0) -> 34155 | J18: =TRUNC(I18*D18,0) -> 0 | K18: =TRUNC(E18+G18+I18,0) -> 1671 | L18: =TRUNC(F18+H18+J18,0) -> 34155 | N18: 5E6935D0984A9A17F784553D66FA | R18: T | S18: F | T18: F | AU18: 01015E6935D0984A9A17F784553D66FA | AV18: 10
A19: 가설칸막이설치(공사완료후철거) | B19: 벽체띠장45*45@600*600,합판2.7mm | C19: M2 | D19: 41.4 | E19: 6372 | F19: =TRUNC(E19*D19,0) -> 263800 | G19: 18015 | H19: =TRUNC(G19*D19,0) -> 745821 | J19: =TRUNC(I19*D19,0) -> 0 | K19: =TRUNC(E19+G19+I19,0) -> 24387 | L19: =TRUNC(F19+H19+J19,0) -> 1009621
D20: 41.4 | E20: =TRUNC(일위대가목록!E11,0) -> 6372 | F20: =TRUNC(E20*D20,0) -> 263800 | G20: =TRUNC(일위대가목록!F11,0) -> 18015 | H20: =TRUNC(G20*D20,0) -> 745821 | J20: =TRUNC(I20*D20,0) -> 0 | K20: =TRUNC(E20+G20+I20,0) -> 24387 | L20: =TRUNC(F20+H20+J20,0) -> 1009621 | N20: 5E6935D0984A9A17F7B1933FDB38 | R20: T | S20: F | T20: F | AU20: 01015E6935D0984A9A17F7B1933FDB38 | AV20: 110
A25: [ 합 계 ] | F25: =F5+F7+F9+F11+F13+F15+F17+F19 -> 331626 | H25: =H5+H7+H9+H11+H13+H15+H17+H19 -> 1463968 | J25: =J5+J7+J9+J11+J13+J15+J17+J19 -> 0 | L25: =TRUNC(F25+H25+J25,0) -> 1795594
F26: =F6+F8+F10+F12+F14+F16+F18+F20 -> 331626 | H26: =H6+H8+H10+H12+H14+H16+H18+H20 -> 1463968 | J26: =J6+J8+J10+J12+J14+J16+J18+J20 -> 0 | L26: =TRUNC(F26+H26+J26,0) -> 1795594 | N26: TOTAL
A27: 0102 토 및 지정공사 | Q27: 0102
A28: 터파기 | B28: 보통토사. 백호90%+인력10% | C28: M3 | D28: 16.03 | E28: 264 | F28: =TRUNC(E28*D28,0) -> 4231 | G28: 2149 | H28: =TRUNC(G28*D28,0) -> 34448 | I28: 300 | J28: =TRUNC(I28*D28,0) -> 4809 | K28: =TRUNC(E28+G28+I28,0) -> 2713 | L28: =TRUNC(F28+H28+J28,0) -> 43488
D29: 16.03 | E29: =TRUNC(일위대가목록!E12,0) -> 264 | F29: =TRUNC(E29*D29,0) -> 4231 | G29: =TRUNC(일위대가목록!F12,0) -> 2149 | H29: =TRUNC(G29*D29,0) -> 34448 | I29: =TRUNC(일위대가목록!G12,0) -> 300 | J29: =TRUNC(I29*D29,0) -> 4809 | K29: =TRUNC(E29+G29+I29,0) -> 2713 | L29: =TRUNC(F29+H29+J29,0) -> 43488 | N29: 5E6935D0984A9A17CA842136BF7F | R29: T | S29: F | T29: F | AU29: 01025E6935D0984A9A17CA842136BF7F | AV29: 12
A30: 혼합골재깔기지정 | B30: 백호0.2m3+진동롤러(핸드가이드) | C30: M3 | D30: 3.3 | E30: 779 | F30: =TRUNC(E30*D30,0) -> 2570 | G30: 4018 | H30: =TRUNC(G30*D30,0) -> 13259 | I30: 921 | J30: =TRUNC(I30*D30,0) -> 3039 | K30: =TRUNC(E30+G30+I30,0) -> 5718 | L30: =TRUNC(F30+H30+J30,0) -> 18868
D31: 3.3 | E31: =TRUNC(일위대가목록!E13,0) -> 779 | F31: =TRUNC(E31*D31,0) -> 2570 | G31: =TRUNC(일위대가목록!F13,0) -> 4018 | H31: =TRUNC(G31*D31,0) -> 13259 | I31: =TRUNC(일위대가목록!G13,0) -> 921 | J31: =TRUNC(I31*D31,0) -> 3039 | K31: =TRUNC(E31+G31+I31,0) -> 5718 | L31: =TRUNC(F31+H31+J31,0) -> 18868 | N31: 5E6935D0984A9A17CAFF073D8498 | R31: T | S31: F | T31: F | AU31: 01025E6935D0984A9A17CAFF073D8498 | AV31: 13
A32: 메우고다지기토사T=15CM(보통) | B32: 백호0.7M3*래머80kg | C32: M3 | D32: 3.45 | E32: 455 | F32: =TRUNC(E32*D32,0) -> 1569 | G32: 4516 | H32: =TRUNC(G32*D32,0) -> 15580 | I32: 331 | J32: =TRUNC(I32*D32,0) -> 1141 | K32: =TRUNC(E32+G32+I32,0) -> 5302 | L32: =TRUNC(F32+H32+J32,0) -> 18290
D33: 3.45 | E33: =TRUNC(중기단가목록!E4,0) -> 455 | F33: =TRUNC(E33*D33,0) -> 1569 | G33: =TRUNC(중기단가목록!F4,0) -> 4516 | H33: =TRUNC(G33*D33,0) -> 15580 | I33: =TRUNC(중기단가목록!G4,0) -> 331 | J33: =TRUNC(I33*D33,0) -> 1141 | K33: =TRUNC(E33+G33+I33,0) -> 5302 | L33: =TRUNC(F33+H33+J33,0) -> 18290 | N33: 5E6935D092403517B6D680350A03 | R33: F | S33: T | T33: F | AU33: 01025E6935D092403517B6D680350A03 | AV33: 14
A34: 성토-현장토사유용 | B34: 백호0.7M3*래머80kg | C34: M3 | D34: 2.07 | E34: 455 | F34: =TRUNC(E34*D34,0) -> 941 | G34: 4516 | H34: =TRUNC(G34*D34,0) -> 9348 | I34: 331 | J34: =TRUNC(I34*D34,0) -> 685 | K34: =TRUNC(E34+G34+I34,0) -> 5302 | L34: =TRUNC(F34+H34+J34,0) -> 10974
D35: 2.07 | E35: =TRUNC(중기단가목록!E5,0) -> 455 | F35: =TRUNC(E35*D35,0) -> 941 | G35: =TRUNC(중기단가목록!F5,0) -> 4516 | H35: =TRUNC(G35*D35,0) -> 9348 | I35: =TRUNC(중기단가목록!G5,0) -> 331 | J35: =TRUNC(I35*D35,0) -> 685 | K35: =TRUNC(E35+G35+I35,0) -> 5302 | L35: =TRUNC(F35+H35+J35,0) -> 10974 | N35: 5E6935D092403517B6D680350A07 | R35: F | S35: T | T35: F | AU35: 01025E6935D092403517B6D680350A07 | AV35: 101
A36: 토사처리 단지외10KM(보통) | B36: 담프15톤 + 백호0.7(고르기별도) | C36: M3 | D36: 10.57 | E36: 2473 | F36: =TRUNC(E36*D36,0) -> 26139 | G36: 2375 | H36: =TRUNC(G36*D36,0) -> 25103 | I36: 1623 | J36: =TRUNC(I36*D36,0) -> 17155 | K36: =TRUNC(E36+G36+I36,0) -> 6471 | L36: =TRUNC(F36+H36+J36,0) -> 68397
D37: 10.57 | E37: =TRUNC(중기단가목록!E6,0) -> 2473 | F37: =TRUNC(E37*D37,0) -> 26139 | G37: =TRUNC(중기단가목록!F6,0) -> 2375 | H37: =TRUNC(G37*D37,0) -> 25103 | I37: =TRUNC(중기단가목록!G6,0) -> 1623 | J37: =TRUNC(I37*D37,0) -> 17155 | K37: =TRUNC(E37+G37+I37,0) -> 6471 | L37: =TRUNC(F37+H37+J37,0) -> 68397 | N37: 5E6935D092403517B6C478338779 | R37: F | S37: T | T37: F | AU37: 01025E6935D092403517B6C478338779 | AV37: 16
A48: [ 합 계 ] | F48: =F28+F30+F32+F34+F36 -> 35450 | H48: =H28+H30+H32+H34+H36 -> 97738 | J48: =J28+J30+J32+J34+J36 -> 26829 | L48: =TRUNC(F48+H48+J48,0) -> 160017
F49: =F29+F31+F33+F35+F37 -> 35450 | H49: =H29+H31+H33+H35+H37 -> 97738 | J49: =J29+J31+J33+J35+J37 -> 26829 | L49: =TRUNC(F49+H49+J49,0) -> 160017 | N49: TOTAL
A50: 0103 철근콘크리트공사 | Q50: 0103
A51: 케미컬앵커볼트설치 | B51: M12*110,HILTI-HY200,볼트포함 | C51: 개소 | D51: 107 | E51: 9292 | F51: =TRUNC(E51*D51,0) -> 994244 | G51: 6794 | H51: =TRUNC(G51*D51,0) -> 726958 | J51: =TRUNC(I51*D51,0) -> 0 | K51: =TRUNC(E51+G51+I51,0) -> 16086 | L51: =TRUNC(F51+H51+J51,0) -> 1721202
D52: 107 | E52: =TRUNC(일위대가목록!E14,0) -> 9292 | F52: =TRUNC(E52*D52,0) -> 994244 | G52: =TRUNC(일위대가목록!F14,0) -> 6794 | H52: =TRUNC(G52*D52,0) -> 726958 | I52: =TRUNC(일위대가목록!G14,0) -> 0 | J52: =TRUNC(I52*D52,0) -> 0 | K52: =TRUNC(E52+G52+I52,0) -> 16086 | L52: =TRUNC(F52+H52+J52,0) -> 1721202 | N52: 5E6935D0984A9A17AFE41B3E22E6 | R52: T | S52: F | T52: F | AU52: 01035E6935D0984A9A17AFE41B3E22E6 | AV52: 102
A53: 레미콘 | B53: 제주, 25-18-08 | C53: M3 | D53: 1.12 | E53: 65100 | F53: =TRUNC(E53*D53,0) -> 72912 | H53: =TRUNC(G53*D53,0) -> 0 | J53: =TRUNC(I53*D53,0) -> 0 | K53: =TRUNC(E53+G53+I53,0) -> 65100 | L53: =TRUNC(F53+H53+J53,0) -> 72912
D54: 1.12 | E54: =TRUNC(단가대비표!O51,0) -> 65100 | F54: =TRUNC(E54*D54,0) -> 72912 | G54: =TRUNC(단가대비표!P51,0) -> 0 | H54: =TRUNC(G54*D54,0) -> 0 | I54: =TRUNC(단가대비표!V51,0) -> 0 | J54: =TRUNC(I54*D54,0) -> 0 | K54: =TRUNC(E54+G54+I54,0) -> 65100 | L54: =TRUNC(F54+H54+J54,0) -> 72912 | N54: 5E6935D8D143D8170CD46B314716 | R54: F | S54: F | T54: T | AU54: 01035E6935D8D143D8170CD46B314716 | AV54: 19
...

Sheet 일위대가목록
A1: 일 위 대 가 목 록
A2: [ 서귀포 중앙동우체국 임대공간 조성건축공사 ]
A3: 코 드 | B3: 품 명 | C3: 규 격 | D3: 단위 | E3: 재 료 비 | F3: 노 무 비 | G3: 경 비 | H3: 합 계 | I3: 번 호 | J3: 비 고 | K3: 노임계수 | L3: 할증 | M3: 품셈개요
A4: 5E6935D0984A9A17F7FF443DCA3F | B4: 면적당규준틀 | D4: M2 | E4: =일위대가!F8 -> 718 | F4: =일위대가!H8 -> 3912 | G4: =일위대가!J8 -> 0 | H4: =E4+F4+G4 -> 4630 | I4: 호표 1 | M4: 토목 2-4-2.3
A5: 5E6935D0984A9A17F7DC48342078 | B5: 이동식강관말비계 | C5: 1단(2m), 3개월 | D5: 1대 | E5: =일위대가!F21 -> 45633 | F5: =일위대가!H21 -> 52683 | G5: =일위대가!J21 -> 0 | H5: =E5+F5+G5 -> 98316 | I5: 호표 2 | M5: 토목 2-6-3, 5
A6: 5E6935D0984A9A17F7B1933E3015 | B6: CONC보양 | C6: 살수 | D6: M2 | E6: =일위대가!F25 -> 0 | F6: =일위대가!H25 -> 351 | G6: =일위대가!J25 -> 0 | H6: =E6+F6+G6 -> 351 | I6: 호표 3 | M6: 토목 2-9
A7: 5E6935D0984A9A17F7B1933E313B | B7: 건축물보양-석재면,테라조면 | C7: 하드롱지 | D7: M2 | E7: =일위대가!F31 -> 378 | F7: =일위대가!H31 -> 878 | G7: =일위대가!J31 -> 0 | H7: =E7+F7+G7 -> 1256 | I7: 호표 4 | M7: 토목 2-9
A8: 5E6935D0984A9A17F7B181372BCD | B8: 건축물현장정리 | C8: 철근CON'C조 | D8: M2 | E8: =일위대가!F35 -> 0 | F8: =일위대가!H35 -> 13170 | G8: =일위대가!J35 -> 0 | H8: =E8+F8+G8 -> 13170 | I8: 호표 5 | M8: 토목 2-10
A9: 5E6935D0984A9A17F7B181372E80 | B9: 건축물현장정리 | C9: 개보수,리모델링 | D9: M2 | E9: =일위대가!F39 -> 0 | F9: =일위대가!H39 -> 3073 | G9: =일위대가!J39 -> 0 | H9: =E9+F9+G9 -> 3073 | I9: 호표 6
A10: 5E6935D0984A9A17F784553D66FA | B10: 거푸집 먹매김 | C10: 일반 | D10: M2 | E10: =일위대가!F43 -> 0 | F10: =일위대가!H43 -> 1671 | G10: =일위대가!J43 -> 0 | H10: =E10+F10+G10 -> 1671 | I10: 호표 7 | M10: 건축 11-1
A11: 5E6935D0984A9A17F7B1933FDB38 | B11: 가설칸막이설치(공사완료후철거) | C11: 벽체띠장45*45@600*600,합판2.7mm | D11: M2 | E11: =일위대가!F51 -> 6372 | F11: =일위대가!H51 -> 18015 | G11: =일위대가!J51 -> 0 | H11: =E11+F11+G11 -> 24387 | I11: 호표 8
A12: 5E6935D0984A9A17CA842136BF7F | B12: 터파기 | C12: 보통토사. 백호90%+인력10% | D12: M3 | E12: =일위대가!F55 -> 264 | F12: =일위대가!H55 -> 2149 | G12: =일위대가!J55 -> 300 | H12: =E12+F12+G12 -> 2713 | I12: 호표 9 | M12: 토목 11-3
A13: 5E6935D0984A9A17CAFF073D8498 | B13: 혼합골재깔기지정 | C13: 백호0.2m3+진동롤러(핸드가이드) | D13: M3 | E13: =일위대가!F60 -> 779 | F13: =일위대가!H60 -> 4018 | G13: =일위대가!J60 -> 921 | H13: =E13+F13+G13 -> 5718 | I13: 호표 10
A14: 5E6935D0984A9A17AFE41B3E22E6 | B14: 케미컬앵커볼트설치 | C14: M12*110,HILTI-HY200,볼트포함 | D14: 개소 | E14: =일위대가!F67 -> 9292 | F14: =일위대가!H67 -> 6794 | G14: =일위대가!J67 -> 0 | H14: =E14+F14+G14 -> 16086 | I14: 호표 11
A15: 5E6935D0984A9A17DB207A3495C4 | B15: 무근콘크리트타설/펌프카(36m) | C15: 슬럼프8∼12, 50m3미만[80~95] | D15: M3 | E15: =일위대가!F72 -> 1551 | F15: =일위대가!H72 -> 9364 | G15: =일위대가!J72 -> 3801 | H15: =E15+F15+G15 -> 14716 | I15: 호표 12 | M15: 토목 6-1-2
A16: 5E6935D0984A9A17DB20693E48C6 | B16: 철근콘크리트타설/펌프카(36m) | C16: 슬럼프15,50m3미만[80~95] | D16: M3 | E16: =일위대가!F77 -> 1647 | F16: =일위대가!H77 -> 10412 | G16: =일위대가!J77 -> 4038 | H16: =E16+F16+G16 -> 16097 | I16: 호표 13 | M16: 토목 6-1-2
A17: 5E6935D0984A9A17DB789B3FEBC9 | B17: 철근 현장 가공 및 조립 | C17: 보통(미할증) | D17: TON | E17: =일위대가!F83 -> 13496 | F17: =일위대가!H83 -> 537048 | G17: =일위대가!J83 -> 0 | H17: =E17+F17+G17 -> 550544 | I17: 호표 14 | M17: 토목 6-2-1
A18: 5E6935D0984A9A17DB6E3D3E1298 | B18: 합판 거푸집 설치 및 해체 | C18: 4회 사용시, 0~7m까지 | D18: M2 | E18: =일위대가!F90 -> 8641 | F18: =일위대가!H90 -> 17510 | G18: =일위대가!J90 -> 0 | H18: =E18+F18+G18 -> 26151 | I18: 호표 15 | M18: 토목 6-3-2
A19: 5E6935D0984A9A17DB6E7B350B73 | B19: 유로폼 설치 및 해체 | C19: 벽, 0~7m까지 | D19: M2 | E19: =일위대가!F95 -> 3189 | F19: =일위대가!H95 -> 18455 | G19: =일위대가!J95 -> 0 | H19: =E19+F19+G19 -> 21644 | I19: 호표 16 | M19: 토목 6-3-5
A20: 5E6935D0984A9A179D4E77316F7E | B20: 화강석붙임(건식/앵커, 버너) | C20: 벽, 포천석 30mm, 0.3㎡이하 | D20: M2 | E20: =일위대가!F100 -> 36541 | F20: =일위대가!H100 -> 81371 | G20: =일위대가!J100 -> 0 | H20: =E20+F20+G20 -> 117912 | I20: 호표 17 | M20: 건축 9-1-2.1(2)
A21: 5E6935D0984A9A179D58B236D1D2 | B21: 화강석 두겁돌(습식,버너) | C21: 포천석300*100mm,몰탈30mm | D21: M | E21: =일위대가!F106 -> 56100 | F21: =일위대가!H106 -> 21928 | G21: =일위대가!J106 -> 0 | H21: =E21+F21+G21 -> 78028 | I21: 호표 18
A22: 5E6935D0984A9A179D00803384EB | B22: 화강석붙임(습식, 버너) | C22: 바닥,포천석50mm,몰탈50mm | D22: M2 | E22: =일위대가!F112 -> 69300 | F22: =일위대가!H112 -> 73096 | G22: =일위대가!J112 -> 0 | H22: =E22+F22+G22 -> 142396 | I22: 호표 19
A23: 5E6935D0984A9A179D00803FBF18 | B23: 화강석붙임(습식, 버너) | C23: 디딤판,포천석330*50mm,몰탈50mm | D23: M | E23: =일위대가!F118 -> 26334 | F23: =일위대가!H118 -> 24121 | G23: =일위대가!J118 -> 0 | H23: =E23+F23+G23 -> 50455 | I23: 호표 20
A24: 5E6935D0984A9A179D00923D65E8 | B24: 화강석붙임(습식, 버너) | C24: 챌판,포천석100*20mm,몰탈25mm | D24: M | E24: =일위대가!F124 -> 3190 | F24: =일위대가!H124 -> 9547 | G24: =일위대가!J124 -> 0 | H24: =E24+F24+G24 -> 12737 | I24: 호표 21
A25: 5E6935D0984A9A179D00923A9064 | B25: 화강석붙임(습식, 버너) | C25: 벽,포천석20mm,몰탈26mm | D25: M2 | E25: =일위대가!F131 -> 52577 | F25: =일위대가!H131 -> 95475 | G25: =일위대가!J131 -> 0 | H25: =E25+F25+G25 -> 148052 | I25: 호표 22
A26: 5E6935D0984A8817746CC832F2BD | B26: 수밀코킹(실리콘) | C26: 삼각, 10mm, 창호주위 | D26: M | E26: =일위대가!F136 -> 599 | F26: =일위대가!H136 -> 3473 | G26: =일위대가!J136 -> 0 | H26: =E26+F26+G26 -> 4072 | I26: 호표 23 | M26: 건축 12-12-1
A27: 5E6935D0984A9A17AFF67A31EFCC | B27: 부대철골가공조립 | C27: 중도리.띠장,캐노피 | D27: TON | E27: =일위대가!F140 -> 0 | F27: =일위대가!H140 -> 530984 | G27: =일위대가!J140 -> 0 | H27: =E27+F27+G27 -> 530984 | I27: 호표 24 | M27: 건축 7-4
A28: 5E6935D0984A881758340E32510B | B28: AL몰딩설(W형) | C28: 칼라, 15*15*15*15*1.0mm | D28: M | E28: =일위대가!F146 -> 2329 | F28: =일위대가!H146 -> 4931 | G28: =일위대가!J146 -> 0 | H28: =E28+F28+G28 -> 7260 | I28: 호표 25 | M28: 건축 14-8
A29: 5E6935D0984A8817586129337A85 | B29: 천장 점검구 설치 | C29: AL 백색, 450*450mm | D29: 개 | E29: =일위대가!F154 -> 10954 | F29: =일위대가!H154 -> 50165 | G29: =일위대가!J154 -> 0 | H29: =E29+F29+G29 -> 61119 | I29: 호표 26 | M29: 건축 14-10
A30: 5E6935D0984A8817589E983520E6 | B30: 스테인리스재료분리대 | C30: 바닥, W100*H20*1.5t | D30: M | E30: =일위대가!F164 -> 15218 | F30: =일위대가!H164 -> 23179 | G30: =일위대가!J164 -> 72 | H30: =E30+F30+G30 -> 38469 | I30: 호표 27
A31: 5E6935D0984A88173D21303FFAB7 | B31: 도아체크달기 | C31: 재료비 별도 | D31: 개소 | E31: =일위대가!F170 -> 0 | F31: =일위대가!H170 -> 10948 | G31: =일위대가!J170 -> 218 | H31: =E31+F31+G31 -> 11166 | I31: 호표 28 | M31: 건축 16-3
A32: 5E6935D0984A88173D210B3BBD1E | B32: 플로아힌지설치 | C32: 재료비 별도 | D32: 개소 | E32: =일위대가!F176 -> 0 | F32: =일위대가!H176 -> 16953 | G32: =일위대가!J176 -> 339 | H32: =E32+F32+G32 -> 17292 | I32: 호표 29 | M32: 건축 16-3
A33: 5E6935D0984A88173D216C3409EF | B33: 도아록설치 | C33: 강재문, 재료비 별도 | D33: 개소 | E33: =일위대가!F181 -> 0 | F33: =일위대가!H181 -> 1459 | G33: =일위대가!J181 -> 29 | H33: =E33+F33+G33 -> 1488 | I33: 호표 30 | M33: 건축 16-3
A34: 5E6935D0984A88173D27A236F9FE | B34: AD01[CAL FIX+여닫이문] | C34: 0.000 x 0.000 = 15.400 | D34: EA | E34: =일위대가!F188 -> 2986200 | F34: =일위대가!H188 -> 78125 | G34: =일위대가!J188 -> 1562 | H34: =E34+F34+G34 -> 3065887 | I34: 호표 31
A35: 5E6935D0984A88173D27A236F9FC | B35: SD01[철재여닫이문] | C35: 1.500 x 2.100 = 3.150 | D35: EA | E35: =일위대가!F195 -> 270577 | F35: =일위대가!H195 -> 140450 | G35: =일위대가!J195 -> 1599 | H35: =E35+F35+G35 -> 412626 | I35: 호표 32
A36: 5E6935D0984A88173D27A236F9FA | B36: SST01[SST PIPE전동셔터] | C36: 1.850 x 3.250 = 6.012 | D36: EA | E36: =일위대가!F202 -> 1551524 | F36: =일위대가!H202 -> 477050 | G36: =일위대가!J202 -> 9541 | H36: =E36+F36+G36 -> 2038115 | I36: 호표 33
A37: 5E6935D0984A88173D27A236F9F8 | B37: SST02[SST PIPE전동셔터] | C37: 3.200 x 3.250 = 10.400 | D37: EA | E37: =일위대가!F209 -> 2275200 | F37: =일위대가!H209 -> 572901 | G37: =일위대가!J209 -> 11458 | H37: =E37+F37+G37 -> 2859559 | I37: 호표 34
A38: 5E6935D0984A88173DB0F43A2737 | B38: 창문틀 주위 충전 | C38: 모르타르 충전 | D38: M | E38: =일위대가!F216 -> 0 | F38: =일위대가!H216 -> 2322 | G38: =일위대가!J216 -> 0 | H38: =E38+F38+G38 -> 2322 | I38: 호표 35 | M38: 건축 16-3-1
A39: 5E6935D0984A88172CDEF83AC25D | B39: 유리끼우기-복층유리,일반창호 | C39: 24mm(6+12A+6) | D39: M2 | E39: =일위대가!F220 -> 0 | F39: =일위대가!H220 -> 17009 | G39: =일위대가!J220 -> 0 | H39: =E39+F39+G39 -> 17009 | I39: 호표 36 | M39: 건축 16-5-2
A40: 5E6935D0984A88172C86CE3AD2F4 | B40: 복층유리주위코킹 | C40: 5*5, 실리콘 | D40: M | E40: =일위대가!F224 -> 299 | F40: =일위대가!H224 -> 0 | G40: =일위대가!J224 -> 0 | H40: =E40+F40+G40 -> 299 | I40: 호표 37 | M40: 건축 12-12-1
...

Sheet 추가지시분 일위대가
A1: [ 서귀포 중앙동우체국 임대공간 조성건축공사 ] | K1: [ 서귀포 중앙동우체국 임대공간 조성건축공사 ]
A2: 품 명 | B2: 규 격 | C2: 단위 | D2: 수량 | E2: 재 료 비 | G2: 노 무 비 | I2: 경 비 | K2: 합 계 | M2: 비 고 | N2: 일위대가 | O2: 품목코드 | P2: 일위 | Q2: 단산 | R2: 자재 | S2: 손료적용 | T2: 손료저장 | U2: 적용율 | V2: JUK1 | W2: JUK2 | X2: JUK3 | Y2: JUK4 | Z2: JUK5 | AA2: JUK6 | AB2: JUK7 | AC2: JUK8 | AD2: 할증적용 | AE2: 할증저장 | AF2: 할증율 | AG2: HAL1 | AH2: HAL2 | AI2: HAL3 | AJ2: 자재구분 | AK2: 일위대가+자재 | AL2: 금액제외
E3: 단 가 | F3: 금 액 | G3: 단 가 | H3: 금 액 | I3: 단 가 | J3: 금 액 | K3: 단 가 | L3: 금 액
A4: 선홈통-스텐레스파이프-설치 D50mm*1.5t M | N4: 5B59F33F247969B188BD3EEC326C
A5: 배관용 스테인리스 강관 | B5: SUS관, D50*1.5T | C5: M | D5: 1.05 | E5: 7350 | F5: 7717.5 | G5: 0 | H5: 0 | I5: 0 | J5: 0 | K5: 7350 | L5: 7717.5 | N5: 5B59F33F247969B188BD3EEC326C | O5: 5B4F53F92474E06D8827302B2250 | P5: F | Q5: F | R5: T | AK5: 5B59F33F247969B188BD3EEC326C5B4F53F92474E06D8827302B2250
A6: 일반철물 | B6: 선홈통지지철물, 스텐 | C6: 개 | D6: 0.65 | E6: 3300 | F6: 2145 | G6: 0 | H6: 0 | I6: 0 | J6: 0 | K6: 3300 | L6: 2145 | N6: 5B59F33F247969B188BD3EEC326C | O6: 5B59A3B02B781BBAC81345A4E2FC | P6: F | Q6: F | R6: T | AK6: 5B59F33F247969B188BD3EEC326C5B59A3B02B781BBAC81345A4E2FC
A7: 노무비 | B7: 배관공 | C7: 인 | D7: 0.18 | E7: 0 | F7: 0 | G7: 116622 | H7: 20991.9 | I7: 0 | J7: 0 | K7: 116622 | L7: 20991.9 | N7: 5B59F33F247969B188BD3EEC326C | O7: 5B59F33F247A0F14E89AFEB7A25F | P7: F | Q7: F | R7: T | AK7: 5B59F33F247969B188BD3EEC326C5B59F33F247A0F14E89AFEB7A25F
A8: [ 합 계 ] | F8: 9862 | H8: 20991 | J8: 0 | L8: 30853 | N8: TOTAL | O8: TOTAL
A9: 낙찰율적용 | B9: 87.783 % | F9: 8657.1595 | H9: 18426.53 | J9: 0 | L9: 27083.689
A10: 적용단가 | F10: 8657 | H10: 18427 | J10: 0 | L10: 27084
A12: 비닐무석면타일붙임(디럭스) 450*450*3.0mm(왁스유) M2
A13: 비닐타일 | B13: 뉴디럭스타일, 3*450*450 | C13: M2 | D13: 1.05 | E13: 5800 | F13: 6090 | H13: 0 | J13: 0 | K13: 5800 | L13: 6090
A14: 초산비닐계접착제 | B14: 비닐타일용 | C14: KG | D14: 0.275 | E14: 2610 | F14: 717.7 | H14: 0 | J14: 0 | K14: 2610 | L14: 717.7
A15: 광택제 | B15: 수성왁스 | C15: L | D15: 0.12 | E15: 0 | F15: 0 | H15: 0 | J15: 0 | K15: 0 | L15: 0
A16: 노무비 | B16: 내장공 | C16: 인 | D16: 0.06 | E16: 0 | F16: 0 | G16: 135112 | H16: 8106.7 | J16: 0 | K16: 135112 | L16: 8106.7
A17: 노무비 | B17: 보통인부 | C17: 인 | D17: 0.05 | E17: 0 | F17: 0 | G17: 87805 | H17: 4390.2 | J17: 0 | K17: 87805 | L17: 4390.2
A18: [ 합 계 ] | F18: 6807.7 | H18: 12496.9 | J18: 0 | L18: 19304.6
A19: 낙찰율적용 | B19: 87.783 % | F19: 5976.0033 | H19: 10970.154 | J19: 0 | L19: 16946.157
A20: 적용단가 | F20: 5976 | H20: 10970 | J20: 0 | L20: 16946
A22: 인테리어필름부착 유리면 M2
A23: 인테리어필름부착 | B23: 유리면 | C23: M2 | D23: 1.05 | E23: 20000 | F23: 21000 | H23: 0 | J23: 0 | K23: 20000 | L23: 21000
A24: [ 합 계 ] | F24: 21000 | H24: 0 | J24: 0 | L24: 21000
A25: 낙찰율적용 | B25: 87.783 % | F25: 18434.43 | H25: 0 | J25: 0 | L25: 18434.43
A26: 적용단가 | F26: 18434 | H26: 0 | J26: 0 | L26: 18434

Sheet 일위대가
A1: [ 서귀포 중앙동우체국 임대공간 조성건축공사 ] | K1: [ 서귀포 중앙동우체국 임대공간 조성건축공사 ]
A2: 품 명 | B2: 규 격 | C2: 단위 | D2: 수량 | E2: 재 료 비 | G2: 노 무 비 | I2: 경 비 | K2: 합 계 | M2: 비 고 | N2: 일위대가 | O2: 품목코드 | P2: 일위 | Q2: 단산 | R2: 자재 | S2: 손료적용 | T2: 손료저장 | U2: 적용율 | V2: JUK1 | W2: JUK2 | X2: JUK3 | Y2: JUK4 | Z2: JUK5 | AA2: JUK6 | AB2: JUK7 | AC2: JUK8 | AD2: 할증적용 | AE2: 할증저장 | AF2: 할증율 | AG2: HAL1 | AH2: HAL2 | AI2: HAL3 | AJ2: 자재구분 | AK2: 일위대가+자재 | AL2: 금액제외
E3: 단 가 | F3: 금 액 | G3: 단 가 | H3: 금 액 | I3: 단 가 | J3: 금 액 | K3: 단 가 | L3: 금 액
A4: 면적당규준틀 M2 토목 2-4-2.3 ( 호표 1 ) | N4: 5E6935D0984A9A17F7FF443DCA3F
A5: 각재(角材) | B5: 외송(㎥) | C5: M3 | D5: 0.0016 | E5: =단가대비표!O39 -> 449212.5 | F5: =TRUNC(E5*D5,1) -> 718.7 | G5: =단가대비표!P39 -> 0 | H5: =TRUNC(G5*D5,1) -> 0 | I5: =단가대비표!V39 -> 0 | J5: =TRUNC(I5*D5,1) -> 0 | K5: =TRUNC(E5+G5+I5,1) -> 449212.5 | L5: =TRUNC(F5+H5+J5,1) -> 718.7 | N5: 5E6935D0984A9A17F7FF443DCA3F | O5: 5E690504B34D40172EED4B3A6454 | P5: F | Q5: F | R5: T | AK5: 5E6935D0984A9A17F7FF443DCA3F5E690504B34D40172EED4B3A6454
A6: 노무비 | B6: 건축목공 | C6: 인 | D6: 0.018 | E6: =단가대비표!O90 -> 0 | F6: =TRUNC(E6*D6,1) -> 0 | G6: =단가대비표!P90 -> 139327 | H6: =TRUNC(G6*D6,1) -> 2507.8 | I6: =단가대비표!V90 -> 0 | J6: =TRUNC(I6*D6,1) -> 0 | K6: =TRUNC(E6+G6+I6,1) -> 139327 | L6: =TRUNC(F6+H6+J6,1) -> 2507.8 | N6: 5E6935D0984A9A17F7FF443DCA3F | O6: 5E6935D09B47D017C307B43C83C2 | P6: F | Q6: F | R6: T | AK6: 5E6935D0984A9A17F7FF443DCA3F5E6935D09B47D017C307B43C83C2
A7: 노무비 | B7: 보통인부 | C7: 인 | D7: 0.016 | E7: =단가대비표!O95 -> 0 | F7: =TRUNC(E7*D7,1) -> 0 | G7: =단가대비표!P95 -> 87805 | H7: =TRUNC(G7*D7,1) -> 1404.8 | I7: =단가대비표!V95 -> 0 | J7: =TRUNC(I7*D7,1) -> 0 | K7: =TRUNC(E7+G7+I7,1) -> 87805 | L7: =TRUNC(F7+H7+J7,1) -> 1404.8 | N7: 5E6935D0984A9A17F7FF443DCA3F | O7: 5E6935D09B47D017C307B43C87A3 | P7: F | Q7: F | R7: T | AK7: 5E6935D0984A9A17F7FF443DCA3F5E6935D09B47D017C307B43C87A3
A8: [ 합 계 ] | F8: =TRUNC(SUMIF(N5:N7,N4,F5:F7),0) -> 718 | H8: =TRUNC(SUMIF(N5:N7,N4,H5:H7),0) -> 3912 | J8: =TRUNC(SUMIF(N5:N7,N4,J5:J7),0) -> 0 | L8: =F8+H8+J8 -> 4630 | N8: TOTAL | O8: TOTAL
A10: 이동식강관말비계 1단(2m), 3개월 1대 토목 2-6-3, 5 ( 호표 2 ) | N10: 5E6935D0984A9A17F7DC48342078
A11: 강관틀 비계용 부재 | B11: 비계기본틀(기둥), 1.2*1.7m | C11: 개 | D11: 0.12 | E11: =단가대비표!O27 -> 25100 | F11: =TRUNC(E11*D11,1) -> 3012 | G11: =단가대비표!P27 -> 0 | H11: =TRUNC(G11*D11,1) -> 0 | I11: =단가대비표!V27 -> 0 | J11: =TRUNC(I11*D11,1) -> 0 | K11: =TRUNC(E11+G11+I11,1) -> 25100 | L11: =TRUNC(F11+H11+J11,1) -> 3012 | N11: 5E6935D0984A9A17F7DC48342078 | O11: 5E69152F38486D17965F6D3F08DC | P11: F | Q11: F | R11: T | AK11: 5E6935D0984A9A17F7DC483420785E69152F38486D17965F6D3F08DC
A12: 강관틀 비계용 부재 | B12: 가새, 1.2*1.9m | C12: 개 | D12: 0.12 | E12: =단가대비표!O28 -> 8000 | F12: =TRUNC(E12*D12,1) -> 960 | G12: =단가대비표!P28 -> 0 | H12: =TRUNC(G12*D12,1) -> 0 | I12: =단가대비표!V28 -> 0 | J12: =TRUNC(I12*D12,1) -> 0 | K12: =TRUNC(E12+G12+I12,1) -> 8000 | L12: =TRUNC(F12+H12+J12,1) -> 960 | N12: 5E6935D0984A9A17F7DC48342078 | O12: 5E69152F38486D17965F6D3F0A8A | P12: F | Q12: F | R12: T | AK12: 5E6935D0984A9A17F7DC483420785E69152F38486D17965F6D3F0A8A
A13: 강관틀 비계용 부재 | B13: 수평띠장, 1829mm | C13: 개 | D13: 0.24 | E13: =단가대비표!O29 -> 24000 | F13: =TRUNC(E13*D13,1) -> 5760 | G13: =단가대비표!P29 -> 0 | H13: =TRUNC(G13*D13,1) -> 0 | I13: =단가대비표!V29 -> 0 | J13: =TRUNC(I13*D13,1) -> 0 | K13: =TRUNC(E13+G13+I13,1) -> 24000 | L13: =TRUNC(F13+H13+J13,1) -> 5760 | N13: 5E6935D0984A9A17F7DC48342078 | O13: 5E69152F38486D17965F6D3F0D5E | P13: F | Q13: F | R13: T | AK13: 5E6935D0984A9A17F7DC483420785E69152F38486D17965F6D3F0D5E
A14: 강관틀 비계용 부재 | B14: 손잡이기둥 | C14: 개 | D14: 0.24 | E14: =단가대비표!O32 -> 20500 | F14: =TRUNC(E14*D14,1) -> 4920 | G14: =단가대비표!P32 -> 0 | H14: =TRUNC(G14*D14,1) -> 0 | I14: =단가대비표!V32 -> 0 | J14: =TRUNC(I14*D14,1) -> 0 | K14: =TRUNC(E14+G14+I14,1) -> 20500 | L14: =TRUNC(F14+H14+J14,1) -> 4920 | N14: 5E6935D0984A9A17F7DC48342078 | O14: 5E69152F38486D17965F6D3F0086 | P14: F | Q14: F | R14: T | AK14: 5E6935D0984A9A17F7DC483420785E69152F38486D17965F6D3F0086
A15: 강관틀 비계용 부재 | B15: 손잡이, 1229mm | C15: 개 | D15: 0.12 | E15: =단가대비표!O30 -> 15000 | F15: =TRUNC(E15*D15,1) -> 1800 | G15: =단가대비표!P30 -> 0 | H15: =TRUNC(G15*D15,1) -> 0 | I15: =단가대비표!V30 -> 0 | J15: =TRUNC(I15*D15,1) -> 0 | K15: =TRUNC(E15+G15+I15,1) -> 15000 | L15: =TRUNC(F15+H15+J15,1) -> 1800 | N15: 5E6935D0984A9A17F7DC48342078 | O15: 5E69152F38486D17965F6D3F0E67 | P15: F | Q15: F | R15: T | AK15: 5E6935D0984A9A17F7DC483420785E69152F38486D17965F6D3F0E67
A16: 강관틀 비계용 부재 | B16: 손잡이, 1829mm | C16: 개 | D16: 0.24 | E16: =단가대비표!O31 -> 20500 | F16: =TRUNC(E16*D16,1) -> 4920 | G16: =단가대비표!P31 -> 0 | H16: =TRUNC(G16*D16,1) -> 0 | I16: =단가대비표!V31 -> 0 | J16: =TRUNC(I16*D16,1) -> 0 | K16: =TRUNC(E16+G16+I16,1) -> 20500 | L16: =TRUNC(F16+H16+J16,1) -> 4920 | N16: 5E6935D0984A9A17F7DC48342078 | O16: 5E69152F38486D17965F6D3F0F0D | P16: F | Q16: F | R16: T | AK16: 5E6935D0984A9A17F7DC483420785E69152F38486D17965F6D3F0F0D
A17: 강관틀 비계용 부재 | B17: 바퀴 | C17: 개 | D17: 0.36 | E17: =단가대비표!O33 -> 10000 | F17: =TRUNC(E17*D17,1) -> 3600 | G17: =단가대비표!P33 -> 0 | H17: =TRUNC(G17*D17,1) -> 0 | I17: =단가대비표!V33 -> 0 | J17: =TRUNC(I17*D17,1) -> 0 | K17: =TRUNC(E17+G17+I17,1) -> 10000 | L17: =TRUNC(F17+H17+J17,1) -> 3600 | N17: 5E6935D0984A9A17F7DC48342078 | O17: 5E69152F38486D17965F6D3F01AF | P17: F | Q17: F | R17: T | AK17: 5E6935D0984A9A17F7DC483420785E69152F38486D17965F6D3F01AF
A18: 강관틀 비계용 부재 | B18: 쟈키 | C18: 개 | D18: 0.36 | E18: =단가대비표!O34 -> 9000 | F18: =TRUNC(E18*D18,1) -> 3240 | G18: =단가대비표!P34 -> 0 | H18: =TRUNC(G18*D18,1) -> 0 | I18: =단가대비표!V34 -> 0 | J18: =TRUNC(I18*D18,1) -> 0 | K18: =TRUNC(E18+G18+I18,1) -> 9000 | L18: =TRUNC(F18+H18+J18,1) -> 3240 | N18: 5E6935D0984A9A17F7DC48342078 | O18: 5E69152F38486D17965F6D3E6152 | P18: F | Q18: F | R18: T | AK18: 5E6935D0984A9A17F7DC483420785E69152F38486D17965F6D3E6152
A19: 판재(板材) | B19: 외송, 일반(㎥) | C19: M3 | D19: 0.0315 | E19: =단가대비표!O40 -> 553065.5 | F19: =TRUNC(E19*D19,1) -> 17421.5 | G19: =단가대비표!P40 -> 0 | H19: =TRUNC(G19*D19,1) -> 0 | I19: =단가대비표!V40 -> 0 | J19: =TRUNC(I19*D19,1) -> 0 | K19: =TRUNC(E19+G19+I19,1) -> 553065.5 | L19: =TRUNC(F19+H19+J19,1) -> 17421.5 | N19: 5E6935D0984A9A17F7DC48342078 | O19: 5E690504B34D40172EFFD732AB13 | P19: F | Q19: F | R19: T | AK19: 5E6935D0984A9A17F7DC483420785E690504B34D40172EFFD732AB13
A20: 노무비 | B20: 보통인부 | C20: 인 | D20: 0.6 | E20: =단가대비표!O95 -> 0 | F20: =TRUNC(E20*D20,1) -> 0 | G20: =단가대비표!P95 -> 87805 | H20: =TRUNC(G20*D20,1) -> 52683 | I20: =단가대비표!V95 -> 0 | J20: =TRUNC(I20*D20,1) -> 0 | K20: =TRUNC(E20+G20+I20,1) -> 87805 | L20: =TRUNC(F20+H20+J20,1) -> 52683 | N20: 5E6935D0984A9A17F7DC48342078 | O20: 5E6935D09B47D017C307B43C87A3 | P20: F | Q20: F | R20: T | AK20: 5E6935D0984A9A17F7DC483420785E6935D09B47D017C307B43C87A3
A21: [ 합 계 ] | F21: =TRUNC(SUMIF(N11:N20,N10,F11:F20),0) -> 45633 | H21: =TRUNC(SUMIF(N11:N20,N10,H11:H20),0) -> 52683 | J21: =TRUNC(SUMIF(N11:N20,N10,J11:J20),0) -> 0 | L21: =F21+H21+J21 -> 98316 | N21: TOTAL | O21: TOTAL
A23: CONC보양 살수 M2 토목 2-9 ( 호표 3 ) | N23: 5E6935D0984A9A17F7B1933E3015
A24: 노무비 | B24: 보통인부 | C24: 인 | D24: 0.004 | E24: =단가대비표!O95 -> 0 | F24: =TRUNC(E24*D24,1) -> 0 | G24: =단가대비표!P95 -> 87805 | H24: =TRUNC(G24*D24,1) -> 351.2 | I24: =단가대비표!V95 -> 0 | J24: =TRUNC(I24*D24,1) -> 0 | K24: =TRUNC(E24+G24+I24,1) -> 87805 | L24: =TRUNC(F24+H24+J24,1) -> 351.2 | N24: 5E6935D0984A9A17F7B1933E3015 | O24: 5E6935D09B47D017C307B43C87A3 | P24: F | Q24: F | R24: T | AK24: 5E6935D0984A9A17F7B1933E30155E6935D09B47D017C307B43C87A3
A25: [ 합 계 ] | F25: =TRUNC(SUMIF(N24:N24,N23,F24:F24),0) -> 0 | H25: =TRUNC(SUMIF(N24:N24,N23,H24:H24),0) -> 351 | J25: =TRUNC(SUMIF(N24:N24,N23,J24:J24),0) -> 0 | L25: =F25+H25+J25 -> 351 | N25: TOTAL | O25: TOTAL
A27: 건축물보양-석재면,테라조면 하드롱지 M2 토목 2-9 ( 호표 4 ) | N27: 5E6935D0984A9A17F7B1933E313B
A28: 공통자재 | B28: 하드롱지 | C28: M2 | D28: 1.2 | E28: =단가대비표!O54 -> 280 | F28: =TRUNC(E28*D28,1) -> 336 | G28: =단가대비표!P54 -> 0 | H28: =TRUNC(G28*D28,1) -> 0 | I28: =단가대비표!V54 -> 0 | J28: =TRUNC(I28*D28,1) -> 0 | K28: =TRUNC(E28+G28+I28,1) -> 280 | L28: =TRUNC(F28+H28+J28,1) -> 336 | N28: 5E6935D0984A9A17F7B1933E313B | O28: 5E6935D8D143FB1734A05F3A85A9 | P28: F | Q28: F | R28: T | AK28: 5E6935D0984A9A17F7B1933E313B5E6935D8D143FB1734A05F3A85A9
A29: 합성풀 | B29: 건설용합성풀 | C29: kg | D29: 0.06 | E29: =단가대비표!O120 -> 710 | F29: =TRUNC(E29*D29,1) -> 42.6 | G29: =단가대비표!P120 -> 0 | H29: =TRUNC(G29*D29,1) -> 0 | I29: =단가대비표!V120 -> 0 | J29: =TRUNC(I29*D29,1) -> 0 | K29: =TRUNC(E29+G29+I29,1) -> 710 | L29: =TRUNC(F29+H29+J29,1) -> 42.6 | N29: 5E6935D0984A9A17F7B1933E313B | O29: 5EB175C5AF4F3A17B96BE03182C1 | P29: F | Q29: F | R29: T | AK29: 5E6935D0984A9A17F7B1933E313B5EB175C5AF4F3A17B96BE03182C1
A30: 노무비 | B30: 보통인부 | C30: 인 | D30: 0.01 | E30: =단가대비표!O95 -> 0 | F30: =TRUNC(E30*D30,1) -> 0 | G30: =단가대비표!P95 -> 87805 | H30: =TRUNC(G30*D30,1) -> 878 | I30: =단가대비표!V95 -> 0 | J30: =TRUNC(I30*D30,1) -> 0 | K30: =TRUNC(E30+G30+I30,1) -> 87805 | L30: =TRUNC(F30+H30+J30,1) -> 878 | N30: 5E6935D0984A9A17F7B1933E313B | O30: 5E6935D09B47D017C307B43C87A3 | P30: F | Q30: F | R30: T | AK30: 5E6935D0984A9A17F7B1933E313B5E6935D09B47D017C307B43C87A3
A31: [ 합 계 ] | F31: =TRUNC(SUMIF(N28:N30,N27,F28:F30),0) -> 378 | H31: =TRUNC(SUMIF(N28:N30,N27,H28:H30),0) -> 878 | J31: =TRUNC(SUMIF(N28:N30,N27,J28:J30),0) -> 0 | L31: =F31+H31+J31 -> 1256 | N31: TOTAL | O31: TOTAL
A33: 건축물현장정리 철근CON'C조 M2 토목 2-10 ( 호표 5 ) | N33: 5E6935D0984A9A17F7B181372BCD
A34: 노무비 | B34: 보통인부 | C34: 인 | D34: 0.15 | E34: =단가대비표!O95 -> 0 | F34: =TRUNC(E34*D34,1) -> 0 | G34: =단가대비표!P95 -> 87805 | H34: =TRUNC(G34*D34,1) -> 13170.7 | I34: =단가대비표!V95 -> 0 | J34: =TRUNC(I34*D34,1) -> 0 | K34: =TRUNC(E34+G34+I34,1) -> 87805 | L34: =TRUNC(F34+H34+J34,1) -> 13170.7 | N34: 5E6935D0984A9A17F7B181372BCD | O34: 5E6935D09B47D017C307B43C87A3 | P34: F | Q34: F | R34: T | AK34: 5E6935D0984A9A17F7B181372BCD5E6935D09B47D017C307B43C87A3
A35: [ 합 계 ] | F35: =TRUNC(SUMIF(N34:N34,N33,F34:F34),0) -> 0 | H35: =TRUNC(SUMIF(N34:N34,N33,H34:H34),0) -> 13170 | J35: =TRUNC(SUMIF(N34:N34,N33,J34:J34),0) -> 0 | L35: =F35+H35+J35 -> 13170 | N35: TOTAL | O35: TOTAL
A37: 건축물현장정리 개보수,리모델링 M2 ( 호표 6 ) | N37: 5E6935D0984A9A17F7B181372E80
A38: 노무비 | B38: 보통인부 | C38: 인 | D38: 0.035 | E38: =단가대비표!O95 -> 0 | F38: =TRUNC(E38*D38,1) -> 0 | G38: =단가대비표!P95 -> 87805 | H38: =TRUNC(G38*D38,1) -> 3073.1 | I38: =단가대비표!V95 -> 0 | J38: =TRUNC(I38*D38,1) -> 0 | K38: =TRUNC(E38+G38+I38,1) -> 87805 | L38: =TRUNC(F38+H38+J38,1) -> 3073.1 | N38: 5E6935D0984A9A17F7B181372E80 | O38: 5E6935D09B47D017C307B43C87A3 | P38: F | Q38: F | R38: T | AK38: 5E6935D0984A9A17F7B181372E805E6935D09B47D017C307B43C87A3
A39: [ 합 계 ] | F39: =TRUNC(SUMIF(N38:N38,N37,F38:F38),0) -> 0 | H39: =TRUNC(SUMIF(N38:N38,N37,H38:H38),0) -> 3073 | J39: =TRUNC(SUMIF(N38:N38,N37,J38:J38),0) -> 0 | L39: =F39+H39+J39 -> 3073 | N39: TOTAL | O39: TOTAL
A41: 거푸집 먹매김 일반 M2 건축 11-1 ( 호표 7 ) | N41: 5E6935D0984A9A17F784553D66FA
A42: 노무비 | B42: 건축목공 | C42: 인 | D42: 0.012 | E42: =단가대비표!O90 -> 0 | F42: =TRUNC(E42*D42,1) -> 0 | G42: =단가대비표!P90 -> 139327 | H42: =TRUNC(G42*D42,1) -> 1671.9 | I42: =단가대비표!V90 -> 0 | J42: =TRUNC(I42*D42,1) -> 0 | K42: =TRUNC(E42+G42+I42,1) -> 139327 | L42: =TRUNC(F42+H42+J42,1) -> 1671.9 | N42: 5E6935D0984A9A17F784553D66FA | O42: 5E6935D09B47D017C307B43C83C2 | P42: F | Q42: F | R42: T | AK42: 5E6935D0984A9A17F784553D66FA5E6935D09B47D017C307B43C83C2
A43: [ 합 계 ] | F43: =TRUNC(SUMIF(N42:N42,N41,F42:F42),0) -> 0 | H43: =TRUNC(SUMIF(N42:N42,N41,H42:H42),0) -> 1671 | J43: =TRUNC(SUMIF(N42:N42,N41,J42:J42),0) -> 0 | L43: =F43+H43+J43 -> 1671 | N43: TOTAL | O43: TOTAL
A45: 가설칸막이설치(공사완료후철거) 벽체띠장45*45@600*600,합판2.7mm M2 ( 호표 8 ) | N45: 5E6935D0984A9A17F7B1933FDB38
A46: 각재(角材) | B46: 외송(㎥) | C46: M3 | D46: 0.0071 | E46: =단가대비표!O39 -> 449212.5 | F46: =TRUNC(E46*D46,1) -> 3189.4 | G46: =단가대비표!P39 -> 0 | H46: =TRUNC(G46*D46,1) -> 0 | I46: =단가대비표!V39 -> 0 | J46: =TRUNC(I46*D46,1) -> 0 | K46: =TRUNC(E46+G46+I46,1) -> 449212.5 | L46: =TRUNC(F46+H46+J46,1) -> 3189.4 | N46: 5E6935D0984A9A17F7B1933FDB38 | O46: 5E690504B34D40172EED4B3A6454 | P46: F | Q46: F | R46: T | AK46: 5E6935D0984A9A17F7B1933FDB385E690504B34D40172EED4B3A6454
A47: 보통합판 | B47: 1급, 2.7*1220*2440mm(㎡) | C47: M2 | D47: 1.03 | E47: =단가대비표!O44 -> 3056.97 | F47: =TRUNC(E47*D47,1) -> 3148.6 | G47: =단가대비표!P44 -> 0 | H47: =TRUNC(G47*D47,1) -> 0 | I47: =단가대비표!V44 -> 0 | J47: =TRUNC(I47*D47,1) -> 0 | K47: =TRUNC(E47+G47+I47,1) -> 3056.9 | L47: =TRUNC(F47+H47+J47,1) -> 3148.6 | N47: 5E6935D0984A9A17F7B1933FDB38 | O47: 5E6905066144F317C771183AD1DC | P47: F | Q47: F | R47: T | AK47: 5E6935D0984A9A17F7B1933FDB385E6905066144F317C771183AD1DC
...

Sheet 중기단가목록
A1: 중 기 단 가 목 록
A2: [ 서귀포 중앙동우체국 임대공간 조성건축공사 ]
A3: 코 드 | B3: 품 명 | C3: 규 격 | D3: 단위 | E3: 재 료 비 | F3: 노 무 비 | G3: 경 비 | H3: 합 계 | I3: 번 호 | J3: 비 고 | K3: START
A4: 5E6935D092403517B6D680350A03 | B4: 메우고다지기토사T=15CM(보통) | C4: 백호0.7M3*래머80kg | D4: M3 | E4: 455 | F4: 4516 | G4: 331 | H4: 5302 | I4: 산근 1 | K4: 5E6935D092403517B6D680350A03
A5: 5E6935D092403517B6D680350A07 | B5: 성토-현장토사유용 | C5: 백호0.7M3*래머80kg | D5: M3 | E5: 455 | F5: 4516 | G5: 331 | H5: 5302 | I5: 산근 2 | K5: 5E6935D092403517B6D680350A07
A6: 5E6935D092403517B6C478338779 | B6: 토사처리 단지외10KM(보통) | C6: 담프15톤 + 백호0.7(고르기별도) | D6: M3 | E6: 2473 | F6: 2375 | G6: 1623 | H6: 6471 | I6: 산근 3 | K6: 5E6935D092403517B6C478338779
A7: 5E6935D092403517B6F15D301FB3 | B7: 터파기 토사(보통) | C7: 백호 0.7M3 90%+인력10% | D7: M3 | E7: 264 | F7: 2149 | G7: 300 | H7: 2713 | I7: 산근 4 | K7: 5E6935D092403517B6F15D301FB3

Sheet 중기단가산출서
A1: 중 기 단 가 산 출 서
A2: [ 서귀포 중앙동우체국 임대공간 조성건축공사 ]
A3: 산 출 내 역 | B3: 재 료 비 | C3: 노 무 비 | D3: 경 비 | E3: 합 계 | F3: 비 고 | G3: START | H3: 코드 | I3: 품명 | J3: 규격 | K3: 단위 | L3: 수량
A4: 메우고다지기토사T=15CM(보통) 백호0.7M3*래머80kg M3 토목 11-3,11 ( 산근 1 ) | G4: 5E6935D092403517B6D680350A03 | I4: 메우고다지기토사T=15CM(보통) | J4: 백호0.7M3*래머80kg | K4: M3
G5: 5E6935D092403517B6D680350A03 | H5: C | L5: 1
A6: 1.굴삭기(유압식백호우0.7M3) M3 | B6: 0 | C6: 0 | D6: 0 | E6: 0 | G6: 5E6935D092403517B6D680350A03 | H6: C! | I6: '1.굴삭기(유압식백호우0.7M3) M3 '
A7: Q 바켓용량(M3) = 0.7 | B7: 0 | C7: 0 | D7: 0 | E7: 0 | G7: 5E6935D092403517B6D680350A03 | H7: C! | I7: q '바켓용량(M3)'= 0.7
A8: k 바켓계수 = 1.1 | B8: 0 | C8: 0 | D8: 0 | E8: 0 | G8: 5E6935D092403517B6D680350A03 | H8: C! | I8: k '바켓계수'= 1.1
A9: L1 흐트러진상태 =1.25 | B9: 0 | C9: 0 | D9: 0 | E9: 0 | G9: 5E6935D092403517B6D680350A03 | H9: C! | I9: L1 '흐트러진상태' =1.25
A10: C 다져진상태 =0.9 | B10: 0 | C10: 0 | D10: 0 | E10: 0 | G10: 5E6935D092403517B6D680350A03 | H10: C! | I10: C '다져진상태'=0.9
A11: F 토량환산계(C/L) =C/L1= 0.72 | B11: 0 | C11: 0 | D11: 0 | E11: 0 | G11: 5E6935D092403517B6D680350A03 | H11: C! | I11: f '토량환산계(C/L)'=C/L1=?
A12: E 작업효율(양호0.9,보통0.75,불량0.6) = 0.75 | B12: 0 | C12: 0 | D12: 0 | E12: 0 | G12: 5E6935D092403517B6D680350A03 | H12: C! | I12: E '작업효율(양호0.9,보통0.75,불량0.6)'= 0.75
A13: CM 1회 싸이클시간(90˚SEC) =18 | B13: 0 | C13: 0 | D13: 0 | E13: 0 | G13: 5E6935D092403517B6D680350A03 | H13: C! | I13: Cm '1회 싸이클시간(90˚sec)'=18
A14: Q 시간당 작업량 (M3/HR) = 3600*Q*K*F*E/CM= 83.16 | B14: 0 | C14: 0 | D14: 0 | E14: 0 | G14: 5E6935D092403517B6D680350A03 | H14: C! | I14: Q '시간당 작업량 (M3/Hr)'= 3600*q*k*f*E/Cm=?
A15: 재료비: 17303 / 83.16 = 208 | B15: 208 | C15: 0 | D15: 0 | E15: 208 | G15: 5E6935D092403517B6D680350A03 | H15: C! | I15: '재료비:' ~56921010210.M~ / {Q} =?MA+
A16: 노무비: 25758 / 83.16 = 309.7 | B16: 0 | C16: 309.7 | D16: 0 | E16: 309.7 | G16: 5E6935D092403517B6D680350A03 | H16: C! | I16: '노무비:' ~56921010210.L~ / {Q} =?LA+
A17: 경 비: 19708 / 83.16 = 236.9 | B17: 0 | C17: 0 | D17: 236.9 | E17: 236.9 | G17: 5E6935D092403517B6D680350A03 | H17: C! | I17: '경 비:' ~56921010210.E~ / {Q} =?EQ+
... A31: 합 계 | B31: 455.8 | C31: 4516.2 | D31: 331 | E31: 5303 | G31: 5E6935D092403517B6D680350A03 | H31: C! | I31: >>'합 계'
A32: 총 계 | B32: 455 | C32: 4516 | D32: 331 | E32: 5302
A34: 성토-현장토사유용 백호0.7M3*래머80kg M3 토목 11-3,11 ( 산근 2 ) | G34: 5E6935D092403517B6D680350A07 | I34: 성토-현장토사유용 | J34: 백호0.7M3*래머80kg | K34: M3
G35: 5E6935D092403517B6D680350A07 | H35: C | L35: 1
A36: 1.굴삭기(유압식백호우0.7M3) M3 | B36: 0 | C36: 0 | D36: 0 | E36: 0 | G36: 5E6935D092403517B6D680350A07 | H36: C! | I36: '1.굴삭기(유압식백호우0.7M3) M3 '
A37: Q 바켓용량(M3) = 0.7 | B37: 0 | C37: 0 | D37: 0 | E37: 0 | G37: 5E6935D092403517B6D680350A07 | H37: C! | I37: q '바켓용량(M3)'= 0.7
A38: k 바켓계수 = 1.1 | B38: 0 | C38: 0 | D38: 0 | E38: 0 | G38: 5E6935D092403517B6D680350A07 | H38: C! | I38: k '바켓계수'= 1.1
A39: L1 흐트러진상태 =1.25 | B39: 0 | C39: 0 | D39: 0 | E39: 0 | G39: 5E6935D092403517B6D680350A07 | H39: C! | I39: L1 '흐트러진상태' =1.25
A40: C 다져진상태 =0.9 | B40: 0 | C40: 0 | D40: 0 | E40: 0 | G40: 5E6935D092403517B6D680350A07 | H40: C! | I40: C '다져진상태'=0.9
A41: F 토량환산계(C/L) =C/L1= 0.72 | B41: 0 | C41: 0 | D41: 0 | E41: 0 | G41: 5E6935D092403517B6D680350A07 | H41: C! | I41: f '토량환산계(C/L)'=C/L1=?
A42: E 작업효율(양호0.9,보통0.75,불량0.6) = 0.75 | B42: 0 | C42: 0 | D42: 0 | E42: 0 | G42: 5E6935D092403517B6D680350A07 | H42: C! | I42: E '작업효율(양호0.9,보통0.75,불량0.6)'= 0.75
A43: CM 1회 싸이클시간(90˚SEC) =18 | B43: 0 | C43: 0 | D43: 0 | E43: 0 | G43: 5E6935D092403517B6D680350A07 | H43: C! | I43: Cm '1회 싸이클시간(90˚sec)'=18
A44: Q 시간당 작업량 (M3/HR) = 3600*Q*K*F*E/CM= 83.16 | B44: 0 | C44: 0 | D44: 0 | E44: 0 | G44: 5E6935D092403517B6D680350A07 | H44: C! | I44: Q '시간당 작업량 (M3/Hr)'= 3600*q*k*f*E/Cm=?
A45: 재료비: 17303 / 83.16 = 208 | B45: 208 | C45: 0 | D45: 0 | E45: 208 | G45: 5E6935D092403517B6D680350A07 | H45: C! | I45: '재료비:' ~56921010210.M~ / {Q} =?MA+
A46: 노무비: 25758 / 83.16 = 309.7 | B46: 0 | C46: 309.7 | D46: 0 | E46: 309.7 | G46: 5E6935D092403517B6D680350A07 | H46: C! | I46: '노무비:' ~56921010210.L~ / {Q} =?LA+
A47: 경 비: 19708 / 83.16 = 236.9 | B47: 0 | C47: 0 | D47: 236.9 | E47: 236.9 | G47: 5E6935D092403517B6D680350A07 | H47: C! | I47: '경 비:' ~56921010210.E~ / {Q} =?EQ+
... A61: 합 계 | B61: 455.8 | C61: 4516.2 | D61: 331 | E61: 5303 | G61: 5E6935D092403517B6D680350A07 | H61: C! | I61: >>'합 계'
A62: 총 계 | B62: 455 | C62: 4516 | D62: 331 | E62: 5302
A64: 토사처리 단지외10KM(보통) 담프15톤 + 백호0.7(고르기별도) M3 토목 11-8 ( 산근 3 ) | G64: 5E6935D092403517B6C478338779 | I64: 토사처리 단지외10KM(보통) | J64: 담프15톤 + 백호0.7(고르기별도) | K64: M3
G65: 5E6935D092403517B6C478338779 | H65: C | K65: M3 | L65: 1
A66: 운반거리 L=10KM 담프15톤, M3 | B66: 0 | C66: 0 | D66: 0 | E66: 0 | G66: 5E6935D092403517B6C478338779 | H66: C! | I66: '운반거리 L=10KM 담프15톤, M3'
A67: 차량속도= 15KM/V1,20KM/V2,35KM/V3,35KM/V4,15KM/V5,20KM/V6 | B67: 0 | C67: 0 | D67: 0 | E67: 0 | G67: 5E6935D092403517B6C478338779 | H67: C! | I67: '차량속도= 15KM/V1,20KM/V2,35KM/V3,35KM/V4,15KM/V5,20KM/V6 '
A68: ○------------------0------------0----------------○10KM | B68: 0 | C68: 0 | D68: 0 | E68: 0 | G68: 5E6935D092403517B6C478338779 | H68: C! | I68: ' ○------------------0------------0----------------○10KM '
...

Sheet 단가대비표
A1: 단 가 대 비 표
A2: [ 서귀포 중앙동우체국 임대공간 조성건축공사 ] | K2: [ 서귀포 중앙동우체국 임대공간 조성건축공사 ] | U2: [ 서귀포 중앙동우체국 임대공간 조성건축공사 ]
A3: 코 드 | B3: 품 명 | C3: 규격 | D3: 단위 | E3: 재 료 비 | P3: 노 무 비 | Q3: 경 비 | W3: 번 호 | X3: 비 고 | Y3: 품목구분 | Z3: 노임구분 | AA3: 자재구분
E4: 가격정보 | F4: PAGE | G4: 거래가격 | H4: PAGE | I4: 유통물가 | J4: PAGE | K4: 물가자료 | L4: PAGE | M4: 정보/조사 | N4: PAGE | O4: 적용단가 | Q4: 가격정보 | R4: 거래가격 | S4: 유통물가 | T4: 물가자료 | U4: 정보/조사 | V4: 적용단가
A5: 5E11053BF0480E1743F9B5311230 | B5: 덤프트럭 | C5: 15톤 | D5: 대 | E5: 0 | G5: 0 | I5: 0 | K5: 0 | M5: 0 | O5: 0 | P5: 0 | Q5: 0 | R5: 0 | S5: 0 | T5: 0 | U5: 78101 | V5: =SMALL(Q5:U5,COUNTIF(Q5:U5,0)+1) -> 78101 | W5: 자재 1 | X5: 천원
A6: 5E11053BF0480E1743F9B5300CEB | B6: 덤프트럭 자동덮개시설 | C6: 15톤 | D6: 대 | E6: 0 | G6: 0 | I6: 0 | K6: 0 | M6: 0 | O6: 0 | P6: 0 | Q6: 0 | R6: 0 | S6: 0 | T6: 0 | U6: 1250 | V6: =SMALL(Q6:U6,COUNTIF(Q6:U6,0)+1) -> 1250 | W6: 자재 2 | X6: 천원
A7: 5E008523374FDB17149F7D390D9C | B7: 용접기(교류) | C7: 500AMP | D7: 대 | E7: 0 | G7: 0 | I7: 0 | K7: 0 | M7: 0 | O7: 0 | P7: 0 | Q7: 0 | R7: 0 | S7: 0 | T7: 0 | U7: 544 | V7: =SMALL(Q7:U7,COUNTIF(Q7:U7,0)+1) -> 544 | W7: 자재 3 | X7: 천원
A8: 5E0085233F433B175859A637372E | B8: 연강용피복아크용접봉 | C8: Φ3.2mm, CR-13 | D8: kg | E8: 0 | G8: 2400 | H8: 1198 | I8: 2400 | J8: 1180 | K8: 0 | M8: 0 | O8: =SMALL(E8:M8,COUNTIF(E8:M8,0)+1) -> 2400 | P8: 0 | Q8: 0 | R8: 0 | S8: 0 | T8: 0 | U8: 0 | V8: 0 | W8: 자재 4
A9: 5E0085233F433B1758DD48334365 | B9: 스테인리스강용피복아크용접봉 | C9: Φ3.2mm, AWSE308 | D9: kg | E9: 0 | G9: 8880 | H9: 1198 | I9: 0 | K9: 0 | M9: 0 | O9: =SMALL(E9:M9,COUNTIF(E9:M9,0)+1) -> 8880 | P9: 0 | Q9: 0 | R9: 0 | S9: 0 | T9: 0 | U9: 0 | V9: 0 | W9: 자재 5
A10: 5E00454597429E1792AA20307267 | B10: 굴삭기(무한궤도) | C10: 0.2M3 | D10: 대 | E10: 0 | G10: 0 | I10: 0 | K10: 0 | M10: 0 | O10: 0 | P10: 0 | Q10: 0 | R10: 0 | S10: 0 | T10: 0 | U10: 55208 | V10: =SMALL(Q10:U10,COUNTIF(Q10:U10,0)+1) -> 55208 | W10: 자재 6 | X10: 천원
A11: 5E00454597429E1792AA20307263 | B11: 굴삭기(무한궤도) | C11: 0.7M3 | D11: 대 | E11: 0 | G11: 0 | I11: 0 | K11: 0 | M11: 0 | O11: 0 | P11: 0 | Q11: 0 | R11: 0 | S11: 0 | T11: 0 | U11: 96703 | V11: =SMALL(Q11:U11,COUNTIF(Q11:U11,0)+1) -> 96703 | W11: 자재 7 | X11: 천원
A12: 5E0045475F414517716C5932A9D4 | B12: 페이브먼트 브레이커 | C12: 25.0kg(55#) | D12: 대 | E12: 0 | G12: 0 | I12: 0 | K12: 0 | M12: 0 | O12: 0 | P12: 0 | Q12: 0 | R12: 0 | S12: 0 | T12: 0 | U12: 1564 | V12: =SMALL(Q12:U12,COUNTIF(Q12:U12,0)+1) -> 1564 | W12: 자재 8 | X12: 천원
A13: 5E00454CC44CA717425903327DF7 | B13: 진동 롤러(핸드가이드식) | C13: 0.7톤 | D13: 대 | E13: 0 | G13: 0 | I13: 0 | K13: 0 | M13: 0 | O13: 0 | P13: 0 | Q13: 0 | R13: 0 | S13: 0 | T13: 0 | U13: 5670 | V13: =SMALL(Q13:U13,COUNTIF(Q13:U13,0)+1) -> 5670 | W13: 자재 9 | X13: 천원
A14: 5E00454CC44CA717C7A6FC3AFDBC | B14: 공기압축기(이동식) | C14: 3.5M3/min | D14: 대 | E14: 0 | G14: 0 | I14: 0 | K14: 0 | M14: 0 | O14: 0 | P14: 0 | Q14: 0 | R14: 0 | S14: 0 | T14: 0 | U14: 12426 | V14: =SMALL(Q14:U14,COUNTIF(Q14:U14,0)+1) -> 12426 | W14: 자재 10 | X14: 천원
A15: 5E00454CC44CA717C7FED6391CC8 | B15: 콘크리트펌프차 | C15: 36M, [80~95](㎥/hr) | D15: 대 | E15: 0 | G15: 0 | I15: 0 | K15: 0 | M15: 0 | O15: 0 | P15: 0 | Q15: 0 | R15: 0 | S15: 0 | T15: 0 | U15: 279460 | V15: =SMALL(Q15:U15,COUNTIF(Q15:U15,0)+1) -> 279460 | W15: 자재 11 | X15: 천원
A16: 5E00454CC44CB117A822A332C8DA | B16: 래머 | C16: 80kg | D16: 대 | E16: 0 | G16: 0 | I16: 0 | K16: 0 | M16: 0 | O16: 0 | P16: 0 | Q16: 0 | R16: 0 | S16: 0 | T16: 0 | U16: 1134 | V16: =SMALL(Q16:U16,COUNTIF(Q16:U16,0)+1) -> 1134 | W16: 자재 12 | X16: 천원
A17: 5E7BB5881E46C517DDAFD13B487A | B17: 기계구조용스테인리스강관 | C17: STS304 100*100*2.0mm | D17: M | E17: 0 | G17: 0 | H17: 63 | I17: 0 | J17: 36 | K17: 0 | M17: 42290 | N17: 98 | O17: =SMALL(E17:M17,COUNTIF(E17:M17,0)+1) -> 42290 | P17: 0 | Q17: 0 | R17: 0 | S17: 0 | T17: 0 | U17: 0 | V17: 0 | W17: 자재 13
A18: 5E7BB5881E46C517DDAFD139962B | B18: 기계구조용스테인리스강관 | C18: STS304 50*100*2.0mm | D18: M | E18: 0 | G18: 0 | H18: 63 | I18: 0 | J18: 36 | K18: 0 | M18: 31420 | N18: 98 | O18: =SMALL(E18:M18,COUNTIF(E18:M18,0)+1) -> 31420 | P18: 0 | Q18: 0 | R18: 0 | S18: 0 | T18: 0 | U18: 0 | V18: 0 | W18: 자재 14
A19: 5E6965AC4A4CDB173DD44833F73E | B19: 못 | C19: 일반못 N50 | D19: kg | E19: 0 | G19: 1162.8 | H19: 75 | I19: 1012.5 | J19: 40 | K19: 0 | M19: 1341 | N19: 106 | O19: =SMALL(E19:M19,COUNTIF(E19:M19,0)+1) -> 1012.5 | P19: 0 | Q19: 0 | R19: 0 | S19: 0 | T19: 0 | U19: 0 | V19: 0 | W19: 자재 15
A20: 5E6965AC4A4CDB173DD44833F73A | B20: 못 | C20: 일반못 N65 | D20: kg | E20: 0 | G20: 1162.8 | H20: 75 | I20: 1012.5 | J20: 40 | K20: 0 | M20: 0 | O20: =SMALL(E20:M20,COUNTIF(E20:M20,0)+1) -> 1012.5 | P20: 0 | Q20: 0 | R20: 0 | S20: 0 | T20: 0 | U20: 0 | V20: 0 | W20: 자재 16
A21: 5E6965AC4A4CDB173DD44833F0F1 | B21: 못 | C21: 일반못 N75 | D21: kg | E21: 0 | G21: 1150.8 | H21: 75 | I21: 1000 | J21: 40 | K21: 0 | M21: 1225 | N21: 106 | O21: =SMALL(E21:M21,COUNTIF(E21:M21,0)+1) -> 1000 | P21: 0 | Q21: 0 | R21: 0 | S21: 0 | T21: 0 | U21: 0 | V21: 0 | W21: 자재 17
A22: 5E6965A9FB470217C01AD63EF45F | B22: 도어클로우저 | C22: KS5호,고급형,80∼120kg(K-850) | D22: 조 | E22: 0 | G22: 75000 | H22: 567 | I22: 82000 | J22: 458 | K22: 82000 | L22: 607 | M22: 82000 | N22: 325 | O22: =SMALL(E22:M22,COUNTIF(E22:M22,0)+1) -> 75000 | P22: 0 | Q22: 0 | R22: 0 | S22: 0 | T22: 0 | U22: 0 | V22: 0 | W22: 자재 18
A23: 5E6965A8D540DC17D840AD3E38E3 | B23: 연마지 | C23: 연마지, #120~180, 230*280 | D23: 매 | E23: 0 | G23: 230 | H23: 1209 | I23: 275 | J23: 1216 | K23: 230 | L23: 1418 | M23: 275 | N23: 1-662 | O23: =SMALL(E23:M23,COUNTIF(E23:M23,0)+1) -> 230 | P23: 0 | Q23: 0 | R23: 0 | S23: 0 | T23: 0 | U23: 0 | V23: 0 | W23: 자재 19
A24: 5E69152F38486D17C33C06323079 | B24: 강관비계 | C24: 비계파이프, 48.6*2.3mm | D24: M | E24: 0 | G24: 3500 | H24: 123 | I24: 3233.33 | J24: 77 | K24: 2833.33 | L24: 145 | M24: 3233.33 | N24: 164 | O24: =SMALL(E24:M24,COUNTIF(E24:M24,0)+1) -> 2833.33 | P24: 0 | Q24: 0 | R24: 0 | S24: 0 | T24: 0 | U24: 0 | V24: 0 | W24: 자재 20
A25: 5E69152F38486D17DD96D93667AC | B25: 금속제 거푸집(유로폼) | C25: 600*1200*63.5mm | D25: 매 | E25: 0 | G25: 25700 | H25: 123 | I25: 27300 | J25: 78 | K25: 25500 | L25: 146 | M25: 27300 | N25: 164 | O25: =SMALL(E25:M25,COUNTIF(E25:M25,0)+1) -> 25500 | P25: 0 | Q25: 0 | R25: 0 | S25: 0 | T25: 0 | U25: 0 | V25: 0 | W25: 자재 21
A26: 5E69152F38486D17DD96D9328E8B | B26: 금속제 거푸집(유로폼) | C26: 내벽코너패널, (200+200)*1200 | D26: 매 | E26: 0 | G26: 16000 | H26: 122 | I26: 17500 | J26: 94 | K26: 15500 | L26: 146 | M26: 19900 | N26: 164 | O26: =SMALL(E26:M26,COUNTIF(E26:M26,0)+1) -> 15500 | P26: 0 | Q26: 0 | R26: 0 | S26: 0 | T26: 0 | U26: 0 | V26: 0 | W26: 자재 22
A27: 5E69152F38486D17965F6D3F08DC | B27: 강관틀 비계용 부재 | C27: 비계기본틀(기둥), 1.2*1.7m | D27: 개 | E27: 0 | G27: 25100 | H27: 123 | I27: 28300 | J27: 77 | K27: 26500 | L27: 146 | M27: 29900 | N27: 164 | O27: =SMALL(E27:M27,COUNTIF(E27:M27,0)+1) -> 25100 | P27: 0 | Q27: 0 | R27: 0 | S27: 0 | T27: 0 | U27: 0 | V27: 0 | W27: 자재 23
A28: 5E69152F38486D17965F6D3F0A8A | B28: 강관틀 비계용 부재 | C28: 가새, 1.2*1.9m | D28: 개 | E28: 0 | G28: 8300 | H28: 123 | I28: 8900 | J28: 77 | K28: 8000 | L28: 146 | M28: 8700 | N28: 164 | O28: =SMALL(E28:M28,COUNTIF(E28:M28,0)+1) -> 8000 | P28: 0 | Q28: 0 | R28: 0 | S28: 0 | T28: 0 | U28: 0 | V28: 0 | W28: 자재 24
A29: 5E69152F38486D17965F6D3F0D5E | B29: 강관틀 비계용 부재 | C29: 수평띠장, 1829mm | D29: 개 | E29: 0 | G29: 24500 | H29: 123 | I29: 25200 | J29: 77 | K29: 24000 | L29: 146 | M29: 25200 | N29: 164 | O29: =SMALL(E29:M29,COUNTIF(E29:M29,0)+1) -> 24000 | P29: 0 | Q29: 0 | R29: 0 | S29: 0 | T29: 0 | U29: 0 | V29: 0 | W29: 자재 25
