Workbook

Sheet 원가계산서
B1: 공 사 원 가 계 산 서
F2: 적서 : 계약금액
B3: 공사명 : 서귀포 중앙동우체국 임대공간 조성건축공사 | F3: 흑서 : 준공금액
B4: 비 목 | E4: 금 액 | F4: 구 성 비 | G4: 비 고
B5: 순 공 사 원 가 | C5: 재 료 비 | D5: 직 접 재 료 비 | E5: =TRUNC(공종별집계표!F5,0) -> 23423148
A6: A1 | E6: =TRUNC(공종별집계표!F6,0) -> 23691103
D7: 간 접 재 료 비
A8: A2
D9: 작업설, 부산물(△) | E9: =공종별집계표!L39 -> 53764
A10: A3 | E10: =공종별집계표!L40 -> 53764
D11: [ 소 계 ] | E11: =TRUNC(E5+E7-E9,0) -> 23369384
A12: AS | E12: =TRUNC(E6+E8-E10,0) -> 23637339
C13: 노 무 비 | D13: 직 접 노 무 비 | E13: =TRUNC(공종별집계표!H5,0) -> 10540828
A14: B1 | E14: =TRUNC(공종별집계표!H6,0) -> 10697713
D15: 간 접 노 무 비 | E15: =TRUNC(E13*0.02,0) -> 210816 | F15: 직접노무비 * 2.0%
A16: B2 | E16: =TRUNC(E14*0.02,0) -> 213954 | F16: 직접노무비 * 2.0%
D17: [ 소 계 ] | E17: =TRUNC(E13+E15,0) -> 10751644
A18: BS | E18: =TRUNC(E14+E16,0) -> 10911667
C19: 경 비 | D19: 기 계 경 비 | E19: =TRUNC(공종별집계표!J5,0) -> 143351
A20: C2 | E20: =TRUNC(공종별집계표!J6,0) -> 143351
D21: 산 재 보 험 료 | E21: =TRUNC(E17*0.038,0) -> 408562 | F21: 노무비 * 3.8%
A22: C4 | E22: =TRUNC(E18*0.038,0) -> 414643 | F22: 노무비 * 3.8%
D23: 고 용 보 험 료 | E23: =TRUNC(E17*0.0087,0) -> 93539 | F23: 노무비 * 0.87%
A24: C5 | E24: =TRUNC(E18*0.0087,0) -> 94931 | F24: 노무비 * 0.87%
D25: 국민 건강 보험료 | E25: =TRUNC(E13*0.017,0) -> 179194 | F25: 직접노무비 * 1.7%
A26: C6 | E26: 0 | F26: 직접노무비 * 1.7% | I26: =358300/2 -> 179150
D27: 국민 연금 보험료 | E27: =TRUNC(E13*0.0249,0) -> 262466 | F27: 직접노무비 * 2.49%
A28: C7 | E28: 0 | F28: 직접노무비 * 2.49% | I28: =517940/2 -> 258970
D29: 노인장기요양보험료 | E29: =TRUNC(E25*0.0655,0) -> 11737 | F29: 건강보험료 * 6.55%
A30: CB | E30: 0 | F30: 건강보험료 * 6.55% | I30: =23440/2 -> 11720
D31: 퇴직 공제 부금비 | E31: =TRUNC(E13*0.023*0,0) -> 0 | F31: 직접노무비 * 0.0%
A32: C8 | E32: =TRUNC(E14*0.023*0,0) -> 0 | F32: 직접노무비 * 0.0%
D33: 산업안전보건관리비 | E33: =TRUNC((E11+E13)*0.0293,0) -> 993569 | F33: (재료비+직노+0<도급자관급/1.1>) * 2.93%
A34: CA | E34: =TRUNC((E12+E14)*0.0293,0) -> 1006017 | F34: (재료비+직노+0<도급자관급/1.1>) * 2.93%
D35: 환 경 보 전 비 | E35: =TRUNC((E11+E13+E19)*0.003,0) -> 102160 | F35: (재료비+직노+기계경비) * 0.3%
A36: CH | E36: 0 | F36: (재료비+직노+기계경비) * 0.3%
D37: 기 타 경 비 | E37: =TRUNC((E11+E17)*0.02,0)+27583+23837 -> 733840 | F37: (재료비+노무비) * 2.0%
A38: CG | E38: =TRUNC((E12+E18)*0.02,0)+27583+23837 -> 742400 | F38: (재료비+노무비) * 2.0%
D39: 하도급지급보증수수료 | F39: (재료비+직노+기계경비) * 0.081%
A40: CK | F40: (재료비+직노+기계경비) * 0.081%
D41: 건설기계대여금지급보증서 발급수수료 | F41: (재료비+직노+기계경비) * 0.07%
A42: CL | F42: (재료비+직노+기계경비) * 0.07%
D43: [ 소 계 ] | E43: =TRUNC(E19+E21+E23+E25+E27+E31+E33+E29+E37+E35+E39+E41,0) -> 2928418
A44: CS | E44: =TRUNC(E20+E22+E24+E26+E28+E32+E34+E30+E38+E36+E40+E42,0) -> 2401342
B45: 계 | E45: =TRUNC(E11+E17+E43,0) -> 37049446
A46: S1 | E46: =TRUNC(E12+E18+E44,0) -> 36950348
B47: 일 반 관 리 비 | E47: =TRUNC(E45*0.02,0) -> 740988 | F47: 계 * 2.0%
A48: D1 | E48: =TRUNC(E46*0.02,0) -> 739006 | F48: 계 * 2.0%
B49: 이 윤 | E49: =TRUNC((E17+E43+E47)*0.02513,0)+32 -> 362432 | F49: (노무비+경비+일반관리비) * 2.513%
A50: D2 | E50: =TRUNC((E18+E44+E48)*0.02513,0) -> 353127 | F50: (노무비+경비+일반관리비) * 2.513%
B51: 건설폐기물처리비 | E51: =공종별집계표!L37 -> 551679
A52: D4 | E52: =공종별집계표!L38 -> 508119
B53: 공 급 가 액 | E53: =TRUNC(E45+E47+E49+E51,0) -> 38704545
A54: D9 | E54: =TRUNC(E46+E48+E50+E52,0) -> 38550600
B55: 부 가 가 치 세 | E55: =TRUNC(E53*0.1,0)+1 -> 3870455 | F55: 공급가액 * 10%
A56: DB | E56: =TRUNC(E54*0.1,0) -> 3855060 | F56: 공급가액 * 10%
B57: 도 급 액 | E57: =E53+E55 -> 42575000
A58: DH | E58: =ROUNDDOWN((E54+E56),-3) -> 42405000 | F58: 백단위이하 절사 | I58: 42575000 | J58: =E58-I58 -> -170000
A59: DJ | B59: 관 급 자 재 비 | E59: =TRUNC(공종별집계표!T36-187,0) -> 7646000
A60: S2 | B60: 총 공 사 비 | E60: =TRUNC(E58+E59,0) -> 50051000
E62: =E57+528000 -> 43103000
E63: =E62/1.1 -> 39184545
E64: =E63-E54 -> 633945.45

Sheet 공종별집계표
A1: 공 종 별 집 계 표
A2: [ 서귀포 중앙동우체국 임대공간 조성건축공사 ]
A3: 품 명 | B3: 규 격 | C3: 단위 | D3: 수량 | E3: 재 료 비 | G3: 노 무 비 | I3: 경 비 | K3: 합 계 | M3: 비 고 | N3: 공종코드 | O3: 변수 | P3: 상위공종 | Q3: 공종구분 | R3: 공종레벨 | S3: 공종소계 | T3: 원가계산서 연결금액
E4: 단 가 | F4: 금 액 | G4: 단 가 | H4: 금 액 | I4: 단 가 | J4: 금 액 | K4: 단 가 | L4: 금 액
A5: 01 서귀포 중앙동우체국 임대공간 조성공사 | D5: 1 | E5: =F7+F9+F11+F13+F15+F17+F19+F21+F23+F25+F27+F29+F31+F33 -> 23423148 | F5: =E5*D5 -> 23423148 | G5: =H7+H9+H11+H13+H15+H17+H19+H21+H23+H25+H27+H29+H31+H33 -> 10540828 | H5: =G5*D5 -> 10540828 | I5: =J7+J9+J11+J13+J15+J17+J19+J21+J23+J25+J27+J29+J31+J33 -> 143351 | J5: =I5*D5 -> 143351 | K5: =E5+G5+I5 -> 34107327 | L5: =F5+H5+J5 -> 34107327
D6: 1 | E6: =F8+F10+F12+F14+F16+F18+F20+F22+F24+F26+F28+F30+F32+F34 -> 23691103 | F6: =E6*D6 -> 23691103 | G6: =H8+H10+H12+H14+H16+H18+H20+H22+H24+H26+H28+H30+H32+H34 -> 10697713 | H6: =G6*D6 -> 10697713 | I6: =J8+J10+J12+J14+J16+J18+J20+J22+J24+J26+J28+J30+J32+J34 -> 143351 | J6: =I6*D6 -> 143351 | K6: =E6+G6+I6 -> 34532167 | L6: =F6+H6+J6 -> 34532167 | N6: 01 | R6: 1 | V6: =L6-L5 -> 424840
A7: 0101 가 설 공 사 | D7: 1 | E7: =공종별내역서!F25 -> 331626 | F7: =E7*D7 -> 331626 | G7: =공종별내역서!H25 -> 1463968 | H7: =G7*D7 -> 1463968 | I7: =공종별내역서!J25 -> 0 | J7: =I7*D7 -> 0 | K7: =E7+G7+I7 -> 1795594 | L7: =F7+H7+J7 -> 1795594
D8: 1 | E8: =공종별내역서!F26 -> 331626 | F8: =E8*D8 -> 331626 | G8: =공종별내역서!H26 -> 1463968 | H8: =G8*D8 -> 1463968 | I8: =공종별내역서!J26 -> 0 | J8: =I8*D8 -> 0 | K8: =E8+G8+I8 -> 1795594 | L8: =F8+H8+J8 -> 1795594 | N8: 0101 | P8: 01 | R8: 2 | V8: =L8-L7 -> 0
A9: 0102 토 및 지정공사 | D9: 1 | E9: =공종별내역서!F48 -> 35450 | F9: =E9*D9 -> 35450 | G9: =공종별내역서!H48 -> 97738 | H9: =G9*D9 -> 97738 | I9: =공종별내역서!J48 -> 26829 | J9: =I9*D9 -> 26829 | K9: =E9+G9+I9 -> 160017 | L9: =F9+H9+J9 -> 160017
D10: 1 | E10: =공종별내역서!F49 -> 35450 | F10: =E10*D10 -> 35450 | G10: =공종별내역서!H49 -> 97738 | H10: =G10*D10 -> 97738 | I10: =공종별내역서!J49 -> 26829 | J10: =I10*D10 -> 26829 | K10: =E10+G10+I10 -> 160017 | L10: =F10+H10+J10 -> 160017 | N10: 0102 | P10: 01 | R10: 2 | V10: =L10-L9 -> 0
A11: 0103 철근콘크리트공사 | D11: 1 | E11: =공종별내역서!F71 -> 1844398 | F11: =E11*D11 -> 1844398 | G11: =공종별내역서!H71 -> 1412993 | H11: =G11*D11 -> 1412993 | I11: =공종별내역서!J71 -> 23159 | J11: =I11*D11 -> 23159 | K11: =E11+G11+I11 -> 3280550 | L11: =F11+H11+J11 -> 3280550
D12: 1 | E12: =공종별내역서!F72 -> 1844398 | F12: =E12*D12 -> 1844398 | G12: =공종별내역서!H72 -> 1412993 | H12: =G12*D12 -> 1412993 | I12: =공종별내역서!J72 -> 23159 | J12: =I12*D12 -> 23159 | K12: =E12+G12+I12 -> 3280550 | L12: =F12+H12+J12 -> 3280550 | N12: 0103 | P12: 01 | R12: 2 | V12: =L12-L11 -> 0
A13: 0104 돌 공 사 | D13: 1 | E13: =공종별내역서!F94 -> 2107600 | F13: =E13*D13 -> 2107600 | G13: =공종별내역서!H94 -> 2401033 | H13: =G13*D13 -> 2401033 | I13: =공종별내역서!J94 -> 0 | J13: =I13*D13 -> 0 | K13: =E13+G13+I13 -> 4508633 | L13: =F13+H13+J13 -> 4508633
D14: 1 | E14: =공종별내역서!F95 -> 2107600 | F14: =E14*D14 -> 2107600 | G14: =공종별내역서!H95 -> 2401033 | H14: =G14*D14 -> 2401033 | I14: =공종별내역서!J95 -> 0 | J14: =I14*D14 -> 0 | K14: =E14+G14+I14 -> 4508633 | L14: =F14+H14+J14 -> 4508633 | N14: 0104 | P14: 01 | R14: 2 | V14: =L14-L13 -> 0
A15: 0105 방 수 공 사 | D15: 1 | E15: =공종별내역서!F117 -> 12878 | F15: =E15*D15 -> 12878 | G15: =공종별내역서!H117 -> 74669 | H15: =G15*D15 -> 74669 | I15: =공종별내역서!J117 -> 0 | J15: =I15*D15 -> 0 | K15: =E15+G15+I15 -> 87547 | L15: =F15+H15+J15 -> 87547
D16: 1 | E16: =공종별내역서!F118 -> 12878 | F16: =E16*D16 -> 12878 | G16: =공종별내역서!H118 -> 74669 | H16: =G16*D16 -> 74669 | I16: =공종별내역서!J118 -> 0 | J16: =I16*D16 -> 0 | K16: =E16+G16+I16 -> 87547 | L16: =F16+H16+J16 -> 87547 | N16: 0105 | P16: 01 | R16: 2 | V16: =L16-L15 -> 0
A17: 0106 금 속 공 사 | D17: 1 | E17: =공종별내역서!F140 -> 436445 | F17: =E17*D17 -> 436445 | G17: =공종별내역서!H140 -> 360284 | H17: =G17*D17 -> 360284 | I17: =공종별내역서!J140 -> 129 | J17: =I17*D17 -> 129 | K17: =E17+G17+I17 -> 796858 | L17: =F17+H17+J17 -> 796858
D18: 1 | E18: =공종별내역서!F141 -> 436445 | F18: =E18*D18 -> 436445 | G18: =공종별내역서!H141 -> 360284 | H18: =G18*D18 -> 360284 | I18: =공종별내역서!J141 -> 129 | J18: =I18*D18 -> 129 | K18: =E18+G18+I18 -> 796858 | L18: =F18+H18+J18 -> 796858 | N18: 0106 | P18: 01 | R18: 2 | V18: =L18-L17 -> 0
A19: 0107 창 호 공 사 | D19: 1 | E19: =공종별내역서!F187 -> 7619502 | F19: =E19*D19 -> 7619502 | G19: =공종별내역서!H187 -> 1377169 | H19: =G19*D19 -> 1377169 | I19: =공종별내역서!J187 -> 25332 | J19: =I19*D19 -> 25332 | K19: =E19+G19+I19 -> 9022003 | L19: =F19+H19+J19 -> 9022003
D20: 1 | E20: =공종별내역서!F188 -> 7619502 | F20: =E20*D20 -> 7619502 | G20: =공종별내역서!H188 -> 1377169 | H20: =G20*D20 -> 1377169 | I20: =공종별내역서!J188 -> 25332 | J20: =I20*D20 -> 25332 | K20: =E20+G20+I20 -> 9022003 | L20: =F20+H20+J20 -> 9022003 | N20: 0107 | P20: 01 | R20: 2 | V20: =L20-L19 -> 0
A21: 0108 유 리 공 사 | D21: 1 | E21: =공종별내역서!F210 -> 784315 | F21: =E21*D21 -> 784315 | G21: =공종별내역서!H210 -> 261938 | H21: =G21*D21 -> 261938 | I21: =공종별내역서!J210 -> 0 | J21: =I21*D21 -> 0 | K21: =E21+G21+I21 -> 1046253 | L21: =F21+H21+J21 -> 1046253
D22: 1 | E22: =공종별내역서!F211 -> 784315 | F22: =E22*D22 -> 784315 | G22: =공종별내역서!H211 -> 261938 | H22: =G22*D22 -> 261938 | I22: =공종별내역서!J211 -> 0 | J22: =I22*D22 -> 0 | K22: =E22+G22+I22 -> 1046253 | L22: =F22+H22+J22 -> 1046253 | N22: 0108 | P22: 01 | R22: 2 | V22: =L22-L21 -> 0
A23: 0109 칠 공 사 | D23: 1 | E23: =공종별내역서!F233 -> 116616 | F23: =E23*D23 -> 116616 | G23: =공종별내역서!H233 -> 519318 | H23: =G23*D23 -> 519318 | I23: =공종별내역서!J233 -> 4674 | J23: =I23*D23 -> 4674 | K23: =E23+G23+I23 -> 640608 | L23: =F23+H23+J23 -> 640608
D24: 1 | E24: =공종별내역서!F234 -> 116616 | F24: =E24*D24 -> 116616 | G24: =공종별내역서!H234 -> 519318 | H24: =G24*D24 -> 519318 | I24: =공종별내역서!J234 -> 4674 | J24: =I24*D24 -> 4674 | K24: =E24+G24+I24 -> 640608 | L24: =F24+H24+J24 -> 640608 | N24: 0109 | P24: 01 | R24: 2 | V24: =L24-L23 -> 0
A25: 0110 수 장 공 사 | D25: 1 | E25: =공종별내역서!F256 -> 3707772 | F25: =E25*D25 -> 3707772 | G25: =공종별내역서!H256 -> 638361 | H25: =G25*D25 -> 638361 | I25: =공종별내역서!J256 -> 5776 | J25: =I25*D25 -> 5776 | K25: =E25+G25+I25 -> 4351909 | L25: =F25+H25+J25 -> 4351909
D26: 1 | E26: =공종별내역서!F257 -> 3707772 | F26: =E26*D26 -> 3707772 | G26: =공종별내역서!H257 -> 638361 | H26: =G26*D26 -> 638361 | I26: =공종별내역서!J257 -> 5776 | J26: =I26*D26 -> 5776 | K26: =E26+G26+I26 -> 4351909 | L26: =F26+H26+J26 -> 4351909 | N26: 0110 | P26: 01 | R26: 2 | V26: =L26-L25 -> 0
A27: 0111 기 타 공 사 | D27: 1 | E27: =공종별내역서!F279 -> 6000000 | F27: =E27*D27 -> 6000000 | G27: =공종별내역서!H279 -> 0 | H27: =G27*D27 -> 0 | I27: =공종별내역서!J279 -> 0 | J27: =I27*D27 -> 0 | K27: =E27+G27+I27 -> 6000000 | L27: =F27+H27+J27 -> 6000000
D28: 1 | E28: =공종별내역서!F280 -> 6278440 | F28: =E28*D28 -> 6278440 | G28: =공종별내역서!H280 -> 297914 | H28: =G28*D28 -> 297914 | I28: =공종별내역서!J280 -> 0 | J28: =I28*D28 -> 0 | K28: =E28+G28+I28 -> 6576354 | L28: =F28+H28+J28 -> 6576354 | N28: 0111 | P28: 01 | R28: 2 | V28: =L28-L27 -> 576354
A29: 0112 조 경 공 사 | D29: 1 | E29: =공종별내역서!F302 -> 10485 | F29: =E29*D29 -> 10485 | G29: =공종별내역서!H302 -> 7172 | H29: =G29*D29 -> 7172 | I29: =공종별내역서!J302 -> 0 | J29: =I29*D29 -> 0 | K29: =E29+G29+I29 -> 17657 | L29: =F29+H29+J29 -> 17657
D30: 1 | E30: =공종별내역서!F303 -> 0 | F30: =E30*D30 -> 0 | G30: =공종별내역서!H303 -> 0 | H30: =G30*D30 -> 0 | I30: =공종별내역서!J303 -> 0 | J30: =I30*D30 -> 0 | K30: =E30+G30+I30 -> 0 | L30: =F30+H30+J30 -> 0 | N30: 0112 | P30: 01 | R30: 2 | V30: =L30-L29 -> -17657
A31: 0113 골 재 비 | D31: 1 | E31: =공종별내역서!F325 -> 200270 | F31: =E31*D31 -> 200270 | G31: =공종별내역서!H325 -> 0 | H31: =G31*D31 -> 0 | I31: =공종별내역서!J325 -> 0 | J31: =I31*D31 -> 0 | K31: =E31+G31+I31 -> 200270 | L31: =F31+H31+J31 -> 200270
D32: 1 | E32: =공종별내역서!F326 -> 200270 | F32: =E32*D32 -> 200270 | G32: =공종별내역서!H326 -> 0 | H32: =G32*D32 -> 0 | I32: =공종별내역서!J326 -> 0 | J32: =I32*D32 -> 0 | K32: =E32+G32+I32 -> 200270 | L32: =F32+H32+J32 -> 200270 | N32: 0113 | P32: 01 | R32: 2 | V32: =L32-L31 -> 0
A33: 0114 철 거 공 사 | D33: 1 | E33: =공종별내역서!F372 -> 215791 | F33: =E33*D33 -> 215791 | G33: =공종별내역서!H372 -> 1926185 | H33: =G33*D33 -> 1926185 | I33: =공종별내역서!J372 -> 57452 | J33: =I33*D33 -> 57452 | K33: =E33+G33+I33 -> 2199428 | L33: =F33+H33+J33 -> 2199428
D34: 1 | E34: =공종별내역서!F373 -> 215791 | F34: =E34*D34 -> 215791 | G34: =공종별내역서!H373 -> 1792328 | H34: =G34*D34 -> 1792328 | I34: =공종별내역서!J373 -> 57452 | J34: =I34*D34 -> 57452 | K34: =E34+G34+I34 -> 2065571 | L34: =F34+H34+J34 -> 2065571 | N34: 0114 | P34: 01 | R34: 2 | V34: =L34-L33 -> -133857
A35: 0115 관급자재비-기계설비 | D35: 1 | E35: =공종별내역서!F395 -> 7646187 | F35: =E35*D35 -> 7646187 | G35: =공종별내역서!H395 -> 0 | H35: =G35*D35 -> 0 | I35: =공종별내역서!J395 -> 0 | J35: =I35*D35 -> 0 | K35: =E35+G35+I35 -> 7646187 | L35: =F35+H35+J35 -> 7646187
D36: 1 | E36: =공종별내역서!F396 -> 7646187 | F36: =E36*D36 -> 7646187 | G36: =공종별내역서!H396 -> 0 | H36: =G36*D36 -> 0 | I36: =공종별내역서!J396 -> 0 | J36: =I36*D36 -> 0 | K36: =E36+G36+I36 -> 7646187 | L36: =F36+H36+J36 -> 7646187 | N36: 0115 | Q36: 3 | R36: 2 | T36: =L36*1 -> 7646187 | V36: =L36-L35 -> 0
A37: 0116 건설폐기물처리비 | D37: 1 | E37: =공종별내역서!F418 -> 0 | F37: =E37*D37 -> 0 | G37: =공종별내역서!H418 -> 0 | H37: =G37*D37 -> 0 | I37: =공종별내역서!J418 -> 551679 | J37: =I37*D37 -> 551679 | K37: =E37+G37+I37 -> 551679 | L37: =F37+H37+J37 -> 551679
D38: 1 | E38: =공종별내역서!F419 -> 0 | F38: =E38*D38 -> 0 | G38: =공종별내역서!H419 -> 0 | H38: =G38*D38 -> 0 | I38: =공종별내역서!J419 -> 508119 | J38: =I38*D38 -> 508119 | K38: =E38+G38+I38 -> 508119 | L38: =F38+H38+J38 -> 508119 | N38: 0116 | Q38: 6 | R38: 2 | T38: =L38*1 -> 508119 | V38: =L38-L37 -> -43560
A39: 0117 작 업 부 산 물 | D39: 1 | E39: =공종별내역서!F441 -> 53764 | F39: =E39*D39 -> 53764 | G39: =공종별내역서!H441 -> 0 | H39: =G39*D39 -> 0 | I39: =공종별내역서!J441 -> 0 | J39: =I39*D39 -> 0 | K39: =E39+G39+I39 -> 53764 | L39: =F39+H39+J39 -> 53764
D40: 1 | E40: =공종별내역서!F442 -> 53764 | F40: =E40*D40 -> 53764 | G40: =공종별내역서!H442 -> 0 | H40: =G40*D40 -> 0 | I40: =공종별내역서!J442 -> 0 | J40: =I40*D40 -> 0 | K40: =E40+G40+I40 -> 53764 | L40: =F40+H40+J40 -> 53764 | N40: 0117 | Q40: 1 | R40: 2 | T40: =L40*1 -> 53764 | V40: =L40-L39 -> 0
A47: [ 합 계 ] | F47: =F5 -> 23423148 | H47: =H5 -> 10540828 | J47: =J5 -> 143351 | L47: =L5 -> 34107327
F48: =F6 -> 23691103 | H48: =H6 -> 10697713 | J48: =J6 -> 143351 | L48: =L6 -> 34532167 | V48: =L48-L47 -> 424840

Sheet 공종별내역서
A1: [ 서귀포 중앙동우체국 임대공간 조성건축공사 ]
A2: 품 명 | B2: 규 격 | C2: 단위 | D2: 수량 | E2: 재 료 비 | G2: 노 무 비 | I2: 경 비 | K2: 합 계 | M2: 비 고 | N2: 품목코드 | O2: 변수 | P2: 설정 | Q2: 공종코드 | R2: 일위 | S2: 단산 | T2: 자재 | U2: 손료적용 | V2: 손료저장 | W2: 적용율 | X2: JUK1 | Y2: JUK2 | Z2: JUK3 | AA2: JUK4 | AB2: JUK5 | AC2: JUK6 | AD2: JUK7 | AE2: JUK8 | AF2: JUK9 | AG2: JUK10 | AH2: JUK11 | AI2: JUK12 | AJ2: JUK13 | AK2: JUK14 | AL2: JUK15 | AM2: JUK16 | AN2: JUK17 | AO2: JUK18 | AP2: JUK19 | AQ2: JUK20 | AR2: 자재구분 | AS2: 공종구분 | AT2: 공종레벨 | AU2: 공종+자재 | AV2: 고유번호
E3: 단 가 | F3: 금 액 | G3: 단 가 | H3: 금 액 | I3: 단 가 | J3: 금 액 | K3: 단 가 | L3: 금 액
A4: 0101 가 설 공 사 | Q4: 0101
A5: 면적당규준틀 | C5: M2 | D5: 20.44 | E5: 718 | F5: =TRUNC(E5*D5,0) -> 14675 | G5: 3912 | H5: =TRUNC(G5*D5,0) -> 79961 | J5: =TRUNC(I5*D5,0) -> 0 | K5: =TRUNC(E5+G5+I5,0) -> 4630 | L5: =TRUNC(F5+H5+J5,0) -> 94636
D6: 20.44 | E6: =TRUNC(일위대가목록!E4,0) -> 718 | F6: =TRUNC(E6*D6,0) -> 14675 | G6: =TRUNC(일위대가목록!F4,0) -> 3912 | H6: =TRUNC(G6*D6,0) -> 79961 | J6: =TRUNC(I6*D6,0) -> 0 | K6: =TRUNC(E6+G6+I6,0) -> 4630 | L6: =TRUNC(F6+H6+J6,0) -> 94636 | N6: 5E6935D0984A9A17F7FF443DCA3F | R6: T | S6: F | T6: F | AU6: 01015E6935D0984A9A17F7FF443DCA3F | AV6: 4
A7: 이동식강관말비계 | B7: 1단(2m), 3개월 | C7: 1대 | D7: 1 | E7: 45633 | F7: =TRUNC(E7*D7,0) -> 45633 | G7: 52683 | H7: =TRUNC(G7*D7,0) -> 52683 | J7: =TRUNC(I7*D7,0) -> 0 | K7: =TRUNC(E7+G7+I7,0) -> 98316 | L7: =TRUNC(F7+H7+J7,0) -> 98316
D8: 1 | E8: =TRUNC(일위대가목록!E5,0) -> 45633 | F8: =TRUNC(E8*D8,0) -> 45633 | G8: =TRUNC(일위대가목록!F5,0) -> 52683 | H8: =TRUNC(G8*D8,0) -> 52683 | J8: =TRUNC(I8*D8,0) -> 0 | K8: =TRUNC(E8+G8+I8,0) -> 98316 | L8: =TRUNC(F8+H8+J8,0) -> 98316 | N8: 5E6935D0984A9A17F7DC48342078 | R8: T | S8: F | T8: F | AU8: 01015E6935D0984A9A17F7DC48342078 | AV8: 5
A9: CONC보양 | B9: 살수 | C9: M2 | D9: 20.44 | F9: =TRUNC(E9*D9,0) -> 0 | G9: 351 | H9: =TRUNC(G9*D9,0) -> 7174 | J9: =TRUNC(I9*D9,0) -> 0 | K9: =TRUNC(E9+G9+I9,0) -> 351 | L9: =TRUNC(F9+H9+J9,0) -> 7174
D10: 20.44 | F10: =TRUNC(E10*D10,0) -> 0 | G10: =TRUNC(일위대가목록!F6,0) -> 351 | H10: =TRUNC(G10*D10,0) -> 7174 | J10: =TRUNC(I10*D10,0) -> 0 | K10: =TRUNC(E10+G10+I10,0) -> 351 | L10: =TRUNC(F10+H10+J10,0) -> 7174 | N10: 5E6935D0984A9A17F7B1933E3015 | R10: T | S10: F | T10: F | AU10: 01015E6935D0984A9A17F7B1933E3015 | AV10: 6
A11: 건축물보양-석재면,테라조면 | B11: 하드롱지 | C11: M2 | D11: 19.89 | E11: 378 | F11: =TRUNC(E11*D11,0) -> 7518 | G11: 878 | H11: =TRUNC(G11*D11,0) -> 17463 | J11: =TRUNC(I11*D11,0) -> 0 | K11: =TRUNC(E11+G11+I11,0) -> 1256 | L11: =TRUNC(F11+H11+J11,0) -> 24981
D12: 19.89 | E12: =TRUNC(일위대가목록!E7,0) -> 378 | F12: =TRUNC(E12*D12,0) -> 7518 | G12: =TRUNC(일위대가목록!F7,0) -> 878 | H12: =TRUNC(G12*D12,0) -> 17463 | J12: =TRUNC(I12*D12,0) -> 0 | K12: =TRUNC(E12+G12+I12,0) -> 1256 | L12: =TRUNC(F12+H12+J12,0) -> 24981 | N12: 5E6935D0984A9A17F7B1933E313B | R12: T | S12: F | T12: F | AU12: 01015E6935D0984A9A17F7B1933E313B | AV12: 7
A13: 건축물현장정리 | B13: 철근CON'C조 | C13: M2 | D13: 20.44 | F13: =TRUNC(E13*D13,0) -> 0 | G13: 13170 | H13: =TRUNC(G13*D13,0) -> 269194 | J13: =TRUNC(I13*D13,0) -> 0 | K13: =TRUNC(E13+G13+I13,0) -> 13170 | L13: =TRUNC(F13+H13+J13,0) -> 269194
D14: 20.44 | F14: =TRUNC(E14*D14,0) -> 0 | G14: =TRUNC(일위대가목록!F8,0) -> 13170 | H14: =TRUNC(G14*D14,0) -> 269194 | J14: =TRUNC(I14*D14,0) -> 0 | K14: =TRUNC(E14+G14+I14,0) -> 13170 | L14: =TRUNC(F14+H14+J14,0) -> 269194 | N14: 5E6935D0984A9A17F7B181372BCD | R14: T | S14: F | T14: F | AU14: 01015E6935D0984A9A17F7B181372BCD | AV14: 8
A15: 건축물현장정리 | B15: 개보수,리모델링 | C15: M2 | D15: 83.8 | F15: =TRUNC(E15*D15,0) -> 0 | G15: 3073 | H15: =TRUNC(G15*D15,0) -> 257517 | J15: =TRUNC(I15*D15,0) -> 0 | K15: =TRUNC(E15+G15+I15,0) -> 3073 | L15: =TRUNC(F15+H15+J15,0) -> 257517
D16: 83.8 | F16: =TRUNC(E16*D16,0) -> 0 | G16: =TRUNC(일위대가목록!F9,0) -> 3073 | H16: =TRUNC(G16*D16,0) -> 257517 | J16: =TRUNC(I16*D16,0) -> 0 | K16: =TRUNC(E16+G16+I16,0) -> 3073 | L16: =TRUNC(F16+H16+J16,0) -> 257517 | N16: 5E6935D0984A9A17F7B181372E80 | R16: T | S16: F | T16: F | AU16: 01015E6935D0984A9A17F7B181372E80 | AV16: 9
A17: 거푸집 먹매김 | B17: 일반 | C17: M2 | D17: 20.44 | F17: =TRUNC(E17*D17,0) -> 0 | G17: 1671 | H17: =TRUNC(G17*D17,0) -> 34155 | J17: =TRUNC(I17*D17,0) -> 0 | K17: =TRUNC(E17+G17+I17,0) -> 1671 | L17: =TRUNC(F17+H17+J17,0) -> 34155
D18: 20.44 | F18: =TRUNC(E18*D18,0) -> 0 | G18: =TRUNC(일위대가목록!F10,0) -> 1671 | H18: =TRUNC(G18*D18,0) -> 34155 | J18: =TRUNC(I18*D18,0) -> 0 | K18: =TRUNC(E18+G18+I18,0) -> 1671 | L18: =TRUNC(F18+H18+J18,0) -> 34155 | N18: 5E6935D0984A9A17F784553D66FA | R18: T | S18: F | T18: F | AU18: 01015E6935D0984A9A17F784553D66FA | AV18: 10
A19: 가설칸막이설치(공사완료후철거) | B19: 벽체띠장45*45@600*600,합판2.7mm | C19: M2 | D19: 41.4 | E19: 6372 | F19: =TRUNC(E19*D19,0) -> 263800 | G19: 18015 | H19: =TRUNC(G19*D19,0) -> 745821 | J19: =TRUNC(I19*D19,0) -> 0 | K19: =TRUNC(E19+G19+I19,0) -> 24387 | L19: =TRUNC(F19+H19+J19,0) -> 1009621
D20: 41.4 | E20: =TRUNC(일위대가목록!E11,0) -> 6372 | F20: =TRUNC(E20*D20,0) -> 263800 | G20: =TRUNC(일위대가목록!F11,0) -> 18015 | H20: =TRUNC(G20*D20,0) -> 745821 | J20: =TRUNC(I20*D20,0) -> 0 | K20: =TRUNC(E20+G20+I20,0) -> 24387 | L20: =TRUNC(F20+H20+J20,0) -> 1009621 | N20: 5E6935D0984A9A17F7B1933FDB38 | R20: T | S20: F | T20: F | AU20: 01015E6935D0984A9A17F7B1933FDB38 | AV20: 110
A25: [ 합 계 ] | F25: =F5+F7+F9+F11+F13+F15+F17+F19 -> 331626 | H25: =H5+H7+H9+H11+H13+H15+H17+H19 -> 1463968 | J25: =J5+J7+J9+J11+J13+J15+J17+J19 -> 0 | L25: =TRUNC(F25+H25+J25,0) -> 1795594
F26: =F6+F8+F10+F12+F14+F16+F18+F20 -> 331626 | H26: =H6+H8+H10+H12+H14+H16+H18+H20 -> 1463968 | J26: =J6+J8+J10+J12+J14+J16+J18+J20 -> 0 | L26: =TRUNC(F26+H26+J26,0) -> 1795594 | N26: TOTAL
A27: 0102 토 및 지정공사 | Q27: 0102
A28: 터파기 | B28: 보통토사. 백호90%+인력10% | C28: M3 | D28: 16.03 | E28: 264 | F28: =TRUNC(E28*D28,0) -> 4231 | G28: 2149 | H28: =TRUNC(G28*D28,0) -> 34448 | I28: 300 | J28: =TRUNC(I28*D28,0) -> 4809 | K28: =TRUNC(E28+G28+I28,0) -> 2713 | L28: =TRUNC(F28+H28+J28,0) -> 43488
D29: 16.03 | E29: =TRUNC(일위대가목록!E12,0) -> 264 | F29: =TRUNC(E29*D29,0) -> 4231 | G29: =TRUNC(일위대가목록!F12,0) -> 2149 | H29: =TRUNC(G29*D29,0) -> 34448 | I29: =TRUNC(일위대가목록!G12,0) -> 300 | J29: =TRUNC(I29*D29,0) -> 4809 | K29: =TRUNC(E29+G29+I29,0) -> 2713 | L29: =TRUNC(F29+H29+J29,0) -> 43488 | N29: 5E6935D0984A9A17CA842136BF7F | R29: T | S29: F | T29: F | AU29: 01025E6935D0984A9A17CA842136BF7F | AV29: 12
A30: 혼합골재깔기지정 | B30: 백호0.2m3+진동롤러(핸드가이드) | C30: M3 | D30: 3.3 | E30: 779 | F30: =TRUNC(E30*D30,0) -> 2570 | G30: 4018 | H30: =TRUNC(G30*D30,0) -> 13259 | I30: 921 | J30: =TRUNC(I30*D30,0) -> 3039 | K30: =TRUNC(E30+G30+I30,0) -> 5718 | L30: =TRUNC(F30+H30+J30,0) -> 18868
D31: 3.3 | E31: =TRUNC(일위대가목록!E13,0) -> 779 | F31: =TRUNC(E31*D31,0) -> 2570 | G31: =TRUNC(일위대가목록!F13,0) -> 4018 | H31: =TRUNC(G31*D31,0) -> 13259 | I31: =TRUNC(일위대가목록!G13,0) -> 921 | J31: =TRUNC(I31*D31,0) -> 3039 | K31: =TRUNC(E31+G31+I31,0) -> 5718 | L31: =TRUNC(F31+H31+J31,0) -> 18868 | N31: 5E6935D0984A9A17CAFF073D8498 | R31: T | S31: F | T31: F | AU31: 01025E6935D0984A9A17CAFF073D8498 | AV31: 13
A32: 메우고다지기토사T=15CM(보통) | B32: 백호0.7M3*래머80kg | C32: M3 | D32: 3.45 | E32: 455 | F32: =TRUNC(E32*D32,0) -> 1569 | G32: 4516 | H32: =TRUNC(G32*D32,0) -> 15580 | I32: 331 | J32: =TRUNC(I32*D32,0) -> 1141 | K32: =TRUNC(E32+G32+I32,0) -> 5302 | L32: =TRUNC(F32+H32+J32,0) -> 18290
D33: 3.45 | E33: =TRUNC(중기단가목록!E4,0) -> 455 | F33: =TRUNC(E33*D33,0) -> 1569 | G33: =TRUNC(중기단가목록!F4,0) -> 4516 | H33: =TRUNC(G33*D33,0) -> 15580 | I33: =TRUNC(중기단가목록!G4,0) -> 331 | J33: =TRUNC(I33*D33,0) -> 1141 | K33: =TRUNC(E33+G33+I33,0) -> 5302 | L33: =TRUNC(F33+H33+J33,0) -> 18290 | N33: 5E6935D092403517B6D680350A03 | R33: F | S33: T | T33: F | AU33: 01025E6935D092403517B6D680350A03 | AV33: 14
A34: 성토-현장토사유용 | B34: 백호0.7M3*래머80kg | C34: M3 | D34: 2.07 | E34: 455 | F34: =TRUNC(E34*D34,0) -> 941 | G34: 4516 | H34: =TRUNC(G34*D34,0) -> 9348 | I34: 331 | J34: =TRUNC(I34*D34,0) -> 685 | K34: =TRUNC(E34+G34+I34,0) -> 5302 | L34: =TRUNC(F34+H34+J34,0) -> 10974
D35: 2.07 | E35: =TRUNC(중기단가목록!E5,0) -> 455 | F35: =TRUNC(E35*D35,0) -> 941 | G35: =TRUNC(중기단가목록!F5,0) -> 4516 | H35: =TRUNC(G35*D35,0) -> 9348 | I35: =TRUNC(중기단가목록!G5,0) -> 331 | J35: =TRUNC(I35*D35,0) -> 685 | K35: =TRUNC(E35+G35+I35,0) -> 5302 | L35: =TRUNC(F35+H35+J35,0) -> 10974 | N35: 5E6935D092403517B6D680350A07 | R35: F | S35: T | T35: F | AU35: 01025E6935D092403517B6D680350A07 | AV35: 101
A36: 토사처리 단지외10KM(보통) | B36: 담프15톤 + 백호0.7(고르기별도) | C36: M3 | D36: 10.57 | E36: 2473 | F36: =TRUNC(E36*D36,0) -> 26139 | G36: 2375 | H36: =TRUNC(G36*D36,0) -> 25103 | I36: 1623 | J36: =TRUNC(I36*D36,0) -> 17155 | K36: =TRUNC(E36+G36+I36,0) -> 6471 | L36: =TRUNC(F36+H36+J36,0) -> 68397
D37: 10.57 | E37: =TRUNC(중기단가목록!E6,0) -> 2473 | F37: =TRUNC(E37*D37,0) -> 26139 | G37: =TRUNC(중기단가목록!F6,0) -> 2375 | H37: =TRUNC(G37*D37,0) -> 25103 | I37: =TRUNC(중기단가목록!G6,0) -> 1623 | J37: =TRUNC(I37*D37,0) -> 17155 | K37: =TRUNC(E37+G37+I37,0) -> 6471 | L37: =TRUNC(F37+H37+J37,0) -> 68397 | N37: 5E6935D092403517B6C478338779 | R37: F | S37: T | T37: F | AU37: 01025E6935D092403517B6C478338779 | AV37: 16
A48: [ 합 계 ] | F48: =F28+F30+F32+F34+F36 -> 35450 | H48: =H28+H30+H32+H34+H36 -> 97738 | J48: =J28+J30+J32+J34+J36 -> 26829 | L48: =TRUNC(F48+H48+J48,0) -> 160017
F49: =F29+F31+F33+F35+F37 -> 35450 | H49: =H29+H31+H33+H35+H37 -> 97738 | J49: =J29+J31+J33+J35+J37 -> 26829 | L49: =TRUNC(F49+H49+J49,0) -> 160017 | N49: TOTAL
A50: 0103 철근콘크리트공사 | Q50: 0103
A51: 케미컬앵커볼트설치 | B51: M12*110,HILTI-HY200,볼트포함 | C51: 개소 | D51: 107 | E51: 9292 | F51: =TRUNC(E51*D51,0) -> 994244 | G51: 6794 | H51: =TRUNC(G51*D51,0) -> 726958 | J51: =TRUNC(I51*D51,0) -> 0 | K51: =TRUNC(E51+G51+I51,0) -> 16086 | L51: =TRUNC(F51+H51+J51,0) -> 1721202
D52: 107 | E52: =TRUNC(일위대가목록!E14,0) -> 9292 | F52: =TRUNC(E52*D52,0) -> 994244 | G52: =TRUNC(일위대가목록!F14,0) -> 6794 | H52: =TRUNC(G52*D52,0) -> 726958 | I52: =TRUNC(일위대가목록!G14,0) -> 0 | J52: =TRUNC(I52*D52,0) -> 0 | K52: =TRUNC(E52+G52+I52,0) -> 16086 | L52: =TRUNC(F52+H52+J52,0) -> 1721202 | N52: 5E6935D0984A9A17AFE41B3E22E6 | R52: T | S52: F | T52: F | AU52: 01035E6935D0984A9A17AFE41B3E22E6 | AV52: 102
A53: 레미콘 | B53: 제주, 25-18-08 | C53: M3 | D53: 1.12 | E53: 65100 | F53: =TRUNC(E53*D53,0) -> 72912 | H53: =TRUNC(G53*D53,0) -> 0 | J53: =TRUNC(I53*D53,0) -> 0 | K53: =TRUNC(E53+G53+I53,0) -> 65100 | L53: =TRUNC(F53+H53+J53,0) -> 72912
D54: 1.12 | E54: =TRUNC(단가대비표!O51,0) -> 65100 | F54: =TRUNC(E54*D54,0) -> 72912 | G54: =TRUNC(단가대비표!P51,0) -> 0 | H54: =TRUNC(G54*D54,0) -> 0 | I54: =TRUNC(단가대비표!V51,0) -> 0 | J54: =TRUNC(I54*D54,0) -> 0 | K54: =TRUNC(E54+G54+I54,0) -> 65100 | L54: =TRUNC(F54+H54+J54,0) -> 72912 | N54: 5E6935D8D143D8170CD46B314716 | R54: F | S54: F | T54: T | AU54: 01035E6935D8D143D8170CD46B314716 | AV54: 19
A55: 레미콘 | B55: 제주, 25-21-15 | C55: M3 | D55: 4.75 | E55: 69200 | F55: =TRUNC(E55*D55,0) -> 328700 | H55: =TRUNC(G55*D55,0) -> 0 | J55: =TRUNC(I55*D55,0) -> 0 | K55: =TRUNC(E55+G55+I55,0) -> 69200 | L55: =TRUNC(F55+H55+J55,0) -> 328700
D56: 4.75 | E56: =TRUNC(단가대비표!O52,0) -> 69200 | F56: =TRUNC(E56*D56,0) -> 328700 | G56: =TRUNC(단가대비표!P52,0) -> 0 | H56: =TRUNC(G56*D56,0) -> 0 | I56: =TRUNC(단가대비표!V52,0) -> 0 | J56: =TRUNC(I56*D56,0) -> 0 | K56: =TRUNC(E56+G56+I56,0) -> 69200 | L56: =TRUNC(F56+H56+J56,0) -> 328700 | N56: 5E6935D8D143D8170CD46B31471B | R56: F | S56: F | T56: T | AU56: 01035E6935D8D143D8170CD46B31471B | AV56: 20
A57: 철근콘크리트용봉강(이형철근) | B57: 제주,HD-10,SD400,하치장상차도 | C57: TON | D57: 0.22 | E57: 610000 | F57: =TRUNC(E57*D57,0) -> 134200 | H57: =TRUNC(G57*D57,0) -> 0 | J57: =TRUNC(I57*D57,0) -> 0 | K57: =TRUNC(E57+G57+I57,0) -> 610000 | L57: =TRUNC(F57+H57+J57,0) -> 134200
D58: 0.22 | E58: =TRUNC(단가대비표!O85,0) -> 610000 | F58: =TRUNC(E58*D58,0) -> 134200 | G58: =TRUNC(단가대비표!P85,0) -> 0 | H58: =TRUNC(G58*D58,0) -> 0 | I58: =TRUNC(단가대비표!V85,0) -> 0 | J58: =TRUNC(I58*D58,0) -> 0 | K58: =TRUNC(E58+G58+I58,0) -> 610000 | L58: =TRUNC(F58+H58+J58,0) -> 134200 | N58: 5E6935D1A246E317D990713C087D | R58: F | S58: F | T58: T | AU58: 01035E6935D1A246E317D990713C087D | AV58: 21
A59: 철근콘크리트용봉강(이형철근) | B59: 제주,HD-13,SD400,하치장상차도 | C59: TON | D59: 0.39 | E59: 600000 | F59: =TRUNC(E59*D59,0) -> 234000 | H59: =TRUNC(G59*D59,0) -> 0 | J59: =TRUNC(I59*D59,0) -> 0 | K59: =TRUNC(E59+G59+I59,0) -> 600000 | L59: =TRUNC(F59+H59+J59,0) -> 234000
D60: 0.39 | E60: =TRUNC(단가대비표!O86,0) -> 600000 | F60: =TRUNC(E60*D60,0) -> 234000 | G60: =TRUNC(단가대비표!P86,0) -> 0 | H60: =TRUNC(G60*D60,0) -> 0 | I60: =TRUNC(단가대비표!V86,0) -> 0 | J60: =TRUNC(I60*D60,0) -> 0 | K60: =TRUNC(E60+G60+I60,0) -> 600000 | L60: =TRUNC(F60+H60+J60,0) -> 234000 | N60: 5E6935D1A246E317D990713C087E | R60: F | S60: F | T60: T | AU60: 01035E6935D1A246E317D990713C087E | AV60: 22
A61: 무근콘크리트타설/펌프카(36m) | B61: 슬럼프8∼12, 50m3미만[80~95] | C61: M3 | D61: 1.1 | E61: 1551 | F61: =TRUNC(E61*D61,0) -> 1706 | G61: 9364 | H61: =TRUNC(G61*D61,0) -> 10300 | I61: 3801 | J61: =TRUNC(I61*D61,0) -> 4181 | K61: =TRUNC(E61+G61+I61,0) -> 14716 | L61: =TRUNC(F61+H61+J61,0) -> 16187
D62: 1.1 | E62: =TRUNC(일위대가목록!E15,0) -> 1551 | F62: =TRUNC(E62*D62,0) -> 1706 | G62: =TRUNC(일위대가목록!F15,0) -> 9364 | H62: =TRUNC(G62*D62,0) -> 10300 | I62: =TRUNC(일위대가목록!G15,0) -> 3801 | J62: =TRUNC(I62*D62,0) -> 4181 | K62: =TRUNC(E62+G62+I62,0) -> 14716 | L62: =TRUNC(F62+H62+J62,0) -> 16187 | N62: 5E6935D0984A9A17DB207A3495C4 | R62: T | S62: F | T62: F | AU62: 01035E6935D0984A9A17DB207A3495C4 | AV62: 23
A63: 철근콘크리트타설/펌프카(36m) | B63: 슬럼프15,50m3미만[80~95] | C63: M3 | D63: 4.7 | E63: 1647 | F63: =TRUNC(E63*D63,0) -> 7740 | G63: 10412 | H63: =TRUNC(G63*D63,0) -> 48936 | I63: 4038 | J63: =TRUNC(I63*D63,0) -> 18978 | K63: =TRUNC(E63+G63+I63,0) -> 16097 | L63: =TRUNC(F63+H63+J63,0) -> 75654
D64: 4.7 | E64: =TRUNC(일위대가목록!E16,0) -> 1647 | F64: =TRUNC(E64*D64,0) -> 7740 | G64: =TRUNC(일위대가목록!F16,0) -> 10412 | H64: =TRUNC(G64*D64,0) -> 48936 | I64: =TRUNC(일위대가목록!G16,0) -> 4038 | J64: =TRUNC(I64*D64,0) -> 18978 | K64: =TRUNC(E64+G64+I64,0) -> 16097 | L64: =TRUNC(F64+H64+J64,0) -> 75654 | N64: 5E6935D0984A9A17DB20693E48C6 | R64: T | S64: F | T64: F | AU64: 01035E6935D0984A9A17DB20693E48C6 | AV64: 24
A65: 철근 현장 가공 및 조립 | B65: 보통(미할증) | C65: TON | D65: 0.59 | E65: 13496 | F65: =TRUNC(E65*D65,0) -> 7962 | G65: 537048 | H65: =TRUNC(G65*D65,0) -> 316858 | J65: =TRUNC(I65*D65,0) -> 0 | K65: =TRUNC(E65+G65+I65,0) -> 550544 | L65: =TRUNC(F65+H65+J65,0) -> 324820
D66: 0.59 | E66: =TRUNC(일위대가목록!E17,0) -> 13496 | F66: =TRUNC(E66*D66,0) -> 7962 | G66: =TRUNC(일위대가목록!F17,0) -> 537048 | H66: =TRUNC(G66*D66,0) -> 316858 | I66: =TRUNC(일위대가목록!G17,0) -> 0 | J66: =TRUNC(I66*D66,0) -> 0 | K66: =TRUNC(E66+G66+I66,0) -> 550544 | L66: =TRUNC(F66+H66+J66,0) -> 324820 | N66: 5E6935D0984A9A17DB789B3FEBC9 | R66: T | S66: F | T66: F | AU66: 01035E6935D0984A9A17DB789B3FEBC9 | AV66: 25
A67: 합판 거푸집 설치 및 해체 | B67: 4회 사용시, 0~7m까지 | C67: M2 | D67: 1.67 | E67: 8641 | F67: =TRUNC(E67*D67,0) -> 14430 | G67: 17510 | H67: =TRUNC(G67*D67,0) -> 29241 | J67: =TRUNC(I67*D67,0) -> 0 | K67: =TRUNC(E67+G67+I67,0) -> 26151 | L67: =TRUNC(F67+H67+J67,0) -> 43671
D68: 1.67 | E68: =TRUNC(일위대가목록!E18,0) -> 8641 | F68: =TRUNC(E68*D68,0) -> 14430 | G68: =TRUNC(일위대가목록!F18,0) -> 17510 | H68: =TRUNC(G68*D68,0) -> 29241 | I68: =TRUNC(일위대가목록!G18,0) -> 0 | J68: =TRUNC(I68*D68,0) -> 0 | K68: =TRUNC(E68+G68+I68,0) -> 26151 | L68: =TRUNC(F68+H68+J68,0) -> 43671 | N68: 5E6935D0984A9A17DB6E3D3E1298 | R68: T | S68: F | T68: F | AU68: 01035E6935D0984A9A17DB6E3D3E1298 | AV68: 26
A69: 유로폼 설치 및 해체 | B69: 벽, 0~7m까지 | C69: M2 | D69: 15.21 | E69: 3189 | F69: =TRUNC(E69*D69,0) -> 48504 | G69: 18455 | H69: =TRUNC(G69*D69,0) -> 280700 | J69: =TRUNC(I69*D69,0) -> 0 | K69: =TRUNC(E69+G69+I69,0) -> 21644 | L69: =TRUNC(F69+H69+J69,0) -> 329204
D70: 15.21 | E70: =TRUNC(일위대가목록!E19,0) -> 3189 | F70: =TRUNC(E70*D70,0) -> 48504 | G70: =TRUNC(일위대가목록!F19,0) -> 18455 | H70: =TRUNC(G70*D70,0) -> 280700 | I70: =TRUNC(일위대가목록!G19,0) -> 0 | J70: =TRUNC(I70*D70,0) -> 0 | K70: =TRUNC(E70+G70+I70,0) -> 21644 | L70: =TRUNC(F70+H70+J70,0) -> 329204 | N70: 5E6935D0984A9A17DB6E7B350B73 | R70: T | S70: F | T70: F | AU70: 01035E6935D0984A9A17DB6E7B350B73 | AV70: 27
A71: [ 합 계 ] | F71: =F51+F53+F55+F57+F59+F61+F63+F65+F67+F69 -> 1844398 | H71: =H51+H53+H55+H57+H59+H61+H63+H65+H67+H69 -> 1412993 | J71: =J51+J53+J55+J57+J59+J61+J63+J65+J67+J69 -> 23159 | L71: =TRUNC(F71+H71+J71,0) -> 3280550
F72: =F52+F54+F56+F58+F60+F62+F64+F66+F68+F70 -> 1844398 | H72: =H52+H54+H56+H58+H60+H62+H64+H66+H68+H70 -> 1412993 | J72: =J52+J54+J56+J58+J60+J62+J64+J66+J68+J70 -> 23159 | L72: =TRUNC(F72+H72+J72,0) -> 3280550 | N72: TOTAL
A73: 0104 돌 공 사 | Q73: 0104
A74: 화강석붙임(건식/앵커, 버너) | B74: 벽, 포천석 30mm, 0.3㎡이하 | C74: M2 | D74: 1 | E74: 36541 | F74: =TRUNC(E74*D74,0) -> 36541 | G74: 81371 | H74: =TRUNC(G74*D74,0) -> 81371 | K74: =TRUNC(E74+G74+I74,0) -> 117912 | L74: =TRUNC(F74+H74+J74,0) -> 117912
D75: 1 | E75: =TRUNC(일위대가목록!E20,0) -> 36541 | F75: =TRUNC(E75*D75,0) -> 36541 | G75: =TRUNC(일위대가목록!F20,0) -> 81371 | H75: =TRUNC(G75*D75,0) -> 81371 | I75: =TRUNC(일위대가목록!G20,0) -> 0 | J75: =TRUNC(I75*D75,0) -> 0 | K75: =TRUNC(E75+G75+I75,0) -> 117912 | L75: =TRUNC(F75+H75+J75,0) -> 117912 | N75: 5E6935D0984A9A179D4E77316F7E | R75: T | S75: F | T75: F | AU75: 01045E6935D0984A9A179D4E77316F7E | AV75: 31
A76: 화강석 두겁돌(습식,버너) | B76: 포천석300*100mm,몰탈30mm | C76: M | D76: 5.7 | E76: 56100 | F76: =TRUNC(E76*D76,0) -> 319770 | G76: 21928 | H76: =TRUNC(G76*D76,0) -> 124989 | K76: =TRUNC(E76+G76+I76,0) -> 78028 | L76: =TRUNC(F76+H76+J76,0) -> 444759
D77: 5.7 | E77: =TRUNC(일위대가목록!E21,0) -> 56100 | F77: =TRUNC(E77*D77,0) -> 319770 | G77: =TRUNC(일위대가목록!F21,0) -> 21928 | H77: =TRUNC(G77*D77,0) -> 124989 | I77: =TRUNC(일위대가목록!G21,0) -> 0 | J77: =TRUNC(I77*D77,0) -> 0 | K77: =TRUNC(E77+G77+I77,0) -> 78028 | L77: =TRUNC(F77+H77+J77,0) -> 444759 | N77: 5E6935D0984A9A179D58B236D1D2 | R77: T | S77: F | T77: F | AU77: 01045E6935D0984A9A179D58B236D1D2 | AV77: 32
A78: 화강석붙임(습식, 버너) | B78: 바닥,포천석50mm,몰탈50mm | C78: M2 | D78: 14.75 | E78: 69300 | F78: =TRUNC(E78*D78,0) -> 1022175 | G78: 73096 | H78: =TRUNC(G78*D78,0) -> 1078166 | K78: =TRUNC(E78+G78+I78,0) -> 142396 | L78: =TRUNC(F78+H78+J78,0) -> 2100341
D79: 14.75 | E79: =TRUNC(일위대가목록!E22,0) -> 69300 | F79: =TRUNC(E79*D79,0) -> 1022175 | G79: =TRUNC(일위대가목록!F22,0) -> 73096 | H79: =TRUNC(G79*D79,0) -> 1078166 | I79: =TRUNC(일위대가목록!G22,0) -> 0 | J79: =TRUNC(I79*D79,0) -> 0 | K79: =TRUNC(E79+G79+I79,0) -> 142396 | L79: =TRUNC(F79+H79+J79,0) -> 2100341 | N79: 5E6935D0984A9A179D00803384EB | R79: T | S79: F | T79: F | AU79: 01045E6935D0984A9A179D00803384EB | AV79: 33
A80: 화강석붙임(습식, 버너) | B80: 디딤판,포천석330*50mm,몰탈50mm | C80: M | D80: 11.1 | E80: 26334 | F80: =TRUNC(E80*D80,0) -> 292307 | G80: 24121 | H80: =TRUNC(G80*D80,0) -> 267743 | K80: =TRUNC(E80+G80+I80,0) -> 50455 | L80: =TRUNC(F80+H80+J80,0) -> 560050
D81: 11.1 | E81: =TRUNC(일위대가목록!E23,0) -> 26334 | F81: =TRUNC(E81*D81,0) -> 292307 | G81: =TRUNC(일위대가목록!F23,0) -> 24121 | H81: =TRUNC(G81*D81,0) -> 267743 | I81: =TRUNC(일위대가목록!G23,0) -> 0 | J81: =TRUNC(I81*D81,0) -> 0 | K81: =TRUNC(E81+G81+I81,0) -> 50455 | L81: =TRUNC(F81+H81+J81,0) -> 560050 | N81: 5E6935D0984A9A179D00803FBF18 | R81: T | S81: F | T81: F | AU81: 01045E6935D0984A9A179D00803FBF18 | AV81: 34
A82: 화강석붙임(습식, 버너) | B82: 챌판,포천석100*20mm,몰탈25mm | C82: M | D82: 14.8 | E82: 3190 | F82: =TRUNC(E82*D82,0) -> 47212 | G82: 9547 | H82: =TRUNC(G82*D82,0) -> 141295 | K82: =TRUNC(E82+G82+I82,0) -> 12737 | L82: =TRUNC(F82+H82+J82,0) -> 188507
D83: 14.8 | E83: =TRUNC(일위대가목록!E24,0) -> 3190 | F83: =TRUNC(E83*D83,0) -> 47212 | G83: =TRUNC(일위대가목록!F24,0) -> 9547 | H83: =TRUNC(G83*D83,0) -> 141295 | I83: =TRUNC(일위대가목록!G24,0) -> 0 | J83: =TRUNC(I83*D83,0) -> 0 | K83: =TRUNC(E83+G83+I83,0) -> 12737 | L83: =TRUNC(F83+H83+J83,0) -> 188507 | N83: 5E6935D0984A9A179D00923D65E8 | R83: T | S83: F | T83: F | AU83: 01045E6935D0984A9A179D00923D65E8 | AV83: 35
A84: 화강석붙임(습식, 버너) | B84: 벽,포천석20mm,몰탈26mm | C84: M2 | D84: 7.41 | E84: 52577 | F84: =TRUNC(E84*D84,0) -> 389595 | G84: 95475 | H84: =TRUNC(G84*D84,0) -> 707469 | K84: =TRUNC(E84+G84+I84,0) -> 148052 | L84: =TRUNC(F84+H84+J84,0) -> 1097064
D85: 7.41 | E85: =TRUNC(일위대가목록!E25,0) -> 52577 | F85: =TRUNC(E85*D85,0) -> 389595 | G85: =TRUNC(일위대가목록!F25,0) -> 95475 | H85: =TRUNC(G85*D85,0) -> 707469 | I85: =TRUNC(일위대가목록!G25,0) -> 0 | J85: =TRUNC(I85*D85,0) -> 0 | K85: =TRUNC(E85+G85+I85,0) -> 148052 | L85: =TRUNC(F85+H85+J85,0) -> 1097064 | N85: 5E6935D0984A9A179D00923A9064 | R85: T | S85: F | T85: F | AU85: 01045E6935D0984A9A179D00923A9064 | AV85: 36
A94: [ 합 계 ] | F94: =F74+F76+F78+F80+F82+F84 -> 2107600 | H94: =H74+H76+H78+H80+H82+H84 -> 2401033 | J94: =J74+J76+J78+J80+J82+J84 -> 0 | L94: =TRUNC(F94+H94+J94,0) -> 4508633
F95: =F75+F77+F79+F81+F83+F85 -> 2107600 | H95: =H75+H77+H79+H81+H83+H85 -> 2401033 | J95: =J75+J77+J79+J81+J83+J85 -> 0 | L95: =TRUNC(F95+H95+J95,0) -> 4508633 | N95: TOTAL
A96: 0105 방 수 공 사 | Q96: 0105
A97: 수밀코킹(실리콘) | B97: 삼각, 10mm, 창호주위 | C97: M | D97: 21.5 | E97: 599 | F97: =TRUNC(E97*D97,0) -> 12878 | G97: 3473 | H97: =TRUNC(G97*D97,0) -> 74669 | I97: 0 | J97: =TRUNC(I97*D97,0) -> 0 | K97: =TRUNC(E97+G97+I97,0) -> 4072 | L97: =TRUNC(F97+H97+J97,0) -> 87547
D98: 21.5 | E98: =TRUNC(일위대가목록!E26,0) -> 599 | F98: =TRUNC(E98*D98,0) -> 12878 | G98: =TRUNC(일위대가목록!F26,0) -> 3473 | H98: =TRUNC(G98*D98,0) -> 74669 | I98: =TRUNC(일위대가목록!G26,0) -> 0 | J98: =TRUNC(I98*D98,0) -> 0 | K98: =TRUNC(E98+G98+I98,0) -> 4072 | L98: =TRUNC(F98+H98+J98,0) -> 87547 | N98: 5E6935D0984A8817746CC832F2BD | R98: T | S98: F | T98: F | AU98: 01055E6935D0984A8817746CC832F2BD | AV98: 38
A117: [ 합 계 ] | F117: =F97 -> 12878 | H117: =H97 -> 74669 | J117: =J97 -> 0 | L117: =TRUNC(F117+H117+J117,0) -> 87547
F118: =F98 -> 12878 | H118: =H98 -> 74669 | J118: =J98 -> 0 | L118: =TRUNC(F118+H118+J118,0) -> 87547 | N118: TOTAL
A119: 0106 금 속 공 사 | Q119: 0106
A120: 기계구조용스테인리스강관 | B120: STS304 100*100*2.0mm | C120: M | D120: 3.99 | E120: 42290 | F120: =TRUNC(E120*D120,0) -> 168737 | G120: 0 | H120: =TRUNC(G120*D120,0) -> 0 | I120: 0 | J120: =TRUNC(I120*D120,0) -> 0 | K120: =TRUNC(E120+G120+I120,0) -> 42290 | L120: =TRUNC(F120+H120+J120,0) -> 168737
D121: 3.99 | E121: =TRUNC(단가대비표!O17,0) -> 42290 | F121: =TRUNC(E121*D121,0) -> 168737 | G121: =TRUNC(단가대비표!P17,0) -> 0 | H121: =TRUNC(G121*D121,0) -> 0 | I121: =TRUNC(단가대비표!V17,0) -> 0 | J121: =TRUNC(I121*D121,0) -> 0 | K121: =TRUNC(E121+G121+I121,0) -> 42290 | L121: =TRUNC(F121+H121+J121,0) -> 168737 | N121: 5E7BB5881E46C517DDAFD13B487A | R121: F | S121: F | T121: T | AU121: 01065E7BB5881E46C517DDAFD13B487A | AV121: 40
A122: 기계구조용스테인리스강관 | B122: STS304 50*100*2.0mm | C122: M | D122: 3.99 | E122: 31420 | F122: =TRUNC(E122*D122,0) -> 125365 | G122: 0 | H122: =TRUNC(G122*D122,0) -> 0 | I122: 0 | J122: =TRUNC(I122*D122,0) -> 0 | K122: =TRUNC(E122+G122+I122,0) -> 31420 | L122: =TRUNC(F122+H122+J122,0) -> 125365
D123: 3.99 | E123: =TRUNC(단가대비표!O18,0) -> 31420 | F123: =TRUNC(E123*D123,0) -> 125365 | G123: =TRUNC(단가대비표!P18,0) -> 0 | H123: =TRUNC(G123*D123,0) -> 0 | I123: =TRUNC(단가대비표!V18,0) -> 0 | J123: =TRUNC(I123*D123,0) -> 0 | K123: =TRUNC(E123+G123+I123,0) -> 31420 | L123: =TRUNC(F123+H123+J123,0) -> 125365 | N123: 5E7BB5881E46C517DDAFD139962B | R123: F | S123: F | T123: T | AU123: 01065E7BB5881E46C517DDAFD139962B | AV123: 41
A124: 부대철골가공조립 | B124: 중도리.띠장,캐노피 | C124: TON | D124: 0.04 | E124: 0 | F124: =TRUNC(E124*D124,0) -> 0 | G124: 530984 | H124: =TRUNC(G124*D124,0) -> 21239 | I124: 0 | J124: =TRUNC(I124*D124,0) -> 0 | K124: =TRUNC(E124+G124+I124,0) -> 530984 | L124: =TRUNC(F124+H124+J124,0) -> 21239
D125: 0.04 | E125: =TRUNC(일위대가목록!E27,0) -> 0 | F125: =TRUNC(E125*D125,0) -> 0 | G125: =TRUNC(일위대가목록!F27,0) -> 530984 | H125: =TRUNC(G125*D125,0) -> 21239 | I125: =TRUNC(일위대가목록!G27,0) -> 0 | J125: =TRUNC(I125*D125,0) -> 0 | K125: =TRUNC(E125+G125+I125,0) -> 530984 | L125: =TRUNC(F125+H125+J125,0) -> 21239 | N125: 5E6935D0984A9A17AFF67A31EFCC | R125: T | S125: F | T125: F | AU125: 01065E6935D0984A9A17AFF67A31EFCC | AV125: 42
A126: AL몰딩설(W형) | B126: 칼라, 15*15*15*15*1.0mm | C126: M | D126: 39.95 | E126: 2329 | F126: =TRUNC(E126*D126,0) -> 93043 | G126: 4931 | H126: =TRUNC(G126*D126,0) -> 196993 | I126: 0 | J126: =TRUNC(I126*D126,0) -> 0 | K126: =TRUNC(E126+G126+I126,0) -> 7260 | L126: =TRUNC(F126+H126+J126,0) -> 290036
D127: 39.95 | E127: =TRUNC(일위대가목록!E28,0) -> 2329 | F127: =TRUNC(E127*D127,0) -> 93043 | G127: =TRUNC(일위대가목록!F28,0) -> 4931 | H127: =TRUNC(G127*D127,0) -> 196993 | I127: =TRUNC(일위대가목록!G28,0) -> 0 | J127: =TRUNC(I127*D127,0) -> 0 | K127: =TRUNC(E127+G127+I127,0) -> 7260 | L127: =TRUNC(F127+H127+J127,0) -> 290036 | N127: 5E6935D0984A881758340E32510B | R127: T | S127: F | T127: F | AU127: 01065E6935D0984A881758340E32510B | AV127: 43
A128: 천장 점검구 설치 | B128: AL 백색, 450*450mm | C128: 개 | D128: 2 | E128: 10954 | F128: =TRUNC(E128*D128,0) -> 21908 | G128: 50165 | H128: =TRUNC(G128*D128,0) -> 100330 | I128: 0 | J128: =TRUNC(I128*D128,0) -> 0 | K128: =TRUNC(E128+G128+I128,0) -> 61119 | L128: =TRUNC(F128+H128+J128,0) -> 122238
D129: 2 | E129: =TRUNC(일위대가목록!E29,0) -> 10954 | F129: =TRUNC(E129*D129,0) -> 21908 | G129: =TRUNC(일위대가목록!F29,0) -> 50165 | H129: =TRUNC(G129*D129,0) -> 100330 | I129: =TRUNC(일위대가목록!G29,0) -> 0 | J129: =TRUNC(I129*D129,0) -> 0 | K129: =TRUNC(E129+G129+I129,0) -> 61119 | L129: =TRUNC(F129+H129+J129,0) -> 122238 | N129: 5E6935D0984A8817586129337A85 | R129: T | S129: F | T129: F | AU129: 01065E6935D0984A8817586129337A85 | AV129: 113
A130: 스테인리스재료분리대 | B130: 바닥, W100*H20*1.5t | C130: M | D130: 1.8 | E130: 15218 | F130: =TRUNC(E130*D130,0) -> 27392 | G130: 23179 | H130: =TRUNC(G130*D130,0) -> 41722 | I130: 72 | J130: =TRUNC(I130*D130,0) -> 129 | K130: =TRUNC(E130+G130+I130,0) -> 38469 | L130: =TRUNC(F130+H130+J130,0) -> 69243
D131: 1.8 | E131: =TRUNC(일위대가목록!E30,0) -> 15218 | F131: =TRUNC(E131*D131,0) -> 27392 | G131: =TRUNC(일위대가목록!F30,0) -> 23179 | H131: =TRUNC(G131*D131,0) -> 41722 | I131: =TRUNC(일위대가목록!G30,0) -> 72 | J131: =TRUNC(I131*D131,0) -> 129 | K131: =TRUNC(E131+G131+I131,0) -> 38469 | L131: =TRUNC(F131+H131+J131,0) -> 69243 | N131: 5E6935D0984A8817589E983520E6 | R131: T | S131: F | T131: F | AU131: 01065E6935D0984A8817589E983520E6 | AV131: 44
A140: [ 합 계 ] | F140: =F120+F122+F124+F126+F128+F130 -> 436445 | H140: =H120+H122+H124+H126+H128+H130 -> 360284 | J140: =J120+J122+J124+J126+J128+J130 -> 129 | L140: =TRUNC(F140+H140+J140,0) -> 796858
F141: =F121+F123+F125+F127+F129+F131 -> 436445 | H141: =H121+H123+H125+H127+H129+H131 -> 360284 | J141: =J121+J123+J125+J127+J129+J131 -> 129 | L141: =TRUNC(F141+H141+J141,0) -> 796858 | N141: TOTAL
A142: 0107 창 호 공 사 | Q142: 0107
A143: 도어클로우저 | B143: KS5호,고급형,80∼120kg(K-850) | C143: 조 | D143: 2 | E143: 75000 | F143: =TRUNC(E143*D143,0) -> 150000 | H143: =TRUNC(G143*D143,0) -> 0 | J143: =TRUNC(I143*D143,0) -> 0 | K143: =TRUNC(E143+G143+I143,0) -> 75000 | L143: =TRUNC(F143+H143+J143,0) -> 150000
D144: 2 | E144: =TRUNC(단가대비표!O22,0) -> 75000 | F144: =TRUNC(E144*D144,0) -> 150000 | G144: =TRUNC(단가대비표!P22,0) -> 0 | H144: =TRUNC(G144*D144,0) -> 0 | I144: =TRUNC(단가대비표!V22,0) -> 0 | J144: =TRUNC(I144*D144,0) -> 0 | K144: =TRUNC(E144+G144+I144,0) -> 75000 | L144: =TRUNC(F144+H144+J144,0) -> 150000 | N144: 5E6965A9FB470217C01AD63EF45F | R144: F | S144: F | T144: T | AU144: 01075E6965A9FB470217C01AD63EF45F | AV144: 46
A145: 도어 핸들 | B145: 보조록, K380 | C145: 조 | D145: 1 | E145: 31000 | F145: =TRUNC(E145*D145,0) -> 31000 | H145: =TRUNC(G145*D145,0) -> 0 | J145: =TRUNC(I145*D145,0) -> 0 | K145: =TRUNC(E145+G145+I145,0) -> 31000 | L145: =TRUNC(F145+H145+J145,0) -> 31000
D146: 1 | E146: =TRUNC(단가대비표!O73,0) -> 31000 | F146: =TRUNC(E146*D146,0) -> 31000 | G146: =TRUNC(단가대비표!P73,0) -> 0 | H146: =TRUNC(G146*D146,0) -> 0 | I146: =TRUNC(단가대비표!V73,0) -> 0 | J146: =TRUNC(I146*D146,0) -> 0 | K146: =TRUNC(E146+G146+I146,0) -> 31000 | L146: =TRUNC(F146+H146+J146,0) -> 31000 | N146: 5E6935DE7947BE174532D03F40DF | R146: F | S146: F | T146: T | AU146: 01075E6935DE7947BE174532D03F40DF | AV146: 49
A147: 도어록(현관, 방화문) | B147: LEVER | C147: 조 | D147: 1 | E147: 38000 | F147: =TRUNC(E147*D147,0) -> 38000 | H147: =TRUNC(G147*D147,0) -> 0 | J147: =TRUNC(I147*D147,0) -> 0 | K147: =TRUNC(E147+G147+I147,0) -> 38000 | L147: =TRUNC(F147+H147+J147,0) -> 38000
D148: 1 | E148: =TRUNC(단가대비표!O74,0) -> 38000 | F148: =TRUNC(E148*D148,0) -> 38000 | G148: =TRUNC(단가대비표!P74,0) -> 0 | H148: =TRUNC(G148*D148,0) -> 0 | I148: =TRUNC(단가대비표!V74,0) -> 0 | J148: =TRUNC(I148*D148,0) -> 0 | K148: =TRUNC(E148+G148+I148,0) -> 38000 | L148: =TRUNC(F148+H148+J148,0) -> 38000 | N148: 5E6935DE7947BE174532D03D96DC | R148: F | S148: F | T148: T | AU148: 01075E6935DE7947BE174532D03D96DC | AV148: 50
...

Sheet 일위대가목록
A1: 일 위 대 가 목 록
A2: [ 서귀포 중앙동우체국 임대공간 조성건축공사 ]
A3: 코 드 | B3: 품 명 | C3: 규 격 | D3: 단위 | E3: 재 료 비 | F3: 노 무 비 | G3: 경 비 | H3: 합 계 | I3: 번 호 | J3: 비 고 | K3: 노임계수 | L3: 할증 | M3: 품셈개요
A4: 5E6935D0984A9A17F7FF443DCA3F | B4: 면적당규준틀 | D4: M2 | E4: =일위대가!F8 -> 718 | F4: =일위대가!H8 -> 3912 | G4: =일위대가!J8 -> 0 | H4: =E4+F4+G4 -> 4630 | I4: 호표 1 | M4: 토목 2-4-2.3
A5: 5E6935D0984A9A17F7DC48342078 | B5: 이동식강관말비계 | C5: 1단(2m), 3개월 | D5: 1대 | E5: =일위대가!F21 -> 45633 | F5: =일위대가!H21 -> 52683 | G5: =일위대가!J21 -> 0 | H5: =E5+F5+G5 -> 98316 | I5: 호표 2 | M5: 토목 2-6-3, 5
A6: 5E6935D0984A9A17F7B1933E3015 | B6: CONC보양 | C6: 살수 | D6: M2 | E6: =일위대가!F25 -> 0 | F6: =일위대가!H25 -> 351 | G6: =일위대가!J25 -> 0 | H6: =E6+F6+G6 -> 351 | I6: 호표 3 | M6: 토목 2-9
A7: 5E6935D0984A9A17F7B1933E313B | B7: 건축물보양-석재면,테라조면 | C7: 하드롱지 | D7: M2 | E7: =일위대가!F31 -> 378 | F7: =일위대가!H31 -> 878 | G7: =일위대가!J31 -> 0 | H7: =E7+F7+G7 -> 1256 | I7: 호표 4 | M7: 토목 2-9
A8: 5E6935D0984A9A17F7B181372BCD | B8: 건축물현장정리 | C8: 철근CON'C조 | D8: M2 | E8: =일위대가!F35 -> 0 | F8: =일위대가!H35 -> 13170 | G8: =일위대가!J35 -> 0 | H8: =E8+F8+G8 -> 13170 | I8: 호표 5 | M8: 토목 2-10
A9: 5E6935D0984A9A17F7B181372E80 | B9: 건축물현장정리 | C9: 개보수,리모델링 | D9: M2 | E9: =일위대가!F39 -> 0 | F9: =일위대가!H39 -> 3073 | G9: =일위대가!J39 -> 0 | H9: =E9+F9+G9 -> 3073 | I9: 호표 6
A10: 5E6935D0984A9A17F784553D66FA | B10: 거푸집 먹매김 | C10: 일반 | D10: M2 | E10: =일위대가!F43 -> 0 | F10: =일위대가!H43 -> 1671 | G10: =일위대가!J43 -> 0 | H10: =E10+F10+G10 -> 1671 | I10: 호표 7 | M10: 건축 11-1
A11: 5E6935D0984A9A17F7B1933FDB38 | B11: 가설칸막이설치(공사완료후철거) | C11: 벽체띠장45*45@600*600,합판2.7mm | D11: M2 | E11: =일위대가!F51 -> 6372 | F11: =일위대가!H51 -> 18015 | G11: =일위대가!J51 -> 0 | H11: =E11+F11+G11 -> 24387 | I11: 호표 8
A12: 5E6935D0984A9A17CA842136BF7F | B12: 터파기 | C12: 보통토사. 백호90%+인력10% | D12: M3 | E12: =일위대가!F55 -> 264 | F12: =일위대가!H55 -> 2149 | G12: =일위대가!J55 -> 300 | H12: =E12+F12+G12 -> 2713 | I12: 호표 9 | M12: 토목 11-3
A13: 5E6935D0984A9A17CAFF073D8498 | B13: 혼합골재깔기지정 | C13: 백호0.2m3+진동롤러(핸드가이드) | D13: M3 | E13: =일위대가!F60 -> 779 | F13: =일위대가!H60 -> 4018 | G13: =일위대가!J60 -> 921 | H13: =E13+F13+G13 -> 5718 | I13: 호표 10
A14: 5E6935D0984A9A17AFE41B3E22E6 | B14: 케미컬앵커볼트설치 | C14: M12*110,HILTI-HY200,볼트포함 | D14: 개소 | E14: =일위대가!F67 -> 9292 | F14: =일위대가!H67 -> 6794 | G14: =일위대가!J67 -> 0 | H14: =E14+F14+G14 -> 16086 | I14: 호표 11
A15: 5E6935D0984A9A17DB207A3495C4 | B15: 무근콘크리트타설/펌프카(36m) | C15: 슬럼프8∼12, 50m3미만[80~95] | D15: M3 | E15: =일위대가!F72 -> 1551 | F15: =일위대가!H72 -> 9364 | G15: =일위대가!J72 -> 3801 | H15: =E15+F15+G15 -> 14716 | I15: 호표 12 | M15: 토목 6-1-2
A16: 5E6935D0984A9A17DB20693E48C6 | B16: 철근콘크리트타설/펌프카(36m) | C16: 슬럼프15,50m3미만[80~95] | D16: M3 | E16: =일위대가!F77 -> 1647 | F16: =일위대가!H77 -> 10412 | G16: =일위대가!J77 -> 4038 | H16: =E16+F16+G16 -> 16097 | I16: 호표 13 | M16: 토목 6-1-2
A17: 5E6935D0984A9A17DB789B3FEBC9 | B17: 철근 현장 가공 및 조립 | C17: 보통(미할증) | D17: TON | E17: =일위대가!F83 -> 13496 | F17: =일위대가!H83 -> 537048 | G17: =일위대가!J83 -> 0 | H17: =E17+F17+G17 -> 550544 | I17: 호표 14 | M17: 토목 6-2-1
A18: 5E6935D0984A9A17DB6E3D3E1298 | B18: 합판 거푸집 설치 및 해체 | C18: 4회 사용시, 0~7m까지 | D18: M2 | E18: =일위대가!F90 -> 8641 | F18: =일위대가!H90 -> 17510 | G18: =일위대가!J90 -> 0 | H18: =E18+F18+G18 -> 26151 | I18: 호표 15 | M18: 토목 6-3-2
A19: 5E6935D0984A9A17DB6E7B350B73 | B19: 유로폼 설치 및 해체 | C19: 벽, 0~7m까지 | D19: M2 | E19: =일위대가!F95 -> 3189 | F19: =일위대가!H95 -> 18455 | G19: =일위대가!J95 -> 0 | H19: =E19+F19+G19 -> 21644 | I19: 호표 16 | M19: 토목 6-3-5
A20: 5E6935D0984A9A179D4E77316F7E | B20: 화강석붙임(건식/앵커, 버너) | C20: 벽, 포천석 30mm, 0.3㎡이하 | D20: M2 | E20: =일위대가!F100 -> 36541 | F20: =일위대가!H100 -> 81371 | G20: =일위대가!J100 -> 0 | H20: =E20+F20+G20 -> 117912 | I20: 호표 17 | M20: 건축 9-1-2.1(2)
A21: 5E6935D0984A9A179D58B236D1D2 | B21: 화강석 두겁돌(습식,버너) | C21: 포천석300*100mm,몰탈30mm | D21: M | E21: =일위대가!F106 -> 56100 | F21: =일위대가!H106 -> 21928 | G21: =일위대가!J106 -> 0 | H21: =E21+F21+G21 -> 78028 | I21: 호표 18
A22: 5E6935D0984A9A179D00803384EB | B22: 화강석붙임(습식, 버너) | C22: 바닥,포천석50mm,몰탈50mm | D22: M2 | E22: =일위대가!F112 -> 69300 | F22: =일위대가!H112 -> 73096 | G22: =일위대가!J112 -> 0 | H22: =E22+F22+G22 -> 142396 | I22: 호표 19
A23: 5E6935D0984A9A179D00803FBF18 | B23: 화강석붙임(습식, 버너) | C23: 디딤판,포천석330*50mm,몰탈50mm | D23: M | E23: =일위대가!F118 -> 26334 | F23: =일위대가!H118 -> 24121 | G23: =일위대가!J118 -> 0 | H23: =E23+F23+G23 -> 50455 | I23: 호표 20
A24: 5E6935D0984A9A179D00923D65E8 | B24: 화강석붙임(습식, 버너) | C24: 챌판,포천석100*20mm,몰탈25mm | D24: M | E24: =일위대가!F124 -> 3190 | F24: =일위대가!H124 -> 9547 | G24: =일위대가!J124 -> 0 | H24: =E24+F24+G24 -> 12737 | I24: 호표 21
A25: 5E6935D0984A9A179D00923A9064 | B25: 화강석붙임(습식, 버너) | C25: 벽,포천석20mm,몰탈26mm | D25: M2 | E25: =일위대가!F131 -> 52577 | F25: =일위대가!H131 -> 95475 | G25: =일위대가!J131 -> 0 | H25: =E25+F25+G25 -> 148052 | I25: 호표 22
A26: 5E6935D0984A8817746CC832F2BD | B26: 수밀코킹(실리콘) | C26: 삼각, 10mm, 창호주위 | D26: M | E26: =일위대가!F136 -> 599 | F26: =일위대가!H136 -> 3473 | G26: =일위대가!J136 -> 0 | H26: =E26+F26+G26 -> 4072 | I26: 호표 23 | M26: 건축 12-12-1
A27: 5E6935D0984A9A17AFF67A31EFCC | B27: 부대철골가공조립 | C27: 중도리.띠장,캐노피 | D27: TON | E27: =일위대가!F140 -> 0 | F27: =일위대가!H140 -> 530984 | G27: =일위대가!J140 -> 0 | H27: =E27+F27+G27 -> 530984 | I27: 호표 24 | M27: 건축 7-4
A28: 5E6935D0984A881758340E32510B | B28: AL몰딩설(W형) | C28: 칼라, 15*15*15*15*1.0mm | D28: M | E28: =일위대가!F146 -> 2329 | F28: =일위대가!H146 -> 4931 | G28: =일위대가!J146 -> 0 | H28: =E28+F28+G28 -> 7260 | I28: 호표 25 | M28: 건축 14-8
A29: 5E6935D0984A8817586129337A85 | B29: 천장 점검구 설치 | C29: AL 백색, 450*450mm | D29: 개 | E29: =일위대가!F154 -> 10954 | F29: =일위대가!H154 -> 50165 | G29: =일위대가!J154 -> 0 | H29: =E29+F29+G29 -> 61119 | I29: 호표 26 | M29: 건축 14-10
A30: 5E6935D0984A8817589E983520E6 | B30: 스테인리스재료분리대 | C30: 바닥, W100*H20*1.5t | D30: M | E30: =일위대가!F164 -> 15218 | F30: =일위대가!H164 -> 23179 | G30: =일위대가!J164 -> 72 | H30: =E30+F30+G30 -> 38469 | I30: 호표 27
A31: 5E6935D0984A88173D21303FFAB7 | B31: 도아체크달기 | C31: 재료비 별도 | D31: 개소 | E31: =일위대가!F170 -> 0 | F31: =일위대가!H170 -> 10948 | G31: =일위대가!J170 -> 218 | H31: =E31+F31+G31 -> 11166 | I31: 호표 28 | M31: 건축 16-3
A32: 5E6935D0984A88173D210B3BBD1E | B32: 플로아힌지설치 | C32: 재료비 별도 | D32: 개소 | E32: =일위대가!F176 -> 0 | F32: =일위대가!H176 -> 16953 | G32: =일위대가!J176 -> 339 | H32: =E32+F32+G32 -> 17292 | I32: 호표 29 | M32: 건축 16-3
A33: 5E6935D0984A88173D216C3409EF | B33: 도아록설치 | C33: 강재문, 재료비 별도 | D33: 개소 | E33: =일위대가!F181 -> 0 | F33: =일위대가!H181 -> 1459 | G33: =일위대가!J181 -> 29 | H33: =E33+F33+G33 -> 1488 | I33: 호표 30 | M33: 건축 16-3
A34: 5E6935D0984A88173D27A236F9FE | B34: AD01[CAL FIX+여닫이문] | C34: 0.000 x 0.000 = 15.400 | D34: EA | E34: =일위대가!F188 -> 2986200 | F34: =일위대가!H188 -> 78125 | G34: =일위대가!J188 -> 1562 | H34: =E34+F34+G34 -> 3065887 | I34: 호표 31
A35: 5E6935D0984A88173D27A236F9FC | B35: SD01[철재여닫이문] | C35: 1.500 x 2.100 = 3.150 | D35: EA | E35: =일위대가!F195 -> 270577 | F35: =일위대가!H195 -> 140450 | G35: =일위대가!J195 -> 1599 | H35: =E35+F35+G35 -> 412626 | I35: 호표 32
A36: 5E6935D0984A88173D27A236F9FA | B36: SST01[SST PIPE전동셔터] | C36: 1.850 x 3.250 = 6.012 | D36: EA | E36: =일위대가!F202 -> 1551524 | F36: =일위대가!H202 -> 477050 | G36: =일위대가!J202 -> 9541 | H36: =E36+F36+G36 -> 2038115 | I36: 호표 33
A37: 5E6935D0984A88173D27A236F9F8 | B37: SST02[SST PIPE전동셔터] | C37: 3.200 x 3.250 = 10.400 | D37: EA | E37: =일위대가!F209 -> 2275200 | F37: =일위대가!H209 -> 572901 | G37: =일위대가!J209 -> 11458 | H37: =E37+F37+G37 -> 2859559 | I37: 호표 34
A38: 5E6935D0984A88173DB0F43A2737 | B38: 창문틀 주위 충전 | C38: 모르타르 충전 | D38: M | E38: =일위대가!F216 -> 0 | F38: =일위대가!H216 -> 2322 | G38: =일위대가!J216 -> 0 | H38: =E38+F38+G38 -> 2322 | I38: 호표 35 | M38: 건축 16-3-1
A39: 5E6935D0984A88172CDEF83AC25D | B39: 유리끼우기-복층유리,일반창호 | C39: 24mm(6+12A+6) | D39: M2 | E39: =일위대가!F220 -> 0 | F39: =일위대가!H220 -> 17009 | G39: =일위대가!J220 -> 0 | H39: =E39+F39+G39 -> 17009 | I39: 호표 36 | M39: 건축 16-5-2
A40: 5E6935D0984A88172C86CE3AD2F4 | B40: 복층유리주위코킹 | C40: 5*5, 실리콘 | D40: M | E40: =일위대가!F224 -> 299 | F40: =일위대가!H224 -> 0 | G40: =일위대가!J224 -> 0 | H40: =E40+F40+G40 -> 299 | I40: 호표 37 | M40: 건축 12-12-1
A41: 5E6935D0984A881712EFB839F023 | B41: 아크릴본타일 뿜칠 | C41: 내벽 | D41: M2 | E41: =일위대가!F235 -> 14038 | F41: =일위대가!H235 -> 19418 | G41: =일위대가!J235 -> 0 | H41: =E41+F41+G41 -> 33456 | I41: 호표 38
A42: 5E6935D0984AE217DDDF653F9A6B | B42: 바탕+수성페인트(롤러)+퍼티연마 | C42: 내2회,1급,Con'c·Mortar면 | D42: M2 | E42: =일위대가!F242 -> 934 | F42: =일위대가!H242 -> 5289 | G42: =일위대가!J242 -> 0 | H42: =E42+F42+G42 -> 6223 | I42: 호표 39
A43: 5E6935D0984AE217DDA284301099 | B43: 바탕만들기+수성페인트(롤러칠) | C43: 내천장,2회1급,보드면(줄퍼티) | D43: M2 | E43: =일위대가!F248 -> 2102 | F43: =일위대가!H248 -> 10120 | G43: =일위대가!J248 -> 123 | H43: =E43+F43+G43 -> 12345 | I43: 호표 40 | M43: 건축 17-2-2
A44: 5E6935D0984A9A1772BCA93EBB82 | B44: 불연천정재 - 시공비 | D44: M2 | E44: =일위대가!F254 -> 35 | F44: =일위대가!H254 -> 11356 | G44: =일위대가!J254 -> 0 | H44: =E44+F44+G44 -> 11391 | I44: 호표 41
A45: 5E6935D0984A9A1772BCA93C8D87 | B45: 석고판 나사 고정(치장용) | C45: 천장,바탕용(1겹)+치장용(1겹) | D45: M2 | E45: =일위대가!F259 -> 2981 | F45: =일위대가!H259 -> 15245 | G45: =일위대가!J259 -> 152 | H45: =E45+F45+G45 -> 18378 | I45: 호표 42
A46: 5E6935D0994B2417908DD437A9AD | B46: 평떼(들떼)붙임 | C46: 잔디 0.3*0.3*0.03M | D46: M2 | E46: =일위대가!F264 -> 4766 | F46: =일위대가!H264 -> 3260 | G46: =일위대가!J264 -> 0 | H46: =E46+F46+G46 -> 8026 | I46: 호표 43 | M46: 토목 4-1-1
A47: 5E6935D0984A8817EFF3CA3298D7 | B47: 이미지월 철거 | C47: 해체재 재사용 안 함 | D47: M2 | E47: =일위대가!F269 -> 0 | F47: =일위대가!H269 -> 7649 | G47: =일위대가!J269 -> 0 | H47: =E47+F47+G47 -> 7649 | I47: 호표 44
A48: 5E6935D0984A8817EFF3CA30EA78 | B48: 자판기 및 에어컨박스 철거 | C48: 900*2800*H3000 | D48: EA | E48: =일위대가!F273 -> 0 | F48: =일위대가!H273 -> 77604 | G48: =일위대가!J273 -> 0 | H48: =E48+F48+G48 -> 77604 | I48: 호표 45
A49: 5E6935D0984A8817EFF3CA356D5B | B49: 석고보드 철거(천장) | C49: 해체재 재사용 안 함 | D49: M2 | E49: =일위대가!F278 -> 0 | F49: =일위대가!H278 -> 3888 | G49: =일위대가!J278 -> 0 | H49: =E49+F49+G49 -> 3888 | I49: 호표 46
A50: 5E6935D0984A8817EFF3CA356D58 | B50: 텍스 철거(천장) | C50: 해체재 재사용 안 함 | D50: M2 | E50: =일위대가!F283 -> 0 | F50: =일위대가!H283 -> 3888 | G50: =일위대가!J283 -> 0 | H50: =E50+F50+G50 -> 3888 | I50: 호표 47
A51: 5E6935D0984A8817EFE1013A90EA | B51: 철근절단 | C51: 철근콘크리트철거시 | D51: 10M3 | E51: =일위대가!F290 -> 39302 | F51: =일위대가!H290 -> 161419 | G51: =일위대가!J290 -> 0 | H51: =E51+F51+G51 -> 200721 | I51: 호표 48
A52: 5E6935D0984A8817EFE1013D6449 | B52: 철근콘크리트벽 철거 | C52: 소형브레이커25kg | D52: M3 | E52: =일위대가!F294 -> 15107 | F52: =일위대가!H294 -> 145126 | G52: =일위대가!J294 -> 4556 | H52: =E52+F52+G52 -> 164789 | I52: 호표 49 | M52: 건축 19-1-3,3
A53: 5E6935D0984A8817EFE10131B298 | B53: 조경수 철거 | C53: 교목,H:2.0M | D53: 주 | E53: =일위대가!F298 -> 0 | F53: =일위대가!H298 -> 11713 | G53: =일위대가!J298 -> 0 | H53: =E53+F53+G53 -> 11713 | I53: 호표 50
A54: 5E6935D0984A8817EF88AA303140 | B54: 알미늄창호 철거 | D54: M2 | E54: =일위대가!F304 -> 1714 | F54: =일위대가!H304 -> 34282 | G54: =일위대가!J304 -> 0 | H54: =E54+F54+G54 -> 35996 | I54: 호표 51
A55: 5E6935D0984A8817EF88AA3036C3 | B55: 목재창 철거 | D55: M2 | E55: =일위대가!F310 -> 1476 | F55: =일위대가!H310 -> 29527 | G55: =일위대가!J310 -> 0 | H55: =E55+F55+G55 -> 31003 | I55: 호표 52
A56: 5E6935D0984A8817EF88B437B8B5 | B56: 화강석 철거 | C56: 판석 | D56: M2 | E56: =일위대가!F315 -> 1317 | F56: =일위대가!H315 -> 26341 | G56: =일위대가!J315 -> 0 | H56: =E56+F56+G56 -> 27658 | I56: 호표 53
A57: 5E6935D0984A8817EFB42C32CD35 | B57: 벽체 절단 | D57: M | E57: =일위대가!F323 -> 11507 | F57: =일위대가!H323 -> 9768 | G57: =일위대가!J323 -> 4468 | H57: =E57+F57+G57 -> 25743 | I57: 호표 54
A58: 5E6935D0984A8817EFABA63AE6D3 | B58: 건설폐기물상차.운반비-중간처리 | C58: 15톤덤프, 30km이하 | D58: TON | E58: =일위대가!F328 -> 0 | F58: =일위대가!H328 -> 0 | G58: =일위대가!J328 -> 13660 | H58: =E58+F58+G58 -> 13660 | I58: 호표 55
A59: 5E6935D0984A8817EFABA63AE6DC | B59: 건설폐기물상차.운반비-매립지 | C59: 15톤덤프, 30km이하 | D59: TON | E59: =일위대가!F333 -> 0 | F59: =일위대가!H333 -> 0 | G59: =일위대가!J333 -> 64456 | H59: =E59+F59+G59 -> 64456 | I59: 호표 56
A60: 5E6935D0994B1A1767B0A53EAEA3 | B60: 굴삭기(무한궤도) | C60: 0.7M3 | D60: HR | E60: =일위대가!F340 -> 17303 | F60: =일위대가!H340 -> 25758 | G60: =일위대가!J340 -> 19708 | H60: =E60+F60+G60 -> 62769 | I60: 호표 57 | K60: A | M60: 토목 11-3.4
A61: 5E6935D0994B1A1767B0A53D8170 | B61: 굴삭기(무한궤도) | C61: 0.2M3 | D61: HR | E61: =일위대가!F347 -> 7397 | F61: =일위대가!H347 -> 25758 | G61: =일위대가!J347 -> 11251 | H61: =E61+F61+G61 -> 44406 | I61: 호표 58 | K61: A | M61: 토목 11-3.4
A62: 5E6935D0994B1A17678B613CF046 | B62: 진동롤러(핸드가이드식) | C62: 0.7톤 | D62: HR | E62: =일위대가!F354 -> 3039 | F62: =일위대가!H354 -> 25758 | G62: =일위대가!J354 -> 1563 | H62: =E62+F62+G62 -> 30360 | I62: 호표 59 | K62: A | M62: 토목 11-9.4
A63: 5E6935D0994B1A17678B613BEFFD | B63: 래머 | C63: 80kg | D63: HR | E63: =일위대가!F361 -> 1085 | F63: =일위대가!H361 -> 18412 | G63: =일위대가!J361 -> 412 | H63: =E63+F63+G63 -> 19909 | I63: 호표 60 | K63: A | M63: 토목 11-11.3
A64: 5E6935D0994B1A1767B0A534AA6F | B64: 덤프트럭 | C64: 15톤 | D64: HR | E64: =일위대가!F368 -> 26828 | F64: =일위대가!H368 -> 25758 | G64: =일위대가!J368 -> 17283 | H64: =E64+F64+G64 -> 69869 | I64: 호표 61 | K64: A | M64: 토목 11-8.9
A65: 5E6935D0994B1A1767B0A535B30E | B65: 덤프트럭 자동덮개시설 | C65: 15톤 | D65: HR | E65: =일위대가!F372 -> 0 | F65: =일위대가!H372 -> 0 | G65: =일위대가!J372 -> 329 | H65: =E65+F65+G65 -> 329 | I65: 호표 62 | K65: A | M65: 토목 11-8.9
A66: 5E6935D0994B1A1767FE5E3DCDD4 | B66: 콘크리트 펌프차 | C66: 36M, [80~95](㎥/hr) | D66: HR | E66: =일위대가!F379 -> 29216 | F66: =일위대가!H379 -> 25758 | G66: =일위대가!J379 -> 71597 | H66: =E66+F66+G66 -> 126571 | I66: 호표 63 | K66: A | M66: 토목 11-27(6-1-2)
A67: 5E6935D0984A9A17DB43493AEDC2 | B67: 콘크리트 펌프차 타설인부 | C67: 붐타설, 무근구조물 | D67: M3 | E67: =일위대가!F384 -> 0 | F67: =일위대가!H384 -> 7997 | G67: =일위대가!J384 -> 0 | H67: =E67+F67+G67 -> 7997 | I67: 호표 64 | M67: 토목 6-1-2.2
A68: 5E6935D0984A9A17DB43493AEEE9 | B68: 콘크리트 펌프차 타설인부 | C68: 붐타설, 철근구조물 | D68: M3 | E68: =일위대가!F389 -> 0 | F68: =일위대가!H389 -> 8960 | G68: =일위대가!J389 -> 0 | H68: =E68+F68+G68 -> 8960 | I68: 호표 65 | M68: 토목 6-1-2.2
A69: 5E6935D0984A9A17DB789B3FEBC8 | B69: 철근 현장 가공 | C69: 보통 | D69: TON | E69: =일위대가!F395 -> 4266 | F69: =일위대가!H395 -> 213306 | G69: =일위대가!J395 -> 0 | H69: =E69+F69+G69 -> 217572 | I69: 호표 66 | M69: 토목 6-2-1
A70: 5E6935D0984A9A17DB789B3FEBCA | B70: 철근 현장 조립 | C70: 보통 | D70: TON | E70: =일위대가!F400 -> 0 | F70: =일위대가!H400 -> 323742 | G70: =일위대가!J400 -> 0 | H70: =E70+F70+G70 -> 323742 | I70: 호표 67 | M70: 토목 6-2-1
A71: 5E6935D0984A9A17DB6E3D3C69BE | B71: 합판 거푸집 - 재료비 | C71: 1회 사용시, 0~7m까지 | D71: M2 | E71: =일위대가!F409 -> 21551 | F71: =일위대가!H409 -> 0 | G71: =일위대가!J409 -> 0 | H71: =E71+F71+G71 -> 21551 | I71: 호표 68 | M71: 토목 6-3-2
A72: 5E6935D0984A9A17DB6E3D3C6A45 | B72: 합판 거푸집 - 노무비(제작,조립,철거 포함) | C72: 1회 사용시, 0~7m까지 | D72: M2 | E72: =일위대가!F414 -> 0 | F72: =일위대가!H414 -> 43776 | G72: =일위대가!J414 -> 0 | H72: =E72+F72+G72 -> 43776 | I72: 호표 69 | M72: 토목 6-3-2
A73: 5E6935D0984A9A17DB6E69302E9F | B73: 유로폼 - 자재비 | C73: 벽, 0~7m까지 | D73: 10M2 | E73: =일위대가!F425 -> 26354 | F73: =일위대가!H425 -> 0 | G73: =일위대가!J425 -> 0 | H73: =E73+F73+G73 -> 26354 | I73: 호표 70 | M73: 토목 6-3-5
A74: 5E6935D0984A9A17DB6E69302CD1 | B74: 유로폼 - 노무비(조립, 해체) | C74: 조립, 해체, 0~7m까지 | D74: 10M2 | E74: =일위대가!F431 -> 5536 | F74: =일위대가!H431 -> 184559 | G74: =일위대가!J431 -> 0 | H74: =E74+F74+G74 -> 190095 | I74: 호표 71 | M74: 토목 6-3-5
A75: 5E6935D0984A9A179D4E0C323DE6 | B75: 화강석붙임(앵커지지시공비,줄눈포함) | C75: 건식벽, 0.3㎡ 이하 | D75: M2 | E75: =일위대가!F438 -> 2441 | F75: =일위대가!H438 -> 81371 | G75: =일위대가!J438 -> 0 | H75: =E75+F75+G75 -> 83812 | I75: 호표 72 | M75: 건축 9-1-2.1(2)
A76: 5E6935D0984A9A179D7B7735BB6B | B76: 모르타르비빔 -돌붙임(바닥) | C76: 배합용적비 1:3 | D76: M3 | E76: =일위대가!F443 -> 0 | F76: =일위대가!H443 -> 0 | G76: =일위대가!J443 -> 0 | H76: =E76+F76+G76 -> 0 | I76: 호표 73 | M76: 건축 15-1
A77: 5E6935D0984A9A179D7B7735BA42 | B77: 화강석붙임 - 습식공법 | C77: 바닥, 자재별도(시공비) | D77: M2 | E77: =일위대가!F448 -> 0 | F77: =일위대가!H448 -> 73096 | G77: =일위대가!J448 -> 0 | H77: =E77+F77+G77 -> 73096 | I77: 호표 74 | M77: 건축 9-1-1
A78: 5E6935D0984A9A179D7B7735BB6A | B78: 모르타르비빔 -돌붙임(벽) | C78: 배합용적비 1:3 | D78: M3 | E78: =일위대가!F453 -> 0 | F78: =일위대가!H453 -> 0 | G78: =일위대가!J453 -> 0 | H78: =E78+F78+G78 -> 0 | I78: 호표 75 | M78: 건축 15-1
A79: 5E6935D0984A9A179D4E39369A29 | B79: 화강석붙임 - 습식공법 | C79: 벽, 자재별도(시공비) | D79: M2 | E79: =일위대가!F458 -> 0 | F79: =일위대가!H458 -> 95475 | G79: =일위대가!J458 -> 0 | H79: =E79+F79+G79 -> 95475 | I79: 호표 76 | M79: 건축 9-1-1
A80: 5E6935D0984A8817746CC832F571 | B80: 수밀코킹(시공비) | C80: 재료비 별도 | D80: M | E80: =일위대가!F462 -> 0 | F80: =일위대가!H462 -> 3473 | G80: =일위대가!J462 -> 0 | H80: =E80+F80+G80 -> 3473 | I80: 호표 77 | M80: 건축 12-12-1
A81: 5E6935D0984A881758340E325793 | B81: 천정몰딩설치 | C81: 재료비 별도 | D81: M | E81: =일위대가!F467 -> 147 | F81: =일위대가!H467 -> 4931 | G81: =일위대가!J467 -> 0 | H81: =E81+F81+G81 -> 5078 | I81: 호표 78 | M81: 건축 14-8
A82: 5E6935D0984A8817588C773C2C48 | B82: 잡철물제작설치(스테인리스)-강판가공시 | C82: 간단 | D82: kg | E82: =일위대가!F472 -> 321 | F82: =일위대가!H472 -> 3870 | G82: =일위대가!J472 -> 12 | H82: =E82+F82+G82 -> 4203 | I82: 호표 79 | M82: 건축 14-6
A83: 5E6935D0984A8817588C543E13C4 | B83: 잡철물제작설치(철제)-강판가공시 | C83: 간단 | D83: kg | E83: =일위대가!F477 -> 199 | F83: =일위대가!H477 -> 3821 | G83: =일위대가!J477 -> 12 | H83: =E83+F83+G83 -> 4032 | I83: 호표 80 | M83: 건축 14-6
A84: 5E6935D0984A8817588C65347C1B | B84: 잡철물제작(스테인리스) -강판 가공시 | C84: 간단 | D84: kg | E84: =일위대가!F490 -> 266 | F84: =일위대가!H490 -> 3043 | G84: =일위대가!J490 -> 11 | H84: =E84+F84+G84 -> 3320 | I84: 호표 81 | M84: 건축 14-6
A85: 5E6935D0984A8817588C6535059B | B85: 잡철물설치(스테인리스) -강판 가공시 | C85: 간단 | D85: kg | E85: =일위대가!F503 -> 55 | F85: =일위대가!H503 -> 827 | G85: =일위대가!J503 -> 1 | H85: =E85+F85+G85 -> 883 | I85: 호표 82 | M85: 건축 14-6
A86: 5E6935D0984A8817588C4A3B0275 | B86: 잡철물제작(철제) -강판 가공시 | C86: 간단 | D86: kg | E86: =일위대가!F516 -> 164 | F86: =일위대가!H516 -> 3043 | G86: =일위대가!J516 -> 11 | H86: =E86+F86+G86 -> 3218 | I86: 호표 83 | M86: 건축 14-6
A87: 5E6935D0984A8817588C4A3A7D51 | B87: 잡철물설치(철제) -강판 가공시 | C87: 간단 | D87: kg | E87: =일위대가!F529 -> 35 | F87: =일위대가!H529 -> 778 | G87: =일위대가!J529 -> 1 | H87: =E87+F87+G87 -> 814 | I87: 호표 84 | M87: 건축 14-6
A88: 5E6935D0994B1A176722D1319BA9 | B88: 용접기(교류) | C88: 500A | D88: HR | E88: =일위대가!F533 -> 0 | F88: =일위대가!H533 -> 0 | G88: =일위대가!J533 -> 124 | H88: =E88+F88+G88 -> 124 | I88: 호표 85 | K88: A | M88: 토목 11-44-46
A89: 5E6935D0984A88173D5E68365D0C | B89: 알루미늄창호 설치 | C89: 11.5m2 이상 | D89: 개소 | E89: =일위대가!F539 -> 0 | F89: =일위대가!H539 -> 78125 | G89: =일위대가!J539 -> 1562 | H89: =E89+F89+G89 -> 79687 | I89: 호표 86 | M89: 건축 16-1-3
A90: 5E6935D0984A88173D10A530B4D6 | B90: 강재창호 설치 | C90: 2.5~3.5m2 미만 | D90: 개소 | E90: =일위대가!F545 -> 0 | F90: =일위대가!H545 -> 79955 | G90: =일위대가!J545 -> 1599 | H90: =E90+F90+G90 -> 81554 | I90: 호표 87 | M90: 건축 16-1-2.1
A91: 5E6935D0984AE217B1159E3D4347 | B91: 녹막이페인트(붓칠) | C91: 철재면, 1회, 1종 | D91: M2 | E91: =일위대가!F550 -> 1462 | F91: =일위대가!H550 -> 2095 | G91: =일위대가!J550 -> 0 | H91: =E91+F91+G91 -> 3557 | I91: 호표 88 | M91: 건축 17-4
A92: 5E6935D0984AE217C3488E345669 | B92: 유성페인트(붓칠) | C92: 철재면, 2회. 1급 | D92: M2 | E92: =일위대가!F555 -> 1151 | F92: =일위대가!H555 -> 5587 | G92: =일위대가!J555 -> 0 | H92: =E92+F92+G92 -> 6738 | I92: 호표 89 | M92: 건축 17-3-1
A93: 5E6935D0984AE217B10BB53ECEC6 | B93: 녹막이페인트(붓칠) - 재료비 | C93: 철재면, 1회, 1종 | D93: M2 | E93: =일위대가!F561 -> 1462 | F93: =일위대가!H561 -> 0 | G93: =일위대가!J561 -> 0 | H93: =E93+F93+G93 -> 1462 | I93: 호표 90 | M93: 건축 17-4
A94: 5E6935D0984AE217B10BB53FD7E5 | B94: 녹막이페인트(붓칠) - 노무비 | C94: 철재면, 1회 칠 | D94: M2 | E94: =일위대가!F566 -> 0 | F94: =일위대가!H566 -> 2095 | G94: =일위대가!J566 -> 0 | H94: =E94+F94+G94 -> 2095 | I94: 호표 91 | M94: 건축 17-4
A95: 5E6935D0984A8817124F3D388A68 | B95: 유성페인트(붓칠) - 재료비 | C95: 철재면, 2회 칠, 1급 | D95: M2 | E95: =일위대가!F572 -> 1151 | F95: =일위대가!H572 -> 0 | G95: =일위대가!J572 -> 0 | H95: =E95+F95+G95 -> 1151 | I95: 호표 92 | M95: 건축 17-3-1
A96: 5E6935D0984A8817124F3D3ABB37 | B96: 유성페인트(붓칠) - 노무비 | C96: 철재면, 2회 칠 | D96: M2 | E96: =일위대가!F579 -> 0 | F96: =일위대가!H579 -> 5587 | G96: =일위대가!J579 -> 0 | H96: =E96+F96+G96 -> 5587 | I96: 호표 93 | M96: 건축 17-3-1
A97: 5E6935D0984A88173D68D730CE9B | B97: 셔터(장치포함) 설치 | C97: 5.0~10.0m2 미만 | D97: 개소 | E97: =일위대가!F585 -> 0 | F97: =일위대가!H585 -> 477050 | G97: =일위대가!J585 -> 9541 | H97: =E97+F97+G97 -> 486591 | I97: 호표 94 | M97: 건축 16-1-2.2
A98: 5E6935D0984A88173D68D730CFA2 | B98: 셔터(장치포함) 설치 | C98: 10.0~15.0m2 미만 | D98: 개소 | E98: =일위대가!F591 -> 0 | F98: =일위대가!H591 -> 572901 | G98: =일위대가!J591 -> 11458 | H98: =E98+F98+G98 -> 584359 | I98: 호표 95 | M98: 건축 16-1-2.2
A99: 5E6935D0984A8817126A5131120B | B99: 바탕만들기 | C99: Con'c · Mortar면 | D99: M2 | E99: =일위대가!F598 -> 129 | F99: =일위대가!H598 -> 1309 | G99: =일위대가!J598 -> 0 | H99: =E99+F99+G99 -> 1438 | I99: 호표 96 | M99: 건축 17-1-1.1
A100: 5E6935D0984A8817126A1B36E005 | B100: 수성페인트(롤러칠) - 재료비 | C100: 내부2회,1급,합성수지에멀션페인트 | D100: M2 | E100: =일위대가!F603 -> 620 | F100: =일위대가!H603 -> 0 | G100: =일위대가!J603 -> 0 | H100: =E100+F100+G100 -> 620 | I100: 호표 97 | M100: 건축 17-2-2
...

Sheet 추가지시분 일위대가
A1: [ 서귀포 중앙동우체국 임대공간 조성건축공사 ] | K1: [ 서귀포 중앙동우체국 임대공간 조성건축공사 ]
A2: 품 명 | B2: 규 격 | C2: 단위 | D2: 수량 | E2: 재 료 비 | G2: 노 무 비 | I2: 경 비 | K2: 합 계 | M2: 비 고 | N2: 일위대가 | O2: 품목코드 | P2: 일위 | Q2: 단산 | R2: 자재 | S2: 손료적용 | T2: 손료저장 | U2: 적용율 | V2: JUK1 | W2: JUK2 | X2: JUK3 | Y2: JUK4 | Z2: JUK5 | AA2: JUK6 | AB2: JUK7 | AC2: JUK8 | AD2: 할증적용 | AE2: 할증저장 | AF2: 할증율 | AG2: HAL1 | AH2: HAL2 | AI2: HAL3 | AJ2: 자재구분 | AK2: 일위대가+자재 | AL2: 금액제외
E3: 단 가 | F3: 금 액 | G3: 단 가 | H3: 금 액 | I3: 단 가 | J3: 금 액 | K3: 단 가 | L3: 금 액
A4: 선홈통-스텐레스파이프-설치 D50mm*1.5t M | N4: 5B59F33F247969B188BD3EEC326C
A5: 배관용 스테인리스 강관 | B5: SUS관, D50*1.5T | C5: M | D5: 1.05 | E5: 7350 | F5: 7717.5 | G5: 0 | H5: 0 | I5: 0 | J5: 0 | K5: 7350 | L5: 7717.5 | N5: 5B59F33F247969B188BD3EEC326C | O5: 5B4F53F92474E06D8827302B2250 | P5: F | Q5: F | R5: T | AK5: 5B59F33F247969B188BD3EEC326C5B4F53F92474E06D8827302B2250
A6: 일반철물 | B6: 선홈통지지철물, 스텐 | C6: 개 | D6: 0.65 | E6: 3300 | F6: 2145 | G6: 0 | H6: 0 | I6: 0 | J6: 0 | K6: 3300 | L6: 2145 | N6: 5B59F33F247969B188BD3EEC326C | O6: 5B59A3B02B781BBAC81345A4E2FC | P6: F | Q6: F | R6: T | AK6: 5B59F33F247969B188BD3EEC326C5B59A3B02B781BBAC81345A4E2FC
A7: 노무비 | B7: 배관공 | C7: 인 | D7: 0.18 | E7: 0 | F7: 0 | G7: 116622 | H7: 20991.9 | I7: 0 | J7: 0 | K7: 116622 | L7: 20991.9 | N7: 5B59F33F247969B188BD3EEC326C | O7: 5B59F33F247A0F14E89AFEB7A25F | P7: F | Q7: F | R7: T | AK7: 5B59F33F247969B188BD3EEC326C5B59F33F247A0F14E89AFEB7A25F
A8: [ 합 계 ] | F8: 9862 | H8: 20991 | J8: 0 | L8: 30853 | N8: TOTAL | O8: TOTAL
A9: 낙찰율적용 | B9: 87.783 % | F9: 8657.1595 | H9: 18426.53 | J9: 0 | L9: 27083.689
A10: 적용단가 | F10: 8657 | H10: 18427 | J10: 0 | L10: 27084
A12: 비닐무석면타일붙임(디럭스) 450*450*3.0mm(왁스유) M2
A13: 비닐타일 | B13: 뉴디럭스타일, 3*450*450 | C13: M2 | D13: 1.05 | E13: 5800 | F13: 6090 | H13: 0 | J13: 0 | K13: 5800 | L13: 6090
A14: 초산비닐계접착제 | B14: 비닐타일용 | C14: KG | D14: 0.275 | E14: 2610 | F14: 717.7 | H14: 0 | J14: 0 | K14: 2610 | L14: 717.7
A15: 광택제 | B15: 수성왁스 | C15: L | D15: 0.12 | E15: 0 | F15: 0 | H15: 0 | J15: 0 | K15: 0 | L15: 0
A16: 노무비 | B16: 내장공 | C16: 인 | D16: 0.06 | E16: 0 | F16: 0 | G16: 135112 | H16: 8106.7 | J16: 0 | K16: 135112 | L16: 8106.7
A17: 노무비 | B17: 보통인부 | C17: 인 | D17: 0.05 | E17: 0 | F17: 0 | G17: 87805 | H17: 4390.2 | J17: 0 | K17: 87805 | L17: 4390.2
A18: [ 합 계 ] | F18: 6807.7 | H18: 12496.9 | J18: 0 | L18: 19304.6
A19: 낙찰율적용 | B19: 87.783 % | F19: 5976.0033 | H19: 10970.154 | J19: 0 | L19: 16946.157
A20: 적용단가 | F20: 5976 | H20: 10970 | J20: 0 | L20: 16946
A22: 인테리어필름부착 유리면 M2
A23: 인테리어필름부착 | B23: 유리면 | C23: M2 | D23: 1.05 | E23: 20000 | F23: 21000 | H23: 0 | J23: 0 | K23: 20000 | L23: 21000
A24: [ 합 계 ] | F24: 21000 | H24: 0 | J24: 0 | L24: 21000
A25: 낙찰율적용 | B25: 87.783 % | F25: 18434.43 | H25: 0 | J25: 0 | L25: 18434.43
A26: 적용단가 | F26: 18434 | H26: 0 | J26: 0 | L26: 18434

Sheet 일위대가
A1: [ 서귀포 중앙동우체국 임대공간 조성건축공사 ] | K1: [ 서귀포 중앙동우체국 임대공간 조성건축공사 ]
A2: 품 명 | B2: 규 격 | C2: 단위 | D2: 수량 | E2: 재 료 비 | G2: 노 무 비 | I2: 경 비 | K2: 합 계 | M2: 비 고 | N2: 일위대가 | O2: 품목코드 | P2: 일위 | Q2: 단산 | R2: 자재 | S2: 손료적용 | T2: 손료저장 | U2: 적용율 | V2: JUK1 | W2: JUK2 | X2: JUK3 | Y2: JUK4 | Z2: JUK5 | AA2: JUK6 | AB2: JUK7 | AC2: JUK8 | AD2: 할증적용 | AE2: 할증저장 | AF2: 할증율 | AG2: HAL1 | AH2: HAL2 | AI2: HAL3 | AJ2: 자재구분 | AK2: 일위대가+자재 | AL2: 금액제외
E3: 단 가 | F3: 금 액 | G3: 단 가 | H3: 금 액 | I3: 단 가 | J3: 금 액 | K3: 단 가 | L3: 금 액
A4: 면적당규준틀 M2 토목 2-4-2.3 ( 호표 1 ) | N4: 5E6935D0984A9A17F7FF443DCA3F
A5: 각재(角材) | B5: 외송(㎥) | C5: M3 | D5: 0.0016 | E5: =단가대비표!O39 -> 449212.5 | F5: =TRUNC(E5*D5,1) -> 718.7 | G5: =단가대비표!P39 -> 0 | H5: =TRUNC(G5*D5,1) -> 0 | I5: =단가대비표!V39 -> 0 | J5: =TRUNC(I5*D5,1) -> 0 | K5: =TRUNC(E5+G5+I5,1) -> 449212.5 | L5: =TRUNC(F5+H5+J5,1) -> 718.7 | N5: 5E6935D0984A9A17F7FF443DCA3F | O5: 5E690504B34D40172EED4B3A6454 | P5: F | Q5: F | R5: T | AK5: 5E6935D0984A9A17F7FF443DCA3F5E690504B34D40172EED4B3A6454
A6: 노무비 | B6: 건축목공 | C6: 인 | D6: 0.018 | E6: =단가대비표!O90 -> 0 | F6: =TRUNC(E6*D6,1) -> 0 | G6: =단가대비표!P90 -> 139327 | H6: =TRUNC(G6*D6,1) -> 2507.8 | I6: =단가대비표!V90 -> 0 | J6: =TRUNC(I6*D6,1) -> 0 | K6: =TRUNC(E6+G6+I6,1) -> 139327 | L6: =TRUNC(F6+H6+J6,1) -> 2507.8 | N6: 5E6935D0984A9A17F7FF443DCA3F | O6: 5E6935D09B47D017C307B43C83C2 | P6: F | Q6: F | R6: T | AK6: 5E6935D0984A9A17F7FF443DCA3F5E6935D09B47D017C307B43C83C2
A7: 노무비 | B7: 보통인부 | C7: 인 | D7: 0.016 | E7: =단가대비표!O95 -> 0 | F7: =TRUNC(E7*D7,1) -> 0 | G7: =단가대비표!P95 -> 87805 | H7: =TRUNC(G7*D7,1) -> 1404.8 | I7: =단가대비표!V95 -> 0 | J7: =TRUNC(I7*D7,1) -> 0 | K7: =TRUNC(E7+G7+I7,1) -> 87805 | L7: =TRUNC(F7+H7+J7,1) -> 1404.8 | N7: 5E6935D0984A9A17F7FF443DCA3F | O7: 5E6935D09B47D017C307B43C87A3 | P7: F | Q7: F | R7: T | AK7: 5E6935D0984A9A17F7FF443DCA3F5E6935D09B47D017C307B43C87A3
A8: [ 합 계 ] | F8: =TRUNC(SUMIF(N5:N7,N4,F5:F7),0) -> 718 | H8: =TRUNC(SUMIF(N5:N7,N4,H5:H7),0) -> 3912 | J8: =TRUNC(SUMIF(N5:N7,N4,J5:J7),0) -> 0 | L8: =F8+H8+J8 -> 4630 | N8: TOTAL | O8: TOTAL
A10: 이동식강관말비계 1단(2m), 3개월 1대 토목 2-6-3, 5 ( 호표 2 ) | N10: 5E6935D0984A9A17F7DC48342078
A11: 강관틀 비계용 부재 | B11: 비계기본틀(기둥), 1.2*1.7m | C11: 개 | D11: 0.12 | E11: =단가대비표!O27 -> 25100 | F11: =TRUNC(E11*D11,1) -> 3012 | G11: =단가대비표!P27 -> 0 | H11: =TRUNC(G11*D11,1) -> 0 | I11: =단가대비표!V27 -> 0 | J11: =TRUNC(I11*D11,1) -> 0 | K11: =TRUNC(E11+G11+I11,1) -> 25100 | L11: =TRUNC(F11+H11+J11,1) -> 3012 | N11: 5E6935D0984A9A17F7DC48342078 | O11: 5E69152F38486D17965F6D3F08DC | P11: F | Q11: F | R11: T | AK11: 5E6935D0984A9A17F7DC483420785E69152F38486D17965F6D3F08DC
A12: 강관틀 비계용 부재 | B12: 가새, 1.2*1.9m | C12: 개 | D12: 0.12 | E12: =단가대비표!O28 -> 8000 | F12: =TRUNC(E12*D12,1) -> 960 | G12: =단가대비표!P28 -> 0 | H12: =TRUNC(G12*D12,1) -> 0 | I12: =단가대비표!V28 -> 0 | J12: =TRUNC(I12*D12,1) -> 0 | K12: =TRUNC(E12+G12+I12,1) -> 8000 | L12: =TRUNC(F12+H12+J12,1) -> 960 | N12: 5E6935D0984A9A17F7DC48342078 | O12: 5E69152F38486D17965F6D3F0A8A | P12: F | Q12: F | R12: T | AK12: 5E6935D0984A9A17F7DC483420785E69152F38486D17965F6D3F0A8A
A13: 강관틀 비계용 부재 | B13: 수평띠장, 1829mm | C13: 개 | D13: 0.24 | E13: =단가대비표!O29 -> 24000 | F13: =TRUNC(E13*D13,1) -> 5760 | G13: =단가대비표!P29 -> 0 | H13: =TRUNC(G13*D13,1) -> 0 | I13: =단가대비표!V29 -> 0 | J13: =TRUNC(I13*D13,1) -> 0 | K13: =TRUNC(E13+G13+I13,1) -> 24000 | L13: =TRUNC(F13+H13+J13,1) -> 5760 | N13: 5E6935D0984A9A17F7DC48342078 | O13: 5E69152F38486D17965F6D3F0D5E | P13: F | Q13: F | R13: T | AK13: 5E6935D0984A9A17F7DC483420785E69152F38486D17965F6D3F0D5E
A14: 강관틀 비계용 부재 | B14: 손잡이기둥 | C14: 개 | D14: 0.24 | E14: =단가대비표!O32 -> 20500 | F14: =TRUNC(E14*D14,1) -> 4920 | G14: =단가대비표!P32 -> 0 | H14: =TRUNC(G14*D14,1) -> 0 | I14: =단가대비표!V32 -> 0 | J14: =TRUNC(I14*D14,1) -> 0 | K14: =TRUNC(E14+G14+I14,1) -> 20500 | L14: =TRUNC(F14+H14+J14,1) -> 4920 | N14: 5E6935D0984A9A17F7DC48342078 | O14: 5E69152F38486D17965F6D3F0086 | P14: F | Q14: F | R14: T | AK14: 5E6935D0984A9A17F7DC483420785E69152F38486D17965F6D3F0086
A15: 강관틀 비계용 부재 | B15: 손잡이, 1229mm | C15: 개 | D15: 0.12 | E15: =단가대비표!O30 -> 15000 | F15: =TRUNC(E15*D15,1) -> 1800 | G15: =단가대비표!P30 -> 0 | H15: =TRUNC(G15*D15,1) -> 0 | I15: =단가대비표!V30 -> 0 | J15: =TRUNC(I15*D15,1) -> 0 | K15: =TRUNC(E15+G15+I15,1) -> 15000 | L15: =TRUNC(F15+H15+J15,1) -> 1800 | N15: 5E6935D0984A9A17F7DC48342078 | O15: 5E69152F38486D17965F6D3F0E67 | P15: F | Q15: F | R15: T | AK15: 5E6935D0984A9A17F7DC483420785E69152F38486D17965F6D3F0E67
A16: 강관틀 비계용 부재 | B16: 손잡이, 1829mm | C16: 개 | D16: 0.24 | E16: =단가대비표!O31 -> 20500 | F16: =TRUNC(E16*D16,1) -> 4920 | G16: =단가대비표!P31 -> 0 | H16: =TRUNC(G16*D16,1) -> 0 | I16: =단가대비표!V31 -> 0 | J16: =TRUNC(I16*D16,1) -> 0 | K16: =TRUNC(E16+G16+I16,1) -> 20500 | L16: =TRUNC(F16+H16+J16,1) -> 4920 | N16: 5E6935D0984A9A17F7DC48342078 | O16: 5E69152F38486D17965F6D3F0F0D | P16: F | Q16: F | R16: T | AK16: 5E6935D0984A9A17F7DC483420785E69152F38486D17965F6D3F0F0D
A17: 강관틀 비계용 부재 | B17: 바퀴 | C17: 개 | D17: 0.36 | E17: =단가대비표!O33 -> 10000 | F17: =TRUNC(E17*D17,1) -> 3600 | G17: =단가대비표!P33 -> 0 | H17: =TRUNC(G17*D17,1) -> 0 | I17: =단가대비표!V33 -> 0 | J17: =TRUNC(I17*D17,1) -> 0 | K17: =TRUNC(E17+G17+I17,1) -> 10000 | L17: =TRUNC(F17+H17+J17,1) -> 3600 | N17: 5E6935D0984A9A17F7DC48342078 | O17: 5E69152F38486D17965F6D3F01AF | P17: F | Q17: F | R17: T | AK17: 5E6935D0984A9A17F7DC483420785E69152F38486D17965F6D3F01AF
A18: 강관틀 비계용 부재 | B18: 쟈키 | C18: 개 | D18: 0.36 | E18: =단가대비표!O34 -> 9000 | F18: =TRUNC(E18*D18,1) -> 3240 | G18: =단가대비표!P34 -> 0 | H18: =TRUNC(G18*D18,1) -> 0 | I18: =단가대비표!V34 -> 0 | J18: =TRUNC(I18*D18,1) -> 0 | K18: =TRUNC(E18+G18+I18,1) -> 9000 | L18: =TRUNC(F18+H18+J18,1) -> 3240 | N18: 5E6935D0984A9A17F7DC48342078 | O18: 5E69152F38486D17965F6D3E6152 | P18: F | Q18: F | R18: T | AK18: 5E6935D0984A9A17F7DC483420785E69152F38486D17965F6D3E6152
A19: 판재(板材) | B19: 외송, 일반(㎥) | C19: M3 | D19: 0.0315 | E19: =단가대비표!O40 -> 553065.5 | F19: =TRUNC(E19*D19,1) -> 17421.5 | G19: =단가대비표!P40 -> 0 | H19: =TRUNC(G19*D19,1) -> 0 | I19: =단가대비표!V40 -> 0 | J19: =TRUNC(I19*D19,1) -> 0 | K19: =TRUNC(E19+G19+I19,1) -> 553065.5 | L19: =TRUNC(F19+H19+J19,1) -> 17421.5 | N19: 5E6935D0984A9A17F7DC48342078 | O19: 5E690504B34D40172EFFD732AB13 | P19: F | Q19: F | R19: T | AK19: 5E6935D0984A9A17F7DC483420785E690504B34D40172EFFD732AB13
A20: 노무비 | B20: 보통인부 | C20: 인 | D20: 0.6 | E20: =단가대비표!O95 -> 0 | F20: =TRUNC(E20*D20,1) -> 0 | G20: =단가대비표!P95 -> 87805 | H20: =TRUNC(G20*D20,1) -> 52683 | I20: =단가대비표!V95 -> 0 | J20: =TRUNC(I20*D20,1) -> 0 | K20: =TRUNC(E20+G20+I20,1) -> 87805 | L20: =TRUNC(F20+H20+J20,1) -> 52683 | N20: 5E6935D0984A9A17F7DC48342078 | O20: 5E6935D09B47D017C307B43C87A3 | P20: F | Q20: F | R20: T | AK20: 5E6935D0984A9A17F7DC483420785E6935D09B47D017C307B43C87A3
A21: [ 합 계 ] | F21: =TRUNC(SUMIF(N11:N20,N10,F11:F20),0) -> 45633 | H21: =TRUNC(SUMIF(N11:N20,N10,H11:H20),0) -> 52683 | J21: =TRUNC(SUMIF(N11:N20,N10,J11:J20),0) -> 0 | L21: =F21+H21+J21 -> 98316 | N21: TOTAL | O21: TOTAL
A23: CONC보양 살수 M2 토목 2-9 ( 호표 3 ) | N23: 5E6935D0984A9A17F7B1933E3015
A24: 노무비 | B24: 보통인부 | C24: 인 | D24: 0.004 | E24: =단가대비표!O95 -> 0 | F24: =TRUNC(E24*D24,1) -> 0 | G24: =단가대비표!P95 -> 87805 | H24: =TRUNC(G24*D24,1) -> 351.2 | I24: =단가대비표!V95 -> 0 | J24: =TRUNC(I24*D24,1) -> 0 | K24: =TRUNC(E24+G24+I24,1) -> 87805 | L24: =TRUNC(F24+H24+J24,1) -> 351.2 | N24: 5E6935D0984A9A17F7B1933E3015 | O24: 5E6935D09B47D017C307B43C87A3 | P24: F | Q24: F | R24: T | AK24: 5E6935D0984A9A17F7B1933E30155E6935D09B47D017C307B43C87A3
A25: [ 합 계 ] | F25: =TRUNC(SUMIF(N24:N24,N23,F24:F24),0) -> 0 | H25: =TRUNC(SUMIF(N24:N24,N23,H24:H24),0) -> 351 | J25: =TRUNC(SUMIF(N24:N24,N23,J24:J24),0) -> 0 | L25: =F25+H25+J25 -> 351 | N25: TOTAL | O25: TOTAL
A27: 건축물보양-석재면,테라조면 하드롱지 M2 토목 2-9 ( 호표 4 ) | N27: 5E6935D0984A9A17F7B1933E313B
A28: 공통자재 | B28: 하드롱지 | C28: M2 | D28: 1.2 | E28: =단가대비표!O54 -> 280 | F28: =TRUNC(E28*D28,1) -> 336 | G28: =단가대비표!P54 -> 0 | H28: =TRUNC(G28*D28,1) -> 0 | I28: =단가대비표!V54 -> 0 | J28: =TRUNC(I28*D28,1) -> 0 | K28: =TRUNC(E28+G28+I28,1) -> 280 | L28: =TRUNC(F28+H28+J28,1) -> 336 | N28: 5E6935D0984A9A17F7B1933E313B | O28: 5E6935D8D143FB1734A05F3A85A9 | P28: F | Q28: F | R28: T | AK28: 5E6935D0984A9A17F7B1933E313B5E6935D8D143FB1734A05F3A85A9
A29: 합성풀 | B29: 건설용합성풀 | C29: kg | D29: 0.06 | E29: =단가대비표!O120 -> 710 | F29: =TRUNC(E29*D29,1) -> 42.6 | G29: =단가대비표!P120 -> 0 | H29: =TRUNC(G29*D29,1) -> 0 | I29: =단가대비표!V120 -> 0 | J29: =TRUNC(I29*D29,1) -> 0 | K29: =TRUNC(E29+G29+I29,1) -> 710 | L29: =TRUNC(F29+H29+J29,1) -> 42.6 | N29: 5E6935D0984A9A17F7B1933E313B | O29: 5EB175C5AF4F3A17B96BE03182C1 | P29: F | Q29: F | R29: T | AK29: 5E6935D0984A9A17F7B1933E313B5EB175C5AF4F3A17B96BE03182C1
A30: 노무비 | B30: 보통인부 | C30: 인 | D30: 0.01 | E30: =단가대비표!O95 -> 0 | F30: =TRUNC(E30*D30,1) -> 0 | G30: =단가대비표!P95 -> 87805 | H30: =TRUNC(G30*D30,1) -> 878 | I30: =단가대비표!V95 -> 0 | J30: =TRUNC(I30*D30,1) -> 0 | K30: =TRUNC(E30+G30+I30,1) -> 87805 | L30: =TRUNC(F30+H30+J30,1) -> 878 | N30: 5E6935D0984A9A17F7B1933E313B | O30: 5E6935D09B47D017C307B43C87A3 | P30: F | Q30: F | R30: T | AK30: 5E6935D0984A9A17F7B1933E313B5E6935D09B47D017C307B43C87A3
A31: [ 합 계 ] | F31: =TRUNC(SUMIF(N28:N30,N27,F28:F30),0) -> 378 | H31: =TRUNC(SUMIF(N28:N30,N27,H28:H30),0) -> 878 | J31: =TRUNC(SUMIF(N28:N30,N27,J28:J30),0) -> 0 | L31: =F31+H31+J31 -> 1256 | N31: TOTAL | O31: TOTAL
A33: 건축물현장정리 철근CON'C조 M2 토목 2-10 ( 호표 5 ) | N33: 5E6935D0984A9A17F7B181372BCD
A34: 노무비 | B34: 보통인부 | C34: 인 | D34: 0.15 | E34: =단가대비표!O95 -> 0 | F34: =TRUNC(E34*D34,1) -> 0 | G34: =단가대비표!P95 -> 87805 | H34: =TRUNC(G34*D34,1) -> 13170.7 | I34: =단가대비표!V95 -> 0 | J34: =TRUNC(I34*D34,1) -> 0 | K34: =TRUNC(E34+G34+I34,1) -> 87805 | L34: =TRUNC(F34+H34+J34,1) -> 13170.7 | N34: 5E6935D0984A9A17F7B181372BCD | O34: 5E6935D09B47D017C307B43C87A3 | P34: F | Q34: F | R34: T | AK34: 5E6935D0984A9A17F7B181372BCD5E6935D09B47D017C307B43C87A3
A35: [ 합 계 ] | F35: =TRUNC(SUMIF(N34:N34,N33,F34:F34),0) -> 0 | H35: =TRUNC(SUMIF(N34:N34,N33,H34:H34),0) -> 13170 | J35: =TRUNC(SUMIF(N34:N34,N33,J34:J34),0) -> 0 | L35: =F35+H35+J35 -> 13170 | N35: TOTAL | O35: TOTAL
A37: 건축물현장정리 개보수,리모델링 M2 ( 호표 6 ) | N37: 5E6935D0984A9A17F7B181372E80
A38: 노무비 | B38: 보통인부 | C38: 인 | D38: 0.035 | E38: =단가대비표!O95 -> 0 | F38: =TRUNC(E38*D38,1) -> 0 | G38: =단가대비표!P95 -> 87805 | H38: =TRUNC(G38*D38,1) -> 3073.1 | I38: =단가대비표!V95 -> 0 | J38: =TRUNC(I38*D38,1) -> 0 | K38: =TRUNC(E38+G38+I38,1) -> 87805 | L38: =TRUNC(F38+H38+J38,1) -> 3073.1 | N38: 5E6935D0984A9A17F7B181372E80 | O38: 5E6935D09B47D017C307B43C87A3 | P38: F | Q38: F | R38: T | AK38: 5E6935D0984A9A17F7B181372E805E6935D09B47D017C307B43C87A3
A39: [ 합 계 ] | F39: =TRUNC(SUMIF(N38:N38,N37,F38:F38),0) -> 0 | H39: =TRUNC(SUMIF(N38:N38,N37,H38:H38),0) -> 3073 | J39: =TRUNC(SUMIF(N38:N38,N37,J38:J38),0) -> 0 | L39: =F39+H39+J39 -> 3073 | N39: TOTAL | O39: TOTAL
A41: 거푸집 먹매김 일반 M2 건축 11-1 ( 호표 7 ) | N41: 5E6935D0984A9A17F784553D66FA
A42: 노무비 | B42: 건축목공 | C42: 인 | D42: 0.012 | E42: =단가대비표!O90 -> 0 | F42: =TRUNC(E42*D42,1) -> 0 | G42: =단가대비표!P90 -> 139327 | H42: =TRUNC(G42*D42,1) -> 1671.9 | I42: =단가대비표!V90 -> 0 | J42: =TRUNC(I42*D42,1) -> 0 | K42: =TRUNC(E42+G42+I42,1) -> 139327 | L42: =TRUNC(F42+H42+J42,1) -> 1671.9 | N42: 5E6935D0984A9A17F784553D66FA | O42: 5E6935D09B47D017C307B43C83C2 | P42: F | Q42: F | R42: T | AK42: 5E6935D0984A9A17F784553D66FA5E6935D09B47D017C307B43C83C2
A43: [ 합 계 ] | F43: =TRUNC(SUMIF(N42:N42,N41,F42:F42),0) -> 0 | H43: =TRUNC(SUMIF(N42:N42,N41,H42:H42),0) -> 1671 | J43: =TRUNC(SUMIF(N42:N42,N41,J42:J42),0) -> 0 | L43: =F43+H43+J43 -> 1671 | N43: TOTAL | O43: TOTAL
A45: 가설칸막이설치(공사완료후철거) 벽체띠장45*45@600*600,합판2.7mm M2 ( 호표 8 ) | N45: 5E6935D0984A9A17F7B1933FDB38
A46: 각재(角材) | B46: 외송(㎥) | C46: M3 | D46: 0.0071 | E46: =단가대비표!O39 -> 449212.5 | F46: =TRUNC(E46*D46,1) -> 3189.4 | G46: =단가대비표!P39 -> 0 | H46: =TRUNC(G46*D46,1) -> 0 | I46: =단가대비표!V39 -> 0 | J46: =TRUNC(I46*D46,1) -> 0 | K46: =TRUNC(E46+G46+I46,1) -> 449212.5 | L46: =TRUNC(F46+H46+J46,1) -> 3189.4 | N46: 5E6935D0984A9A17F7B1933FDB38 | O46: 5E690504B34D40172EED4B3A6454 | P46: F | Q46: F | R46: T | AK46: 5E6935D0984A9A17F7B1933FDB385E690504B34D40172EED4B3A6454
A47: 보통합판 | B47: 1급, 2.7*1220*2440mm(㎡) | C47: M2 | D47: 1.03 | E47: =단가대비표!O44 -> 3056.97 | F47: =TRUNC(E47*D47,1) -> 3148.6 | G47: =단가대비표!P44 -> 0 | H47: =TRUNC(G47*D47,1) -> 0 | I47: =단가대비표!V44 -> 0 | J47: =TRUNC(I47*D47,1) -> 0 | K47: =TRUNC(E47+G47+I47,1) -> 3056.9 | L47: =TRUNC(F47+H47+J47,1) -> 3148.6 | N47: 5E6935D0984A9A17F7B1933FDB38 | O47: 5E6905066144F317C771183AD1DC | P47: F | Q47: F | R47: T | AK47: 5E6935D0984A9A17F7B1933FDB385E6905066144F317C771183AD1DC
A48: 못 | B48: 일반못 N65 | C48: kg | D48: 0.034 | E48: =단가대비표!O20 -> 1012.5 | F48: =TRUNC(E48*D48,1) -> 34.4 | G48: =단가대비표!P20 -> 0 | H48: =TRUNC(G48*D48,1) -> 0 | I48: =단가대비표!V20 -> 0 | J48: =TRUNC(I48*D48,1) -> 0 | K48: =TRUNC(E48+G48+I48,1) -> 1012.5 | L48: =TRUNC(F48+H48+J48,1) -> 34.4 | N48: 5E6935D0984A9A17F7B1933FDB38 | O48: 5E6965AC4A4CDB173DD44833F73A | P48: F | Q48: F | R48: T | AK48: 5E6935D0984A9A17F7B1933FDB385E6965AC4A4CDB173DD44833F73A
A49: 노무비 | B49: 건축목공 | C49: 인 | D49: 0.123 | E49: =단가대비표!O90 -> 0 | F49: =TRUNC(E49*D49,1) -> 0 | G49: =단가대비표!P90 -> 139327 | H49: =TRUNC(G49*D49,1) -> 17137.2 | I49: =단가대비표!V90 -> 0 | J49: =TRUNC(I49*D49,1) -> 0 | K49: =TRUNC(E49+G49+I49,1) -> 139327 | L49: =TRUNC(F49+H49+J49,1) -> 17137.2 | N49: 5E6935D0984A9A17F7B1933FDB38 | O49: 5E6935D09B47D017C307B43C83C2 | P49: F | Q49: F | R49: T | AK49: 5E6935D0984A9A17F7B1933FDB385E6935D09B47D017C307B43C83C2
A50: 노무비 | B50: 보통인부 | C50: 인 | D50: 0.01 | E50: =단가대비표!O95 -> 0 | F50: =TRUNC(E50*D50,1) -> 0 | G50: =단가대비표!P95 -> 87805 | H50: =TRUNC(G50*D50,1) -> 878 | I50: =단가대비표!V95 -> 0 | J50: =TRUNC(I50*D50,1) -> 0 | K50: =TRUNC(E50+G50+I50,1) -> 87805 | L50: =TRUNC(F50+H50+J50,1) -> 878 | N50: 5E6935D0984A9A17F7B1933FDB38 | O50: 5E6935D09B47D017C307B43C87A3 | P50: F | Q50: F | R50: T | AK50: 5E6935D0984A9A17F7B1933FDB385E6935D09B47D017C307B43C87A3
A51: [ 합 계 ] | F51: =TRUNC(SUMIF(N46:N50,N45,F46:F50),0) -> 6372 | H51: =TRUNC(SUMIF(N46:N50,N45,H46:H50),0) -> 18015 | J51: =TRUNC(SUMIF(N46:N50,N45,J46:J50),0) -> 0 | L51: =F51+H51+J51 -> 24387 | N51: TOTAL | O51: TOTAL
A53: 터파기 보통토사. 백호90%+인력10% M3 토목 11-3 ( 호표 9 ) | N53: 5E6935D0984A9A17CA842136BF7F
A54: 터파기 토사(보통) | B54: 백호 0.7M3 90%+인력10% | C54: M3 | D54: 1 | E54: =중기단가목록!E7 -> 264 | F54: =TRUNC(E54*D54,1) -> 264 | G54: =중기단가목록!F7 -> 2149 | H54: =TRUNC(G54*D54,1) -> 2149 | I54: =중기단가목록!G7 -> 300 | J54: =TRUNC(I54*D54,1) -> 300 | K54: =TRUNC(E54+G54+I54,1) -> 2713 | L54: =TRUNC(F54+H54+J54,1) -> 2713 | N54: 5E6935D0984A9A17CA842136BF7F | O54: 5E6935D092403517B6F15D301FB3 | P54: F | Q54: T | R54: F | AK54: 5E6935D0984A9A17CA842136BF7F5E6935D092403517B6F15D301FB3
A55: [ 합 계 ] | F55: =TRUNC(SUMIF(N54:N54,N53,F54:F54),0) -> 264 | H55: =TRUNC(SUMIF(N54:N54,N53,H54:H54),0) -> 2149 | J55: =TRUNC(SUMIF(N54:N54,N53,J54:J54),0) -> 300 | L55: =F55+H55+J55 -> 2713 | N55: TOTAL | O55: TOTAL
A57: 혼합골재깔기지정 백호0.2m3+진동롤러(핸드가이드) M3 ( 호표 10 ) | N57: 5E6935D0984A9A17CAFF073D8498
A58: 굴삭기(무한궤도) | B58: 0.2M3 | C58: HR | D58: 0.07 | E58: =일위대가목록!E61 -> 7397 | F58: =TRUNC(E58*D58,1) -> 517.7 | G58: =일위대가목록!F61 -> 25758 | H58: =TRUNC(G58*D58,1) -> 1803 | I58: =일위대가목록!G61 -> 11251 | J58: =TRUNC(I58*D58,1) -> 787.5 | K58: =TRUNC(E58+G58+I58,1) -> 44406 | L58: =TRUNC(F58+H58+J58,1) -> 3108.2 | N58: 5E6935D0984A9A17CAFF073D8498 | O58: 5E6935D0994B1A1767B0A53D8170 | P58: T | Q58: F | R58: F | AK58: 5E6935D0984A9A17CAFF073D84985E6935D0994B1A1767B0A53D8170
A59: 진동롤러(핸드가이드식) | B59: 0.7톤 | C59: HR | D59: 0.086 | E59: =일위대가목록!E62 -> 3039 | F59: =TRUNC(E59*D59,1) -> 261.3 | G59: =일위대가목록!F62 -> 25758 | H59: =TRUNC(G59*D59,1) -> 2215.1 | I59: =일위대가목록!G62 -> 1563 | J59: =TRUNC(I59*D59,1) -> 134.4 | K59: =TRUNC(E59+G59+I59,1) -> 30360 | L59: =TRUNC(F59+H59+J59,1) -> 2610.8 | N59: 5E6935D0984A9A17CAFF073D8498 | O59: 5E6935D0994B1A17678B613CF046 | P59: T | Q59: F | R59: F | AK59: 5E6935D0984A9A17CAFF073D84985E6935D0994B1A17678B613CF046
A60: [ 합 계 ] | F60: =TRUNC(SUMIF(N58:N59,N57,F58:F59),0) -> 779 | H60: =TRUNC(SUMIF(N58:N59,N57,H58:H59),0) -> 4018 | J60: =TRUNC(SUMIF(N58:N59,N57,J58:J59),0) -> 921 | L60: =F60+H60+J60 -> 5718 | N60: TOTAL | O60: TOTAL
A62: 케미컬앵커볼트설치 M12*110,HILTI-HY200,볼트포함 개소 ( 호표 11 ) | N62: 5E6935D0984A9A17AFE41B3E22E6
A63: 케미칼앵커볼트 | B63: HILTI HVU M12, L=110 | C63: SET | D63: 1 | E63: =단가대비표!O134 -> 5980 | F63: =TRUNC(E63*D63,1) -> 5980 | G63: =단가대비표!P134 -> 0 | H63: =TRUNC(G63*D63,1) -> 0 | I63: =단가대비표!V134 -> 0 | J63: =TRUNC(I63*D63,1) -> 0 | K63: =TRUNC(E63+G63+I63,1) -> 5980 | L63: =TRUNC(F63+H63+J63,1) -> 5980 | N63: 5E6935D0984A9A17AFE41B3E22E6 | O63: 5EA765FF2048E21798C45D3A21DA | P63: F | Q63: F | R63: T | AK63: 5E6935D0984A9A17AFE41B3E22E65EA765FF2048E21798C45D3A21DA
A64: 케미칼주입액 | B64: HY 200 | C64: ml | D64: 34.8 | E64: =단가대비표!O129 -> 95.2 | F64: =TRUNC(E64*D64,1) -> 3312.9 | G64: =단가대비표!P129 -> 0 | H64: =TRUNC(G64*D64,1) -> 0 | I64: =단가대비표!V129 -> 0 | J64: =TRUNC(I64*D64,1) -> 0 | K64: =TRUNC(E64+G64+I64,1) -> 95.2 | L64: =TRUNC(F64+H64+J64,1) -> 3312.9 | N64: 5E6935D0984A9A17AFE41B3E22E6 | O64: 5EA755D93844C4170ACAE331E540 | P64: F | Q64: F | R64: T | AK64: 5E6935D0984A9A17AFE41B3E22E65EA755D93844C4170ACAE331E540
A65: 노무비 | B65: 특별인부 | C65: 인 | D65: 0.036 | E65: =단가대비표!O108 -> 0 | F65: =TRUNC(E65*D65,1) -> 0 | G65: =단가대비표!P108 -> 108245 | H65: =TRUNC(G65*D65,1) -> 3896.8 | I65: =단가대비표!V108 -> 0 | J65: =TRUNC(I65*D65,1) -> 0 | K65: =TRUNC(E65+G65+I65,1) -> 108245 | L65: =TRUNC(F65+H65+J65,1) -> 3896.8 | N65: 5E6935D0984A9A17AFE41B3E22E6 | O65: 5E6935D09B47D017C307B43DABF0 | P65: F | Q65: F | R65: T | AK65: 5E6935D0984A9A17AFE41B3E22E65E6935D09B47D017C307B43DABF0
A66: 노무비 | B66: 보통인부 | C66: 인 | D66: 0.033 | E66: =단가대비표!O95 -> 0 | F66: =TRUNC(E66*D66,1) -> 0 | G66: =단가대비표!P95 -> 87805 | H66: =TRUNC(G66*D66,1) -> 2897.5 | I66: =단가대비표!V95 -> 0 | J66: =TRUNC(I66*D66,1) -> 0 | K66: =TRUNC(E66+G66+I66,1) -> 87805 | L66: =TRUNC(F66+H66+J66,1) -> 2897.5 | N66: 5E6935D0984A9A17AFE41B3E22E6 | O66: 5E6935D09B47D017C307B43C87A3 | P66: F | Q66: F | R66: T | AK66: 5E6935D0984A9A17AFE41B3E22E65E6935D09B47D017C307B43C87A3
A67: [ 합 계 ] | F67: =TRUNC(SUMIF(N63:N66,N62,F63:F66),0) -> 9292 | H67: =TRUNC(SUMIF(N63:N66,N62,H63:H66),0) -> 6794 | J67: =TRUNC(SUMIF(N63:N66,N62,J63:J66),0) -> 0 | L67: =F67+H67+J67 -> 16086 | N67: TOTAL | O67: TOTAL
A69: 무근콘크리트타설/펌프카(36m) 슬럼프8∼12, 50m3미만[80~95] M3 토목 6-1-2 ( 호표 12 ) | N69: 5E6935D0984A9A17DB207A3495C4
A70: 콘크리트 펌프차 | B70: 36M, [80~95](㎥/hr) | C70: HR | D70: 0.0531 | E70: =일위대가목록!E66 -> 29216 | F70: =TRUNC(E70*D70,1) -> 1551.3 | G70: =일위대가목록!F66 -> 25758 | H70: =TRUNC(G70*D70,1) -> 1367.7 | I70: =일위대가목록!G66 -> 71597 | J70: =TRUNC(I70*D70,1) -> 3801.8 | K70: =TRUNC(E70+G70+I70,1) -> 126571 | L70: =TRUNC(F70+H70+J70,1) -> 6720.8 | N70: 5E6935D0984A9A17DB207A3495C4 | O70: 5E6935D0994B1A1767FE5E3DCDD4 | P70: T | Q70: F | R70: F | AK70: 5E6935D0984A9A17DB207A3495C45E6935D0994B1A1767FE5E3DCDD4
A71: 콘크리트 펌프차 타설인부 | B71: 붐타설, 무근구조물 | C71: M3 | D71: 1 | E71: =일위대가목록!E67 -> 0 | F71: =TRUNC(E71*D71,1) -> 0 | G71: =일위대가목록!F67 -> 7997 | H71: =TRUNC(G71*D71,1) -> 7997 | I71: =일위대가목록!G67 -> 0 | J71: =TRUNC(I71*D71,1) -> 0 | K71: =TRUNC(E71+G71+I71,1) -> 7997 | L71: =TRUNC(F71+H71+J71,1) -> 7997 | N71: 5E6935D0984A9A17DB207A3495C4 | O71: 5E6935D0984A9A17DB43493AEDC2 | P71: T | Q71: F | R71: F | AK71: 5E6935D0984A9A17DB207A3495C45E6935D0984A9A17DB43493AEDC2
A72: [ 합 계 ] | F72: =TRUNC(SUMIF(N70:N71,N69,F70:F71),0) -> 1551 | H72: =TRUNC(SUMIF(N70:N71,N69,H70:H71),0) -> 9364 | J72: =TRUNC(SUMIF(N70:N71,N69,J70:J71),0) -> 3801 | L72: =F72+H72+J72 -> 14716 | N72: TOTAL | O72: TOTAL
A74: 철근콘크리트타설/펌프카(36m) 슬럼프15,50m3미만[80~95] M3 토목 6-1-2 ( 호표 13 ) | N74: 5E6935D0984A9A17DB20693E48C6
A75: 콘크리트 펌프차 | B75: 36M, [80~95](㎥/hr) | C75: HR | D75: 0.0564 | E75: =일위대가목록!E66 -> 29216 | F75: =TRUNC(E75*D75,1) -> 1647.7 | G75: =일위대가목록!F66 -> 25758 | H75: =TRUNC(G75*D75,1) -> 1452.7 | I75: =일위대가목록!G66 -> 71597 | J75: =TRUNC(I75*D75,1) -> 4038 | K75: =TRUNC(E75+G75+I75,1) -> 126571 | L75: =TRUNC(F75+H75+J75,1) -> 7138.4 | N75: 5E6935D0984A9A17DB20693E48C6 | O75: 5E6935D0994B1A1767FE5E3DCDD4 | P75: T | Q75: F | R75: F | AK75: 5E6935D0984A9A17DB20693E48C65E6935D0994B1A1767FE5E3DCDD4
A76: 콘크리트 펌프차 타설인부 | B76: 붐타설, 철근구조물 | C76: M3 | D76: 1 | E76: =일위대가목록!E68 -> 0 | F76: =TRUNC(E76*D76,1) -> 0 | G76: =일위대가목록!F68 -> 8960 | H76: =TRUNC(G76*D76,1) -> 8960 | I76: =일위대가목록!G68 -> 0 | J76: =TRUNC(I76*D76,1) -> 0 | K76: =TRUNC(E76+G76+I76,1) -> 8960 | L76: =TRUNC(F76+H76+J76,1) -> 8960 | N76: 5E6935D0984A9A17DB20693E48C6 | O76: 5E6935D0984A9A17DB43493AEEE9 | P76: T | Q76: F | R76: F | AK76: 5E6935D0984A9A17DB20693E48C65E6935D0984A9A17DB43493AEEE9
A77: [ 합 계 ] | F77: =TRUNC(SUMIF(N75:N76,N74,F75:F76),0) -> 1647 | H77: =TRUNC(SUMIF(N75:N76,N74,H75:H76),0) -> 10412 | J77: =TRUNC(SUMIF(N75:N76,N74,J75:J76),0) -> 4038 | L77: =F77+H77+J77 -> 16097 | N77: TOTAL | O77: TOTAL
A79: 철근 현장 가공 및 조립 보통(미할증) TON 토목 6-2-1 ( 호표 14 ) | N79: 5E6935D0984A9A17DB789B3FEBC9
A80: 소철선 | B80: 어니일링, 0.9㎜ | C80: kg | D80: 6.5 | E80: =단가대비표!O128 -> 1420 | F80: =TRUNC(E80*D80,1) -> 9230 | G80: =단가대비표!P128 -> 0 | H80: =TRUNC(G80*D80,1) -> 0 | I80: =단가대비표!V128 -> 0 | J80: =TRUNC(I80*D80,1) -> 0 | K80: =TRUNC(E80+G80+I80,1) -> 1420 | L80: =TRUNC(F80+H80+J80,1) -> 9230 | N80: 5E6935D0984A9A17DB789B3FEBC9 | O80: 5EA755D93844C41714FB973C30F6 | P80: F | Q80: F | R80: T | AK80: 5E6935D0984A9A17DB789B3FEBC95EA755D93844C41714FB973C30F6
A81: 철근 현장 가공 | B81: 보통 | C81: TON | D81: 1 | E81: =일위대가목록!E69 -> 4266 | F81: =TRUNC(E81*D81,1) -> 4266 | G81: =일위대가목록!F69 -> 213306 | H81: =TRUNC(G81*D81,1) -> 213306 | I81: =일위대가목록!G69 -> 0 | J81: =TRUNC(I81*D81,1) -> 0 | K81: =TRUNC(E81+G81+I81,1) -> 217572 | L81: =TRUNC(F81+H81+J81,1) -> 217572 | N81: 5E6935D0984A9A17DB789B3FEBC9 | O81: 5E6935D0984A9A17DB789B3FEBC8 | P81: T | Q81: F | R81: F | AK81: 5E6935D0984A9A17DB789B3FEBC95E6935D0984A9A17DB789B3FEBC8
A82: 철근 현장 조립 | B82: 보통 | C82: TON | D82: 1 | E82: =일위대가목록!E70 -> 0 | F82: =TRUNC(E82*D82,1) -> 0 | G82: =일위대가목록!F70 -> 323742 | H82: =TRUNC(G82*D82,1) -> 323742 | I82: =일위대가목록!G70 -> 0 | J82: =TRUNC(I82*D82,1) -> 0 | K82: =TRUNC(E82+G82+I82,1) -> 323742 | L82: =TRUNC(F82+H82+J82,1) -> 323742 | N82: 5E6935D0984A9A17DB789B3FEBC9 | O82: 5E6935D0984A9A17DB789B3FEBCA | P82: T | Q82: F | R82: F | AK82: 5E6935D0984A9A17DB789B3FEBC95E6935D0984A9A17DB789B3FEBCA
A83: [ 합 계 ] | F83: =TRUNC(SUMIF(N80:N82,N79,F80:F82),0) -> 13496 | H83: =TRUNC(SUMIF(N80:N82,N79,H80:H82),0) -> 537048 | J83: =TRUNC(SUMIF(N80:N82,N79,J80:J82),0) -> 0 | L83: =F83+H83+J83 -> 550544 | N83: TOTAL | O83: TOTAL
A85: 합판 거푸집 설치 및 해체 4회 사용시, 0~7m까지 M2 토목 6-3-2 ( 호표 15 ) | N85: 5E6935D0984A9A17DB6E3D3E1298
A86: 합판 거푸집 - 재료비 | B86: 1회 사용시, 0~7m까지 | C86: M2 | D86: 1 | E86: =일위대가목록!E71 -> 21551 | F86: =TRUNC(E86*D86,1) -> 21551 | G86: =일위대가목록!F71 -> 0 | H86: =TRUNC(G86*D86,1) -> 0 | I86: =일위대가목록!G71 -> 0 | J86: =TRUNC(I86*D86,1) -> 0 | K86: =TRUNC(E86+G86+I86,1) -> 21551 | L86: =TRUNC(F86+H86+J86,1) -> 21551 | M86: 금액제외 | O86: 5E6935D0984A9A17DB6E3D3C69BE | P86: T | Q86: F | R86: F | V86: 1 | AK86: 5E6935D0984A9A17DB6E3D3E12985E6935D0984A9A17DB6E3D3C69BE | AL86: -
A87: 횟수별 비율 적용 금액 | B87: 주재료비의 40.1% | C87: 식 | D87: 1 | E87: =ROUNDDOWN(SUMIF(V86:V89,RIGHTB(O87,1),F86:F89)*U87,2) -> 8641.95 | F87: =TRUNC(E87*D87,1) -> 8641.9 | G87: 0 | H87: =TRUNC(G87*D87,1) -> 0 | I87: 0 | J87: =TRUNC(I87*D87,1) -> 0 | K87: =TRUNC(E87+G87+I87,1) -> 8641.9 | L87: =TRUNC(F87+H87+J87,1) -> 8641.9 | N87: 5E6935D0984A9A17DB6E3D3E1298 | O87: 583395C1104C001754D00C3B4B9E1 | P87: F | Q87: F | R87: F | S87: 0 | T87: 0 | U87: 0.401 | AK87: 5E6935D0984A9A17DB6E3D3E1298583395C1104C001754D00C3B4B9E1
A88: 합판 거푸집 - 노무비(제작,조립,철거 포함) | B88: 1회 사용시, 0~7m까지 | C88: M2 | D88: 1 | E88: =일위대가목록!E72 -> 0 | F88: =TRUNC(E88*D88,1) -> 0 | G88: =일위대가목록!F72 -> 43776 | H88: =TRUNC(G88*D88,1) -> 43776 | I88: =일위대가목록!G72 -> 0 | J88: =TRUNC(I88*D88,1) -> 0 | K88: =TRUNC(E88+G88+I88,1) -> 43776 | L88: =TRUNC(F88+H88+J88,1) -> 43776 | M88: 금액제외 | O88: 5E6935D0984A9A17DB6E3D3C6A45 | P88: T | Q88: F | R88: F | W88: 2 | AK88: 5E6935D0984A9A17DB6E3D3E12985E6935D0984A9A17DB6E3D3C6A45 | AL88: -
A89: 횟수별 비율 적용 금액 | B89: 인력품의 40.0% | C89: 식 | D89: 1 | E89: 0 | F89: =TRUNC(E89*D89,1) -> 0 | G89: =ROUNDDOWN(SUMIF(W86:W89,RIGHTB(O89,1),H86:H89)*U89,2) -> 17510.4 | H89: =TRUNC(G89*D89,1) -> 17510.4 | I89: 0 | J89: =TRUNC(I89*D89,1) -> 0 | K89: =TRUNC(E89+G89+I89,1) -> 17510.4 | L89: =TRUNC(F89+H89+J89,1) -> 17510.4 | N89: 5E6935D0984A9A17DB6E3D3E1298 | O89: 583395C1104C001754D00C3B4B9D2 | P89: F | Q89: F | R89: F | S89: 1 | T89: 1 | U89: 0.4 | AK89: 5E6935D0984A9A17DB6E3D3E1298583395C1104C001754D00C3B4B9E1
A90: [ 합 계 ] | F90: =TRUNC(SUMIF(N86:N89,N85,F86:F89),0) -> 8641 | H90: =TRUNC(SUMIF(N86:N89,N85,H86:H89),0) -> 17510 | J90: =TRUNC(SUMIF(N86:N89,N85,J86:J89),0) -> 0 | L90: =F90+H90+J90 -> 26151 | N90: TOTAL | O90: TOTAL | AL90: -
A92: 유로폼 설치 및 해체 벽, 0~7m까지 M2 토목 6-3-5 ( 호표 16 ) | N92: 5E6935D0984A9A17DB6E7B350B73
A93: 유로폼 - 자재비 | B93: 벽, 0~7m까지 | C93: 10M2 | D93: 0.1 | E93: =일위대가목록!E73 -> 26354 | F93: =TRUNC(E93*D93,1) -> 2635.4 | G93: =일위대가목록!F73 -> 0 | H93: =TRUNC(G93*D93,1) -> 0 | I93: =일위대가목록!G73 -> 0 | J93: =TRUNC(I93*D93,1) -> 0 | K93: =TRUNC(E93+G93+I93,1) -> 26354 | L93: =TRUNC(F93+H93+J93,1) -> 2635.4 | N93: 5E6935D0984A9A17DB6E7B350B73 | O93: 5E6935D0984A9A17DB6E69302E9F | P93: T | Q93: F | R93: F | AK93: 5E6935D0984A9A17DB6E7B350B735E6935D0984A9A17DB6E69302E9F
A94: 유로폼 - 노무비(조립, 해체) | B94: 조립, 해체, 0~7m까지 | C94: 10M2 | D94: 0.1 | E94: =일위대가목록!E74 -> 5536 | F94: =TRUNC(E94*D94,1) -> 553.6 | G94: =일위대가목록!F74 -> 184559 | H94: =TRUNC(G94*D94,1) -> 18455.9 | I94: =일위대가목록!G74 -> 0 | J94: =TRUNC(I94*D94,1) -> 0 | K94: =TRUNC(E94+G94+I94,1) -> 190095 | L94: =TRUNC(F94+H94+J94,1) -> 19009.5 | N94: 5E6935D0984A9A17DB6E7B350B73 | O94: 5E6935D0984A9A17DB6E69302CD1 | P94: T | Q94: F | R94: F | AK94: 5E6935D0984A9A17DB6E7B350B735E6935D0984A9A17DB6E69302CD1
A95: [ 합 계 ] | F95: =TRUNC(SUMIF(N93:N94,N92,F93:F94),0) -> 3189 | H95: =TRUNC(SUMIF(N93:N94,N92,H93:H94),0) -> 18455 | J95: =TRUNC(SUMIF(N93:N94,N92,J93:J94),0) -> 0 | L95: =F95+H95+J95 -> 21644 | N95: TOTAL | O95: TOTAL
A97: 화강석붙임(건식/앵커, 버너) 벽, 포천석 30mm, 0.3㎡이하 M2 건축 9-1-2.1(2) ( 호표 17 ) | N97: 5E6935D0984A9A179D4E77316F7E
A98: 포천석판재 | B98: 버너, 30mm | C98: M2 | D98: 1.1 | E98: =단가대비표!O67 -> 31000 | F98: =TRUNC(E98*D98,1) -> 34100 | G98: =단가대비표!P67 -> 0 | H98: =TRUNC(G98*D98,1) -> 0 | I98: =단가대비표!V67 -> 0 | J98: =TRUNC(I98*D98,1) -> 0 | K98: =TRUNC(E98+G98+I98,1) -> 31000 | L98: =TRUNC(F98+H98+J98,1) -> 34100 | N98: 5E6935D0984A9A179D4E77316F7E | O98: 5E6935DBA549DE1749C99D3E2527 | P98: F | Q98: F | R98: T | AK98: 5E6935D0984A9A179D4E77316F7E5E6935DBA549DE1749C99D3E2527
A99: 화강석붙임(앵커지지시공비,줄눈포함) | B99: 건식벽, 0.3㎡ 이하 | C99: M2 | D99: 1 | E99: =일위대가목록!E75 -> 2441 | F99: =TRUNC(E99*D99,1) -> 2441 | G99: =일위대가목록!F75 -> 81371 | H99: =TRUNC(G99*D99,1) -> 81371 | I99: =일위대가목록!G75 -> 0 | J99: =TRUNC(I99*D99,1) -> 0 | K99: =TRUNC(E99+G99+I99,1) -> 83812 | L99: =TRUNC(F99+H99+J99,1) -> 83812 | N99: 5E6935D0984A9A179D4E77316F7E | O99: 5E6935D0984A9A179D4E0C323DE6 | P99: T | Q99: F | R99: F | AK99: 5E6935D0984A9A179D4E77316F7E5E6935D0984A9A179D4E0C323DE6
A100: [ 합 계 ] | F100: =TRUNC(SUMIF(N98:N99,N97,F98:F99),0) -> 36541 | H100: =TRUNC(SUMIF(N98:N99,N97,H98:H99),0) -> 81371 | J100: =TRUNC(SUMIF(N98:N99,N97,J98:J99),0) -> 0 | L100: =F100+H100+J100 -> 117912 | N100: TOTAL | O100: TOTAL
A102: 화강석 두겁돌(습식,버너) 포천석300*100mm,몰탈30mm M ( 호표 18 ) | N102: 5E6935D0984A9A179D58B236D1D2
A103: 포천석판재 | B103: 버너, 100mm | C103: M2 | D103: 0.55 | E103: =단가대비표!O64 -> 102000 | F103: =TRUNC(E103*D103,1) -> 56100 | G103: =단가대비표!P64 -> 0 | H103: =TRUNC(G103*D103,1) -> 0 | I103: =단가대비표!V64 -> 0 | J103: =TRUNC(I103*D103,1) -> 0 | K103: =TRUNC(E103+G103+I103,1) -> 102000 | L103: =TRUNC(F103+H103+J103,1) -> 56100 | N103: 5E6935D0984A9A179D58B236D1D2 | O103: 5E6935DBA549DE1749C9E4304B58 | P103: F | Q103: F | R103: T | AK103: 5E6935D0984A9A179D58B236D1D25E6935DBA549DE1749C9E4304B58
A104: 모르타르비빔 -돌붙임(바닥) | B104: 배합용적비 1:3 | C104: M3 | D104: 0.009 | E104: =일위대가목록!E76 -> 0 | F104: =TRUNC(E104*D104,1) -> 0 | G104: =일위대가목록!F76 -> 0 | H104: =TRUNC(G104*D104,1) -> 0 | I104: =일위대가목록!G76 -> 0 | J104: =TRUNC(I104*D104,1) -> 0 | K104: =TRUNC(E104+G104+I104,1) -> 0 | L104: =TRUNC(F104+H104+J104,1) -> 0 | N104: 5E6935D0984A9A179D58B236D1D2 | O104: 5E6935D0984A9A179D7B7735BB6B | P104: T | Q104: F | R104: F | AK104: 5E6935D0984A9A179D58B236D1D25E6935D0984A9A179D7B7735BB6B
A105: 화강석붙임 - 습식공법 | B105: 바닥, 자재별도(시공비) | C105: M2 | D105: 0.3 | E105: =일위대가목록!E77 -> 0 | F105: =TRUNC(E105*D105,1) -> 0 | G105: =일위대가목록!F77 -> 73096 | H105: =TRUNC(G105*D105,1) -> 21928.8 | I105: =일위대가목록!G77 -> 0 | J105: =TRUNC(I105*D105,1) -> 0 | K105: =TRUNC(E105+G105+I105,1) -> 73096 | L105: =TRUNC(F105+H105+J105,1) -> 21928.8 | N105: 5E6935D0984A9A179D58B236D1D2 | O105: 5E6935D0984A9A179D7B7735BA42 | P105: T | Q105: F | R105: F | AK105: 5E6935D0984A9A179D58B236D1D25E6935D0984A9A179D7B7735BA42
A106: [ 합 계 ] | F106: =TRUNC(SUMIF(N103:N105,N102,F103:F105),0) -> 56100 | H106: =TRUNC(SUMIF(N103:N105,N102,H103:H105),0) -> 21928 | J106: =TRUNC(SUMIF(N103:N105,N102,J103:J105),0) -> 0 | L106: =F106+H106+J106 -> 78028 | N106: TOTAL | O106: TOTAL
A108: 화강석붙임(습식, 버너) 바닥,포천석50mm,몰탈50mm M2 ( 호표 19 ) | N108: 5E6935D0984A9A179D00803384EB
A109: 포천석판재 | B109: 버너, 50mm | C109: M2 | D109: 1.1 | E109: =단가대비표!O65 -> 63000 | F109: =TRUNC(E109*D109,1) -> 69300 | G109: =단가대비표!P65 -> 0 | H109: =TRUNC(G109*D109,1) -> 0 | I109: =단가대비표!V65 -> 0 | J109: =TRUNC(I109*D109,1) -> 0 | K109: =TRUNC(E109+G109+I109,1) -> 63000 | L109: =TRUNC(F109+H109+J109,1) -> 69300 | N109: 5E6935D0984A9A179D00803384EB | O109: 5E6935DBA549DE1749C9E4304C74 | P109: F | Q109: F | R109: T | AK109: 5E6935D0984A9A179D00803384EB5E6935DBA549DE1749C9E4304C74
A110: 모르타르비빔 -돌붙임(바닥) | B110: 배합용적비 1:3 | C110: M3 | D110: 0.05 | E110: =일위대가목록!E76 -> 0 | F110: =TRUNC(E110*D110,1) -> 0 | G110: =일위대가목록!F76 -> 0 | H110: =TRUNC(G110*D110,1) -> 0 | I110: =일위대가목록!G76 -> 0 | J110: =TRUNC(I110*D110,1) -> 0 | K110: =TRUNC(E110+G110+I110,1) -> 0 | L110: =TRUNC(F110+H110+J110,1) -> 0 | N110: 5E6935D0984A9A179D00803384EB | O110: 5E6935D0984A9A179D7B7735BB6B | P110: T | Q110: F | R110: F | AK110: 5E6935D0984A9A179D00803384EB5E6935D0984A9A179D7B7735BB6B
A111: 화강석붙임 - 습식공법 | B111: 바닥, 자재별도(시공비) | C111: M2 | D111: 1 | E111: =일위대가목록!E77 -> 0 | F111: =TRUNC(E111*D111,1) -> 0 | G111: =일위대가목록!F77 -> 73096 | H111: =TRUNC(G111*D111,1) -> 73096 | I111: =일위대가목록!G77 -> 0 | J111: =TRUNC(I111*D111,1) -> 0 | K111: =TRUNC(E111+G111+I111,1) -> 73096 | L111: =TRUNC(F111+H111+J111,1) -> 73096 | N111: 5E6935D0984A9A179D00803384EB | O111: 5E6935D0984A9A179D7B7735BA42 | P111: T | Q111: F | R111: F | AK111: 5E6935D0984A9A179D00803384EB5E6935D0984A9A179D7B7735BA42
A112: [ 합 계 ] | F112: =TRUNC(SUMIF(N109:N111,N108,F109:F111),0) -> 69300 | H112: =TRUNC(SUMIF(N109:N111,N108,H109:H111),0) -> 73096 | J112: =TRUNC(SUMIF(N109:N111,N108,J109:J111),0) -> 0 | L112: =F112+H112+J112 -> 142396 | N112: TOTAL | O112: TOTAL
A114: 화강석붙임(습식, 버너) 디딤판,포천석330*50mm,몰탈50mm M ( 호표 20 ) | N114: 5E6935D0984A9A179D00803FBF18
A115: 포천석판재 | B115: 버너, 50mm | C115: M2 | D115: 0.418 | E115: =단가대비표!O65 -> 63000 | F115: =TRUNC(E115*D115,1) -> 26334 | G115: =단가대비표!P65 -> 0 | H115: =TRUNC(G115*D115,1) -> 0 | I115: =단가대비표!V65 -> 0 | J115: =TRUNC(I115*D115,1) -> 0 | K115: =TRUNC(E115+G115+I115,1) -> 63000 | L115: =TRUNC(F115+H115+J115,1) -> 26334 | N115: 5E6935D0984A9A179D00803FBF18 | O115: 5E6935DBA549DE1749C9E4304C74 | P115: F | Q115: F | R115: T | AK115: 5E6935D0984A9A179D00803FBF185E6935DBA549DE1749C9E4304C74
A116: 모르타르비빔 -돌붙임(바닥) | B116: 배합용적비 1:3 | C116: M3 | D116: 0.0165 | E116: =일위대가목록!E76 -> 0 | F116: =TRUNC(E116*D116,1) -> 0 | G116: =일위대가목록!F76 -> 0 | H116: =TRUNC(G116*D116,1) -> 0 | I116: =일위대가목록!G76 -> 0 | J116: =TRUNC(I116*D116,1) -> 0 | K116: =TRUNC(E116+G116+I116,1) -> 0 | L116: =TRUNC(F116+H116+J116,1) -> 0 | N116: 5E6935D0984A9A179D00803FBF18 | O116: 5E6935D0984A9A179D7B7735BB6B | P116: T | Q116: F | R116: F | AK116: 5E6935D0984A9A179D00803FBF185E6935D0984A9A179D7B7735BB6B
A117: 화강석붙임 - 습식공법 | B117: 바닥, 자재별도(시공비) | C117: M2 | D117: 0.33 | E117: =일위대가목록!E77 -> 0 | F117: =TRUNC(E117*D117,1) -> 0 | G117: =일위대가목록!F77 -> 73096 | H117: =TRUNC(G117*D117,1) -> 24121.6 | I117: =일위대가목록!G77 -> 0 | J117: =TRUNC(I117*D117,1) -> 0 | K117: =TRUNC(E117+G117+I117,1) -> 73096 | L117: =TRUNC(F117+H117+J117,1) -> 24121.6 | N117: 5E6935D0984A9A179D00803FBF18 | O117: 5E6935D0984A9A179D7B7735BA42 | P117: T | Q117: F | R117: F | AK117: 5E6935D0984A9A179D00803FBF185E6935D0984A9A179D7B7735BA42
A118: [ 합 계 ] | F118: =TRUNC(SUMIF(N115:N117,N114,F115:F117),0) -> 26334 | H118: =TRUNC(SUMIF(N115:N117,N114,H115:H117),0) -> 24121 | J118: =TRUNC(SUMIF(N115:N117,N114,J115:J117),0) -> 0 | L118: =F118+H118+J118 -> 50455 | N118: TOTAL | O118: TOTAL
A120: 화강석붙임(습식, 버너) 챌판,포천석100*20mm,몰탈25mm M ( 호표 21 ) | N120: 5E6935D0984A9A179D00923D65E8
...

Sheet 중기단가목록
A1: 중 기 단 가 목 록
A2: [ 서귀포 중앙동우체국 임대공간 조성건축공사 ]
A3: 코 드 | B3: 품 명 | C3: 규 격 | D3: 단위 | E3: 재 료 비 | F3: 노 무 비 | G3: 경 비 | H3: 합 계 | I3: 번 호 | J3: 비 고 | K3: START
A4: 5E6935D092403517B6D680350A03 | B4: 메우고다지기토사T=15CM(보통) | C4: 백호0.7M3*래머80kg | D4: M3 | E4: 455 | F4: 4516 | G4: 331 | H4: 5302 | I4: 산근 1 | K4: 5E6935D092403517B6D680350A03
A5: 5E6935D092403517B6D680350A07 | B5: 성토-현장토사유용 | C5: 백호0.7M3*래머80kg | D5: M3 | E5: 455 | F5: 4516 | G5: 331 | H5: 5302 | I5: 산근 2 | K5: 5E6935D092403517B6D680350A07
A6: 5E6935D092403517B6C478338779 | B6: 토사처리 단지외10KM(보통) | C6: 담프15톤 + 백호0.7(고르기별도) | D6: M3 | E6: 2473 | F6: 2375 | G6: 1623 | H6: 6471 | I6: 산근 3 | K6: 5E6935D092403517B6C478338779
A7: 5E6935D092403517B6F15D301FB3 | B7: 터파기 토사(보통) | C7: 백호 0.7M3 90%+인력10% | D7: M3 | E7: 264 | F7: 2149 | G7: 300 | H7: 2713 | I7: 산근 4 | K7: 5E6935D092403517B6F15D301FB3

Sheet 중기단가산출서
A1: 중 기 단 가 산 출 서
A2: [ 서귀포 중앙동우체국 임대공간 조성건축공사 ]
A3: 산 출 내 역 | B3: 재 료 비 | C3: 노 무 비 | D3: 경 비 | E3: 합 계 | F3: 비 고 | G3: START | H3: 코드 | I3: 품명 | J3: 규격 | K3: 단위 | L3: 수량
A4: 메우고다지기토사T=15CM(보통) 백호0.7M3*래머80kg M3 토목 11-3,11 ( 산근 1 ) | G4: 5E6935D092403517B6D680350A03 | I4: 메우고다지기토사T=15CM(보통) | J4: 백호0.7M3*래머80kg | K4: M3
G5: 5E6935D092403517B6D680350A03 | H5: C | L5: 1
A6: 1.굴삭기(유압식백호우0.7M3) M3 | B6: 0 | C6: 0 | D6: 0 | E6: 0 | G6: 5E6935D092403517B6D680350A03 | H6: C! | I6: '1.굴삭기(유압식백호우0.7M3) M3 '
A7: Q 바켓용량(M3) = 0.7 | B7: 0 | C7: 0 | D7: 0 | E7: 0 | G7: 5E6935D092403517B6D680350A03 | H7: C! | I7: q '바켓용량(M3)'= 0.7
A8: k 바켓계수 = 1.1 | B8: 0 | C8: 0 | D8: 0 | E8: 0 | G8: 5E6935D092403517B6D680350A03 | H8: C! | I8: k '바켓계수'= 1.1
A9: L1 흐트러진상태 =1.25 | B9: 0 | C9: 0 | D9: 0 | E9: 0 | G9: 5E6935D092403517B6D680350A03 | H9: C! | I9: L1 '흐트러진상태' =1.25
A10: C 다져진상태 =0.9 | B10: 0 | C10: 0 | D10: 0 | E10: 0 | G10: 5E6935D092403517B6D680350A03 | H10: C! | I10: C '다져진상태'=0.9
A11: F 토량환산계(C/L) =C/L1= 0.72 | B11: 0 | C11: 0 | D11: 0 | E11: 0 | G11: 5E6935D092403517B6D680350A03 | H11: C! | I11: f '토량환산계(C/L)'=C/L1=?
A12: E 작업효율(양호0.9,보통0.75,불량0.6) = 0.75 | B12: 0 | C12: 0 | D12: 0 | E12: 0 | G12: 5E6935D092403517B6D680350A03 | H12: C! | I12: E '작업효율(양호0.9,보통0.75,불량0.6)'= 0.75
A13: CM 1회 싸이클시간(90˚SEC) =18 | B13: 0 | C13: 0 | D13: 0 | E13: 0 | G13: 5E6935D092403517B6D680350A03 | H13: C! | I13: Cm '1회 싸이클시간(90˚sec)'=18
A14: Q 시간당 작업량 (M3/HR) = 3600*Q*K*F*E/CM= 83.16 | B14: 0 | C14: 0 | D14: 0 | E14: 0 | G14: 5E6935D092403517B6D680350A03 | H14: C! | I14: Q '시간당 작업량 (M3/Hr)'= 3600*q*k*f*E/Cm=?
A15: 재료비: 17303 / 83.16 = 208 | B15: 208 | C15: 0 | D15: 0 | E15: 208 | G15: 5E6935D092403517B6D680350A03 | H15: C! | I15: '재료비:' ~56921010210.M~ / {Q} =?MA+
A16: 노무비: 25758 / 83.16 = 309.7 | B16: 0 | C16: 309.7 | D16: 0 | E16: 309.7 | G16: 5E6935D092403517B6D680350A03 | H16: C! | I16: '노무비:' ~56921010210.L~ / {Q} =?LA+
A17: 경 비: 19708 / 83.16 = 236.9 | B17: 0 | C17: 0 | D17: 236.9 | E17: 236.9 | G17: 5E6935D092403517B6D680350A03 | H17: C! | I17: '경 비:' ~56921010210.E~ / {Q} =?EQ+
... A31: 합 계 | B31: 455.8 | C31: 4516.2 | D31: 331 | E31: 5303 | G31: 5E6935D092403517B6D680350A03 | H31: C! | I31: >>'합 계'
A32: 총 계 | B32: 455 | C32: 4516 | D32: 331 | E32: 5302
A34: 성토-현장토사유용 백호0.7M3*래머80kg M3 토목 11-3,11 ( 산근 2 ) | G34: 5E6935D092403517B6D680350A07 | I34: 성토-현장토사유용 | J34: 백호0.7M3*래머80kg | K34: M3
G35: 5E6935D092403517B6D680350A07 | H35: C | L35: 1
A36: 1.굴삭기(유압식백호우0.7M3) M3 | B36: 0 | C36: 0 | D36: 0 | E36: 0 | G36: 5E6935D092403517B6D680350A07 | H36: C! | I36: '1.굴삭기(유압식백호우0.7M3) M3 '
A37: Q 바켓용량(M3) = 0.7 | B37: 0 | C37: 0 | D37: 0 | E37: 0 | G37: 5E6935D092403517B6D680350A07 | H37: C! | I37: q '바켓용량(M3)'= 0.7
A38: k 바켓계수 = 1.1 | B38: 0 | C38: 0 | D38: 0 | E38: 0 | G38: 5E6935D092403517B6D680350A07 | H38: C! | I38: k '바켓계수'= 1.1
A39: L1 흐트러진상태 =1.25 | B39: 0 | C39: 0 | D39: 0 | E39: 0 | G39: 5E6935D092403517B6D680350A07 | H39: C! | I39: L1 '흐트러진상태' =1.25
A40: C 다져진상태 =0.9 | B40: 0 | C40: 0 | D40: 0 | E40: 0 | G40: 5E6935D092403517B6D680350A07 | H40: C! | I40: C '다져진상태'=0.9
A41: F 토량환산계(C/L) =C/L1= 0.72 | B41: 0 | C41: 0 | D41: 0 | E41: 0 | G41: 5E6935D092403517B6D680350A07 | H41: C! | I41: f '토량환산계(C/L)'=C/L1=?
A42: E 작업효율(양호0.9,보통0.75,불량0.6) = 0.75 | B42: 0 | C42: 0 | D42: 0 | E42: 0 | G42: 5E6935D092403517B6D680350A07 | H42: C! | I42: E '작업효율(양호0.9,보통0.75,불량0.6)'= 0.75
A43: CM 1회 싸이클시간(90˚SEC) =18 | B43: 0 | C43: 0 | D43: 0 | E43: 0 | G43: 5E6935D092403517B6D680350A07 | H43: C! | I43: Cm '1회 싸이클시간(90˚sec)'=18
A44: Q 시간당 작업량 (M3/HR) = 3600*Q*K*F*E/CM= 83.16 | B44: 0 | C44: 0 | D44: 0 | E44: 0 | G44: 5E6935D092403517B6D680350A07 | H44: C! | I44: Q '시간당 작업량 (M3/Hr)'= 3600*q*k*f*E/Cm=?
A45: 재료비: 17303 / 83.16 = 208 | B45: 208 | C45: 0 | D45: 0 | E45: 208 | G45: 5E6935D092403517B6D680350A07 | H45: C! | I45: '재료비:' ~56921010210.M~ / {Q} =?MA+
A46: 노무비: 25758 / 83.16 = 309.7 | B46: 0 | C46: 309.7 | D46: 0 | E46: 309.7 | G46: 5E6935D092403517B6D680350A07 | H46: C! | I46: '노무비:' ~56921010210.L~ / {Q} =?LA+
A47: 경 비: 19708 / 83.16 = 236.9 | B47: 0 | C47: 0 | D47: 236.9 | E47: 236.9 | G47: 5E6935D092403517B6D680350A07 | H47: C! | I47: '경 비:' ~56921010210.E~ / {Q} =?EQ+
... A61: 합 계 | B61: 455.8 | C61: 4516.2 | D61: 331 | E61: 5303 | G61: 5E6935D092403517B6D680350A07 | H61: C! | I61: >>'합 계'
A62: 총 계 | B62: 455 | C62: 4516 | D62: 331 | E62: 5302
A64: 토사처리 단지외10KM(보통) 담프15톤 + 백호0.7(고르기별도) M3 토목 11-8 ( 산근 3 ) | G64: 5E6935D092403517B6C478338779 | I64: 토사처리 단지외10KM(보통) | J64: 담프15톤 + 백호0.7(고르기별도) | K64: M3
G65: 5E6935D092403517B6C478338779 | H65: C | K65: M3 | L65: 1
A66: 운반거리 L=10KM 담프15톤, M3 | B66: 0 | C66: 0 | D66: 0 | E66: 0 | G66: 5E6935D092403517B6C478338779 | H66: C! | I66: '운반거리 L=10KM 담프15톤, M3'
A67: 차량속도= 15KM/V1,20KM/V2,35KM/V3,35KM/V4,15KM/V5,20KM/V6 | B67: 0 | C67: 0 | D67: 0 | E67: 0 | G67: 5E6935D092403517B6C478338779 | H67: C! | I67: '차량속도= 15KM/V1,20KM/V2,35KM/V3,35KM/V4,15KM/V5,20KM/V6 '
A68: ○------------------0------------0----------------○10KM | B68: 0 | C68: 0 | D68: 0 | E68: 0 | G68: 5E6935D092403517B6C478338779 | H68: C! | I68: ' ○------------------0------------0----------------○10KM '
A69: 운반거리=단지대L1=0.5KM,시내외L2=9.0KM,사토장L3=0.5KM | B69: 0 | C69: 0 | D69: 0 | E69: 0 | G69: 5E6935D092403517B6C478338779 | H69: C! | I69: '운반거리=단지대L1=0.5KM,시내외L2=9.0KM,사토장L3=0.5KM'
A70: T 적재용량(톤) =15 | B70: 0 | C70: 0 | D70: 0 | E70: 0 | G70: 5E6935D092403517B6C478338779 | H70: C! | I70: T '적재용량(톤)' =15
A71: R1 토석의 단위중량(톤) =1.6 | B71: 0 | C71: 0 | D71: 0 | E71: 0 | G71: 5E6935D092403517B6C478338779 | H71: C! | I71: r1 '토석의 단위중량(톤)' =1.6
A72: L 토량 변화율 =1.25 | B72: 0 | C72: 0 | D72: 0 | E72: 0 | G72: 5E6935D092403517B6C478338779 | H72: C! | I72: L '토량 변화율' =1.25
A73: Q1 1회 적재량(M3) =T/R1*L= 11.7187 | B73: 0 | C73: 0 | D73: 0 | E73: 0 | G73: 5E6935D092403517B6C478338779 | H73: C! | I73: q1 '1회 적재량(M3)' =T/r1*L=?
A74: F 토량 환산계수(1/L) =1/1.25= 0.8 | B74: 0 | C74: 0 | D74: 0 | E74: 0 | G74: 5E6935D092403517B6C478338779 | H74: C! | I74: f '토량 환산계수(1/L)' =1/1.25=?
A75: E 작업효율 =0.9 | B75: 0 | C75: 0 | D75: 0 | E75: 0 | G75: 5E6935D092403517B6C478338779 | H75: C! | I75: E '작업효율' =0.9
A76: CMS 적재기계 1회 싸이클시간(SEC) =21 | B76: 0 | C76: 0 | D76: 0 | E76: 0 | G76: 5E6935D092403517B6C478338779 | H76: C! | I76: Cms '적재기계 1회 싸이클시간(SEC)' =21
A77: V1 단지내적재운반속도(KM/HR) =15 | B77: 0 | C77: 0 | D77: 0 | E77: 0 | G77: 5E6935D092403517B6C478338779 | H77: C! | I77: V1 '단지내적재운반속도(KM/HR)' =15
... A105: 합 계 | B105: 2473.7 | C105: 2375.1 | D105: 1623.9 | E105: 6472.7 | G105: 5E6935D092403517B6C478338779 | H105: C! | I105: >>'합 계'
A106: 총 계 | B106: 2473 | C106: 2375 | D106: 1623 | E106: 6471
A108: 터파기 토사(보통) 백호 0.7M3 90%+인력10% M3 토목 11-3. 3-1-3 ( 산근 4 ) | G108: 5E6935D092403517B6F15D301FB3 | I108: 터파기 토사(보통) | J108: 백호 0.7M3 90%+인력10% | K108: M3
G109: 5E6935D092403517B6F15D301FB3 | H109: C | L109: 1
A110: 1.굴삭기(유압식백호우0.7M3) M3 | B110: 0 | C110: 0 | D110: 0 | E110: 0 | G110: 5E6935D092403517B6F15D301FB3 | H110: C! | I110: '1.굴삭기(유압식백호우0.7M3) M3 '
A111: Q 바켓용량(M3) =0.70 | B111: 0 | C111: 0 | D111: 0 | E111: 0 | G111: 5E6935D092403517B6F15D301FB3 | H111: C! | I111: q '바켓용량(M3)' =0.70
A112: K 바켓계수(양호1.1,보통0.90,불량0.70,파쇄암0.55) = 0.90 | B112: 0 | C112: 0 | D112: 0 | E112: 0 | G112: 5E6935D092403517B6F15D301FB3 | H112: C! | I112: k '바켓계수(양호1.1,보통0.90,불량0.70,파쇄암0.55)'= 0.90
A113: F 토량환산계수(1/L) = 1/1.25= 0.8 | B113: 0 | C113: 0 | D113: 0 | E113: 0 | G113: 5E6935D092403517B6F15D301FB3 | H113: C! | I113: f '토량환산계수(1/L)'= 1/1.25=?
A114: E1 터파기에 대하여 -0.05 =0.05 | B114: 0 | C114: 0 | D114: 0 | E114: 0 | G114: 5E6935D092403517B6F15D301FB3 | H114: C! | I114: E1 '터파기에 대하여 -0.05'=0.05
A115: E 작업효율사질토(양호0.85,보통0.70,불량0.55) = 0.70-E1= 0.65 | B115: 0 | C115: 0 | D115: 0 | E115: 0 | G115: 5E6935D092403517B6F15D301FB3 | H115: C! | I115: E '작업효율사질토(양호0.85,보통0.70,불량0.55)'= 0.70-E1=?
A116: CM 1회 싸이클시간(90˚SEC) =20 | B116: 0 | C116: 0 | D116: 0 | E116: 0 | G116: 5E6935D092403517B6F15D301FB3 | H116: C! | I116: Cm '1회 싸이클시간(90˚SEC)'=20
A117: Q 시간당 작업량 (M3/HR) = 3600*Q*K*F*E/CM= 58.968 | B117: 0 | C117: 0 | D117: 0 | E117: 0 | G117: 5E6935D092403517B6F15D301FB3 | H117: C! | I117: Q '시간당 작업량 (M3/Hr)'= 3600*q*k*f*E/Cm=?
A118: 재료비: 17303 / 58.968*0.9 = 264 | B118: 264 | C118: 0 | D118: 0 | E118: 264 | G118: 5E6935D092403517B6F15D301FB3 | H118: C! | I118: '재료비:' ~56921010210.M~ / {Q}*0.9 =?MA+
A119: 노무비: 25758 / 58.968*0.9 = 393.1 | B119: 0 | C119: 393.1 | D119: 0 | E119: 393.1 | G119: 5E6935D092403517B6F15D301FB3 | H119: C! | I119: '노무비:' ~56921010210.L~ / {Q}*0.9 =?LA+
A120: 경 비: 19708 / 58.968*0.9 = 300.7 | B120: 0 | C120: 0 | D120: 300.7 | E120: 300.7 | G120: 5E6935D092403517B6F15D301FB3 | H120: C! | I120: '경 비:' ~56921010210.E~ / {Q}*0.9 =?EQ+
A121: 소 계 | B121: 264 | C121: 393.1 | D121: 300.7 | E121: 957.8 | G121: 5E6935D092403517B6F15D301FB3 | H121: C! | I121: >'소 계'
... A125: 합 계 | B125: 264 | C125: 2149.2 | D125: 300.7 | E125: 2713.9 | G125: 5E6935D092403517B6F15D301FB3 | H125: C! | I125: >>'합 계'
A126: 총 계 | B126: 264 | C126: 2149 | D126: 300 | E126: 2713

Sheet 단가대비표
A1: 단 가 대 비 표
A2: [ 서귀포 중앙동우체국 임대공간 조성건축공사 ] | K2: [ 서귀포 중앙동우체국 임대공간 조성건축공사 ] | U2: [ 서귀포 중앙동우체국 임대공간 조성건축공사 ]
A3: 코 드 | B3: 품 명 | C3: 규격 | D3: 단위 | E3: 재 료 비 | P3: 노 무 비 | Q3: 경 비 | W3: 번 호 | X3: 비 고 | Y3: 품목구분 | Z3: 노임구분 | AA3: 자재구분
E4: 가격정보 | F4: PAGE | G4: 거래가격 | H4: PAGE | I4: 유통물가 | J4: PAGE | K4: 물가자료 | L4: PAGE | M4: 정보/조사 | N4: PAGE | O4: 적용단가 | Q4: 가격정보 | R4: 거래가격 | S4: 유통물가 | T4: 물가자료 | U4: 정보/조사 | V4: 적용단가
A5: 5E11053BF0480E1743F9B5311230 | B5: 덤프트럭 | C5: 15톤 | D5: 대 | E5: 0 | G5: 0 | I5: 0 | K5: 0 | M5: 0 | O5: 0 | P5: 0 | Q5: 0 | R5: 0 | S5: 0 | T5: 0 | U5: 78101 | V5: =SMALL(Q5:U5,COUNTIF(Q5:U5,0)+1) -> 78101 | W5: 자재 1 | X5: 천원
A6: 5E11053BF0480E1743F9B5300CEB | B6: 덤프트럭 자동덮개시설 | C6: 15톤 | D6: 대 | E6: 0 | G6: 0 | I6: 0 | K6: 0 | M6: 0 | O6: 0 | P6: 0 | Q6: 0 | R6: 0 | S6: 0 | T6: 0 | U6: 1250 | V6: =SMALL(Q6:U6,COUNTIF(Q6:U6,0)+1) -> 1250 | W6: 자재 2 | X6: 천원
A7: 5E008523374FDB17149F7D390D9C | B7: 용접기(교류) | C7: 500AMP | D7: 대 | E7: 0 | G7: 0 | I7: 0 | K7: 0 | M7: 0 | O7: 0 | P7: 0 | Q7: 0 | R7: 0 | S7: 0 | T7: 0 | U7: 544 | V7: =SMALL(Q7:U7,COUNTIF(Q7:U7,0)+1) -> 544 | W7: 자재 3 | X7: 천원
A8: 5E0085233F433B175859A637372E | B8: 연강용피복아크용접봉 | C8: Φ3.2mm, CR-13 | D8: kg | E8: 0 | G8: 2400 | H8: 1198 | I8: 2400 | J8: 1180 | K8: 0 | M8: 0 | O8: =SMALL(E8:M8,COUNTIF(E8:M8,0)+1) -> 2400 | P8: 0 | Q8: 0 | R8: 0 | S8: 0 | T8: 0 | U8: 0 | V8: 0 | W8: 자재 4
A9: 5E0085233F433B1758DD48334365 | B9: 스테인리스강용피복아크용접봉 | C9: Φ3.2mm, AWSE308 | D9: kg | E9: 0 | G9: 8880 | H9: 1198 | I9: 0 | K9: 0 | M9: 0 | O9: =SMALL(E9:M9,COUNTIF(E9:M9,0)+1) -> 8880 | P9: 0 | Q9: 0 | R9: 0 | S9: 0 | T9: 0 | U9: 0 | V9: 0 | W9: 자재 5
A10: 5E00454597429E1792AA20307267 | B10: 굴삭기(무한궤도) | C10: 0.2M3 | D10: 대 | E10: 0 | G10: 0 | I10: 0 | K10: 0 | M10: 0 | O10: 0 | P10: 0 | Q10: 0 | R10: 0 | S10: 0 | T10: 0 | U10: 55208 | V10: =SMALL(Q10:U10,COUNTIF(Q10:U10,0)+1) -> 55208 | W10: 자재 6 | X10: 천원
A11: 5E00454597429E1792AA20307263 | B11: 굴삭기(무한궤도) | C11: 0.7M3 | D11: 대 | E11: 0 | G11: 0 | I11: 0 | K11: 0 | M11: 0 | O11: 0 | P11: 0 | Q11: 0 | R11: 0 | S11: 0 | T11: 0 | U11: 96703 | V11: =SMALL(Q11:U11,COUNTIF(Q11:U11,0)+1) -> 96703 | W11: 자재 7 | X11: 천원
A12: 5E0045475F414517716C5932A9D4 | B12: 페이브먼트 브레이커 | C12: 25.0kg(55#) | D12: 대 | E12: 0 | G12: 0 | I12: 0 | K12: 0 | M12: 0 | O12: 0 | P12: 0 | Q12: 0 | R12: 0 | S12: 0 | T12: 0 | U12: 1564 | V12: =SMALL(Q12:U12,COUNTIF(Q12:U12,0)+1) -> 1564 | W12: 자재 8 | X12: 천원
A13: 5E00454CC44CA717425903327DF7 | B13: 진동 롤러(핸드가이드식) | C13: 0.7톤 | D13: 대 | E13: 0 | G13: 0 | I13: 0 | K13: 0 | M13: 0 | O13: 0 | P13: 0 | Q13: 0 | R13: 0 | S13: 0 | T13: 0 | U13: 5670 | V13: =SMALL(Q13:U13,COUNTIF(Q13:U13,0)+1) -> 5670 | W13: 자재 9 | X13: 천원
A14: 5E00454CC44CA717C7A6FC3AFDBC | B14: 공기압축기(이동식) | C14: 3.5M3/min | D14: 대 | E14: 0 | G14: 0 | I14: 0 | K14: 0 | M14: 0 | O14: 0 | P14: 0 | Q14: 0 | R14: 0 | S14: 0 | T14: 0 | U14: 12426 | V14: =SMALL(Q14:U14,COUNTIF(Q14:U14,0)+1) -> 12426 | W14: 자재 10 | X14: 천원
A15: 5E00454CC44CA717C7FED6391CC8 | B15: 콘크리트펌프차 | C15: 36M, [80~95](㎥/hr) | D15: 대 | E15: 0 | G15: 0 | I15: 0 | K15: 0 | M15: 0 | O15: 0 | P15: 0 | Q15: 0 | R15: 0 | S15: 0 | T15: 0 | U15: 279460 | V15: =SMALL(Q15:U15,COUNTIF(Q15:U15,0)+1) -> 279460 | W15: 자재 11 | X15: 천원
A16: 5E00454CC44CB117A822A332C8DA | B16: 래머 | C16: 80kg | D16: 대 | E16: 0 | G16: 0 | I16: 0 | K16: 0 | M16: 0 | O16: 0 | P16: 0 | Q16: 0 | R16: 0 | S16: 0 | T16: 0 | U16: 1134 | V16: =SMALL(Q16:U16,COUNTIF(Q16:U16,0)+1) -> 1134 | W16: 자재 12 | X16: 천원
A17: 5E7BB5881E46C517DDAFD13B487A | B17: 기계구조용스테인리스강관 | C17: STS304 100*100*2.0mm | D17: M | E17: 0 | G17: 0 | H17: 63 | I17: 0 | J17: 36 | K17: 0 | M17: 42290 | N17: 98 | O17: =SMALL(E17:M17,COUNTIF(E17:M17,0)+1) -> 42290 | P17: 0 | Q17: 0 | R17: 0 | S17: 0 | T17: 0 | U17: 0 | V17: 0 | W17: 자재 13
A18: 5E7BB5881E46C517DDAFD139962B | B18: 기계구조용스테인리스강관 | C18: STS304 50*100*2.0mm | D18: M | E18: 0 | G18: 0 | H18: 63 | I18: 0 | J18: 36 | K18: 0 | M18: 31420 | N18: 98 | O18: =SMALL(E18:M18,COUNTIF(E18:M18,0)+1) -> 31420 | P18: 0 | Q18: 0 | R18: 0 | S18: 0 | T18: 0 | U18: 0 | V18: 0 | W18: 자재 14
A19: 5E6965AC4A4CDB173DD44833F73E | B19: 못 | C19: 일반못 N50 | D19: kg | E19: 0 | G19: 1162.8 | H19: 75 | I19: 1012.5 | J19: 40 | K19: 0 | M19: 1341 | N19: 106 | O19: =SMALL(E19:M19,COUNTIF(E19:M19,0)+1) -> 1012.5 | P19: 0 | Q19: 0 | R19: 0 | S19: 0 | T19: 0 | U19: 0 | V19: 0 | W19: 자재 15
A20: 5E6965AC4A4CDB173DD44833F73A | B20: 못 | C20: 일반못 N65 | D20: kg | E20: 0 | G20: 1162.8 | H20: 75 | I20: 1012.5 | J20: 40 | K20: 0 | M20: 0 | O20: =SMALL(E20:M20,COUNTIF(E20:M20,0)+1) -> 1012.5 | P20: 0 | Q20: 0 | R20: 0 | S20: 0 | T20: 0 | U20: 0 | V20: 0 | W20: 자재 16
A21: 5E6965AC4A4CDB173DD44833F0F1 | B21: 못 | C21: 일반못 N75 | D21: kg | E21: 0 | G21: 1150.8 | H21: 75 | I21: 1000 | J21: 40 | K21: 0 | M21: 1225 | N21: 106 | O21: =SMALL(E21:M21,COUNTIF(E21:M21,0)+1) -> 1000 | P21: 0 | Q21: 0 | R21: 0 | S21: 0 | T21: 0 | U21: 0 | V21: 0 | W21: 자재 17
A22: 5E6965A9FB470217C01AD63EF45F | B22: 도어클로우저 | C22: KS5호,고급형,80∼120kg(K-850) | D22: 조 | E22: 0 | G22: 75000 | H22: 567 | I22: 82000 | J22: 458 | K22: 82000 | L22: 607 | M22: 82000 | N22: 325 | O22: =SMALL(E22:M22,COUNTIF(E22:M22,0)+1) -> 75000 | P22: 0 | Q22: 0 | R22: 0 | S22: 0 | T22: 0 | U22: 0 | V22: 0 | W22: 자재 18
A23: 5E6965A8D540DC17D840AD3E38E3 | B23: 연마지 | C23: 연마지, #120~180, 230*280 | D23: 매 | E23: 0 | G23: 230 | H23: 1209 | I23: 275 | J23: 1216 | K23: 230 | L23: 1418 | M23: 275 | N23: 1-662 | O23: =SMALL(E23:M23,COUNTIF(E23:M23,0)+1) -> 230 | P23: 0 | Q23: 0 | R23: 0 | S23: 0 | T23: 0 | U23: 0 | V23: 0 | W23: 자재 19
A24: 5E69152F38486D17C33C06323079 | B24: 강관비계 | C24: 비계파이프, 48.6*2.3mm | D24: M | E24: 0 | G24: 3500 | H24: 123 | I24: 3233.33 | J24: 77 | K24: 2833.33 | L24: 145 | M24: 3233.33 | N24: 164 | O24: =SMALL(E24:M24,COUNTIF(E24:M24,0)+1) -> 2833.33 | P24: 0 | Q24: 0 | R24: 0 | S24: 0 | T24: 0 | U24: 0 | V24: 0 | W24: 자재 20
A25: 5E69152F38486D17DD96D93667AC | B25: 금속제 거푸집(유로폼) | C25: 600*1200*63.5mm | D25: 매 | E25: 0 | G25: 25700 | H25: 123 | I25: 27300 | J25: 78 | K25: 25500 | L25: 146 | M25: 27300 | N25: 164 | O25: =SMALL(E25:M25,COUNTIF(E25:M25,0)+1) -> 25500 | P25: 0 | Q25: 0 | R25: 0 | S25: 0 | T25: 0 | U25: 0 | V25: 0 | W25: 자재 21
A26: 5E69152F38486D17DD96D9328E8B | B26: 금속제 거푸집(유로폼) | C26: 내벽코너패널, (200+200)*1200 | D26: 매 | E26: 0 | G26: 16000 | H26: 122 | I26: 17500 | J26: 94 | K26: 15500 | L26: 146 | M26: 19900 | N26: 164 | O26: =SMALL(E26:M26,COUNTIF(E26:M26,0)+1) -> 15500 | P26: 0 | Q26: 0 | R26: 0 | S26: 0 | T26: 0 | U26: 0 | V26: 0 | W26: 자재 22
A27: 5E69152F38486D17965F6D3F08DC | B27: 강관틀 비계용 부재 | C27: 비계기본틀(기둥), 1.2*1.7m | D27: 개 | E27: 0 | G27: 25100 | H27: 123 | I27: 28300 | J27: 77 | K27: 26500 | L27: 146 | M27: 29900 | N27: 164 | O27: =SMALL(E27:M27,COUNTIF(E27:M27,0)+1) -> 25100 | P27: 0 | Q27: 0 | R27: 0 | S27: 0 | T27: 0 | U27: 0 | V27: 0 | W27: 자재 23
A28: 5E69152F38486D17965F6D3F0A8A | B28: 강관틀 비계용 부재 | C28: 가새, 1.2*1.9m | D28: 개 | E28: 0 | G28: 8300 | H28: 123 | I28: 8900 | J28: 77 | K28: 8000 | L28: 146 | M28: 8700 | N28: 164 | O28: =SMALL(E28:M28,COUNTIF(E28:M28,0)+1) -> 8000 | P28: 0 | Q28: 0 | R28: 0 | S28: 0 | T28: 0 | U28: 0 | V28: 0 | W28: 자재 24
A29: 5E69152F38486D17965F6D3F0D5E | B29: 강관틀 비계용 부재 | C29: 수평띠장, 1829mm | D29: 개 | E29: 0 | G29: 24500 | H29: 123 | I29: 25200 | J29: 77 | K29: 24000 | L29: 146 | M29: 25200 | N29: 164 | O29: =SMALL(E29:M29,COUNTIF(E29:M29,0)+1) -> 24000 | P29: 0 | Q29: 0 | R29: 0 | S29: 0 | T29: 0 | U29: 0 | V29: 0 | W29: 자재 25
A30: 5E69152F38486D17965F6D3F0E67 | B30: 강관틀 비계용 부재 | C30: 손잡이, 1229mm | D30: 개 | E30: 0 | G30: 0 | I30: 0 | K30: 0 | M30: 15000 | N30: 교육청조사 | O30: =SMALL(E30:M30,COUNTIF(E30:M30,0)+1) -> 15000 | P30: 0 | Q30: 0 | R30: 0 | S30: 0 | T30: 0 | U30: 0 | V30: 0 | W30: 자재 26
A31: 5E69152F38486D17965F6D3F0F0D | B31: 강관틀 비계용 부재 | C31: 손잡이, 1829mm | D31: 개 | E31: 0 | G31: 0 | I31: 0 | K31: 0 | M31: 20500 | N31: 교육청조사 | O31: =SMALL(E31:M31,COUNTIF(E31:M31,0)+1) -> 20500 | P31: 0 | Q31: 0 | R31: 0 | S31: 0 | T31: 0 | U31: 0 | V31: 0 | W31: 자재 27
A32: 5E69152F38486D17965F6D3F0086 | B32: 강관틀 비계용 부재 | C32: 손잡이기둥 | D32: 개 | E32: 0 | G32: 0 | I32: 0 | K32: 0 | M32: 20500 | N32: 교육청조사 | O32: =SMALL(E32:M32,COUNTIF(E32:M32,0)+1) -> 20500 | P32: 0 | Q32: 0 | R32: 0 | S32: 0 | T32: 0 | U32: 0 | V32: 0 | W32: 자재 28
A33: 5E69152F38486D17965F6D3F01AF | B33: 강관틀 비계용 부재 | C33: 바퀴 | D33: 개 | E33: 0 | G33: 10000 | H33: 122 | I33: 0 | K33: 0 | M33: 16600 | N33: 1124 | O33: =SMALL(E33:M33,COUNTIF(E33:M33,0)+1) -> 10000 | P33: 0 | Q33: 0 | R33: 0 | S33: 0 | T33: 0 | U33: 0 | V33: 0 | W33: 자재 29
A34: 5E69152F38486D17965F6D3E6152 | B34: 강관틀 비계용 부재 | C34: 쟈키 | D34: 개 | E34: 0 | G34: 9000 | H34: 123 | I34: 10600 | J34: 77 | K34: 9500 | L34: 146 | M34: 10100 | N34: 164 | O34: =SMALL(E34:M34,COUNTIF(E34:M34,0)+1) -> 9000 | P34: 0 | Q34: 0 | R34: 0 | S34: 0 | T34: 0 | U34: 0 | V34: 0 | W34: 자재 30
A35: 5E69152F38486D17A0FC8135BAE5 | B35: 박리제 | C35: 목재용(수성) | D35: L | E35: 0 | G35: 2000 | H35: 133 | I35: 1250 | J35: 80 | K35: 1500 | L35: 151 | M35: 1200 | N35: 166 | O35: =SMALL(E35:M35,COUNTIF(E35:M35,0)+1) -> 1200 | P35: 0 | Q35: 0 | R35: 0 | S35: 0 | T35: 0 | U35: 0 | V35: 0 | W35: 자재 31
A36: 5E69152F38486D17A0156F31C9E7 | B36: 거푸집 부속철물 | C36: 웨지핀, 90mm | D36: 개 | E36: 0 | G36: 72 | H36: 128 | I36: 61 | J36: 83 | K36: 76 | L36: 150 | M36: 61 | N36: 169 | O36: =SMALL(E36:M36,COUNTIF(E36:M36,0)+1) -> 61 | P36: 0 | Q36: 0 | R36: 0 | S36: 0 | T36: 0 | U36: 0 | V36: 0 | W36: 자재 32
A37: 5E69152F38486D17A0156F31C465 | B37: 거푸집 부속철물 | C37: 플랫타이, L=200mm | D37: 개 | E37: 0 | G37: 210 | H37: 128 | I37: 210 | J37: 83 | K37: 140 | L37: 150 | M37: 210 | N37: 169 | O37: =SMALL(E37:M37,COUNTIF(E37:M37,0)+1) -> 140 | P37: 0 | Q37: 0 | R37: 0 | S37: 0 | T37: 0 | U37: 0 | V37: 0 | W37: 자재 33
A38: 5E69152F38486D17A0156F30246A | B38: 거푸집 부속철물 | C38: 웨일후크, 스틸수직(대) | D38: 개 | E38: 0 | G38: 200 | H38: 128 | I38: 135 | J38: 83 | K38: 190 | L38: 150 | M38: 135 | N38: 169 | O38: =SMALL(E38:M38,COUNTIF(E38:M38,0)+1) -> 135 | P38: 0 | Q38: 0 | R38: 0 | S38: 0 | T38: 0 | U38: 0 | V38: 0 | W38: 자재 34
A39: 5E690504B34D40172EED4B3A6454 | B39: 각재(角材) | C39: 외송(㎥) | D39: M3 | E39: 0 | G39: 0 | H39: 113 | I39: 598950 | J39: 87 | K39: 598950 | L39: 139 | M39: 449212.5 | N39: 163 | O39: =SMALL(E39:M39,COUNTIF(E39:M39,0)+1) -> 449212.5 | P39: 0 | Q39: 0 | R39: 0 | S39: 0 | T39: 0 | U39: 0 | V39: 0 | W39: 자재 35
A40: 5E690504B34D40172EFFD732AB13 | B40: 판재(板材) | C40: 외송, 일반(㎥) | D40: M3 | E40: 0 | G40: 0 | H40: 113 | I40: 598950 | J40: 87 | K40: 598950 | L40: 139 | M40: 553065.5 | N40: 163 | O40: =SMALL(E40:M40,COUNTIF(E40:M40,0)+1) -> 553065.5 | P40: 0 | Q40: 0 | R40: 0 | S40: 0 | T40: 0 | U40: 0 | V40: 0 | W40: 자재 36
A41: 5E69050707413A17A239473CCE18 | B41: 유압월쇼우 | D41: HR | E41: 0 | G41: 0 | I41: 0 | K41: 0 | M41: 0 | O41: 0 | P41: 30489 | Q41: 0 | R41: 0 | S41: 0 | T41: 0 | U41: 16735 | V41: =SMALL(Q41:U41,COUNTIF(Q41:U41,0)+1) -> 16735 | W41: 자재 37
A42: 5E69050707413A17A239473CCE19 | B42: 절단용BLADE | D42: 장 | E42: 0 | G42: 0 | I42: 0 | K42: 0 | M42: 300000 | O42: =SMALL(E42:M42,COUNTIF(E42:M42,0)+1) -> 300000 | P42: 0 | Q42: 0 | R42: 0 | S42: 0 | T42: 0 | U42: 0 | V42: 0 | W42: 자재 38
A43: 5E69050707413A17A239473CCE1E | B43: 조정용앵커 | D43: EA | E43: 0 | G43: 0 | I43: 0 | K43: 0 | M43: 1800 | O43: =SMALL(E43:M43,COUNTIF(E43:M43,0)+1) -> 1800 | P43: 0 | Q43: 0 | R43: 0 | S43: 0 | T43: 0 | U43: 0 | V43: 0 | W43: 자재 39
A44: 5E6905066144F317C771183AD1DC | B44: 보통합판 | C44: 1급, 2.7*1220*2440mm(㎡) | D44: M2 | E44: 0 | G44: 0 | H44: 578 | I44: 0 | J44: 406 | K44: 0 | M44: 3056.97 | N44: 362 | O44: =SMALL(E44:M44,COUNTIF(E44:M44,0)+1) -> 3056.97 | P44: 0 | Q44: 0 | R44: 0 | S44: 0 | T44: 0 | U44: 0 | V44: 0 | W44: 자재 40
A45: 5E6905066144F317C718A03B0B6A | B45: 내수합판 | C45: 1급, 12*1220*2440mm(㎡) | D45: M2 | E45: 0 | G45: 9607.63 | H45: 578 | I45: 0 | J45: 406 | K45: 0 | M45: 10984.95 | N45: 364 | O45: =SMALL(E45:M45,COUNTIF(E45:M45,0)+1) -> 9607.63 | P45: 0 | Q45: 0 | R45: 0 | S45: 0 | T45: 0 | U45: 0 | V45: 0 | W45: 자재 41
A46: 5E6935D8D143D817654CBA32AB70 | B46: 모 래 | C46: (별도) | D46: M3 | E46: 0 | G46: 0 | I46: 0 | K46: 0 | M46: 0 | O46: 0 | P46: 0 | Q46: 0 | R46: 0 | S46: 0 | T46: 0 | U46: 0 | V46: 0 | W46: 자재 42 | X46: 별도
A47: 5E6935D8D143D8176517ED3260B9 | B47: 모래 | C47: 제주, 세척사, 도착도 | D47: M3 | E47: 0 | G47: 0 | I47: 30000 | J47: 75 | K47: 0 | M47: 33000 | N47: 135 | O47: =SMALL(E47:M47,COUNTIF(E47:M47,0)+1) -> 30000 | P47: 0 | Q47: 0 | R47: 0 | S47: 0 | T47: 0 | U47: 0 | V47: 0 | W47: 자재 43
A48: 5E6935D8D143D8176517ED315B74 | B48: 혼합골재 | C48: 제주, A급기층용, 도착도 | D48: M3 | E48: 0 | G48: 18500 | H48: 93 | I48: 0 | K48: 18000 | L48: 104 | M48: 0 | O48: =SMALL(E48:M48,COUNTIF(E48:M48,0)+1) -> 18000 | P48: 0 | Q48: 0 | R48: 0 | S48: 0 | T48: 0 | U48: 0 | V48: 0 | W48: 자재 44
A49: 5E6935D8D143D81765D2ED3540D1 | B49: 시 멘 트 | C49: (별도) | D49: kg | E49: 0 | G49: 0 | I49: 0 | K49: 0 | M49: 0 | O49: 0 | P49: 0 | Q49: 0 | R49: 0 | S49: 0 | T49: 0 | U49: 0 | V49: 0 | W49: 자재 45 | X49: 별도
A50: 5E6935D8D143D81765D2ED34B96D | B50: 시멘트 | C50: 건재상 | D50: 포 | E50: 0 | G50: 0 | H50: 94 | I50: 5636.36 | J50: 60 | K50: 5636.36 | L50: 106 | M50: 5590.9 | N50: 136 | O50: =SMALL(E50:M50,COUNTIF(E50:M50,0)+1) -> 5590.9 | P50: 0 | Q50: 0 | R50: 0 | S50: 0 | T50: 0 | U50: 0 | V50: 0 | W50: 자재 46 | X50: 일반
A51: 5E6935D8D143D8170CD46B314716 | B51: 레미콘 | C51: 제주, 25-18-08 | D51: M3 | E51: 0 | G51: 0 | H51: 99 | I51: 65100 | J51: 64 | K51: 65620 | L51: 111 | M51: 65100 | N51: 137 | O51: =SMALL(E51:M51,COUNTIF(E51:M51,0)+1) -> 65100 | P51: 0 | Q51: 0 | R51: 0 | S51: 0 | T51: 0 | U51: 0 | V51: 0 | W51: 자재 47
A52: 5E6935D8D143D8170CD46B31471B | B52: 레미콘 | C52: 제주, 25-21-15 | D52: M3 | E52: 0 | G52: 0 | H52: 99 | I52: 69200 | J52: 64 | K52: 71490 | L52: 111 | M52: 69200 | N52: 137 | O52: =SMALL(E52:M52,COUNTIF(E52:M52,0)+1) -> 69200 | P52: 0 | Q52: 0 | R52: 0 | S52: 0 | T52: 0 | U52: 0 | V52: 0 | W52: 자재 48
A53: 5E6935D8D143FB1734A05F3A875C | B53: 공통자재 | C53: 전력 | D53: kwh | E53: 0 | G53: 0 | I53: 0 | K53: 0 | M53: 0 | O53: 0 | P53: 0 | Q53: 87 | R53: 0 | S53: 0 | T53: 0 | U53: 0 | V53: =SMALL(Q53:U53,COUNTIF(Q53:U53,0)+1) -> 87 | W53: 자재 49
A54: 5E6935D8D143FB1734A05F3A85A9 | B54: 공통자재 | C54: 하드롱지 | D54: M2 | E54: 280 | G54: 0 | I54: 0 | K54: 0 | M54: 0 | O54: =SMALL(E54:M54,COUNTIF(E54:M54,0)+1) -> 280 | P54: 0 | Q54: 0 | R54: 0 | S54: 0 | T54: 0 | U54: 0 | V54: 0 | W54: 자재 50
A55: 5E6935DBA549CC176E59CE3437AC | B55: 폐기물처리수수료 | C55: 폐콘크리트 | D55: TON | E55: 0 | G55: 0 | I55: 0 | J55: 제주산업 | K55: 0 | L55: 미래제주 | M55: 0 | N55: 부록135 | O55: 0 | P55: 0 | Q55: 0 | R55: 0 | S55: 18244 | T55: 25940 | U55: 18065 | V55: =SMALL(Q55:U55,COUNTIF(Q55:U55,0)+1) -> 18065 | W55: 자재 51
A56: 5E6935DBA549CC176E59CE343105 | B56: 폐기물처리수수료 | C56: 건축폐재류 | D56: TON | E56: 0 | G56: 0 | I56: 0 | J56: 제주산업 | K56: 0 | L56: 미래제주 | M56: 0 | N56: 부록135 | O56: 0 | P56: 0 | Q56: 0 | R56: 0 | S56: 27731 | T56: 25940 | U56: 27351 | V56: =SMALL(Q56:U56,COUNTIF(Q56:U56,0)+1) -> 25940 | W56: 자재 52
A57: 5E6935DBA549CC176E59CE343107 | B57: 폐기물처리수수료-폐목재 | C57: 가연성폐기물 | D57: TON | E57: 0 | G57: 0 | I57: 0 | K57: 0 | L57: 미래제주 | M57: 0 | N57: 부록135 | O57: 0 | P57: 0 | Q57: 0 | R57: 0 | S57: 0 | T57: 46000 | U57: 210000 | V57: =SMALL(Q57:U57,COUNTIF(Q57:U57,0)+1) -> 46000 | W57: 자재 53
A58: 5E6935DBA549CC176E59CE378F01 | B58: 건설폐기물상차비-중간처리 | C58: 15톤덤프트럭(10m3) | D58: TON | E58: 0 | G58: 0 | I58: 0 | K58: 0 | L58: 2-168 | M58: 0 | N58: 부록134 | O58: 0 | P58: 0 | Q58: 0 | R58: 0 | S58: 0 | T58: 1820 | U58: 1820 | V58: =SMALL(Q58:U58,COUNTIF(Q58:U58,0)+1) -> 1820 | W58: 자재 54
A59: 5E6935DBA549CC176E59CE378F0E | B59: 건설폐기물상차비-매립지 | C59: 15톤덤프트럭(10m3) | D59: TON | E59: 0 | G59: 0 | I59: 0 | K59: 0 | L59: 2-168 | M59: 0 | N59: 부록134 | O59: 0 | P59: 0 | Q59: 0 | R59: 0 | S59: 0 | T59: 3005 | U59: 3005 | V59: =SMALL(Q59:U59,COUNTIF(Q59:U59,0)+1) -> 3005 | W59: 자재 55
A60: 5E6935DBA549CC176E59CE305CD4 | B60: 폐기물처리수수료-혼합폐기물 | C60: 기타건설폐기물(가연성5%이하) | D60: TON | E60: 0 | G60: 0 | I60: 0 | J60: 제주산업 | K60: 0 | L60: 미래제주 | M60: 0 | N60: 부록135 | O60: 0 | P60: 0 | Q60: 0 | R60: 0 | S60: 266000 | T60: 320000 | U60: 82920 | V60: =SMALL(Q60:U60,COUNTIF(Q60:U60,0)+1) -> 82920 | W60: 자재 56
A61: 5E6935DBA549CC176E593839159C | B61: 건설폐기물운반비-중간처리 | C61: 15톤덤프트럭 - 30km이하 | D61: TON | E61: 0 | G61: 0 | I61: 0 | K61: 0 | L61: 2-168 | M61: 0 | N61: 부록134 | O61: 0 | P61: 0 | Q61: 0 | R61: 0 | S61: 0 | T61: 11840 | U61: 11840 | V61: =SMALL(Q61:U61,COUNTIF(Q61:U61,0)+1) -> 11840 | W61: 자재 57
A62: 5E6935DBA549CC176E593839159D | B62: 건설폐기물운반비-매립지 | C62: 15톤덤프트럭 - 30km이하 | D62: TON | E62: 0 | G62: 0 | I62: 0 | K62: 0 | L62: 2-168 | M62: 0 | N62: 부록134 | O62: 0 | P62: 0 | Q62: 0 | R62: 0 | S62: 0 | T62: 61451 | U62: 61451 | V62: =SMALL(Q62:U62,COUNTIF(Q62:U62,0)+1) -> 61451 | W62: 자재 58
A63: 5E6935DBA549DE17DF11593E466C | B63: 로이복층/칼라 | C63: 24mm 6+12+6 | D63: M2 | E63: 0 | G63: 49000 | H63: 573 | I63: 49000 | J63: 467 | K63: 49000 | L63: 617 | M63: 49000 | N63: 335 | O63: =SMALL(E63:M63,COUNTIF(E63:M63,0)+1) -> 49000 | P63: 0 | Q63: 0 | R63: 0 | S63: 0 | T63: 0 | U63: 0 | V63: 0 | W63: 자재 59
A64: 5E6935DBA549DE1749C9E4304B58 | B64: 포천석판재 | C64: 버너, 100mm | D64: M2 | E64: 0 | G64: 102000 | H64: 481 | I64: 0 | K64: 0 | M64: 117000 | N64: 186 | O64: =SMALL(E64:M64,COUNTIF(E64:M64,0)+1) -> 102000 | P64: 0 | Q64: 0 | R64: 0 | S64: 0 | T64: 0 | U64: 0 | V64: 0 | W64: 자재 60
A65: 5E6935DBA549DE1749C9E4304C74 | B65: 포천석판재 | C65: 버너, 50mm | D65: M2 | E65: 0 | G65: 63000 | H65: 481 | I65: 0 | K65: 0 | M65: 65000 | N65: 186 | O65: =SMALL(E65:M65,COUNTIF(E65:M65,0)+1) -> 63000 | P65: 0 | Q65: 0 | R65: 0 | S65: 0 | T65: 0 | U65: 0 | V65: 0 | W65: 자재 61
A66: 5E6935DBA549DE1749C99D3E2402 | B66: 포천석판재 | C66: 버너, 20mm | D66: M2 | E66: 0 | G66: 29000 | H66: 479 | I66: 0 | K66: 30000 | L66: 493 | M66: 0 | O66: =SMALL(E66:M66,COUNTIF(E66:M66,0)+1) -> 29000 | P66: 0 | Q66: 0 | R66: 0 | S66: 0 | T66: 0 | U66: 0 | V66: 0 | W66: 자재 62
A67: 5E6935DBA549DE1749C99D3E2527 | B67: 포천석판재 | C67: 버너, 30mm | D67: M2 | E67: 0 | G67: 31000 | H67: 479 | I67: 32000 | J67: 368 | K67: 32000 | L67: 493 | M67: 37000 | N67: 185 | O67: =SMALL(E67:M67,COUNTIF(E67:M67,0)+1) -> 31000 | P67: 0 | Q67: 0 | R67: 0 | S67: 0 | T67: 0 | U67: 0 | V67: 0 | W67: 자재 63
A68: 5E6935DD53478017EE316B36C431 | B68: 석고보드 | C68: 평보드, 9.5*900*1800mm(㎡) | D68: M2 | E68: 0 | G68: 0 | H68: 582 | I68: 0 | J68: 407 | K68: 0 | M68: 2839.5 | N68: 363 | O68: =SMALL(E68:M68,COUNTIF(E68:M68,0)+1) -> 2839.5 | P68: 0 | Q68: 0 | R68: 0 | S68: 0 | T68: 0 | U68: 0 | V68: 0 | W68: 자재 64
A69: 5E6935DD534791175D33CB3167D4 | B69: 불연천장재 | C69: 텍스, 6*300*600 | D69: M2 | E69: 0 | G69: 0 | H69: 584 | I69: 0 | J69: 411 | K69: 0 | M69: 5200 | N69: 367 | O69: =SMALL(E69:M69,COUNTIF(E69:M69,0)+1) -> 5200 | P69: 0 | Q69: 0 | R69: 0 | S69: 0 | T69: 0 | U69: 0 | V69: 0 | W69: 자재 65
A70: 5E6935DD53479117056A4031F8CF | B70: SGP칸막이 | C70: SGP칸막이, A형,시공도 | D70: M2 | E70: 0 | G70: 69000 | H70: 636 | I70: 68000 | J70: 521 | K70: 0 | M70: 68000 | N70: 448 | O70: =SMALL(E70:M70,COUNTIF(E70:M70,0)+1) -> 68000 | P70: 0 | Q70: 0 | R70: 0 | S70: 0 | T70: 0 | U70: 0 | V70: 0 | W70: 자재 66
A71: 5E6935DD5347911717F7D0347B57 | B71: 카운터 일부철거 및 이전설치 | D71: 식 | E71: 0 | G71: 0 | I71: 0 | K71: 0 | M71: 6000000 | O71: =SMALL(E71:M71,COUNTIF(E71:M71,0)+1) -> 6000000 | P71: 0 | Q71: 0 | R71: 0 | S71: 0 | T71: 0 | U71: 0 | V71: 0 | W71: 자재 67
A72: 5E6935DC4C407317CBEA173D91FB | B72: 실링재 | C72: 실리콘(비초산), 유리용, 창호주위 | D72: L | E72: 0 | G72: 9999 | H72: 523 | I72: 10645.16 | J72: 384 | K72: 9999 | L72: 521 | M72: 10333.33 | N72: 240 | O72: =SMALL(E72:M72,COUNTIF(E72:M72,0)+1) -> 9999 | P72: 0 | Q72: 0 | R72: 0 | S72: 0 | T72: 0 | U72: 0 | V72: 0 | W72: 자재 68
A73: 5E6935DE7947BE174532D03F40DF | B73: 도어 핸들 | C73: 보조록, K380 | D73: 조 | E73: 0 | G73: 0 | I73: 31000 | J73: 457 | K73: 0 | M73: 31000 | N73: 324 | O73: =SMALL(E73:M73,COUNTIF(E73:M73,0)+1) -> 31000 | P73: 0 | Q73: 0 | R73: 0 | S73: 0 | T73: 0 | U73: 0 | V73: 0 | W73: 자재 69
A74: 5E6935DE7947BE174532D03D96DC | B74: 도어록(현관, 방화문) | C74: LEVER | D74: 조 | E74: 0 | G74: 0 | I74: 62000 | J74: 457 | K74: 38000 | L74: 607 | M74: 70000 | N74: 324 | O74: =SMALL(E74:M74,COUNTIF(E74:M74,0)+1) -> 38000 | P74: 0 | Q74: 0 | R74: 0 | S74: 0 | T74: 0 | U74: 0 | V74: 0 | W74: 자재 70
A75: 5E6935DE7947BE1719DB1534EFD0 | B75: AL 단열고정창호 | C75: 불소수지 120mm | D75: M2 | E75: 0 | G75: 0 | H75: 552 | I75: 0 | K75: 103000 | L75: 578 | M75: 116400 | N75: 301 | O75: =SMALL(E75:M75,COUNTIF(E75:M75,0)+1) -> 103000 | P75: 0 | Q75: 0 | R75: 0 | S75: 0 | T75: 0 | U75: 0 | V75: 0 | W75: 자재 71 | X75: 시공도
A76: 5E6935DE7947BE17199DC23F2D09 | B76: 알미늄터닝도어손잡이 | D76: EA | E76: 0 | G76: 0 | I76: 0 | K76: 48000 | L76: 596 | M76: 0 | O76: =SMALL(E76:M76,COUNTIF(E76:M76,0)+1) -> 48000 | P76: 0 | Q76: 0 | R76: 0 | S76: 0 | T76: 0 | U76: 0 | V76: 0 | W76: 자재 72
A77: 5E6935DE7947BE172A0CA0381D1B | B77: 방화문(F:1.6t D:1.0t) | C77: 정전분체도장 | D77: M2 | E77: 0 | G77: 79365.07 | H77: 563 | I77: 79365.07 | J77: 446 | K77: 79365.07 | L77: 597 | M77: 0 | O77: =SMALL(E77:M77,COUNTIF(E77:M77,0)+1) -> 79365.07 | P77: 0 | Q77: 0 | R77: 0 | S77: 0 | T77: 0 | U77: 0 | V77: 0 | W77: 자재 73
A78: 5E6935DE7947BE17DB9D1836C555 | B78: 단열세이프도어 | C78: 900*2100 | D78: SET | E78: 0 | G78: 0 | I78: 0 | J78: 436 | K78: 652000 | L78: 591 | M78: 0 | O78: =SMALL(E78:M78,COUNTIF(E78:M78,0)+1) -> 652000 | P78: 0 | Q78: 0 | R78: 0 | S78: 0 | T78: 0 | U78: 0 | V78: 0 | W78: 자재 74
A79: 5E6935DE7947BE17CA984132E90A | B79: 셔터박스 | C79: 1.6T,EGI | D79: M | E79: 48500 | G79: 0 | I79: 0 | K79: 0 | M79: 0 | O79: =SMALL(E79:M79,COUNTIF(E79:M79,0)+1) -> 48500 | P79: 0 | Q79: 0 | R79: 0 | S79: 0 | T79: 0 | U79: 0 | V79: 0 | W79: 자재 75
A80: 5E6935DE7947BE17CA984132E90B | B80: 전동개폐기 | C80: 모터800KG | D80: SET | E80: 0 | G80: 0 | I80: 560000 | J80: 451 | K80: 0 | M80: 560000 | N80: 292 | O80: =SMALL(E80:M80,COUNTIF(E80:M80,0)+1) -> 560000 | P80: 0 | Q80: 0 | R80: 0 | S80: 0 | T80: 0 | U80: 0 | V80: 0 | W80: 자재 76
A81: 5E6935DE7947BE17CA984132E90D | B81: 스텐파이프셔터 | C81: ￠16,이중 | D81: M2 | E81: 0 | G81: 0 | I81: 150000 | J81: 451 | K81: 0 | M81: 150000 | N81: 292 | O81: =SMALL(E81:M81,COUNTIF(E81:M81,0)+1) -> 150000 | P81: 0 | Q81: 0 | R81: 0 | S81: 0 | T81: 0 | U81: 0 | V81: 0 | W81: 자재 77
A82: 5E6935DE7947AD17F2B0B63B1CA8 | B82: 피벗힌지 | C82: 140kg이하(K1400) | D82: 조 | E82: 0 | G82: 70000 | H82: 568 | I82: 70000 | J82: 459 | K82: 70000 | L82: 609 | M82: 0 | O82: =SMALL(E82:M82,COUNTIF(E82:M82,0)+1) -> 70000 | P82: 0 | Q82: 0 | R82: 0 | S82: 0 | T82: 0 | U82: 0 | V82: 0 | W82: 자재 78
A83: 5E6935DE7947AD17F2959134CBCC | B83: 플로어힌지(AL문) | C83: KS3호, 105kg(K-7300) | D83: 조 | E83: 0 | G83: 0 | I83: 71000 | J83: 459 | K83: 71000 | L83: 609 | M83: 71000 | N83: 320 | O83: =SMALL(E83:M83,COUNTIF(E83:M83,0)+1) -> 71000 | P83: 0 | Q83: 0 | R83: 0 | S83: 0 | T83: 0 | U83: 0 | V83: 0 | W83: 자재 79
A84: 5E6935DE7947AD17F2796A3A4597 | B84: 자동경첩 | C84: 순위조절기, K34, 양개도아 | D84: 개 | E84: 0 | G84: 0 | I84: 35000 | J84: 455 | K84: 0 | M84: 0 | O84: =SMALL(E84:M84,COUNTIF(E84:M84,0)+1) -> 35000 | P84: 0 | Q84: 0 | R84: 0 | S84: 0 | T84: 0 | U84: 0 | V84: 0 | W84: 자재 80
A85: 5E6935D1A246E317D990713C087D | B85: 철근콘크리트용봉강(이형철근) | C85: 제주,HD-10,SD400,하치장상차도 | D85: TON | E85: 0 | G85: 0 | I85: 730000 | J85: 17 | K85: 610000 | L85: 42 | M85: 644000 | N85: 70 | O85: =SMALL(E85:M85,COUNTIF(E85:M85,0)+1) -> 610000 | P85: 0 | Q85: 0 | R85: 0 | S85: 0 | T85: 0 | U85: 0 | V85: 0 | W85: 자재 81
A86: 5E6935D1A246E317D990713C087E | B86: 철근콘크리트용봉강(이형철근) | C86: 제주,HD-13,SD400,하치장상차도 | D86: TON | E86: 0 | G86: 0 | I86: 719000 | J86: 17 | K86: 600000 | L86: 42 | M86: 633000 | N86: 70 | O86: =SMALL(E86:M86,COUNTIF(E86:M86,0)+1) -> 600000 | P86: 0 | Q86: 0 | R86: 0 | S86: 0 | T86: 0 | U86: 0 | V86: 0 | W86: 자재 82
A87: 5E6935D1A246D1175EF7CB3D327D | B87: 경량철골천장틀 | C87: 몰딩(AL), W형 15*15*15*15*1.0 | D87: M | E87: 0 | G87: 0 | I87: 1890 | J87: 419 | K87: 0 | M87: 0 | O87: =SMALL(E87:M87,COUNTIF(E87:M87,0)+1) -> 1890 | P87: 0 | Q87: 0 | R87: 0 | S87: 0 | T87: 0 | U87: 0 | V87: 0 | W87: 자재 83
A88: 5E6935D1A246D1175E19AC32237C | B88: 점검구 | C88: AL(백색), 450*450mm | D88: 조 | E88: 0 | G88: 9000 | H88: 500 | I88: 9000 | J88: 464 | K88: 0 | M88: 0 | O88: =SMALL(E88:M88,COUNTIF(E88:M88,0)+1) -> 9000 | P88: 0 | Q88: 0 | R88: 0 | S88: 0 | T88: 0 | U88: 0 | V88: 0 | W88: 자재 84
A89: 5E6935D09B47D017C307B43C83C5 | B89: 노무비 | C89: 건설기계운전사 | D89: 인 | E89: 0 | G89: 0 | I89: 0 | K89: 0 | M89: 0 | O89: 0 | P89: 123642 | Q89: 0 | R89: 0 | S89: 0 | T89: 0 | U89: 0 | V89: 0 | W89: 노임 1 | Y89: B | Z89: T
A90: 5E6935D09B47D017C307B43C83C2 | B90: 노무비 | C90: 건축목공 | D90: 인 | E90: 0 | G90: 0 | I90: 0 | K90: 0 | M90: 0 | O90: 0 | P90: 139327 | Q90: 0 | R90: 0 | S90: 0 | T90: 0 | U90: 0 | V90: 0 | W90: 노임 2 | Y90: B
A91: 5E6935D09B47D017C307B43C8226 | B91: 노무비 | C91: 내장공 | D91: 인 | E91: 0 | G91: 0 | I91: 0 | K91: 0 | M91: 0 | O91: 0 | P91: 135112 | Q91: 0 | R91: 0 | S91: 0 | T91: 0 | U91: 0 | V91: 0 | W91: 노임 3 | Y91: B
A92: 5E6935D09B47D017C307B43C8228 | B92: 노무비 | C92: 덕트공 | D92: 인 | E92: 0 | G92: 0 | I92: 0 | K92: 0 | M92: 0 | O92: 0 | P92: 108388 | Q92: 0 | R92: 0 | S92: 0 | T92: 0 | U92: 0 | V92: 0 | W92: 노임 4 | Y92: B
A93: 5E6935D09B47D017C307B43C811B | B93: 노무비 | C93: 도장공 | D93: 인 | E93: 0 | G93: 0 | I93: 0 | K93: 0 | M93: 0 | O93: 0 | P93: 122128 | Q93: 0 | R93: 0 | S93: 0 | T93: 0 | U93: 0 | V93: 0 | W93: 노임 5 | Y93: B
A94: 5E6935D09B47D017C307B43C8112 | B94: 노무비 | C94: 미장공 | D94: 인 | E94: 0 | G94: 0 | I94: 0 | K94: 0 | M94: 0 | O94: 0 | P94: 140811 | Q94: 0 | R94: 0 | S94: 0 | T94: 0 | U94: 0 | V94: 0 | W94: 노임 6 | Y94: B
A95: 5E6935D09B47D017C307B43C87A3 | B95: 노무비 | C95: 보통인부 | D95: 인 | E95: 0 | G95: 0 | I95: 0 | K95: 0 | M95: 0 | O95: 0 | P95: 87805 | Q95: 0 | R95: 0 | S95: 0 | T95: 0 | U95: 0 | V95: 0 | W95: 노임 7 | Y95: B
A96: 5E6935D09B47D017C307B43C87A7 | B96: 노무비 | C96: 석공 | D96: 인 | E96: 0 | G96: 0 | I96: 0 | K96: 0 | M96: 0 | O96: 0 | P96: 138838 | Q96: 0 | R96: 0 | S96: 0 | T96: 0 | U96: 0 | V96: 0 | W96: 노임 8 | Y96: B
A97: 5E6935D09B47D017C307B43C869A | B97: 노무비 | C97: 용접공 | D97: 인 | E97: 0 | G97: 0 | I97: 0 | K97: 0 | M97: 0 | O97: 0 | P97: 134516 | Q97: 0 | R97: 0 | S97: 0 | T97: 0 | U97: 0 | V97: 0 | W97: 노임 9 | Y97: B
A98: 5E6935D09B47D017C307B43C8694 | B98: 노무비 | C98: 일반기계운전사 | D98: 인 | E98: 0 | G98: 0 | I98: 0 | K98: 0 | M98: 0 | O98: 0 | P98: 88379 | Q98: 0 | R98: 0 | S98: 0 | T98: 0 | U98: 0 | V98: 0 | W98: 노임 10 | Y98: B | Z98: T
A99: 5E6935D09B47D017C307B43C84ED | B99: 노무비 | C99: 유리공 | D99: 인 | E99: 0 | G99: 0 | I99: 0 | K99: 0 | M99: 0 | O99: 0 | P99: 123257 | Q99: 0 | R99: 0 | S99: 0 | T99: 0 | U99: 0 | V99: 0 | W99: 노임 11 | Y99: B
A100: 5E6935D09B47D017C307B43C8B1F | B100: 노무비 | C100: 조경공 | D100: 인 | E100: 0 | G100: 0 | I100: 0 | K100: 0 | M100: 0 | O100: 0 | P100: 124463 | Q100: 0 | R100: 0 | S100: 0 | T100: 0 | U100: 0 | V100: 0 | W100: 노임 12 | Y100: B
...

Sheet 공사설정
A1: 이 Sheet는 수정하지 마십시요
A2: 공사구분 | B2: A
A3: 확정내역 | B3: 원내역
A4: 자재단가적용 | B4: 5
A5: 경비단가적용 | B5: 5
A6: 품목코드형식 | B6: XXXX-XXX-XXXX
A7: 내역금액소수점처리 | B7: C | C7: T
A8: 일위대가내역소수점처리 | B8: C | C8: 2
A9: 단가명 | B9: 가격정보 | C9: 거래가격 | D9: 유통물가 | E9: 물가자료 | F9: 정보/조사 | G9: TTTTT
A10: 환율 | B10: 1099 | C10: 0 | D10: 0
A11: 시간당작업량 | B11: R | C11: 4
A12: 1회 사이클시간 | B12: R | C12: 4
A13: 시간당 작업사이클 | B13: R | C13: 3
A14: 일반변수 | B14: C | C14: 5
A15: 시간당 노임산출 계수 | B15: A | C15: 1/8*16/12*25/20 | D15: 1/8*16/12*25/20 | E15: 1/8*16/12*25/20 | F15: 1
A16: 재료비 할증 계수 | B16: 0 | C16: 0
A17: 노무비 할증 계수 | B17: 0 | C17: 0 | D17: 0 | E17: 0 | F17: 0 | G17: 0 | H17: 0 | I17: 0 | J17: 0 | K17: 0 | L17: 0 | M17: 0
A18: 경비 할증 계수 | B18: 0 | C18: 0
A21: 코드 | B21: 공종구분명 | C21: 원가비목코드
A22: 1 | B22: 작 업 부 산 물 | C22: A3
A23: 2 | B23: 운 반 비 | C23: C1
A24: 3 | B24: 관 급 자 재 비 | C24: DJ
A25: 4 | B25: 사 급 자 재 비 | C25: D3
A26: 5 | B26: 외 자 재
A27: 6 | B27: 건설폐기물처리비 | C27: D4
A28: 7 | B28: ...
A29: 8 | B29: ...
A30: 9 | B30: ...

Sheet Sheet1
