Workbook

Sheet data
A2: 우편통합매출액 산출 (2015. 7월 누계)
A4: 2015년 | H4: 2014년 - 우편DW | J4: 8월 | K4: 8월 | L4: 8월 | M4: 7월
B5: 통상 | C5: 국제 | D5: 소포 | E5: 계 | F5: 점유비 | H5: 일반통상 | I5: 특수통상 | J5: 주민등록증배분 | K5: 인터넷우체국 추천 | L5: 인터넷미추천배분 | M5: 통신사무배분 | N5: 통상 계 | P5: 국제 | Q5: 쇼핑배분 | R5: 통신사무배분 | S5: 국제계 | U5: 일반소포 | V5: 등기소포 | W5: 쇼핑배분 | X5: 통신사무배분소포료 | Y5: (제외) 20kg초과 | Z5: (제외) 면단위20kg이하 | AA5: 소포 계
A6: 서울청 | C6: =S6/1000000 -> 132862.3 | E6: =SUM(B6:D6) -> 132862.3 | F6: =E6/$E$15*100 -> 43.591724 | H6: 246621000000 | I6: 185684000000 | J6: 21241200 | K6: 81531550 | L6: 1057203492 | M6: -774348875 | N6: =SUM(H6:M6) -> 432690627367 | P6: 132851001770 | Q6: 11300436 | S6: =P6+Q6 -> 132862302206 | U6: 1301609250 | V6: 100442139910 | W6: 1255339339 | X6: 53283254 | Y6: 211691390 | Z6: 0 | AA6: =U6+V6+W6+X6-Y6-Z6 -> 1.0284068e+11
A7: 경인청 | C7: =S7/1000000 -> 89927.057 | E7: =SUM(B7:D7) -> 89927.057 | F7: =E7/$E$15*100 -> 29.504799 | H7: 443796000000 | I7: 132247000000 | J7: 23139020 | K7: 82623655 | L7: 199664425 | M7: -4573132485 | N7: =SUM(H7:M7) -> 571775294615 | P7: 89917240830 | Q7: 9815704 | S7: =P7+Q7 -> 89927056534 | U7: 468830080 | V7: 91006260400 | W7: 1129646367 | X7: 92204691 | Y7: 206773270 | Z7: 1343708090 | AA7: =U7+V7+W7+X7-Y7-Z7 -> 9.114646e+10
A8: 부산청 | C8: =S8/1000000 -> 28567.587 | E8: =SUM(B8:D8) -> 28567.587 | F8: =E8/$E$15*100 -> 9.3729399 | H8: 44059402430 | I8: 51310573560 | J8: 12202840 | K8: 30383315 | L8: 78987650 | M8: 1363308039 | N8: =SUM(H8:M8) -> 96854857834 | P8: 28567375510 | Q8: 211342 | S8: =P8+Q8 -> 28567586852 | U8: 148685040 | V8: 50658336210 | W8: 482826158 | X8: -49180338 | Y8: 63951180 | Z8: 1937246380 | AA8: =U8+V8+W8+X8-Y8-Z8 -> 4.923947e+10
A9: 충청청 | C9: =S9/1000000 -> 17906.614 | E9: =SUM(B9:D9) -> 17906.614 | F9: =E9/$E$15*100 -> 5.8751067 | H9: 40966653200 | I9: 38345865310 | J9: 329069340 | K9: 53175245 | L9: 147499641 | M9: 970243843 | N9: =SUM(H9:M9) -> 80812506579 | P9: 17920342870 | Q9: -13728556 | S9: =P9+Q9 -> 17906614314 | U9: 183403230 | V9: 47840738980 | W9: -2275936458 | X9: -21289164 | Y9: 52552350 | Z9: 1680920040 | AA9: =U9+V9+W9+X9-Y9-Z9 -> 4.3993444e+10
A10: 전남청 | C10: =S10/1000000 -> 7888.9447 | E10: =SUM(B10:D10) -> 7888.9447 | F10: =E10/$E$15*100 -> 2.5883392 | H10: 20931636440 | I10: 21945255640 | J10: 5212960 | K10: 29616770 | L10: 69700392 | M10: 801252239 | N10: =SUM(H10:M10) -> 43782674441 | P10: 7894636770 | Q10: -5692031 | S10: =P10+Q10 -> 7888944739 | U10: 69812220 | V10: 32701829890 | W10: -700664628 | X10: -86446593 | Y10: 24272520 | Z10: 980351020 | AA10: =U10+V10+W10+X10-Y10-Z10 -> 3.0979907e+10
A11: 경북청 | C11: =S11/1000000 -> 16310.262 | E11: =SUM(B11:D11) -> 16310.262 | F11: =E11/$E$15*100 -> 5.3513481 | H11: 30814747380 | I11: 28698443180 | J11: 6602380 | K11: 67160045 | L11: 69960931 | M11: 1054610186 | N11: =SUM(H11:M11) -> 60711524102 | P11: 16310014240 | Q11: 247381 | S11: =P11+Q11 -> 16310261621 | U11: 148762650 | V11: 36934450890 | W11: 567768639 | X11: 7117675.1 | Y11: 53827620 | Z11: 2725020410 | AA11: =U11+V11+W11+X11-Y11-Z11 -> 3.4879252e+10
A12: 전북청 | C12: =S12/1000000 -> 5320.9768 | E12: =SUM(B12:D12) -> 5320.9768 | F12: =E12/$E$15*100 -> 1.7457966 | H12: 11292545740 | I12: 10911313170 | J12: 1814120 | K12: 8735365 | L12: 25196151 | M12: 503381930 | N12: =SUM(H12:M12) -> 22742986476 | P12: 5322032700 | Q12: -1055916 | S12: =P12+Q12 -> 5320976784 | U12: 34036190 | V12: 14549391010 | W12: 75077509 | X12: -43168607 | Y12: 28645290 | Z12: 925742820 | AA12: =U12+V12+W12+X12-Y12-Z12 -> 1.3660948e+10
A13: 강원청 | C13: =S13/1000000 -> 3854.6007 | E13: =SUM(B13:D13) -> 3854.6007 | F13: =E13/$E$15*100 -> 1.264683 | H13: 10966925100 | I13: 10025282640 | J13: 2160700 | K13: 13083560 | L13: 17465216 | M13: 519154396 | N13: =SUM(H13:M13) -> 21544071612 | P13: 3855684640 | Q13: -1083935 | S13: =P13+Q13 -> 3854600705 | U13: 51771290 | V13: 10932795080 | W13: -44728610 | X13: 39617931 | Y13: 52482650 | Z13: 886635200 | AA13: =U13+V13+W13+X13-Y13-Z13 -> 1.0040338e+10
A14: 제주청 | C14: =S14/1000000 -> 2149.5582 | E14: =SUM(B14:D14) -> 2149.5582 | F14: =E14/$E$15*100 -> 0.70526364 | H14: 3183487640 | I14: 3010332870 | J14: 527620 | K14: 4921800 | L14: 24707983 | M14: 135530728 | N14: =SUM(H14:M14) -> 6359508641 | P14: 2149572180 | Q14: -13941 | S14: =P14+Q14 -> 2149558239 | U14: 37219260 | V14: 9163301300 | W14: -482717671 | X14: 7861149.8 | Y14: 7358100 | Z14: 73242850 | AA14: =U14+V14+W14+X14-Y14-Z14 -> 8.6450631e+09
A15: 계 | C15: =SUM(C6:C14) -> 304787.9 | E15: =SUM(E6:E14) -> 304787.9 | F15: =E15/$E$15*100 -> 100 | H15: =SUM(H6:H14) -> 852632397930 | I15: =SUM(I6:I14) -> 482178066370 | J15: =SUM(J6:J14) -> 401970180 | K15: =SUM(K6:K14) -> 371231305 | L15: =SUM(L6:L14) -> 1690385881 | M15: =SUM(M6:M14) -> 1 | N15: =SUM(N6:N14) -> 1337274051667 | P15: 304787901510 | Q15: =SUM(Q6:Q14) -> 484 | S15: =P15+Q15 -> 304787901994 | U15: =SUM(U6:U14) -> 2444129210 | V15: =SUM(V6:V14) -> 394229243670 | W15: =SUM(W6:W14) -> 6610645 | X15: =SUM(X6:X14) -> 9.3132257e-09 | Y15: =SUM(Y6:Y14) -> 701554370 | Z15: =SUM(Z6:Z14) -> 10552866810 | AA15: =SUM(AA6:AA14) -> 3.8542556e+11
A17: 2014년 | H17: 2013년 - 우편DW
B18: =B5 -> 통상 | C18: =C5 -> 국제 | D18: 소포 | E18: 계 | F18: 점유비 | H18: 일반통상 | I18: 특수통상 | J18: 주민등록증배분 | K18: 인터넷우체국 추천 | L18: 인터넷미추천배분 | M18: 통신사무배분 | N18: 통상 계 | P18: 국제 | Q18: 쇼핑배분 | R18: 통신사무배분 | S18: 국제계 | U18: =U5 -> 일반소포 | V18: =V5 -> 등기소포 | W18: 쇼핑배분 | X18: 통신사무배분소포료 | Y18: (제외) 20kg초과 | Z18: (제외) 면단위20kg이하 | AA18: 소포 계
A19: 서울청 | C19: =S19/1000000 -> 115359.72 | E19: =SUM(B19:D19) -> 115359.72 | F19: =E19/$E$28*100 -> 42.77233 | H19: 231911000000 | I19: 154837000000 | J19: 77708880 | K19: 112591180 | L19: 909666326 | M19: 1553559868 | N19: =SUM(H19:M19) -> 389401526254 | P19: 115335009660 | Q19: 24711979 | S19: =SUM(P19:R19) -> 115359721639 | U19: 1086858430 | V19: 96448376900 | W19: 1408296724 | X19: 86308541 | Y19: 193393550 | Z19: 0 | AA19: =U19+V19+W19+X19-Y19-Z19 -> 9.8836447e+10
A20: 경인청 | C20: =S20/1000000 -> 79103.726 | E20: =SUM(B20:D20) -> 79103.726 | F20: =E20/$E$28*100 -> 29.329567 | H20: 414916000000 | I20: 136004000000 | J20: 92588880 | K20: 114573830 | L20: 273580255 | M20: -7179999835 | N20: =SUM(H20:M20) -> 544220743130 | P20: 79092986330 | Q20: 10739700 | S20: =SUM(P20:R20) -> 79103726030 | U20: 434897010 | V20: 81698287440 | W20: 1258110919 | X20: 1.7046506e+08 | Y20: 209341550 | Z20: 1237569280 | AA20: =U20+V20+W20+X20-Y20-Z20 -> 8.211485e+10
A21: 부산청 | C21: =S21/1000000 -> 29218.674 | E21: =SUM(B21:D21) -> 29218.674 | F21: =E21/$E$28*100 -> 10.83351 | H21: 38272370750 | I21: 51654206550 | J21: 51217200 | K21: 38287140 | L21: 141919803 | M21: 1485152525 | N21: =SUM(H21:M21) -> 91643153968 | P21: 29217308590 | Q21: 1365216 | S21: =SUM(P21:R21) -> 29218673806 | U21: 165640030 | V21: 47427379940 | W21: 540099911 | X21: -14574116 | Y21: 72366750 | Z21: 3968568150 | AA21: =U21+V21+W21+X21-Y21-Z21 -> 4.4077611e+10
A22: 충청청 | C22: =S22/1000000 -> 15330.062 | E22: =SUM(B22:D22) -> 15330.062 | F22: =E22/$E$28*100 -> 5.683981 | H22: 34421653530 | I22: 39085660150 | J22: 120889860 | K22: 63870150 | L22: 240461569 | M22: 1028467088 | N22: =SUM(H22:M22) -> 74961002347 | P22: 15349423040 | Q22: -19360992 | S22: =SUM(P22:R22) -> 15330062048 | U22: 175614220 | V22: 42297332980 | W22: -2455136621 | X22: 6915566 | Y22: 59800900 | Z22: 2739199100 | AA22: =U22+V22+W22+X22-Y22-Z22 -> 3.7225726e+10
A23: 전남청 | C23: =S23/1000000 -> 6431.8679 | E23: =SUM(B23:D23) -> 6431.8679 | F23: =E23/$E$28*100 -> 2.3847663 | H23: 17269092580 | I23: 22376827850 | J23: 20519840 | K23: 41117490 | L23: 128784553 | M23: 796837322 | N23: =SUM(H23:M23) -> 40633179635 | P23: 6441841070 | Q23: -9973138 | S23: =SUM(P23:R23) -> 6431867932 | U23: 199423210 | V23: 32176865680 | W23: -726935330 | X23: -3.0361625e+08 | Y23: 32686050 | Z23: 5937410060 | AA23: =U23+V23+W23+X23-Y23-Z23 -> 2.5375641e+10
A24: 경북청 | C24: =S24/1000000 -> 14524.119 | E24: =SUM(B24:D24) -> 14524.119 | F24: =E24/$E$28*100 -> 5.3851588 | H24: 26658168050 | I24: 29207190540 | J24: 25121920 | K24: 43428930 | L24: 125321512 | M24: 1139000212 | N24: =SUM(H24:M24) -> 57198231164 | P24: 14524266990 | Q24: -147767 | S24: =SUM(P24:R24) -> 14524119223 | U24: 132922620 | V24: 36667716360 | W24: 507260627 | X24: 64485576 | Y24: 101716030 | Z24: 6090375680 | AA24: =U24+V24+W24+X24-Y24-Z24 -> 3.1180293e+10
A25: 전북청 | C25: =S25/1000000 -> 4535.2908 | E25: =SUM(B25:D25) -> 4535.2908 | F25: =E25/$E$28*100 -> 1.6815657 | H25: 9712655350 | I25: 11110331870 | J25: 8778640 | K25: 8519290 | L25: 46569440 | M25: 464249140 | N25: =SUM(H25:M25) -> 21351103730 | P25: 4540321360 | Q25: -5030555 | S25: =SUM(P25:R25) -> 4535290805 | U25: 55065390 | V25: 14619815120 | W25: 121690911 | X25: -69299577 | Y25: 60911550 | Z25: 2692547850 | AA25: =U25+V25+W25+X25-Y25-Z25 -> 1.1973812e+10
A26: 강원청 | C26: =S26/1000000 -> 3397.1949 | E26: =SUM(B26:D26) -> 3397.1949 | F26: =E26/$E$28*100 -> 1.2595899 | H26: 9603827890 | I26: 9490744670 | J26: 8721120 | K26: 11354240 | L26: 29827655 | M26: 566846120 | N26: =SUM(H26:M26) -> 19711321695 | P26: 3399653040 | Q26: -2458106 | S26: =SUM(P26:R26) -> 3397194934 | U26: 52899170 | V26: 11426220170 | W26: -26273419 | X26: 53162834 | Y26: 50730650 | Z26: 1835730150 | AA26: =U26+V26+W26+X26-Y26-Z26 -> 9.619548e+09
A27: 제주청 | C27: =S27/1000000 -> 1805.7686 | E27: =SUM(B27:D27) -> 1805.7686 | F27: =E27/$E$28*100 -> 0.66953117 | H27: 2870774560 | I27: 3081666870 | J27: 2334560 | K27: 6290360 | L27: 41206694 | M27: 145887560 | N27: =SUM(H27:M27) -> 6148160604 | P27: 1805615590 | Q27: 152998 | S27: =SUM(P27:R27) -> 1805768588 | U27: 27047780 | V27: 8726204270 | W27: -627391811 | X27: 6152366.2 | Y27: 13055100 | Z27: 78822200 | AA27: =U27+V27+W27+X27-Y27-Z27 -> 8.0401353e+09
A28: 계 | C28: =SUM(C19:C27) -> 269706.43 | E28: =SUM(E19:E27) -> 269706.43 | F28: =E28/$E$28*100 -> 100 | H28: =SUM(H19:H27) -> 785635542710 | I28: =SUM(I19:I27) -> 456847628500 | J28: =SUM(J19:J27) -> 407880900 | K28: =SUM(K19:K27) -> 440032610 | L28: =SUM(L19:L27) -> 1937337807 | M28: =SUM(M19:M27) -> 0 | N28: =SUM(N19:N27) -> 1245268422527 | P28: 269706425670 | Q28: =SUM(Q19:Q27) -> -665 | S28: =SUM(S19:S27) -> 269706425005 | U28: =SUM(U19:U27) -> 2330367860 | V28: =SUM(V19:V27) -> 371488198860 | W28: =SUM(W19:W27) -> -278089 | X28: =SUM(X19:X27) -> -1.4901161e-08 | Y28: =SUM(Y19:Y27) -> 794002130 | Z28: =SUM(Z19:Z27) -> 24580222470 | AA28: =U28+V28-W28+X28-Z28 -> 349238622339

Sheet 2015총괄(청별)
A1: 2015년도 우정청별 국제우편 매출액 현황 (8월 누계)
A3: 우편매출액 계 | L3: 단위 : 백만원
A4: 구분 | B4: 2014 목표 | C4: 2014 실적 | D4: 달성률 | E4: 달성률 순위 | F4: 그룹 순위 | G4: 2013목표 | H4: 2013실적 | I4: 달성률 | J4: 전년대비 증감 | K4: 성장률 | L4: 성장률 순위
A5: 서울청 | B5: =B18+B44+B31+B58 -> 901425.82 | C5: =C18+C44+C31+C58 -> 133542.49 | D5: =C5/B5 -> 0.14814584 | E5: =RANK(D5,$D$5:$D$13) -> 1 | G5: =G18+G31+G44+#REF! -> #REF! | H5: =H18+H31+H44+E58 -> 115715.43 | I5: =H5/G5 -> #REF! | J5: =C5-H5 -> 17827.056 | K5: =J5/H5 -> 0.15405945 | L5: =RANK(K5,$K$5:$K$13) -> 5
A6: 경인청 | B6: =B19+B45+B32+B59 -> 1004612.8 | C6: =C19+C45+C32+C59 -> 90791.767 | D6: =C6/B6 -> 0.090374885 | E6: =RANK(D6,$D$5:$D$13) -> 6 | G6: =G19+G32+G45+#REF! -> #REF! | H6: =H19+H32+H45+E59 -> 79209.828 | I6: =H6/G6 -> #REF! | J6: =C6-H6 -> 11581.939 | K6: =J6/H6 -> 0.14621846 | L6: =RANK(K6,$K$5:$K$13) -> 6
A7: 부산청 | B7: =B20+B46+B33+B60 -> 241295.59 | C7: =C20+C46+C33+C60 -> 29030.823 | D7: =C7/B7 -> 0.12031228 | E7: =RANK(D7,$D$5:$D$13) -> 2 | G7: =G20+G33+G46+#REF! -> #REF! | H7: =H20+H33+H46+E60 -> 29297.247 | I7: =H7/G7 -> #REF! | J7: =C7-H7 -> -266.42401 | K7: =J7/H7 -> -0.0090938241 | L7: =RANK(K7,$K$5:$K$13) -> 9
A8: 충청청 | B8: =B21+B47+B34+B61 -> 185476.06 | C8: =C21+C47+C34+C61 -> 18247.081 | D8: =C8/B8 -> 0.098379708 | E8: =RANK(D8,$D$5:$D$13) -> 5 | G8: =G21+G34+G47+#REF! -> #REF! | H8: =H21+H34+H47+E61 -> 15552.61 | I8: =H8/G8 -> #REF! | J8: =C8-H8 -> 2694.4711 | K8: =J8/H8 -> 0.1732488 | L8: =RANK(K8,$K$5:$K$13) -> 4
A9: 전남청 | B9: =B22+B48+B35+B62 -> 106758.89 | C9: =C22+C48+C35+C62 -> 8061.1117 | D9: =C9/B9 -> 0.075507639 | E9: =RANK(D9,$D$5:$D$13) -> 9 | G9: =G22+G35+G48+#REF! -> #REF! | H9: =H22+H35+H48+E62 -> 6470.688 | I9: =H9/G9 -> #REF! | J9: =C9-H9 -> 1590.4237 | K9: =J9/H9 -> 0.24578896 | L9: =RANK(K9,$K$5:$K$13) -> 1
A10: 경북청 | B10: =B23+B49+B36+B63 -> 148802 | C10: =C23+C49+C36+C63 -> 16658.389 | D10: =C10/B10 -> 0.11195003 | E10: =RANK(D10,$D$5:$D$13) -> 3 | G10: =G23+G36+G49+#REF! -> #REF! | H10: =H23+H36+H49+E63 -> 14582.532 | I10: =H10/G10 -> #REF! | J10: =C10-H10 -> 2075.8571 | K10: =J10/H10 -> 0.14235231 | L10: =RANK(K10,$K$5:$K$13) -> 7
A11: 전북청 | B11: =B24+B50+B37+B64 -> 54951.032 | C11: =C24+C50+C37+C64 -> 5446.4508 | D11: =C11/B11 -> 0.099114623 | E11: =RANK(D11,$D$5:$D$13) -> 4 | F11: =RANK(D11,$D$11:$D$13) -> 1 | G11: =G24+G37+G50+#REF! -> #REF! | H11: =H24+H37+H50+E64 -> 4574.933 | I11: =H11/G11 -> #REF! | J11: =C11-H11 -> 871.51783 | K11: =J11/H11 -> 0.19049849 | L11: =RANK(K11,$K$5:$K$13) -> 2
A12: 강원청 | B12: =B25+B51+B38+B65 -> 47766.074 | C12: =C25+C51+C38+C65 -> 3957.5651 | D12: =C12/B12 -> 0.082853055 | E12: =RANK(D12,$D$5:$D$13) -> 8 | F12: =RANK(D12,$D$11:$D$13) -> 3 | G12: =G25+G38+G51+#REF! -> #REF! | H12: =H25+H38+H51+E65 -> 3504.3096 | I12: =H12/G12 -> #REF! | J12: =C12-H12 -> 453.25553 | K12: =J12/H12 -> 0.12934232 | L12: =RANK(K12,$K$5:$K$13) -> 8
A13: 제주청 | B13: =B26+B52+B39+B66 -> 24852.76 | C13: =C26+C52+C39+C66 -> 2179.7058 | D13: =C13/B13 -> 0.087704778 | E13: =RANK(D13,$D$5:$D$13) -> 7 | F13: =RANK(D13,$D$11:$D$13) -> 2 | G13: =G26+G39+G52+#REF! -> #REF! | H13: =H26+H39+H52+E66 -> 1851.887 | I13: =H13/G13 -> #REF! | J13: =C13-H13 -> 327.81882 | K13: =J13/H13 -> 0.1770188 | L13: =RANK(K13,$K$5:$K$13) -> 3
A14: 계 | B14: =SUM(B5:B13) -> 2715941 | C14: =SUM(C5:C13) -> 307915.38 | D14: =C14/B14 -> 0.11337337 | G14: =SUM(G5:G13) -> #REF! | H14: =SUM(H5:H13) -> 270759.47 | J14: =C14-H14 -> 37155.915 | K14: =J14/H14 -> 0.1372285
A16: 통상 | B16: * 인터넷 미추천, 통신사무 배분실적 반영 | L16: 단위 : 백만원
A17: 구분 | B17: 2014 목표 | C17: 2014 실적 | D17: 달성률 | E17: 달성률 순위 | F17: 그룹 순위 | G17: 2013목표 | H17: 2013실적 | I17: 달성률 | J17: 전년대비 증감 | K17: 성장률 | L17: 성장률 순위
A18: 서울청 | B18: 559084 | C18: =data!B6 -> 0 | D18: =C18/B18 -> 0 | E18: =RANK(D18,$D$18:$D$26) -> 1 | G18: 528114 | H18: =data!B19 -> 0 | I18: =H18/G18 -> 0 | J18: =C18-H18 -> 0 | K18: =J18/H18 -> #DIV/0! | L18: =RANK(K18,$K$18:$K$26) -> #DIV/0!
A19: 경인청 | B19: 743637 | C19: =data!B7 -> 0 | D19: =C19/B19 -> 0 | E19: =RANK(D19,$D$18:$D$26) -> 1 | G19: 739345 | H19: =data!B20 -> 0 | I19: =H19/G19 -> 0 | J19: =C19-H19 -> 0 | K19: =J19/H19 -> #DIV/0! | L19: =RANK(K19,$K$18:$K$26) -> #DIV/0!
A20: 부산청 | B20: 128728 | C20: =data!B8 -> 0 | D20: =C20/B20 -> 0 | E20: =RANK(D20,$D$18:$D$26) -> 1 | G20: 127610 | H20: =data!B21 -> 0 | I20: =H20/G20 -> 0 | J20: =C20-H20 -> 0 | K20: =J20/H20 -> #DIV/0! | L20: =RANK(K20,$K$18:$K$26) -> #DIV/0!
A21: 충청청 | B21: 105412 | C21: =data!B9 -> 0 | D21: =C21/B21 -> 0 | E21: =RANK(D21,$D$18:$D$26) -> 1 | G21: 103485 | H21: =data!B22 -> 0 | I21: =H21/G21 -> 0 | J21: =C21-H21 -> 0 | K21: =J21/H21 -> #DIV/0! | L21: =RANK(K21,$K$18:$K$26) -> #DIV/0!
A22: 전남청 | B22: 57624 | C22: =data!B10 -> 0 | D22: =C22/B22 -> 0 | E22: =RANK(D22,$D$18:$D$26) -> 1 | G22: 57106 | H22: =data!B23 -> 0 | I22: =H22/G22 -> 0 | J22: =C22-H22 -> 0 | K22: =J22/H22 -> #DIV/0! | L22: =RANK(K22,$K$18:$K$26) -> #DIV/0!
A23: 경북청 | B23: 79224 | C23: =data!B11 -> 0 | D23: =C23/B23 -> 0 | E23: =RANK(D23,$D$18:$D$26) -> 1 | G23: 79427 | H23: =data!B24 -> 0 | I23: =H23/G23 -> 0 | J23: =C23-H23 -> 0 | K23: =J23/H23 -> #DIV/0! | L23: =RANK(K23,$K$18:$K$26) -> #DIV/0!
A24: 전북청 | B24: 29829 | C24: =data!B12 -> 0 | D24: =C24/B24 -> 0 | E24: =RANK(D24,$D$18:$D$26) -> 1 | F24: =RANK(D24,$D$24:$D$26) -> 1 | G24: 29783 | H24: =data!B25 -> 0 | I24: =H24/G24 -> 0 | J24: =C24-H24 -> 0 | K24: =J24/H24 -> #DIV/0! | L24: =RANK(K24,$K$18:$K$26) -> #DIV/0!
A25: 강원청 | B25: 28099 | C25: =data!B13 -> 0 | D25: =C25/B25 -> 0 | E25: =RANK(D25,$D$18:$D$26) -> 1 | F25: =RANK(D25,$D$24:$D$26) -> 1 | G25: 27120 | H25: =data!B26 -> 0 | I25: =H25/G25 -> 0 | J25: =C25-H25 -> 0 | K25: =J25/H25 -> #DIV/0! | L25: =RANK(K25,$K$18:$K$26) -> #DIV/0!
A26: 제주청 | B26: 8363 | C26: =data!B14 -> 0 | D26: =C26/B26 -> 0 | E26: =RANK(D26,$D$18:$D$26) -> 1 | F26: =RANK(D26,$D$24:$D$26) -> 1 | G26: 8010 | H26: =data!B27 -> 0 | I26: =H26/G26 -> 0 | J26: =C26-H26 -> 0 | K26: =J26/H26 -> #DIV/0! | L26: =RANK(K26,$K$18:$K$26) -> #DIV/0!
A27: 계 | B27: =SUM(B18:B26) -> 1740000 | C27: =SUM(C18:C26) -> 0 | D27: =C27/B27 -> 0 | G27: =SUM(G18:G26) -> 1700000 | H27: =SUM(H18:H26) -> 0 | I27: =H27/G27 -> 0 | J27: =SUM(J18:J26) -> 0 | K27: =J27/H27 -> #DIV/0!
A29: 소포 | B29: * 고중량(20kg초과) 제외 반영, 우체국쇼핑 실적 배분 조정에 따라 약간 변동 가능 | L29: 단위 : 백만원
A30: 구분 | B30: 2014 목표 | C30: 2014 실적 | D30: 달성률 | E30: 달성률 순위 | F30: 그룹 순위 | G30: 2013목표 | H30: 2013실적 | I30: 달성률 | J30: 전년대비 증감 | K30: 성장률 | L30: 성장률 순위
A31: 서울청 | B31: 140875 | C31: =data!D6 -> 0 | D31: =C31/B31 -> 0 | E31: =RANK(D31,$D$31:$D$39) -> 1 | G31: 138987 | H31: =data!D19 -> 0 | I31: =H31/G31 -> 0 | J31: =C31-H31 -> 0 | K31: =J31/H31 -> #DIV/0! | L31: =RANK(K31,$K$31:$K$39) -> #DIV/0!
A32: 경인청 | B32: 119307 | C32: =data!D7 -> 0 | D32: =C32/B32 -> 0 | E32: =RANK(D32,$D$31:$D$39) -> 1 | G32: 115088 | H32: =data!D20 -> 0 | I32: =H32/G32 -> 0 | J32: =C32-H32 -> 0 | K32: =J32/H32 -> #DIV/0! | L32: =RANK(K32,$K$31:$K$39) -> #DIV/0!
A33: 부산청 | B33: 64934 | C33: =data!D8 -> 0 | D33: =C33/B33 -> 0 | E33: =RANK(D33,$D$31:$D$39) -> 1 | G33: 73407 | H33: =data!D21 -> 0 | I33: =H33/G33 -> 0 | J33: =C33-H33 -> 0 | K33: =J33/H33 -> #DIV/0! | L33: =RANK(K33,$K$31:$K$39) -> #DIV/0!
A34: 충청청 | B34: 53431 | C34: =data!D9 -> 0 | D34: =C34/B34 -> 0 | E34: =RANK(D34,$D$31:$D$39) -> 1 | G34: 60733 | H34: =data!D22 -> 0 | I34: =H34/G34 -> 0 | J34: =C34-H34 -> 0 | K34: =J34/H34 -> #DIV/0! | L34: =RANK(K34,$K$31:$K$39) -> #DIV/0!
A35: 전남청 | B35: 37685 | C35: =data!D10 -> 0 | D35: =C35/B35 -> 0 | E35: =RANK(D35,$D$31:$D$39) -> 1 | G35: 49314 | H35: =data!D23 -> 0 | I35: =H35/G35 -> 0 | J35: =C35-H35 -> 0 | K35: =J35/H35 -> #DIV/0! | L35: =RANK(K35,$K$31:$K$39) -> #DIV/0!
A36: 경북청 | B36: 44796 | C36: =data!D11 -> 0 | D36: =C36/B36 -> 0 | E36: =RANK(D36,$D$31:$D$39) -> 1 | G36: 56009 | H36: =data!D24 -> 0 | I36: =H36/G36 -> 0 | J36: =C36-H36 -> 0 | K36: =J36/H36 -> #DIV/0! | L36: =RANK(K36,$K$31:$K$39) -> #DIV/0!
A37: 전북청 | B37: 16981 | C37: =data!D12 -> 0 | D37: =C37/B37 -> 0 | E37: =RANK(D37,$D$31:$D$39) -> 1 | F37: =RANK(D37,$D$37:$D$39) -> 1 | G37: 21621 | H37: =data!D25 -> 0 | I37: =H37/G37 -> 0 | J37: =C37-H37 -> 0 | K37: =J37/H37 -> #DIV/0! | L37: =RANK(K37,$K$31:$K$39) -> #DIV/0!
A38: 강원청 | B38: 13714 | C38: =data!D13 -> 0 | D38: =C38/B38 -> 0 | E38: =RANK(D38,$D$31:$D$39) -> 1 | F38: =RANK(D38,$D$37:$D$39) -> 1 | G38: 16559 | H38: =data!D26 -> 0 | I38: =H38/G38 -> 0 | J38: =C38-H38 -> 0 | K38: =J38/H38 -> #DIV/0! | L38: =RANK(K38,$K$31:$K$39) -> #DIV/0!
A39: 제주청 | B39: 13334 | C39: =data!D14 -> 0 | D39: =C39/B39 -> 0 | E39: =RANK(D39,$D$31:$D$39) -> 1 | F39: =RANK(D39,$D$37:$D$39) -> 1 | G39: 13282 | H39: =data!D27 -> 0 | I39: =H39/G39 -> 0 | J39: =C39-H39 -> 0 | K39: =J39/H39 -> #DIV/0! | L39: =RANK(K39,$K$31:$K$39) -> #DIV/0!
A40: 계 | B40: =SUM(B31:B39) -> 505057 | C40: =SUM(C31:C39) -> 0 | D40: =C40/B40 -> 0 | G40: =SUM(G31:G39) -> 545000 | H40: =SUM(H31:H39) -> 0 | I40: =H40/G40 -> 0 | J40: =C40-H40 -> 0 | K40: =J40/H40 -> #DIV/0!
A42: 국제
A43: 구분 | B43: 2015 목표 | C43: 2015 실적 | D43: 달성률 | E43: 달성률 순위 | F43: 그룹 순위 | G43: 2014목표 | H43: 2014실적 | I43: 달성률 | J43: 전년대비 증감 | K43: 성장률 | L43: 성장률 순위
A44: 서울청 | B44: 201203 | C44: =data!C6 -> 132862.3 | D44: =C44/B44 -> 0.66033957 | E44: =RANK(D44,$D$44:$D$52) -> 6 | G44: 181222 | H44: =data!C19 -> 115359.72 | I44: =H44/G44 -> 0.63656577 | J44: =C44-H44 -> 17502.581 | K44: =J44/H44 -> 0.15172176 | L44: =RANK(K44,$K$44:$K$52) -> 5
A45: =A32 -> 경인청 | B45: 141578 | C45: =data!C7 -> 89927.057 | D45: =C45/B45 -> 0.63517677 | E45: =RANK(D45,$D$44:$D$52) -> 8 | G45: 128121 | H45: =data!C20 -> 79103.726 | I45: =H45/G45 -> 0.61741421 | J45: =C45-H45 -> 10823.331 | K45: =J45/H45 -> 0.13682453 | L45: =RANK(K45,$K$44:$K$52) -> 6
A46: 부산청 | B46: 47540 | C46: =data!C8 -> 28567.587 | D46: =C46/B46 -> 0.60091685 | E46: =RANK(D46,$D$44:$D$52) -> 9 | G46: 45779 | H46: =data!C21 -> 29218.674 | I46: =H46/G46 -> 0.63825496 | J46: =C46-H46 -> -651.08695 | K46: =J46/H46 -> -0.022283248 | L46: =RANK(K46,$K$44:$K$52) -> 9
A47: 충청청 | B47: 26520 | C47: =data!C9 -> 17906.614 | D47: =C47/B47 -> 0.6752117 | E47: =RANK(D47,$D$44:$D$52) -> 3 | G47: 24345 | H47: =data!C22 -> 15330.062 | I47: =H47/G47 -> 0.62970064 | J47: =C47-H47 -> 2576.5523 | K47: =J47/H47 -> 0.16807187 | L47: =RANK(K47,$K$44:$K$52) -> 4
A48: 전남청 | B48: 11409 | C48: =data!C10 -> 7888.9447 | D48: =C48/B48 -> 0.6914668 | E48: =RANK(D48,$D$44:$D$52) -> 1 | G48: 10524 | H48: =data!C23 -> 6431.8679 | I48: =H48/G48 -> 0.61116191 | J48: =C48-H48 -> 1457.0768 | K48: =J48/H48 -> 0.22654022 | L48: =RANK(K48,$K$44:$K$52) -> 1
A49: 경북청 | B49: 24662 | C49: =data!C11 -> 16310.262 | D49: =C49/B49 -> 0.66135194 | E49: =RANK(D49,$D$44:$D$52) -> 5 | G49: 24262 | H49: =data!C24 -> 14524.119 | I49: =H49/G49 -> 0.59863652 | J49: =C49-H49 -> 1786.1424 | K49: =J49/H49 -> 0.12297767 | L49: =RANK(K49,$K$44:$K$52) -> 8
A50: 전북청 | B50: 8077 | C50: =data!C12 -> 5320.9768 | D50: =C50/B50 -> 0.65878133 | E50: =RANK(D50,$D$44:$D$52) -> 7 | F50: =RANK(D50,$D$50:$D$52) -> 3 | G50: 7199 | H50: =data!C25 -> 4535.2908 | I50: =H50/G50 -> 0.629989 | J50: =C50-H50 -> 785.68598 | K50: =J50/H50 -> 0.17323828 | L50: =RANK(K50,$K$44:$K$52) -> 3
A51: 강원청 | B51: 5823 | C51: =data!C13 -> 3854.6007 | D51: =C51/B51 -> 0.66196131 | E51: =RANK(D51,$D$44:$D$52) -> 4 | F51: =RANK(D51,$D$50:$D$52) -> 2 | G51: 5772 | H51: =data!C26 -> 3397.1949 | I51: =H51/G51 -> 0.58856461 | J51: =C51-H51 -> 457.40577 | K51: =J51/H51 -> 0.13464219 | L51: =RANK(K51,$K$44:$K$52) -> 7
A52: 제주청 | B52: 3154 | C52: =data!C14 -> 2149.5582 | D52: =C52/B52 -> 0.681534 | E52: =RANK(D52,$D$44:$D$52) -> 2 | F52: =RANK(D52,$D$50:$D$52) -> 1 | G52: 2776 | H52: =data!C27 -> 1805.7686 | I52: =H52/G52 -> 0.65049301 | J52: =C52-H52 -> 343.78965 | K52: =J52/H52 -> 0.19038411 | L52: =RANK(K52,$K$44:$K$52) -> 2
A53: 계 | B53: =SUM(B44:B52) -> 469966 | C53: =SUM(C44:C52) -> 304787.9 | D53: =C53/B53 -> 0.64853181 | G53: 430000 | H53: =data!C28 -> 269706.43 | I53: =H53/G53 -> 0.62722424 | J53: =C53-H53 -> 35081.477 | K53: =J53/H53 -> 0.13007283
A56: 잡수익 | B56: (7월 기준)
A57: 구분 | B57: 2015 우편잡수익 | C57: 2015 수탁잡수익 | D57: 2015 잡수익합계 | E57: 2014 우편잡수익 | F57: 2014 수탁잡수익 | G57: 2014 합계 | H57: 증감 | I57: 증감률 | J57: 성장률 순위
A58: 서울청 | B58: ='2015잡수익(청별)'!B4/1000000 -> 263.82443 | C58: ='2015잡수익(청별)'!C4/1000000 -> 680.18472 | D58: =SUM(B58:C58) -> 944.00915 | E58: ='2014잡수익(청별)'!G4/1000000 -> 355.70911 | F58: ='2014잡수익(청별)'!H4/1000000 -> 591.45363 | G58: =SUM(E58:F58) -> 947.16274 | H58: =D58-G58 -> -3.153597 | I58: =H58/G58 -> -0.0033295197 | J58: =RANK(I58,$I$58:$I$66) -> 7
A59: =A45 -> 경인청 | B59: ='2015잡수익(청별)'!B5/1000000 -> 90.80583 | C59: ='2015잡수익(청별)'!C5/1000000 -> 864.7106 | D59: =SUM(B59:C59) -> 955.51644 | E59: ='2014잡수익(청별)'!G5/1000000 -> 106.10184 | F59: ='2014잡수익(청별)'!H5/1000000 -> 712.8025 | G59: =SUM(E59:F59) -> 818.90434 | H59: =D59-G59 -> 136.61209 | I59: =H59/G59 -> 0.16682302 | J59: =RANK(I59,$I$58:$I$66) -> 5
A60: 부산청 | B60: ='2015잡수익(청별)'!B6/1000000 -> 93.58821 | C60: ='2015잡수익(청별)'!C6/1000000 -> 463.23656 | D60: =SUM(B60:C60) -> 556.82477 | E60: ='2014잡수익(청별)'!G6/1000000 -> 78.57362 | F60: ='2014잡수익(청별)'!H6/1000000 -> 378.21293 | G60: =SUM(E60:F60) -> 456.78655 | H60: =D60-G60 -> 100.03822 | I60: =H60/G60 -> 0.21900431 | J60: =RANK(I60,$I$58:$I$66) -> 3
A61: 충청청 | B61: ='2015잡수익(청별)'!B7/1000000 -> 113.06478 | C61: ='2015잡수익(청별)'!C7/1000000 -> 340.46676 | D61: =SUM(B61:C61) -> 453.53154 | E61: ='2014잡수익(청별)'!G7/1000000 -> 222.54796 | F61: ='2014잡수익(청별)'!H7/1000000 -> 300.86811 | G61: =SUM(E61:F61) -> 523.41607 | H61: =D61-G61 -> -69.884531 | I61: =H61/G61 -> -0.13351621 | J61: =RANK(I61,$I$58:$I$66) -> 8
A62: 전남청 | B62: ='2015잡수익(청별)'!B8/1000000 -> 40.88872 | C62: ='2015잡수익(청별)'!C8/1000000 -> 172.16692 | D62: =SUM(B62:C62) -> 213.05564 | E62: ='2014잡수익(청별)'!G8/1000000 -> 38.82006 | F62: ='2014잡수익(청별)'!H8/1000000 -> 146.22518 | G62: =SUM(E62:F62) -> 185.04524 | H62: =D62-G62 -> 28.010395 | I62: =H62/G62 -> 0.15137052 | J62: =RANK(I62,$I$58:$I$66) -> 6
A63: 경북청 | B63: ='2015잡수익(청별)'!B9/1000000 -> 120.00402 | C63: ='2015잡수익(청별)'!C9/1000000 -> 348.12741 | D63: =SUM(B63:C63) -> 468.13143 | E63: ='2014잡수익(청별)'!G9/1000000 -> 58.41272 | F63: ='2014잡수익(청별)'!H9/1000000 -> 287.74675 | G63: =SUM(E63:F63) -> 346.15947 | H63: =D63-G63 -> 121.97195 | I63: =H63/G63 -> 0.35235769 | J63: =RANK(I63,$I$58:$I$66) -> 1
A64: 전북청 | B64: ='2015잡수익(청별)'!B10/1000000 -> 64.03247 | C64: ='2015잡수익(청별)'!C10/1000000 -> 125.47406 | D64: =SUM(B64:C64) -> 189.50653 | E64: ='2014잡수익(청별)'!G10/1000000 -> 39.64221 | F64: ='2014잡수익(청별)'!H10/1000000 -> 108.59959 | G64: =SUM(E64:F64) -> 148.2418 | H64: =D64-G64 -> 41.26473 | I64: =H64/G64 -> 0.27836096 | J64: =RANK(I64,$I$58:$I$66) -> 2
A65: 강원청 | B65: ='2015잡수익(청별)'!B11/1000000 -> 130.07393 | C65: ='2015잡수익(청별)'!C11/1000000 -> 102.96443 | D65: =SUM(B65:C65) -> 233.03836 | E65: ='2014잡수익(청별)'!G11/1000000 -> 107.11468 | F65: ='2014잡수익(청별)'!H11/1000000 -> 84.497754 | G65: =SUM(E65:F65) -> 191.61243 | H65: =D65-G65 -> 41.425931 | I65: =H65/G65 -> 0.21619647 | J65: =RANK(I65,$I$58:$I$66) -> 4
A66: 제주청 | B66: ='2015잡수익(청별)'!B12/1000000 -> 1.76049 | C66: ='2015잡수익(청별)'!C12/1000000 -> 30.147596 | D66: =SUM(B66:C66) -> 31.908086 | E66: ='2014잡수익(청별)'!G12/1000000 -> 46.11843 | F66: ='2014잡수익(청별)'!H12/1000000 -> 34.180151 | G66: =SUM(E66:F66) -> 80.298581 | H66: =D66-G66 -> -48.390495 | I66: =H66/G66 -> -0.60263201 | J66: =RANK(I66,$I$58:$I$66) -> 9
A67: 계 | B67: ='2015잡수익(청별)'!B13/1000000 -> 918.04288 | C67: ='2015잡수익(청별)'!C13/1000000 -> 3127.4791 | D67: =SUM(B67:C67) -> 4045.5219 | E67: ='2014잡수익(청별)'!G13/1000000 -> 1053.0406 | F67: ='2014잡수익(청별)'!H13/1000000 -> 2644.5866 | G67: =SUM(E67:F67) -> 3697.6272 | H67: =D67-G67 -> 347.8947 | I67: =H67/G67 -> 0.094085931

Sheet 2015잡수익(청별)
A1: 청별 잡수익 현황(2015. 7월누계)
A3: 관서명 | B3: 우편영업잡수입 | C3: 수탁잡수입 | D3: 합계
A4: 서울청 | B4: =SUM(I17,I30) -> 263824430 | C4: =SUM(I43,I56,I69,I82,I95) -> 680184717 | D4: =SUM(B4:C4) -> 944009147
A5: 경인청 | B5: =SUM(I18,I31) -> 90805830 | C5: =SUM(I44,I57,I70,I83,I96) -> 864710605 | D5: =SUM(B5:C5) -> 955516435
A6: 부산청 | B6: =SUM(I19,I32) -> 93588210 | C6: =SUM(I45,I58,I71,I84,I97) -> 463236559 | D6: =SUM(B6:C6) -> 556824769
A7: 충청청 | B7: =SUM(I20,I33) -> 113064780 | C7: =SUM(I46,I59,I72,I85,I98) -> 340466762 | D7: =SUM(B7:C7) -> 453531542
A8: 전남청 | B8: =SUM(I21,I34) -> 40888720 | C8: =SUM(I47,I60,I73,I86,I99) -> 172166918 | D8: =SUM(B8:C8) -> 213055638
A9: 경북청 | B9: =SUM(I22,I35) -> 120004020 | C9: =SUM(I48,I61,I74,I87,I100) -> 348127407 | D9: =SUM(B9:C9) -> 468131427
A10: 전북청 | B10: =SUM(I23,I36) -> 64032470 | C10: =SUM(I49,I62,I75,I88,I101) -> 125474063 | D10: =SUM(B10:C10) -> 189506533
A11: 강원청 | B11: =SUM(I24,I37) -> 130073930 | C11: =SUM(I50,I63,I76,I89,I102) -> 102964435 | D11: =SUM(B11:C11) -> 233038365
A12: 제주청 | B12: =SUM(I25,I38) -> 1760490 | C12: =SUM(I51,I64,I77,I90,I103) -> 30147596 | D12: =SUM(B12:C12) -> 31908086
A13: 합계 | B13: =SUM(B4:B12) -> 918042880 | C13: =SUM(C4:C12) -> 3127479062 | D13: =SUM(D4:D12) -> 4045521942
A15: o 우편영업잡수입 : 나만의 우표
A16: 관서명 | B16: 1월 | C16: 2월 | D16: 3월 | E16: 4월 | F16: 5월 | G16: 6월 | H16: 7월 | I16: 합계
A17: 서울청 | B17: 6270700 | C17: 2958400 | D17: 6354900 | E17: 6466600 | F17: 4050100 | G17: 126264200 | H17: 14402400 | I17: =SUM(B17:H17) -> 166767300
A18: 경인청 | B18: 621700 | C18: 499900 | D18: 3335500 | E18: 8435200 | F18: 5104100 | G18: 13071600 | H18: 4731100 | I18: =SUM(B18:H18) -> 35799100
A19: 부산청 | B19: 13774000 | C19: 1045600 | D19: 3267400 | E19: 3314400 | F19: 815800 | G19: 11654400 | H19: 2645000 | I19: =SUM(B19:H19) -> 36516600
A20: 충청청 | B20: 681600 | C20: 2846800 | D20: 710000 | E20: 1360900 | F20: 4625100 | G20: 1901900 | H20: 2286600 | I20: =SUM(B20:H20) -> 14412900
A21: 전남청 | B21: 1816300 | C21: 101600 | D21: 303000 | E21: 396900 | F21: 1920200 | G21: 448000 | H21: 1425600 | I21: =SUM(B21:H21) -> 6411600
A22: 경북청 | B22: 347000 | C22: 796300 | D22: 738200 | E22: 462400 | F22: 18251400 | G22: 10220300 | H22: 2685400 | I22: =SUM(B22:H22) -> 33501000
A23: 전북청 | B23: 4867700 | C23: 44200 | D23: 983200 | E23: 4513600 | F23: 2402400 | G23: 8644200 | H23: 647800 | I23: =SUM(B23:H23) -> 22103100
A24: 강원청 | B24: 811400 | C24: 3034800 | D24: 402800 | E24: 17524400 | F24: 9485100 | G24: 7735800 | H24: 12236400 | I24: =SUM(B24:H24) -> 51230700
A25: 제주청 | B25: 0 | C25: 0 | D25: 252000 | E25: 91300 | G25: 0 | H25: 36800 | I25: =SUM(B25:H25) -> 380100
A26: 합계 | B26: =SUM(B17:B25) -> 29190400 | C26: =SUM(C17:C25) -> 11327600 | D26: =SUM(D17:D25) -> 16347000 | E26: =SUM(E17:E25) -> 42565700 | F26: =SUM(F17:F25) -> 46654200 | G26: =SUM(G17:G25) -> 179940400 | H26: =SUM(H17:H25) -> 41097100 | I26: =SUM(B26:H26) -> 367122400
A28: o 우편영업잡수입 : 맞춤형 엽서
A29: 관서명 | B29: 1월 | C29: 2월 | D29: 3월 | E29: 4월 | F29: 5월 | G29: 6월 | H29: 7월 | I29: 합계
A30: 서울청 | B30: 7980240 | C30: 13605160 | D30: 2340250 | E30: 51240320 | F30: 5562150 | G30: 13943360 | H30: 2385650 | I30: =SUM(B30:H30) -> 97057130
A31: 경인청 | B31: 5901920 | C31: 14726850 | D31: 1027690 | E31: 8451320 | F31: 4433730 | G31: 14556150 | H31: 5909070 | I31: =SUM(B31:H31) -> 55006730
A32: 부산청 | B32: 4077810 | C32: 2660680 | D32: 11679950 | E32: 14661460 | F32: 11139450 | G32: 10145360 | H32: 2706900 | I32: =SUM(B32:H32) -> 57071610
A33: 충청청 | B33: 9728480 | C33: 8271780 | D33: 6981120 | E33: 51603960 | F33: 5743740 | G33: 11243970 | H33: 5078830 | I33: =SUM(B33:H33) -> 98651880
A34: 전남청 | B34: 6153000 | C34: 4995860 | D34: 6810570 | E34: 3759680 | F34: 3676100 | G34: 604350 | H34: 8477560 | I34: =SUM(B34:H34) -> 34477120
A35: 경북청 | B35: 4835880 | C35: 4888180 | D35: 14196900 | E35: 3498390 | F35: 12728420 | G35: 42394870 | H35: 3960380 | I35: =SUM(B35:H35) -> 86503020
A36: 전북청 | B36: 4373440 | C36: 1734410 | D36: 1284990 | E36: 25589570 | F36: 2240460 | G36: 6624900 | H36: 81600 | I36: =SUM(B36:H36) -> 41929370
A37: 강원청 | B37: 2606400 | C37: 3124340 | D37: 9393280 | E37: 30713560 | F37: 23951270 | G37: 710000 | H37: 8344380 | I37: =SUM(B37:H37) -> 78843230
A38: 제주청 | B38: 390390 | C38: 0 | D38: 301000 | E38: 159000 | F38: 530000 | G38: 0 | H38: 0 | I38: =SUM(B38:H38) -> 1380390
A39: 합계 | B39: =SUM(B30:B38) -> 46047560 | C39: =SUM(C30:C38) -> 54007260 | D39: =SUM(D30:D38) -> 54015750 | E39: =SUM(E30:E38) -> 189677260 | F39: =SUM(F30:F38) -> 70005320 | G39: =SUM(G30:G38) -> 100222960 | H39: =SUM(H30:H38) -> 36944370 | I39: =SUM(B39:H39) -> 550920480
A41: o 수탁잡수입 : 문화상품권
A42: 관서명 | B42: 1월 | C42: 2월 | D42: 3월 | E42: 4월 | F42: 5월 | G42: 6월 | H42: 7월 | I42: 합계
A43: 서울청 | B43: 6030000 | C43: 6954150 | D43: 7152200 | E43: 8110050 | F43: 7502100 | G43: 7384900 | H43: 8897000 | I43: =SUM(B43:G43) -> 43133400
A44: 경인청 | B44: 4589350 | C44: 9739200 | D44: 6498400 | E44: 6177550 | F44: 6834900 | G44: 5634600 | H44: 5532400 | I44: =SUM(B44:G44) -> 39474000
A45: 부산청 | B45: 3545750 | C45: 6860900 | D45: 5856150 | E45: 5344600 | F45: 5161400 | G45: 5393200 | H45: 4214650 | I45: =SUM(B45:G45) -> 32162000
A46: 충청청 | B46: 2762600 | C46: 4544750 | D46: 3753600 | E46: 3591250 | F46: 3208550 | G46: 2953550 | H46: 3179650 | I46: =SUM(B46:G46) -> 20814300
A47: 전남청 | B47: 1611650 | C47: 3253800 | D47: 1904900 | E47: 2197300 | F47: 1615550 | G47: 1635250 | H47: 2217850 | I47: =SUM(B47:G47) -> 12218450
A48: 경북청 | B48: 3215100 | C48: 6263650 | D48: 3458450 | E48: 4410800 | F48: 3348350 | G48: 3207500 | H48: 3554750 | I48: =SUM(B48:G48) -> 23903850
A49: 전북청 | B49: 1257700 | C49: 2560950 | D49: 1950000 | E49: 1252600 | F49: 1877850 | G49: 1508900 | H49: 1438050 | I49: =SUM(B49:G49) -> 10408000
A50: 강원청 | B50: 944300 | C50: 2489750 | D50: 1083400 | E50: 1043650 | F50: 1147800 | G50: 1004550 | H50: 1351150 | I50: =SUM(B50:G50) -> 7713450
A51: 제주청 | B51: 39600 | C51: 326900 | D51: 205500 | E51: 539400 | F51: 122100 | G51: 181800 | H51: 67700 | I51: =SUM(B51:G51) -> 1415300
A52: 합계 | B52: =SUM(B43:B51) -> 23996050 | C52: =SUM(C43:C51) -> 42994050 | D52: =SUM(D43:D51) -> 31862600 | E52: =SUM(E43:E51) -> 32667200 | F52: =SUM(F43:F51) -> 30818600 | G52: =SUM(G43:G51) -> 28904250 | H52: =SUM(H43:H51) -> 30453200 | I52: =SUM(B52:G52) -> 191242750
A54: o 수탁잡수입 : 온누리상품권
A55: 관서명 | B55: 1월 | C55: 2월 | D55: 3월 | E55: 4월 | F55: 5월 | G55: 6월 | H55: 7월 | I55: 합계
A56: 서울청 | B56: 1844470 | C56: 9895420 | D56: 2310250 | E56: 2843660 | F56: 1591410 | G56: 2220980 | H56: 9743208 | I56: =SUM(B56:G56) -> 20706190
A57: 경인청 | B57: 2941115 | C57: 7920180 | D57: 1307460 | E57: 4071625 | F57: 1511245 | G57: 2652005 | H57: 6763738 | I57: =SUM(B57:G57) -> 20403630
A58: 부산청 | B58: 2085580 | C58: 6213145 | D58: 1371800 | E58: 3922575 | F58: 2094225 | G58: 2823815 | H58: 7666864 | I58: =SUM(B58:G58) -> 18511140
A59: 충청청 | B59: 2189530 | C59: 11634700 | D59: 1562180 | E59: 4520450 | F59: 3685105 | G59: 2262145 | H59: 4584820 | I59: =SUM(B59:G59) -> 25854110
A60: 전남청 | B60: 990430 | C60: 4592830 | D60: 1025575 | E60: 1674765 | F60: 2486095 | G60: 1806980 | H60: 2926801 | I60: =SUM(B60:G60) -> 12576675
A61: 경북청 | B61: 2327225 | C61: 5075860 | D61: 1067635 | E61: 2112825 | F61: 2438360 | G61: 1910465 | H61: 5458658 | I61: =SUM(B61:G61) -> 14932370
A62: 전북청 | B62: 820600 | C62: 2178615 | D62: 407645 | E62: 2084890 | F62: 2064395 | G62: 1273645 | H62: 1962547 | I62: =SUM(B62:G62) -> 8829790
A63: 강원청 | B63: 565635 | C63: 2353030 | D63: 467950 | E63: 989875 | F63: 601400 | G63: 500990 | H63: 935489 | I63: =SUM(B63:G63) -> 5478880
A64: 제주청 | B64: 109410 | C64: 563780 | D64: 102620 | E64: 182245 | F64: 257950 | G64: 173565 | H64: 672945 | I64: =SUM(B64:G64) -> 1389570
A65: 합계 | B65: =SUM(B56:B64) -> 13873995 | C65: =SUM(C56:C64) -> 50427560 | D65: =SUM(D56:D64) -> 9623115 | E65: =SUM(E56:E64) -> 22402910 | F65: =SUM(F56:F64) -> 16730185 | G65: =SUM(G56:G64) -> 15624590 | H65: =SUM(H56:H64) -> 40715070 | I65: =SUM(B65:G65) -> 128682355
A67: o 수탁잡수입 : 알뜰폰(7월 누계) | J67: 7월 | K67: 7월 | L67: 6월
A68: 관서명 | B68: 1월 | C68: 2월 | D68: 3월 | E68: 4월 | F68: 5월 | G68: 6월 | H68: 7월 | I68: 합계 | J68: 단말기 | K68: 요금제 | L68: 연계수수료 | M68: 합계
A69: 서울청 | G69: =M69 -> 606851477 | I69: =SUM(B69:G69) -> 606851477 | J69: 113566940 | K69: 422748000 | L69: 70536537 | M69: =SUM(J69:L69) -> 606851477
A70: 경인청 | G70: =M70 -> 796094575 | I70: =SUM(B70:G70) -> 796094575 | J70: 154691030 | K70: 550895000 | L70: 90508545 | M70: =SUM(J70:L70) -> 796094575
A71: 부산청 | G71: =M71 -> 406923419 | I71: =SUM(B71:G71) -> 406923419 | J71: 83818740 | K71: 276712000 | L71: 46392679 | M71: =SUM(J71:L71) -> 406923419
A72: 충청청 | G72: =M72 -> 289970352 | I72: =SUM(B72:G72) -> 289970352 | J72: 56969060 | K72: 196030000 | L72: 36971292 | M72: =SUM(J72:L72) -> 289970352
A73: 전남청 | G73: =M73 -> 145127793 | I73: =SUM(B73:G73) -> 145127793 | J73: 28704590 | K73: 99096000 | L73: 17327203 | M73: =SUM(J73:L73) -> 145127793
A74: 경북청 | G74: =M74 -> 305019187 | I74: =SUM(B74:G74) -> 305019187 | J74: 62238890 | K74: 209831000 | L74: 32949297 | M74: =SUM(J74:L74) -> 305019187
A75: 전북청 | G75: =M75 -> 104964273 | I75: =SUM(B75:G75) -> 104964273 | J75: 20381790 | K75: 73156000 | L75: 11426483 | M75: =SUM(J75:L75) -> 104964273
A76: 강원청 | G76: =M76 -> 88308105 | I76: =SUM(B76:G76) -> 88308105 | J76: 19377010 | K76: 58293000 | L76: 10638095 | M76: =SUM(J76:L76) -> 88308105
A77: 제주청 | G77: =M77 -> 26610726 | I77: =SUM(B77:G77) -> 26610726 | J77: 6466400 | K77: 16403000 | L77: 3741326 | M77: =SUM(J77:L77) -> 26610726
A78: 합계 | G78: =SUM(G69:G77) -> 2769869907 | I78: =SUM(B78:G78) -> 2769869907 | J78: =SUM(J69:J77) -> 546214450 | K78: =SUM(K69:K77) -> 1903164000 | L78: =SUM(L69:L77) -> 320491457 | M78: =SUM(M69:M77) -> 2769869907
A80: o 수탁잡수입 : 중고휴대폰 매입수수료
A81: 관서명 | B81: 5월 | C81: 6월 | D81: 7월 | E81: 8월 | F81: 9월 | G81: 10월 | H81: 7월 | I81: 합계
A82: 서울청 | B82: 2748000 | C82: 2220000 | D82: 2172000 | I82: =SUM(B82:G82) -> 7140000
A83: 경인청 | B83: 3972000 | C83: 2652000 | D83: 2028000 | I83: =SUM(B83:G83) -> 8652000
A84: 부산청 | B84: 2100000 | C84: 1704000 | D84: 1836000 | I84: =SUM(B84:G84) -> 5640000
A85: 충청청 | B85: 1584000 | C85: 972000 | D85: 1272000 | I85: =SUM(B85:G85) -> 3828000
A86: 전남청 | B86: 708000 | C86: 864000 | D86: 672000 | I86: =SUM(B86:G86) -> 2244000
A87: 경북청 | B87: 1824000 | C87: 1200000 | D87: 1248000 | I87: =SUM(B87:G87) -> 4272000
A88: 전북청 | B88: 516000 | C88: 396000 | D88: 360000 | I88: =SUM(B88:G88) -> 1272000
A89: 강원청 | B89: 576000 | C89: 432000 | D89: 456000 | I89: =SUM(B89:G89) -> 1464000
A90: 제주청 | B90: 240000 | C90: 300000 | D90: 192000 | I90: =SUM(B90:G90) -> 732000
A91: 합계 | B91: =SUM(B82:B90) -> 14268000 | C91: =SUM(C82:C90) -> 10740000 | D91: =SUM(D82:D90) -> 10236000 | I91: =SUM(B91:G91) -> 35244000
A93: o 수탁잡수입 : 우정청 자체발굴 수탁상품
A94: 관서명 | B94: 1월 | C94: 2월 | D94: 3월 | E94: 4월 | F94: 5월 | G94: 6월 | H94: 7월 | I94: 합계
A95: 서울청 | B95: 104450 | C95: 181400 | D95: 238000 | E95: 247100 | F95: 1055250 | G95: 45650 | H95: 481800 | I95: =SUM(B95:H95) -> 2353650
A96: 경인청 | B96: 51150 | C96: 4800 | D96: 19800 | E96: 1200 | F96: 150 | H96: 9300 | I96: =SUM(B96:H96) -> 86400
A97: 부산청 | I97: =SUM(B97:H97) -> 0
A98: 충청청 | I98: =SUM(B98:H98) -> 0
A99: 전남청 | I99: =SUM(B99:H99) -> 0
A100: 경북청 | I100: =SUM(B100:H100) -> 0
A101: 전북청 | I101: =SUM(B101:H101) -> 0
A102: 강원청 | I102: =SUM(B102:H102) -> 0
A103: 제주청 | I103: =SUM(B103:H103) -> 0
A104: 합계 | B104: =SUM(B95:B103) -> 155600 | C104: =SUM(C95:C103) -> 186200 | D104: =SUM(D95:D103) -> 257800 | E104: =SUM(E95:E103) -> 248300 | F104: =SUM(F95:F103) -> 1055400 | G104: =SUM(G95:G103) -> 45650 | H104: =SUM(H95:H103) -> 491100 | I104: =SUM(B104:H104) -> 2440050

Sheet 2014잡수익(청별)
A1: 청별 잡수익 현황(2014년실적)
A2: 2014년 총괄 | F2: 7월누계
A3: 관서명 | B3: 우편영업잡수입 | C3: 수탁잡수입 | D3: 합계 | F3: 관서명 | G3: 우편영업잡수입 | H3: 수탁잡수입 | I3: 합계
A4: 서울청 | B4: =SUM(N17,N30) -> 676492380 | C4: =SUM(N43,N56,E109,N82,N95) -> 1010842787 | D4: =SUM(B4:C4) -> 1687335167 | F4: 서울청 | G4: =SUM(B30:H30,B17:H17) -> 355709110 | H4: =SUM(B43:H43,B56:H56,N69,B95:H95) -> 591453634 | I4: =SUM(G4:H4) -> 947162744
A5: 경인청 | B5: =SUM(N18,N31) -> 167472710 | C5: =SUM(N44,N57,E110,N83,N96) -> 1210752539 | D5: =SUM(B5:C5) -> 1378225249 | F5: 경인청 | G5: =SUM(B31:H31,B18:H18) -> 106101840 | H5: =SUM(B44:H44,B57:H57,N70,B96:H96) -> 712802501 | I5: =SUM(G5:H5) -> 818904341
A6: 부산청 | B6: =SUM(N19,N32) -> 175422900 | C6: =SUM(N45,N58,E111,N84,N97) -> 666989032 | D6: =SUM(B6:C6) -> 842411932 | F6: 부산청 | G6: =SUM(B32:H32,B19:H19) -> 78573620 | H6: =SUM(B45:H45,B58:H58,N71,B97:H97) -> 378212927 | I6: =SUM(G6:H6) -> 456786547
A7: 충청청 | B7: =SUM(N20,N33) -> 343652700 | C7: =SUM(N46,N59,E112,N85,N98) -> 514088533 | D7: =SUM(B7:C7) -> 857741233 | F7: 충청청 | G7: =SUM(B33:H33,B20:H20) -> 222547960 | H7: =SUM(B46:H46,B59:H59,N72,B98:H98) -> 300868113 | I7: =SUM(G7:H7) -> 523416073
A8: 전남청 | B8: =SUM(N21,N34) -> 64573150 | C8: =SUM(N47,N60,E113,N86,N99) -> 254664823 | D8: =SUM(B8:C8) -> 319237973 | F8: 전남청 | G8: =SUM(B34:H34,B21:H21) -> 38820060 | H8: =SUM(B47:H47,B60:H60,N73,B99:H99) -> 146225183 | I8: =SUM(G8:H8) -> 185045243
A9: 경북청 | B9: =SUM(N22,N35) -> 139359920 | C9: =SUM(N48,N61,E114,N87,N100) -> 502033597 | D9: =SUM(B9:C9) -> 641393517 | F9: 경북청 | G9: =SUM(B35:H35,B22:H22) -> 58412720 | H9: =SUM(B48:H48,B61:H61,N74,B100:H100) -> 287746753 | I9: =SUM(G9:H9) -> 346159473
A10: 전북청 | B10: =SUM(N23,N36) -> 111032770 | C10: =SUM(N49,N62,E115,N88,N101) -> 186152800 | D10: =SUM(B10:C10) -> 297185570 | F10: 전북청 | G10: =SUM(B36:H36,B23:H23) -> 39642210 | H10: =SUM(B49:H49,B62:H62,N75,B101:H101) -> 108599593 | I10: =SUM(G10:H10) -> 148241803
A11: 강원청 | B11: =SUM(N24,N37) -> 163177640 | C11: =SUM(N50,N63,E116,N89,N102) -> 146613108 | D11: =SUM(B11:C11) -> 309790748 | F11: 강원청 | G11: =SUM(B37:H37,B24:H24) -> 107114680 | H11: =SUM(B50:H50,B63:H63,N76,B102:H102) -> 84497754 | I11: =SUM(G11:H11) -> 191612434
A12: 제주청 | B12: =SUM(N25,N38) -> 57214230 | C12: =SUM(N51,N64,E117,N90,N103) -> 53044956 | D12: =SUM(B12:C12) -> 110259186 | F12: 제주청 | G12: =SUM(B38:H38,B25:H25) -> 46118430 | H12: =SUM(B51:H51,B64:H64,N77,B103:H103) -> 34180151 | I12: =SUM(G12:H12) -> 80298581
A13: 합계 | B13: =SUM(B4:B12) -> 1898398400 | C13: =SUM(C4:C12) -> 4545182175 | D13: =SUM(D4:D12) -> 6443580575 | F13: 합계 | G13: =SUM(G4:G12) -> 1053040630 | H13: =SUM(H4:H12) -> 2644586609 | I13: =SUM(I4:I12) -> 3697627239
A15: o 우편영업잡수입 : 나만의 우표
A16: 관서명 | B16: 1월 | C16: 2월 | D16: 3월 | E16: 4월 | F16: 5월 | G16: 6월 | H16: 7월 | I16: 8월 | J16: 9월 | K16: 10월 | L16: 11월 | M16: 12월 | N16: 합계
A17: 서울청 | B17: 26626600 | C17: 75424000 | D17: 23432200 | E17: 22827800 | F17: 15189900 | G17: 18371200 | H17: 34637400 | I17: 59155800 | J17: 10610600 | K17: 4224400 | L17: 27965200 | M17: 66270100 | N17: =SUM(B17:M17) -> 384735200
A18: 경인청 | B18: 34827700 | C18: 1706400 | D18: 12462800 | E18: 4185700 | F18: 3154300 | G18: 10399100 | H18: 418000 | I18: 1146300 | J18: 2737000 | K18: 11924800 | L18: 6942800 | M18: 12368400 | N18: =SUM(B18:M18) -> 102273300
A19: 부산청 | B19: 10366000 | C19: 725300 | D19: 616600 | E19: 1214300 | F19: 1662900 | G19: 1750900 | H19: 4938000 | I19: 2875000 | J19: 15232800 | K19: 5941600 | L19: 2157900 | M19: 30303300 | N19: =SUM(B19:M19) -> 77784600
A20: 충청청 | B20: 27904100 | C20: 1564500 | D20: 2206000 | E20: 3862600 | F20: 95681400 | G20: 1232800 | H20: 1581900 | I20: 675100 | J20: 1299300 | K20: 4840800 | L20: 2272200 | M20: 14411500 | N20: =SUM(B20:M20) -> 157532200
A21: 전남청 | B21: 2495300 | C21: 527100 | D21: 58300 | E21: 19800 | F21: 5153300 | G21: 554500 | H21: 5500 | I21: 1104800 | J21: 634400 | K21: 294100 | L21: 2555700 | M21: 1710300 | N21: =SUM(B21:M21) -> 15113100
A22: 경북청 | B22: 2536600 | C22: 331200 | D22: 3338000 | E22: 890000 | F22: 9422800 | G22: 1906500 | H22: 1142600 | I22: 1120300 | J22: 7588100 | K22: 15991800 | L22: 8236900 | M22: 3962300 | N22: =SUM(B22:M22) -> 56467100
A23: 전북청 | B23: 136600 | C23: 1165500 | D23: 174600 | E23: 4298600 | F23: 260800 | G23: 42600 | H23: 498800 | I23: 3462200 | J23: 10577100 | K23: 2970200 | L23: 10877400 | M23: 7195900 | N23: =SUM(B23:M23) -> 41660300
A24: 강원청 | B24: 11729900 | C24: 1266600 | D24: 665000 | E24: 4840800 | F24: 1194600 | G24: 3819500 | H24: 4081400 | I24: 13157800 | J24: 2823600 | K24: 2896000 | L24: 3032500 | M24: 3316700 | N24: =SUM(B24:M24) -> 52824400
A25: 제주청 | B25: 29409700 | C25: 4414400 | D25: 255000 | E25: 349400 | F25: 96300 | G25: 255000 | H25: 85000 | I25: 179500 | J25: 176200 | K25: 0 | L25: 0 | M25: 575000 | N25: =SUM(B25:M25) -> 35795500
A26: 합계 | B26: =SUM(B17:B25) -> 146032500 | C26: =SUM(C17:C25) -> 87125000 | D26: =SUM(D17:D25) -> 43208500 | E26: =SUM(E17:E25) -> 42489000 | F26: =SUM(F17:F25) -> 131816300 | G26: =SUM(G17:G25) -> 38332100 | H26: =SUM(H17:H25) -> 47388600 | I26: =SUM(I17:I25) -> 82876800 | ... M26: =SUM(M17:M25) -> 140113500 | N26: =SUM(B26:M26) -> 924185700
A28: o 우편영업잡수입 : 맞춤형 엽서
A29: 관서명 | B29: 1월 | C29: 2월 | D29: 3월 | E29: 4월 | F29: 5월 | G29: 6월 | H29: 7월 | I29: 8월 | J29: 9월 | K29: 10월 | L29: 11월 | M29: 12월 | N29: 합계
A30: 서울청 | B30: 22268000 | C30: 1339380 | D30: 4104400 | E30: 91428960 | F30: 7055130 | G30: 9380320 | H30: 3623820 | I30: 4753130 | J30: 6590110 | K30: 13069550 | L30: 96982360 | M30: 31162020 | N30: =SUM(B30:M30) -> 291757180
A31: 경인청 | B31: 7936760 | C31: 747030 | D31: 3871680 | E31: 15894420 | F31: 9485020 | G31: 817730 | H31: 195200 | I31: 8173230 | J31: 0 | K31: 6924560 | L31: 9157880 | M31: 1995900 | N31: =SUM(B31:M31) -> 65199410
A32: 부산청 | B32: 3034190 | C32: 1775400 | D32: 1532070 | E32: 37254550 | F32: 1196710 | G32: 404400 | H32: 12102300 | I32: 3492990 | J32: 23453340 | K32: 5217000 | L32: 4519600 | M32: 3655750 | N32: =SUM(B32:M32) -> 97638300
A33: 충청청 | B33: 14297960 | C33: 7475310 | D33: 9224600 | E33: 18437140 | F33: 20023180 | G33: 12373790 | H33: 6682680 | I33: 14596020 | J33: 2337610 | K33: 19062190 | L33: 24960610 | M33: 36649410 | N33: =SUM(B33:M33) -> 186120500
A34: 전남청 | B34: 5668740 | C34: 1802860 | D34: 3855640 | E34: 3664200 | F34: 7011200 | G34: 4980920 | H34: 3022700 | I34: 2632040 | J34: 2329200 | K34: 3231000 | L34: 4882890 | M34: 6378660 | N34: =SUM(B34:M34) -> 49460050
A35: 경북청 | B35: 8909400 | C35: 3518880 | D35: 8775000 | E35: 9709850 | F35: 4038890 | G35: 2758000 | H35: 1135000 | I35: 0 | J35: 6092120 | K35: 25387570 | L35: 2010130 | M35: 10557980 | N35: =SUM(B35:M35) -> 82892820
A36: 전북청 | B36: 8746680 | C36: 1387600 | D36: 2558090 | E36: 9752470 | F36: 6364970 | G36: 1062130 | H36: 3192770 | I36: 11883160 | J36: 10605450 | K36: 10431500 | L36: 971710 | M36: 2415940 | N36: =SUM(B36:M36) -> 69372470
A37: 강원청 | B37: 2141800 | C37: 5035360 | D37: 8045830 | E37: 23997020 | F37: 29353840 | G37: 2484890 | H37: 8458140 | I37: 2132390 | J37: 2622500 | K37: 2928920 | L37: 2637290 | M37: 20515260 | N37: =SUM(B37:M37) -> 110353240
A38: 제주청 | B38: 106000 | C38: 477000 | D38: 159000 | E38: 5740790 | F38: 3920450 | G38: 496390 | H38: 354000 | I38: 159000 | J38: 7524100 | K38: 2442000 | L38: 40000 | M38: 0 | N38: =SUM(B38:M38) -> 21418730
A39: 합계 | B39: =SUM(B30:B38) -> 73109530 | C39: =SUM(C30:C38) -> 23558820 | D39: =SUM(D30:D38) -> 42126310 | E39: =SUM(E30:E38) -> 215879400 | F39: =SUM(F30:F38) -> 88449390 | G39: =SUM(G30:G38) -> 34758570 | H39: =SUM(H30:H38) -> 38766610 | I39: =SUM(I30:I38) -> 47821960 | ... M39: =SUM(M30:M38) -> 113330920 | N39: =SUM(B39:M39) -> 974212700
A41: o 수탁잡수입 : 문화상품권
A42: 관서명 | B42: 1월 | C42: 2월 | D42: 3월 | E42: 4월 | F42: 5월 | G42: 6월 | H42: 7월 | I42: 8월 | J42: 9월 | K42: 10월 | L42: 11월 | M42: 12월 | N42: 합계
A43: 서울청 | B43: 6549000 | C43: 8717400 | D43: 5883300 | E43: 6043800 | F43: 6835500 | G43: 7391100 | H43: 5956200 | I43: 4668600 | J43: 5822400 | K43: 5675400 | L43: 7083800 | M43: 14489750 | N43: =SUM(B43:M43) -> 85116250
A44: 경인청 | B44: 5921100 | C44: 10256100 | D44: 5543100 | E44: 5325000 | F44: 5902200 | G44: 5396100 | H44: 5303100 | I44: 4000500 | J44: 4992600 | K44: 6826500 | L44: 6182100 | M44: 12446150 | N44: =SUM(B44:M44) -> 78094550
A45: 부산청 | B45: 3830400 | C45: 7555500 | D45: 3454200 | E45: 4282200 | F45: 4809600 | G45: 4703700 | H45: 4136700 | I45: 2763900 | J45: 4033500 | K45: 4281600 | L45: 5260050 | M45: 8914400 | N45: =SUM(B45:M45) -> 58025750
A46: 충청청 | B46: 2943300 | C46: 5141400 | D46: 2895900 | E46: 2608200 | F46: 3731100 | G46: 2666400 | H46: 1921800 | I46: 2403900 | J46: 3016500 | K46: 2815500 | L46: 4114550 | M46: 6712800 | N46: =SUM(B46:M46) -> 40971350
A47: 전남청 | B47: 1860300 | C47: 2694600 | D47: 2088300 | E47: 1855200 | F47: 2185800 | G47: 1290600 | H47: 1725000 | I47: 1247400 | J47: 1708800 | K47: 2028900 | L47: 2087650 | M47: 4431800 | N47: =SUM(B47:M47) -> 25204350
A48: 경북청 | B48: 3165000 | C48: 6530100 | D48: 3696300 | E48: 3555900 | F48: 2843100 | G48: 3438900 | H48: 3795000 | I48: 2767200 | J48: 3494100 | K48: 3615300 | L48: 3048750 | M48: 7589850 | N48: =SUM(B48:M48) -> 47539500
A49: 전북청 | B49: 1564500 | C49: 2985000 | D49: 1366200 | E49: 1873200 | F49: 1579200 | G49: 1113000 | H49: 1561500 | I49: 2030400 | J49: 2083500 | K49: 2293500 | L49: 3471350 | M49: 3913600 | N49: =SUM(B49:M49) -> 25834950
A50: 강원청 | B50: 1080300 | C50: 3065400 | D50: 1056900 | E50: 1159200 | F50: 871500 | G50: 1029300 | H50: 1247100 | I50: 724800 | J50: 1074600 | K50: 1488900 | L50: 1527000 | M50: 1976600 | N50: =SUM(B50:M50) -> 16301600
A51: 제주청 | B51: 56400 | C51: 107400 | D51: 203700 | E51: 150300 | F51: 106200 | G51: 91500 | H51: 104100 | I51: 84900 | J51: 86700 | K51: 143100 | L51: 225900 | M51: 130900 | N51: =SUM(B51:M51) -> 1491100
A52: 합계 | B52: =SUM(B43:B51) -> 26970300 | C52: =SUM(C43:C51) -> 47052900 | D52: =SUM(D43:D51) -> 26187900 | E52: =SUM(E43:E51) -> 26853000 | F52: =SUM(F43:F51) -> 28864200 | G52: =SUM(G43:G51) -> 27120600 | H52: =SUM(H43:H51) -> 25750500 | I52: =SUM(I43:I51) -> 20691600 | ... M52: =SUM(M43:M51) -> 60605850 | N52: =SUM(B52:G52) -> 183048900
A54: o 수탁잡수입 : 온누리상품권
A55: 관서명 | B55: 1월 | C55: 2월 | D55: 3월 | E55: 4월 | F55: 5월 | G55: 6월 | H55: 7월 | I55: 8월 | J55: 9월 | K55: 10월 | L55: 11월 | M55: 12월 | N55: 합계
A56: 서울청 | B56: 5717440 | C56: 6269580 | D56: 1811735 | E56: 3291655 | F56: 7723620 | G56: 3611535 | H56: 2789390 | I56: 7579860 | J56: 8537000 | K56: 2458300 | L56: 3045210 | M56: 4081770 | N56: =SUM(B56:M56) -> 56917095
A57: 경인청 | B57: 6727905 | C57: 4987610 | D57: 1108965 | E57: 3511495 | F57: 1415005 | G57: 2570720 | H57: 3533670 | I57: 6156960 | J57: 7135140 | K57: 1759140 | L57: 2960060 | M57: 3700030 | N57: =SUM(B57:M57) -> 45566700
A58: 부산청 | B58: 3077545 | C58: 2830390 | D58: 1161050 | E58: 2954750 | F58: 896330 | G58: 2169000 | H58: 3422180 | I58: 5664470 | J58: 5036540 | K58: 1708720 | L58: 2852760 | M58: 3211910 | N58: =SUM(B58:M58) -> 34985645
A59: 충청청 | B59: 4284680 | C59: 3199080 | D59: 1802650 | E59: 5243315 | F59: 2843275 | G59: 2204430 | H59: 1984080 | I59: 4219580 | J59: 4017380 | K59: 1924600 | L59: 1484250 | M59: 3906070 | N59: =SUM(B59:M59) -> 37113390
A60: 전남청 | B60: 1823715 | C60: 2362400 | D60: 599800 | E60: 1920560 | F60: 1326000 | G60: 1675655 | H60: 2385550 | I60: 2293830 | J60: 2887250 | K60: 1268920 | L60: 1479520 | M60: 1986470 | N60: =SUM(B60:M60) -> 22009670
A61: 경북청 | B61: 1821515 | C61: 2399380 | D61: 1307105 | E61: 3281805 | F61: 862775 | G61: 1532280 | H61: 2607060 | I61: 3650310 | J61: 3904000 | K61: 1444740 | L61: 2641530 | M61: 3330530 | N61: =SUM(B61:M61) -> 28783030
A62: 전북청 | B62: 665790 | C62: 698980 | D62: 656745 | E62: 5839940 | F62: 659560 | G62: 1209635 | H62: 1293040 | I62: 2163250 | J62: 1922740 | K62: 584220 | L62: 1034900 | M62: 1194500 | N62: =SUM(B62:M62) -> 17923300
A63: 강원청 | B63: 1095200 | C63: 1303060 | D63: 977110 | E63: 738890 | F63: 575770 | G63: 419785 | H63: 487830 | I63: 848210 | J63: 1742980 | K63: 716970 | L63: 827010 | M63: 1214150 | N63: =SUM(B63:M63) -> 10946965
A64: 제주청 | B64: 261065 | C64: 278350 | D64: 56035 | E64: 205975 | F64: 2569875 | G64: 353045 | H64: 289765 | I64: 719460 | J64: 594300 | K64: 181160 | L64: 467145 | M64: 712215 | N64: =SUM(B64:M64) -> 6688390
A65: 합계 | B65: =SUM(B56:B64) -> 25474855 | C65: =SUM(C56:C64) -> 24328830 | D65: =SUM(D56:D64) -> 9481195 | E65: =SUM(E56:E64) -> 26988385 | F65: =SUM(F56:F64) -> 18872210 | G65: =SUM(G56:G64) -> 15746085 | H65: =SUM(H56:H64) -> 18792565 | I65: =SUM(I56:I64) -> 33295930 | ... M65: =SUM(M56:M64) -> 23337645 | N65: =SUM(B65:G65) -> 120891560
A67: o 수탁잡수입 : 알뜰폰(7월 누계) | O67: 7월 | P67: 7월 | Q67: 6월
A68: 관서명 | B68: 1월 | C68: 2월 | D68: 3월 | E68: 4월 | F68: 5월 | G68: 6월 | H68: 7월 | I68: 8월 | J68: 9월 | K68: 10월 | L68: 11월 | M68: 12월 | N68: 합계 | O68: 단말기 | P68: 요금제 | Q68: 연계수수료 | R68: 합계
A69: 서울청 | N69: =R69 -> 509591629 | O69: 84304710 | P69: 397230000 | Q69: 28056919 | R69: =SUM(O69:Q69) -> 509591629
A70: 경인청 | N70: =R70 -> 645095681 | O70: 113499820 | P70: 495090000 | Q70: 36505861 | R70: =SUM(O70:Q70) -> 645095681
A71: 부산청 | N71: =R71 -> 328929382 | O71: 63580180 | P71: 247370000 | Q71: 17979202 | R71: =SUM(O71:Q71) -> 328929382
A72: 충청청 | N72: =R72 -> 257398503 | O72: 52668320 | P72: 189800000 | Q72: 14930183 | R72: =SUM(O72:Q72) -> 257398503
A73: 전남청 | N73: =R73 -> 120361053 | O73: 24098270 | P73: 89500000 | Q73: 6762783 | R73: =SUM(O73:Q73) -> 120361053
A74: 경북청 | N74: =R74 -> 246910533 | O74: 48066090 | P74: 186220000 | Q74: 12624443 | R74: =SUM(O74:Q74) -> 246910533
A75: 전북청 | N75: =R75 -> 85533303 | O75: 17466440 | P75: 63940000 | Q75: 4126863 | R75: =SUM(O75:Q75) -> 85533303
A76: 강원청 | N76: =R76 -> 69390409 | O76: 14603600 | P76: 50570000 | Q76: 4216809 | R76: =SUM(O76:Q76) -> 69390409
A77: 제주청 | N77: =R77 -> 28083441 | O77: 5683880 | P77: 20410000 | Q77: 1989561 | R77: =SUM(O77:Q77) -> 28083441
A78: 합계 | G78: =SUM(G69:G77) -> 0 | N78: =R78 -> 2291293934 | O78: =SUM(O69:O77) -> 423971310 | P78: =SUM(P69:P77) -> 1740130000 | Q78: =SUM(Q69:Q77) -> 127192624 | R78: =SUM(R69:R77) -> 2291293934
A80: o 수탁잡수입 : 중고휴대폰 매입수수료
A81: 관서명 | B81: 5월 | C81: 6월 | D81: 7월 | E81: 8월 | F81: 9월 | G81: 10월 | H81: 7월 | I81: 8월 | J81: 9월 | K81: 10월 | L81: 11월 | M81: 12월 | N81: 합계
A82: 서울청 | N82: =SUM(B82:G82) -> 0
A83: 경인청 | N83: =SUM(B83:G83) -> 0
A84: 부산청 | N84: =SUM(B84:G84) -> 0
A85: 충청청 | N85: =SUM(B85:G85) -> 0
A86: 전남청 | N86: =SUM(B86:G86) -> 0
A87: 경북청 | N87: =SUM(B87:G87) -> 0
A88: 전북청 | N88: =SUM(B88:G88) -> 0
A89: 강원청 | N89: =SUM(B89:G89) -> 0
A90: 제주청 | N90: =SUM(B90:G90) -> 0
A91: 합계 | B91: =SUM(B82:B90) -> 0 | C91: =SUM(C82:C90) -> 0 | N91: =SUM(B91:G91) -> 0
A93: o 수탁잡수입 : 우정청 자체발굴 수탁상품
A94: 관서명 | B94: 1월 | C94: 2월 | D94: 3월 | E94: 4월 | F94: 5월 | G94: 6월 | H94: 7월 | I94: 8월 | J94: 9월 | K94: 10월 | L94: 11월 | M94: 12월 | N94: 합계
A95: 서울청 | B95: 816550 | C95: 892550 | D95: 217300 | E95: 888050 | F95: 185700 | G95: 118850 | H95: 151750 | I95: 170150 | J95: 99900 | K95: 4369450 | L95: 921950 | M95: 582900 | N95: =SUM(B95:M95) -> 9415100
A96: 경인청 | D96: 22050 | F96: 89850 | G96: 41700 | H96: 51150 | I96: 121800 | J96: 2335950 | K96: 149250 | L96: 7350 | M96: 9600 | N96: =SUM(B96:M96) -> 2828700
A97: 부산청 | H97: 0 | I97: 0 | J97: 0 | K97: 0 | L97: 0 | M97: 0 | N97: =SUM(B97:M97) -> 0
A98: 충청청 | H98: 0 | I98: 0 | J98: 0 | K98: 0 | L98: 0 | M98: 0 | N98: =SUM(B98:M98) -> 0
A99: 전남청 | B99: 70500 | D99: 150 | H99: 0 | I99: 0 | J99: 0 | K99: 0 | L99: 0 | M99: 0 | N99: =SUM(B99:M99) -> 70650
A100: 경북청 | H100: 0 | I100: 0 | J100: 0 | K100: 0 | L100: 0 | M100: 0 | N100: =SUM(B100:M100) -> 0
A101: 전북청 | H101: 0 | I101: 0 | J101: 0 | K101: 0 | L101: 0 | M101: 0 | N101: =SUM(B101:M101) -> 0
A102: 강원청 | H102: 0 | I102: 0 | J102: 0 | K102: 0 | L102: 0 | M102: 0 | N102: =SUM(B102:M102) -> 0
A103: 제주청 | B103: 1233000 | C103: 3000 | E103: 6000 | G103: 21000 | H103: 0 | I103: 6000 | J103: 6000 | K103: 21000 | L103: 3000 | M103: 144000 | N103: =SUM(B103:M103) -> 1443000
A104: 합계 | B104: =SUM(B95:B103) -> 2120050 | C104: =SUM(C95:C103) -> 895550 | D104: =SUM(D95:D103) -> 239500 | E104: =SUM(E95:E103) -> 894050 | F104: =SUM(F95:F103) -> 275550 | G104: =SUM(G95:G103) -> 181550 | H104: =SUM(H95:H103) -> 202900 | I104: =SUM(I95:I103) -> 297950 | ... M104: =SUM(M95:M103) -> 736500 | N104: =SUM(B104:M104) -> 13757450
A107: 알뜰(2014. 12월누계)
A108: 구분 | B108: 단말기 | C108: 요금제 | D108: 연계수수료 | E108: 합계
A109: 서울 | B109: 139196870 | C109: 636509000 | D109: 83688472 | E109: =SUM(B109:D109) -> 859394342
...

Sheet 총괄국
A1: 2015년도 총괄국별 국제우편 매출액 현황 (8월 누계)
U2: (단위 : 백만원, %)
A3: 우편매출액 계 | J3: 단위 : 백만원 | L3: 구분 | M3: 2014년 우편매출액 목표 | Q3: 2013년 실적 대비 | T3: 2013년 목표 대비
A4: 구분 | B4: 2014 목표 | C4: 2014실적 | D4: 달성률 | E4: 달성율순위 | G4: 전년동기 | H4: 증감 | I4: 성장률 | J4: 성장률 순위 | L4: 2014년도 우편매출액 목표 | M4: 통상 | N4: 소포 | O4: 국제 | P4: 계 | Q4: 실적 | R4: 증감 | S4: 증감률 | T4: 목표 | U4: 증감 | V4: 증감률
A5: 제주 | B5: =B12+B19+B27 -> 16374 | C5: =C12+C19+C27 -> #REF! | D5: =C5/B5 -> #REF! | E5: =RANK(D5,$D$5:$D$7) -> #REF! | G5: =G12+G19+G27 -> #REF! | H5: =C5-G5 -> #REF! | I5: =H5/G5 -> #REF! | J5: =RANK(I5,$I$5:$I$7) -> #REF! | L5: 제 주 | M5: 6250 | N5: 7824 | O5: 1962 | P5: 16036 | Q5: 16592 | R5: -556 | S5: -3.3510125 | T5: 16012 | U5: 24 | V5: 0.14988758
A6: 서귀포 | B6: =B13+B20+B28 -> 7752 | C6: =C13+C20+C28 -> #REF! | D6: =C6/B6 -> #REF! | E6: =RANK(D6,$D$5:$D$7) -> #REF! | G6: =G13+G20+G28 -> #REF! | H6: =C6-G6 -> #REF! | I6: =H6/G6 -> #REF! | J6: =RANK(I6,$I$5:$I$7) -> #REF! | L6: 서귀포 | M6: 1738 | N6: 5273 | O6: 651 | P6: 7662 | Q6: 7906 | R6: -244 | S6: -3.0862636 | T6: 7523 | U6: 139 | V6: 1.8476672
A7: 제주(집) | B7: =B14+B21+B29 -> 1175 | C7: =C14+C21+C29 -> #REF! | D7: =C7/B7 -> #REF! | E7: =RANK(D7,$D$5:$D$7) -> #REF! | G7: =G14+G21+G29 -> #REF! | H7: =C7-G7 -> #REF! | I7: =H7/G7 -> #REF! | J7: =RANK(I7,$I$5:$I$7) -> #REF! | L7: 집중국 | M7: 825 | N7: 237 | O7: 163 | P7: 1225 | Q7: 992 | R7: 233 | S7: 23.487903 | T7: 795 | U7: 430 | V7: 54.08805
A8: 계 | B8: =SUM(B5:B7) -> 25301 | C8: =SUM(C5:C7) -> #REF! | D8: =C8/B8 -> #REF! | G8: =SUM(G5:G7) -> #REF! | H8: =C8-G8 -> #REF! | I8: =H8/G8 -> #REF! | L8: 계 | M8: 8813 | N8: 13334 | O8: 2776 | P8: 24923 | Q8: 25490 | R8: -567 | S8: -2.2244017 | T8: 24330 | U8: 593 | V8: 2.4373202
A10: 통상 | B10: * 인터넷 미추천, 통신사무 배분실적 제외 | J10: 단위 : 백만원
A11: 구분 | B11: 2014 목표 | C11: 2014실적 | D11: 달성률 | E11: 달성율순위 순위 | G11: 전년동기 | H11: 증감 | I11: 증감률 | J11: 성장률순위
A12: 제주 | B12: 6250 | C12: =총괄국국제2015!#REF! -> #REF! | D12: =C12/B12 -> #REF! | E12: =RANK(D12,$D$12:$D$14) -> #REF! | G12: =총괄국국제2015!#REF! -> #REF! | H12: =C12-G12 -> #REF! | I12: =H12/G12 -> #REF! | J12: =RANK(I12,$I$12:$I$14) -> #REF!
A13: 서귀포 | B13: 1738 | C13: =총괄국국제2015!#REF! -> #REF! | D13: =C13/B13 -> #REF! | E13: =RANK(D13,$D$12:$D$14) -> #REF! | G13: =총괄국국제2015!#REF! -> #REF! | H13: =C13-G13 -> #REF! | I13: =H13/G13 -> #REF! | J13: =RANK(I13,$I$12:$I$14) -> #REF!
A14: 제주(집) | B14: 825 | C14: =총괄국국제2015!#REF! -> #REF! | D14: =C14/B14 -> #REF! | E14: =RANK(D14,$D$12:$D$14) -> #REF! | G14: =총괄국국제2015!#REF! -> #REF! | H14: =C14-G14 -> #REF! | I14: =H14/G14 -> #REF! | J14: =RANK(I14,$I$12:$I$14) -> #REF!
A15: 계 | B15: =SUM(B12:B14) -> 8813 | C15: =SUM(C12:C14) -> #REF! | D15: =C15/B15 -> #REF! | G15: =SUM(G12:G14) -> #REF! | H15: =SUM(H12:H14) -> #REF! | I15: =H15/G15 -> #REF!
A17: 소포 | B17: * 고중량(20kg초과) 제외 반영, 우체국쇼핑 실적 배분 조정에 따라 약간 변동 가능 | J17: 단위 : 백만원
A18: 구분 | B18: 2014 목표 | C18: 2014실적 | D18: 달성률 | E18: 달성율순위 | G18: 전년동기 | H18: 증감 | I18: 증감률 | J18: 성장률순위
A19: 제주 | B19: 7824 | C19: =총괄국국제2015!#REF! -> #REF! | D19: =C19/B19 -> #REF! | E19: =RANK(D19,$D$19:$D$21) -> #REF! | G19: =총괄국국제2015!#REF! -> #REF! | H19: =C19-G19 -> #REF! | I19: =H19/G19 -> #REF! | J19: =RANK(I19,$I$19:$I$21) -> #REF!
A20: 서귀포 | B20: 5273 | C20: =총괄국국제2015!#REF! -> #REF! | D20: =C20/B20 -> #REF! | E20: =RANK(D20,$D$19:$D$21) -> #REF! | G20: =총괄국국제2015!#REF! -> #REF! | H20: =C20-G20 -> #REF! | I20: =H20/G20 -> #REF! | J20: =RANK(I20,$I$19:$I$21) -> #REF!
A21: 제주(집) | B21: 237 | C21: =총괄국국제2015!#REF! -> #REF! | D21: =C21/B21 -> #REF! | E21: =RANK(D21,$D$19:$D$21) -> #REF! | G21: =총괄국국제2015!#REF! -> #REF! | H21: =C21-G21 -> #REF! | I21: =H21/G21 -> #REF! | J21: =RANK(I21,$I$19:$I$21) -> #REF!
A22: 계 | B22: =SUM(B19:B21) -> 13334 | C22: =SUM(C19:C21) -> #REF! | D22: =C22/B22 -> #REF! | G22: =SUM(G19:G21) -> #REF! | H22: =C22-G22 -> #REF! | I22: =H22/G22 -> #REF!
A24: 국제 | I24: (단위 : 백만원, %)
A25: 구분 | B25: 2015년 실적 | F25: 2014년 실적 | I25: 증감률 | J25: 증감률순위
B26: 2015년목표 | C26: 2015년실적 | D26: 달성률 | E26: 달성률순위 | F26: 2014년목표 | G26: 2014년실적 | H26: 달성률
A27: 제주 | B27: 2300 | C27: =총괄국국제2015!F16/1000000 -> 1654.0341 | D27: =C27/B27 -> 0.71914528 | E27: =RANK(D27,$D$27:$D$29) -> 1 | F27: 1962 | G27: =총괄국국제2014!F15/1000000 -> 1303.0224 | H27: =G27/F27 -> 0.66412967 | I27: =(C27-G27)/G27 -> 0.26938273 | J27: =RANK(I27,$I$27:$I$29) -> 1
A28: 서귀포 | B28: 741 | C28: =총괄국국제2015!F17/1000000 -> 460.16676 | D28: =C28/B28 -> 0.62100777 | E28: =RANK(D28,$D$27:$D$29) -> 2 | F28: 651 | G28: =총괄국국제2014!F16/1000000 -> 431.39136 | H28: =G28/F28 -> 0.66265954 | I28: =(C28-G28)/G28 -> 0.0667037 | J28: =RANK(I28,$I$27:$I$29) -> 2
A29: 제주(집) | B29: 113 | C29: =총괄국국제2015!F15/1000000 -> 17.31091 | D29: =C29/B29 -> 0.15319389 | E29: =RANK(D29,$D$27:$D$29) -> 3 | F29: 163 | G29: =총괄국국제2014!F14/1000000 -> 71.20182 | H29: =G29/F29 -> 0.43682098 | I29: =(C29-G29)/G29 -> -0.75687546 | J29: =RANK(I29,$I$27:$I$29) -> 3
A30: 계 | B30: =SUM(B27:B29) -> 3154 | C30: =SUM(C27:C29) -> 2131.5118 | D30: =C30/B30 -> 0.67581224 | F30: =SUM(F27:F29) -> 2776 | G30: =SUM(G27:G29) -> 1805.6156 | H30: =G30/F30 -> 0.65043789 | I30: =(C30-G30)/G30 -> 0.18049037
A33: 가중치실적 | H33: (단위 : 백만원, %)
A34: 구분 | B34: 가중치 적용실적(ems:1.02) | F34: 수익성평가
B35: 통상 | C35: 소포 | D35: ems | E35: 가중치실적 | F35: 8점 | G35: 2점 | H35: 10점 | I35: 순위
A36: 제주 | B36: =총괄국국제2015!B16/1000000 -> 41.38778 | C36: =총괄국국제2015!C16/1000000 -> 69.86945 | D36: =총괄국국제2015!D16/1000000 -> 1330.6517 | E36: =SUM(B36,C36,D36*1.02) -> 1468.5219 | F36: =C27/B27*8 -> 5.7531623 | G36: =E36/B27*2 -> 1.2769756 | H36: =F36+G36 -> 7.0301379 | I36: =RANK(H36,$H$36:$H$38) -> 1
A37: 서귀포 | B37: =총괄국국제2015!B17/1000000 -> 6.17479 | C37: =총괄국국제2015!C17/1000000 -> 29.6939 | D37: =총괄국국제2015!D17/1000000 -> 372.83654 | E37: =SUM(B37,C37,D37*1.02) -> 416.16196 | F37: =C28/B28*8 -> 4.9680622 | G37: =E37/B28*2 -> 1.1232442 | H37: =F37+G37 -> 6.0913063 | I37: =RANK(H37,$H$36:$H$38) -> 2
A38: 제주(집) | B38: =총괄국국제2015!B15/1000000 -> 2.49074 | C38: =총괄국국제2015!C15/1000000 -> 0 | D38: =총괄국국제2015!D15/1000000 -> 14.4808 | E38: =SUM(B38,C38,D38*1.02) -> 17.261156 | F38: =C29/B29*8 -> 1.2255512 | G38: =E38/B29*2 -> 0.30550719 | H38: =F38+G38 -> 1.5310583 | I38: =RANK(H38,$H$36:$H$38) -> 3
A39: 계 | B39: =SUM(B36:B38) -> 50.05331 | C39: =SUM(C36:C38) -> 99.56335 | D39: =SUM(D36:D38) -> 1717.969 | E39: =SUM(B39,C39,D39*1.02) -> 1901.9451 | F39: =C30/B30*8 -> 5.406498 | G39: =E39/B30*2 -> 1.2060527 | H39: =F39+G39 -> 6.6125506
A42: 잡수익 | H42: (단위 : 백만원, %)
A43: 구분 | B43: 2015년 실적 | E43: 2014년 실적 | H43: 증감
B44: 우편잡수익 | C44: 수탁잡수익 | D44: 합계 | E44: 우편잡수익 | F44: 수탁잡수익 | G44: 합계 | H44: 증감액 | I44: 증감률
A45: 제주 | B45: ='2015잡수익(총괄국별)'!B4/1000000 -> 1.1751 | C45: ='2015잡수익(총괄국별)'!C4/1000000 -> 24.204065 | D45: =SUM(B45:C45) -> 25.379165 | E45: ='2014잡수익(총괄국별)'!G4/1000000 -> 37.45219 | F45: ='2014잡수익(총괄국별)'!H4/1000000 -> 27.734176 | G45: =SUM(E45:F45) -> 65.186366 | H45: =C45-G45 -> -40.982301 | I45: =H45/G45*100 -> -62.869437
A46: 서귀포 | B46: ='2015잡수익(총괄국별)'!B5/1000000 -> 0.58539 | C46: ='2015잡수익(총괄국별)'!C5/1000000 -> 5.943531 | D46: =SUM(B46:C46) -> 6.528921 | E46: ='2014잡수익(총괄국별)'!G5/1000000 -> 8.66624 | F46: ='2014잡수익(총괄국별)'!H5/1000000 -> 6.445975 | G46: =SUM(E46:F46) -> 15.112215 | H46: =C46-G46 -> -9.168684 | I46: =H46/G46*100 -> -60.670683
A47: 계 | B47: =SUM(B45:B46) -> 1.76049 | C47: =SUM(C45:C46) -> 30.147596 | D47: =SUM(D45:D46) -> 31.908086 | E47: =SUM(E45:E46) -> 46.11843 | F47: =SUM(F45:F46) -> 34.180151 | G47: =SUM(G45:G46) -> 80.298581 | H47: =SUM(H45:H46) -> -50.150985 | I47: =H47/G47*100 -> -62.45563

Sheet 총괄국국제2015
A1: 구분1 | B1: 구분2 | C1: 구분3 | D1: 국내일반통상빠른우편 | E1: 국내일반통상빠른우편 | F1: 국내일반통상보통우편 | G1: 국내일반통상보통우편 | H1: 국내일반통상무료우편물수 | I1: 국내일반통상무료우편요금 | J1: 국내일반통상우편물수소계 | K1: 국내일반통상우편요금소계 | L1: 국내특수통상빠른우편물수 | M1: 국내특수통상빠른우편요금 | N1: 국내특수통상보통우편물수 | O1: 국내특수통상보통우편요금 | P1: 국내특수통상무료우편물수 | Q1: 국내특수통상무료우편요금 | R1: 국내특수통상우편물수소계 | S1: 국내특수통상우편요금소계 | T1: 국내일반소포빠른우편물수 | U1: 국내일반소포빠른우편요금 | V1: 국내일반소포보통우편물수 | W1: 국내일반소포보통우편요금 | X1: 국내일반소포무료우편물수 | Y1: 국내일반소포무료우편요금 | Z1: 국내일반소포우편물수소계 | AA1: 국내일반소포우편요금소계 | AB1: 국내등기소포빠른우편물수 | AC1: 국내등기소포빠른우편요금 | AD1: 국내등기소포보통우편물수 | AE1: 국내등기소포보통우편요금 | AF1: 국내등기소포무료우편물수 | AG1: 국내등기소포무료우편요금 | AH1: 국내등기소포우편물수소계 | AI1: 국내등기소포우편요금소계 | AJ1: 국내빠른우편물수합계 | AK1: 국내빠른우편요금합계 | AL1: 국내보통우편물수합계 | AM1: 국내보통우편요금합계 | AN1: 국내무료우편물수합계 | AO1: 국내무료우편요금합계 | AP1: 국내종별우편물수합계 | AQ1: 국내종별우편요금합계 | AR1: 일반통상e-그린우편물수 | AS1: 일반통상e-그린우편요금 | AT1: 창구수집물량 | AU1: 창구수집요금 | AV1: 일반통상군사우편물수 | AW1: 일반통상군사우편요금 | AX1: 집배원수집물량 | AY1: 집배원수집요금 | AZ1: 일반통상경조우편카드물수 | BA1: 일반통상경조우편카드요금 | BB1: 연하카드물수 | BC1: 연하카드요금 | BD1: 일반통상선거우편물물수 | BE1: 일반통상선거우편물요금 | BF1: 수집(창구.집배)요금 | BG1: 특수통상통화등기물수 | BH1: 특수통상통화등기요금 | BI1: 특수통상물품등기물수 | BJ1: 특수통상물품등기요금 | BK1: 특수통상유가증권등기물수 | BL1: 특수통상유가증권등기요금 | BM1: 특수통상대금교환물수 | BN1: 특수통상대금교환요금 | BO1: 특수통상내용증명물수 | BP1: 특수통상내용증명요금 | BQ1: 특수통상접수시각증명물수 | BR1: 특수통상접수시각증명요금 | BS1: 특수통상배달증명물수 | BT1: 특수통상배달증명요금 | BU1: 특수통상선거우편물물수 | BV1: 특수통상선거우편물요금 | BW1: 당일특급통상물량 | BX1: 당일특급통상요금 | BY1: 익일오전특급물수 | BZ1: 익일오전특급요금 | CA1: 특수통상특별송달물수 | CB1: 특수통상특별송달요금 | CC1: 특수통상민원우편발송물수 | CD1: 특수통상민원우편발송요금 | CE1: 특수통상경조우편카드물수 | CF1: 특수통상경조우편카드요금 | CG1: Fax우편물수 | CH1: Fax우편요금 | CI1: 특수통상e-그린우편물수 | CJ1: 특수통상e-그린우편요금 | CK1: 소포대금교환물수 | CL1: 소포대금교환요금 | CM1: 소포접수시각증명물수 | CN1: 소포접수시각증명요금 | CO1: 소포배달증명물수 | CP1: 소포배달증명요금 | CQ1: 소포선거우편물물수 | CR1: 소포선거우편물요금 | CS1: 소포당일특급물수 | CT1: 소포당일특급요금 | CU1: 소포익일오전특급물수 | CV1: 소포익일오전특급요금 | CW1: 소포우체국택배물수 | CX1: 소포우체국택배요금 | CY1: 합장소포물수 | CZ1: 합장소포물수 | DA1: 국내안심소포물수 | DB1: 국내안심소포요금 | DC1: 장정소포물수 | DD1: 장정소포요금 | DE1: 우체국쇼핑물수 | DF1: 우체국쇼핑요금 | DG1: 수취인지불소포물수 | DH1: 수취인지불소포요금 | DI1: 감액정기간행물수 | DJ1: 감액정기간행요금 | DK1: 감액서적우편물수 | DL1: 감액서적우편요금 | DM1: 감액다량우편물수 | DN1: 감액다량우편요금 | DO1: 감액여유우편물수 | DP1: 감액여유우편요금 | DQ1: 감액상품광고우편물수 | DR1: 감액홍보우편요금 | DS1: 감액의정보고서물수 | DT1: 감액의정보고서요금 | DU1: 감액비영리단체물수 | DV1: 감액비영리단체요금 | DW1: 감액소계물수 | DX1: 감액소계요금 | DY1: 감액소포우편물수 | DZ1: 감액소포우편요금 | EA1: 감액국제특급우편물수 | EB1: 감액국제특급우편요금 | EC1: 카탈로그계약물수 | ED1: 카탈로그계약요금 | EE1: 백화점상품안내서물수 | EF1: 백화점상품안내서물수 | EG1: 감액우편합계물수 | EH1: 감액우편합계요금 | EI1: 국제일반통상서장선편물수 | EJ1: 국제일반통상서장선편요금 | EK1: 국제일반통상서장SAL물수 | EL1: 국제일반통상서장SAL요금 | EM1: 국제일반통상서장항공편물수 | EN1: 국제일반통상서장항공편요금 | EO1: 국제일반통상서장합계물수 | EP1: 국제일반통상서장합계요금 | EQ1: 국제일반통상엽서선편물수 | ER1: 국제일반통상엽서선편요금 | ES1: 국제일반통상엽서SAL물수 | ET1: 국제일반통상엽서SAL요금 | EU1: 국제일반통상엽서항공편물수 | EV1: 국제일반통상엽서항공편요금 | EW1: 국제일반통상엽서합계물수 | EX1: 국제일반통상엽서합계요금 | EY1: 국제일반통상인쇄물선편물수 | EZ1: 국제일반통상인쇄물선편요금 | FA1: 국제일반통상인쇄물SAL물수 | FB1: 국제일반통상인쇄물SAL요금 | FC1: 국제일반통상인쇄물항공편물수 | FD1: 국제일반통상인쇄물항공편요금 | FE1: 국제일반통상인쇄물합계물수 | FF1: 국제일반통상인쇄물합계물수 | FG1: 국제일반통상소형포장물선편물수 | FH1: 국제일반통상소형포장물선편요금 | FI1: 국제일반통상소형포장물SAL물수 | FJ1: 국제일반통상소형포장물SAL요금 | FK1: 국제일반통상소형포장물항공편물수 | FL1: 국제일반통상소형포장물항공편요금 | FM1: 국제일반통상소형포장물합계물수 | FN1: 국제일반통상소형포장물합계요금 | FO1: 국제일반통상항공서간선편물수 | FP1: 국제일반통상항공서간선편요금 | FQ1: 국제일반통상항공서간SAL물수 | FR1: 국제일반통상항공서간SAL요금 | FS1: 국제일반통상항공서간항공편물수 | FT1: 국제일반통상항공서간항공편요금 | FU1: 국제일반통상항공서간합계물수 | FV1: 국제일반통상항공서간합계요금 | FW1: 국제일반통상우편자루인쇄물선편물수 | FX1: 국제일반통상우편자루인쇄물선편요금 | FY1: 국제일반통상우편자루인쇄물SAL물수 | FZ1: 국제일반통상우편자루인쇄물SAL요금 | GA1: 국제일반통상우편자루인쇄물항공편물수 | GB1: 국제일반통상우편자루인쇄물항공편요금 | GC1: 국제일반통상우편자루인쇄물합계물수 | GD1: 국제일반통상우편자루인쇄물합계요금 | GE1: 국제일반통상맹인용점자우편물선편물수 | GF1: 국제일반통상맹인용점자우편물선편요금 | GG1: 국제일반통상맹인용점자우편물SAL물수 | GH1: 국제일반통상맹인용점자우편물SAL요금 | GI1: 국제일반통상맹인용점자우편물항공편물수 | GJ1: 국제일반통상맹인용점자우편물항공편요금 | GK1: 국제일반통상맹인용점자우편물합계물수 | GL1: 국제일반통상맹인용점자우편물합계요금 | GM1: 국제일반통상선편소계물수 | GN1: 국제일반통상선편소계요금 | GO1: 국제일반통상SAL소계물수 | GP1: 국제일반통상SAL소계요금 | GQ1: 국제일반통상항공편소계물수 | GR1: 국제일반통상항공편소계요금 | GS1: 국제일반통상합계물수 | GT1: 국제일반통상합계요금 | GU1: 국제특수통상등기선편물수 | GV1: 국제특수통상등기선편요금 | GW1: 국제특수통상등기SAL물수 | GX1: 국제특수통상등기SAL요금 | GY1: 국제특수통상등기항공편물수 | GZ1: 국제특수통상등기항공편요금 | HA1: 국제특수통상등기합계물수 | HB1: 국제특수통상등기합계요금 | HC1: 국제특수통상기록배달선편물수 | HD1: 국제특수통상기록배달선편요금 | HE1: 국제특수통상기록배달SAL물수 | HF1: 국제특수통상기록배달SAL요금 | HG1: 국제특수통상기록배달항공편물수 | HH1: 국제특수통상기록배달항공편요금 | HI1: 국제특수통상기록배달합계물수 | HJ1: 국제특수통상기록배달합계요금 | HK1: 국제특수통상선편소계물수 | HL1: 국제특수통상선편소계요금 | HM1: 국제특수통상SAL소계물수 | HN1: 국제특수통상SAL소계요금 | HO1: 국제특수통상항공편소계물수 | HP1: 국제특수통상항공편소계요금 | HQ1: 국제특수통상합계물수 | HR1: 국제특수통상합계요금 | HS1: 국제K-Packet선편물수 | HT1: 국제K-Packet선편요금 | HU1: 국제K-Packet항공물수 | HV1: 국제K-Packet항공요금 | HW1: 일반통상요금수취인부담물수 | HX1: 일반통상요금수취인부담요금 | HY1: 특수통상요금수취인부담물수 | HZ1: 특수통상요금수취인부담요금 | IA1: 특수통상계약등기물수 | IB1: 특수통상계약등기요금 | IC1: 특수통상일반계약등기물수 | ID1: 특수통상일반계약등기요금 | IE1: 특수통상맞춤형계약등기물수 | IF1: 특수통상맞춤형계약등기요금 | IG1: 특수통상익일특급물수 | IH1: 특수통상익일특급요금 | II1: 소포꽃배달물수 | IJ1: 소포꽃배달요금
A2: 제주청 | B2: 제주우편집중국 | D2: 0 | E2: 0 | F2: 883890 | G2: 249754200 | H2: 6471 | I2: 0 | J2: 890361 | K2: 249754200 | L2: 0 | M2: 0 | N2: 9290 | O2: 21202560 | P2: 6443 | Q2: 0 | R2: 15733 | S2: 21202560 | T2: 0 | U2: 0 | V2: 1389 | W2: 3101330 | X2: 241 | Y2: 0 | Z2: 1630 | AA2: 3101330 | AB2: 23226 | AC2: 94696230 | AD2: 0 | AE2: 0 | AF2: 1020 | AG2: 0 | AH2: 24246 | AI2: 94696230 | AJ2: 23226 | AK2: 94696230 | AL2: 894569 | AM2: 274058090 | AN2: 14175 | AO2: 0 | AP2: 931970 | AQ2: 368754320 | AR2: 64254 | AS2: 22684670 | AT2: 0 | AU2: 0 | AV2: 0 | AW2: 0 | AX2: 27734 | AY2: 0 | AZ2: 0 | BA2: 0 | BB2: 0 | BC2: 0 | BD2: 31549 | BE2: 15599070 | BF2: -1506210 | BG2: 0 | BH2: 0 | BI2: 0 | BJ2: 0 | BK2: 0 | BL2: 0 | BM2: 0 | BN2: 0 | BO2: 211 | BP2: 320450 | BQ2: 0 | BR2: 0 | BS2: 308 | BT2: 400400 | BU2: 2 | BV2: 3860 | BW2: 59 | BX2: 123310 | BY2: 0 | BZ2: 0 | CA2: 0 | CB2: 0 | CC2: 0 | CD2: 0 | CE2: 0 | CF2: 0 | CG2: 0 | CH2: 0 | CI2: 1036 | CJ2: 2458180 | CK2: 0 | CL2: 0 | CM2: 0 | CN2: 0 | CO2: 0 | CP2: 0 | CQ2: 0 | CR2: 0 | CS2: 66 | CT2: 132000 | CU2: 0 | CV2: 0 | CW2: 22437 | CX2: 91363610 | CY2: 0 | CZ2: 0 | DA2: 2 | DB2: 14300 | DC2: 0 | DD2: 0 | DE2: 42 | DF2: 330000 | DG2: 17214 | DH2: 8315000 | DI2: 381985 | DJ2: 80725920 | DK2: 20583 | DL2: 11275670 | DM2: 11727 | DN2: 4868000 | DO2: 0 | DP2: 0 | DQ2: 0 | DR2: 0 | DS2: 68093 | DT2: 8763570 | DU2: 25197 | DV2: 7585540 | DW2: 507585 | DX2: 113218700 | DY2: 4574 | DZ2: 28448410 | EA2: 0 | EB2: 0 | EC2: 0 | ED2: 0 | EE2: 0 | EF2: 0 | EG2: 512159 | EH2: 141667110 | EI2: 0 | EJ2: 0 | EK2: 0 | EL2: 0 | EM2: 1795 | EN2: 5390 | EO2: 1795 | EP2: 5390 | EQ2: 0 | ER2: 0 | ES2: 0 | ET2: 0 | EU2: 0 | EV2: 0 | EW2: 0 | EX2: 0 | EY2: 0 | EZ2: 0 | FA2: 0 | FB2: 0 | FC2: 1332 | FD2: 2480890 | FE2: 1332 | FF2: 2480890 | FG2: 0 | FH2: 0 | FI2: 0 | FJ2: 0 | FK2: 3 | FL2: 4460 | FM2: 3 | FN2: 4460 | FO2: 0 | FP2: 0 | FQ2: 0 | FR2: 0 | FS2: 0 | FT2: 0 | FU2: 0 | FV2: 0 | FW2: 0 | FX2: 0 | FY2: 0 | FZ2: 0 | GA2: 0 | GB2: 0 | GC2: 0 | GD2: 0 | GE2: 0 | GF2: 0 | GG2: 0 | GH2: 0 | GI2: 0 | GJ2: 0 | GK2: 0 | GL2: 0 | GM2: 0 | GN2: 0 | GO2: 0 | GP2: 0 | GQ2: 3130 | GR2: 2490740 | GS2: 3130 | GT2: 2490740 | GU2: 0 | GV2: 0 | GW2: 0 | GX2: 0 | GY2: 0 | GZ2: 0 | HA2: 0 | HB2: 0 | HC2: 0 | HD2: 0 | HE2: 0 | HF2: 0 | HG2: 0 | HH2: 0 | HI2: 0 | HJ2: 0 | HK2: 0 | HL2: 0 | HM2: 0 | HN2: 0 | HO2: 0 | HP2: 0 | HQ2: 0 | HR2: 0 | HS2: 0 | HT2: 0 | HU2: 0 | HV2: 0 | HW2: 0 | HX2: 0 | HY2: 23 | HZ2: 50510 | IA2: 0 | IB2: 0 | IC2: 0 | ID2: 0 | IE2: 0 | IF2: 0 | IG2: 2014 | IH2: 604200 | II2: 0 | IJ2: 0
A3: 제주청 | B3: 제주 | D3: 0 | E3: 0 | F3: 3676187 | G3: 1252795430 | H3: 180966 | I3: 0 | J3: 3857153 | K3: 1252795430 | L3: 0 | M3: 0 | N3: 717762 | O3: 1798184950 | P3: 4980 | Q3: 0 | R3: 722742 | S3: 1798184950 | T3: 0 | U3: 0 | V3: 12597 | W3: 29254050 | X3: 164 | Y3: 0 | Z3: 12761 | AA3: 29254050 | AB3: 788546 | AC3: 4346915960 | AD3: 0 | AE3: 0 | AF3: 1572 | AG3: 0 | AH3: 790118 | AI3: 4346915960 | AJ3: 788546 | AK3: 4346915960 | AL3: 4406546 | AM3: 3080234430 | AN3: 187682 | AO3: 0 | AP3: 5382774 | AQ3: 7427150390 | AR3: 1530617 | AS3: 458495960 | AT3: 19515 | AU3: 0 | AV3: 2058 | AW3: 308700 | AX3: 1443 | AY3: 0 | AZ3: 1043 | BA3: 1070390 | BB3: 0 | BC3: 0 | BD3: 0 | BE3: 0 | BF3: 27910960 | BG3: 5 | BH3: 7500 | BI3: 38 | BJ3: 336500 | BK3: 765 | BL3: 4412000 | BM3: 0 | BN3: 0 | BO3: 18755 | BP3: 36611900 | BQ3: 0 | BR3: 0 | BS3: 5357 | BT3: 6964100 | BU3: 9 | BV3: 17640 | BW3: 15716 | BX3: 32846440 | BY3: 0 | BZ3: 0 | CA3: 119998 | CB3: 157075100 | CC3: 90 | CD3: 407780 | CE3: 116 | CF3: 1394670 | CG3: 7033 | CH3: 2238050 | CI3: 24492 | CJ3: 46823590 | CK3: 0 | CL3: 0 | CM3: 0 | CN3: 0 | CO3: 16 | CP3: 20800 | CQ3: 0 | CR3: 0 | CS3: 64612 | CT3: 129222000 | CU3: 0 | CV3: 0 | CW3: 341968 | CX3: 1403160310 | CY3: 0 | CZ3: 0 | DA3: 365 | DB3: 3027300 | DC3: 0 | DD3: 0 | DE3: 33446 | DF3: 259756000 | DG3: 40305 | DH3: 20127500 | DI3: 32029 | DJ3: 8330060 | DK3: 10981 | DL3: 6851920 | DM3: 8766 | DN3: 3550140 | DO3: 0 | DP3: 0 | DQ3: 0 | DR3: 0 | DS3: 0 | DT3: 0 | DU3: 45873 | DV3: 13435470 | DW3: 97649 | DX3: 32167590 | DY3: 198435 | DZ3: 1258920265 | EA3: 2645 | EB3: 87073061 | EC3: 0 | ED3: 0 | EE3: 0 | EF3: 0 | EG3: 298729 | EH3: 1378160916 | EI3: 0 | EJ3: 0 | EK3: 0 | EL3: 0 | EM3: 9049 | EN3: 6535080 | EO3: 9049 | EP3: 6535080 | EQ3: 0 | ER3: 0 | ES3: 0 | ET3: 0 | EU3: 7206 | EV3: 2855800 | EW3: 7206 | EX3: 2855800 | EY3: 19 | EZ3: 6080 | FA3: 0 | FB3: 0 | FC3: 4583 | FD3: 5637130 | FE3: 4602 | FF3: 5643210 | FG3: 0 | FH3: 0 | FI3: 0 | FJ3: 0 | FK3: 1618 | FL3: 6112560 | FM3: 1618 | FN3: 6112560 | FO3: 0 | FP3: 0 | FQ3: 0 | FR3: 0 | FS3: 4 | FT3: 1800 | FU3: 4 | FV3: 1800 | FW3: 0 | FX3: 0 | FY3: 0 | FZ3: 0 | GA3: 0 | GB3: 0 | GC3: 0 | GD3: 0 | GE3: 0 | GF3: 0 | GG3: 0 | GH3: 0 | GI3: 15 | GJ3: 38100 | GK3: 15 | GL3: 38100 | GM3: 19 | GN3: 6080 | GO3: 0 | GP3: 0 | GQ3: 22475 | GR3: 21180470 | GS3: 22494 | GT3: 21186550 | GU3: 36 | GV3: 329800 | GW3: 0 | GX3: 0 | GY3: 2517 | GZ3: 19871430 | HA3: 2553 | HB3: 20201230 | HC3: 0 | HD3: 0 | HE3: 0 | HF3: 0 | HG3: 0 | HH3: 0 | HI3: 0 | HJ3: 0 | HK3: 36 | HL3: 329800 | HM3: 0 | HN3: 0 | HO3: 2517 | HP3: 19871430 | HQ3: 2553 | HR3: 20201230 | HS3: 0 | HT3: 0 | HU3: 0 | HV3: 0 | HW3: 2241 | HX3: 750400 | HY3: 652 | HZ3: 1558810 | IA3: 0 | IB3: 0 | IC3: 0 | ID3: 0 | IE3: 1447 | IF3: 3779460 | IG3: 199504 | IH3: 59851200 | II3: 26 | IJ3: 119100
A4: 제주청 | B4: 서귀포 | D4: 0 | E4: 0 | F4: 1655536 | G4: 535740920 | H4: 156 | I4: 0 | J4: 1655692 | K4: 535740920 | L4: 0 | M4: 0 | N4: 173589 | O4: 392851540 | P4: 4310 | Q4: 0 | R4: 177899 | S4: 392851540 | T4: 0 | U4: 0 | V4: 966 | W4: 2231080 | X4: 0 | Y4: 0 | Z4: 966 | AA4: 2231080 | AB4: 629869 | AC4: 2865391140 | AD4: 0 | AE4: 0 | AF4: 569 | AG4: 0 | AH4: 630438 | AI4: 2865391140 | AJ4: 629869 | AK4: 2865391140 | AL4: 1830091 | AM4: 930823540 | AN4: 5035 | AO4: 0 | AP4: 2464995 | AQ4: 3796214680 | AR4: 747151 | AS4: 218355770 | AT4: 2468 | AU4: 0 | AV4: 528 | AW4: 79240 | AX4: 2570 | AY4: 0 | AZ4: 221 | BA4: 207340 | BB4: 1035 | BC4: 818400 | BD4: 47269 | BE4: 24107190 | BF4: -673380 | BG4: 63 | BH4: 85500 | BI4: 3 | BJ4: 73500 | BK4: 404 | BL4: 9237000 | BM4: 0 | BN4: 0 | BO4: 3955 | BP4: 7646600 | BQ4: 0 | BR4: 0 | BS4: 945 | BT4: 1228500 | BU4: 8 | BV4: 15920 | BW4: 1238 | BX4: 2587420 | BY4: 0 | BZ4: 0 | CA4: 3955 | CB4: 5141500 | CC4: 31 | CD4: 139010 | CE4: 8 | CF4: 39100 | CG4: 4634 | CH4: 1404100 | CI4: 5050 | CJ4: 9410740 | CK4: 0 | CL4: 0 | CM4: 0 | CN4: 0 | CO4: 2 | CP4: 2600 | CQ4: 0 | CR4: 0 | CS4: 14709 | CT4: 29410000 | CU4: 0 | CV4: 0 | CW4: 425924 | CX4: 1656555270 | CY4: 0 | CZ4: 0 | DA4: 95 | DB4: 669600 | DC4: 0 | DD4: 0 | DE4: 67919 | DF4: 350339500 | DG4: 19304 | DH4: 9523000 | DI4: 28206 | DJ4: 5178480 | DK4: 7199 | DL4: 3614200 | DM4: 12964 | DN4: 3802010 | DO4: 0 | DP4: 0 | DQ4: 0 | DR4: 0 | DS4: 0 | DT4: 0 | DU4: 1256 | DV4: 375700 | DW4: 49625 | DX4: 12970390 | DY4: 72539 | DZ4: 460391980 | EA4: 2811 | EB4: 93614020 | EC4: 0 | ED4: 0 | EE4: 0 | EF4: 0 | EG4: 124975 | EH4: 566976390 | EI4: 0 | EJ4: 0 | EK4: 0 | EL4: 0 | EM4: 1516 | EN4: 1319400 | EO4: 1516 | EP4: 1319400 | EQ4: 0 | ER4: 0 | ES4: 0 | ET4: 0 | EU4: 1601 | EV4: 645960 | EW4: 1601 | EX4: 645960 | EY4: 30 | EZ4: 13900 | FA4: 0 | FB4: 0 | FC4: 877 | FD4: 1756280 | FE4: 907 | FF4: 1770180 | FG4: 2 | FH4: 10400 | FI4: 0 | FJ4: 0 | FK4: 304 | FL4: 1801720 | FM4: 306 | FN4: 1812120 | FO4: 0 | FP4: 0 | FQ4: 0 | FR4: 0 | FS4: 0 | FT4: 0 | FU4: 0 | FV4: 0 | FW4: 0 | FX4: 0 | FY4: 0 | FZ4: 0 | GA4: 0 | GB4: 0 | GC4: 0 | GD4: 0 | GE4: 0 | GF4: 0 | GG4: 0 | GH4: 0 | GI4: 8 | GJ4: 800 | GK4: 8 | GL4: 800 | GM4: 32 | GN4: 24300 | GO4: 0 | GP4: 0 | GQ4: 4306 | GR4: 5524160 | GS4: 4338 | GT4: 5548460 | GU4: 0 | GV4: 0 | GW4: 0 | GX4: 0 | GY4: 159 | GZ4: 626330 | HA4: 159 | HB4: 626330 | HC4: 0 | HD4: 0 | HE4: 0 | HF4: 0 | HG4: 0 | HH4: 0 | HI4: 0 | HJ4: 0 | HK4: 0 | HL4: 0 | HM4: 0 | HN4: 0 | HO4: 159 | HP4: 626330 | HQ4: 159 | HR4: 626330 | HS4: 0 | HT4: 0 | HU4: 0 | HV4: 0 | HW4: 153 | HX4: 50140 | HY4: 261 | HZ4: 618650 | IA4: 0 | IB4: 0 | IC4: 0 | ID4: 0 | IE4: 65 | IF4: 0 | IG4: 57121 | IH4: 17135880 | II4: 5 | IJ4: 22680
A5: 합계 | D5: 0 | E5: 0 | F5: 6215613 | G5: 2038290550 | H5: 187593 | I5: 0 | J5: 6403206 | K5: 2038290550 | L5: 0 | M5: 0 | N5: 900641 | O5: 2212239050 | P5: 15733 | Q5: 0 | R5: 916374 | S5: 2212239050 | T5: 0 | U5: 0 | V5: 14952 | W5: 34586460 | X5: 405 | Y5: 0 | Z5: 15357 | AA5: 34586460 | AB5: 1441641 | AC5: 7307003330 | AD5: 0 | AE5: 0 | AF5: 3161 | AG5: 0 | AH5: 1444802 | AI5: 7307003330 | AJ5: 1441641 | AK5: 7307003330 | AL5: 7131206 | AM5: 4285116060 | AN5: 206892 | AO5: 0 | AP5: 8779739 | AQ5: 11592119390 | AR5: 2342022 | AS5: 699536400 | AT5: 21983 | AU5: 0 | AV5: 2586 | AW5: 387940 | AX5: 31747 | AY5: 0 | AZ5: 1264 | BA5: 1277730 | BB5: 1035 | BC5: 818400 | BD5: 78818 | BE5: 39706260 | BF5: 25731370 | BG5: 68 | BH5: 93000 | BI5: 41 | BJ5: 410000 | BK5: 1169 | BL5: 13649000 | BM5: 0 | BN5: 0 | BO5: 22921 | BP5: 44578950 | BQ5: 0 | BR5: 0 | BS5: 6610 | BT5: 8593000 | BU5: 19 | BV5: 37420 | BW5: 17013 | BX5: 35557170 | BY5: 0 | BZ5: 0 | CA5: 123953 | CB5: 162216600 | CC5: 121 | CD5: 546790 | CE5: 124 | CF5: 1433770 | CG5: 11667 | CH5: 3642150 | CI5: 30578 | CJ5: 58692510 | CK5: 0 | CL5: 0 | CM5: 0 | CN5: 0 | CO5: 18 | CP5: 23400 | CQ5: 0 | CR5: 0 | CS5: 79387 | CT5: 158764000 | CU5: 0 | CV5: 0 | CW5: 790329 | CX5: 3151079190 | CY5: 0 | CZ5: 0 | DA5: 462 | DB5: 3711200 | DC5: 0 | DD5: 0 | DE5: 101407 | DF5: 610425500 | DG5: 76823 | DH5: 37965500 | DI5: 442220 | DJ5: 94234460 | DK5: 38763 | DL5: 21741790 | DM5: 33457 | DN5: 12220150 | DO5: 0 | DP5: 0 | DQ5: 0 | DR5: 0 | DS5: 68093 | DT5: 8763570 | DU5: 72326 | DV5: 21396710 | DW5: 654859 | DX5: 158356680 | DY5: 275548 | DZ5: 1747760655 | EA5: 5456 | EB5: 180687081 | EC5: 0 | ED5: 0 | EE5: 0 | EF5: 0 | EG5: 935863 | EH5: 2086804416 | EI5: 0 | EJ5: 0 | EK5: 0 | EL5: 0 | EM5: 12360 | EN5: 7859870 | EO5: 12360 | EP5: 7859870 | EQ5: 0 | ER5: 0 | ES5: 0 | ET5: 0 | EU5: 8807 | EV5: 3501760 | EW5: 8807 | EX5: 3501760 | EY5: 49 | EZ5: 19980 | FA5: 0 | FB5: 0 | FC5: 6792 | FD5: 9874300 | FE5: 6841 | FF5: 9894280 | FG5: 2 | FH5: 10400 | FI5: 0 | FJ5: 0 | FK5: 1925 | FL5: 7918740 | FM5: 1927 | FN5: 7929140 | FO5: 0 | FP5: 0 | FQ5: 0 | FR5: 0 | FS5: 4 | FT5: 1800 | FU5: 4 | FV5: 1800 | FW5: 0 | FX5: 0 | FY5: 0 | FZ5: 0 | GA5: 0 | GB5: 0 | GC5: 0 | GD5: 0 | GE5: 0 | GF5: 0 | GG5: 0 | GH5: 0 | GI5: 23 | GJ5: 38900 | GK5: 23 | GL5: 38900 | GM5: 51 | GN5: 30380 | GO5: 0 | GP5: 0 | GQ5: 29911 | GR5: 29195370 | GS5: 29962 | GT5: 29225750 | GU5: 36 | GV5: 329800 | GW5: 0 | GX5: 0 | GY5: 2676 | GZ5: 20497760 | HA5: 2712 | HB5: 20827560 | HC5: 0 | HD5: 0 | HE5: 0 | HF5: 0 | HG5: 0 | HH5: 0 | HI5: 0 | HJ5: 0 | HK5: 36 | HL5: 329800 | HM5: 0 | HN5: 0 | HO5: 2676 | HP5: 20497760 | HQ5: 2712 | HR5: 20827560 | HS5: 0 | HT5: 0 | HU5: 0 | HV5: 0 | HW5: 2394 | HX5: 800540 | HY5: 936 | HZ5: 2227970 | IA5: 0 | IB5: 0 | IC5: 0 | ID5: 0 | IE5: 1512 | IF5: 3779460 | IG5: 258639 | IH5: 77591280 | II5: 31 | IJ5: 141780
A7: 구분1 | B7: 구분2 | C7: 구분3 | D7: 국제특급EMS선편물수 | E7: 국제특급EMS선편요금 | F7: 국제특급EMS SAL물수 | G7: 국제특급EMS SAL요금 | H7: 국제특급EMS항공편물수 | I7: 국제특급EMS항공편요금 | J7: 국제특급EMS합계물수 | K7: 국제특급EMS합계요금 | L7: 국제특급EMS프리미엄선편물수 | M7: 국제특급EMS프리미엄선편요금 | N7: 국제특급EMS프리미엄SAL물수 | O7: 국제특급EMS프리미엄SAL요금 | P7: 국제특급EMS프리미엄항공편물수 | Q7: 국제특급EMS프리미엄항공편요금 | R7: 국제특급EMS프리미엄합계물수 | S7: 국제특급EMS프리미엄합계요금 | T7: EMS선납봉투판매물수 | U7: EMS선납봉투판매요금 | V7: 국제특급선편소계물수 | W7: 국제특급선편소계요금 | X7: 국제특급SAL소계물수 | Y7: 국제특급SAL소계요금 | Z7: 국제특급항공편소계물수 | AA7: 국제특급항공편소계요금 | AB7: 국제특급합계물수 | AC7: 국제특급합계요금 | AD7: 국제보통소포선편물수 | AE7: 국제보통소포선편요금 | AF7: 국제보통소포SAL물수 | AG7: 국제보통소포SAL요금 | AH7: 국제보통소포항공편물수 | AI7: 국제보통소포항공편요금 | AJ7: 국제보통소포합계물수 | AK7: 국제보통소포합계요금 | AL7: 국제보험소포선편물수 | AM7: 국제보험소포선편요금 | AN7: 국제보험소포SAL물수 | AO7: 국제보험소포SAL요금 | AP7: 국제보험소포항공편물수 | AQ7: 국제보험소포항공편요금 | AR7: 국제보험소포합계물수 | AS7: 국제보험소포합계요금 | AT7: 국제소포선편소계물수 | AU7: 국제소포선편소계요금 | AV7: 국제소포SAL소계물수 | AW7: 국제소포SAL소계요금 | AX7: 국제소포항공편소계물수 | AY7: 국제소포항공편소계요금 | AZ7: 국제소포합계물수 | BA7: 국제소포합계요금 | BB7: 국제선편합계물수 | BC7: 국제선편합계요금 | BD7: 국제SAL합계물수 | BE7: 국제SAL합계요금 | BF7: 국제항공편합계물수 | BG7: 국제항공편합계요금 | BH7: 국제우편물합계물수 | BI7: 국제우편물합계요금 | BJ7: 일반통상접수총계물수 | BK7: 일반통상접수총계요금 | BL7: 특수통상접수총계물수 | BM7: 특수통상접수총계요금 | BN7: 소포접수총계물수 | BO7: 소포접수총계요금 | BP7: 접수총계물수 | BQ7: 접수총계요금 | BR7: 우표엽서판매액(할인된금액) | BS7: 우표엽서판매수량 | BT7: 통신판매금액 | BU7: 요금별납국내우편일반통상물수 | BV7: 요금별납국내우편일반통상요금 | BW7: 요금별납국내우편특수통상물수 | BX7: 요금별납국내우편특수통상요금 | BY7: 요금별납국내우편소포물수 | BZ7: 요금별납국내우편소포요금 | CA7: 요금별납국내우편합계물수 | CB7: 요금별납국내우편합계요금 | CC7: 요금별납국제우편일반통상물수 | CD7: 요금별납국제우편일반통상요금 | CE7: 요금별납국제우편특수통상물수 | CF7: 요금별납국제우편특수통상요금 | CG7: 요금별납국제우편소포물수 | CH7: 요금별납국제우편소포요금 | CI7: 요금별납국제우편합계물수 | CJ7: 요금별납국제우편합계요금 | CK7: 요금별납일반통상소계물수 | CL7: 요금별납일반통상소계요금 | CM7: 요금별납특수통상소계물수 | CN7: 요금별납특수통상소계요금 | CO7: 요금별납소포소계물수 | CP7: 요금별납소포소계요금 | CQ7: 요금별납합계물수 | CR7: 요금별납합계요금 | CS7: 요금계기별납국내우편일반통상물수 | CT7: 요금계기별납국내우편일반통상요금 | CU7: 요금계기별납국내우편특수통상물수 | CV7: 요금계기별납국내우편특수통상요금 | CW7: 요금계기별납국내우편소포물수 | CX7: 요금계기별납국내우편소포요금 | CY7: 요금계기별납국내우편합계물수 | CZ7: 요금계기별납국내우편합계요금 | DA7: 요금계기별납국제우편일반통상물수 | DB7: 요금계기별납국제우편일반통상요금 | DC7: 요금계기별납국제우편특수통상물수 | DD7: 요금계기별납국제우편특수통상요금 | DE7: 요금계기별납국제우편소포물수 | DF7: 요금계기별납국제우편소포요금 | DG7: 요금계기별납국제우편합계물수 | DH7: 요금계기별납국제우편합계요금 | DI7: 요금계기별납일반통상소계물수 | DJ7: 요금계기별납일반통상소계요금 | DK7: 요금계기별납특수통상소계물수 | DL7: 요금계기별납특수통상소계요금 | DM7: 요금계기별납소포소계물수 | DN7: 요금계기별납소포소계요금 | DO7: 요금계기별납합계물수 | DP7: 요금계기별납합계요금 | DQ7: 요금후납국내우편일반통상물수 | DR7: 요금후납국내우편일반통상요금 | DS7: 요금후납국내우편특수통상물수 | DT7: 요금후납국내우편특수통상요금 | DU7: 요금후납국내우편소포물수 | DV7: 요금후납국내우편소포요금 | DW7: 요금후납국내우편합계물수 | DX7: 요금후납국내우편합계요금 | DY7: 요금후납국제우편일반통상물수 | DZ7: 요금후납국제우편일반통상요금 | EA7: 요금후납국제우편특수통상물수 | EB7: 요금후납국제우편특수통상요금 | EC7: 요금후납국제우편소포물수 | ED7: 요금후납국제우편소포요금 | EE7: 요금후납국제우편합계물수 | EF7: 요금후납국제우편합계요금 | EG7: 요금후납일반통상소계물수 | EH7: 요금후납일반통상소계요금 | EI7: 요금후납특수통상소계물수 | EJ7: 요금후납특수통상소계요금 | EK7: 요금후납소포소계물수 | EL7: 요금후납소포소계요금 | EM7: 요금후납합계물수 | EN7: 요금후납합계요금 | EO7: 요금계기후납국내우편일반통상물수 | EP7: 요금계기후납국내우편일반통상요금 | EQ7: 요금계기후납국내우편특수통상물수 | ER7: 요금계기후납국내우편특수통상요금 | ES7: 요금계기후납국내우편소포물수 | ET7: 요금계기후납국내우편소포요금 | EU7: 요금계기후납국내우편합계물수 | EV7: 요금계기후납국내우편합계요금 | EW7: 요금계기후납국제우편일반통상물수 | EX7: 요금계기후납국제우편일반통상요금 | EY7: 요금계기후납국제우편특수통상물수 | EZ7: 요금계기후납국제우편특수통상요금 | FA7: 요금계기후납국제우편소포물수 | FB7: 요금계기후납국제우편소포요금 | FC7: 요금계기후납국제우편합계물수 | FD7: 요금계기후납국제우편합계요금 | FE7: 요금계기후납일반통상소계물수 | FF7: 요금계기후납일반통상소계요금 | FG7: 요금계기후납특수통상소계물수 | FH7: 요금계기후납특수통상소계요금 | FI7: 요금계기후납소포소계물수 | FJ7: 요금계기후납소포소계요금 | FK7: 요금계기후납합계물수 | FL7: 요금계기후납합계요금 | FM7: 별후납국내일반통상합계물수 | FN7: 별후납국내일반통상합계요금 | FO7: 별후납국내특수통상합계물수 | FP7: 별후납국내특수통상합계요금 | FQ7: 별후납국내소포합계물수 | FR7: 별후납국내소포합계요금 | FS7: 별후납국내합계물수 | FT7: 별후납국내합계요금 | FU7: 별후납국제일반통상합계물수 | FV7: 별후납국제일반통상합계요금 | FW7: 별후납국제특수통상합계물수 | FX7: 별후납국제특수통상합계요금 | FY7: 별후납국제소포합계물수 | FZ7: 별후납국제소포합계요금 | GA7: 별후납국제합계물수 | GB7: 별후납국제합계요금 | GC7: 별후납일반통상합계물수 | GD7: 별후납일반통상합계요금 | GE7: 별후납특수통상합계물수 | GF7: 별후납특수통상합계요금 | GG7: 별후납소포합계물수 | GH7: 별후납소포합계요금 | GI7: 별후납합계물수 | GJ7: 별후납합계요금 | GK7: 통신사무일반통상물수 | GL7: 통신사무일반통상요금 | GM7: 통신사무특수통상물수 | GN7: 통신사무특수통상요금 | GO7: 통신사무소포물수 | GP7: 통신사무소포요금 | GQ7: 통신사무물수합계 | GR7: 통신사무요금합계 | GS7: 일반통상우표첩부물수 | GT7: 일반통상우표첩부금액 | GU7: 특수통상우표첩부물수 | GV7: 특수통상우표첩부금액 | GW7: 소포우표첩부물수 | GX7: 소포우표첩부금액 | GY7: 우표첩부물수합계 | GZ7: 우표첩부금액합계 | HA7: 신용카드결제물수(즉납) | HB7: 신용카드결제금액(즉납) | HC7: 신용카드결제물수(후납) | HD7: 신용카드결제금액(후납) | HE7: 신용카드결제물수(전체) | HF7: 신용카드결제금액(전체)
A8: 제주청 | B8: 제주우편집중국 | D8: 0 | E8: 0 | F8: 0 | G8: 0 | H8: 272 | I8: 14480800 | J8: 272 | K8: 14480800 | L8: 0 | M8: 0 | N8: 0 | O8: 0 | P8: 0 | Q8: 0 | R8: 0 | S8: 0 | T8: 0 | U8: 0 | V8: 0 | W8: 0 | X8: 0 | Y8: 0 | Z8: 272 | AA8: 14480800 | AB8: 272 | AC8: 14480800 | AD8: 0 | AE8: 0 | AF8: 0 | AG8: 0 | AH8: 0 | AI8: 0 | AJ8: 0 | AK8: 0 | AL8: 0 | AM8: 0 | AN8: 0 | AO8: 0 | AP8: 0 | AQ8: 0 | AR8: 0 | AS8: 0 | AT8: 0 | AU8: 0 | AV8: 0 | AW8: 0 | AX8: 0 | AY8: 0 | AZ8: 0 | BA8: 0 | BB8: 0 | BC8: 0 | BD8: 0 | BE8: 0 | BF8: 3402 | BG8: 16971540 | BH8: 3402 | BI8: 16971540 | BJ8: 893491 | BK8: 252244940 | BL8: 16005 | BM8: 35683360 | BN8: 25876 | BO8: 97797560 | BP8: 935372 | BQ8: 385725860 | BR8: 0 | BS8: 0 | BT8: 0 | BU8: 366150 | BV8: 101949050 | BW8: 0 | BX8: 0 | BY8: 0 | BZ8: 0 | CA8: 366150 | CB8: 101949050 | CC8: 0 | CD8: 0 | CE8: 0 | CF8: 0 | CG8: 0 | CH8: 0 | CI8: 0 | CJ8: 0 | CK8: 366150 | CL8: 101949050 | CM8: 0 | CN8: 0 | CO8: 0 | CP8: 0 | CQ8: 366150 | CR8: 101949050 | CS8: 0 | CT8: 0 | CU8: 0 | CV8: 0 | CW8: 0 | CX8: 0 | CY8: 0 | CZ8: 0 | DA8: 0 | DB8: 0 | DC8: 0 | DD8: 0 | DE8: 0 | DF8: 0 | DG8: 0 | DH8: 0 | DI8: 0 | DJ8: 0 | DK8: 0 | DL8: 0 | DM8: 0 | DN8: 0 | DO8: 0 | DP8: 0 | DQ8: 426152 | DR8: 127668320 | DS8: 7060 | DT8: 15915690 | DU8: 1368 | DV8: 5727480 | DW8: 434580 | DX8: 149311490 | DY8: 0 | DZ8: 0 | EA8: 1 | EB8: 15100 | EC8: 0 | ED8: 0 | EE8: 1 | EF8: 15100 | EG8: 426152 | EH8: 127668320 | EI8: 7061 | EJ8: 15930790 | EK8: 1368 | EL8: 5727480 | EM8: 434581 | EN8: 149326590 | EO8: 0 | EP8: 0 | EQ8: 0 | ER8: 0 | ES8: 0 | ET8: 0 | EU8: 0 | EV8: 0 | EW8: 0 | EX8: 0 | EY8: 0 | EZ8: 0 | FA8: 0 | FB8: 0 | FC8: 0 | FD8: 0 | FE8: 0 | FF8: 0 | FG8: 0 | FH8: 0 | FI8: 0 | FJ8: 0 | FK8: 0 | FL8: 0 | FM8: 792302 | FN8: 229617370 | FO8: 7060 | FP8: 15915690 | FQ8: 1368 | FR8: 5727480 | FS8: 800730 | FT8: 251260540 | FU8: 0 | FV8: 0 | FW8: 1 | FX8: 15100 | FY8: 0 | FZ8: 0 | GA8: 1 | GB8: 15100 | GC8: 792302 | GD8: 229617370 | GE8: 7061 | GF8: 15930790 | GG8: 1368 | GH8: 5727480 | GI8: 800731 | GJ8: 251275640 | GK8: 0 | GL8: 0 | GM8: 30 | GN8: 70470 | GO8: 64 | GP8: 328940 | GQ8: 94 | GR8: 399410 | GS8: 27 | GT8: 12560 | GU8: 69 | GV8: 153450 | GW8: 0 | GX8: 0 | GY8: 96 | GZ8: 166010 | HA8: 232756 | HB8: 111026400 | HC8: 191163 | HD8: 52335690 | HE8: 423919 | HF8: 163362090
A9: 제주청 | B9: 제주 | D9: 0 | E9: 0 | F9: 0 | G9: 0 | H9: 31705 | I9: 1324537860 | J9: 31705 | K9: 1324537860 | L9: 0 | M9: 0 | N9: 0 | O9: 0 | P9: 138 | Q9: 6113810 | R9: 138 | S9: 6113810 | T9: 0 | U9: 0 | V9: 0 | W9: 0 | X9: 0 | Y9: 0 | Z9: 31843 | AA9: 1330651670 | AB9: 31843 | AC9: 1330651670 | AD9: 982 | AE9: 35800100 | AF9: 0 | AG9: 0 | AH9: 730 | AI9: 30905800 | AJ9: 1712 | AK9: 66705900 | AL9: 66 | AM9: 2890950 | AN9: 0 | AO9: 0 | AP9: 6 | AQ9: 272600 | AR9: 72 | AS9: 3163550 | AT9: 1048 | AU9: 38691050 | AV9: 0 | AW9: 0 | AX9: 736 | AY9: 31178400 | AZ9: 1784 | BA9: 69869450 | BB9: 1103 | BC9: 39026930 | BD9: 0 | BE9: 0 | BF9: 57571 | BG9: 1402881970 | BH9: 58674 | BI9: 1441908900 | BJ9: 3879647 | BK9: 1273981980 | BL9: 757138 | BM9: 3149037850 | BN9: 804663 | BO9: 4446039460 | BP9: 5441448 | BQ9: 8869059290 | BR9: 165106260 | BS9: 326389 | BT9: 10042300 | BU9: 881657 | BV9: 335879070 | BW9: 3685 | BX9: 7628860 | BY9: 0 | BZ9: 0 | CA9: 885342 | CB9: 343507930 | CC9: 2800 | CD9: 2156000 | CE9: 0 | CF9: 0 | CG9: 0 | CH9: 0 | CI9: 2800 | CJ9: 2156000 | CK9: 884457 | CL9: 338035070 | CM9: 3685 | CN9: 7628860 | CO9: 0 | CP9: 0 | CQ9: 888142 | CR9: 345663930 | CS9: 0 | CT9: 0 | CU9: 0 | CV9: 0 | CW9: 0 | CX9: 0 | CY9: 0 | CZ9: 0 | DA9: 0 | DB9: 0 | DC9: 0 | DD9: 0 | DE9: 0 | DF9: 0 | DG9: 0 | DH9: 0 | DI9: 0 | DJ9: 0 | DK9: 0 | DL9: 0 | DM9: 0 | DN9: 0 | DO9: 0 | DP9: 0 | DQ9: 768143 | DR9: 251081780 | DS9: 308398 | DT9: 801550650 | DU9: 258131 | DV9: 1047580850 | DW9: 1334672 | DX9: 2100213280 | DY9: 181 | DZ9: 610300 | EA9: 1952 | EB9: 55935240 | EC9: 0 | ED9: 0 | EE9: 2133 | EF9: 56545540 | EG9: 768324 | EH9: 251692080 | EI9: 310350 | EJ9: 857485890 | EK9: 258131 | EL9: 1047580850 | EM9: 1336805 | EN9: 2156758820 | EO9: 0 | EP9: 0 | EQ9: 0 | ER9: 0 | ES9: 0 | ET9: 0 | EU9: 0 | EV9: 0 | EW9: 0 | EX9: 0 | EY9: 0 | EZ9: 0 | FA9: 0 | FB9: 0 | FC9: 0 | FD9: 0 | FE9: 0 | FF9: 0 | FG9: 0 | FH9: 0 | FI9: 0 | FJ9: 0 | FK9: 0 | FL9: 0 | FM9: 1649800 | FN9: 586960850 | FO9: 312083 | FP9: 809179510 | FQ9: 258131 | FR9: 1047580850 | FS9: 2220014 | FT9: 2443721210 | FU9: 2981 | FV9: 2766300 | FW9: 1952 | FX9: 55935240 | FY9: 0 | FZ9: 0 | GA9: 4933 | GB9: 58701540 | GC9: 1652781 | GD9: 589727150 | GE9: 314035 | GF9: 865114750 | GG9: 258131 | GH9: 1047580850 | GI9: 2224947 | GJ9: 2502422750 | GK9: 448 | GL9: 148470 | GM9: 7891 | GN9: 19494650 | GO9: 1195 | GP9: 4508820 | GQ9: 9534 | GR9: 24151940 | GS9: 57733 | GT9: 18649880 | GU9: 38103 | GV9: 98225020 | GW9: 232 | GX9: 612880 | GY9: 96068 | GZ9: 117487780 | HA9: 1581092 | HB9: 3564509050 | HC9: 373911 | HD9: 1085503410 | HE9: 1955003 | HF9: 4650012460
A10: 제주청 | B10: 서귀포 | D10: 0 | E10: 0 | F10: 0 | G10: 0 | H10: 9040 | I10: 371411120 | J10: 9040 | K10: 371411120 | L10: 0 | M10: 0 | N10: 0 | O10: 0 | P10: 50 | Q10: 1425420 | R10: 50 | S10: 1425420 | T10: 0 | U10: 0 | V10: 0 | W10: 0 | X10: 0 | Y10: 0 | Z10: 9090 | AA10: 372836540 | AB10: 9090 | AC10: 372836540 | AD10: 471 | AE10: 18337100 | AF10: 0 | AG10: 0 | AH10: 213 | AI10: 11356800 | AJ10: 684 | AK10: 29693900 | AL10: 0 | AM10: 0 | AN10: 0 | AO10: 0 | AP10: 0 | AQ10: 0 | AR10: 0 | AS10: 0 | AT10: 471 | AU10: 18337100 | AV10: 0 | AW10: 0 | AX10: 213 | AY10: 11356800 | AZ10: 684 | BA10: 29693900 | BB10: 503 | BC10: 18361400 | BD10: 0 | BE10: 0 | BF10: 13768 | BG10: 390343830 | BH10: 14271 | BI10: 408705230 | BJ10: 1660030 | BK10: 541289380 | BL10: 187148 | BM10: 766314410 | BN10: 632088 | BO10: 2897316120 | BP10: 2479266 | BQ10: 4204919910 | BR10: 27216840 | BS10: 79640 | BT10: 2638500 | BU10: 462593 | BV10: 169102400 | BW10: 178 | BX10: 337090 | BY10: 0 | BZ10: 0 | CA10: 462771 | CB10: 169439490 | CC10: 0 | CD10: 0 | CE10: 0 | CF10: 0 | CG10: 0 | CH10: 0 | CI10: 0 | CJ10: 0 | CK10: 462593 | CL10: 169102400 | CM10: 178 | CN10: 337090 | CO10: 0 | CP10: 0 | CQ10: 462771 | CR10: 169439490 | CS10: 0 | CT10: 0 | CU10: 0 | CV10: 0 | CW10: 0 | CX10: 0 | CY10: 0 | CZ10: 0 | DA10: 0 | DB10: 0 | DC10: 0 | DD10: 0 | DE10: 0 | DF10: 0 | DG10: 0 | DH10: 0 | DI10: 0 | DJ10: 0 | DK10: 0 | DL10: 0 | DM10: 0 | DN10: 0 | DO10: 0 | DP10: 0 | DQ10: 311263 | DR10: 106309970 | DS10: 62943 | DT10: 132852800 | DU10: 47702 | DV10: 237306430 | DW10: 421908 | DX10: 476469200 | DY10: 7 | DZ10: 49130 | EA10: 2710 | EB10: 90960720 | EC10: 0 | ED10: 0 | EE10: 2717 | EF10: 91009850 | EG10: 311270 | EH10: 106359100 | EI10: 65653 | EJ10: 223813520 | EK10: 47702 | EL10: 237306430 | EM10: 424625 | EN10: 567479050 | EO10: 0 | EP10: 0 | EQ10: 0 | ER10: 0 | ES10: 0 | ET10: 0 | EU10: 0 | EV10: 0 | EW10: 0 | EX10: 0 | EY10: 0 | EZ10: 0 | FA10: 0 | FB10: 0 | FC10: 0 | FD10: 0 | FE10: 0 | FF10: 0 | FG10: 0 | FH10: 0 | FI10: 0 | FJ10: 0 | FK10: 0 | FL10: 0 | FM10: 773856 | FN10: 275412370 | FO10: 63121 | FP10: 133189890 | FQ10: 47702 | FR10: 237306430 | FS10: 884679 | FT10: 645908690 | FU10: 7 | FV10: 49130 | FW10: 2710 | FX10: 90960720 | FY10: 0 | FZ10: 0 | GA10: 2717 | GB10: 91009850 | GC10: 773863 | GD10: 275461500 | GE10: 65831 | GF10: 224150610 | GG10: 47702 | GH10: 237306430 | GI10: 887396 | GJ10: 736918540 | GK10: 459 | GL10: 181320 | GM10: 3988 | GN10: 9303770 | GO10: 504 | GP10: 2094650 | GQ10: 4951 | GR10: 11579740 | GS10: 8717 | GT10: 2783970 | GU10: 7011 | GV10: 14467530 | GW10: 30 | GX10: 105630 | GY10: 15758 | GZ10: 17357130 | HA10: 966583 | HB10: 2235774530 | HC10: 57540 | HD10: 123622120 | HE10: 1024123 | HF10: 2359396650
A11: 합계 | D11: 0 | E11: 0 | F11: 0 | G11: 0 | H11: 41017 | I11: 1710429780 | J11: 41017 | K11: 1710429780 | L11: 0 | M11: 0 | N11: 0 | O11: 0 | P11: 188 | Q11: 7539230 | R11: 188 | S11: 7539230 | T11: 0 | U11: 0 | V11: 0 | W11: 0 | X11: 0 | Y11: 0 | Z11: 41205 | AA11: 1717969010 | AB11: 41205 | AC11: 1717969010 | AD11: 1453 | AE11: 54137200 | AF11: 0 | AG11: 0 | AH11: 943 | AI11: 42262600 | AJ11: 2396 | AK11: 96399800 | AL11: 66 | AM11: 2890950 | AN11: 0 | AO11: 0 | AP11: 6 | AQ11: 272600 | AR11: 72 | AS11: 3163550 | AT11: 1519 | AU11: 57028150 | AV11: 0 | AW11: 0 | AX11: 949 | AY11: 42535200 | AZ11: 2468 | BA11: 99563350 | BB11: 1606 | BC11: 57388330 | BD11: 0 | BE11: 0 | BF11: 74741 | BG11: 1810197340 | BH11: 76347 | BI11: 1867585670 | BJ11: 6433168 | BK11: 2067516300 | BL11: 960291 | BM11: 3951035620 | BN11: 1462627 | BO11: 7441153140 | BP11: 8856086 | BQ11: 13459705060 | BR11: 192323100 | BS11: 406029 | BT11: 12680800 | BU11: 1710400 | BV11: 606930520 | BW11: 3863 | BX11: 7965950 | BY11: 0 | BZ11: 0 | CA11: 1714263 | CB11: 614896470 | CC11: 2800 | CD11: 2156000 | CE11: 0 | CF11: 0 | CG11: 0 | CH11: 0 | CI11: 2800 | CJ11: 2156000 | CK11: 1713200 | CL11: 609086520 | CM11: 3863 | CN11: 7965950 | CO11: 0 | CP11: 0 | CQ11: 1717063 | CR11: 617052470 | CS11: 0 | CT11: 0 | CU11: 0 | CV11: 0 | CW11: 0 | CX11: 0 | CY11: 0 | CZ11: 0 | DA11: 0 | DB11: 0 | DC11: 0 | DD11: 0 | DE11: 0 | DF11: 0 | DG11: 0 | DH11: 0 | DI11: 0 | DJ11: 0 | DK11: 0 | DL11: 0 | DM11: 0 | DN11: 0 | DO11: 0 | DP11: 0 | DQ11: 1505558 | DR11: 485060070 | DS11: 378401 | DT11: 950319140 | DU11: 307201 | DV11: 1290614760 | DW11: 2191160 | DX11: 2725993970 | DY11: 188 | DZ11: 659430 | EA11: 4663 | EB11: 146911060 | EC11: 0 | ED11: 0 | EE11: 4851 | EF11: 147570490 | EG11: 1505746 | EH11: 485719500 | EI11: 383064 | EJ11: 1097230200 | EK11: 307201 | EL11: 1290614760 | EM11: 2196011 | EN11: 2873564460 | EO11: 0 | EP11: 0 | EQ11: 0 | ER11: 0 | ES11: 0 | ET11: 0 | EU11: 0 | EV11: 0 | EW11: 0 | EX11: 0 | EY11: 0 | EZ11: 0 | FA11: 0 | FB11: 0 | FC11: 0 | FD11: 0 | FE11: 0 | FF11: 0 | FG11: 0 | FH11: 0 | FI11: 0 | FJ11: 0 | FK11: 0 | FL11: 0 | FM11: 3215958 | FN11: 1091990590 | FO11: 382264 | FP11: 958285090 | FQ11: 307201 | FR11: 1290614760 | FS11: 3905423 | FT11: 3340890440 | FU11: 2988 | FV11: 2815430 | FW11: 4663 | FX11: 146911060 | FY11: 0 | FZ11: 0 | GA11: 7651 | GB11: 149726490 | GC11: 3218946 | GD11: 1094806020 | GE11: 386927 | GF11: 1105196150 | GG11: 307201 | GH11: 1290614760 | GI11: 3913074 | GJ11: 3490616930 | GK11: 907 | GL11: 329790 | GM11: 11909 | GN11: 28868890 | GO11: 1763 | GP11: 6932410 | GQ11: 14579 | GR11: 36131090 | GS11: 66477 | GT11: 21446410 | GU11: 45183 | GV11: 112846000 | GW11: 262 | GX11: 718510 | GY11: 111922 | GZ11: 135010920 | HA11: 2780431 | HB11: 5911309980 | HC11: 622614 | HD11: 1261461220 | HE11: 3403045 | HF11: 7172771200
A14: 구분2 | B14: 통상 | C14: 소포 | D14: ems | E14: 쇼핑배분 | F14: 합계
A15: 제주우편집중국 | B15: =GT2+HR2+HV2 -> 2490740 | C15: =BA8 -> 0 | D15: =AC8 -> 14480800 | E15: =L24 -> 207912 | F15: 17310910 | L15: 17310910
A16: 제주 | B16: =GT3+HR3+HV3 -> 41387780 | C16: =BA9 -> 69869450 | D16: =AC9 -> 1330651670 | E16: =L25 -> -229957 | F16: 1654034150 | L16: 1654034150
A17: 서귀포 | B17: =GT4+HR4+HV4 -> 6174790 | C17: =BA10 -> 29693900 | D17: =AC10 -> 372836540 | E17: =L26 -> 0 | F17: 460166760 | L17: 460166760
A18: 합계 | B18: =SUM(B15:B17) -> 50053310 | C18: =SUM(C15:C17) -> 99563350 | D18: =SUM(D15:D17) -> 1717969010 | E18: =L27 -> -22045 | F18: =SUM(F15:F17) -> 2131511820
A21: 지방청 | B21: 총괄국 | C21: 접수구분 | D21: 공급국소포료 | E21: 배분소포료 | F21: 배분소포료 | G21: 배분소포료 | H21: 배분소포료 | I21: 배분소포료 | J21: 배분소포료 | K21: 배분소포료 | L21: 최종 쇼핑배분실적 (배분소포료-공급국소포료) | M21: 자국접수등기소포요금배분 | N21: 자국공급등기소포요금배분
A22: 지방청 | B22: 총괄국 | C22: 접수구분 | D22: 공급 | E22: 자주문자공급 | F22: 자주문자공급 | G22: 자주문자공급 | H22: 비추천주문(매출점유비) | I22: 자주문타공급 | J22: 타주문자공급 | K22: 계 | L22: 최종 쇼핑배분실적 (배분소포료-공급국소포료) | M22: 자국접수등기소포요금배분 | N22: 자국공급등기소포요금배분
A23: 지방청 | B23: 총괄국 | C23: 접수구분 | D23: 공급 | E23: 자주문 | F23: 자공급 | G23: 계 | H23: 비추천주문(매출점유비) | I23: 자주문타공급 | J23: 타주문자공급 | K23: 계 | L23: 최종 쇼핑배분실적 (배분소포료-공급국소포료) | M23: 자국접수등기소포요금배분 | N23: 자국공급등기소포요금배분
A24: 제주청 | B24: 제주우편집중국 | D24: 0 | E24: 0 | F24: 0 | G24: 0 | H24: 161056 | I24: 46856 | J24: 0 | K24: 207912 | L24: 207912 | M24: 46856 | N24: 0
A25: 제주청 | B25: 제주 | D25: 400880 | E25: 0 | F25: 0 | G25: 0 | H25: 132403 | I25: 26560 | J25: 11960 | K25: 170923 | L25: -229957 | M25: 26560 | N25: 11960
A26: 제주청 | B26: 서귀포 | D26: 0 | E26: 0 | F26: 0 | G26: 0 | H26: 0 | I26: 0 | J26: 0 | K26: 0 | L26: 0 | M26: 0 | N26: 0
A27: 총계 | D27: 400880 | E27: 0 | F27: 0 | G27: 0 | H27: 293459 | I27: 73416 | J27: 11960 | K27: 378835 | L27: -22045 | M27: 73416 | N27: 11960

Sheet 총괄국국제2014
A1: 구분1 | B1: 구분2 | C1: 구분3 | D1: 국내일반통상빠른우편 | E1: 국내일반통상빠른우편 | F1: 국내일반통상보통우편 | G1: 국내일반통상보통우편 | H1: 국내일반통상무료우편물수 | I1: 국내일반통상무료우편요금 | J1: 국내일반통상우편물수소계 | K1: 국내일반통상우편요금소계 | L1: 국내특수통상빠른우편물수 | M1: 국내특수통상빠른우편요금 | N1: 국내특수통상보통우편물수 | O1: 국내특수통상보통우편요금 | P1: 국내특수통상무료우편물수 | Q1: 국내특수통상무료우편요금 | R1: 국내특수통상우편물수소계 | S1: 국내특수통상우편요금소계 | T1: 국내일반소포빠른우편물수 | U1: 국내일반소포빠른우편요금 | V1: 국내일반소포보통우편물수 | W1: 국내일반소포보통우편요금 | X1: 국내일반소포무료우편물수 | Y1: 국내일반소포무료우편요금 | Z1: 국내일반소포우편물수소계 | AA1: 국내일반소포우편요금소계 | AB1: 국내등기소포빠른우편물수 | AC1: 국내등기소포빠른우편요금 | AD1: 국내등기소포보통우편물수 | AE1: 국내등기소포보통우편요금 | AF1: 국내등기소포무료우편물수 | AG1: 국내등기소포무료우편요금 | AH1: 국내등기소포우편물수소계 | AI1: 국내등기소포우편요금소계 | AJ1: 국내빠른우편물수합계 | AK1: 국내빠른우편요금합계 | AL1: 국내보통우편물수합계 | AM1: 국내보통우편요금합계 | AN1: 국내무료우편물수합계 | AO1: 국내무료우편요금합계 | AP1: 국내종별우편물수합계 | AQ1: 국내종별우편요금합계 | AR1: 일반통상e-그린우편물수 | AS1: 일반통상e-그린우편요금 | AT1: 창구수집물량 | AU1: 창구수집요금 | AV1: 일반통상군사우편물수 | AW1: 일반통상군사우편요금 | AX1: 집배원수집물량 | AY1: 집배원수집요금 | AZ1: 일반통상경조우편카드물수 | BA1: 일반통상경조우편카드요금 | BB1: 연하카드물수 | BC1: 연하카드요금 | BD1: 일반통상선거우편물물수 | BE1: 일반통상선거우편물요금 | BF1: 수집(창구.집배)요금 | BG1: 특수통상통화등기물수 | BH1: 특수통상통화등기요금 | BI1: 특수통상물품등기물수 | BJ1: 특수통상물품등기요금 | BK1: 특수통상유가증권등기물수 | BL1: 특수통상유가증권등기요금 | BM1: 특수통상대금교환물수 | BN1: 특수통상대금교환요금 | BO1: 특수통상내용증명물수 | BP1: 특수통상내용증명요금 | BQ1: 특수통상접수시각증명물수 | BR1: 특수통상접수시각증명요금 | BS1: 특수통상배달증명물수 | BT1: 특수통상배달증명요금 | BU1: 특수통상선거우편물물수 | BV1: 특수통상선거우편물요금 | BW1: 당일특급통상물량 | BX1: 당일특급통상요금 | BY1: 익일오전특급물수 | BZ1: 익일오전특급요금 | CA1: 특수통상특별송달물수 | CB1: 특수통상특별송달요금 | CC1: 특수통상민원우편발송물수 | CD1: 특수통상민원우편발송요금 | CE1: 특수통상경조우편카드물수 | CF1: 특수통상경조우편카드요금 | CG1: Fax우편물수 | CH1: Fax우편요금 | CI1: 특수통상e-그린우편물수 | CJ1: 특수통상e-그린우편요금 | CK1: 소포대금교환물수 | CL1: 소포대금교환요금 | CM1: 소포접수시각증명물수 | CN1: 소포접수시각증명요금 | CO1: 소포배달증명물수 | CP1: 소포배달증명요금 | CQ1: 소포선거우편물물수 | CR1: 소포선거우편물요금 | CS1: 소포당일특급물수 | CT1: 소포당일특급요금 | CU1: 소포익일오전특급물수 | CV1: 소포익일오전특급요금 | CW1: 소포우체국택배물수 | CX1: 소포우체국택배요금 | CY1: 합장소포물수 | CZ1: 합장소포물수 | DA1: 국내안심소포물수 | DB1: 국내안심소포요금 | DC1: 장정소포물수 | DD1: 장정소포요금 | DE1: 우체국쇼핑물수 | DF1: 우체국쇼핑요금 | DG1: 수취인지불소포물수 | DH1: 수취인지불소포요금 | DI1: 감액정기간행물수 | DJ1: 감액정기간행요금 | DK1: 감액서적우편물수 | DL1: 감액서적우편요금 | DM1: 감액다량우편물수 | DN1: 감액다량우편요금 | DO1: 감액여유우편물수 | DP1: 감액여유우편요금 | DQ1: 감액상품광고우편물수 | DR1: 감액홍보우편요금 | DS1: 감액의정보고서물수 | DT1: 감액의정보고서요금 | DU1: 감액비영리단체물수 | DV1: 감액비영리단체요금 | DW1: 감액소계물수 | DX1: 감액소계요금 | DY1: 감액소포우편물수 | DZ1: 감액소포우편요금 | EA1: 감액국제특급우편물수 | EB1: 감액국제특급우편요금 | EC1: 카탈로그계약물수 | ED1: 카탈로그계약요금 | EE1: 백화점상품안내서물수 | EF1: 백화점상품안내서물수 | EG1: 감액우편합계물수 | EH1: 감액우편합계요금 | EI1: 국제일반통상서장선편물수 | EJ1: 국제일반통상서장선편요금 | EK1: 국제일반통상서장SAL물수 | EL1: 국제일반통상서장SAL요금 | EM1: 국제일반통상서장항공편물수 | EN1: 국제일반통상서장항공편요금 | EO1: 국제일반통상서장합계물수 | EP1: 국제일반통상서장합계요금 | EQ1: 국제일반통상엽서선편물수 | ER1: 국제일반통상엽서선편요금 | ES1: 국제일반통상엽서SAL물수 | ET1: 국제일반통상엽서SAL요금 | EU1: 국제일반통상엽서항공편물수 | EV1: 국제일반통상엽서항공편요금 | EW1: 국제일반통상엽서합계물수 | EX1: 국제일반통상엽서합계요금 | EY1: 국제일반통상인쇄물선편물수 | EZ1: 국제일반통상인쇄물선편요금 | FA1: 국제일반통상인쇄물SAL물수 | FB1: 국제일반통상인쇄물SAL요금 | FC1: 국제일반통상인쇄물항공편물수 | FD1: 국제일반통상인쇄물항공편요금 | FE1: 국제일반통상인쇄물합계물수 | FF1: 국제일반통상인쇄물합계물수 | FG1: 국제일반통상소형포장물선편물수 | FH1: 국제일반통상소형포장물선편요금 | FI1: 국제일반통상소형포장물SAL물수 | FJ1: 국제일반통상소형포장물SAL요금 | FK1: 국제일반통상소형포장물항공편물수 | FL1: 국제일반통상소형포장물항공편요금 | FM1: 국제일반통상소형포장물합계물수 | FN1: 국제일반통상소형포장물합계요금 | FO1: 국제일반통상항공서간선편물수 | FP1: 국제일반통상항공서간선편요금 | FQ1: 국제일반통상항공서간SAL물수 | FR1: 국제일반통상항공서간SAL요금 | FS1: 국제일반통상항공서간항공편물수 | FT1: 국제일반통상항공서간항공편요금 | FU1: 국제일반통상항공서간합계물수 | FV1: 국제일반통상항공서간합계요금 | FW1: 국제일반통상우편자루인쇄물선편물수 | FX1: 국제일반통상우편자루인쇄물선편요금 | FY1: 국제일반통상우편자루인쇄물SAL물수 | FZ1: 국제일반통상우편자루인쇄물SAL요금 | GA1: 국제일반통상우편자루인쇄물항공편물수 | GB1: 국제일반통상우편자루인쇄물항공편요금 | GC1: 국제일반통상우편자루인쇄물합계물수 | GD1: 국제일반통상우편자루인쇄물합계요금 | GE1: 국제일반통상맹인용점자우편물선편물수 | GF1: 국제일반통상맹인용점자우편물선편요금 | GG1: 국제일반통상맹인용점자우편물SAL물수 | GH1: 국제일반통상맹인용점자우편물SAL요금 | GI1: 국제일반통상맹인용점자우편물항공편물수 | GJ1: 국제일반통상맹인용점자우편물항공편요금 | GK1: 국제일반통상맹인용점자우편물합계물수 | GL1: 국제일반통상맹인용점자우편물합계요금 | GM1: 국제일반통상선편소계물수 | GN1: 국제일반통상선편소계요금 | GO1: 국제일반통상SAL소계물수 | GP1: 국제일반통상SAL소계요금 | GQ1: 국제일반통상항공편소계물수 | GR1: 국제일반통상항공편소계요금 | GS1: 국제일반통상합계물수 | GT1: 국제일반통상합계요금 | GU1: 국제특수통상등기선편물수 | GV1: 국제특수통상등기선편요금 | GW1: 국제특수통상등기SAL물수 | GX1: 국제특수통상등기SAL요금 | GY1: 국제특수통상등기항공편물수 | GZ1: 국제특수통상등기항공편요금 | HA1: 국제특수통상등기합계물수 | HB1: 국제특수통상등기합계요금 | HC1: 국제특수통상기록배달선편물수 | HD1: 국제특수통상기록배달선편요금 | HE1: 국제특수통상기록배달SAL물수 | HF1: 국제특수통상기록배달SAL요금 | HG1: 국제특수통상기록배달항공편물수 | HH1: 국제특수통상기록배달항공편요금 | HI1: 국제특수통상기록배달합계물수 | HJ1: 국제특수통상기록배달합계요금 | HK1: 국제특수통상선편소계물수 | HL1: 국제특수통상선편소계요금 | HM1: 국제특수통상SAL소계물수 | HN1: 국제특수통상SAL소계요금 | HO1: 국제특수통상항공편소계물수 | HP1: 국제특수통상항공편소계요금 | HQ1: 국제특수통상합계물수 | HR1: 국제특수통상합계요금 | HS1: 국제K-Packet선편물수 | HT1: 국제K-Packet선편요금 | HU1: 국제K-Packet항공물수 | HV1: 국제K-Packet항공요금 | HW1: 일반통상요금수취인부담물수 | HX1: 일반통상요금수취인부담요금 | HY1: 특수통상요금수취인부담물수 | HZ1: 특수통상요금수취인부담요금 | IA1: 특수통상계약등기물수 | IB1: 특수통상계약등기요금 | IC1: 특수통상일반계약등기물수 | ID1: 특수통상일반계약등기요금 | IE1: 특수통상맞춤형계약등기물수 | IF1: 특수통상맞춤형계약등기요금 | IG1: 특수통상익일특급물수 | IH1: 특수통상익일특급요금 | II1: 소포꽃배달물수 | IJ1: 소포꽃배달요금
A2: 제주청 | B2: 제주우편집중국 | D2: 0 | E2: 0 | F2: 1253819 | G2: 532435900 | H2: 2098 | I2: 0 | J2: 1255917 | K2: 532435900 | L2: 0 | M2: 0 | N2: 32059 | O2: 67820750 | P2: 4915 | Q2: 0 | R2: 36974 | S2: 67820750 | T2: 0 | U2: 0 | V2: 1202 | W2: 2728360 | X2: 9 | Y2: 0 | Z2: 1211 | AA2: 2728360 | AB2: 28360 | AC2: 132957860 | AD2: 0 | AE2: 0 | AF2: 230 | AG2: 0 | AH2: 28590 | AI2: 132957860 | AJ2: 28360 | AK2: 132957860 | AL2: 1287080 | AM2: 602985010 | AN2: 7252 | AO2: 0 | AP2: 1322692 | AQ2: 735942870 | AR2: 414 | AS2: 211620 | AT2: 0 | AU2: 0 | AV2: 0 | AW2: 0 | AX2: 33966 | AY2: 0 | AZ2: 0 | BA2: 0 | BB2: 0 | BC2: 0 | BD2: 241611 | BE2: 288040610 | BF2: -159270 | BG2: 0 | BH2: 0 | BI2: 0 | BJ2: 0 | BK2: 0 | BL2: 0 | BM2: 0 | BN2: 0 | BO2: 432 | BP2: 1003150 | BQ2: 0 | BR2: 0 | BS2: 500 | BT2: 641300 | BU2: 19637 | BV2: 39724760 | BW2: 67 | BX2: 140030 | BY2: 8 | BZ2: 8720 | CA2: 0 | CB2: 0 | CC2: 0 | CD2: 0 | CE2: 0 | CF2: 0 | CG2: 0 | CH2: 0 | CI2: 0 | CJ2: 0 | CK2: 0 | CL2: 0 | CM2: 0 | CN2: 0 | CO2: 0 | CP2: 0 | CQ2: 0 | CR2: 0 | CS2: 27 | CT2: 54000 | CU2: 2 | CV2: 2000 | CW2: 27891 | CX2: 133610970 | CY2: 0 | CZ2: 0 | DA2: 20 | DB2: 135400 | DC2: 0 | DD2: 0 | DE2: 0 | DF2: 0 | DG2: 18361 | DH2: 8857500 | DI2: 448348 | DJ2: 82392650 | DK2: 74966 | DL2: 28506170 | DM2: 409645 | DN2: 312768080 | DO2: 0 | DP2: 0 | DQ2: 0 | DR2: 0 | DS2: 0 | DT2: 0 | DU2: 16344 | DV2: 5168600 | DW2: 949303 | DX2: 428835500 | DY2: 6657 | DZ2: 48559236 | EA2: 0 | EB2: 0 | EC2: 0 | ED2: 0 | EE2: 0 | EF2: 0 | EG2: 955960 | EH2: 477394736 | EI2: 0 | EJ2: 0 | EK2: 0 | EL2: 0 | EM2: 2488 | EN2: 4750 | EO2: 2488 | EP2: 4750 | EQ2: 0 | ER2: 0 | ES2: 0 | ET2: 0 | EU2: 2 | EV2: 800 | EW2: 2 | EX2: 800 | EY2: 0 | EZ2: 0 | FA2: 0 | FB2: 0 | FC2: 1361 | FD2: 2568000 | FE2: 1361 | FF2: 2568000 | FG2: 0 | FH2: 0 | FI2: 0 | FJ2: 0 | FK2: 0 | FL2: 0 | FM2: 0 | FN2: 0 | FO2: 0 | FP2: 0 | FQ2: 0 | FR2: 0 | FS2: 0 | FT2: 0 | FU2: 0 | FV2: 0 | FW2: 0 | FX2: 0 | FY2: 0 | FZ2: 0 | GA2: 0 | GB2: 0 | GC2: 0 | GD2: 0 | GE2: 0 | GF2: 0 | GG2: 0 | GH2: 0 | GI2: 0 | GJ2: 0 | GK2: 0 | GL2: 0 | GM2: 0 | GN2: 0 | GO2: 0 | GP2: 0 | GQ2: 3851 | GR2: 2573550 | GS2: 3851 | GT2: 2573550 | GU2: 0 | GV2: 0 | GW2: 0 | GX2: 0 | GY2: 0 | GZ2: 0 | HA2: 0 | HB2: 0 | HC2: 0 | HD2: 0 | HE2: 0 | HF2: 0 | HG2: 0 | HH2: 0 | HI2: 0 | HJ2: 0 | HK2: 0 | HL2: 0 | HM2: 0 | HN2: 0 | HO2: 0 | HP2: 0 | HQ2: 0 | HR2: 0 | HS2: 0 | HT2: 0 | HU2: 0 | HV2: 0 | HW2: 1 | HX2: 300 | HY2: 18177 | HZ2: 35113450 | IA2: 0 | IB2: 0 | IC2: 0 | ID2: 0 | IE2: 0 | IF2: 0 | IG2: 1786 | IH2: 498420 | II2: 0 | IJ2: 0
A3: 제주청 | B3: 제주 | D3: 0 | E3: 0 | F3: 4359070 | G3: 1466924890 | H3: 4535 | I3: 0 | J3: 4363605 | K3: 1466924890 | L3: 0 | M3: 0 | N3: 767274 | O3: 1946719070 | P3: 6508 | Q3: 0 | R3: 773782 | S3: 1946719070 | T3: 0 | U3: 0 | V3: 12950 | W3: 28126050 | X3: 41 | Y3: 0 | Z3: 12991 | AA3: 28126050 | AB3: 876700 | AC3: 4643275420 | AD3: 0 | AE3: 0 | AF3: 3216 | AG3: 893500 | AH3: 879916 | AI3: 4644168920 | AJ3: 876700 | AK3: 4643275420 | AL3: 5139294 | AM3: 3441770010 | AN3: 14300 | AO3: 893500 | AP3: 6030294 | AQ3: 8085938930 | AR3: 1701110 | AS3: 644818520 | AT3: 24558 | AU3: 0 | AV3: 4029 | AW3: 604350 | AX3: 1396 | AY3: 0 | AZ3: 2132 | BA3: 3929000 | BB3: 76 | BC3: 72800 | BD3: 35756 | BE3: 14756010 | BF3: 37170970 | BG3: 2 | BH3: 4000 | BI3: 15 | BJ3: 95000 | BK3: 594 | BL3: 4323500 | BM3: 0 | BN3: 0 | BO3: 20429 | BP3: 36711500 | BQ3: 4 | BR3: 1200 | BS3: 8414 | BT3: 10704800 | BU3: 2233 | BV3: 4424910 | BW3: 13940 | BX3: 29134600 | BY3: 3894 | BZ3: 4244460 | CA3: 159938 | CB3: 201677900 | CC3: 105 | CD3: 468830 | CE3: 31 | CF3: 188850 | CG3: 6646 | CH3: 2159950 | CI3: 18411 | CJ3: 44123770 | CK3: 2 | CL3: 10500 | CM3: 0 | CN3: 0 | CO3: 35 | CP3: 43100 | CQ3: 0 | CR3: 0 | CS3: 63833 | CT3: 127660000 | CU3: 4612 | CV3: 4606000 | CW3: 423492 | CX3: 1716096300 | CY3: 0 | CZ3: 0 | DA3: 313 | DB3: 2567400 | DC3: 0 | DD3: 0 | DE3: 36842 | DF3: 245316850 | DG3: 40326 | DH3: 20096000 | DI3: 81759 | DJ3: 16647490 | DK3: 38622 | DL3: 16970670 | DM3: 3219 | DN3: 888440 | DO3: 0 | DP3: 0 | DQ3: 0 | DR3: 0 | DS3: 0 | DT3: 0 | DU3: 42378 | DV3: 13368370 | DW3: 165978 | DX3: 47874970 | DY3: 203267 | DZ3: 1261882190 | EA3: 3876 | EB3: 129371750 | EC3: 0 | ED3: 0 | EE3: 0 | EF3: 0 | EG3: 373121 | EH3: 1439128910 | EI3: 0 | EJ3: 0 | EK3: 0 | EL3: 0 | EM3: 7833 | EN3: 6475420 | EO3: 7833 | EP3: 6475420 | EQ3: 0 | ER3: 0 | ES3: 0 | ET3: 0 | EU3: 12531 | EV3: 4837300 | EW3: 12531 | EX3: 4837300 | EY3: 1 | EZ3: 1320 | FA3: 0 | FB3: 0 | FC3: 7374 | FD3: 10335310 | FE3: 7375 | FF3: 10336630 | FG3: 5 | FH3: 11310 | FI3: 0 | FJ3: 0 | FK3: 4350 | FL3: 16199590 | FM3: 4355 | FN3: 16210900 | FO3: 0 | FP3: 0 | FQ3: 0 | FR3: 0 | FS3: 6 | FT3: 2700 | FU3: 6 | FV3: 2700 | FW3: 0 | FX3: 0 | FY3: 0 | FZ3: 0 | GA3: 0 | GB3: 0 | GC3: 0 | GD3: 0 | GE3: 0 | GF3: 0 | GG3: 0 | GH3: 0 | GI3: 0 | GJ3: 0 | GK3: 0 | GL3: 0 | GM3: 6 | GN3: 12630 | GO3: 0 | GP3: 0 | GQ3: 32094 | GR3: 37850320 | GS3: 32100 | GT3: 37862950 | GU3: 0 | GV3: 0 | GW3: 0 | GX3: 0 | GY3: 2148 | GZ3: 13325160 | HA3: 2148 | HB3: 13325160 | HC3: 0 | HD3: 0 | HE3: 0 | HF3: 0 | HG3: 0 | HH3: 0 | HI3: 0 | HJ3: 0 | HK3: 0 | HL3: 0 | HM3: 0 | HN3: 0 | HO3: 2148 | HP3: 13325160 | HQ3: 2148 | HR3: 13325160 | HS3: 0 | HT3: 0 | HU3: 62 | HV3: 430930 | HW3: 1813 | HX3: 610770 | HY3: 2865 | HZ3: 5976470 | IA3: 0 | IB3: 0 | IC3: 17161 | ID3: 32605900 | IE3: 961 | IF3: 2404400 | IG3: 195289 | IH3: 52153980 | II3: 13 | IJ3: 60300
A4: 제주청 | B4: 서귀포 | D4: 0 | E4: 0 | F4: 1756165 | G4: 601301440 | H4: 926 | I4: 0 | J4: 1757091 | K4: 601301440 | L4: 0 | M4: 0 | N4: 171875 | O4: 389833790 | P4: 4207 | Q4: 0 | R4: 176082 | S4: 389833790 | T4: 0 | U4: 0 | V4: 1544 | W4: 3193130 | X4: 1 | Y4: 0 | Z4: 1545 | AA4: 3193130 | AB4: 745172 | AC4: 3246793990 | AD4: 0 | AE4: 0 | AF4: 954 | AG4: 0 | AH4: 746126 | AI4: 3246793990 | AJ4: 745172 | AK4: 3246793990 | AL4: 1929584 | AM4: 994328360 | AN4: 6088 | AO4: 0 | AP4: 2680844 | AQ4: 4241122350 | AR4: 695521 | AS4: 258423110 | AT4: 7292 | AU4: 0 | AV4: 330 | AW4: 49520 | AX4: 3968 | AY4: 0 | AZ4: 382 | BA4: 774000 | BB4: 302 | BC4: 242200 | BD4: 70484 | BE4: 96254280 | BF4: 946770 | BG4: 6 | BH4: 9000 | BI4: 5 | BJ4: 46500 | BK4: 390 | BL4: 8534000 | BM4: 0 | BN4: 0 | BO4: 3746 | BP4: 8545000 | BQ4: 1 | BR4: 300 | BS4: 805 | BT4: 1013200 | BU4: 8556 | BV4: 17218600 | BW4: 1296 | BX4: 2708640 | BY4: 460 | BZ4: 501400 | CA4: 5963 | CB4: 7533800 | CC4: 21 | CD4: 93670 | CE4: 80 | CF4: 380160 | CG4: 4134 | CH4: 1369750 | CI4: 6961 | CJ4: 13592670 | CK4: 2 | CL4: 7500 | CM4: 0 | CN4: 0 | CO4: 30 | CP4: 32400 | CQ4: 0 | CR4: 0 | CS4: 14755 | CT4: 29510000 | CU4: 754 | CV4: 754000 | CW4: 512848 | CX4: 1920038800 | CY4: 0 | CZ4: 0 | DA4: 105 | DB4: 745500 | DC4: 0 | DD4: 0 | DE4: 85409 | DF4: 421486020 | DG4: 18442 | DH4: 9066000 | DI4: 28472 | DJ4: 5008390 | DK4: 41656 | DL4: 17595960 | DM4: 96757 | DN4: 94619800 | DO4: 0 | DP4: 0 | DQ4: 0 | DR4: 0 | DS4: 64091 | DT4: 8248500 | DU4: 2927 | DV4: 927080 | DW4: 233903 | DX4: 126399730 | DY4: 105290 | DZ4: 611703286 | EA4: 779 | EB4: 36528529 | EC4: 0 | ED4: 0 | EE4: 0 | EF4: 0 | EG4: 339972 | EH4: 774631545 | EI4: 0 | EJ4: 0 | EK4: 0 | EL4: 0 | EM4: 1553 | EN4: 1374630 | EO4: 1553 | EP4: 1374630 | EQ4: 3 | ER4: 840 | ES4: 0 | ET4: 0 | EU4: 3080 | EV4: 1233600 | EW4: 3083 | EX4: 1234440 | EY4: 0 | EZ4: 0 | FA4: 0 | FB4: 0 | FC4: 826 | FD4: 1723160 | FE4: 826 | FF4: 1723160 | FG4: 3 | FH4: 13470 | FI4: 0 | FJ4: 0 | FK4: 309 | FL4: 1673370 | FM4: 312 | FN4: 1686840 | FO4: 0 | FP4: 0 | FQ4: 0 | FR4: 0 | FS4: 0 | FT4: 0 | FU4: 0 | FV4: 0 | FW4: 0 | FX4: 0 | FY4: 0 | FZ4: 0 | GA4: 0 | GB4: 0 | GC4: 0 | GD4: 0 | GE4: 0 | GF4: 0 | GG4: 0 | GH4: 0 | GI4: 0 | GJ4: 0 | GK4: 0 | GL4: 0 | GM4: 6 | GN4: 14310 | GO4: 0 | GP4: 0 | GQ4: 5768 | GR4: 6004760 | GS4: 5774 | GT4: 6019070 | GU4: 0 | GV4: 0 | GW4: 0 | GX4: 0 | GY4: 196 | GZ4: 1711510 | HA4: 196 | HB4: 1711510 | HC4: 0 | HD4: 0 | HE4: 0 | HF4: 0 | HG4: 0 | HH4: 0 | HI4: 0 | HJ4: 0 | HK4: 0 | HL4: 0 | HM4: 0 | HN4: 0 | HO4: 196 | HP4: 1711510 | HQ4: 196 | HR4: 1711510 | HS4: 0 | HT4: 0 | HU4: 0 | HV4: 0 | HW4: 20 | HX4: 7920 | HY4: 8063 | HZ4: 15718400 | IA4: 0 | IB4: 0 | IC4: 0 | ID4: 0 | IE4: 70 | IF4: 0 | IG4: 52534 | IH4: 13926270 | II4: 12 | IJ4: 43800
A5: 합계 | D5: 0 | E5: 0 | F5: 7369054 | G5: 2600662230 | H5: 7559 | I5: 0 | J5: 7376613 | K5: 2600662230 | L5: 0 | M5: 0 | N5: 971208 | O5: 2404373610 | P5: 15630 | Q5: 0 | R5: 986838 | S5: 2404373610 | T5: 0 | U5: 0 | V5: 15696 | W5: 34047540 | X5: 51 | Y5: 0 | Z5: 15747 | AA5: 34047540 | AB5: 1650232 | AC5: 8023027270 | AD5: 0 | AE5: 0 | AF5: 4400 | AG5: 893500 | AH5: 1654632 | AI5: 8023920770 | AJ5: 1650232 | AK5: 8023027270 | AL5: 8355958 | AM5: 5039083380 | AN5: 27640 | AO5: 893500 | AP5: 10033830 | AQ5: 13063004150 | AR5: 2397045 | AS5: 903453250 | AT5: 31850 | AU5: 0 | AV5: 4359 | AW5: 653870 | AX5: 39330 | AY5: 0 | AZ5: 2514 | BA5: 4703000 | BB5: 378 | BC5: 315000 | BD5: 347851 | BE5: 399050900 | BF5: 37958470 | BG5: 8 | BH5: 13000 | BI5: 20 | BJ5: 141500 | BK5: 984 | BL5: 12857500 | BM5: 0 | BN5: 0 | BO5: 24607 | BP5: 46259650 | BQ5: 5 | BR5: 1500 | BS5: 9719 | BT5: 12359300 | BU5: 30426 | BV5: 61368270 | BW5: 15303 | BX5: 31983270 | BY5: 4362 | BZ5: 4754580 | CA5: 165901 | CB5: 209211700 | CC5: 126 | CD5: 562500 | CE5: 111 | CF5: 569010 | CG5: 10780 | CH5: 3529700 | CI5: 25372 | CJ5: 57716440 | CK5: 4 | CL5: 18000 | CM5: 0 | CN5: 0 | CO5: 65 | CP5: 75500 | CQ5: 0 | CR5: 0 | CS5: 78615 | CT5: 157224000 | CU5: 5368 | CV5: 5362000 | CW5: 964231 | CX5: 3769746070 | CY5: 0 | CZ5: 0 | DA5: 438 | DB5: 3448300 | DC5: 0 | DD5: 0 | DE5: 122251 | DF5: 666802870 | DG5: 77129 | DH5: 38019500 | DI5: 558579 | DJ5: 104048530 | DK5: 155244 | DL5: 63072800 | DM5: 509621 | DN5: 408276320 | DO5: 0 | DP5: 0 | DQ5: 0 | DR5: 0 | DS5: 64091 | DT5: 8248500 | DU5: 61649 | DV5: 19464050 | DW5: 1349184 | DX5: 603110200 | DY5: 315214 | DZ5: 1922144712 | EA5: 4655 | EB5: 165900279 | EC5: 0 | ED5: 0 | EE5: 0 | EF5: 0 | EG5: 1669053 | EH5: 2691155191 | EI5: 0 | EJ5: 0 | EK5: 0 | EL5: 0 | EM5: 11874 | EN5: 7854800 | EO5: 11874 | EP5: 7854800 | EQ5: 3 | ER5: 840 | ES5: 0 | ET5: 0 | EU5: 15613 | EV5: 6071700 | EW5: 15616 | EX5: 6072540 | EY5: 1 | EZ5: 1320 | FA5: 0 | FB5: 0 | FC5: 9561 | FD5: 14626470 | FE5: 9562 | FF5: 14627790 | FG5: 8 | FH5: 24780 | FI5: 0 | FJ5: 0 | FK5: 4659 | FL5: 17872960 | FM5: 4667 | FN5: 17897740 | FO5: 0 | FP5: 0 | FQ5: 0 | FR5: 0 | FS5: 6 | FT5: 2700 | FU5: 6 | FV5: 2700 | FW5: 0 | FX5: 0 | FY5: 0 | FZ5: 0 | GA5: 0 | GB5: 0 | GC5: 0 | GD5: 0 | GE5: 0 | GF5: 0 | GG5: 0 | GH5: 0 | GI5: 0 | GJ5: 0 | GK5: 0 | GL5: 0 | GM5: 12 | GN5: 26940 | GO5: 0 | GP5: 0 | GQ5: 41713 | GR5: 46428630 | GS5: 41725 | GT5: 46455570 | GU5: 0 | GV5: 0 | GW5: 0 | GX5: 0 | GY5: 2344 | GZ5: 15036670 | HA5: 2344 | HB5: 15036670 | HC5: 0 | HD5: 0 | HE5: 0 | HF5: 0 | HG5: 0 | HH5: 0 | HI5: 0 | HJ5: 0 | HK5: 0 | HL5: 0 | HM5: 0 | HN5: 0 | HO5: 2344 | HP5: 15036670 | HQ5: 2344 | HR5: 15036670 | HS5: 0 | HT5: 0 | HU5: 62 | HV5: 430930 | HW5: 1834 | HX5: 618990 | HY5: 29105 | HZ5: 56808320 | IA5: 0 | IB5: 0 | IC5: 17161 | ID5: 32605900 | IE5: 1031 | IF5: 2404400 | IG5: 249609 | IH5: 66578670 | II5: 25 | IJ5: 104100
A6: 구분1 | B6: 구분2 | C6: 구분3 | D6: 국제특급EMS선편물수 | E6: 국제특급EMS선편요금 | F6: 국제특급EMS SAL물수 | G6: 국제특급EMS SAL요금 | H6: 국제특급EMS항공편물수 | I6: 국제특급EMS항공편요금 | J6: 국제특급EMS합계물수 | K6: 국제특급EMS합계요금 | L6: 국제특급EMS프리미엄선편물수 | M6: 국제특급EMS프리미엄선편요금 | N6: 국제특급EMS프리미엄SAL물수 | O6: 국제특급EMS프리미엄SAL요금 | P6: 국제특급EMS프리미엄항공편물수 | Q6: 국제특급EMS프리미엄항공편요금 | R6: 국제특급EMS프리미엄합계물수 | S6: 국제특급EMS프리미엄합계요금 | T6: EMS선납봉투판매물수 | U6: EMS선납봉투판매요금 | V6: 국제특급선편소계물수 | W6: 국제특급선편소계요금 | X6: 국제특급SAL소계물수 | Y6: 국제특급SAL소계요금 | Z6: 국제특급항공편소계물수 | AA6: 국제특급항공편소계요금 | AB6: 국제특급합계물수 | AC6: 국제특급합계요금 | AD6: 국제보통소포선편물수 | AE6: 국제보통소포선편요금 | AF6: 국제보통소포SAL물수 | AG6: 국제보통소포SAL요금 | AH6: 국제보통소포항공편물수 | AI6: 국제보통소포항공편요금 | AJ6: 국제보통소포합계물수 | AK6: 국제보통소포합계요금 | AL6: 국제보험소포선편물수 | AM6: 국제보험소포선편요금 | AN6: 국제보험소포SAL물수 | AO6: 국제보험소포SAL요금 | AP6: 국제보험소포항공편물수 | AQ6: 국제보험소포항공편요금 | AR6: 국제보험소포합계물수 | AS6: 국제보험소포합계요금 | AT6: 국제소포선편소계물수 | AU6: 국제소포선편소계요금 | AV6: 국제소포SAL소계물수 | AW6: 국제소포SAL소계요금 | AX6: 국제소포항공편소계물수 | AY6: 국제소포항공편소계요금 | AZ6: 국제소포합계물수 | BA6: 국제소포합계요금 | BB6: 국제선편합계물수 | BC6: 국제선편합계요금 | BD6: 국제SAL합계물수 | BE6: 국제SAL합계요금 | BF6: 국제항공편합계물수 | BG6: 국제항공편합계요금 | BH6: 국제우편물합계물수 | BI6: 국제우편물합계요금 | BJ6: 일반통상접수총계물수 | BK6: 일반통상접수총계요금 | BL6: 특수통상접수총계물수 | BM6: 특수통상접수총계요금 | BN6: 소포접수총계물수 | BO6: 소포접수총계요금 | BP6: 접수총계물수 | BQ6: 접수총계요금 | BR6: 우표엽서판매액(할인된금액) | BS6: 우표엽서판매수량 | BT6: 통신판매금액 | BU6: 요금별납국내우편일반통상물수 | BV6: 요금별납국내우편일반통상요금 | BW6: 요금별납국내우편특수통상물수 | BX6: 요금별납국내우편특수통상요금 | BY6: 요금별납국내우편소포물수 | BZ6: 요금별납국내우편소포요금 | CA6: 요금별납국내우편합계물수 | CB6: 요금별납국내우편합계요금 | CC6: 요금별납국제우편일반통상물수 | CD6: 요금별납국제우편일반통상요금 | CE6: 요금별납국제우편특수통상물수 | CF6: 요금별납국제우편특수통상요금 | CG6: 요금별납국제우편소포물수 | CH6: 요금별납국제우편소포요금 | CI6: 요금별납국제우편합계물수 | CJ6: 요금별납국제우편합계요금 | CK6: 요금별납일반통상소계물수 | CL6: 요금별납일반통상소계요금 | CM6: 요금별납특수통상소계물수 | CN6: 요금별납특수통상소계요금 | CO6: 요금별납소포소계물수 | CP6: 요금별납소포소계요금 | CQ6: 요금별납합계물수 | CR6: 요금별납합계요금 | CS6: 요금계기별납국내우편일반통상물수 | CT6: 요금계기별납국내우편일반통상요금 | CU6: 요금계기별납국내우편특수통상물수 | CV6: 요금계기별납국내우편특수통상요금 | CW6: 요금계기별납국내우편소포물수 | CX6: 요금계기별납국내우편소포요금 | CY6: 요금계기별납국내우편합계물수 | CZ6: 요금계기별납국내우편합계요금 | DA6: 요금계기별납국제우편일반통상물수 | DB6: 요금계기별납국제우편일반통상요금 | DC6: 요금계기별납국제우편특수통상물수 | DD6: 요금계기별납국제우편특수통상요금 | DE6: 요금계기별납국제우편소포물수 | DF6: 요금계기별납국제우편소포요금 | DG6: 요금계기별납국제우편합계물수 | DH6: 요금계기별납국제우편합계요금 | DI6: 요금계기별납일반통상소계물수 | DJ6: 요금계기별납일반통상소계요금 | DK6: 요금계기별납특수통상소계물수 | DL6: 요금계기별납특수통상소계요금 | DM6: 요금계기별납소포소계물수 | DN6: 요금계기별납소포소계요금 | DO6: 요금계기별납합계물수 | DP6: 요금계기별납합계요금 | DQ6: 요금후납국내우편일반통상물수 | DR6: 요금후납국내우편일반통상요금 | DS6: 요금후납국내우편특수통상물수 | DT6: 요금후납국내우편특수통상요금 | DU6: 요금후납국내우편소포물수 | DV6: 요금후납국내우편소포요금 | DW6: 요금후납국내우편합계물수 | DX6: 요금후납국내우편합계요금 | DY6: 요금후납국제우편일반통상물수 | DZ6: 요금후납국제우편일반통상요금 | EA6: 요금후납국제우편특수통상물수 | EB6: 요금후납국제우편특수통상요금 | EC6: 요금후납국제우편소포물수 | ED6: 요금후납국제우편소포요금 | EE6: 요금후납국제우편합계물수 | EF6: 요금후납국제우편합계요금 | EG6: 요금후납일반통상소계물수 | EH6: 요금후납일반통상소계요금 | EI6: 요금후납특수통상소계물수 | EJ6: 요금후납특수통상소계요금 | EK6: 요금후납소포소계물수 | EL6: 요금후납소포소계요금 | EM6: 요금후납합계물수 | EN6: 요금후납합계요금 | EO6: 요금계기후납국내우편일반통상물수 | EP6: 요금계기후납국내우편일반통상요금 | EQ6: 요금계기후납국내우편특수통상물수 | ER6: 요금계기후납국내우편특수통상요금 | ES6: 요금계기후납국내우편소포물수 | ET6: 요금계기후납국내우편소포요금 | EU6: 요금계기후납국내우편합계물수 | EV6: 요금계기후납국내우편합계요금 | EW6: 요금계기후납국제우편일반통상물수 | EX6: 요금계기후납국제우편일반통상요금 | EY6: 요금계기후납국제우편특수통상물수 | EZ6: 요금계기후납국제우편특수통상요금 | FA6: 요금계기후납국제우편소포물수 | FB6: 요금계기후납국제우편소포요금 | FC6: 요금계기후납국제우편합계물수 | FD6: 요금계기후납국제우편합계요금 | FE6: 요금계기후납일반통상소계물수 | FF6: 요금계기후납일반통상소계요금 | FG6: 요금계기후납특수통상소계물수 | FH6: 요금계기후납특수통상소계요금 | FI6: 요금계기후납소포소계물수 | FJ6: 요금계기후납소포소계요금 | FK6: 요금계기후납합계물수 | FL6: 요금계기후납합계요금 | FM6: 별후납국내일반통상합계물수 | FN6: 별후납국내일반통상합계요금 | FO6: 별후납국내특수통상합계물수 | FP6: 별후납국내특수통상합계요금 | FQ6: 별후납국내소포합계물수 | FR6: 별후납국내소포합계요금 | FS6: 별후납국내합계물수 | FT6: 별후납국내합계요금 | FU6: 별후납국제일반통상합계물수 | FV6: 별후납국제일반통상합계요금 | FW6: 별후납국제특수통상합계물수 | FX6: 별후납국제특수통상합계요금 | FY6: 별후납국제소포합계물수 | FZ6: 별후납국제소포합계요금 | GA6: 별후납국제합계물수 | GB6: 별후납국제합계요금 | GC6: 별후납일반통상합계물수 | GD6: 별후납일반통상합계요금 | GE6: 별후납특수통상합계물수 | GF6: 별후납특수통상합계요금 | GG6: 별후납소포합계물수 | GH6: 별후납소포합계요금 | GI6: 별후납합계물수 | GJ6: 별후납합계요금 | GK6: 통신사무일반통상물수 | GL6: 통신사무일반통상요금 | GM6: 통신사무특수통상물수 | GN6: 통신사무특수통상요금 | GO6: 통신사무소포물수 | GP6: 통신사무소포요금 | GQ6: 통신사무물수합계 | GR6: 통신사무요금합계 | GS6: 일반통상우표첩부물수 | GT6: 일반통상우표첩부금액 | GU6: 특수통상우표첩부물수 | GV6: 특수통상우표첩부금액 | GW6: 소포우표첩부물수 | GX6: 소포우표첩부금액 | GY6: 우표첩부물수합계 | GZ6: 우표첩부금액합계 | HA6: 신용카드결제물수(즉납) | HB6: 신용카드결제금액(즉납) | HC6: 신용카드결제물수(후납) | HD6: 신용카드결제금액(후납) | HE6: 신용카드결제물수(전체) | HF6: 신용카드결제금액(전체)
A7: 제주청 | B7: 제주우편집중국 | D7: 0 | E7: 0 | F7: 0 | G7: 0 | H7: 912 | I7: 61070900 | J7: 912 | K7: 61070900 | L7: 0 | M7: 0 | N7: 0 | O7: 0 | P7: 0 | Q7: 0 | R7: 0 | S7: 0 | T7: 0 | U7: 0 | V7: 0 | W7: 0 | X7: 0 | Y7: 0 | Z7: 912 | AA7: 61070900 | AB7: 912 | AC7: 61070900 | AD7: 0 | AE7: 0 | AF7: 0 | AG7: 0 | AH7: 0 | AI7: 0 | AJ7: 0 | AK7: 0 | AL7: 0 | AM7: 0 | AN7: 0 | AO7: 0 | AP7: 0 | AQ7: 0 | AR7: 0 | AS7: 0 | AT7: 0 | AU7: 0 | AV7: 0 | AW7: 0 | AX7: 0 | AY7: 0 | AZ7: 0 | BA7: 0 | BB7: 0 | BC7: 0 | BD7: 0 | BE7: 0 | BF7: 4763 | BG7: 63644450 | BH7: 4763 | BI7: 63644450 | BJ7: 1259768 | BK7: 535009450 | BL7: 37886 | BM7: 128891650 | BN7: 29801 | BO7: 135686220 | BP7: 1327455 | BQ7: 799587320 | BR7: 0 | BS7: 0 | BT7: 0 | BU7: 547574 | BV7: 169097090 | BW7: 125 | BX7: 236420 | BY7: 0 | BZ7: 0 | CA7: 547699 | CB7: 169333510 | CC7: 18 | CD7: 32580 | CE7: 0 | CF7: 0 | CG7: 0 | CH7: 0 | CI7: 18 | CJ7: 32580 | CK7: 547592 | CL7: 169129670 | CM7: 125 | CN7: 236420 | CO7: 0 | CP7: 0 | CQ7: 547717 | CR7: 169366090 | CS7: 0 | CT7: 0 | CU7: 0 | CV7: 0 | CW7: 0 | CX7: 0 | CY7: 0 | CZ7: 0 | DA7: 0 | DB7: 0 | DC7: 0 | DD7: 0 | DE7: 0 | DF7: 0 | DG7: 0 | DH7: 0 | DI7: 0 | DJ7: 0 | DK7: 0 | DL7: 0 | DM7: 0 | DN7: 0 | DO7: 0 | DP7: 0 | DQ7: 672666 | DR7: 362663640 | DS7: 12793 | DT7: 30175970 | DU7: 1481 | DV7: 6166560 | DW7: 686940 | DX7: 399006170 | DY7: 0 | DZ7: 0 | EA7: 0 | EB7: 0 | EC7: 0 | ED7: 0 | EE7: 0 | EF7: 0 | EG7: 672666 | EH7: 362663640 | EI7: 12793 | EJ7: 30175970 | EK7: 1481 | EL7: 6166560 | EM7: 686940 | EN7: 399006170 | EO7: 0 | EP7: 0 | EQ7: 0 | ER7: 0 | ES7: 0 | ET7: 0 | EU7: 0 | EV7: 0 | EW7: 0 | EX7: 0 | EY7: 0 | EZ7: 0 | FA7: 0 | FB7: 0 | FC7: 0 | FD7: 0 | FE7: 0 | FF7: 0 | FG7: 0 | FH7: 0 | FI7: 0 | FJ7: 0 | FK7: 0 | FL7: 0 | FM7: 1220240 | FN7: 531760730 | FO7: 12918 | FP7: 30412390 | FQ7: 1481 | FR7: 6166560 | FS7: 1234639 | FT7: 568339680 | FU7: 18 | FV7: 32580 | FW7: 0 | FX7: 0 | FY7: 0 | FZ7: 0 | GA7: 18 | GB7: 32580 | GC7: 1220258 | GD7: 531793310 | GE7: 12918 | GF7: 30412390 | GG7: 1481 | GH7: 6166560 | GI7: 1234657 | GJ7: 568372260 | GK7: 0 | GL7: 0 | GM7: 1 | GN7: 3100 | GO7: 4 | GP7: 16920 | GQ7: 5 | GR7: 20020 | GS7: 43 | GT7: 16020 | GU7: 69 | GV7: 143250 | GW7: 0 | GX7: 0 | GY7: 112 | GZ7: 159270 | HA7: 467329 | HB7: 223361670 | HC7: 388055 | HD7: 299466590 | HE7: 855384 | HF7: 522828260
A8: 제주청 | B8: 제주 | D8: 0 | E8: 0 | F8: 0 | G8: 0 | H8: 25065 | I8: 1021735360 | J8: 25065 | K8: 1021735360 | L8: 0 | M8: 0 | N8: 0 | O8: 0 | P8: 100 | Q8: 5829800 | R8: 100 | S8: 5829800 | T8: 0 | U8: 0 | V8: 0 | W8: 0 | X8: 0 | Y8: 0 | Z8: 25165 | AA8: 1027565160 | AB8: 25165 | AC8: 1027565160 | AD8: 968 | AE8: 34648900 | AF8: 0 | AG8: 0 | AH8: 709 | AI8: 33019100 | AJ8: 1677 | AK8: 67668000 | AL8: 23 | AM8: 927350 | AN8: 0 | AO8: 0 | AP8: 4 | AQ8: 240150 | AR8: 27 | AS8: 1167500 | AT8: 991 | AU8: 35576250 | AV8: 0 | AW8: 0 | AX8: 713 | AY8: 33259250 | AZ8: 1704 | BA8: 68835500 | BB8: 997 | BC8: 35588880 | BD8: 0 | BE8: 0 | BF8: 60182 | BG8: 1112430820 | BH8: 61179 | BI8: 1148019700 | BJ8: 4395705 | BK8: 1504787840 | BL8: 801157 | BM8: 2988040320 | BN8: 894611 | BO8: 4741130470 | BP8: 6091473 | BQ8: 9233958630 | BR8: 215916590 | BS8: 445081 | BT8: 8467610 | BU8: 1291212 | BV8: 457730950 | BW8: 4006 | BX8: 11235020 | BY8: 0 | BZ8: 0 | CA8: 1295218 | CB8: 468965970 | CC8: 4585 | CD8: 3423380 | CE8: 0 | CF8: 0 | CG8: 0 | CH8: 0 | CI8: 4585 | CJ8: 3423380 | CK8: 1295797 | CL8: 461154330 | CM8: 4006 | CN8: 11235020 | CO8: 0 | CP8: 0 | CQ8: 1299803 | CR8: 472389350 | CS8: 0 | CT8: 0 | CU8: 0 | CV8: 0 | CW8: 0 | CX8: 0 | CY8: 0 | CZ8: 0 | DA8: 0 | DB8: 0 | DC8: 0 | DD8: 0 | DE8: 0 | DF8: 0 | DG8: 0 | DH8: 0 | DI8: 0 | DJ8: 0 | DK8: 0 | DL8: 0 | DM8: 0 | DN8: 0 | DO8: 0 | DP8: 0 | DQ8: 853387 | DR8: 273257450 | DS8: 371382 | DT8: 980063600 | DU8: 295043 | DV8: 1172516340 | DW8: 1519812 | DX8: 2425837390 | DY8: 1700 | DZ8: 3383920 | EA8: 2767 | EB8: 84258540 | EC8: 2 | ED8: 47000 | EE8: 4469 | EF8: 87689460 | EG8: 855087 | EH8: 276641370 | EI8: 374149 | EJ8: 1064322140 | EK8: 295045 | EL8: 1172563340 | EM8: 1524281 | EN8: 2513526850 | EO8: 0 | EP8: 0 | EQ8: 0 | ER8: 0 | ES8: 0 | ET8: 0 | EU8: 0 | EV8: 0 | EW8: 0 | EX8: 0 | EY8: 0 | EZ8: 0 | FA8: 0 | FB8: 0 | FC8: 0 | FD8: 0 | FE8: 0 | FF8: 0 | FG8: 0 | FH8: 0 | FI8: 0 | FJ8: 0 | FK8: 0 | FL8: 0 | FM8: 2144599 | FN8: 730988400 | FO8: 375388 | FP8: 991298620 | FQ8: 295043 | FR8: 1172516340 | FS8: 2815030 | FT8: 2894803360 | FU8: 6285 | FV8: 6807300 | FW8: 2767 | FX8: 84258540 | FY8: 2 | FZ8: 47000 | GA8: 9054 | GB8: 91112840 | GC8: 2150884 | GD8: 737795700 | GE8: 378155 | GF8: 1075557160 | GG8: 295045 | GH8: 1172563340 | GI8: 2824084 | GJ8: 2985916200 | GK8: 280 | GL8: 142860 | GM8: 9412 | GN8: 22746400 | GO8: 671 | GP8: 2812120 | GQ8: 10363 | GR8: 25701380 | GS8: 70866 | GT8: 23337720 | GU8: 42698 | GV8: 106564800 | GW8: 391 | GX8: 1303390 | GY8: 113955 | GZ8: 131205910 | HA8: 1903216 | HB8: 3405252660 | HC8: 490753 | HD8: 1313631170 | HE8: 2393969 | HF8: 4718883830
A9: 제주청 | B9: 서귀포 | D9: 0 | E9: 0 | F9: 0 | G9: 0 | H9: 7586 | I9: 325914160 | J9: 7586 | K9: 325914160 | L9: 0 | M9: 0 | N9: 0 | O9: 0 | P9: 41 | Q9: 4253470 | R9: 41 | S9: 4253470 | T9: 0 | U9: 0 | V9: 0 | W9: 0 | X9: 0 | Y9: 0 | Z9: 7627 | AA9: 330167630 | AB9: 7627 | AC9: 330167630 | AD9: 495 | AE9: 18398300 | AF9: 0 | AG9: 0 | AH9: 295 | AI9: 20850100 | AJ9: 790 | AK9: 39248400 | AL9: 4 | AM9: 174000 | AN9: 0 | AO9: 0 | AP9: 0 | AQ9: 0 | AR9: 4 | AS9: 174000 | AT9: 499 | AU9: 18572300 | AV9: 0 | AW9: 0 | AX9: 295 | AY9: 20850100 | AZ9: 794 | BA9: 39422400 | BB9: 505 | BC9: 18586610 | BD9: 0 | BE9: 0 | BF9: 13886 | BG9: 358734000 | BH9: 14391 | BI9: 377320610 | BJ9: 1762865 | BK9: 607320510 | BL9: 183905 | BM9: 721712930 | BN9: 748465 | BO9: 3289409520 | BP9: 2695235 | BQ9: 4618442960 | BR9: 42425630 | BS9: 123505 | BT9: 2316440 | BU9: 554887 | BV9: 172047320 | BW9: 0 | BX9: 0 | BY9: 0 | BZ9: 0 | CA9: 554887 | CB9: 172047320 | CC9: 0 | CD9: 0 | CE9: 0 | CF9: 0 | CG9: 0 | CH9: 0 | CI9: 0 | CJ9: 0 | CK9: 554887 | CL9: 172047320 | CM9: 0 | CN9: 0 | CO9: 0 | CP9: 0 | CQ9: 554887 | CR9: 172047320 | CS9: 0 | CT9: 0 | CU9: 0 | CV9: 0 | CW9: 0 | CX9: 0 | CY9: 0 | CZ9: 0 | DA9: 0 | DB9: 0 | DC9: 0 | DD9: 0 | DE9: 0 | DF9: 0 | DG9: 0 | DH9: 0 | DI9: 0 | DJ9: 0 | DK9: 0 | DL9: 0 | DM9: 0 | DN9: 0 | DO9: 0 | DP9: 0 | DQ9: 346471 | DR9: 171759020 | DS9: 58268 | DT9: 127045390 | DU9: 80535 | DV9: 353305570 | DW9: 485274 | DX9: 652109980 | DY9: 9 | DZ9: 64220 | EA9: 457 | EB9: 27541090 | EC9: 19 | ED9: 1567900 | EE9: 485 | EF9: 29173210 | EG9: 346480 | EH9: 171823240 | EI9: 58725 | EJ9: 154586480 | EK9: 80554 | EL9: 354873470 | EM9: 485759 | EN9: 681283190 | EO9: 0 | EP9: 0 | EQ9: 0 | ER9: 0 | ES9: 0 | ET9: 0 | EU9: 0 | EV9: 0 | EW9: 0 | EX9: 0 | EY9: 0 | EZ9: 0 | FA9: 0 | FB9: 0 | FC9: 0 | FD9: 0 | FE9: 0 | FF9: 0 | FG9: 0 | FH9: 0 | FI9: 0 | FJ9: 0 | FK9: 0 | FL9: 0 | FM9: 901358 | FN9: 343806340 | FO9: 58268 | FP9: 127045390 | FQ9: 80535 | FR9: 353305570 | FS9: 1040161 | FT9: 824157300 | FU9: 9 | FV9: 64220 | FW9: 457 | FX9: 27541090 | FY9: 19 | FZ9: 1567900 | GA9: 485 | GB9: 29173210 | GC9: 901367 | GD9: 343870560 | GE9: 58725 | GF9: 154586480 | GG9: 80554 | GH9: 354873470 | GI9: 1040646 | GJ9: 853330510 | GK9: 63 | GL9: 28350 | GM9: 5223 | GN9: 12225520 | GO9: 726 | GP9: 2906170 | GQ9: 6012 | GR9: 15160040 | GS9: 20105 | GT9: 6358020 | GU9: 8671 | GV9: 18001270 | GW9: 97 | GX9: 318520 | GY9: 28873 | GZ9: 24677810 | HA9: 1075913 | HB9: 2433637160 | HC9: 78451 | HD9: 121182250 | HE9: 1154364 | HF9: 2554819410
A10: 합계 | D10: 0 | E10: 0 | F10: 0 | G10: 0 | H10: 33563 | I10: 1408720420 | J10: 33563 | K10: 1408720420 | L10: 0 | M10: 0 | N10: 0 | O10: 0 | P10: 141 | Q10: 10083270 | R10: 141 | S10: 10083270 | T10: 0 | U10: 0 | V10: 0 | W10: 0 | X10: 0 | Y10: 0 | Z10: 33704 | AA10: 1418803690 | AB10: 33704 | AC10: 1418803690 | AD10: 1463 | AE10: 53047200 | AF10: 0 | AG10: 0 | AH10: 1004 | AI10: 53869200 | AJ10: 2467 | AK10: 106916400 | AL10: 27 | AM10: 1101350 | AN10: 0 | AO10: 0 | AP10: 4 | AQ10: 240150 | AR10: 31 | AS10: 1341500 | AT10: 1490 | AU10: 54148550 | AV10: 0 | AW10: 0 | AX10: 1008 | AY10: 54109350 | AZ10: 2498 | BA10: 108257900 | BB10: 1502 | BC10: 54175490 | BD10: 0 | BE10: 0 | BF10: 78831 | BG10: 1534809270 | BH10: 80333 | BI10: 1588984760 | BJ10: 7418338 | BK10: 2647117800 | BL10: 1022948 | BM10: 3838644900 | BN10: 1672877 | BO10: 8166226210 | BP10: 10114163 | BQ10: 14651988910 | BR10: 258342220 | BS10: 568586 | BT10: 10784050 | BU10: 2393673 | BV10: 798875360 | BW10: 4131 | BX10: 11471440 | BY10: 0 | BZ10: 0 | CA10: 2397804 | CB10: 810346800 | CC10: 4603 | CD10: 3455960 | CE10: 0 | CF10: 0 | CG10: 0 | CH10: 0 | CI10: 4603 | CJ10: 3455960 | CK10: 2398276 | CL10: 802331320 | CM10: 4131 | CN10: 11471440 | CO10: 0 | CP10: 0 | CQ10: 2402407 | CR10: 813802760 | CS10: 0 | CT10: 0 | CU10: 0 | CV10: 0 | CW10: 0 | CX10: 0 | CY10: 0 | CZ10: 0 | DA10: 0 | DB10: 0 | DC10: 0 | DD10: 0 | DE10: 0 | DF10: 0 | DG10: 0 | DH10: 0 | DI10: 0 | DJ10: 0 | DK10: 0 | DL10: 0 | DM10: 0 | DN10: 0 | DO10: 0 | DP10: 0 | DQ10: 1872524 | DR10: 807680110 | DS10: 442443 | DT10: 1137284960 | DU10: 377059 | DV10: 1531988470 | DW10: 2692026 | DX10: 3476953540 | DY10: 1709 | DZ10: 3448140 | EA10: 3224 | EB10: 111799630 | EC10: 21 | ED10: 1614900 | EE10: 4954 | EF10: 116862670 | EG10: 1874233 | EH10: 811128250 | EI10: 445667 | EJ10: 1249084590 | EK10: 377080 | EL10: 1533603370 | EM10: 2696980 | EN10: 3593816210 | EO10: 0 | EP10: 0 | EQ10: 0 | ER10: 0 | ES10: 0 | ET10: 0 | EU10: 0 | EV10: 0 | EW10: 0 | EX10: 0 | EY10: 0 | EZ10: 0 | FA10: 0 | FB10: 0 | FC10: 0 | FD10: 0 | FE10: 0 | FF10: 0 | FG10: 0 | FH10: 0 | FI10: 0 | FJ10: 0 | FK10: 0 | FL10: 0 | FM10: 4266197 | FN10: 1606555470 | FO10: 446574 | FP10: 1148756400 | FQ10: 377059 | FR10: 1531988470 | FS10: 5089830 | FT10: 4287300340 | FU10: 6312 | FV10: 6904100 | FW10: 3224 | FX10: 111799630 | FY10: 21 | FZ10: 1614900 | GA10: 9557 | GB10: 120318630 | GC10: 4272509 | GD10: 1613459570 | GE10: 449798 | GF10: 1260556030 | GG10: 377080 | GH10: 1533603370 | GI10: 5099387 | GJ10: 4407618970 | GK10: 343 | GL10: 171210 | GM10: 14636 | GN10: 34975020 | GO10: 1401 | GP10: 5735210 | GQ10: 16380 | GR10: 40881440 | GS10: 91014 | GT10: 29711760 | GU10: 51438 | GV10: 124709320 | GW10: 488 | GX10: 1621910 | GY10: 142940 | GZ10: 156042990 | HA10: 3446458 | HB10: 6062251490 | HC10: 957259 | HD10: 1734280010 | HE10: 4403717 | HF10: 7796531500
A13: 구분2 | B13: 통상 | C13: 소포 | D13: ems | E13: 쇼핑배분 | F13: 합계
A14: 제주우편집중국 | B14: =GT2+HR2+HV2 -> 2573550 | C14: =BA7 -> 0 | D14: =AC7 -> 61070900 | E14: =L23 -> 90815 | F14: 71201820
A15: 제주 | B15: =GT3+HR3+HV3 -> 51619040 | C15: =BA8 -> 68835500 | D15: =AC8 -> 1027565160 | E15: =L24 -> -99300 | F15: 1303022410
A16: 서귀포 | B16: =GT4+HR4+HV4 -> 7730580 | C16: =BA9 -> 39422400 | D16: =AC9 -> 330167630 | E16: =L25 -> 209104 | F16: 431391360
A17: 합계 | B17: =SUM(B14:B16) -> 61923170 | C17: =SUM(C14:C16) -> 108257900 | D17: =SUM(D14:D16) -> 1418803690 | E17: =L26 -> 200619 | F17: =SUM(F14:F16) -> 1805615590
A20: 지방청 | B20: 총괄국 | C20: 접수구분 | D20: 공급국소포료 | E20: 배분소포료 | F20: 배분소포료 | G20: 배분소포료 | H20: 배분소포료 | I20: 배분소포료 | J20: 배분소포료 | K20: 배분소포료 | L20: 최종 쇼핑배분실적 (배분소포료-공급국소포료) | M20: 자국접수등기소포요금배분 | N20: 자국공급등기소포요금배분
A21: 지방청 | B21: 총괄국 | C21: 접수구분 | D21: 공급 | E21: 자주문자공급 | F21: 자주문자공급 | G21: 자주문자공급 | H21: 비추천주문(매출점유비) | I21: 자주문타공급 | J21: 타주문자공급 | K21: 계 | L21: 최종 쇼핑배분실적 (배분소포료-공급국소포료) | M21: 자국접수등기소포요금배분 | N21: 자국공급등기소포요금배분
A22: 지방청 | B22: 총괄국 | C22: 접수구분 | D22: 공급 | E22: 자주문 | F22: 자공급 | G22: 계 | H22: 비추천주문(매출점유비) | I22: 자주문타공급 | J22: 타주문자공급 | K22: 계 | L22: 최종 쇼핑배분실적 (배분소포료-공급국소포료) | M22: 자국접수등기소포요금배분 | N22: 자국공급등기소포요금배분
A23: 제주청 | B23: 제주우편집중국 | D23: 0 | E23: 0 | F23: 0 | G23: 0 | H23: 71775 | I23: 19040 | J23: 0 | K23: 90815 | L23: 90815 | M23: 19040 | N23: 0
A24: 제주청 | B24: 제주 | D24: 99300 | E24: 0 | F24: 0 | G24: 0 | H24: 0 | I24: 0 | J24: 0 | K24: 0 | L24: -99300 | M24: 0 | N24: 0
A25: 제주청 | B25: 서귀포 | D25: 0 | E25: 0 | F25: 0 | G25: 0 | H25: 165264 | I25: 43840 | J25: 0 | K25: 209104 | L25: 209104 | M25: 43840 | N25: 0
A26: 총계 | D26: 99300 | E26: 0 | F26: 0 | G26: 0 | H26: 237039 | I26: 62880 | J26: 0 | K26: 299919 | L26: 200619 | M26: 62880 | N26: 0

Sheet 2015잡수익(총괄국별)
A1: 총괄국별 잡수익 현황(2015. 7월누계)
A3: 관서명 | B3: 우편영업잡수입 | C3: 수탁잡수입 | D3: 합계
A4: 제주 | B4: =SUM(I10,I16) -> 1175100 | C4: =SUM(I22,I28,I34,I40,I46) -> 24204065 | D4: =SUM(B4:C4) -> 25379165
A5: 서귀포 | B5: =SUM(I11,I17) -> 585390 | C5: =SUM(I23,I29,I35,I41,I47) -> 5943531 | D5: =SUM(B5:C5) -> 6528921
A6: 합계 | B6: =SUM(B4:B5) -> 1760490 | C6: =SUM(C4:C5) -> 30147596 | D6: =SUM(D4:D5) -> 31908086
A8: o 우편영업잡수입 : 나만의 우표
A9: 관서명 | B9: 1월 | C9: 2월 | D9: 3월 | E9: 4월 | F9: 5월 | G9: 6월 | H9: 7월 | I9: 합계
A10: 제주 | D10: 252000 | E10: 91300 | F10: 0 | G10: 36800 | I10: =SUM(B10:H10) -> 380100
A11: 서귀포 | D11: 0 | E11: 0 | F11: 0 | I11: =SUM(B11:H11) -> 0
A12: 합계 | B12: =SUM(B10:B11) -> 0 | C12: =SUM(C10:C11) -> 0 | D12: =SUM(D10:D11) -> 252000 | E12: =SUM(E10:E11) -> 91300 | F12: =SUM(F10:F11) -> 0 | G12: =SUM(G10:G11) -> 36800 | H12: =SUM(H10:H11) -> 0 | I12: =SUM(B12:H12) -> 380100
A14: o 우편영업잡수입 : 맞춤형 엽서
A15: 관서명 | B15: 1월 | C15: 2월 | D15: 3월 | E15: 4월 | F15: 5월 | G15: 6월 | H15: 7월 | I15: 합계
A16: 제주 | B16: 0 | D16: 106000 | E16: 159000 | F16: 530000 | I16: =SUM(B16:H16) -> 795000
A17: 서귀포 | B17: 390390 | D17: 195000 | I17: =SUM(B17:H17) -> 585390
A18: 합계 | B18: =SUM(B16:B17) -> 390390 | C18: =SUM(C16:C17) -> 0 | D18: =SUM(D16:D17) -> 301000 | E18: =SUM(E16:E17) -> 159000 | F18: =SUM(F16:F17) -> 530000 | G18: =SUM(G16:G17) -> 0 | H18: =SUM(H16:H17) -> 0 | I18: =SUM(B18:H18) -> 1380390
A20: o 수탁잡수입 : 문화상품권
A21: 관서명 | B21: 1월 | C21: 2월 | D21: 3월 | E21: 4월 | F21: 5월 | G21: 6월 | H21: 7월 | I21: 합계
A22: 제주 | B22: 1500 | C22: 103700 | D22: 185600 | E22: 436800 | F22: 83000 | G22: 41700 | H22: 8897000 | I22: =SUM(B22:G22) -> 852300
A23: 서귀포 | B23: 38100 | C23: 223200 | D23: 19900 | E23: 102600 | F23: 39100 | G23: 140100 | H23: 5532400 | I23: =SUM(B23:G23) -> 563000
A24: 합계 | B24: =SUM(B22:B23) -> 39600 | C24: =SUM(C22:C23) -> 326900 | D24: =SUM(D22:D23) -> 205500 | E24: =SUM(E22:E23) -> 539400 | F24: =SUM(F22:F23) -> 122100 | G24: =SUM(G22:G23) -> 181800 | H24: =SUM(H22:H23) -> 14429400 | I24: =SUM(B24:G24) -> 1415300
A26: o 수탁잡수입 : 온누리상품권
A27: 관서명 | B27: 1월 | C27: 2월 | D27: 3월 | E27: 4월 | F27: 5월 | G27: 6월 | H27: 7월 | I27: 합계
A28: 제주 | B28: 90020 | C28: 457660 | D28: 87990 | E28: 136810 | F28: 207200 | G28: 146050 | H28: 552195 | I28: =SUM(B28:G28) -> 1125730
A29: 서귀포 | B29: 19390 | C29: 106120 | D29: 14630 | E29: 45435 | F29: 50750 | G29: 27515 | H29: 120750 | I29: =SUM(B29:G29) -> 263840
A30: 합계 | B30: =SUM(B28:B29) -> 109410 | C30: =SUM(C28:C29) -> 563780 | D30: =SUM(D28:D29) -> 102620 | E30: =SUM(E28:E29) -> 182245 | F30: =SUM(F28:F29) -> 257950 | G30: =SUM(G28:G29) -> 173565 | H30: =SUM(H28:H29) -> 672945 | I30: =SUM(B30:G30) -> 1389570
A32: o 수탁잡수입 : 알뜰폰(7월 누계) | J32: 7월 | K32: 7월 | L32: 6월
A33: 관서명 | B33: 1월 | C33: 2월 | D33: 3월 | E33: 4월 | F33: 5월 | G33: 6월 | H33: 7월 | I33: 합계 | J33: 단말기 | K33: 요금제 | L33: 연계수수료 | M33: 합계
A34: 제주 | I34: =M34 -> 21650035 | J34: 5348080 | K34: 13259000 | L34: 3042955 | M34: =SUM(J34:L34) -> 21650035
A35: 서귀포 | I35: =M35 -> 4960691 | J35: 1118320 | K35: 3144000 | L35: 698371 | M35: =SUM(J35:L35) -> 4960691
A36: 합계 | I36: =SUM(I34:I35) -> 26610726 | J36: =SUM(J34:J35) -> 6466400 | K36: =SUM(K34:K35) -> 16403000 | L36: =SUM(L34:L35) -> 3741326 | M36: =SUM(M34:M35) -> 26610726
A38: o 수탁잡수입 : 중고휴대폰 매입수수료
A39: 관서명 | B39: 5월 | C39: 6월 | D39: 7월 | E39: 8월 | F39: 9월 | G39: 10월 | H39: 7월 | I39: 합계
A40: 제주 | B40: 216000 | C40: 240000 | D40: 120000 | I40: =SUM(B40:G40) -> 576000
A41: 서귀포 | B41: 24000 | C41: 60000 | D41: 72000 | I41: =SUM(B41:G41) -> 156000
A42: 합계 | B42: =SUM(B40:B41) -> 240000 | C42: =SUM(C40:C41) -> 300000 | D42: =SUM(D40:D41) -> 192000 | E42: =SUM(E40:E41) -> 0 | F42: =SUM(F40:F41) -> 0 | G42: =SUM(G40:G41) -> 0 | H42: =SUM(H40:H41) -> 0 | I42: =SUM(B42:G42) -> 732000
A44: o 수탁잡수입 : 우정청 자체발굴 수탁상품
A45: 관서명 | B45: 1월 | C45: 2월 | D45: 3월 | E45: 4월 | F45: 5월 | G45: 6월 | H45: 7월 | I45: 합계
A46: 제주 | I46: =SUM(B46:H46) -> 0
A47: 서귀ᅟᅩᇁ | I47: =SUM(B47:H47) -> 0
A48: 합계 | B48: =SUM(B46:B47) -> 0 | C48: =SUM(C46:C47) -> 0 | D48: =SUM(D46:D47) -> 0 | E48: =SUM(E46:E47) -> 0 | F48: =SUM(F46:F47) -> 0 | G48: =SUM(G46:G47) -> 0 | H48: =SUM(H46:H47) -> 0 | I48: =SUM(B48:H48) -> 0

Sheet 2014잡수익(총괄국별)
A1: 청별 잡수익 현황(2014년실적)
A2: 2014년 총괄 | F2: 7월누계
A3: 관서명 | B3: 우편영업잡수입 | C3: 수탁잡수입 | D3: 합계 | F3: 관서명 | G3: 우편영업잡수입 | H3: 수탁잡수입 | I3: 합계
A4: 제주 | B4: =SUM(N10,N16) -> 47477690 | C4: =SUM(N22,N28,E53,N46) -> 42870200 | D4: =SUM(B4:C4) -> 90347890 | F4: 제주 | G4: =SUM(B16:H16,B10:H10) -> 37452190 | H4: =SUM(B22:H22,B28:H28,N34,B46:H46) -> 27734176 | I4: =SUM(G4:H4) -> 65186366
A5: 서귀포 | B5: =SUM(N11,N17) -> 9736540 | C5: =SUM(N23,N29,E54,N47) -> 10174756 | D5: =SUM(B5:C5) -> 19911296 | F5: 서귀포 | G5: =SUM(B17:H17,B11:H11) -> 8666240 | H5: =SUM(B23:H23,B29:H29,N35,B47:H47) -> 6445975 | I5: =SUM(G5:H5) -> 15112215
A6: 합계 | B6: =SUM(B4:B5) -> 57214230 | C6: =SUM(N24,N30,E55,N48) -> 53044956 | D6: =SUM(D4:D5) -> 110259186 | F6: 합계 | G6: =SUM(G4:G5) -> 46118430 | H6: =SUM(H4:H5) -> 34180151 | I6: =SUM(I4:I5) -> 80298581
A8: o 우편영업잡수입 : 나만의 우표
A9: 관서명 | B9: 1월 | C9: 2월 | D9: 3월 | E9: 4월 | F9: 5월 | G9: 6월 | H9: 7월 | I9: 8월 | J9: 9월 | K9: 10월 | L9: 11월 | M9: 12월 | N9: 합계
A10: 제주 | B10: 29409700 | C10: 371000 | D10: 255000 | E10: 73400 | F10: 96300 | G10: 255000 | H10: 85000 | I10: 170000 | J10: 176200 | M10: 300200 | N10: =SUM(B10:M10) -> 31191800
A11: 서귀포 | B11: 0 | C11: 4043400 | D11: 0 | E11: 276000 | H11: 0 | I11: 9500 | J11: 0 | M11: 274800 | N11: =SUM(B11:M11) -> 4603700
A12: 합계 | B12: =SUM(B10:B11) -> 29409700 | C12: =SUM(C10:C11) -> 4414400 | D12: =SUM(D10:D11) -> 255000 | E12: =SUM(E10:E11) -> 349400 | F12: =SUM(F10:F11) -> 96300 | G12: =SUM(G10:G11) -> 255000 | H12: =SUM(H10:H11) -> 85000 | I12: =SUM(I10:I11) -> 179500 | ... M12: =SUM(M10:M11) -> 575000 | N12: =SUM(B12:M12) -> 35795500
A14: o 우편영업잡수입 : 맞춤형 엽서
A15: 관서명 | B15: 1월 | C15: 2월 | D15: 3월 | E15: 4월 | F15: 5월 | G15: 6월 | H15: 7월 | I15: 8월 | J15: 9월 | K15: 10월 | L15: 11월 | M15: 12월 | N15: 합계
A16: 제주 | B16: 106000 | C16: 477000 | D16: 159000 | E16: 5740790 | F16: 159000 | G16: 106000 | H16: 159000 | I16: 159000 | J16: 7480100 | K16: 40000 | L16: 1700000 | M16: 0 | N16: =SUM(B16:M16) -> 16285890
A17: 서귀포 | F17: 3761450 | G17: 390390 | H17: 195000 | J17: 44000 | K17: 0 | L17: 742000 | M17: 0 | N17: =SUM(B17:M17) -> 5132840
A18: 합계 | B18: =SUM(B16:B17) -> 106000 | C18: =SUM(C16:C17) -> 477000 | D18: =SUM(D16:D17) -> 159000 | E18: =SUM(E16:E17) -> 5740790 | F18: =SUM(F16:F17) -> 3920450 | G18: =SUM(G16:G17) -> 496390 | H18: =SUM(H16:H17) -> 354000 | I18: =SUM(I16:I17) -> 159000 | ... M18: =SUM(M16:M17) -> 0 | N18: =SUM(B18:M18) -> 21418730
A20: o 수탁잡수입 : 문화상품권
A21: 관서명 | B21: 1월 | C21: 2월 | D21: 3월 | E21: 4월 | F21: 5월 | G21: 6월 | H21: 7월 | I21: 8월 | J21: 9월 | K21: 10월 | L21: 11월 | M21: 12월 | N21: 합계
A22: 제주 | B22: 45600 | C22: 77400 | D22: 137100 | E22: 25200 | F22: 101100 | G22: 13200 | H22: 29400 | I22: 11400 | J22: 26400 | K22: 45000 | L22: 153900 | M22: 63400 | N22: =SUM(B22:M22) -> 729100
A23: 서귀포 | B23: 10800 | C23: 30000 | D23: 66600 | E23: 125100 | F23: 5100 | G23: 78300 | H23: 74700 | I23: 73500 | J23: 60300 | K23: 98100 | L23: 72000 | M23: 67500 | N23: =SUM(B23:M23) -> 762000
A24: 합계 | B24: =SUM(B22:B23) -> 56400 | C24: =SUM(C22:C23) -> 107400 | D24: =SUM(D22:D23) -> 203700 | E24: =SUM(E22:E23) -> 150300 | F24: =SUM(F22:F23) -> 106200 | G24: =SUM(G22:G23) -> 91500 | H24: =SUM(H22:H23) -> 104100 | I24: =SUM(I22:I23) -> 84900 | ... N24: =SUM(N22:N23) -> 1491100
A26: o 수탁잡수입 : 온누리상품권
A27: 관서명 | B27: 1월 | C27: 2월 | D27: 3월 | E27: 4월 | F27: 5월 | G27: 6월 | H27: 7월 | I27: 8월 | J27: 9월 | K27: 10월 | L27: 11월 | M27: 12월 | N27: 합계
A28: 제주 | B28: 184340 | C28: 191450 | D28: 37800 | E28: 161310 | F28: 2533265 | G28: 237540 | H28: 243320 | I28: 665980 | J28: 545650 | K28: 143955 | L28: 377545 | M28: 597205 | N28: =SUM(B28:M28) -> 5919360
A29: 서귀포 | B29: 76725 | C29: 86900 | D29: 18235 | E29: 44665 | F29: 36610 | G29: 115505 | H29: 46445 | I29: 53480 | J29: 48650 | K29: 37205 | L29: 89600 | M29: 115010 | N29: =SUM(B29:M29) -> 769030
A30: 합계 | B30: =SUM(B28:B29) -> 261065 | C30: =SUM(C28:C29) -> 278350 | D30: =SUM(D28:D29) -> 56035 | E30: =SUM(E28:E29) -> 205975 | F30: =SUM(F28:F29) -> 2569875 | G30: =SUM(G28:G29) -> 353045 | H30: =SUM(H28:H29) -> 289765 | I30: =SUM(I28:I29) -> 719460 | ... N30: =SUM(N28:N29) -> 6688390
A32: o 수탁잡수입 : 알뜰폰(7월 누계) | O32: 7월 | P32: 7월 | Q32: 2014. 6월
A33: 관서명 | B33: 1월 | C33: 2월 | D33: 3월 | E33: 4월 | F33: 5월 | G33: 6월 | H33: 7월 | I33: 8월 | J33: 9월 | K33: 10월 | L33: 11월 | M33: 12월 | N33: 합계 | O33: 단말기 | P33: 요금제 | Q33: 연계수수료 | R33: 합계
A34: 제주 | N34: =R34 -> 22489151 | O34: 4423190 | P34: 16420000 | Q34: 1645961 | R34: =SUM(O34:Q34) -> 22489151
A35: 서귀포 | N35: =R35 -> 5594290 | O35: 1260690 | P35: 3990000 | Q35: 343600 | R35: =SUM(O35:Q35) -> 5594290
A36: 합계 | G36: =SUM(G34:G35) -> 0 | N36: =R36 -> 28083441 | O36: =SUM(O34:O35) -> 5683880 | P36: =SUM(P34:P35) -> 20410000 | Q36: =SUM(Q34:Q35) -> 1989561 | R36: =SUM(R34:R35) -> 28083441
A38: o 수탁잡수입 : 중고휴대폰 매입수수료
A39: 관서명 | B39: 5월 | C39: 6월 | D39: 7월 | E39: 8월 | F39: 9월 | G39: 10월 | H39: 7월 | I39: 8월 | J39: 9월 | K39: 10월 | L39: 11월 | M39: 12월 | N39: 합계
A40: 제주 | N40: =SUM(B40:G40) -> 0
A41: 서귀포 | N41: =SUM(B41:G41) -> 0
A42: 합계 | B42: =SUM(B40:B41) -> 0 | C42: =SUM(C40:C41) -> 0 | N42: =SUM(B42:G42) -> 0
A44: o 수탁잡수입 : 우정청 자체발굴 수탁상품
A45: 관서명 | B45: 1월 | C45: 2월 | D45: 3월 | E45: 4월 | F45: 5월 | G45: 6월 | H45: 7월 | I45: 8월 | J45: 9월 | K45: 10월 | L45: 11월 | M45: 12월 | N45: 합계
A46: 제주 | B46: 1206000 | C46: 0 | D46: 0 | E46: 0 | G46: 21000 | L46: 3000 | N46: =SUM(B46:M46) -> 1230000
A47: 서귀포 | B47: 27000 | C47: 3000 | D47: 0 | E47: 6000 | I47: 6000 | J47: 6000 | K47: 21000 | M47: 144000 | N47: =SUM(B47:M47) -> 213000
A48: 합계 | B48: =SUM(B46:B47) -> 1233000 | C48: =SUM(C46:C47) -> 3000 | D48: =SUM(D46:D47) -> 0 | E48: =SUM(E46:E47) -> 6000 | F48: =SUM(F46:F47) -> 0 | G48: =SUM(G46:G47) -> 21000 | H48: =SUM(H46:H47) -> 0 | I48: =SUM(I46:I47) -> 6000 | ... M48: =SUM(M46:M47) -> 144000 | N48: =SUM(B48:M48) -> 1443000
A51: 알뜰(2014. 12월누계)
A52: 관서명 | B52: 단말기 | C52: 요금제 | D52: 연계수수료 | E52: 합계
A53: 제주 | B53: 6457790 | C53: 24165000 | D53: 4368950 | E53: =SUM(B53:D53) -> 34991740
A54: 서귀포 | B54: 1689870 | C54: 5758000 | D54: 982856 | E54: =SUM(B54:D54) -> 8430726
A55: 합계 | B55: =SUM(B53:B54) -> 8147660 | C55: =SUM(C53:C54) -> 29923000 | D55: =SUM(D53:D54) -> 5351806 | E55: =SUM(E53:E54) -> 43422466

Sheet 종합
A1: 2013. 국제우편사업 지방우정청별 목표 배정액
A4: □ 월별 | O4: (단위 : 백만원, %)
A6: 청 별 | B6: 1월 | C6: 2월 | D6: 3월 | E6: 4월 | F6: 5월 | G6: 6월 | H6: 7월 | I6: 8월 | J6: 9월 | K6: 10월 | L6: 11월 | M6: 12월 | N6: 계 | O6: 점유비
A7: 서울청 | B7: =SUM('[1]국제통상'!B7,'[1]국제소포'!B7,'[1]EMS'!B7) -> 14008 | C7: =SUM('[1]국제통상'!C7,'[1]국제소포'!C7,'[1]EMS'!C7) -> 14185 | D7: =SUM('[1]국제통상'!D7,'[1]국제소포'!D7,'[1]EMS'!D7) -> 14451 | E7: =SUM('[1]국제통상'!E7,'[1]국제소포'!E7,'[1]EMS'!E7) -> 14586 | F7: =SUM('[1]국제통상'!F7,'[1]국제소포'!F7,'[1]EMS'!F7) -> 14179 | G7: =SUM('[1]국제통상'!G7,'[1]국제소포'!G7,'[1]EMS'!G7) -> 13480 | H7: =SUM('[1]국제통상'!I7,'[1]국제소포'!I7,'[1]EMS'!I7) -> 13559 | I7: =SUM('[1]국제통상'!J7,'[1]국제소포'!J7,'[1]EMS'!J7) -> 13568 | J7: =SUM('[1]국제통상'!K7,'[1]국제소포'!K7,'[1]EMS'!K7) -> 15010 | K7: =SUM('[1]국제통상'!L7,'[1]국제소포'!L7,'[1]EMS'!L7) -> 20649 | L7: =SUM('[1]국제통상'!M7,'[1]국제소포'!M7,'[1]EMS'!M7) -> 21408 | M7: =SUM('[1]국제통상'!N7,'[1]국제소포'!N7,'[1]EMS'!N7) -> 21542 | N7: =SUM(B7:G7,H7:M7) -> 190625 | O7: =N7/$N$16*100 -> 43.323864
A8: 경인청 | B8: =SUM('[1]국제통상'!B8,'[1]국제소포'!B8,'[1]EMS'!B8) -> 9235 | C8: =SUM('[1]국제통상'!C8,'[1]국제소포'!C8,'[1]EMS'!C8) -> 9365 | D8: =SUM('[1]국제통상'!D8,'[1]국제소포'!D8,'[1]EMS'!D8) -> 9527 | E8: =SUM('[1]국제통상'!E8,'[1]국제소포'!E8,'[1]EMS'!E8) -> 9520 | F8: =SUM('[1]국제통상'!F8,'[1]국제소포'!F8,'[1]EMS'!F8) -> 9330 | G8: =SUM('[1]국제통상'!G8,'[1]국제소포'!G8,'[1]EMS'!G8) -> 8883 | H8: =SUM('[1]국제통상'!I8,'[1]국제소포'!I8,'[1]EMS'!I8) -> 8913 | I8: =SUM('[1]국제통상'!J8,'[1]국제소포'!J8,'[1]EMS'!J8) -> 8934 | J8: =SUM('[1]국제통상'!K8,'[1]국제소포'!K8,'[1]EMS'!K8) -> 9846 | K8: =SUM('[1]국제통상'!L8,'[1]국제소포'!L8,'[1]EMS'!L8) -> 13592 | L8: =SUM('[1]국제통상'!M8,'[1]국제소포'!M8,'[1]EMS'!M8) -> 14101 | M8: =SUM('[1]국제통상'!N8,'[1]국제소포'!N8,'[1]EMS'!N8) -> 14158 | N8: =SUM(B8:G8,H8:M8) -> 125404 | O8: =N8/$N$16*100 -> 28.500909
A9: 부산청 | B9: =SUM('[1]국제통상'!B9,'[1]국제소포'!B9,'[1]EMS'!B9) -> 3302 | C9: =SUM('[1]국제통상'!C9,'[1]국제소포'!C9,'[1]EMS'!C9) -> 3349 | D9: =SUM('[1]국제통상'!D9,'[1]국제소포'!D9,'[1]EMS'!D9) -> 3412 | E9: =SUM('[1]국제통상'!E9,'[1]국제소포'!E9,'[1]EMS'!E9) -> 3388 | F9: =SUM('[1]국제통상'!F9,'[1]국제소포'!F9,'[1]EMS'!F9) -> 3339 | G9: =SUM('[1]국제통상'!G9,'[1]국제소포'!G9,'[1]EMS'!G9) -> 3173 | H9: =SUM('[1]국제통상'!I9,'[1]국제소포'!I9,'[1]EMS'!I9) -> 3176 | I9: =SUM('[1]국제통상'!J9,'[1]국제소포'!J9,'[1]EMS'!J9) -> 3181 | J9: =SUM('[1]국제통상'!K9,'[1]국제소포'!K9,'[1]EMS'!K9) -> 3516 | K9: =SUM('[1]국제통상'!L9,'[1]국제소포'!L9,'[1]EMS'!L9) -> 4862 | L9: =SUM('[1]국제통상'!M9,'[1]국제소포'!M9,'[1]EMS'!M9) -> 5051 | M9: =SUM('[1]국제통상'!N9,'[1]국제소포'!N9,'[1]EMS'!N9) -> 5060 | N9: =SUM(B9:G9,H9:M9) -> 44809 | O9: =N9/$N$16*100 -> 10.183864
A10: 충청청 | B10: =SUM('[1]국제통상'!B10,'[1]국제소포'!B10,'[1]EMS'!B10) -> 1869 | C10: =SUM('[1]국제통상'!C10,'[1]국제소포'!C10,'[1]EMS'!C10) -> 1898 | D10: =SUM('[1]국제통상'!D10,'[1]국제소포'!D10,'[1]EMS'!D10) -> 1929 | E10: =SUM('[1]국제통상'!E10,'[1]국제소포'!E10,'[1]EMS'!E10) -> 1900 | F10: =SUM('[1]국제통상'!F10,'[1]국제소포'!F10,'[1]EMS'!F10) -> 1885 | G10: =SUM('[1]국제통상'!G10,'[1]국제소포'!G10,'[1]EMS'!G10) -> 1799 | H10: =SUM('[1]국제통상'!I10,'[1]국제소포'!I10,'[1]EMS'!I10) -> 1794 | I10: =SUM('[1]국제통상'!J10,'[1]국제소포'!J10,'[1]EMS'!J10) -> 1802 | J10: =SUM('[1]국제통상'!K10,'[1]국제소포'!K10,'[1]EMS'!K10) -> 1980 | K10: =SUM('[1]국제통상'!L10,'[1]국제소포'!L10,'[1]EMS'!L10) -> 2746 | L10: =SUM('[1]국제통상'!M10,'[1]국제소포'!M10,'[1]EMS'!M10) -> 2855 | M10: =SUM('[1]국제통상'!N10,'[1]국제소포'!N10,'[1]EMS'!N10) -> 2855 | N10: =SUM(B10:G10,H10:M10) -> 25312 | O10: =N10/$N$16*100 -> 5.7527273
A11: 전남청 | B11: =SUM('[1]국제통상'!B11,'[1]국제소포'!B11,'[1]EMS'!B11) -> 767 | C11: =SUM('[1]국제통상'!C11,'[1]국제소포'!C11,'[1]EMS'!C11) -> 780 | D11: =SUM('[1]국제통상'!D11,'[1]국제소포'!D11,'[1]EMS'!D11) -> 792 | E11: =SUM('[1]국제통상'!E11,'[1]국제소포'!E11,'[1]EMS'!E11) -> 775 | F11: =SUM('[1]국제통상'!F11,'[1]국제소포'!F11,'[1]EMS'!F11) -> 773 | G11: =SUM('[1]국제통상'!G11,'[1]국제소포'!G11,'[1]EMS'!G11) -> 738 | H11: =SUM('[1]국제통상'!I11,'[1]국제소포'!I11,'[1]EMS'!I11) -> 735 | I11: =SUM('[1]국제통상'!J11,'[1]국제소포'!J11,'[1]EMS'!J11) -> 740 | J11: =SUM('[1]국제통상'!K11,'[1]국제소포'!K11,'[1]EMS'!K11) -> 810 | K11: =SUM('[1]국제통상'!L11,'[1]국제소포'!L11,'[1]EMS'!L11) -> 1125 | L11: =SUM('[1]국제통상'!M11,'[1]국제소포'!M11,'[1]EMS'!M11) -> 1170 | M11: =SUM('[1]국제통상'!N11,'[1]국제소포'!N11,'[1]EMS'!N11) -> 1169 | N11: =SUM(B11:G11,H11:M11) -> 10374 | O11: =N11/$N$16*100 -> 2.3577273
A12: 경북청 | B12: =SUM('[1]국제통상'!B12,'[1]국제소포'!B12,'[1]EMS'!B12) -> 2014 | C12: =SUM('[1]국제통상'!C12,'[1]국제소포'!C12,'[1]EMS'!C12) -> 2041 | D12: =SUM('[1]국제통상'!D12,'[1]국제소포'!D12,'[1]EMS'!D12) -> 2079 | E12: =SUM('[1]국제통상'!E12,'[1]국제소포'!E12,'[1]EMS'!E12) -> 2084 | F12: =SUM('[1]국제통상'!F12,'[1]국제소포'!F12,'[1]EMS'!F12) -> 2036 | G12: =SUM('[1]국제통상'!G12,'[1]국제소포'!G12,'[1]EMS'!G12) -> 1939 | H12: =SUM('[1]국제통상'!I12,'[1]국제소포'!I12,'[1]EMS'!I12) -> 1945 | I12: =SUM('[1]국제통상'!J12,'[1]국제소포'!J12,'[1]EMS'!J12) -> 1949 | J12: =SUM('[1]국제통상'!K12,'[1]국제소포'!K12,'[1]EMS'!K12) -> 2152 | K12: =SUM('[1]국제통상'!L12,'[1]국제소포'!L12,'[1]EMS'!L12) -> 2968 | L12: =SUM('[1]국제통상'!M12,'[1]국제소포'!M12,'[1]EMS'!M12) -> 3078 | M12: =SUM('[1]국제통상'!N12,'[1]국제소포'!N12,'[1]EMS'!N12) -> 3091 | N12: =SUM(B12:G12,H12:M12) -> 27376 | O12: =N12/$N$16*100 -> 6.2218182
A13: 전북청 | B13: =SUM('[1]국제통상'!B13,'[1]국제소포'!B13,'[1]EMS'!B13) -> 519 | C13: =SUM('[1]국제통상'!C13,'[1]국제소포'!C13,'[1]EMS'!C13) -> 527 | D13: =SUM('[1]국제통상'!D13,'[1]국제소포'!D13,'[1]EMS'!D13) -> 537 | E13: =SUM('[1]국제통상'!E13,'[1]국제소포'!E13,'[1]EMS'!E13) -> 525 | F13: =SUM('[1]국제통상'!F13,'[1]국제소포'!F13,'[1]EMS'!F13) -> 524 | G13: =SUM('[1]국제통상'!G13,'[1]국제소포'!G13,'[1]EMS'!G13) -> 498 | H13: =SUM('[1]국제통상'!I13,'[1]국제소포'!I13,'[1]EMS'!I13) -> 496 | I13: =SUM('[1]국제통상'!J13,'[1]국제소포'!J13,'[1]EMS'!J13) -> 498 | J13: =SUM('[1]국제통상'!K13,'[1]국제소포'!K13,'[1]EMS'!K13) -> 548 | K13: =SUM('[1]국제통상'!L13,'[1]국제소포'!L13,'[1]EMS'!L13) -> 764 | L13: =SUM('[1]국제통상'!M13,'[1]국제소포'!M13,'[1]EMS'!M13) -> 795 | M13: =SUM('[1]국제통상'!N13,'[1]국제소포'!N13,'[1]EMS'!N13) -> 792 | N13: =SUM(B13:G13,H13:M13) -> 7023 | O13: =N13/$N$16*100 -> 1.5961364
A14: 강원청 | B14: =SUM('[1]국제통상'!B14,'[1]국제소포'!B14,'[1]EMS'!B14) -> 443 | C14: =SUM('[1]국제통상'!C14,'[1]국제소포'!C14,'[1]EMS'!C14) -> 450 | D14: =SUM('[1]국제통상'!D14,'[1]국제소포'!D14,'[1]EMS'!D14) -> 458 | E14: =SUM('[1]국제통상'!E14,'[1]국제소포'!E14,'[1]EMS'!E14) -> 461 | F14: =SUM('[1]국제통상'!F14,'[1]국제소포'!F14,'[1]EMS'!F14) -> 449 | G14: =SUM('[1]국제통상'!G14,'[1]국제소포'!G14,'[1]EMS'!G14) -> 428 | H14: =SUM('[1]국제통상'!I14,'[1]국제소포'!I14,'[1]EMS'!I14) -> 431 | I14: =SUM('[1]국제통상'!J14,'[1]국제소포'!J14,'[1]EMS'!J14) -> 432 | J14: =SUM('[1]국제통상'!K14,'[1]국제소포'!K14,'[1]EMS'!K14) -> 475 | K14: =SUM('[1]국제통상'!L14,'[1]국제소포'!L14,'[1]EMS'!L14) -> 654 | L14: =SUM('[1]국제통상'!M14,'[1]국제소포'!M14,'[1]EMS'!M14) -> 676 | M14: =SUM('[1]국제통상'!N14,'[1]국제소포'!N14,'[1]EMS'!N14) -> 682 | N14: =SUM(B14:G14,H14:M14) -> 6039 | O14: =N14/$N$16*100 -> 1.3725
A15: 제주청 | B15: =SUM('[1]국제통상'!B15,'[1]국제소포'!B15,'[1]EMS'!B15) -> 225 | C15: =SUM('[1]국제통상'!C15,'[1]국제소포'!C15,'[1]EMS'!C15) -> 229 | D15: =SUM('[1]국제통상'!D15,'[1]국제소포'!D15,'[1]EMS'!D15) -> 233 | E15: =SUM('[1]국제통상'!E15,'[1]국제소포'!E15,'[1]EMS'!E15) -> 226 | F15: =SUM('[1]국제통상'!F15,'[1]국제소포'!F15,'[1]EMS'!F15) -> 227 | G15: =SUM('[1]국제통상'!G15,'[1]국제소포'!G15,'[1]EMS'!G15) -> 215 | H15: =SUM('[1]국제통상'!I15,'[1]국제소포'!I15,'[1]EMS'!I15) -> 214 | I15: =SUM('[1]국제통상'!J15,'[1]국제소포'!J15,'[1]EMS'!J15) -> 214 | J15: =SUM('[1]국제통상'!K15,'[1]국제소포'!K15,'[1]EMS'!K15) -> 237 | K15: =SUM('[1]국제통상'!L15,'[1]국제소포'!L15,'[1]EMS'!L15) -> 330 | L15: =SUM('[1]국제통상'!M15,'[1]국제소포'!M15,'[1]EMS'!M15) -> 345 | M15: =SUM('[1]국제통상'!N15,'[1]국제소포'!N15,'[1]EMS'!N15) -> 343 | N15: =SUM(B15:G15,H15:M15) -> 3038 | O15: =N15/$N$16*100 -> 0.69045455
A16: 계 | B16: =SUM(B7:B15) -> 32382 | C16: =SUM(C7:C15) -> 32824 | D16: =SUM(D7:D15) -> 33418 | E16: =SUM(E7:E15) -> 33465 | F16: =SUM(F7:F15) -> 32742 | G16: =SUM(G7:G15) -> 31153 | H16: =SUM(H7:H15) -> 31263 | I16: =SUM(I7:I15) -> 31318 | ... N16: =SUM(N7:N15) -> 440000 | O16: =N16/$N$16*100 -> 100
A17: 점유비 | B17: =B16/$N$16*100 -> 7.3595455 | C17: =C16/$N$16*100 -> 7.46 | D17: =D16/$N$16*100 -> 7.595 | E17: =E16/$N$16*100 -> 7.6056818 | F17: =F16/$N$16*100 -> 7.4413636 | G17: =G16/$N$16*100 -> 7.0802273 | H17: =H16/$N$16*100 -> 7.1052273 | I17: =I16/$N$16*100 -> 7.1177273 | ... M17: =M16/$N$16*100 -> 11.293636 | N17: =SUM(B17:G17,H17:M17) -> 100
A19: □ 월누계 | M19: (단위 : 백만원, %)
A20: 청 별 | B20: 1월 | C20: 2월 | D20: 3월 | E20: 4월 | F20: 5월 | G20: 6월 | H20: 7월 | I20: 8월 | J20: 9월 | K20: 10월 | L20: 11월 | M20: 12월
A21: 서울청 | B21: =B7 -> 14008 | C21: =C7+B21 -> 28193 | D21: =D7+C21 -> 42644 | E21: =E7+D21 -> 57230 | F21: =F7+E21 -> 71409 | G21: =G7+F21 -> 84889 | H21: =H7+G21 -> 98448 | I21: =I7+H21 -> 112016 | J21: =J7+I21 -> 127026 | ... M21: =M7+L21 -> 190625
A22: 경인청 | B22: =B8 -> 9235 | C22: =C8+B22 -> 18600 | D22: =D8+C22 -> 28127 | E22: =E8+D22 -> 37647 | F22: =F8+E22 -> 46977 | G22: =G8+F22 -> 55860 | H22: =H8+G22 -> 64773 | I22: =I8+H22 -> 73707 | J22: =J8+I22 -> 83553 | ... M22: =M8+L22 -> 125404
A23: 부산청 | B23: =B9 -> 3302 | C23: =C9+B23 -> 6651 | D23: =D9+C23 -> 10063 | E23: =E9+D23 -> 13451 | F23: =F9+E23 -> 16790 | G23: =G9+F23 -> 19963 | H23: =H9+G23 -> 23139 | I23: =I9+H23 -> 26320 | J23: =J9+I23 -> 29836 | ... M23: =M9+L23 -> 44809
A24: 충청청 | B24: =B10 -> 1869 | C24: =C10+B24 -> 3767 | D24: =D10+C24 -> 5696 | E24: =E10+D24 -> 7596 | F24: =F10+E24 -> 9481 | G24: =G10+F24 -> 11280 | H24: =H10+G24 -> 13074 | I24: =I10+H24 -> 14876 | J24: =J10+I24 -> 16856 | ... M24: =M10+L24 -> 25312
A25: 전남청 | B25: =B11 -> 767 | C25: =C11+B25 -> 1547 | D25: =D11+C25 -> 2339 | E25: =E11+D25 -> 3114 | F25: =F11+E25 -> 3887 | G25: =G11+F25 -> 4625 | H25: =H11+G25 -> 5360 | I25: =I11+H25 -> 6100 | J25: =J11+I25 -> 6910 | ... M25: =M11+L25 -> 10374
A26: 경북청 | B26: =B12 -> 2014 | C26: =C12+B26 -> 4055 | D26: =D12+C26 -> 6134 | E26: =E12+D26 -> 8218 | F26: =F12+E26 -> 10254 | G26: =G12+F26 -> 12193 | H26: =H12+G26 -> 14138 | I26: =I12+H26 -> 16087 | J26: =J12+I26 -> 18239 | ... M26: =M12+L26 -> 27376
A27: 전북청 | B27: =B13 -> 519 | C27: =C13+B27 -> 1046 | D27: =D13+C27 -> 1583 | E27: =E13+D27 -> 2108 | F27: =F13+E27 -> 2632 | G27: =G13+F27 -> 3130 | H27: =H13+G27 -> 3626 | I27: =I13+H27 -> 4124 | J27: =J13+I27 -> 4672 | ... M27: =M13+L27 -> 7023
A28: 강원청 | B28: =B14 -> 443 | C28: =C14+B28 -> 893 | D28: =D14+C28 -> 1351 | E28: =E14+D28 -> 1812 | F28: =F14+E28 -> 2261 | G28: =G14+F28 -> 2689 | H28: =H14+G28 -> 3120 | I28: =I14+H28 -> 3552 | J28: =J14+I28 -> 4027 | ... M28: =M14+L28 -> 6039
A29: 제주청 | B29: =B15 -> 225 | C29: =C15+B29 -> 454 | D29: =D15+C29 -> 687 | E29: =E15+D29 -> 913 | F29: =F15+E29 -> 1140 | G29: =G15+F29 -> 1355 | H29: =H15+G29 -> 1569 | I29: =I15+H29 -> 1783 | J29: =J15+I29 -> 2020 | ... M29: =M15+L29 -> 3038
A30: 계 | B30: =SUM(B21:B29) -> 32382 | C30: =SUM(C21:C29) -> 65206 | D30: =SUM(D21:D29) -> 98624 | E30: =SUM(E21:E29) -> 132089 | F30: =SUM(F21:F29) -> 164831 | G30: =SUM(G21:G29) -> 195984 | H30: =SUM(H21:H29) -> 227247 | I30: =SUM(I21:I29) -> 258565 | ... M30: =SUM(M21:M29) -> 440000
A31: 점유비 | B31: =B30/$N$16*100 -> 7.3595455 | C31: =C30/$N$16*100 -> 14.819545 | D31: =D30/$N$16*100 -> 22.414545 | E31: =E30/$N$16*100 -> 30.020227 | F31: =F30/$N$16*100 -> 37.461591 | G31: =G30/$N$16*100 -> 44.541818 | H31: =H30/$N$16*100 -> 51.647045 | I31: =I30/$N$16*100 -> 58.764773 | ... M31: =M30/$N$16*100 -> 100

Sheet Sheet1
