Workbook

Sheet data
A2: 우편통합매출액 산출 (2015. 7월 누계)
A4: 2015년 | H4: 2014년 - 우편DW | J4: 8월 | K4: 8월 | L4: 8월 | M4: 7월
B5: 통상 | C5: 국제 | D5: 소포 | E5: 계 | F5: 점유비 | H5: 일반통상 | I5: 특수통상 | J5: 주민등록증배분 | K5: 인터넷우체국 추천 | L5: 인터넷미추천배분 | M5: 통신사무배분 | N5: 통상 계 | P5: 국제 | Q5: 쇼핑배분 | R5: 통신사무배분 | S5: 국제계 | U5: 일반소포 | V5: 등기소포 | W5: 쇼핑배분 | X5: 통신사무배분소포료 | Y5: (제외) 20kg초과 | Z5: (제외) 면단위20kg이하 | AA5: 소포 계
A6: 서울청 | C6: =S6/1000000 -> 132862.3 | E6: =SUM(B6:D6) -> 132862.3 | F6: =E6/$E$15*100 -> 43.591724 | H6: 246621000000 | I6: 185684000000 | J6: 21241200 | K6: 81531550 | L6: 1057203492 | M6: -774348875 | N6: =SUM(H6:M6) -> 432690627367 | P6: 132851001770 | Q6: 11300436 | S6: =P6+Q6 -> 132862302206 | U6: 1301609250 | V6: 100442139910 | W6: 1255339339 | X6: 53283254 | Y6: 211691390 | Z6: 0 | AA6: =U6+V6+W6+X6-Y6-Z6 -> 1.0284068e+11
A7: 경인청 | C7: =S7/1000000 -> 89927.057 | E7: =SUM(B7:D7) -> 89927.057 | F7: =E7/$E$15*100 -> 29.504799 | H7: 443796000000 | I7: 132247000000 | J7: 23139020 | K7: 82623655 | L7: 199664425 | M7: -4573132485 | N7: =SUM(H7:M7) -> 571775294615 | P7: 89917240830 | Q7: 9815704 | S7: =P7+Q7 -> 89927056534 | U7: 468830080 | V7: 91006260400 | W7: 1129646367 | X7: 92204691 | Y7: 206773270 | Z7: 1343708090 | AA7: =U7+V7+W7+X7-Y7-Z7 -> 9.114646e+10
A8: 부산청 | C8: =S8/1000000 -> 28567.587 | E8: =SUM(B8:D8) -> 28567.587 | F8: =E8/$E$15*100 -> 9.3729399 | H8: 44059402430 | I8: 51310573560 | J8: 12202840 | K8: 30383315 | L8: 78987650 | M8: 1363308039 | N8: =SUM(H8:M8) -> 96854857834 | P8: 28567375510 | Q8: 211342 | S8: =P8+Q8 -> 28567586852 | U8: 148685040 | V8: 50658336210 | W8: 482826158 | X8: -49180338 | Y8: 63951180 | Z8: 1937246380 | AA8: =U8+V8+W8+X8-Y8-Z8 -> 4.923947e+10
A9: 충청청 | C9: =S9/1000000 -> 17906.614 | E9: =SUM(B9:D9) -> 17906.614 | F9: =E9/$E$15*100 -> 5.8751067 | H9: 40966653200 | I9: 38345865310 | J9: 329069340 | K9: 53175245 | L9: 147499641 | M9: 970243843 | N9: =SUM(H9:M9) -> 80812506579 | P9: 17920342870 | Q9: -13728556 | S9: =P9+Q9 -> 17906614314 | U9: 183403230 | V9: 47840738980 | W9: -2275936458 | X9: -21289164 | Y9: 52552350 | Z9: 1680920040 | AA9: =U9+V9+W9+X9-Y9-Z9 -> 4.3993444e+10
A10: 전남청 | C10: =S10/1000000 -> 7888.9447 | E10: =SUM(B10:D10) -> 7888.9447 | F10: =E10/$E$15*100 -> 2.5883392 | H10: 20931636440 | I10: 21945255640 | J10: 5212960 | K10: 29616770 | L10: 69700392 | M10: 801252239 | N10: =SUM(H10:M10) -> 43782674441 | P10: 7894636770 | Q10: -5692031 | S10: =P10+Q10 -> 7888944739 | U10: 69812220 | V10: 32701829890 | W10: -700664628 | X10: -86446593 | Y10: 24272520 | Z10: 980351020 | AA10: =U10+V10+W10+X10-Y10-Z10 -> 3.0979907e+10
A11: 경북청 | C11: =S11/1000000 -> 16310.262 | E11: =SUM(B11:D11) -> 16310.262 | F11: =E11/$E$15*100 -> 5.3513481 | H11: 30814747380 | I11: 28698443180 | J11: 6602380 | K11: 67160045 | L11: 69960931 | M11: 1054610186 | N11: =SUM(H11:M11) -> 60711524102 | P11: 16310014240 | Q11: 247381 | S11: =P11+Q11 -> 16310261621 | U11: 148762650 | V11: 36934450890 | W11: 567768639 | X11: 7117675.1 | Y11: 53827620 | Z11: 2725020410 | AA11: =U11+V11+W11+X11-Y11-Z11 -> 3.4879252e+10
A12: 전북청 | C12: =S12/1000000 -> 5320.9768 | E12: =SUM(B12:D12) -> 5320.9768 | F12: =E12/$E$15*100 -> 1.7457966 | H12: 11292545740 | I12: 10911313170 | J12: 1814120 | K12: 8735365 | L12: 25196151 | M12: 503381930 | N12: =SUM(H12:M12) -> 22742986476 | P12: 5322032700 | Q12: -1055916 | S12: =P12+Q12 -> 5320976784 | U12: 34036190 | V12: 14549391010 | W12: 75077509 | X12: -43168607 | Y12: 28645290 | Z12: 925742820 | AA12: =U12+V12+W12+X12-Y12-Z12 -> 1.3660948e+10
A13: 강원청 | C13: =S13/1000000 -> 3854.6007 | E13: =SUM(B13:D13) -> 3854.6007 | F13: =E13/$E$15*100 -> 1.264683 | H13: 10966925100 | I13: 10025282640 | J13: 2160700 | K13: 13083560 | L13: 17465216 | M13: 519154396 | N13: =SUM(H13:M13) -> 21544071612 | P13: 3855684640 | Q13: -1083935 | S13: =P13+Q13 -> 3854600705 | U13: 51771290 | V13: 10932795080 | W13: -44728610 | X13: 39617931 | Y13: 52482650 | Z13: 886635200 | AA13: =U13+V13+W13+X13-Y13-Z13 -> 1.0040338e+10
A14: 제주청 | C14: =S14/1000000 -> 2149.5582 | E14: =SUM(B14:D14) -> 2149.5582 | F14: =E14/$E$15*100 -> 0.70526364 | H14: 3183487640 | I14: 3010332870 | J14: 527620 | K14: 4921800 | L14: 24707983 | M14: 135530728 | N14: =SUM(H14:M14) -> 6359508641 | P14: 2149572180 | Q14: -13941 | S14: =P14+Q14 -> 2149558239 | U14: 37219260 | V14: 9163301300 | W14: -482717671 | X14: 7861149.8 | Y14: 7358100 | Z14: 73242850 | AA14: =U14+V14+W14+X14-Y14-Z14 -> 8.6450631e+09
A15: 계 | C15: =SUM(C6:C14) -> 304787.9 | E15: =SUM(E6:E14) -> 304787.9 | F15: =E15/$E$15*100 -> 100 | H15: =SUM(H6:H14) -> 852632397930 | I15: =SUM(I6:I14) -> 482178066370 | J15: =SUM(J6:J14) -> 401970180 | K15: =SUM(K6:K14) -> 371231305 | L15: =SUM(L6:L14) -> 1690385881 | M15: =SUM(M6:M14) -> 1 | N15: =SUM(N6:N14) -> 1337274051667 | P15: 304787901510 | Q15: =SUM(Q6:Q14) -> 484 | S15: =P15+Q15 -> 304787901994 | U15: =SUM(U6:U14) -> 2444129210 | V15: =SUM(V6:V14) -> 394229243670 | W15: =SUM(W6:W14) -> 6610645 | X15: =SUM(X6:X14) -> 9.3132257e-09 | Y15: =SUM(Y6:Y14) -> 701554370 | Z15: =SUM(Z6:Z14) -> 10552866810 | AA15: =SUM(AA6:AA14) -> 3.8542556e+11
A17: 2014년 | H17: 2013년 - 우편DW
B18: =B5 -> 통상 | C18: =C5 -> 국제 | D18: 소포 | E18: 계 | F18: 점유비 | H18: 일반통상 | I18: 특수통상 | J18: 주민등록증배분 | K18: 인터넷우체국 추천 | L18: 인터넷미추천배분 | M18: 통신사무배분 | N18: 통상 계 | P18: 국제 | Q18: 쇼핑배분 | R18: 통신사무배분 | S18: 국제계 | U18: =U5 -> 일반소포 | V18: =V5 -> 등기소포 | W18: 쇼핑배분 | X18: 통신사무배분소포료 | Y18: (제외) 20kg초과 | Z18: (제외) 면단위20kg이하 | AA18: 소포 계
A19: 서울청 | C19: =S19/1000000 -> 115359.72 | E19: =SUM(B19:D19) -> 115359.72 | F19: =E19/$E$28*100 -> 42.77233 | H19: 231911000000 | I19: 154837000000 | J19: 77708880 | K19: 112591180 | L19: 909666326 | M19: 1553559868 | N19: =SUM(H19:M19) -> 389401526254 | P19: 115335009660 | Q19: 24711979 | S19: =SUM(P19:R19) -> 115359721639 | U19: 1086858430 | V19: 96448376900 | W19: 1408296724 | X19: 86308541 | Y19: 193393550 | Z19: 0 | AA19: =U19+V19+W19+X19-Y19-Z19 -> 9.8836447e+10
A20: 경인청 | C20: =S20/1000000 -> 79103.726 | E20: =SUM(B20:D20) -> 79103.726 | F20: =E20/$E$28*100 -> 29.329567 | H20: 414916000000 | I20: 136004000000 | J20: 92588880 | K20: 114573830 | L20: 273580255 | M20: -7179999835 | N20: =SUM(H20:M20) -> 544220743130 | P20: 79092986330 | Q20: 10739700 | S20: =SUM(P20:R20) -> 79103726030 | U20: 434897010 | V20: 81698287440 | W20: 1258110919 | X20: 1.7046506e+08 | Y20: 209341550 | Z20: 1237569280 | AA20: =U20+V20+W20+X20-Y20-Z20 -> 8.211485e+10
A21: 부산청 | C21: =S21/1000000 -> 29218.674 | E21: =SUM(B21:D21) -> 29218.674 | F21: =E21/$E$28*100 -> 10.83351 | H21: 38272370750 | I21: 51654206550 | J21: 51217200 | K21: 38287140 | L21: 141919803 | M21: 1485152525 | N21: =SUM(H21:M21) -> 91643153968 | P21: 29217308590 | Q21: 1365216 | S21: =SUM(P21:R21) -> 29218673806 | U21: 165640030 | V21: 47427379940 | W21: 540099911 | X21: -14574116 | Y21: 72366750 | Z21: 3968568150 | AA21: =U21+V21+W21+X21-Y21-Z21 -> 4.4077611e+10
A22: 충청청 | C22: =S22/1000000 -> 15330.062 | E22: =SUM(B22:D22) -> 15330.062 | F22: =E22/$E$28*100 -> 5.683981 | H22: 34421653530 | I22: 39085660150 | J22: 120889860 | K22: 63870150 | L22: 240461569 | M22: 1028467088 | N22: =SUM(H22:M22) -> 74961002347 | P22: 15349423040 | Q22: -19360992 | S22: =SUM(P22:R22) -> 15330062048 | U22: 175614220 | V22: 42297332980 | W22: -2455136621 | X22: 6915566 | Y22: 59800900 | Z22: 2739199100 | AA22: =U22+V22+W22+X22-Y22-Z22 -> 3.7225726e+10
A23: 전남청 | C23: =S23/1000000 -> 6431.8679 | E23: =SUM(B23:D23) -> 6431.8679 | F23: =E23/$E$28*100 -> 2.3847663 | H23: 17269092580 | I23: 22376827850 | J23: 20519840 | K23: 41117490 | L23: 128784553 | M23: 796837322 | N23: =SUM(H23:M23) -> 40633179635 | P23: 6441841070 | Q23: -9973138 | S23: =SUM(P23:R23) -> 6431867932 | U23: 199423210 | V23: 32176865680 | W23: -726935330 | X23: -3.0361625e+08 | Y23: 32686050 | Z23: 5937410060 | AA23: =U23+V23+W23+X23-Y23-Z23 -> 2.5375641e+10
A24: 경북청 | C24: =S24/1000000 -> 14524.119 | E24: =SUM(B24:D24) -> 14524.119 | F24: =E24/$E$28*100 -> 5.3851588 | H24: 26658168050 | I24: 29207190540 | J24: 25121920 | K24: 43428930 | L24: 125321512 | M24: 1139000212 | N24: =SUM(H24:M24) -> 57198231164 | P24: 14524266990 | Q24: -147767 | S24: =SUM(P24:R24) -> 14524119223 | U24: 132922620 | V24: 36667716360 | W24: 507260627 | X24: 64485576 | Y24: 101716030 | Z24: 6090375680 | AA24: =U24+V24+W24+X24-Y24-Z24 -> 3.1180293e+10
A25: 전북청 | C25: =S25/1000000 -> 4535.2908 | E25: =SUM(B25:D25) -> 4535.2908 | F25: =E25/$E$28*100 -> 1.6815657 | H25: 9712655350 | I25: 11110331870 | J25: 8778640 | K25: 8519290 | L25: 46569440 | M25: 464249140 | N25: =SUM(H25:M25) -> 21351103730 | P25: 4540321360 | Q25: -5030555 | S25: =SUM(P25:R25) -> 4535290805 | U25: 55065390 | V25: 14619815120 | W25: 121690911 | X25: -69299577 | Y25: 60911550 | Z25: 2692547850 | AA25: =U25+V25+W25+X25-Y25-Z25 -> 1.1973812e+10
A26: 강원청 | C26: =S26/1000000 -> 3397.1949 | E26: =SUM(B26:D26) -> 3397.1949 | F26: =E26/$E$28*100 -> 1.2595899 | H26: 9603827890 | I26: 9490744670 | J26: 8721120 | K26: 11354240 | L26: 29827655 | M26: 566846120 | N26: =SUM(H26:M26) -> 19711321695 | P26: 3399653040 | Q26: -2458106 | S26: =SUM(P26:R26) -> 3397194934 | U26: 52899170 | V26: 11426220170 | W26: -26273419 | X26: 53162834 | Y26: 50730650 | Z26: 1835730150 | AA26: =U26+V26+W26+X26-Y26-Z26 -> 9.619548e+09
A27: 제주청 | C27: =S27/1000000 -> 1805.7686 | E27: =SUM(B27:D27) -> 1805.7686 | F27: =E27/$E$28*100 -> 0.66953117 | H27: 2870774560 | I27: 3081666870 | J27: 2334560 | K27: 6290360 | L27: 41206694 | M27: 145887560 | N27: =SUM(H27:M27) -> 6148160604 | P27: 1805615590 | Q27: 152998 | S27: =SUM(P27:R27) -> 1805768588 | U27: 27047780 | V27: 8726204270 | W27: -627391811 | X27: 6152366.2 | Y27: 13055100 | Z27: 78822200 | AA27: =U27+V27+W27+X27-Y27-Z27 -> 8.0401353e+09
A28: 계 | C28: =SUM(C19:C27) -> 269706.43 | E28: =SUM(E19:E27) -> 269706.43 | F28: =E28/$E$28*100 -> 100 | H28: =SUM(H19:H27) -> 785635542710 | I28: =SUM(I19:I27) -> 456847628500 | J28: =SUM(J19:J27) -> 407880900 | K28: =SUM(K19:K27) -> 440032610 | L28: =SUM(L19:L27) -> 1937337807 | M28: =SUM(M19:M27) -> 0 | N28: =SUM(N19:N27) -> 1245268422527 | P28: 269706425670 | Q28: =SUM(Q19:Q27) -> -665 | S28: =SUM(S19:S27) -> 269706425005 | U28: =SUM(U19:U27) -> 2330367860 | V28: =SUM(V19:V27) -> 371488198860 | W28: =SUM(W19:W27) -> -278089 | X28: =SUM(X19:X27) -> -1.4901161e-08 | Y28: =SUM(Y19:Y27) -> 794002130 | Z28: =SUM(Z19:Z27) -> 24580222470 | AA28: =U28+V28-W28+X28-Z28 -> 349238622339

Sheet 2015총괄(청별)
A1: 2015년도 우정청별 국제우편 매출액 현황 (8월 누계)
A3: 우편매출액 계 | L3: 단위 : 백만원
A4: 구분 | B4: 2014 목표 | C4: 2014 실적 | D4: 달성률 | E4: 달성률 순위 | F4: 그룹 순위 | G4: 2013목표 | H4: 2013실적 | I4: 달성률 | J4: 전년대비 증감 | K4: 성장률 | L4: 성장률 순위
A5: 서울청 | B5: =B18+B44+B31+B58 -> 901425.82 | C5: =C18+C44+C31+C58 -> 133542.49 | D5: =C5/B5 -> 0.14814584 | E5: =RANK(D5,$D$5:$D$13) -> 1 | G5: =G18+G31+G44+#REF! -> #REF! | H5: =H18+H31+H44+E58 -> 115715.43 | I5: =H5/G5 -> #REF! | J5: =C5-H5 -> 17827.056 | K5: =J5/H5 -> 0.15405945 | L5: =RANK(K5,$K$5:$K$13) -> 5
A6: 경인청 | B6: =B19+B45+B32+B59 -> 1004612.8 | C6: =C19+C45+C32+C59 -> 90791.767 | D6: =C6/B6 -> 0.090374885 | E6: =RANK(D6,$D$5:$D$13) -> 6 | G6: =G19+G32+G45+#REF! -> #REF! | H6: =H19+H32+H45+E59 -> 79209.828 | I6: =H6/G6 -> #REF! | J6: =C6-H6 -> 11581.939 | K6: =J6/H6 -> 0.14621846 | L6: =RANK(K6,$K$5:$K$13) -> 6
A7: 부산청 | B7: =B20+B46+B33+B60 -> 241295.59 | C7: =C20+C46+C33+C60 -> 29030.823 | D7: =C7/B7 -> 0.12031228 | E7: =RANK(D7,$D$5:$D$13) -> 2 | G7: =G20+G33+G46+#REF! -> #REF! | H7: =H20+H33+H46+E60 -> 29297.247 | I7: =H7/G7 -> #REF! | J7: =C7-H7 -> -266.42401 | K7: =J7/H7 -> -0.0090938241 | L7: =RANK(K7,$K$5:$K$13) -> 9
A8: 충청청 | B8: =B21+B47+B34+B61 -> 185476.06 | C8: =C21+C47+C34+C61 -> 18247.081 | D8: =C8/B8 -> 0.098379708 | E8: =RANK(D8,$D$5:$D$13) -> 5 | G8: =G21+G34+G47+#REF! -> #REF! | H8: =H21+H34+H47+E61 -> 15552.61 | I8: =H8/G8 -> #REF! | J8: =C8-H8 -> 2694.4711 | K8: =J8/H8 -> 0.1732488 | L8: =RANK(K8,$K$5:$K$13) -> 4
A9: 전남청 | B9: =B22+B48+B35+B62 -> 106758.89 | C9: =C22+C48+C35+C62 -> 8061.1117 | D9: =C9/B9 -> 0.075507639 | E9: =RANK(D9,$D$5:$D$13) -> 9 | G9: =G22+G35+G48+#REF! -> #REF! | H9: =H22+H35+H48+E62 -> 6470.688 | I9: =H9/G9 -> #REF! | J9: =C9-H9 -> 1590.4237 | K9: =J9/H9 -> 0.24578896 | L9: =RANK(K9,$K$5:$K$13) -> 1
A10: 경북청 | B10: =B23+B49+B36+B63 -> 148802 | C10: =C23+C49+C36+C63 -> 16658.389 | D10: =C10/B10 -> 0.11195003 | E10: =RANK(D10,$D$5:$D$13) -> 3 | G10: =G23+G36+G49+#REF! -> #REF! | H10: =H23+H36+H49+E63 -> 14582.532 | I10: =H10/G10 -> #REF! | J10: =C10-H10 -> 2075.8571 | K10: =J10/H10 -> 0.14235231 | L10: =RANK(K10,$K$5:$K$13) -> 7
A11: 전북청 | B11: =B24+B50+B37+B64 -> 54951.032 | C11: =C24+C50+C37+C64 -> 5446.4508 | D11: =C11/B11 -> 0.099114623 | E11: =RANK(D11,$D$5:$D$13) -> 4 | F11: =RANK(D11,$D$11:$D$13) -> 1 | G11: =G24+G37+G50+#REF! -> #REF! | H11: =H24+H37+H50+E64 -> 4574.933 | I11: =H11/G11 -> #REF! | J11: =C11-H11 -> 871.51783 | K11: =J11/H11 -> 0.19049849 | L11: =RANK(K11,$K$5:$K$13) -> 2
A12: 강원청 | B12: =B25+B51+B38+B65 -> 47766.074 | C12: =C25+C51+C38+C65 -> 3957.5651 | D12: =C12/B12 -> 0.082853055 | E12: =RANK(D12,$D$5:$D$13) -> 8 | F12: =RANK(D12,$D$11:$D$13) -> 3 | G12: =G25+G38+G51+#REF! -> #REF! | H12: =H25+H38+H51+E65 -> 3504.3096 | I12: =H12/G12 -> #REF! | J12: =C12-H12 -> 453.25553 | K12: =J12/H12 -> 0.12934232 | L12: =RANK(K12,$K$5:$K$13) -> 8
A13: 제주청 | B13: =B26+B52+B39+B66 -> 24852.76 | C13: =C26+C52+C39+C66 -> 2179.7058 | D13: =C13/B13 -> 0.087704778 | E13: =RANK(D13,$D$5:$D$13) -> 7 | F13: =RANK(D13,$D$11:$D$13) -> 2 | G13: =G26+G39+G52+#REF! -> #REF! | H13: =H26+H39+H52+E66 -> 1851.887 | I13: =H13/G13 -> #REF! | J13: =C13-H13 -> 327.81882 | K13: =J13/H13 -> 0.1770188 | L13: =RANK(K13,$K$5:$K$13) -> 3
A14: 계 | B14: =SUM(B5:B13) -> 2715941 | C14: =SUM(C5:C13) -> 307915.38 | D14: =C14/B14 -> 0.11337337 | G14: =SUM(G5:G13) -> #REF! | H14: =SUM(H5:H13) -> 270759.47 | J14: =C14-H14 -> 37155.915 | K14: =J14/H14 -> 0.1372285
A16: 통상 | B16: * 인터넷 미추천, 통신사무 배분실적 반영 | L16: 단위 : 백만원
A17: 구분 | B17: 2014 목표 | C17: 2014 실적 | D17: 달성률 | E17: 달성률 순위 | F17: 그룹 순위 | G17: 2013목표 | H17: 2013실적 | I17: 달성률 | J17: 전년대비 증감 | K17: 성장률 | L17: 성장률 순위
A18: 서울청 | B18: 559084 | C18: =data!B6 -> 0 | D18: =C18/B18 -> 0 | E18: =RANK(D18,$D$18:$D$26) -> 1 | G18: 528114 | H18: =data!B19 -> 0 | I18: =H18/G18 -> 0 | J18: =C18-H18 -> 0 | K18: =J18/H18 -> #DIV/0! | L18: =RANK(K18,$K$18:$K$26) -> #DIV/0!
A19: 경인청 | B19: 743637 | C19: =data!B7 -> 0 | D19: =C19/B19 -> 0 | E19: =RANK(D19,$D$18:$D$26) -> 1 | G19: 739345 | H19: =data!B20 -> 0 | I19: =H19/G19 -> 0 | J19: =C19-H19 -> 0 | K19: =J19/H19 -> #DIV/0! | L19: =RANK(K19,$K$18:$K$26) -> #DIV/0!
A20: 부산청 | B20: 128728 | C20: =data!B8 -> 0 | D20: =C20/B20 -> 0 | E20: =RANK(D20,$D$18:$D$26) -> 1 | G20: 127610 | H20: =data!B21 -> 0 | I20: =H20/G20 -> 0 | J20: =C20-H20 -> 0 | K20: =J20/H20 -> #DIV/0! | L20: =RANK(K20,$K$18:$K$26) -> #DIV/0!
A21: 충청청 | B21: 105412 | C21: =data!B9 -> 0 | D21: =C21/B21 -> 0 | E21: =RANK(D21,$D$18:$D$26) -> 1 | G21: 103485 | H21: =data!B22 -> 0 | I21: =H21/G21 -> 0 | J21: =C21-H21 -> 0 | K21: =J21/H21 -> #DIV/0! | L21: =RANK(K21,$K$18:$K$26) -> #DIV/0!
A22: 전남청 | B22: 57624 | C22: =data!B10 -> 0 | D22: =C22/B22 -> 0 | E22: =RANK(D22,$D$18:$D$26) -> 1 | G22: 57106 | H22: =data!B23 -> 0 | I22: =H22/G22 -> 0 | J22: =C22-H22 -> 0 | K22: =J22/H22 -> #DIV/0! | L22: =RANK(K22,$K$18:$K$26) -> #DIV/0!
A23: 경북청 | B23: 79224 | C23: =data!B11 -> 0 | D23: =C23/B23 -> 0 | E23: =RANK(D23,$D$18:$D$26) -> 1 | G23: 79427 | H23: =data!B24 -> 0 | I23: =H23/G23 -> 0 | J23: =C23-H23 -> 0 | K23: =J23/H23 -> #DIV/0! | L23: =RANK(K23,$K$18:$K$26) -> #DIV/0!
A24: 전북청 | B24: 29829 | C24: =data!B12 -> 0 | D24: =C24/B24 -> 0 | E24: =RANK(D24,$D$18:$D$26) -> 1 | F24: =RANK(D24,$D$24:$D$26) -> 1 | G24: 29783 | H24: =data!B25 -> 0 | I24: =H24/G24 -> 0 | J24: =C24-H24 -> 0 | K24: =J24/H24 -> #DIV/0! | L24: =RANK(K24,$K$18:$K$26) -> #DIV/0!
A25: 강원청 | B25: 28099 | C25: =data!B13 -> 0 | D25: =C25/B25 -> 0 | E25: =RANK(D25,$D$18:$D$26) -> 1 | F25: =RANK(D25,$D$24:$D$26) -> 1 | G25: 27120 | H25: =data!B26 -> 0 | I25: =H25/G25 -> 0 | J25: =C25-H25 -> 0 | K25: =J25/H25 -> #DIV/0! | L25: =RANK(K25,$K$18:$K$26) -> #DIV/0!
A26: 제주청 | B26: 8363 | C26: =data!B14 -> 0 | D26: =C26/B26 -> 0 | E26: =RANK(D26,$D$18:$D$26) -> 1 | F26: =RANK(D26,$D$24:$D$26) -> 1 | G26: 8010 | H26: =data!B27 -> 0 | I26: =H26/G26 -> 0 | J26: =C26-H26 -> 0 | K26: =J26/H26 -> #DIV/0! | L26: =RANK(K26,$K$18:$K$26) -> #DIV/0!
A27: 계 | B27: =SUM(B18:B26) -> 1740000 | C27: =SUM(C18:C26) -> 0 | D27: =C27/B27 -> 0 | G27: =SUM(G18:G26) -> 1700000 | H27: =SUM(H18:H26) -> 0 | I27: =H27/G27 -> 0 | J27: =SUM(J18:J26) -> 0 | K27: =J27/H27 -> #DIV/0!
A29: 소포 | B29: * 고중량(20kg초과) 제외 반영, 우체국쇼핑 실적 배분 조정에 따라 약간 변동 가능 | L29: 단위 : 백만원
A30: 구분 | B30: 2014 목표 | C30: 2014 실적 | D30: 달성률 | E30: 달성률 순위 | F30: 그룹 순위 | G30: 2013목표 | H30: 2013실적 | I30: 달성률 | J30: 전년대비 증감 | K30: 성장률 | L30: 성장률 순위
A31: 서울청 | B31: 140875 | C31: =data!D6 -> 0 | D31: =C31/B31 -> 0 | E31: =RANK(D31,$D$31:$D$39) -> 1 | G31: 138987 | H31: =data!D19 -> 0 | I31: =H31/G31 -> 0 | J31: =C31-H31 -> 0 | K31: =J31/H31 -> #DIV/0! | L31: =RANK(K31,$K$31:$K$39) -> #DIV/0!
A32: 경인청 | B32: 119307 | C32: =data!D7 -> 0 | D32: =C32/B32 -> 0 | E32: =RANK(D32,$D$31:$D$39) -> 1 | G32: 115088 | H32: =data!D20 -> 0 | I32: =H32/G32 -> 0 | J32: =C32-H32 -> 0 | K32: =J32/H32 -> #DIV/0! | L32: =RANK(K32,$K$31:$K$39) -> #DIV/0!
A33: 부산청 | B33: 64934 | C33: =data!D8 -> 0 | D33: =C33/B33 -> 0 | E33: =RANK(D33,$D$31:$D$39) -> 1 | G33: 73407 | H33: =data!D21 -> 0 | I33: =H33/G33 -> 0 | J33: =C33-H33 -> 0 | K33: =J33/H33 -> #DIV/0! | L33: =RANK(K33,$K$31:$K$39) -> #DIV/0!
A34: 충청청 | B34: 53431 | C34: =data!D9 -> 0 | D34: =C34/B34 -> 0 | E34: =RANK(D34,$D$31:$D$39) -> 1 | G34: 60733 | H34: =data!D22 -> 0 | I34: =H34/G34 -> 0 | J34: =C34-H34 -> 0 | K34: =J34/H34 -> #DIV/0! | L34: =RANK(K34,$K$31:$K$39) -> #DIV/0!
A35: 전남청 | B35: 37685 | C35: =data!D10 -> 0 | D35: =C35/B35 -> 0 | E35: =RANK(D35,$D$31:$D$39) -> 1 | G35: 49314 | H35: =data!D23 -> 0 | I35: =H35/G35 -> 0 | J35: =C35-H35 -> 0 | K35: =J35/H35 -> #DIV/0! | L35: =RANK(K35,$K$31:$K$39) -> #DIV/0!
A36: 경북청 | B36: 44796 | C36: =data!D11 -> 0 | D36: =C36/B36 -> 0 | E36: =RANK(D36,$D$31:$D$39) -> 1 | G36: 56009 | H36: =data!D24 -> 0 | I36: =H36/G36 -> 0 | J36: =C36-H36 -> 0 | K36: =J36/H36 -> #DIV/0! | L36: =RANK(K36,$K$31:$K$39) -> #DIV/0!
A37: 전북청 | B37: 16981 | C37: =data!D12 -> 0 | D37: =C37/B37 -> 0 | E37: =RANK(D37,$D$31:$D$39) -> 1 | F37: =RANK(D37,$D$37:$D$39) -> 1 | G37: 21621 | H37: =data!D25 -> 0 | I37: =H37/G37 -> 0 | J37: =C37-H37 -> 0 | K37: =J37/H37 -> #DIV/0! | L37: =RANK(K37,$K$31:$K$39) -> #DIV/0!
A38: 강원청 | B38: 13714 | C38: =data!D13 -> 0 | D38: =C38/B38 -> 0 | E38: =RANK(D38,$D$31:$D$39) -> 1 | F38: =RANK(D38,$D$37:$D$39) -> 1 | G38: 16559 | H38: =data!D26 -> 0 | I38: =H38/G38 -> 0 | J38: =C38-H38 -> 0 | K38: =J38/H38 -> #DIV/0! | L38: =RANK(K38,$K$31:$K$39) -> #DIV/0!
A39: 제주청 | B39: 13334 | C39: =data!D14 -> 0 | D39: =C39/B39 -> 0 | E39: =RANK(D39,$D$31:$D$39) -> 1 | F39: =RANK(D39,$D$37:$D$39) -> 1 | G39: 13282 | H39: =data!D27 -> 0 | I39: =H39/G39 -> 0 | J39: =C39-H39 -> 0 | K39: =J39/H39 -> #DIV/0! | L39: =RANK(K39,$K$31:$K$39) -> #DIV/0!
A40: 계 | B40: =SUM(B31:B39) -> 505057 | C40: =SUM(C31:C39) -> 0 | D40: =C40/B40 -> 0 | G40: =SUM(G31:G39) -> 545000 | H40: =SUM(H31:H39) -> 0 | I40: =H40/G40 -> 0 | J40: =C40-H40 -> 0 | K40: =J40/H40 -> #DIV/0!
A42: 국제
A43: 구분 | B43: 2015 목표 | C43: 2015 실적 | D43: 달성률 | E43: 달성률 순위 | F43: 그룹 순위 | G43: 2014목표 | H43: 2014실적 | I43: 달성률 | J43: 전년대비 증감 | K43: 성장률 | L43: 성장률 순위
A44: 서울청 | B44: 201203 | C44: =data!C6 -> 132862.3 | D44: =C44/B44 -> 0.66033957 | E44: =RANK(D44,$D$44:$D$52) -> 6 | G44: 181222 | H44: =data!C19 -> 115359.72 | I44: =H44/G44 -> 0.63656577 | J44: =C44-H44 -> 17502.581 | K44: =J44/H44 -> 0.15172176 | L44: =RANK(K44,$K$44:$K$52) -> 5
...

Sheet 2015잡수익(청별)
A1: 청별 잡수익 현황(2015. 7월누계)
A3: 관서명 | B3: 우편영업잡수입 | C3: 수탁잡수입 | D3: 합계
A4: 서울청 | B4: =SUM(I17,I30) -> 263824430 | C4: =SUM(I43,I56,I69,I82,I95) -> 680184717 | D4: =SUM(B4:C4) -> 944009147
A5: 경인청 | B5: =SUM(I18,I31) -> 90805830 | C5: =SUM(I44,I57,I70,I83,I96) -> 864710605 | D5: =SUM(B5:C5) -> 955516435
A6: 부산청 | B6: =SUM(I19,I32) -> 93588210 | C6: =SUM(I45,I58,I71,I84,I97) -> 463236559 | D6: =SUM(B6:C6) -> 556824769
A7: 충청청 | B7: =SUM(I20,I33) -> 113064780 | C7: =SUM(I46,I59,I72,I85,I98) -> 340466762 | D7: =SUM(B7:C7) -> 453531542
A8: 전남청 | B8: =SUM(I21,I34) -> 40888720 | C8: =SUM(I47,I60,I73,I86,I99) -> 172166918 | D8: =SUM(B8:C8) -> 213055638
A9: 경북청 | B9: =SUM(I22,I35) -> 120004020 | C9: =SUM(I48,I61,I74,I87,I100) -> 348127407 | D9: =SUM(B9:C9) -> 468131427
A10: 전북청 | B10: =SUM(I23,I36) -> 64032470 | C10: =SUM(I49,I62,I75,I88,I101) -> 125474063 | D10: =SUM(B10:C10) -> 189506533
A11: 강원청 | B11: =SUM(I24,I37) -> 130073930 | C11: =SUM(I50,I63,I76,I89,I102) -> 102964435 | D11: =SUM(B11:C11) -> 233038365
A12: 제주청 | B12: =SUM(I25,I38) -> 1760490 | C12: =SUM(I51,I64,I77,I90,I103) -> 30147596 | D12: =SUM(B12:C12) -> 31908086
A13: 합계 | B13: =SUM(B4:B12) -> 918042880 | C13: =SUM(C4:C12) -> 3127479062 | D13: =SUM(D4:D12) -> 4045521942
A15: o 우편영업잡수입 : 나만의 우표
A16: 관서명 | B16: 1월 | C16: 2월 | D16: 3월 | E16: 4월 | F16: 5월 | G16: 6월 | H16: 7월 | I16: 합계
A17: 서울청 | B17: 6270700 | C17: 2958400 | D17: 6354900 | E17: 6466600 | F17: 4050100 | G17: 126264200 | H17: 14402400 | I17: =SUM(B17:H17) -> 166767300
A18: 경인청 | B18: 621700 | C18: 499900 | D18: 3335500 | E18: 8435200 | F18: 5104100 | G18: 13071600 | H18: 4731100 | I18: =SUM(B18:H18) -> 35799100
A19: 부산청 | B19: 13774000 | C19: 1045600 | D19: 3267400 | E19: 3314400 | F19: 815800 | G19: 11654400 | H19: 2645000 | I19: =SUM(B19:H19) -> 36516600
A20: 충청청 | B20: 681600 | C20: 2846800 | D20: 710000 | E20: 1360900 | F20: 4625100 | G20: 1901900 | H20: 2286600 | I20: =SUM(B20:H20) -> 14412900
A21: 전남청 | B21: 1816300 | C21: 101600 | D21: 303000 | E21: 396900 | F21: 1920200 | G21: 448000 | H21: 1425600 | I21: =SUM(B21:H21) -> 6411600
A22: 경북청 | B22: 347000 | C22: 796300 | D22: 738200 | E22: 462400 | F22: 18251400 | G22: 10220300 | H22: 2685400 | I22: =SUM(B22:H22) -> 33501000
A23: 전북청 | B23: 4867700 | C23: 44200 | D23: 983200 | E23: 4513600 | F23: 2402400 | G23: 8644200 | H23: 647800 | I23: =SUM(B23:H23) -> 22103100
A24: 강원청 | B24: 811400 | C24: 3034800 | D24: 402800 | E24: 17524400 | F24: 9485100 | G24: 7735800 | H24: 12236400 | I24: =SUM(B24:H24) -> 51230700
A25: 제주청 | B25: 0 | C25: 0 | D25: 252000 | E25: 91300 | G25: 0 | H25: 36800 | I25: =SUM(B25:H25) -> 380100
A26: 합계 | B26: =SUM(B17:B25) -> 29190400 | C26: =SUM(C17:C25) -> 11327600 | D26: =SUM(D17:D25) -> 16347000 | E26: =SUM(E17:E25) -> 42565700 | F26: =SUM(F17:F25) -> 46654200 | G26: =SUM(G17:G25) -> 179940400 | H26: =SUM(H17:H25) -> 41097100 | I26: =SUM(B26:H26) -> 367122400
A28: o 우편영업잡수입 : 맞춤형 엽서
A29: 관서명 | B29: 1월 | C29: 2월 | D29: 3월 | E29: 4월 | F29: 5월 | G29: 6월 | H29: 7월 | I29: 합계
A30: 서울청 | B30: 7980240 | C30: 13605160 | D30: 2340250 | E30: 51240320 | F30: 5562150 | G30: 13943360 | H30: 2385650 | I30: =SUM(B30:H30) -> 97057130
A31: 경인청 | B31: 5901920 | C31: 14726850 | D31: 1027690 | E31: 8451320 | F31: 4433730 | G31: 14556150 | H31: 5909070 | I31: =SUM(B31:H31) -> 55006730
A32: 부산청 | B32: 4077810 | C32: 2660680 | D32: 11679950 | E32: 14661460 | F32: 11139450 | G32: 10145360 | H32: 2706900 | I32: =SUM(B32:H32) -> 57071610
A33: 충청청 | B33: 9728480 | C33: 8271780 | D33: 6981120 | E33: 51603960 | F33: 5743740 | G33: 11243970 | H33: 5078830 | I33: =SUM(B33:H33) -> 98651880
A34: 전남청 | B34: 6153000 | C34: 4995860 | D34: 6810570 | E34: 3759680 | F34: 3676100 | G34: 604350 | H34: 8477560 | I34: =SUM(B34:H34) -> 34477120
A35: 경북청 | B35: 4835880 | C35: 4888180 | D35: 14196900 | E35: 3498390 | F35: 12728420 | G35: 42394870 | H35: 3960380 | I35: =SUM(B35:H35) -> 86503020
A36: 전북청 | B36: 4373440 | C36: 1734410 | D36: 1284990 | E36: 25589570 | F36: 2240460 | G36: 6624900 | H36: 81600 | I36: =SUM(B36:H36) -> 41929370
A37: 강원청 | B37: 2606400 | C37: 3124340 | D37: 9393280 | E37: 30713560 | F37: 23951270 | G37: 710000 | H37: 8344380 | I37: =SUM(B37:H37) -> 78843230
A38: 제주청 | B38: 390390 | C38: 0 | D38: 301000 | E38: 159000 | F38: 530000 | G38: 0 | H38: 0 | I38: =SUM(B38:H38) -> 1380390
A39: 합계 | B39: =SUM(B30:B38) -> 46047560 | C39: =SUM(C30:C38) -> 54007260 | D39: =SUM(D30:D38) -> 54015750 | E39: =SUM(E30:E38) -> 189677260 | F39: =SUM(F30:F38) -> 70005320 | G39: =SUM(G30:G38) -> 100222960 | H39: =SUM(H30:H38) -> 36944370 | I39: =SUM(B39:H39) -> 550920480
A41: o 수탁잡수입 : 문화상품권
A42: 관서명 | B42: 1월 | C42: 2월 | D42: 3월 | E42: 4월 | F42: 5월 | G42: 6월 | H42: 7월 | I42: 합계
A43: 서울청 | B43: 6030000 | C43: 6954150 | D43: 7152200 | E43: 8110050 | F43: 7502100 | G43: 7384900 | H43: 8897000 | I43: =SUM(B43:G43) -> 43133400
A44: 경인청 | B44: 4589350 | C44: 9739200 | D44: 6498400 | E44: 6177550 | F44: 6834900 | G44: 5634600 | H44: 5532400 | I44: =SUM(B44:G44) -> 39474000
...

Sheet 2014잡수익(청별)
A1: 청별 잡수익 현황(2014년실적)
A2: 2014년 총괄 | F2: 7월누계
A3: 관서명 | B3: 우편영업잡수입 | C3: 수탁잡수입 | D3: 합계 | F3: 관서명 | G3: 우편영업잡수입 | H3: 수탁잡수입 | I3: 합계
A4: 서울청 | B4: =SUM(N17,N30) -> 676492380 | C4: =SUM(N43,N56,E109,N82,N95) -> 1010842787 | D4: =SUM(B4:C4) -> 1687335167 | F4: 서울청 | G4: =SUM(B30:H30,B17:H17) -> 355709110 | H4: =SUM(B43:H43,B56:H56,N69,B95:H95) -> 591453634 | I4: =SUM(G4:H4) -> 947162744
A5: 경인청 | B5: =SUM(N18,N31) -> 167472710 | C5: =SUM(N44,N57,E110,N83,N96) -> 1210752539 | D5: =SUM(B5:C5) -> 1378225249 | F5: 경인청 | G5: =SUM(B31:H31,B18:H18) -> 106101840 | H5: =SUM(B44:H44,B57:H57,N70,B96:H96) -> 712802501 | I5: =SUM(G5:H5) -> 818904341
A6: 부산청 | B6: =SUM(N19,N32) -> 175422900 | C6: =SUM(N45,N58,E111,N84,N97) -> 666989032 | D6: =SUM(B6:C6) -> 842411932 | F6: 부산청 | G6: =SUM(B32:H32,B19:H19) -> 78573620 | H6: =SUM(B45:H45,B58:H58,N71,B97:H97) -> 378212927 | I6: =SUM(G6:H6) -> 456786547
A7: 충청청 | B7: =SUM(N20,N33) -> 343652700 | C7: =SUM(N46,N59,E112,N85,N98) -> 514088533 | D7: =SUM(B7:C7) -> 857741233 | F7: 충청청 | G7: =SUM(B33:H33,B20:H20) -> 222547960 | H7: =SUM(B46:H46,B59:H59,N72,B98:H98) -> 300868113 | I7: =SUM(G7:H7) -> 523416073
A8: 전남청 | B8: =SUM(N21,N34) -> 64573150 | C8: =SUM(N47,N60,E113,N86,N99) -> 254664823 | D8: =SUM(B8:C8) -> 319237973 | F8: 전남청 | G8: =SUM(B34:H34,B21:H21) -> 38820060 | H8: =SUM(B47:H47,B60:H60,N73,B99:H99) -> 146225183 | I8: =SUM(G8:H8) -> 185045243
A9: 경북청 | B9: =SUM(N22,N35) -> 139359920 | C9: =SUM(N48,N61,E114,N87,N100) -> 502033597 | D9: =SUM(B9:C9) -> 641393517 | F9: 경북청 | G9: =SUM(B35:H35,B22:H22) -> 58412720 | H9: =SUM(B48:H48,B61:H61,N74,B100:H100) -> 287746753 | I9: =SUM(G9:H9) -> 346159473
A10: 전북청 | B10: =SUM(N23,N36) -> 111032770 | C10: =SUM(N49,N62,E115,N88,N101) -> 186152800 | D10: =SUM(B10:C10) -> 297185570 | F10: 전북청 | G10: =SUM(B36:H36,B23:H23) -> 39642210 | H10: =SUM(B49:H49,B62:H62,N75,B101:H101) -> 108599593 | I10: =SUM(G10:H10) -> 148241803
A11: 강원청 | B11: =SUM(N24,N37) -> 163177640 | C11: =SUM(N50,N63,E116,N89,N102) -> 146613108 | D11: =SUM(B11:C11) -> 309790748 | F11: 강원청 | G11: =SUM(B37:H37,B24:H24) -> 107114680 | H11: =SUM(B50:H50,B63:H63,N76,B102:H102) -> 84497754 | I11: =SUM(G11:H11) -> 191612434
A12: 제주청 | B12: =SUM(N25,N38) -> 57214230 | C12: =SUM(N51,N64,E117,N90,N103) -> 53044956 | D12: =SUM(B12:C12) -> 110259186 | F12: 제주청 | G12: =SUM(B38:H38,B25:H25) -> 46118430 | H12: =SUM(B51:H51,B64:H64,N77,B103:H103) -> 34180151 | I12: =SUM(G12:H12) -> 80298581
A13: 합계 | B13: =SUM(B4:B12) -> 1898398400 | C13: =SUM(C4:C12) -> 4545182175 | D13: =SUM(D4:D12) -> 6443580575 | F13: 합계 | G13: =SUM(G4:G12) -> 1053040630 | H13: =SUM(H4:H12) -> 2644586609 | I13: =SUM(I4:I12) -> 3697627239
A15: o 우편영업잡수입 : 나만의 우표
A16: 관서명 | B16: 1월 | C16: 2월 | D16: 3월 | E16: 4월 | F16: 5월 | G16: 6월 | H16: 7월 | I16: 8월 | J16: 9월 | K16: 10월 | L16: 11월 | M16: 12월 | N16: 합계
A17: 서울청 | B17: 26626600 | C17: 75424000 | D17: 23432200 | E17: 22827800 | F17: 15189900 | G17: 18371200 | H17: 34637400 | I17: 59155800 | J17: 10610600 | K17: 4224400 | L17: 27965200 | M17: 66270100 | N17: =SUM(B17:M17) -> 384735200
A18: 경인청 | B18: 34827700 | C18: 1706400 | D18: 12462800 | E18: 4185700 | F18: 3154300 | G18: 10399100 | H18: 418000 | I18: 1146300 | J18: 2737000 | K18: 11924800 | L18: 6942800 | M18: 12368400 | N18: =SUM(B18:M18) -> 102273300
A19: 부산청 | B19: 10366000 | C19: 725300 | D19: 616600 | E19: 1214300 | F19: 1662900 | G19: 1750900 | H19: 4938000 | I19: 2875000 | J19: 15232800 | K19: 5941600 | L19: 2157900 | M19: 30303300 | N19: =SUM(B19:M19) -> 77784600
A20: 충청청 | B20: 27904100 | C20: 1564500 | D20: 2206000 | E20: 3862600 | F20: 95681400 | G20: 1232800 | H20: 1581900 | I20: 675100 | J20: 1299300 | K20: 4840800 | L20: 2272200 | M20: 14411500 | N20: =SUM(B20:M20) -> 157532200
A21: 전남청 | B21: 2495300 | C21: 527100 | D21: 58300 | E21: 19800 | F21: 5153300 | G21: 554500 | H21: 5500 | I21: 1104800 | J21: 634400 | K21: 294100 | L21: 2555700 | M21: 1710300 | N21: =SUM(B21:M21) -> 15113100
A22: 경북청 | B22: 2536600 | C22: 331200 | D22: 3338000 | E22: 890000 | F22: 9422800 | G22: 1906500 | H22: 1142600 | I22: 1120300 | J22: 7588100 | K22: 15991800 | L22: 8236900 | M22: 3962300 | N22: =SUM(B22:M22) -> 56467100
A23: 전북청 | B23: 136600 | C23: 1165500 | D23: 174600 | E23: 4298600 | F23: 260800 | G23: 42600 | H23: 498800 | I23: 3462200 | J23: 10577100 | K23: 2970200 | L23: 10877400 | M23: 7195900 | N23: =SUM(B23:M23) -> 41660300
A24: 강원청 | B24: 11729900 | C24: 1266600 | D24: 665000 | E24: 4840800 | F24: 1194600 | G24: 3819500 | H24: 4081400 | I24: 13157800 | J24: 2823600 | K24: 2896000 | L24: 3032500 | M24: 3316700 | N24: =SUM(B24:M24) -> 52824400
A25: 제주청 | B25: 29409700 | C25: 4414400 | D25: 255000 | E25: 349400 | F25: 96300 | G25: 255000 | H25: 85000 | I25: 179500 | J25: 176200 | K25: 0 | L25: 0 | M25: 575000 | N25: =SUM(B25:M25) -> 35795500
A26: 합계 | B26: =SUM(B17:B25) -> 146032500 | C26: =SUM(C17:C25) -> 87125000 | D26: =SUM(D17:D25) -> 43208500 | E26: =SUM(E17:E25) -> 42489000 | F26: =SUM(F17:F25) -> 131816300 | G26: =SUM(G17:G25) -> 38332100 | H26: =SUM(H17:H25) -> 47388600 | I26: =SUM(I17:I25) -> 82876800 | ... M26: =SUM(M17:M25) -> 140113500 | N26: =SUM(B26:M26) -> 924185700
A28: o 우편영업잡수입 : 맞춤형 엽서
A29: 관서명 | B29: 1월 | C29: 2월 | D29: 3월 | E29: 4월 | F29: 5월 | G29: 6월 | H29: 7월 | I29: 8월 | J29: 9월 | K29: 10월 | L29: 11월 | M29: 12월 | N29: 합계
A30: 서울청 | B30: 22268000 | C30: 1339380 | D30: 4104400 | E30: 91428960 | F30: 7055130 | G30: 9380320 | H30: 3623820 | I30: 4753130 | J30: 6590110 | K30: 13069550 | L30: 96982360 | M30: 31162020 | N30: =SUM(B30:M30) -> 291757180
A31: 경인청 | B31: 7936760 | C31: 747030 | D31: 3871680 | E31: 15894420 | F31: 9485020 | G31: 817730 | H31: 195200 | I31: 8173230 | J31: 0 | K31: 6924560 | L31: 9157880 | M31: 1995900 | N31: =SUM(B31:M31) -> 65199410
A32: 부산청 | B32: 3034190 | C32: 1775400 | D32: 1532070 | E32: 37254550 | F32: 1196710 | G32: 404400 | H32: 12102300 | I32: 3492990 | J32: 23453340 | K32: 5217000 | L32: 4519600 | M32: 3655750 | N32: =SUM(B32:M32) -> 97638300
A33: 충청청 | B33: 14297960 | C33: 7475310 | D33: 9224600 | E33: 18437140 | F33: 20023180 | G33: 12373790 | H33: 6682680 | I33: 14596020 | J33: 2337610 | K33: 19062190 | L33: 24960610 | M33: 36649410 | N33: =SUM(B33:M33) -> 186120500
A34: 전남청 | B34: 5668740 | C34: 1802860 | D34: 3855640 | E34: 3664200 | F34: 7011200 | G34: 4980920 | H34: 3022700 | I34: 2632040 | J34: 2329200 | K34: 3231000 | L34: 4882890 | M34: 6378660 | N34: =SUM(B34:M34) -> 49460050
A35: 경북청 | B35: 8909400 | C35: 3518880 | D35: 8775000 | E35: 9709850 | F35: 4038890 | G35: 2758000 | H35: 1135000 | I35: 0 | J35: 6092120 | K35: 25387570 | L35: 2010130 | M35: 10557980 | N35: =SUM(B35:M35) -> 82892820
A36: 전북청 | B36: 8746680 | C36: 1387600 | D36: 2558090 | E36: 9752470 | F36: 6364970 | G36: 1062130 | H36: 3192770 | I36: 11883160 | J36: 10605450 | K36: 10431500 | L36: 971710 | M36: 2415940 | N36: =SUM(B36:M36) -> 69372470
A37: 강원청 | B37: 2141800 | C37: 5035360 | D37: 8045830 | E37: 23997020 | F37: 29353840 | G37: 2484890 | H37: 8458140 | I37: 2132390 | J37: 2622500 | K37: 2928920 | L37: 2637290 | M37: 20515260 | N37: =SUM(B37:M37) -> 110353240
A38: 제주청 | B38: 106000 | C38: 477000 | D38: 159000 | E38: 5740790 | F38: 3920450 | G38: 496390 | H38: 354000 | I38: 159000 | J38: 7524100 | K38: 2442000 | L38: 40000 | M38: 0 | N38: =SUM(B38:M38) -> 21418730
A39: 합계 | B39: =SUM(B30:B38) -> 73109530 | C39: =SUM(C30:C38) -> 23558820 | D39: =SUM(D30:D38) -> 42126310 | E39: =SUM(E30:E38) -> 215879400 | F39: =SUM(F30:F38) -> 88449390 | G39: =SUM(G30:G38) -> 34758570 | H39: =SUM(H30:H38) -> 38766610 | I39: =SUM(I30:I38) -> 47821960 | ... M39: =SUM(M30:M38) -> 113330920 | N39: =SUM(B39:M39) -> 974212700
A41: o 수탁잡수입 : 문화상품권
A42: 관서명 | B42: 1월 | C42: 2월 | D42: 3월 | E42: 4월 | F42: 5월 | G42: 6월 | H42: 7월 | I42: 8월 | J42: 9월 | K42: 10월 | L42: 11월 | M42: 12월 | N42: 합계
A43: 서울청 | B43: 6549000 | C43: 8717400 | D43: 5883300 | E43: 6043800 | F43: 6835500 | G43: 7391100 | H43: 5956200 | I43: 4668600 | J43: 5822400 | K43: 5675400 | L43: 7083800 | M43: 14489750 | N43: =SUM(B43:M43) -> 85116250
...

Sheet 총괄국
A1: 2015년도 총괄국별 국제우편 매출액 현황 (8월 누계)
U2: (단위 : 백만원, %)
A3: 우편매출액 계 | J3: 단위 : 백만원 | L3: 구분 | M3: 2014년 우편매출액 목표 | Q3: 2013년 실적 대비 | T3: 2013년 목표 대비
A4: 구분 | B4: 2014 목표 | C4: 2014실적 | D4: 달성률 | E4: 달성율순위 | G4: 전년동기 | H4: 증감 | I4: 성장률 | J4: 성장률 순위 | L4: 2014년도 우편매출액 목표 | M4: 통상 | N4: 소포 | O4: 국제 | P4: 계 | Q4: 실적 | R4: 증감 | S4: 증감률 | T4: 목표 | U4: 증감 | V4: 증감률
A5: 제주 | B5: =B12+B19+B27 -> 16374 | C5: =C12+C19+C27 -> #REF! | D5: =C5/B5 -> #REF! | E5: =RANK(D5,$D$5:$D$7) -> #REF! | G5: =G12+G19+G27 -> #REF! | H5: =C5-G5 -> #REF! | I5: =H5/G5 -> #REF! | J5: =RANK(I5,$I$5:$I$7) -> #REF! | L5: 제 주 | M5: 6250 | N5: 7824 | O5: 1962 | P5: 16036 | Q5: 16592 | R5: -556 | S5: -3.3510125 | T5: 16012 | U5: 24 | V5: 0.14988758
A6: 서귀포 | B6: =B13+B20+B28 -> 7752 | C6: =C13+C20+C28 -> #REF! | D6: =C6/B6 -> #REF! | E6: =RANK(D6,$D$5:$D$7) -> #REF! | G6: =G13+G20+G28 -> #REF! | H6: =C6-G6 -> #REF! | I6: =H6/G6 -> #REF! | J6: =RANK(I6,$I$5:$I$7) -> #REF! | L6: 서귀포 | M6: 1738 | N6: 5273 | O6: 651 | P6: 7662 | Q6: 7906 | R6: -244 | S6: -3.0862636 | T6: 7523 | U6: 139 | V6: 1.8476672
A7: 제주(집) | B7: =B14+B21+B29 -> 1175 | C7: =C14+C21+C29 -> #REF! | D7: =C7/B7 -> #REF! | E7: =RANK(D7,$D$5:$D$7) -> #REF! | G7: =G14+G21+G29 -> #REF! | H7: =C7-G7 -> #REF! | I7: =H7/G7 -> #REF! | J7: =RANK(I7,$I$5:$I$7) -> #REF! | L7: 집중국 | M7: 825 | N7: 237 | O7: 163 | P7: 1225 | Q7: 992 | R7: 233 | S7: 23.487903 | T7: 795 | U7: 430 | V7: 54.08805
A8: 계 | B8: =SUM(B5:B7) -> 25301 | C8: =SUM(C5:C7) -> #REF! | D8: =C8/B8 -> #REF! | G8: =SUM(G5:G7) -> #REF! | H8: =C8-G8 -> #REF! | I8: =H8/G8 -> #REF! | L8: 계 | M8: 8813 | N8: 13334 | O8: 2776 | P8: 24923 | Q8: 25490 | R8: -567 | S8: -2.2244017 | T8: 24330 | U8: 593 | V8: 2.4373202
A10: 통상 | B10: * 인터넷 미추천, 통신사무 배분실적 제외 | J10: 단위 : 백만원
A11: 구분 | B11: 2014 목표 | C11: 2014실적 | D11: 달성률 | E11: 달성율순위 순위 | G11: 전년동기 | H11: 증감 | I11: 증감률 | J11: 성장률순위
A12: 제주 | B12: 6250 | C12: =총괄국국제2015!#REF! -> #REF! | D12: =C12/B12 -> #REF! | E12: =RANK(D12,$D$12:$D$14) -> #REF! | G12: =총괄국국제2015!#REF! -> #REF! | H12: =C12-G12 -> #REF! | I12: =H12/G12 -> #REF! | J12: =RANK(I12,$I$12:$I$14) -> #REF!
A13: 서귀포 | B13: 1738 | C13: =총괄국국제2015!#REF! -> #REF! | D13: =C13/B13 -> #REF! | E13: =RANK(D13,$D$12:$D$14) -> #REF! | G13: =총괄국국제2015!#REF! -> #REF! | H13: =C13-G13 -> #REF! | I13: =H13/G13 -> #REF! | J13: =RANK(I13,$I$12:$I$14) -> #REF!
A14: 제주(집) | B14: 825 | C14: =총괄국국제2015!#REF! -> #REF! | D14: =C14/B14 -> #REF! | E14: =RANK(D14,$D$12:$D$14) -> #REF! | G14: =총괄국국제2015!#REF! -> #REF! | H14: =C14-G14 -> #REF! | I14: =H14/G14 -> #REF! | J14: =RANK(I14,$I$12:$I$14) -> #REF!
A15: 계 | B15: =SUM(B12:B14) -> 8813 | C15: =SUM(C12:C14) -> #REF! | D15: =C15/B15 -> #REF! | G15: =SUM(G12:G14) -> #REF! | H15: =SUM(H12:H14) -> #REF! | I15: =H15/G15 -> #REF!
A17: 소포 | B17: * 고중량(20kg초과) 제외 반영, 우체국쇼핑 실적 배분 조정에 따라 약간 변동 가능 | J17: 단위 : 백만원
A18: 구분 | B18: 2014 목표 | C18: 2014실적 | D18: 달성률 | E18: 달성율순위 | G18: 전년동기 | H18: 증감 | I18: 증감률 | J18: 성장률순위
A19: 제주 | B19: 7824 | C19: =총괄국국제2015!#REF! -> #REF! | D19: =C19/B19 -> #REF! | E19: =RANK(D19,$D$19:$D$21) -> #REF! | G19: =총괄국국제2015!#REF! -> #REF! | H19: =C19-G19 -> #REF! | I19: =H19/G19 -> #REF! | J19: =RANK(I19,$I$19:$I$21) -> #REF!
A20: 서귀포 | B20: 5273 | C20: =총괄국국제2015!#REF! -> #REF! | D20: =C20/B20 -> #REF! | E20: =RANK(D20,$D$19:$D$21) -> #REF! | G20: =총괄국국제2015!#REF! -> #REF! | H20: =C20-G20 -> #REF! | I20: =H20/G20 -> #REF! | J20: =RANK(I20,$I$19:$I$21) -> #REF!
A21: 제주(집) | B21: 237 | C21: =총괄국국제2015!#REF! -> #REF! | D21: =C21/B21 -> #REF! | E21: =RANK(D21,$D$19:$D$21) -> #REF! | G21: =총괄국국제2015!#REF! -> #REF! | H21: =C21-G21 -> #REF! | I21: =H21/G21 -> #REF! | J21: =RANK(I21,$I$19:$I$21) -> #REF!
A22: 계 | B22: =SUM(B19:B21) -> 13334 | C22: =SUM(C19:C21) -> #REF! | D22: =C22/B22 -> #REF! | G22: =SUM(G19:G21) -> #REF! | H22: =C22-G22 -> #REF! | I22: =H22/G22 -> #REF!
A24: 국제 | I24: (단위 : 백만원, %)
A25: 구분 | B25: 2015년 실적 | F25: 2014년 실적 | I25: 증감률 | J25: 증감률순위
B26: 2015년목표 | C26: 2015년실적 | D26: 달성률 | E26: 달성률순위 | F26: 2014년목표 | G26: 2014년실적 | H26: 달성률
A27: 제주 | B27: 2300 | C27: =총괄국국제2015!F16/1000000 -> 1654.0341 | D27: =C27/B27 -> 0.71914528 | E27: =RANK(D27,$D$27:$D$29) -> 1 | F27: 1962 | G27: =총괄국국제2014!F15/1000000 -> 1303.0224 | H27: =G27/F27 -> 0.66412967 | I27: =(C27-G27)/G27 -> 0.26938273 | J27: =RANK(I27,$I$27:$I$29) -> 1
A28: 서귀포 | B28: 741 | C28: =총괄국국제2015!F17/1000000 -> 460.16676 | D28: =C28/B28 -> 0.62100777 | E28: =RANK(D28,$D$27:$D$29) -> 2 | F28: 651 | G28: =총괄국국제2014!F16/1000000 -> 431.39136 | H28: =G28/F28 -> 0.66265954 | I28: =(C28-G28)/G28 -> 0.0667037 | J28: =RANK(I28,$I$27:$I$29) -> 2
A29: 제주(집) | B29: 113 | C29: =총괄국국제2015!F15/1000000 -> 17.31091 | D29: =C29/B29 -> 0.15319389 | E29: =RANK(D29,$D$27:$D$29) -> 3 | F29: 163 | G29: =총괄국국제2014!F14/1000000 -> 71.20182 | H29: =G29/F29 -> 0.43682098 | I29: =(C29-G29)/G29 -> -0.75687546 | J29: =RANK(I29,$I$27:$I$29) -> 3
A30: 계 | B30: =SUM(B27:B29) -> 3154 | C30: =SUM(C27:C29) -> 2131.5118 | D30: =C30/B30 -> 0.67581224 | F30: =SUM(F27:F29) -> 2776 | G30: =SUM(G27:G29) -> 1805.6156 | H30: =G30/F30 -> 0.65043789 | I30: =(C30-G30)/G30 -> 0.18049037
A33: 가중치실적 | H33: (단위 : 백만원, %)
A34: 구분 | B34: 가중치 적용실적(ems:1.02) | F34: 수익성평가
B35: 통상 | C35: 소포 | D35: ems | E35: 가중치실적 | F35: 8점 | G35: 2점 | H35: 10점 | I35: 순위
A36: 제주 | B36: =총괄국국제2015!B16/1000000 -> 41.38778 | C36: =총괄국국제2015!C16/1000000 -> 69.86945 | D36: =총괄국국제2015!D16/1000000 -> 1330.6517 | E36: =SUM(B36,C36,D36*1.02) -> 1468.5219 | F36: =C27/B27*8 -> 5.7531623 | G36: =E36/B27*2 -> 1.2769756 | H36: =F36+G36 -> 7.0301379 | I36: =RANK(H36,$H$36:$H$38) -> 1
A37: 서귀포 | B37: =총괄국국제2015!B17/1000000 -> 6.17479 | C37: =총괄국국제2015!C17/1000000 -> 29.6939 | D37: =총괄국국제2015!D17/1000000 -> 372.83654 | E37: =SUM(B37,C37,D37*1.02) -> 416.16196 | F37: =C28/B28*8 -> 4.9680622 | G37: =E37/B28*2 -> 1.1232442 | H37: =F37+G37 -> 6.0913063 | I37: =RANK(H37,$H$36:$H$38) -> 2
A38: 제주(집) | B38: =총괄국국제2015!B15/1000000 -> 2.49074 | C38: =총괄국국제2015!C15/1000000 -> 0 | D38: =총괄국국제2015!D15/1000000 -> 14.4808 | E38: =SUM(B38,C38,D38*1.02) -> 17.261156 | F38: =C29/B29*8 -> 1.2255512 | G38: =E38/B29*2 -> 0.30550719 | H38: =F38+G38 -> 1.5310583 | I38: =RANK(H38,$H$36:$H$38) -> 3
A39: 계 | B39: =SUM(B36:B38) -> 50.05331 | C39: =SUM(C36:C38) -> 99.56335 | D39: =SUM(D36:D38) -> 1717.969 | E39: =SUM(B39,C39,D39*1.02) -> 1901.9451 | F39: =C30/B30*8 -> 5.406498 | G39: =E39/B30*2 -> 1.2060527 | H39: =F39+G39 -> 6.6125506
A42: 잡수익 | H42: (단위 : 백만원, %)
A43: 구분 | B43: 2015년 실적 | E43: 2014년 실적 | H43: 증감
B44: 우편잡수익 | C44: 수탁잡수익 | D44: 합계 | E44: 우편잡수익 | F44: 수탁잡수익 | G44: 합계 | H44: 증감액 | I44: 증감률
A45: 제주 | B45: ='2015잡수익(총괄국별)'!B4/1000000 -> 1.1751 | C45: ='2015잡수익(총괄국별)'!C4/1000000 -> 24.204065 | D45: =SUM(B45:C45) -> 25.379165 | E45: ='2014잡수익(총괄국별)'!G4/1000000 -> 37.45219 | F45: ='2014잡수익(총괄국별)'!H4/1000000 -> 27.734176 | G45: =SUM(E45:F45) -> 65.186366 | H45: =C45-G45 -> -40.982301 | I45: =H45/G45*100 -> -62.869437
A46: 서귀포 | B46: ='2015잡수익(총괄국별)'!B5/1000000 -> 0.58539 | C46: ='2015잡수익(총괄국별)'!C5/1000000 -> 5.943531 | D46: =SUM(B46:C46) -> 6.528921 | E46: ='2014잡수익(총괄국별)'!G5/1000000 -> 8.66624 | F46: ='2014잡수익(총괄국별)'!H5/1000000 -> 6.445975 | G46: =SUM(E46:F46) -> 15.112215 | H46: =C46-G46 -> -9.168684 | I46: =H46/G46*100 -> -60.670683
A47: 계 | B47: =SUM(B45:B46) -> 1.76049 | C47: =SUM(C45:C46) -> 30.147596 | D47: =SUM(D45:D46) -> 31.908086 | E47: =SUM(E45:E46) -> 46.11843 | F47: =SUM(F45:F46) -> 34.180151 | G47: =SUM(G45:G46) -> 80.298581 | H47: =SUM(H45:H46) -> -50.150985 | I47: =H47/G47*100 -> -62.45563

Sheet 총괄국국제2015
A1: 구분1 | B1: 구분2 | C1: 구분3 | D1: 국내일반통상빠른우편 | E1: 국내일반통상빠른우편 | F1: 국내일반통상보통우편 | G1: 국내일반통상보통우편 | H1: 국내일반통상무료우편물수 | I1: 국내일반통상무료우편요금 | J1: 국내일반통상우편물수소계 | K1: 국내일반통상우편요금소계 | L1: 국내특수통상빠른우편물수 | M1: 국내특수통상빠른우편요금 | N1: 국내특수통상보통우편물수 | O1: 국내특수통상보통우편요금 | P1: 국내특수통상무료우편물수 | Q1: 국내특수통상무료우편요금 | R1: 국내특수통상우편물수소계 | S1: 국내특수통상우편요금소계 | T1: 국내일반소포빠른우편물수 | U1: 국내일반소포빠른우편요금 | V1: 국내일반소포보통우편물수 | W1: 국내일반소포보통우편요금 | X1: 국내일반소포무료우편물수 | Y1: 국내일반소포무료우편요금 | Z1: 국내일반소포우편물수소계 | AA1: 국내일반소포우편요금소계 | AB1: 국내등기소포빠른우편물수 | AC1: 국내등기소포빠른우편요금 | AD1: 국내등기소포보통우편물수 | AE1: 국내등기소포보통우편요금 | AF1: 국내등기소포무료우편물수 | AG1: 국내등기소포무료우편요금 | AH1: 국내등기소포우편물수소계 | AI1: 국내등기소포우편요금소계 | AJ1: 국내빠른우편물수합계 | AK1: 국내빠른우편요금합계 | AL1: 국내보통우편물수합계 | AM1: 국내보통우편요금합계 | AN1: 국내무료우편물수합계 | AO1: 국내무료우편요금합계 | AP1: 국내종별우편물수합계 | AQ1: 국내종별우편요금합계 | AR1: 일반통상e-그린우편물수 | AS1: 일반통상e-그린우편요금 | AT1: 창구수집물량 | AU1: 창구수집요금 | AV1: 일반통상군사우편물수 | AW1: 일반통상군사우편요금 | AX1: 집배원수집물량 | AY1: 집배원수집요금 | AZ1: 일반통상경조우편카드물수 | BA1: 일반통상경조우편카드요금 | BB1: 연하카드물수 | BC1: 연하카드요금 | BD1: 일반통상선거우편물물수 | BE1: 일반통상선거우편물요금 | BF1: 수집(창구.집배)요금 | BG1: 특수통상통화등기물수 | BH1: 특수통상통화등기요금 | BI1: 특수통상물품등기물수 | BJ1: 특수통상물품등기요금 | BK1: 특수통상유가증권등기물수 | BL1: 특수통상유가증권등기요금 | BM1: 특수통상대금교환물수 | BN1: 특수통상대금교환요금 | BO1: 특수통상내용증명물수 | BP1: 특수통상내용증명요금 | BQ1: 특수통상접수시각증명물수 | BR1: 특수통상접수시각증명요금 | BS1: 특수통상배달증명물수 | BT1: 특수통상배달증명요금 | BU1: 특수통상선거우편물물수 | BV1: 특수통상선거우편물요금 | BW1: 당일특급통상물량 | BX1: 당일특급통상요금 | BY1: 익일오전특급물수 | BZ1: 익일오전특급요금 | CA1: 특수통상특별송달물수 | CB1: 특수통상특별송달요금 | CC1: 특수통상민원우편발송물수 | CD1: 특수통상민원우편발송요금 | CE1: 특수통상경조우편카드물수 | CF1: 특수통상경조우편카드요금 | CG1: Fax우편물수 | CH1: Fax우편요금 | CI1: 특수통상e-그린우편물수 | CJ1: 특수통상e-그린우편요금 | CK1: 소포대금교환물수 | CL1: 소포대금교환요금 | CM1: 소포접수시각증명물수 | CN1: 소포접수시각증명요금 | CO1: 소포배달증명물수 | CP1: 소포배달증명요금 | CQ1: 소포선거우편물물수 | CR1: 소포선거우편물요금 | CS1: 소포당일특급물수 | CT1: 소포당일특급요금 | CU1: 소포익일오전특급물수 | CV1: 소포익일오전특급요금 | CW1: 소포우체국택배물수 | CX1: 소포우체국택배요금 | CY1: 합장소포물수 | CZ1: 합장소포물수 | DA1: 국내안심소포물수 | DB1: 국내안심소포요금 | DC1: 장정소포물수 | DD1: 장정소포요금 | DE1: 우체국쇼핑물수 | DF1: 우체국쇼핑요금 | DG1: 수취인지불소포물수 | DH1: 수취인지불소포요금 | DI1: 감액정기간행물수 | DJ1: 감액정기간행요금 | DK1: 감액서적우편물수 | DL1: 감액서적우편요금 | DM1: 감액다량우편물수 | DN1: 감액다량우편요금 | DO1: 감액여유우편물수 | DP1: 감액여유우편요금 | DQ1: 감액상품광고우편물수 | DR1: 감액홍보우편요금 | DS1: 감액의정보고서물수 | DT1: 감액의정보고서요금 | DU1: 감액비영리단체물수 | DV1: 감액비영리단체요금 | DW1: 감액소계물수 | DX1: 감액소계요금 | DY1: 감액소포우편물수 | DZ1: 감액소포우편요금 | EA1: 감액국제특급우편물수 | EB1: 감액국제특급우편요금 | EC1: 카탈로그계약물수 | ED1: 카탈로그계약요금 | EE1: 백화점상품안내서물수 | EF1: 백화점상품안내서물수 | EG1: 감액우편합계물수 | EH1: 감액우편합계요금 | EI1: 국제일반통상서장선편물수 | EJ1: 국제일반통상서장선편요금 | EK1: 국제일반통상서장SAL물수 | EL1: 국제일반통상서장SAL요금 | EM1: 국제일반통상서장항공편물수 | EN1: 국제일반통상서장항공편요금 | EO1: 국제일반통상서장합계물수 | EP1: 국제일반통상서장합계요금 | EQ1: 국제일반통상엽서선편물수 | ER1: 국제일반통상엽서선편요금 | ES1: 국제일반통상엽서SAL물수 | ET1: 국제일반통상엽서SAL요금 | EU1: 국제일반통상엽서항공편물수 | EV1: 국제일반통상엽서항공편요금 | EW1: 국제일반통상엽서합계물수 | EX1: 국제일반통상엽서합계요금 | EY1: 국제일반통상인쇄물선편물수 | EZ1: 국제일반통상인쇄물선편요금 | FA1: 국제일반통상인쇄물SAL물수 | FB1: 국제일반통상인쇄물SAL요금 | FC1: 국제일반통상인쇄물항공편물수 | FD1: 국제일반통상인쇄물항공편요금 | FE1: 국제일반통상인쇄물합계물수 | FF1: 국제일반통상인쇄물합계물수 | FG1: 국제일반통상소형포장물선편물수 | FH1: 국제일반통상소형포장물선편요금 | FI1: 국제일반통상소형포장물SAL물수 | FJ1: 국제일반통상소형포장물SAL요금 | FK1: 국제일반통상소형포장물항공편물수 | FL1: 국제일반통상소형포장물항공편요금 | FM1: 국제일반통상소형포장물합계물수 | FN1: 국제일반통상소형포장물합계요금 | FO1: 국제일반통상항공서간선편물수 | FP1: 국제일반통상항공서간선편요금 | FQ1: 국제일반통상항공서간SAL물수 | FR1: 국제일반통상항공서간SAL요금 | FS1: 국제일반통상항공서간항공편물수 | FT1: 국제일반통상항공서간항공편요금 | FU1: 국제일반통상항공서간합계물수 | FV1: 국제일반통상항공서간합계요금 | FW1: 국제일반통상우편자루인쇄물선편물수 | FX1: 국제일반통상우편자루인쇄물선편요금 | FY1: 국제일반통상우편자루인쇄물SAL물수 | FZ1: 국제일반통상우편자루인쇄물SAL요금 | GA1: 국제일반통상우편자루인쇄물항공편물수 | GB1: 국제일반통상우편자루인쇄물항공편요금 | GC1: 국제일반통상우편자루인쇄물합계물수 | GD1: 국제일반통상우편자루인쇄물합계요금 | GE1: 국제일반통상맹인용점자우편물선편물수 | GF1: 국제일반통상맹인용점자우편물선편요금 | GG1: 국제일반통상맹인용점자우편물SAL물수 | GH1: 국제일반통상맹인용점자우편물SAL요금 | GI1: 국제일반통상맹인용점자우편물항공편물수 | GJ1: 국제일반통상맹인용점자우편물항공편요금 | GK1: 국제일반통상맹인용점자우편물합계물수 | GL1: 국제일반통상맹인용점자우편물합계요금 | GM1: 국제일반통상선편소계물수 | GN1: 국제일반통상선편소계요금 | GO1: 국제일반통상SAL소계물수 | GP1: 국제일반통상SAL소계요금 | GQ1: 국제일반통상항공편소계물수 | GR1: 국제일반통상항공편소계요금 | GS1: 국제일반통상합계물수 | GT1: 국제일반통상합계요금 | GU1: 국제특수통상등기선편물수 | GV1: 국제특수통상등기선편요금 | GW1: 국제특수통상등기SAL물수 | GX1: 국제특수통상등기SAL요금 | GY1: 국제특수통상등기항공편물수 | GZ1: 국제특수통상등기항공편요금 | HA1: 국제특수통상등기합계물수 | HB1: 국제특수통상등기합계요금 | HC1: 국제특수통상기록배달선편물수 | HD1: 국제특수통상기록배달선편요금 | HE1: 국제특수통상기록배달SAL물수 | HF1: 국제특수통상기록배달SAL요금 | HG1: 국제특수통상기록배달항공편물수 | HH1: 국제특수통상기록배달항공편요금 | HI1: 국제특수통상기록배달합계물수 | HJ1: 국제특수통상기록배달합계요금 | HK1: 국제특수통상선편소계물수 | HL1: 국제특수통상선편소계요금 | HM1: 국제특수통상SAL소계물수 | HN1: 국제특수통상SAL소계요금 | HO1: 국제특수통상항공편소계물수 | HP1: 국제특수통상항공편소계요금 | HQ1: 국제특수통상합계물수 | HR1: 국제특수통상합계요금 | HS1: 국제K-Packet선편물수 | HT1: 국제K-Packet선편요금 | HU1: 국제K-Packet항공물수 | HV1: 국제K-Packet항공요금 | HW1: 일반통상요금수취인부담물수 | HX1: 일반통상요금수취인부담요금 | HY1: 특수통상요금수취인부담물수 | HZ1: 특수통상요금수취인부담요금 | IA1: 특수통상계약등기물수 | IB1: 특수통상계약등기요금 | IC1: 특수통상일반계약등기물수 | ID1: 특수통상일반계약등기요금 | IE1: 특수통상맞춤형계약등기물수 | IF1: 특수통상맞춤형계약등기요금 | IG1: 특수통상익일특급물수 | IH1: 특수통상익일특급요금 | II1: 소포꽃배달물수 | IJ1: 소포꽃배달요금
A2: 제주청 | B2: 제주우편집중국 | D2: 0 | E2: 0 | F2: 883890 | G2: 249754200 | H2: 6471 | I2: 0 | J2: 890361 | K2: 249754200 | L2: 0 | M2: 0 | N2: 9290 | O2: 21202560 | P2: 6443 | Q2: 0 | R2: 15733 | S2: 21202560 | T2: 0 | U2: 0 | V2: 1389 | W2: 3101330 | X2: 241 | Y2: 0 | Z2: 1630 | AA2: 3101330 | AB2: 23226 | AC2: 94696230 | AD2: 0 | AE2: 0 | AF2: 1020 | AG2: 0 | AH2: 24246 | AI2: 94696230 | AJ2: 23226 | AK2: 94696230 | AL2: 894569 | AM2: 274058090 | AN2: 14175 | AO2: 0 | AP2: 931970 | AQ2: 368754320 | AR2: 64254 | AS2: 22684670 | AT2: 0 | AU2: 0 | AV2: 0 | AW2: 0 | AX2: 27734 | AY2: 0 | AZ2: 0 | BA2: 0 | BB2: 0 | BC2: 0 | BD2: 31549 | BE2: 15599070 | BF2: -1506210 | BG2: 0 | BH2: 0 | BI2: 0 | BJ2: 0 | BK2: 0 | BL2: 0 | BM2: 0 | BN2: 0 | BO2: 211 | BP2: 320450 | BQ2: 0 | BR2: 0 | BS2: 308 | BT2: 400400 | BU2: 2 | BV2: 3860 | BW2: 59 | BX2: 123310 | BY2: 0 | BZ2: 0 | CA2: 0 | CB2: 0 | CC2: 0 | CD2: 0 | CE2: 0 | CF2: 0 | CG2: 0 | CH2: 0 | CI2: 1036 | CJ2: 2458180 | CK2: 0 | CL2: 0 | CM2: 0 | CN2: 0 | CO2: 0 | CP2: 0 | CQ2: 0 | CR2: 0 | CS2: 66 | CT2: 132000 | CU2: 0 | CV2: 0 | CW2: 22437 | CX2: 91363610 | CY2: 0 | CZ2: 0 | DA2: 2 | DB2: 14300 | DC2: 0 | DD2: 0 | DE2: 42 | DF2: 330000 | DG2: 17214 | DH2: 8315000 | DI2: 381985 | DJ2: 80725920 | DK2: 20583 | DL2: 11275670 | DM2: 11727 | DN2: 4868000 | DO2: 0 | DP2: 0 | DQ2: 0 | DR2: 0 | DS2: 68093 | DT2: 8763570 | DU2: 25197 | DV2: 7585540 | DW2: 507585 | DX2: 113218700 | DY2: 4574 | DZ2: 28448410 | EA2: 0 | EB2: 0 | EC2: 0 | ED2: 0 | EE2: 0 | EF2: 0 | EG2: 512159 | EH2: 141667110 | EI2: 0 | EJ2: 0 | EK2: 0 | EL2: 0 | EM2: 1795 | EN2: 5390 | EO2: 1795 | EP2: 5390 | EQ2: 0 | ER2: 0 | ES2: 0 | ET2: 0 | EU2: 0 | EV2: 0 | EW2: 0 | EX2: 0 | EY2: 0 | EZ2: 0 | FA2: 0 | FB2: 0 | FC2: 1332 | FD2: 2480890 | FE2: 1332 | FF2: 2480890 | FG2: 0 | FH2: 0 | FI2: 0 | FJ2: 0 | FK2: 3 | FL2: 4460 | FM2: 3 | FN2: 4460 | FO2: 0 | FP2: 0 | FQ2: 0 | FR2: 0 | FS2: 0 | FT2: 0 | FU2: 0 | FV2: 0 | FW2: 0 | FX2: 0 | FY2: 0 | FZ2: 0 | GA2: 0 | GB2: 0 | GC2: 0 | GD2: 0 | GE2: 0 | GF2: 0 | GG2: 0 | GH2: 0 | GI2: 0 | GJ2: 0 | GK2: 0 | GL2: 0 | GM2: 0 | GN2: 0 | GO2: 0 | GP2: 0 | GQ2: 3130 | GR2: 2490740 | GS2: 3130 | GT2: 2490740 | GU2: 0 | GV2: 0 | GW2: 0 | GX2: 0 | GY2: 0 | GZ2: 0 | HA2: 0 | HB2: 0 | HC2: 0 | HD2: 0 | HE2: 0 | HF2: 0 | HG2: 0 | HH2: 0 | HI2: 0 | HJ2: 0 | HK2: 0 | HL2: 0 | HM2: 0 | HN2: 0 | HO2: 0 | HP2: 0 | HQ2: 0 | HR2: 0 | HS2: 0 | HT2: 0 | HU2: 0 | HV2: 0 | HW2: 0 | HX2: 0 | HY2: 23 | HZ2: 50510 | IA2: 0 | IB2: 0 | IC2: 0 | ID2: 0 | IE2: 0 | IF2: 0 | IG2: 2014 | IH2: 604200 | II2: 0 | IJ2: 0
A3: 제주청 | B3: 제주 | D3: 0 | E3: 0 | F3: 3676187 | G3: 1252795430 | H3: 180966 | I3: 0 | J3: 3857153 | K3: 1252795430 | L3: 0 | M3: 0 | N3: 717762 | O3: 1798184950 | P3: 4980 | Q3: 0 | R3: 722742 | S3: 1798184950 | T3: 0 | U3: 0 | V3: 12597 | W3: 29254050 | X3: 164 | Y3: 0 | Z3: 12761 | AA3: 29254050 | AB3: 788546 | AC3: 4346915960 | AD3: 0 | AE3: 0 | AF3: 1572 | AG3: 0 | AH3: 790118 | AI3: 4346915960 | AJ3: 788546 | AK3: 4346915960 | AL3: 4406546 | AM3: 3080234430 | AN3: 187682 | AO3: 0 | AP3: 5382774 | AQ3: 7427150390 | AR3: 1530617 | AS3: 458495960 | AT3: 19515 | AU3: 0 | AV3: 2058 | AW3: 308700 | AX3: 1443 | AY3: 0 | AZ3: 1043 | BA3: 1070390 | BB3: 0 | BC3: 0 | BD3: 0 | BE3: 0 | BF3: 27910960 | BG3: 5 | BH3: 7500 | BI3: 38 | BJ3: 336500 | BK3: 765 | BL3: 4412000 | BM3: 0 | BN3: 0 | BO3: 18755 | BP3: 36611900 | BQ3: 0 | BR3: 0 | BS3: 5357 | BT3: 6964100 | BU3: 9 | BV3: 17640 | BW3: 15716 | BX3: 32846440 | BY3: 0 | BZ3: 0 | CA3: 119998 | CB3: 157075100 | CC3: 90 | CD3: 407780 | CE3: 116 | CF3: 1394670 | CG3: 7033 | CH3: 2238050 | CI3: 24492 | CJ3: 46823590 | CK3: 0 | CL3: 0 | CM3: 0 | CN3: 0 | CO3: 16 | CP3: 20800 | CQ3: 0 | CR3: 0 | CS3: 64612 | CT3: 129222000 | CU3: 0 | CV3: 0 | CW3: 341968 | CX3: 1403160310 | CY3: 0 | CZ3: 0 | DA3: 365 | DB3: 3027300 | DC3: 0 | DD3: 0 | DE3: 33446 | DF3: 259756000 | DG3: 40305 | DH3: 20127500 | DI3: 32029 | DJ3: 8330060 | DK3: 10981 | DL3: 6851920 | DM3: 8766 | DN3: 3550140 | DO3: 0 | DP3: 0 | DQ3: 0 | DR3: 0 | DS3: 0 | DT3: 0 | DU3: 45873 | DV3: 13435470 | DW3: 97649 | DX3: 32167590 | DY3: 198435 | DZ3: 1258920265 | EA3: 2645 | EB3: 87073061 | EC3: 0 | ED3: 0 | EE3: 0 | EF3: 0 | EG3: 298729 | EH3: 1378160916 | EI3: 0 | EJ3: 0 | EK3: 0 | EL3: 0 | EM3: 9049 | EN3: 6535080 | EO3: 9049 | EP3: 6535080 | EQ3: 0 | ER3: 0 | ES3: 0 | ET3: 0 | EU3: 7206 | EV3: 2855800 | EW3: 7206 | EX3: 2855800 | EY3: 19 | EZ3: 6080 | FA3: 0 | FB3: 0 | FC3: 4583 | FD3: 5637130 | FE3: 4602 | FF3: 5643210 | FG3: 0 | FH3: 0 | FI3: 0 | FJ3: 0 | FK3: 1618 | FL3: 6112560 | FM3: 1618 | FN3: 6112560 | FO3: 0 | FP3: 0 | FQ3: 0 | FR3: 0 | FS3: 4 | FT3: 1800 | FU3: 4 | FV3: 1800 | FW3: 0 | FX3: 0 | FY3: 0 | FZ3: 0 | GA3: 0 | GB3: 0 | GC3: 0 | GD3: 0 | GE3: 0 | GF3: 0 | GG3: 0 | GH3: 0 | GI3: 15 | GJ3: 38100 | GK3: 15 | GL3: 38100 | GM3: 19 | GN3: 6080 | GO3: 0 | GP3: 0 | GQ3: 22475 | GR3: 21180470 | GS3: 22494 | GT3: 21186550 | GU3: 36 | GV3: 329800 | GW3: 0 | GX3: 0 | GY3: 2517 | GZ3: 19871430 | HA3: 2553 | HB3: 20201230 | HC3: 0 | HD3: 0 | HE3: 0 | HF3: 0 | HG3: 0 | HH3: 0 | HI3: 0 | HJ3: 0 | HK3: 36 | HL3: 329800 | HM3: 0 | HN3: 0 | HO3: 2517 | HP3: 19871430 | HQ3: 2553 | HR3: 20201230 | HS3: 0 | HT3: 0 | HU3: 0 | HV3: 0 | HW3: 2241 | HX3: 750400 | HY3: 652 | HZ3: 1558810 | IA3: 0 | IB3: 0 | IC3: 0 | ID3: 0 | IE3: 1447 | IF3: 3779460 | IG3: 199504 | IH3: 59851200 | II3: 26 | IJ3: 119100
A4: 제주청 | B4: 서귀포 | D4: 0 | E4: 0 | F4: 1655536 | G4: 535740920 | H4: 156 | I4: 0 | J4: 1655692 | K4: 535740920 | L4: 0 | M4: 0 | N4: 173589 | O4: 392851540 | P4: 4310 | Q4: 0 | R4: 177899 | S4: 392851540 | T4: 0 | U4: 0 | V4: 966 | W4: 2231080 | X4: 0 | Y4: 0 | Z4: 966 | AA4: 2231080 | AB4: 629869 | AC4: 2865391140 | AD4: 0 | AE4: 0 | AF4: 569 | AG4: 0 | AH4: 630438 | AI4: 2865391140 | AJ4: 629869 | AK4: 2865391140 | AL4: 1830091 | AM4: 930823540 | AN4: 5035 | AO4: 0 | AP4: 2464995 | AQ4: 3796214680 | AR4: 747151 | AS4: 218355770 | AT4: 2468 | AU4: 0 | AV4: 528 | AW4: 79240 | AX4: 2570 | AY4: 0 | AZ4: 221 | BA4: 207340 | BB4: 1035 | BC4: 818400 | BD4: 47269 | BE4: 24107190 | BF4: -673380 | BG4: 63 | BH4: 85500 | BI4: 3 | BJ4: 73500 | BK4: 404 | BL4: 9237000 | BM4: 0 | BN4: 0 | BO4: 3955 | BP4: 7646600 | BQ4: 0 | BR4: 0 | BS4: 945 | BT4: 1228500 | BU4: 8 | BV4: 15920 | BW4: 1238 | BX4: 2587420 | BY4: 0 | BZ4: 0 | CA4: 3955 | CB4: 5141500 | CC4: 31 | CD4: 139010 | CE4: 8 | CF4: 39100 | CG4: 4634 | CH4: 1404100 | CI4: 5050 | CJ4: 9410740 | CK4: 0 | CL4: 0 | CM4: 0 | CN4: 0 | CO4: 2 | CP4: 2600 | CQ4: 0 | CR4: 0 | CS4: 14709 | CT4: 29410000 | CU4: 0 | CV4: 0 | CW4: 425924 | CX4: 1656555270 | CY4: 0 | CZ4: 0 | DA4: 95 | DB4: 669600 | DC4: 0 | DD4: 0 | DE4: 67919 | DF4: 350339500 | DG4: 19304 | DH4: 9523000 | DI4: 28206 | DJ4: 5178480 | DK4: 7199 | DL4: 3614200 | DM4: 12964 | DN4: 3802010 | DO4: 0 | DP4: 0 | DQ4: 0 | DR4: 0 | DS4: 0 | DT4: 0 | DU4: 1256 | DV4: 375700 | DW4: 49625 | DX4: 12970390 | DY4: 72539 | DZ4: 460391980 | EA4: 2811 | EB4: 93614020 | EC4: 0 | ED4: 0 | EE4: 0 | EF4: 0 | EG4: 124975 | EH4: 566976390 | EI4: 0 | EJ4: 0 | EK4: 0 | EL4: 0 | EM4: 1516 | EN4: 1319400 | EO4: 1516 | EP4: 1319400 | EQ4: 0 | ER4: 0 | ES4: 0 | ET4: 0 | EU4: 1601 | EV4: 645960 | EW4: 1601 | EX4: 645960 | EY4: 30 | EZ4: 13900 | FA4: 0 | FB4: 0 | FC4: 877 | FD4: 1756280 | FE4: 907 | FF4: 1770180 | FG4: 2 | FH4: 10400 | FI4: 0 | FJ4: 0 | FK4: 304 | FL4: 1801720 | FM4: 306 | FN4: 1812120 | FO4: 0 | FP4: 0 | FQ4: 0 | FR4: 0 | FS4: 0 | FT4: 0 | FU4: 0 | FV4: 0 | FW4: 0 | FX4: 0 | FY4: 0 | FZ4: 0 | GA4: 0 | GB4: 0 | GC4: 0 | GD4: 0 | GE4: 0 | GF4: 0 | GG4: 0 | GH4: 0 | GI4: 8 | GJ4: 800 | GK4: 8 | GL4: 800 | GM4: 32 | GN4: 24300 | GO4: 0 | GP4: 0 | GQ4: 4306 | GR4: 5524160 | GS4: 4338 | GT4: 5548460 | GU4: 0 | GV4: 0 | GW4: 0 | GX4: 0 | GY4: 159 | GZ4: 626330 | HA4: 159 | HB4: 626330 | HC4: 0 | HD4: 0 | HE4: 0 | HF4: 0 | HG4: 0 | HH4: 0 | HI4: 0 | HJ4: 0 | HK4: 0 | HL4: 0 | HM4: 0 | HN4: 0 | HO4: 159 | HP4: 626330 | HQ4: 159 | HR4: 626330 | HS4: 0 | HT4: 0 | HU4: 0 | HV4: 0 | HW4: 153 | HX4: 50140 | HY4: 261 | HZ4: 618650 | IA4: 0 | IB4: 0 | IC4: 0 | ID4: 0 | IE4: 65 | IF4: 0 | IG4: 57121 | IH4: 17135880 | II4: 5 | IJ4: 22680
A5: 합계 | D5: 0 | E5: 0 | F5: 6215613 | G5: 2038290550 | H5: 187593 | I5: 0 | J5: 6403206 | K5: 2038290550 | L5: 0 | M5: 0 | N5: 900641 | O5: 2212239050 | P5: 15733 | Q5: 0 | R5: 916374 | S5: 2212239050 | T5: 0 | U5: 0 | V5: 14952 | W5: 34586460 | X5: 405 | Y5: 0 | Z5: 15357 | AA5: 34586460 | AB5: 1441641 | AC5: 7307003330 | AD5: 0 | AE5: 0 | AF5: 3161 | AG5: 0 | AH5: 1444802 | AI5: 7307003330 | AJ5: 1441641 | AK5: 7307003330 | AL5: 7131206 | AM5: 4285116060 | AN5: 206892 | AO5: 0 | AP5: 8779739 | AQ5: 11592119390 | AR5: 2342022 | AS5: 699536400 | AT5: 21983 | AU5: 0 | AV5: 2586 | AW5: 387940 | AX5: 31747 | AY5: 0 | AZ5: 1264 | BA5: 1277730 | BB5: 1035 | BC5: 818400 | BD5: 78818 | BE5: 39706260 | BF5: 25731370 | BG5: 68 | BH5: 93000 | BI5: 41 | BJ5: 410000 | BK5: 1169 | BL5: 13649000 | BM5: 0 | BN5: 0 | BO5: 22921 | BP5: 44578950 | BQ5: 0 | BR5: 0 | BS5: 6610 | BT5: 8593000 | BU5: 19 | BV5: 37420 | BW5: 17013 | BX5: 35557170 | BY5: 0 | BZ5: 0 | CA5: 123953 | CB5: 162216600 | CC5: 121 | CD5: 546790 | CE5: 124 | CF5: 1433770 | CG5: 11667 | CH5: 3642150 | CI5: 30578 | CJ5: 58692510 | CK5: 0 | CL5: 0 | CM5: 0 | CN5: 0 | CO5: 18 | CP5: 23400 | CQ5: 0 | CR5: 0 | CS5: 79387 | CT5: 158764000 | CU5: 0 | CV5: 0 | CW5: 790329 | CX5: 3151079190 | CY5: 0 | CZ5: 0 | DA5: 462 | DB5: 3711200 | DC5: 0 | DD5: 0 | DE5: 101407 | DF5: 610425500 | DG5: 76823 | DH5: 37965500 | DI5: 442220 | DJ5: 94234460 | DK5: 38763 | DL5: 21741790 | DM5: 33457 | DN5: 12220150 | DO5: 0 | DP5: 0 | DQ5: 0 | DR5: 0 | DS5: 68093 | DT5: 8763570 | DU5: 72326 | DV5: 21396710 | DW5: 654859 | DX5: 158356680 | DY5: 275548 | DZ5: 1747760655 | EA5: 5456 | EB5: 180687081 | EC5: 0 | ED5: 0 | EE5: 0 | EF5: 0 | EG5: 935863 | EH5: 2086804416 | EI5: 0 | EJ5: 0 | EK5: 0 | EL5: 0 | EM5: 12360 | EN5: 7859870 | EO5: 12360 | EP5: 7859870 | EQ5: 0 | ER5: 0 | ES5: 0 | ET5: 0 | EU5: 8807 | EV5: 3501760 | EW5: 8807 | EX5: 3501760 | EY5: 49 | EZ5: 19980 | FA5: 0 | FB5: 0 | FC5: 6792 | FD5: 9874300 | FE5: 6841 | FF5: 9894280 | FG5: 2 | FH5: 10400 | FI5: 0 | FJ5: 0 | FK5: 1925 | FL5: 7918740 | FM5: 1927 | FN5: 7929140 | FO5: 0 | FP5: 0 | FQ5: 0 | FR5: 0 | FS5: 4 | FT5: 1800 | FU5: 4 | FV5: 1800 | FW5: 0 | FX5: 0 | FY5: 0 | FZ5: 0 | GA5: 0 | GB5: 0 | GC5: 0 | GD5: 0 | GE5: 0 | GF5: 0 | GG5: 0 | GH5: 0 | GI5: 23 | GJ5: 38900 | GK5: 23 | GL5: 38900 | GM5: 51 | GN5: 30380 | GO5: 0 | GP5: 0 | GQ5: 29911 | GR5: 29195370 | GS5: 29962 | GT5: 29225750 | GU5: 36 | GV5: 329800 | GW5: 0 | GX5: 0 | GY5: 2676 | GZ5: 20497760 | HA5: 2712 | HB5: 20827560 | HC5: 0 | HD5: 0 | HE5: 0 | HF5: 0 | HG5: 0 | HH5: 0 | HI5: 0 | HJ5: 0 | HK5: 36 | HL5: 329800 | HM5: 0 | HN5: 0 | HO5: 2676 | HP5: 20497760 | HQ5: 2712 | HR5: 20827560 | HS5: 0 | HT5: 0 | HU5: 0 | HV5: 0 | HW5: 2394 | HX5: 800540 | HY5: 936 | HZ5: 2227970 | IA5: 0 | IB5: 0 | IC5: 0 | ID5: 0 | IE5: 1512 | IF5: 3779460 | IG5: 258639 | IH5: 77591280 | II5: 31 | IJ5: 141780
