Workbook

Sheet 예산배정
A1: 2015년도 2분기 국제우편사업 평가ㆍ포상
M2: 7900 | O2: 7900 | P2: 8000 | Q2: 8000
M3: 7177000 | R3: (단위 : 천원, %)
A4: 국 별 | B4: 매출 성장률 (35%) | C4: 매출 점유율 (35%) | D4: 매출 달성률 (20%) | E4: 접수위반 발생률 (10%) | F4: 합 계 | G4: 순위 | H4: 가중치 적용 평가 결과 | M4: 포상금 계산식 (원) | P4: 총괄국 포상 (5138-301-310-03) | Q4: EMS 홍보선장비 (5134-331-210-01) | R4: 합 계
H5: 가중치 | I5: 15. 2분기 매출액(원) | J5: 가중매출액 | K5: 가중점유비 | L5: 가중점유비 순위
A6: 합계 | I6: =SUM(I7:I48) -> 33234514240 | J6: =SUM(J7:J46) -> 44466743358 | M6: =SUM(M7:M48) -> 7177000 | N6: =SUM(N7:N48) -> 7177000 | O6: =SUM(O7:O48) -> 7176992.7 | P6: =SUM(P7:P48) -> 7176000 | Q6: =SUM(Q7:Q48) -> 7176000 | R6: =SUM(R7:R46) -> 14352000
A7: 인천 | B7: =VLOOKUP(A7,'성장률(35)'!$A$6:$F$46,6,0) -> 35 | C7: =VLOOKUP(A7,'점유율(35)'!$A$6:$E$45,5,0) -> 35 | D7: =VLOOKUP(A7,'달성률(20)'!$A$6:$F$45,6,0) -> 19.25 | E7: =VLOOKUP(A7,'접수위반발생율(10) '!$A$6:$K$45,11,0) -> 9.72 | F7: =SUM(B7:E7) -> 98.97 | G7: =RANK(F7,$F$7:$F$46) -> 2 | H7: =VLOOKUP(G7,환산점수!$J$4:$K$43,2,0) -> 1.5 | I7: =VLOOKUP(A7,'2015년도 실적'!$A$5:$G$46,7,0) -> 4897665880 | J7: =H7*I7 -> 7346498820 | K7: =(J7/$J$6)*100 -> 16.521333 | L7: 1 | M7: =$M$3*K7% -> 1185736.1 | N7: =SUM(M7:M13) -> 3420763.9 | O7: =N7/7 -> 488680.55 | P7: 490000 | Q7: =P7 -> 490000 | R7: =P7+Q7 -> 980000
A8: 김포 | B8: =VLOOKUP(A8,'성장률(35)'!$A$6:$F$46,6,0) -> 34.74 | C8: =VLOOKUP(A8,'점유율(35)'!$A$6:$E$45,5,0) -> 34.74 | D8: =VLOOKUP(A8,'달성률(20)'!$A$6:$F$45,6,0) -> 19.85 | E8: =VLOOKUP(A8,'접수위반발생율(10) '!$A$6:$K$45,11,0) -> 9.86 | F8: =SUM(B8:E8) -> 99.19 | G8: =RANK(F8,$F$7:$F$46) -> 1 | H8: =VLOOKUP(G8,환산점수!$J$4:$K$43,2,0) -> 1.5 | I8: =VLOOKUP(A8,'2015년도 실적'!$A$5:$G$46,7,0) -> 2141440170 | J8: =H8*I8 -> 3212160255 | K8: =(J8/$J$6)*100 -> 7.2237362 | L8: 2 | M8: =$M$3*K8% -> 518447.55 | O8: 488777 | P8: 490000 | Q8: =P8 -> 490000 | R8: =P8+Q8 -> 980000
A9: 안산 | B9: =VLOOKUP(A9,'성장률(35)'!$A$6:$F$46,6,0) -> 31.36 | C9: =VLOOKUP(A9,'점유율(35)'!$A$6:$E$45,5,0) -> 33.96 | D9: =VLOOKUP(A9,'달성률(20)'!$A$6:$F$45,6,0) -> 18.8 | E9: =VLOOKUP(A9,'접수위반발생율(10) '!$A$6:$K$45,11,0) -> 7.69 | F9: =SUM(B9:E9) -> 91.81 | G9: =RANK(F9,$F$7:$F$46) -> 5 | H9: =VLOOKUP(G9,환산점수!$J$4:$K$43,2,0) -> 1.5 | I9: =VLOOKUP(A9,'2015년도 실적'!$A$5:$G$46,7,0) -> 1546863850 | J9: =H9*I9 -> 2320295775 | K9: =(J9/$J$6)*100 -> 5.2180475 | L9: 3 | M9: =$M$3*K9% -> 374499.27 | O9: 488777 | P9: 490000 | Q9: =P9 -> 490000 | R9: =P9+Q9 -> 980000
A10: 부천 | B10: =VLOOKUP(A10,'성장률(35)'!$A$6:$F$46,6,0) -> 28.76 | C10: =VLOOKUP(A10,'점유율(35)'!$A$6:$E$45,5,0) -> 34.22 | D10: =VLOOKUP(A10,'달성률(20)'!$A$6:$F$45,6,0) -> 17.45 | E10: =VLOOKUP(A10,'접수위반발생율(10) '!$A$6:$K$45,11,0) -> 8.18 | F10: =SUM(B10:E10) -> 88.61 | G10: =RANK(F10,$F$7:$F$46) -> 9 | H10: =VLOOKUP(G10,환산점수!$J$4:$K$43,2,0) -> 1.4 | I10: =VLOOKUP(A10,'2015년도 실적'!$A$5:$G$46,7,0) -> 1570749450 | J10: =H10*I10 -> 2199049230 | K10: =(J10/$J$6)*100 -> 4.9453795 | L10: 4 | M10: =$M$3*K10% -> 354929.89 | O10: 488777 | P10: 490000 | Q10: =P10 -> 490000 | R10: =P10+Q10 -> 980000
A11: 고양일산 | B11: =VLOOKUP(A11,'성장률(35)'!$A$6:$F$46,6,0) -> 26.42 | C11: =VLOOKUP(A11,'점유율(35)'!$A$6:$E$45,5,0) -> 34.78 | D11: =VLOOKUP(A11,'달성률(20)'!$A$6:$F$45,6,0) -> 14.75 | E11: =VLOOKUP(A11,'접수위반발생율(10) '!$A$6:$K$45,11,0) -> 9.58 | F11: =SUM(B11:E11) -> 85.53 | G11: =RANK(F11,$F$7:$F$46) -> 20 | H11: =VLOOKUP(G11,환산점수!$J$4:$K$43,2,0) -> 1.3 | I11: =VLOOKUP(A11,'2015년도 실적'!$A$5:$G$46,7,0) -> 1665013600 | J11: =H11*I11 -> 2164517680 | K11: =(J11/$J$6)*100 -> 4.8677225 | L11: 5 | M11: =$M$3*K11% -> 349356.45 | O11: 488777 | P11: 490000 | Q11: =P11 -> 490000 | R11: =P11+Q11 -> 980000
A12: 광명 | B12: =VLOOKUP(A12,'성장률(35)'!$A$6:$F$46,6,0) -> 34.78 | C12: =VLOOKUP(A12,'점유율(35)'!$A$6:$E$45,5,0) -> 33.7 | D12: =VLOOKUP(A12,'달성률(20)'!$A$6:$F$45,6,0) -> 20 | E12: =VLOOKUP(A12,'접수위반발생율(10) '!$A$6:$K$45,11,0) -> 8.53 | F12: =SUM(B12:E12) -> 97.01 | G12: =RANK(F12,$F$7:$F$46) -> 3 | H12: =VLOOKUP(G12,환산점수!$J$4:$K$43,2,0) -> 1.5 | I12: =VLOOKUP(A12,'2015년도 실적'!$A$5:$G$46,7,0) -> 1361162850 | J12: =H12*I12 -> 2041744275 | K12: =(J12/$J$6)*100 -> 4.5916209 | L12: 6 | M12: =$M$3*K12% -> 329540.63 | O12: 488777 | P12: 490000 | Q12: =P12 -> 490000 | R12: =P12+Q12 -> 980000
A13: 고양덕양 | B13: =VLOOKUP(A13,'성장률(35)'!$A$6:$F$46,6,0) -> 33.96 | C13: =VLOOKUP(A13,'점유율(35)'!$A$6:$E$45,5,0) -> 33.44 | D13: =VLOOKUP(A13,'달성률(20)'!$A$6:$F$45,6,0) -> 18.95 | E13: =VLOOKUP(A13,'접수위반발생율(10) '!$A$6:$K$45,11,0) -> 8.39 | F13: =SUM(B13:E13) -> 94.74 | G13: =RANK(F13,$F$7:$F$46) -> 4 | H13: =VLOOKUP(G13,환산점수!$J$4:$K$43,2,0) -> 1.5 | I13: =VLOOKUP(A13,'2015년도 실적'!$A$5:$G$46,7,0) -> 1273238710 | J13: =H13*I13 -> 1909858065 | K13: =(J13/$J$6)*100 -> 4.2950257 | L13: 7 | M13: =$M$3*K13% -> 308254 | O13: 488777 | P13: 490000 | Q13: =P13 -> 490000 | R13: =P13+Q13 -> 980000
A14: 성남분당 | B14: =VLOOKUP(A14,'성장률(35)'!$A$6:$F$46,6,0) -> 26.68 | C14: =VLOOKUP(A14,'점유율(35)'!$A$6:$E$45,5,0) -> 33.18 | D14: =VLOOKUP(A14,'달성률(20)'!$A$6:$F$45,6,0) -> 15.95 | E14: =VLOOKUP(A14,'접수위반발생율(10) '!$A$6:$K$45,11,0) -> 8.67 | F14: =SUM(B14:E14) -> 84.48 | G14: =RANK(F14,$F$7:$F$46) -> 25 | H14: =VLOOKUP(G14,환산점수!$J$4:$K$43,2,0) -> 1.2 | I14: =VLOOKUP(A14,'2015년도 실적'!$A$5:$G$46,7,0) -> 1271716940 | J14: =H14*I14 -> 1526060328 | K14: =(J14/$J$6)*100 -> 3.4319139 | L14: 8 | M14: =$M$3*K14% -> 246308.46 | N14: =SUM(M14:M20) -> 1512092.4 | O14: =N14/7 -> 216013.2 | P14: 215000 | Q14: =P14 -> 215000 | R14: =P14+Q14 -> 430000
A15: 용인수지 | B15: =VLOOKUP(A15,'성장률(35)'!$A$6:$F$46,6,0) -> 27.98 | C15: =VLOOKUP(A15,'점유율(35)'!$A$6:$E$45,5,0) -> 32.92 | D15: =VLOOKUP(A15,'달성률(20)'!$A$6:$F$45,6,0) -> 15.65 | E15: =VLOOKUP(A15,'접수위반발생율(10) '!$A$6:$K$45,11,0) -> 8.81 | F15: =SUM(B15:E15) -> 85.36 | G15: =RANK(F15,$F$7:$F$46) -> 21 | H15: =VLOOKUP(G15,환산점수!$J$4:$K$43,2,0) -> 1.3 | I15: =VLOOKUP(A15,'2015년도 실적'!$A$5:$G$46,7,0) -> 1171430630 | J15: =H15*I15 -> 1522859819 | K15: =(J15/$J$6)*100 -> 3.4247163 | L15: 9 | M15: =$M$3*K15% -> 245791.89 | O15: 215853 | P15: 215000 | Q15: =P15 -> 215000 | R15: =P15+Q15 -> 430000
A16: 시흥 | B16: =VLOOKUP(A16,'성장률(35)'!$A$6:$F$46,6,0) -> 31.62 | C16: =VLOOKUP(A16,'점유율(35)'!$A$6:$E$45,5,0) -> 31.36 | D16: =VLOOKUP(A16,'달성률(20)'!$A$6:$F$45,6,0) -> 18.35 | E16: =VLOOKUP(A16,'접수위반발생율(10) '!$A$6:$K$45,11,0) -> 9.09 | F16: =SUM(B16:E16) -> 90.42 | G16: =RANK(F16,$F$7:$F$46) -> 6 | H16: =VLOOKUP(G16,환산점수!$J$4:$K$43,2,0) -> 1.5 | I16: =VLOOKUP(A16,'2015년도 실적'!$A$5:$G$46,7,0) -> 891084490 | J16: =H16*I16 -> 1336626735 | K16: =(J16/$J$6)*100 -> 3.005902 | L16: 10 | M16: =$M$3*K16% -> 215733.59 | O16: 215853 | P16: 215000 | Q16: =P16 -> 215000 | R16: =P16+Q16 -> 430000
A17: 화성 | B17: =VLOOKUP(A17,'성장률(35)'!$A$6:$F$46,6,0) -> 29.54 | C17: =VLOOKUP(A17,'점유율(35)'!$A$6:$E$45,5,0) -> 31.88 | D17: =VLOOKUP(A17,'달성률(20)'!$A$6:$F$45,6,0) -> 17.9 | E17: =VLOOKUP(A17,'접수위반발생율(10) '!$A$6:$K$45,11,0) -> 7.62 | F17: =SUM(B17:E17) -> 86.94 | G17: =RANK(F17,$F$7:$F$46) -> 14 | H17: =VLOOKUP(G17,환산점수!$J$4:$K$43,2,0) -> 1.4 | I17: =VLOOKUP(A17,'2015년도 실적'!$A$5:$G$46,7,0) -> 965890650 | J17: =H17*I17 -> 1352246910 | K17: =(J17/$J$6)*100 -> 3.0410298 | L17: 11 | M17: =$M$3*K17% -> 218254.71 | O17: 215853 | P17: 215000 | Q17: =P17 -> 215000 | R17: =P17+Q17 -> 430000
A18: 안양 | B18: =VLOOKUP(A18,'성장률(35)'!$A$6:$F$46,6,0) -> 27.72 | C18: =VLOOKUP(A18,'점유율(35)'!$A$6:$E$45,5,0) -> 32.66 | D18: =VLOOKUP(A18,'달성률(20)'!$A$6:$F$45,6,0) -> 16.1 | E18: =VLOOKUP(A18,'접수위반발생율(10) '!$A$6:$K$45,11,0) -> 8.46 | F18: =SUM(B18:E18) -> 84.94 | G18: =RANK(F18,$F$7:$F$46) -> 23 | H18: =VLOOKUP(G18,환산점수!$J$4:$K$43,2,0) -> 1.2 | I18: =VLOOKUP(A18,'2015년도 실적'!$A$5:$G$46,7,0) -> 1045366350 | J18: =H18*I18 -> 1254439620 | K18: =(J18/$J$6)*100 -> 2.8210737 | L18: 12 | M18: =$M$3*K18% -> 202468.46 | O18: 215853 | P18: 215000 | Q18: =P18 -> 215000 | R18: =P18+Q18 -> 430000
A19: 파주 | B19: =VLOOKUP(A19,'성장률(35)'!$A$6:$F$46,6,0) -> 28.24 | C19: =VLOOKUP(A19,'점유율(35)'!$A$6:$E$45,5,0) -> 32.4 | D19: =VLOOKUP(A19,'달성률(20)'!$A$6:$F$45,6,0) -> 15.05 | E19: =VLOOKUP(A19,'접수위반발생율(10) '!$A$6:$K$45,11,0) -> 8.32 | F19: =SUM(B19:E19) -> 84.01 | G19: =RANK(F19,$F$7:$F$46) -> 26 | H19: =VLOOKUP(G19,환산점수!$J$4:$K$43,2,0) -> 1.2 | I19: =VLOOKUP(A19,'2015년도 실적'!$A$5:$G$46,7,0) -> 1029019840 | J19: =H19*I19 -> 1234823808 | K19: =(J19/$J$6)*100 -> 2.7769603 | L19: 13 | M19: =$M$3*K19% -> 199302.44 | O19: 215853 | P19: 215000 | Q19: =P19 -> 215000 | R19: =P19+Q19 -> 430000
A20: 성남 | B20: =VLOOKUP(A20,'성장률(35)'!$A$6:$F$46,6,0) -> 30.06 | C20: =VLOOKUP(A20,'점유율(35)'!$A$6:$E$45,5,0) -> 31.1 | D20: =VLOOKUP(A20,'달성률(20)'!$A$6:$F$45,6,0) -> 16.85 | E20: =VLOOKUP(A20,'접수위반발생율(10) '!$A$6:$K$45,11,0) -> 8.74 | F20: =SUM(B20:E20) -> 86.75 | G20: =RANK(F20,$F$7:$F$46) -> 16 | H20: =VLOOKUP(G20,환산점수!$J$4:$K$43,2,0) -> 1.3 | I20: =VLOOKUP(A20,'2015년도 실적'!$A$5:$G$46,7,0) -> 878043510 | J20: =H20*I20 -> 1141456563 | K20: =(J20/$J$6)*100 -> 2.5669893 | L20: 14 | M20: =$M$3*K20% -> 184232.83 | O20: 215853 | P20: 215000 | Q20: =P20 -> 215000 | R20: =P20+Q20 -> 430000
A21: 인천계양 | B21: =VLOOKUP(A21,'성장률(35)'!$A$6:$F$46,6,0) -> 28.5 | C21: =VLOOKUP(A21,'점유율(35)'!$A$6:$E$45,5,0) -> 32.14 | D21: =VLOOKUP(A21,'달성률(20)'!$A$6:$F$45,6,0) -> 14.9 | E21: =VLOOKUP(A21,'접수위반발생율(10) '!$A$6:$K$45,11,0) -> 9.65 | F21: =SUM(B21:E21) -> 85.19 | G21: =RANK(F21,$F$7:$F$46) -> 22 | H21: =VLOOKUP(G21,환산점수!$J$4:$K$43,2,0) -> 1.2 | I21: =VLOOKUP(A21,'2015년도 실적'!$A$5:$G$46,7,0) -> 1005464360 | J21: =H21*I21 -> 1206557232 | K21: =(J21/$J$6)*100 -> 2.7133924 | L21: 15 | M21: =$M$3*K21% -> 194740.17 | N21: =SUM(M21:M27) -> 1104578.6 | O21: =N21/7 -> 157796.95 | P21: 157000 | Q21: =P21 -> 157000 | R21: =P21+Q21 -> 314000
A22: 부평 | B22: =VLOOKUP(A22,'성장률(35)'!$A$6:$F$46,6,0) -> 31.88 | C22: =VLOOKUP(A22,'점유율(35)'!$A$6:$E$45,5,0) -> 30.84 | D22: =VLOOKUP(A22,'달성률(20)'!$A$6:$F$45,6,0) -> 18.5 | E22: =VLOOKUP(A22,'접수위반발생율(10) '!$A$6:$K$45,11,0) -> 8.88 | F22: =SUM(B22:E22) -> 90.1 | G22: =RANK(F22,$F$7:$F$46) -> 7 | H22: =VLOOKUP(G22,환산점수!$J$4:$K$43,2,0) -> 1.5 | I22: =VLOOKUP(A22,'2015년도 실적'!$A$5:$G$46,7,0) -> 803379640 | J22: =H22*I22 -> 1205069460 | K22: =(J22/$J$6)*100 -> 2.7100466 | L22: 16 | M22: =$M$3*K22% -> 194500.04 | O22: 157828 | P22: 157000 | Q22: =P22 -> 157000 | R22: =P22+Q22 -> 314000
A23: 하남 | B23: =VLOOKUP(A23,'성장률(35)'!$A$6:$F$46,6,0) -> 29.02 | C23: =VLOOKUP(A23,'점유율(35)'!$A$6:$E$45,5,0) -> 30.58 | D23: =VLOOKUP(A23,'달성률(20)'!$A$6:$F$45,6,0) -> 14.45 | E23: =VLOOKUP(A23,'접수위반발생율(10) '!$A$6:$K$45,11,0) -> 9.37 | F23: =SUM(B23:E23) -> 83.42 | G23: =RANK(F23,$F$7:$F$46) -> 27 | H23: =VLOOKUP(G23,환산점수!$J$4:$K$43,2,0) -> 1.2 | I23: =VLOOKUP(A23,'2015년도 실적'!$A$5:$G$46,7,0) -> 777752370 | J23: =H23*I23 -> 933302844 | K23: =(J23/$J$6)*100 -> 2.0988783 | L23: 17 | M23: =$M$3*K23% -> 150636.5 | O23: 157828 | P23: 157000 | Q23: =P23 -> 157000 | R23: =P23+Q23 -> 314000
A24: 남인천 | B24: =VLOOKUP(A24,'성장률(35)'!$A$6:$F$46,6,0) -> 25.38 | C24: =VLOOKUP(A24,'점유율(35)'!$A$6:$E$45,5,0) -> 31.62 | D24: =VLOOKUP(A24,'달성률(20)'!$A$6:$F$45,6,0) -> 14.3 | E24: =VLOOKUP(A24,'접수위반발생율(10) '!$A$6:$K$45,11,0) -> 8.25 | F24: =SUM(B24:E24) -> 79.55 | G24: =RANK(F24,$F$7:$F$46) -> 36 | H24: =VLOOKUP(G24,환산점수!$J$4:$K$43,2,0) -> 1 | I24: =VLOOKUP(A24,'2015년도 실적'!$A$5:$G$46,7,0) -> 932294540 | J24: =H24*I24 -> 932294540 | K24: =(J24/$J$6)*100 -> 2.0966108 | L24: 18 | M24: =$M$3*K24% -> 150473.76 | O24: 157828 | P24: 157000 | Q24: =P24 -> 157000 | R24: =P24+Q24 -> 314000
A25: 용인 | B25: =VLOOKUP(A25,'성장률(35)'!$A$6:$F$46,6,0) -> 30.84 | C25: =VLOOKUP(A25,'점유율(35)'!$A$6:$E$45,5,0) -> 29.28 | D25: =VLOOKUP(A25,'달성률(20)'!$A$6:$F$45,6,0) -> 17.3 | E25: =VLOOKUP(A25,'접수위반발생율(10) '!$A$6:$K$45,11,0) -> 9.93 | F25: =SUM(B25:E25) -> 87.35 | G25: =RANK(F25,$F$7:$F$46) -> 10 | H25: =VLOOKUP(G25,환산점수!$J$4:$K$43,2,0) -> 1.4 | I25: =VLOOKUP(A25,'2015년도 실적'!$A$5:$G$46,7,0) -> 634209070 | J25: =H25*I25 -> 887892698 | K25: =(J25/$J$6)*100 -> 1.9967567 | L25: 19 | M25: =$M$3*K25% -> 143307.23 | O25: 157828 | P25: 157000 | Q25: =P25 -> 157000 | R25: =P25+Q25 -> 314000
A26: 평택 | B26: =VLOOKUP(A26,'성장률(35)'!$A$6:$F$46,6,0) -> 31.1 | C26: =VLOOKUP(A26,'점유율(35)'!$A$6:$E$45,5,0) -> 28.5 | D26: =VLOOKUP(A26,'달성률(20)'!$A$6:$F$45,6,0) -> 18.2 | E26: =VLOOKUP(A26,'접수위반발생율(10) '!$A$6:$K$45,11,0) -> 9.44 | F26: =SUM(B26:E26) -> 87.24 | G26: =RANK(F26,$F$7:$F$46) -> 11 | H26: =VLOOKUP(G26,환산점수!$J$4:$K$43,2,0) -> 1.4 | I26: =VLOOKUP(A26,'2015년도 실적'!$A$5:$G$46,7,0) -> 624606090 | J26: =H26*I26 -> 874448526 | K26: =(J26/$J$6)*100 -> 1.9665225 | L26: 20 | M26: =$M$3*K26% -> 141137.32 | O26: 157828 | P26: 157000 | Q26: =P26 -> 157000 | R26: =P26+Q26 -> 314000
A27: 수원 | B27: =VLOOKUP(A27,'성장률(35)'!$A$6:$F$46,6,0) -> 26.16 | C27: =VLOOKUP(A27,'점유율(35)'!$A$6:$E$45,5,0) -> 30.32 | D27: =VLOOKUP(A27,'달성률(20)'!$A$6:$F$45,6,0) -> 17.75 | E27: =VLOOKUP(A27,'접수위반발생율(10) '!$A$6:$K$45,11,0) -> 8.11 | F27: =SUM(B27:E27) -> 82.34 | G27: =RANK(F27,$F$7:$F$46) -> 31 | H27: =VLOOKUP(G27,환산점수!$J$4:$K$43,2,0) -> 1.1 | I27: =VLOOKUP(A27,'2015년도 실적'!$A$5:$G$46,7,0) -> 731003570 | J27: =H27*I27 -> 8.0410393e+08 | K27: =(J27/$J$6)*100 -> 1.8083266 | L27: 21 | M27: =$M$3*K27% -> 129783.6 | O27: 157828 | P27: 157000 | Q27: =P27 -> 157000 | R27: =P27+Q27 -> 314000
A28: 서인천 | B28: =VLOOKUP(A28,'성장률(35)'!$A$6:$F$46,6,0) -> 27.46 | C28: =VLOOKUP(A28,'점유율(35)'!$A$6:$E$45,5,0) -> 30.06 | D28: =VLOOKUP(A28,'달성률(20)'!$A$6:$F$45,6,0) -> 15.35 | E28: =VLOOKUP(A28,'접수위반발생율(10) '!$A$6:$K$45,11,0) -> 9.51 | F28: =SUM(B28:E28) -> 82.38 | G28: =RANK(F28,$F$7:$F$46) -> 30 | H28: =VLOOKUP(G28,환산점수!$J$4:$K$43,2,0) -> 1.1 | I28: =VLOOKUP(A28,'2015년도 실적'!$A$5:$G$46,7,0) -> 710424230 | J28: =H28*I28 -> 7.8146665e+08 | K28: =(J28/$J$6)*100 -> 1.7574182 | L28: 22 | M28: =$M$3*K28% -> 126129.91 | N28: =SUM(M28:M34) -> 743562.87 | O28: =N28/7 -> 106223.27 | P28: 106000 | Q28: =P28 -> 106000 | R28: =P28+Q28 -> 212000
A29: 남양주 | B29: =VLOOKUP(A29,'성장률(35)'!$A$6:$F$46,6,0) -> 30.32 | C29: =VLOOKUP(A29,'점유율(35)'!$A$6:$E$45,5,0) -> 29.54 | D29: =VLOOKUP(A29,'달성률(20)'!$A$6:$F$45,6,0) -> 17 | E29: =VLOOKUP(A29,'접수위반발생율(10) '!$A$6:$K$45,11,0) -> 7.83 | F29: =SUM(B29:E29) -> 84.69 | G29: =RANK(F29,$F$7:$F$46) -> 24 | H29: =VLOOKUP(G29,환산점수!$J$4:$K$43,2,0) -> 1.2 | I29: =VLOOKUP(A29,'2015년도 실적'!$A$5:$G$46,7,0) -> 648252390 | J29: =H29*I29 -> 777902868 | K29: =(J29/$J$6)*100 -> 1.7494037 | L29: 23 | M29: =$M$3*K29% -> 125554.71 | O29: 106244 | P29: 106000 | Q29: =P29 -> 106000 | R29: =P29+Q29 -> 212000
A30: 동수원 | B30: =VLOOKUP(A30,'성장률(35)'!$A$6:$F$46,6,0) -> 24.86 | C30: =VLOOKUP(A30,'점유율(35)'!$A$6:$E$45,5,0) -> 29.8 | D30: =VLOOKUP(A30,'달성률(20)'!$A$6:$F$45,6,0) -> 17.6 | E30: =VLOOKUP(A30,'접수위반발생율(10) '!$A$6:$K$45,11,0) -> 8.95 | F30: =SUM(B30:E30) -> 81.21 | G30: =RANK(F30,$F$7:$F$46) -> 33 | H30: =VLOOKUP(G30,환산점수!$J$4:$K$43,2,0) -> 1.1 | I30: =VLOOKUP(A30,'2015년도 실적'!$A$5:$G$46,7,0) -> 671064990 | J30: =H30*I30 -> 738171489 | K30: =(J30/$J$6)*100 -> 1.660053 | L30: 24 | M30: =$M$3*K30% -> 119142 | O30: 106244 | P30: 106000 | Q30: =P30 -> 106000 | R30: =P30+Q30 -> 212000
A31: 의정부 | B31: =VLOOKUP(A31,'성장률(35)'!$A$6:$F$46,6,0) -> 29.8 | C31: =VLOOKUP(A31,'점유율(35)'!$A$6:$E$45,5,0) -> 28.76 | D31: =VLOOKUP(A31,'달성률(20)'!$A$6:$F$45,6,0) -> 16.4 | E31: =VLOOKUP(A31,'접수위반발생율(10) '!$A$6:$K$45,11,0) -> 7.48 | F31: =SUM(B31:E31) -> 82.44 | G31: =RANK(F31,$F$7:$F$46) -> 29 | H31: =VLOOKUP(G31,환산점수!$J$4:$K$43,2,0) -> 1.1 | I31: =VLOOKUP(A31,'2015년도 실적'!$A$5:$G$46,7,0) -> 629423640 | J31: =H31*I31 -> 692366004 | K31: =(J31/$J$6)*100 -> 1.5570423 | L31: 25 | M31: =$M$3*K31% -> 111748.93 | O31: 106244 | P31: 106000 | Q31: =P31 -> 106000 | R31: =P31+Q31 -> 212000
A32: 군포 | B32: =VLOOKUP(A32,'성장률(35)'!$A$6:$F$46,6,0) -> 25.9 | C32: =VLOOKUP(A32,'점유율(35)'!$A$6:$E$45,5,0) -> 29.02 | D32: =VLOOKUP(A32,'달성률(20)'!$A$6:$F$45,6,0) -> 15.5 | E32: =VLOOKUP(A32,'접수위반발생율(10) '!$A$6:$K$45,11,0) -> 7.9 | F32: =SUM(B32:E32) -> 78.32 | G32: =RANK(F32,$F$7:$F$46) -> 37 | H32: =VLOOKUP(G32,환산점수!$J$4:$K$43,2,0) -> 1 | I32: =VLOOKUP(A32,'2015년도 실적'!$A$5:$G$46,7,0) -> 632724630 | J32: =H32*I32 -> 632724630 | K32: =(J32/$J$6)*100 -> 1.4229165 | L32: 26 | M32: =$M$3*K32% -> 102122.72 | O32: 106244 | P32: 106000 | Q32: =P32 -> 106000 | R32: =P32+Q32 -> 212000
A33: 경기광주 | B33: =VLOOKUP(A33,'성장률(35)'!$A$6:$F$46,6,0) -> 29.28 | C33: =VLOOKUP(A33,'점유율(35)'!$A$6:$E$45,5,0) -> 28.24 | D33: =VLOOKUP(A33,'달성률(20)'!$A$6:$F$45,6,0) -> 16.55 | E33: =VLOOKUP(A33,'접수위반발생율(10) '!$A$6:$K$45,11,0) -> 9.3 | F33: =SUM(B33:E33) -> 83.37 | G33: =RANK(F33,$F$7:$F$46) -> 28 | H33: =VLOOKUP(G33,환산점수!$J$4:$K$43,2,0) -> 1.2 | I33: =VLOOKUP(A33,'2015년도 실적'!$A$5:$G$46,7,0) -> 461240880 | J33: =H33*I33 -> 553489056 | K33: =(J33/$J$6)*100 -> 1.2447259 | L33: 27 | M33: =$M$3*K33% -> 89333.975 | O33: 106244 | P33: 106000 | Q33: =P33 -> 106000 | R33: =P33+Q33 -> 212000
A34: 안성 | B34: =VLOOKUP(A34,'성장률(35)'!$A$6:$F$46,6,0) -> 32.4 | C34: =VLOOKUP(A34,'점유율(35)'!$A$6:$E$45,5,0) -> 27.98 | D34: =VLOOKUP(A34,'달성률(20)'!$A$6:$F$45,6,0) -> 18.65 | E34: =VLOOKUP(A34,'접수위반발생율(10) '!$A$6:$K$45,11,0) -> 8.04 | F34: =SUM(B34:E34) -> 87.07 | G34: =RANK(F34,$F$7:$F$46) -> 12 | H34: =VLOOKUP(G34,환산점수!$J$4:$K$43,2,0) -> 1.4 | I34: =VLOOKUP(A34,'2015년도 실적'!$A$5:$G$46,7,0) -> 307709260 | J34: =H34*I34 -> 430792964 | K34: =(J34/$J$6)*100 -> 0.9687981 | L34: 28 | M34: =$M$3*K34% -> 69530.64 | O34: 106244 | P34: =ROUND(O34,-3) -> 106000 | Q34: =P34 -> 106000 | R34: =P34+Q34 -> 212000
A35: 오산 | B35: =VLOOKUP(A35,'성장률(35)'!$A$6:$F$46,6,0) -> 32.14 | C35: =VLOOKUP(A35,'점유율(35)'!$A$6:$E$45,5,0) -> 27.72 | D35: =VLOOKUP(A35,'달성률(20)'!$A$6:$F$45,6,0) -> 19.1 | E35: =VLOOKUP(A35,'접수위반발생율(10) '!$A$6:$K$45,11,0) -> 7.97 | F35: =SUM(B35:E35) -> 86.93 | G35: =RANK(F35,$F$7:$F$46) -> 15 | H35: =VLOOKUP(G35,환산점수!$J$4:$K$43,2,0) -> 1.3 | I35: =VLOOKUP(A35,'2015년도 실적'!$A$5:$G$46,7,0) -> 307325450 | J35: =H35*I35 -> 399523085 | K35: =(J35/$J$6)*100 -> 0.89847615 | L35: 29 | M35: =$M$3*K35% -> 64483.633 | N35: =SUM(M35:M41) -> 348420.06 | O35: =N35/7 -> 49774.295 | P35: 50000 | Q35: =P35 -> 50000 | R35: =P35+Q35 -> 100000
A36: 포천 | B36: =VLOOKUP(A36,'성장률(35)'!$A$6:$F$46,6,0) -> 32.66 | C36: =VLOOKUP(A36,'점유율(35)'!$A$6:$E$45,5,0) -> 27.2 | D36: =VLOOKUP(A36,'달성률(20)'!$A$6:$F$45,6,0) -> 19.4 | E36: =VLOOKUP(A36,'접수위반발생율(10) '!$A$6:$K$45,11,0) -> 7.76 | F36: =SUM(B36:E36) -> 87.02 | G36: =RANK(F36,$F$7:$F$46) -> 13 | H36: =VLOOKUP(G36,환산점수!$J$4:$K$43,2,0) -> 1.4 | I36: =VLOOKUP(A36,'2015년도 실적'!$A$5:$G$46,7,0) -> 272870230 | J36: =H36*I36 -> 382018322 | K36: =(J36/$J$6)*100 -> 0.85911019 | L36: 30 | M36: =$M$3*K36% -> 61658.338 | O36: 49784 | P36: 50000 | Q36: =P36 -> 50000 | R36: =P36+Q36 -> 100000
A37: 서수원 | B37: =VLOOKUP(A37,'성장률(35)'!$A$6:$F$46,6,0) -> 34.22 | C37: =VLOOKUP(A37,'점유율(35)'!$A$6:$E$45,5,0) -> 27.46 | D37: =VLOOKUP(A37,'달성률(20)'!$A$6:$F$45,6,0) -> 17.15 | E37: =VLOOKUP(A37,'접수위반발생율(10) '!$A$6:$K$45,11,0) -> 7.55 | F37: =SUM(B37:E37) -> 86.38 | G37: =RANK(F37,$F$7:$F$46) -> 17 | H37: =VLOOKUP(G37,환산점수!$J$4:$K$43,2,0) -> 1.3 | I37: =VLOOKUP(A37,'2015년도 실적'!$A$5:$G$46,7,0) -> 288753250 | J37: =H37*I37 -> 375379225 | K37: =(J37/$J$6)*100 -> 0.84417971 | L37: 31 | M37: =$M$3*K37% -> 60586.778 | O37: 49784 | P37: 50000 | Q37: =P37 -> 50000 | R37: =P37+Q37 -> 100000
A38: 이천 | B38: =VLOOKUP(A38,'성장률(35)'!$A$6:$F$46,6,0) -> 33.7 | C38: =VLOOKUP(A38,'점유율(35)'!$A$6:$E$45,5,0) -> 26.68 | D38: =VLOOKUP(A38,'달성률(20)'!$A$6:$F$45,6,0) -> 19.7 | E38: =VLOOKUP(A38,'접수위반발생율(10) '!$A$6:$K$45,11,0) -> 9.16 | F38: =SUM(B38:E38) -> 89.24 | G38: =RANK(F38,$F$7:$F$46) -> 8 | H38: =VLOOKUP(G38,환산점수!$J$4:$K$43,2,0) -> 1.4 | I38: =VLOOKUP(A38,'2015년도 실적'!$A$5:$G$46,7,0) -> 233838060 | J38: =H38*I38 -> 327373284 | K38: =(J38/$J$6)*100 -> 0.73622051 | L38: 32 | M38: =$M$3*K38% -> 52838.546 | O38: 49784 | P38: 50000 | Q38: =P38 -> 50000 | R38: =P38+Q38 -> 100000
A39: 구리 | B39: =VLOOKUP(A39,'성장률(35)'!$A$6:$F$46,6,0) -> 27.2 | C39: =VLOOKUP(A39,'점유율(35)'!$A$6:$E$45,5,0) -> 26.94 | D39: =VLOOKUP(A39,'달성률(20)'!$A$6:$F$45,6,0) -> 15.8 | E39: =VLOOKUP(A39,'접수위반발생율(10) '!$A$6:$K$45,11,0) -> 9.79 | F39: =SUM(B39:E39) -> 79.73 | G39: =RANK(F39,$F$7:$F$46) -> 35 | H39: =VLOOKUP(G39,환산점수!$J$4:$K$43,2,0) -> 1.1 | I39: =VLOOKUP(A39,'2015년도 실적'!$A$5:$G$46,7,0) -> 240029980 | J39: =H39*I39 -> 2.6403298e+08 | K39: =(J39/$J$6)*100 -> 0.59377629 | L39: 33 | M39: =$M$3*K39% -> 42615.324 | O39: 49784 | P39: 50000 | Q39: =P39 -> 50000 | R39: =P39+Q39 -> 100000
A40: 동두천 | B40: =VLOOKUP(A40,'성장률(35)'!$A$6:$F$46,6,0) -> 30.58 | C40: =VLOOKUP(A40,'점유율(35)'!$A$6:$E$45,5,0) -> 26.42 | D40: =VLOOKUP(A40,'달성률(20)'!$A$6:$F$45,6,0) -> 16.25 | E40: =VLOOKUP(A40,'접수위반발생율(10) '!$A$6:$K$45,11,0) -> 8.6 | F40: =SUM(B40:E40) -> 81.85 | G40: =RANK(F40,$F$7:$F$46) -> 32 | H40: =VLOOKUP(G40,환산점수!$J$4:$K$43,2,0) -> 1.1 | I40: =VLOOKUP(A40,'2015년도 실적'!$A$5:$G$46,7,0) -> 222217380 | J40: =H40*I40 -> 2.4443912e+08 | K40: =(J40/$J$6)*100 -> 0.54971221 | L40: 34 | M40: =$M$3*K40% -> 39452.845 | O40: 49784 | P40: 50000 | Q40: =P40 -> 50000 | R40: =P40+Q40 -> 100000
A41: 양평 | B41: =VLOOKUP(A41,'성장률(35)'!$A$6:$F$46,6,0) -> 32.92 | C41: =VLOOKUP(A41,'점유율(35)'!$A$6:$E$45,5,0) -> 26.16 | D41: =VLOOKUP(A41,'달성률(20)'!$A$6:$F$45,6,0) -> 18.05 | E41: =VLOOKUP(A41,'접수위반발생율(10) '!$A$6:$K$45,11,0) -> 9.02 | F41: =SUM(B41:E41) -> 86.15 | G41: =RANK(F41,$F$7:$F$46) -> 19 | H41: =VLOOKUP(G41,환산점수!$J$4:$K$43,2,0) -> 1.3 | I41: =VLOOKUP(A41,'2015년도 실적'!$A$5:$G$46,7,0) -> 127653920 | J41: =H41*I41 -> 165950096 | K41: =(J41/$J$6)*100 -> 0.37320047 | L41: 35 | M41: =$M$3*K41% -> 26784.598 | O41: 49784 | P41: 50000 | Q41: =P41 -> 50000 | R41: =P41+Q41 -> 100000
A42: 여주 | B42: =VLOOKUP(A42,'성장률(35)'!$A$6:$F$46,6,0) -> 33.44 | C42: =VLOOKUP(A42,'점유율(35)'!$A$6:$E$45,5,0) -> 25.9 | D42: =VLOOKUP(A42,'달성률(20)'!$A$6:$F$45,6,0) -> 19.55 | E42: =VLOOKUP(A42,'접수위반발생율(10) '!$A$6:$K$45,11,0) -> 7.41 | F42: =SUM(B42:E42) -> 86.3 | G42: =RANK(F42,$F$7:$F$46) -> 18 | H42: =VLOOKUP(G42,환산점수!$J$4:$K$43,2,0) -> 1.3 | I42: =VLOOKUP(A42,'2015년도 실적'!$A$5:$G$46,7,0) -> 93790830 | J42: =H42*I42 -> 121928079 | K42: =(J42/$J$6)*100 -> 0.2742006 | L42: 36 | M42: =$M$3*K42% -> 19679.377 | N42: =SUM(M42:M46) -> 47582.214 | O42: =N42/5 -> 9516.4427 | P42: 10000 | Q42: =P42 -> 10000 | R42: =P42+Q42 -> 20000
A43: 가평 | B43: =VLOOKUP(A43,'성장률(35)'!$A$6:$F$46,6,0) -> 26.94 | C43: =VLOOKUP(A43,'점유율(35)'!$A$6:$E$45,5,0) -> 25.64 | D43: =VLOOKUP(A43,'달성률(20)'!$A$6:$F$45,6,0) -> 16.7 | E43: =VLOOKUP(A43,'접수위반발생율(10) '!$A$6:$K$45,11,0) -> 7.27 | F43: =SUM(B43:E43) -> 76.55 | G43: =RANK(F43,$F$7:$F$46) -> 38 | H43: =VLOOKUP(G43,환산점수!$J$4:$K$43,2,0) -> 1 | I43: =VLOOKUP(A43,'2015년도 실적'!$A$5:$G$46,7,0) -> 72448100 | J43: =H43*I43 -> 72448100 | K43: =(J43/$J$6)*100 -> 0.16292648 | L43: 37 | M43: =$M$3*K43% -> 11693.234 | O43: 9518 | P43: 10000 | Q43: =P43 -> 10000 | R43: =P43+Q43 -> 20000
A44: 강화 | B44: =VLOOKUP(A44,'성장률(35)'!$A$6:$F$46,6,0) -> 25.64 | C44: =VLOOKUP(A44,'점유율(35)'!$A$6:$E$45,5,0) -> 25.38 | D44: =VLOOKUP(A44,'달성률(20)'!$A$6:$F$45,6,0) -> 15.2 | E44: =VLOOKUP(A44,'접수위반발생율(10) '!$A$6:$K$45,11,0) -> 9.23 | F44: =SUM(B44:E44) -> 75.45 | G44: =RANK(F44,$F$7:$F$46) -> 39 | H44: =VLOOKUP(G44,환산점수!$J$4:$K$43,2,0) -> 1 | I44: =VLOOKUP(A44,'2015년도 실적'!$A$5:$G$46,7,0) -> 65843140 | J44: =H44*I44 -> 65843140 | K44: =(J44/$J$6)*100 -> 0.14807277 | L44: 38 | M44: =$M$3*K44% -> 10627.183 | O44: 9518 | P44: 10000 | Q44: =P44 -> 10000 | R44: =P44+Q44 -> 20000
A45: 연천 | B45: =VLOOKUP(A45,'성장률(35)'!$A$6:$F$46,6,0) -> 33.18 | C45: =VLOOKUP(A45,'점유율(35)'!$A$6:$E$45,5,0) -> 25.12 | D45: =VLOOKUP(A45,'달성률(20)'!$A$6:$F$45,6,0) -> 14.6 | E45: =VLOOKUP(A45,'접수위반발생율(10) '!$A$6:$K$45,11,0) -> 7.34 | F45: =SUM(B45:E45) -> 80.24 | G45: =RANK(F45,$F$7:$F$46) -> 34 | H45: =VLOOKUP(G45,환산점수!$J$4:$K$43,2,0) -> 1.1 | I45: =VLOOKUP(A45,'2015년도 실적'!$A$5:$G$46,7,0) -> 30798370 | J45: =H45*I45 -> 33878207 | K45: =(J45/$J$6)*100 -> 0.07618774 | L45: 39 | M45: =$M$3*K45% -> 5467.9941 | O45: 9518 | P45: 10000 | Q45: =P45 -> 10000 | R45: =P45+Q45 -> 20000
A46: 백령 | B46: =VLOOKUP(A46,'성장률(35)'!$A$6:$F$46,6,0) -> 25.12 | C46: =VLOOKUP(A46,'점유율(35)'!$A$6:$E$45,5,0) -> 24.86 | D46: =VLOOKUP(A46,'달성률(20)'!$A$6:$F$45,6,0) -> 14.15 | E46: =VLOOKUP(A46,'접수위반발생율(10) '!$A$6:$K$45,11,0) -> 10 | F46: =SUM(B46:E46) -> 74.13 | G46: =RANK(F46,$F$7:$F$46) -> 40 | H46: =VLOOKUP(G46,환산점수!$J$4:$K$43,2,0) -> 1 | I46: =VLOOKUP(A46,'2015년도 실적'!$A$5:$G$46,7,0) -> 708950 | J46: =H46*I46 -> 708950 | K46: =(J46/$J$6)*100 -> 0.0015943376 | L46: 40 | M46: =$M$3*K46% -> 114.42561 | O46: 9518 | P46: 10000 | Q46: =P46 -> 10000 | R46: =P46+Q46 -> 20000
A47: 부천우편집중국 | B47: ='성장률(35)'!F46 -> 0 | C47: ='점유율(35)'!E46 -> 0 | D47: =#REF! -> #REF! | E47: ='접수위반발생율(10) '!K46 -> 0 | F47: =SUM(B47:E47) -> #REF! | J47: =H47*#REF! -> #REF! | L47: 41 | R47: =M47+#REF! -> #REF!
A48: 의정부우편집중국 | B48: ='성장률(35)'!#REF! -> #REF! | C48: ='점유율(35)'!#REF! -> #REF! | D48: =#REF! -> #REF! | E48: ='접수위반발생율(10) '!K47 -> 0 | F48: =SUM(B48:E48) -> #REF! | J48: =H48*#REF! -> #REF! | L48: 42 | R48: =M48+#REF! -> #REF!
J49: =H49*#REF! -> #REF! | L49: 43

Sheet 평가내역 
A1: 2015년도 2분기 국제우편사업 평가내역
J2: (단위 : 천원, %)
A3: 국 별 | B3: 매출 성장률 (35%) | C3: 매출 점유율 (35%) | D3: 매출 달성률 (20%) | E3: 접수위반 발생률 (10%) | F3: 합 계 | G3: 순위 | H3: 가중치 적용 평가 결과
H4: 가중치 | I4: 15. 2분기 매출액(원) | J4: 가중매출액 | K4: 가중점유비
A5: 합계 | I5: =SUM(I6:I47) -> 33234514240 | J5: =SUM(J6:J45) -> 44466743358
A6: 인천 | B6: =VLOOKUP(A6,'성장률(35)'!$A$6:$F$46,6,0) -> 35 | C6: =VLOOKUP(A6,'점유율(35)'!$A$6:$E$45,5,0) -> 35 | D6: =VLOOKUP(A6,'달성률(20)'!$A$6:$F$45,6,0) -> 19.25 | E6: =VLOOKUP(A6,'접수위반발생율(10) '!$A$6:$K$45,11,0) -> 9.72 | F6: =SUM(B6:E6) -> 98.97 | G6: =RANK(F6,$F$6:$F$45) -> 2 | H6: =VLOOKUP(G6,환산점수!$J$4:$K$43,2,0) -> 1.5 | I6: =VLOOKUP(A6,'2015년도 실적'!$A$5:$G$45,7,0) -> 4897665880 | J6: =H6*I6 -> 7346498820 | K6: =(J6/$J$5)*100 -> 16.521333
A7: 서인천 | B7: =VLOOKUP(A7,'성장률(35)'!$A$6:$F$46,6,0) -> 27.46 | C7: =VLOOKUP(A7,'점유율(35)'!$A$6:$E$45,5,0) -> 30.06 | D7: =VLOOKUP(A7,'달성률(20)'!$A$6:$F$45,6,0) -> 15.35 | E7: =VLOOKUP(A7,'접수위반발생율(10) '!$A$6:$K$45,11,0) -> 9.51 | F7: =SUM(B7:E7) -> 82.38 | G7: =RANK(F7,$F$6:$F$45) -> 30 | H7: =VLOOKUP(G7,환산점수!$J$4:$K$43,2,0) -> 1.1 | I7: =VLOOKUP(A7,'2015년도 실적'!$A$5:$G$45,7,0) -> 710424230 | J7: =H7*I7 -> 7.8146665e+08 | K7: =(J7/$J$5)*100 -> 1.7574182
A8: 인천계양 | B8: =VLOOKUP(A8,'성장률(35)'!$A$6:$F$46,6,0) -> 28.5 | C8: =VLOOKUP(A8,'점유율(35)'!$A$6:$E$45,5,0) -> 32.14 | D8: =VLOOKUP(A8,'달성률(20)'!$A$6:$F$45,6,0) -> 14.9 | E8: =VLOOKUP(A8,'접수위반발생율(10) '!$A$6:$K$45,11,0) -> 9.65 | F8: =SUM(B8:E8) -> 85.19 | G8: =RANK(F8,$F$6:$F$45) -> 22 | H8: =VLOOKUP(G8,환산점수!$J$4:$K$43,2,0) -> 1.2 | I8: =VLOOKUP(A8,'2015년도 실적'!$A$5:$G$45,7,0) -> 1005464360 | J8: =H8*I8 -> 1206557232 | K8: =(J8/$J$5)*100 -> 2.7133924
A9: 남인천 | B9: =VLOOKUP(A9,'성장률(35)'!$A$6:$F$46,6,0) -> 25.38 | C9: =VLOOKUP(A9,'점유율(35)'!$A$6:$E$45,5,0) -> 31.62 | D9: =VLOOKUP(A9,'달성률(20)'!$A$6:$F$45,6,0) -> 14.3 | E9: =VLOOKUP(A9,'접수위반발생율(10) '!$A$6:$K$45,11,0) -> 8.25 | F9: =SUM(B9:E9) -> 79.55 | G9: =RANK(F9,$F$6:$F$45) -> 36 | H9: =VLOOKUP(G9,환산점수!$J$4:$K$43,2,0) -> 1 | I9: =VLOOKUP(A9,'2015년도 실적'!$A$5:$G$45,7,0) -> 932294540 | J9: =H9*I9 -> 932294540 | K9: =(J9/$J$5)*100 -> 2.0966108
A10: 부평 | B10: =VLOOKUP(A10,'성장률(35)'!$A$6:$F$46,6,0) -> 31.88 | C10: =VLOOKUP(A10,'점유율(35)'!$A$6:$E$45,5,0) -> 30.84 | D10: =VLOOKUP(A10,'달성률(20)'!$A$6:$F$45,6,0) -> 18.5 | E10: =VLOOKUP(A10,'접수위반발생율(10) '!$A$6:$K$45,11,0) -> 8.88 | F10: =SUM(B10:E10) -> 90.1 | G10: =RANK(F10,$F$6:$F$45) -> 7 | H10: =VLOOKUP(G10,환산점수!$J$4:$K$43,2,0) -> 1.5 | I10: =VLOOKUP(A10,'2015년도 실적'!$A$5:$G$45,7,0) -> 803379640 | J10: =H10*I10 -> 1205069460 | K10: =(J10/$J$5)*100 -> 2.7100466
A11: 의정부 | B11: =VLOOKUP(A11,'성장률(35)'!$A$6:$F$46,6,0) -> 29.8 | C11: =VLOOKUP(A11,'점유율(35)'!$A$6:$E$45,5,0) -> 28.76 | D11: =VLOOKUP(A11,'달성률(20)'!$A$6:$F$45,6,0) -> 16.4 | E11: =VLOOKUP(A11,'접수위반발생율(10) '!$A$6:$K$45,11,0) -> 7.48 | F11: =SUM(B11:E11) -> 82.44 | G11: =RANK(F11,$F$6:$F$45) -> 29 | H11: =VLOOKUP(G11,환산점수!$J$4:$K$43,2,0) -> 1.1 | I11: =VLOOKUP(A11,'2015년도 실적'!$A$5:$G$45,7,0) -> 629423640 | J11: =H11*I11 -> 692366004 | K11: =(J11/$J$5)*100 -> 1.5570423
A12: 수원 | B12: =VLOOKUP(A12,'성장률(35)'!$A$6:$F$46,6,0) -> 26.16 | C12: =VLOOKUP(A12,'점유율(35)'!$A$6:$E$45,5,0) -> 30.32 | D12: =VLOOKUP(A12,'달성률(20)'!$A$6:$F$45,6,0) -> 17.75 | E12: =VLOOKUP(A12,'접수위반발생율(10) '!$A$6:$K$45,11,0) -> 8.11 | F12: =SUM(B12:E12) -> 82.34 | G12: =RANK(F12,$F$6:$F$45) -> 31 | H12: =VLOOKUP(G12,환산점수!$J$4:$K$43,2,0) -> 1.1 | I12: =VLOOKUP(A12,'2015년도 실적'!$A$5:$G$45,7,0) -> 731003570 | J12: =H12*I12 -> 8.0410393e+08 | K12: =(J12/$J$5)*100 -> 1.8083266
A13: 동수원 | B13: =VLOOKUP(A13,'성장률(35)'!$A$6:$F$46,6,0) -> 24.86 | C13: =VLOOKUP(A13,'점유율(35)'!$A$6:$E$45,5,0) -> 29.8 | D13: =VLOOKUP(A13,'달성률(20)'!$A$6:$F$45,6,0) -> 17.6 | E13: =VLOOKUP(A13,'접수위반발생율(10) '!$A$6:$K$45,11,0) -> 8.95 | F13: =SUM(B13:E13) -> 81.21 | G13: =RANK(F13,$F$6:$F$45) -> 33 | H13: =VLOOKUP(G13,환산점수!$J$4:$K$43,2,0) -> 1.1 | I13: =VLOOKUP(A13,'2015년도 실적'!$A$5:$G$45,7,0) -> 671064990 | J13: =H13*I13 -> 738171489 | K13: =(J13/$J$5)*100 -> 1.660053
A14: 서수원 | B14: =VLOOKUP(A14,'성장률(35)'!$A$6:$F$46,6,0) -> 34.22 | C14: =VLOOKUP(A14,'점유율(35)'!$A$6:$E$45,5,0) -> 27.46 | D14: =VLOOKUP(A14,'달성률(20)'!$A$6:$F$45,6,0) -> 17.15 | E14: =VLOOKUP(A14,'접수위반발생율(10) '!$A$6:$K$45,11,0) -> 7.55 | F14: =SUM(B14:E14) -> 86.38 | G14: =RANK(F14,$F$6:$F$45) -> 17 | H14: =VLOOKUP(G14,환산점수!$J$4:$K$43,2,0) -> 1.3 | I14: =VLOOKUP(A14,'2015년도 실적'!$A$5:$G$45,7,0) -> 288753250 | J14: =H14*I14 -> 375379225 | K14: =(J14/$J$5)*100 -> 0.84417971
A15: 군포 | B15: =VLOOKUP(A15,'성장률(35)'!$A$6:$F$46,6,0) -> 25.9 | C15: =VLOOKUP(A15,'점유율(35)'!$A$6:$E$45,5,0) -> 29.02 | D15: =VLOOKUP(A15,'달성률(20)'!$A$6:$F$45,6,0) -> 15.5 | E15: =VLOOKUP(A15,'접수위반발생율(10) '!$A$6:$K$45,11,0) -> 7.9 | F15: =SUM(B15:E15) -> 78.32 | G15: =RANK(F15,$F$6:$F$45) -> 37 | H15: =VLOOKUP(G15,환산점수!$J$4:$K$43,2,0) -> 1 | I15: =VLOOKUP(A15,'2015년도 실적'!$A$5:$G$45,7,0) -> 632724630 | J15: =H15*I15 -> 632724630 | K15: =(J15/$J$5)*100 -> 1.4229165
A16: 안양 | B16: =VLOOKUP(A16,'성장률(35)'!$A$6:$F$46,6,0) -> 27.72 | C16: =VLOOKUP(A16,'점유율(35)'!$A$6:$E$45,5,0) -> 32.66 | D16: =VLOOKUP(A16,'달성률(20)'!$A$6:$F$45,6,0) -> 16.1 | E16: =VLOOKUP(A16,'접수위반발생율(10) '!$A$6:$K$45,11,0) -> 8.46 | F16: =SUM(B16:E16) -> 84.94 | G16: =RANK(F16,$F$6:$F$45) -> 23 | H16: =VLOOKUP(G16,환산점수!$J$4:$K$43,2,0) -> 1.2 | I16: =VLOOKUP(A16,'2015년도 실적'!$A$5:$G$45,7,0) -> 1045366350 | J16: =H16*I16 -> 1254439620 | K16: =(J16/$J$5)*100 -> 2.8210737
A17: 성남 | B17: =VLOOKUP(A17,'성장률(35)'!$A$6:$F$46,6,0) -> 30.06 | C17: =VLOOKUP(A17,'점유율(35)'!$A$6:$E$45,5,0) -> 31.1 | D17: =VLOOKUP(A17,'달성률(20)'!$A$6:$F$45,6,0) -> 16.85 | E17: =VLOOKUP(A17,'접수위반발생율(10) '!$A$6:$K$45,11,0) -> 8.74 | F17: =SUM(B17:E17) -> 86.75 | G17: =RANK(F17,$F$6:$F$45) -> 16 | H17: =VLOOKUP(G17,환산점수!$J$4:$K$43,2,0) -> 1.3 | I17: =VLOOKUP(A17,'2015년도 실적'!$A$5:$G$45,7,0) -> 878043510 | J17: =H17*I17 -> 1141456563 | K17: =(J17/$J$5)*100 -> 2.5669893
... A45: 구리 | B45: =VLOOKUP(A45,'성장률(35)'!$A$6:$F$46,6,0) -> 27.2 | C45: =VLOOKUP(A45,'점유율(35)'!$A$6:$E$45,5,0) -> 26.94 | D45: =VLOOKUP(A45,'달성률(20)'!$A$6:$F$45,6,0) -> 15.8 | E45: =VLOOKUP(A45,'접수위반발생율(10) '!$A$6:$K$45,11,0) -> 9.79 | F45: =SUM(B45:E45) -> 79.73 | G45: =RANK(F45,$F$6:$F$45) -> 35 | H45: =VLOOKUP(G45,환산점수!$J$4:$K$43,2,0) -> 1.1 | I45: =VLOOKUP(A45,'2015년도 실적'!$A$5:$G$45,7,0) -> 240029980 | J45: =H45*I45 -> 2.6403298e+08 | K45: =(J45/$J$5)*100 -> 0.59377629
A46: 부천우편집중국 | B46: ='성장률(35)'!F46 -> 0 | C46: ='점유율(35)'!E46 -> 0 | D46: =#REF! -> #REF! | E46: ='접수위반발생율(10) '!K46 -> 0 | F46: =SUM(B46:E46) -> #REF! | J46: =H46*#REF! -> #REF!
A47: 의정부우편집중국 | B47: ='성장률(35)'!#REF! -> #REF! | C47: ='점유율(35)'!#REF! -> #REF! | D47: =#REF! -> #REF! | E47: ='접수위반발생율(10) '!K47 -> 0 | F47: =SUM(B47:E47) -> #REF! | J47: =H47*#REF! -> #REF!
J48: =H48*#REF! -> #REF!

Sheet 성장률(35)
A1: 2015년 2분기 매출실적 성장률 (35점)
F3: (단위: 천원)
A4: 국별 | B4: '15. 2분기 매출실적 | C4: '14. 2분기 매출실적 | D4: 성장율 | E4: 순위 | F4: 환산점수
A5: 합계 | B5: =SUM(B6:B46) -> 33236660440 | C5: =SUM(C6:C46) -> 29298786570 | D5: =B5/C5*100-100 -> 13.440399
A6: 인천 | B6: =VLOOKUP(A6,'2015년도 실적'!$A$5:$G$45,7,0) -> 4897665880 | C6: =VLOOKUP(A6,'2014년도 실적'!$A$5:$G$46,7,0) -> 1142832870 | D6: =B6/C6*100-100 -> 328.55487 | E6: =RANK(D6,$D$6:$D$45) -> 1 | F6: =VLOOKUP(E6,환산점수!$A$4:$B$43,2,0) -> 35
A7: 서인천 | B7: =VLOOKUP(A7,'2015년도 실적'!$A$5:$G$45,7,0) -> 710424230 | C7: =VLOOKUP(A7,'2014년도 실적'!$A$5:$G$46,7,0) -> 723519730 | D7: =B7/C7*100-100 -> -1.8099714 | E7: =RANK(D7,$D$6:$D$45) -> 30 | F7: =VLOOKUP(E7,환산점수!$A$4:$B$43,2,0) -> 27.46
A8: 인천계양 | B8: =VLOOKUP(A8,'2015년도 실적'!$A$5:$G$45,7,0) -> 1005464360 | C8: =VLOOKUP(A8,'2014년도 실적'!$A$5:$G$46,7,0) -> 973606250 | D8: =B8/C8*100-100 -> 3.272176 | E8: =RANK(D8,$D$6:$D$45) -> 26 | F8: =VLOOKUP(E8,환산점수!$A$4:$B$43,2,0) -> 28.5
A9: 남인천 | B9: =VLOOKUP(A9,'2015년도 실적'!$A$5:$G$45,7,0) -> 932294540 | C9: =VLOOKUP(A9,'2014년도 실적'!$A$5:$G$46,7,0) -> 1481170470 | D9: =B9/C9*100-100 -> -37.056905 | E9: =RANK(D9,$D$6:$D$45) -> 38 | F9: =VLOOKUP(E9,환산점수!$A$4:$B$43,2,0) -> 25.38
A10: 부평 | B10: =VLOOKUP(A10,'2015년도 실적'!$A$5:$G$45,7,0) -> 803379640 | C10: =VLOOKUP(A10,'2014년도 실적'!$A$5:$G$46,7,0) -> 674464180 | D10: =B10/C10*100-100 -> 19.113759 | E10: =RANK(D10,$D$6:$D$45) -> 13 | F10: =VLOOKUP(E10,환산점수!$A$4:$B$43,2,0) -> 31.88
A11: 의정부 | B11: =VLOOKUP(A11,'2015년도 실적'!$A$5:$G$45,7,0) -> 629423640 | C11: =VLOOKUP(A11,'2014년도 실적'!$A$5:$G$46,7,0) -> 593670090 | D11: =B11/C11*100-100 -> 6.0224611 | E11: =RANK(D11,$D$6:$D$45) -> 21 | F11: =VLOOKUP(E11,환산점수!$A$4:$B$43,2,0) -> 29.8
A12: 수원 | B12: =VLOOKUP(A12,'2015년도 실적'!$A$5:$G$45,7,0) -> 731003570 | C12: =VLOOKUP(A12,'2014년도 실적'!$A$5:$G$46,7,0) -> 768919650 | D12: =B12/C12*100-100 -> -4.9310848 | E12: =RANK(D12,$D$6:$D$45) -> 35 | F12: =VLOOKUP(E12,환산점수!$A$4:$B$43,2,0) -> 26.16
A13: 동수원 | B13: =VLOOKUP(A13,'2015년도 실적'!$A$5:$G$45,7,0) -> 671064990 | C13: =VLOOKUP(A13,'2014년도 실적'!$A$5:$G$46,7,0) -> 3613023390 | D13: =B13/C13*100-100 -> -81.426497 | E13: =RANK(D13,$D$6:$D$45) -> 40 | F13: =VLOOKUP(E13,환산점수!$A$4:$B$43,2,0) -> 24.86
A14: 서수원 | B14: =VLOOKUP(A14,'2015년도 실적'!$A$5:$G$45,7,0) -> 288753250 | C14: =VLOOKUP(A14,'2014년도 실적'!$A$5:$G$46,7,0) -> 182370280 | D14: =B14/C14*100-100 -> 58.333501 | E14: =RANK(D14,$D$6:$D$45) -> 4 | F14: =VLOOKUP(E14,환산점수!$A$4:$B$43,2,0) -> 34.22
A15: 군포 | B15: =VLOOKUP(A15,'2015년도 실적'!$A$5:$G$45,7,0) -> 632724630 | C15: =VLOOKUP(A15,'2014년도 실적'!$A$5:$G$46,7,0) -> 672474180 | D15: =B15/C15*100-100 -> -5.9109407 | E15: =RANK(D15,$D$6:$D$45) -> 36 | F15: =VLOOKUP(E15,환산점수!$A$4:$B$43,2,0) -> 25.9
A16: 안양 | B16: =VLOOKUP(A16,'2015년도 실적'!$A$5:$G$45,7,0) -> 1045366350 | C16: =VLOOKUP(A16,'2014년도 실적'!$A$5:$G$46,7,0) -> 1049809080 | D16: =B16/C16*100-100 -> -0.42319409 | E16: =RANK(D16,$D$6:$D$45) -> 29 | F16: =VLOOKUP(E16,환산점수!$A$4:$B$43,2,0) -> 27.72
A17: 성남 | B17: =VLOOKUP(A17,'2015년도 실적'!$A$5:$G$45,7,0) -> 878043510 | C17: =VLOOKUP(A17,'2014년도 실적'!$A$5:$G$46,7,0) -> 825987130 | D17: =B17/C17*100-100 -> 6.3023234 | E17: =RANK(D17,$D$6:$D$45) -> 20 | F17: =VLOOKUP(E17,환산점수!$A$4:$B$43,2,0) -> 30.06
... A45: 구리 | B45: =VLOOKUP(A45,'2015년도 실적'!$A$5:$G$45,7,0) -> 240029980 | C45: =VLOOKUP(A45,'2014년도 실적'!$A$5:$G$46,7,0) -> 246224550 | D45: =B45/C45*100-100 -> -2.5158214 | E45: =RANK(D45,$D$6:$D$45) -> 31 | F45: =VLOOKUP(E45,환산점수!$A$4:$B$43,2,0) -> 27.2
A46: 부천우편집중국 | B46: =VLOOKUP(A46,'2015년도 실적'!$A$5:$G$45,7,0) -> 2146200 | C46: =VLOOKUP(A46,'2014년도 실적'!$A$5:$G$46,7,0) -> 0

Sheet 점유율(35)
A1: 2015년 2분기 매출실적 점유율 (35점)
E3: (단위: 천원)
A4: 구 분 | B4: '15. 2분기 매출실적 | C4: 점유율(%) | D4: 순위 | E4: 환산점수
A5: 합계 | B5: =SUM(B6:B46) -> 33236660440 | C5: =SUM(C6:C46) -> 100
A6: 인천 | B6: =VLOOKUP(A6,'2015년도 실적'!$A$5:$G$45,7,0) -> 4897665880 | C6: =B6/$B$5*100 -> 14.735734 | D6: =RANK(C6,$C$6:$C$45) -> 1 | E6: =VLOOKUP(D6,환산점수!$A$4:$B$43,2,0) -> 35
A7: 서인천 | B7: =VLOOKUP(A7,'2015년도 실적'!$A$5:$G$45,7,0) -> 710424230 | C7: =B7/$B$5*100 -> 2.1374718 | D7: =RANK(C7,$C$6:$C$45) -> 20 | E7: =VLOOKUP(D7,환산점수!$A$4:$B$43,2,0) -> 30.06
A8: 인천계양 | B8: =VLOOKUP(A8,'2015년도 실적'!$A$5:$G$45,7,0) -> 1005464360 | C8: =B8/$B$5*100 -> 3.0251666 | D8: =RANK(C8,$C$6:$C$45) -> 12 | E8: =VLOOKUP(D8,환산점수!$A$4:$B$43,2,0) -> 32.14
A9: 남인천 | B9: =VLOOKUP(A9,'2015년도 실적'!$A$5:$G$45,7,0) -> 932294540 | C9: =B9/$B$5*100 -> 2.8050187 | D9: =RANK(C9,$C$6:$C$45) -> 14 | E9: =VLOOKUP(D9,환산점수!$A$4:$B$43,2,0) -> 31.62
A10: 부평 | B10: =VLOOKUP(A10,'2015년도 실적'!$A$5:$G$45,7,0) -> 803379640 | C10: =B10/$B$5*100 -> 2.4171491 | D10: =RANK(C10,$C$6:$C$45) -> 17 | E10: =VLOOKUP(D10,환산점수!$A$4:$B$43,2,0) -> 30.84
A11: 의정부 | B11: =VLOOKUP(A11,'2015년도 실적'!$A$5:$G$45,7,0) -> 629423640 | C11: =B11/$B$5*100 -> 1.8937632 | D11: =RANK(C11,$C$6:$C$45) -> 25 | E11: =VLOOKUP(D11,환산점수!$A$4:$B$43,2,0) -> 28.76
A12: 수원 | B12: =VLOOKUP(A12,'2015년도 실적'!$A$5:$G$45,7,0) -> 731003570 | C12: =B12/$B$5*100 -> 2.1993893 | D12: =RANK(C12,$C$6:$C$45) -> 19 | E12: =VLOOKUP(D12,환산점수!$A$4:$B$43,2,0) -> 30.32
A13: 동수원 | B13: =VLOOKUP(A13,'2015년도 실적'!$A$5:$G$45,7,0) -> 671064990 | C13: =B13/$B$5*100 -> 2.0190506 | D13: =RANK(C13,$C$6:$C$45) -> 21 | E13: =VLOOKUP(D13,환산점수!$A$4:$B$43,2,0) -> 29.8
A14: 서수원 | B14: =VLOOKUP(A14,'2015년도 실적'!$A$5:$G$45,7,0) -> 288753250 | C14: =B14/$B$5*100 -> 0.86877937 | D14: =RANK(C14,$C$6:$C$45) -> 30 | E14: =VLOOKUP(D14,환산점수!$A$4:$B$43,2,0) -> 27.46
A15: 군포 | B15: =VLOOKUP(A15,'2015년도 실적'!$A$5:$G$45,7,0) -> 632724630 | C15: =B15/$B$5*100 -> 1.903695 | D15: =RANK(C15,$C$6:$C$45) -> 24 | E15: =VLOOKUP(D15,환산점수!$A$4:$B$43,2,0) -> 29.02
A16: 안양 | B16: =VLOOKUP(A16,'2015년도 실적'!$A$5:$G$45,7,0) -> 1045366350 | C16: =B16/$B$5*100 -> 3.1452208 | D16: =RANK(C16,$C$6:$C$45) -> 10 | E16: =VLOOKUP(D16,환산점수!$A$4:$B$43,2,0) -> 32.66
A17: 성남 | B17: =VLOOKUP(A17,'2015년도 실적'!$A$5:$G$45,7,0) -> 878043510 | C17: =B17/$B$5*100 -> 2.6417922 | D17: =RANK(C17,$C$6:$C$45) -> 16 | E17: =VLOOKUP(D17,환산점수!$A$4:$B$43,2,0) -> 31.1
... A45: 구리 | B45: =VLOOKUP(A45,'2015년도 실적'!$A$5:$G$45,7,0) -> 240029980 | C45: =B45/$B$5*100 -> 0.72218441 | D45: =RANK(C45,$C$6:$C$45) -> 32 | E45: =VLOOKUP(D45,환산점수!$A$4:$B$43,2,0) -> 26.94
A46: 부천우편집중국 | B46: =VLOOKUP(A46,'2015년도 실적'!$A$5:$G$45,7,0) -> 2146200 | C46: =B46/$B$5*100 -> 0.0064573275

Sheet 달성률(20)
A1: 2015년 매출목표 달성율 (20점)
E3: (단위: 천원)
A4: 구 분 | B4: 2015년도 목표 | C4: '15. 2분기 매출 누계실적 | D4: 달성율 | E4: 순위 | F4: 환산점수
A5: 합계 | B5: =SUM(B6:B47) -> 141578000000 | C5: =SUM(C6:C47) -> 68103417350 | D5: =C5/B5*100 -> 48.103107
A6: 인천 | B6: =VLOOKUP(A6,'2015년도 목표'!$A$4:$B$46,2,0)*1000 -> 19429000000 | C6: =VLOOKUP(A6,'2015년도 실적'!$A$5:$C$45,3,0) -> 10191712960 | D6: =C6/B6*100 -> 52.456189 | E6: =RANK(D6,$D$6:$D$45) -> 6 | F6: =VLOOKUP(E6,환산점수!$D$4:$E$43,2,0) -> 19.25
A7: 서인천 | B7: =VLOOKUP(A7,'2015년도 목표'!$A$4:$B$46,2,0)*1000 -> 3330000000 | C7: =VLOOKUP(A7,'2015년도 실적'!$A$5:$C$45,3,0) -> 1437363460 | D7: =C7/B7*100 -> 43.164068 | E7: =RANK(D7,$D$6:$D$45) -> 32 | F7: =VLOOKUP(E7,환산점수!$D$4:$E$43,2,0) -> 15.35
A8: 인천계양 | B8: =VLOOKUP(A8,'2015년도 목표'!$A$4:$B$46,2,0)*1000 -> 5130000000 | C8: =VLOOKUP(A8,'2015년도 실적'!$A$5:$C$45,3,0) -> 2132196470 | D8: =C8/B8*100 -> 41.563284 | E8: =RANK(D8,$D$6:$D$45) -> 35 | F8: =VLOOKUP(E8,환산점수!$D$4:$E$43,2,0) -> 14.9
A9: 남인천 | B9: =VLOOKUP(A9,'2015년도 목표'!$A$4:$B$46,2,0)*1000 -> 6502000000 | C9: =VLOOKUP(A9,'2015년도 실적'!$A$5:$C$45,3,0) -> 2323013260 | D9: =C9/B9*100 -> 35.727672 | E9: =RANK(D9,$D$6:$D$45) -> 39 | F9: =VLOOKUP(E9,환산점수!$D$4:$E$43,2,0) -> 14.3
A10: 부평 | B10: =VLOOKUP(A10,'2015년도 목표'!$A$4:$B$46,2,0)*1000 -> 3207000000 | C10: =VLOOKUP(A10,'2015년도 실적'!$A$5:$C$45,3,0) -> 1621809120 | D10: =C10/B10*100 -> 50.570911 | E10: =RANK(D10,$D$6:$D$45) -> 11 | F10: =VLOOKUP(E10,환산점수!$D$4:$E$43,2,0) -> 18.5
A11: 의정부 | B11: =VLOOKUP(A11,'2015년도 목표'!$A$4:$B$46,2,0)*1000 -> 2743000000 | C11: =VLOOKUP(A11,'2015년도 실적'!$A$5:$C$45,3,0) -> 1279193620 | D11: =C11/B11*100 -> 46.634838 | E11: =RANK(D11,$D$6:$D$45) -> 25 | F11: =VLOOKUP(E11,환산점수!$D$4:$E$43,2,0) -> 16.4
A12: 수원 | B12: =VLOOKUP(A12,'2015년도 목표'!$A$4:$B$46,2,0)*1000 -> 3064000000 | C12: =VLOOKUP(A12,'2015년도 실적'!$A$5:$C$45,3,0) -> 1500866470 | D12: =C12/B12*100 -> 48.983893 | E12: =RANK(D12,$D$6:$D$45) -> 16 | F12: =VLOOKUP(E12,환산점수!$D$4:$E$43,2,0) -> 17.75
A13: 동수원 | B13: =VLOOKUP(A13,'2015년도 목표'!$A$4:$B$46,2,0)*1000 -> 2862000000 | C13: =VLOOKUP(A13,'2015년도 실적'!$A$5:$C$45,3,0) -> 1392272290 | D13: =C13/B13*100 -> 48.646831 | E13: =RANK(D13,$D$6:$D$45) -> 17 | F13: =VLOOKUP(E13,환산점수!$D$4:$E$43,2,0) -> 17.6
A14: 서수원 | B14: =VLOOKUP(A14,'2015년도 목표'!$A$4:$B$46,2,0)*1000 -> 1299000000 | C14: =VLOOKUP(A14,'2015년도 실적'!$A$5:$C$45,3,0) -> 616146870 | D14: =C14/B14*100 -> 47.4324 | E14: =RANK(D14,$D$6:$D$45) -> 20 | F14: =VLOOKUP(E14,환산점수!$D$4:$E$43,2,0) -> 17.15
A15: 군포 | B15: =VLOOKUP(A15,'2015년도 목표'!$A$4:$B$46,2,0)*1000 -> 2994000000 | C15: =VLOOKUP(A15,'2015년도 실적'!$A$5:$C$45,3,0) -> 1296923870 | D15: =C15/B15*100 -> 43.317431 | E15: =RANK(D15,$D$6:$D$45) -> 31 | F15: =VLOOKUP(E15,환산점수!$D$4:$E$43,2,0) -> 15.5
A16: 안양 | B16: =VLOOKUP(A16,'2015년도 목표'!$A$4:$B$46,2,0)*1000 -> 4821000000 | C16: =VLOOKUP(A16,'2015년도 실적'!$A$5:$C$45,3,0) -> 2195873860 | D16: =C16/B16*100 -> 45.548099 | E16: =RANK(D16,$D$6:$D$45) -> 27 | F16: =VLOOKUP(E16,환산점수!$D$4:$E$43,2,0) -> 16.1
A17: 성남 | B17: =VLOOKUP(A17,'2015년도 목표'!$A$4:$B$46,2,0)*1000 -> 3667000000 | C17: =VLOOKUP(A17,'2015년도 실적'!$A$5:$C$45,3,0) -> 1734795010 | D17: =C17/B17*100 -> 47.30829 | E17: =RANK(D17,$D$6:$D$45) -> 22 | F17: =VLOOKUP(E17,환산점수!$D$4:$E$43,2,0) -> 16.85
... A45: 구리 | B45: =VLOOKUP(A45,'2015년도 목표'!$A$4:$B$46,2,0)*1000 -> 1124000000 | C45: =VLOOKUP(A45,'2015년도 실적'!$A$5:$C$45,3,0) -> 507973370 | D45: =C45/B45*100 -> 45.19336 | E45: =RANK(D45,$D$6:$D$45) -> 29 | F45: =VLOOKUP(E45,환산점수!$D$4:$E$43,2,0) -> 15.8
A46: 부천우편집중국 | C46: =VLOOKUP(A46,'2015년도 실적'!$A$5:$C$45,3,0) -> 4667850
A47: 의정부우편집중국

Sheet 접수위반발생율(10) 
A1: 2015년 2분기 접수위반 과오율 (10점)
H3: (단위 : 건, %)
A4: 구 분 | B4: 접수물량 | C4: 번호 오입력 | D4: 약호 오입력 | E4: 접수 누락 | F4: 중량 상이 | G4: 취급 불가 | H4: 총합계 | I4: 과오율 | J4: 순위 | K4: 환산점수
A5: 합계 | B5: =SUM(B6:B45) -> 1037923 | C5: =SUM(C6:C45) -> 140 | D5: =SUM(D6:D45) -> 494 | E5: =SUM(E6:E45) -> 94 | F5: =SUM(F6:F45) -> 136 | G5: =SUM(G6:G45) -> 3 | H5: =SUM(H6:H45) -> 867 | I5: =H5/B5% -> 0.083532208
A6: 인천 | B6: =VLOOKUP(A6,'2분기 과오평가'!$A$19:$M$58,11,0) -> 159351 | C6: =VLOOKUP(A6,'2분기 과오평가'!$A$19:$M$58,2,0) -> 7 | D6: =VLOOKUP(A6,'2분기 과오평가'!$A$19:$C$58,3,0) -> 42 | E6: =VLOOKUP(A6,'2분기 과오평가'!$A$19:$M$58,4,0) -> 2 | F6: =VLOOKUP(A6,'2분기 과오평가'!$A$19:$E$58,5,0) -> 19 | G6: =VLOOKUP(A6,'2분기 과오평가'!$A$19:$G$58,6,0) -> 0 | H6: =SUM(C6:G6) -> 70 | I6: =H6/B6% -> 0.043928184 | J6: =RANK(I6,$I$6:$I$45,1) -> 5 | K6: =VLOOKUP(J6,환산점수!$G$4:$H$43,2,0) -> 9.72
A7: 서인천 | B7: =VLOOKUP(A7,'2분기 과오평가'!$A$19:$M$58,11,0) -> 17699 | C7: =VLOOKUP(A7,'2분기 과오평가'!$A$19:$M$58,2,0) -> 0 | D7: =VLOOKUP(A7,'2분기 과오평가'!$A$19:$C$58,3,0) -> 6 | E7: =VLOOKUP(A7,'2분기 과오평가'!$A$19:$M$58,4,0) -> 1 | F7: =VLOOKUP(A7,'2분기 과오평가'!$A$19:$E$58,5,0) -> 3 | G7: =VLOOKUP(A7,'2분기 과오평가'!$A$19:$G$58,6,0) -> 0 | H7: =SUM(C7:G7) -> 10 | I7: =H7/B7% -> 0.056500367 | J7: =RANK(I7,$I$6:$I$45,1) -> 8 | K7: =VLOOKUP(J7,환산점수!$G$4:$H$43,2,0) -> 9.51
A8: 인천계양 | B8: =VLOOKUP(A8,'2분기 과오평가'!$A$19:$M$58,11,0) -> 47349 | C8: =VLOOKUP(A8,'2분기 과오평가'!$A$19:$M$58,2,0) -> 1 | D8: =VLOOKUP(A8,'2분기 과오평가'!$A$19:$C$58,3,0) -> 20 | E8: =VLOOKUP(A8,'2분기 과오평가'!$A$19:$M$58,4,0) -> 3 | F8: =VLOOKUP(A8,'2분기 과오평가'!$A$19:$E$58,5,0) -> 2 | G8: =VLOOKUP(A8,'2분기 과오평가'!$A$19:$G$58,6,0) -> 0 | H8: =SUM(C8:G8) -> 26 | I8: =H8/B8% -> 0.054911403 | J8: =RANK(I8,$I$6:$I$45,1) -> 6 | K8: =VLOOKUP(J8,환산점수!$G$4:$H$43,2,0) -> 9.65
A9: 남인천 | B9: =VLOOKUP(A9,'2분기 과오평가'!$A$19:$M$58,11,0) -> 38387 | C9: =VLOOKUP(A9,'2분기 과오평가'!$A$19:$M$58,2,0) -> 10 | D9: =VLOOKUP(A9,'2분기 과오평가'!$A$19:$C$58,3,0) -> 17 | E9: =VLOOKUP(A9,'2분기 과오평가'!$A$19:$M$58,4,0) -> 4 | F9: =VLOOKUP(A9,'2분기 과오평가'!$A$19:$E$58,5,0) -> 11 | G9: =VLOOKUP(A9,'2분기 과오평가'!$A$19:$G$58,6,0) -> 0 | H9: =SUM(C9:G9) -> 42 | I9: =H9/B9% -> 0.10941204 | J9: =RANK(I9,$I$6:$I$45,1) -> 26 | K9: =VLOOKUP(J9,환산점수!$G$4:$H$43,2,0) -> 8.25
A10: 부평 | B10: =VLOOKUP(A10,'2분기 과오평가'!$A$19:$M$58,11,0) -> 22339 | C10: =VLOOKUP(A10,'2분기 과오평가'!$A$19:$M$58,2,0) -> 4 | D10: =VLOOKUP(A10,'2분기 과오평가'!$A$19:$C$58,3,0) -> 8 | E10: =VLOOKUP(A10,'2분기 과오평가'!$A$19:$M$58,4,0) -> 1 | F10: =VLOOKUP(A10,'2분기 과오평가'!$A$19:$E$58,5,0) -> 4 | G10: =VLOOKUP(A10,'2분기 과오평가'!$A$19:$G$58,6,0) -> 1 | H10: =SUM(C10:G10) -> 18 | I10: =H10/B10% -> 0.08057657 | J10: =RANK(I10,$I$6:$I$45,1) -> 17 | K10: =VLOOKUP(J10,환산점수!$G$4:$H$43,2,0) -> 8.88
A11: 의정부 | B11: =VLOOKUP(A11,'2분기 과오평가'!$A$19:$M$58,11,0) -> 16573 | C11: =VLOOKUP(A11,'2분기 과오평가'!$A$19:$M$58,2,0) -> 11 | D11: =VLOOKUP(A11,'2분기 과오평가'!$A$19:$C$58,3,0) -> 16 | E11: =VLOOKUP(A11,'2분기 과오평가'!$A$19:$M$58,4,0) -> 2 | F11: =VLOOKUP(A11,'2분기 과오평가'!$A$19:$E$58,5,0) -> 1 | G11: =VLOOKUP(A11,'2분기 과오평가'!$A$19:$G$58,6,0) -> 0 | H11: =SUM(C11:G11) -> 30 | I11: =H11/B11% -> 0.18101732 | J11: =RANK(I11,$I$6:$I$45,1) -> 37 | K11: =VLOOKUP(J11,환산점수!$G$4:$H$43,2,0) -> 7.48
A12: 수원 | B12: =VLOOKUP(A12,'2분기 과오평가'!$A$19:$M$58,11,0) -> 19395 | C12: =VLOOKUP(A12,'2분기 과오평가'!$A$19:$M$58,2,0) -> 5 | D12: =VLOOKUP(A12,'2분기 과오평가'!$A$19:$C$58,3,0) -> 13 | E12: =VLOOKUP(A12,'2분기 과오평가'!$A$19:$M$58,4,0) -> 0 | F12: =VLOOKUP(A12,'2분기 과오평가'!$A$19:$E$58,5,0) -> 5 | G12: =VLOOKUP(A12,'2분기 과오평가'!$A$19:$G$58,6,0) -> 0 | H12: =SUM(C12:G12) -> 23 | I12: =H12/B12% -> 0.11858726 | J12: =RANK(I12,$I$6:$I$45,1) -> 28 | K12: =VLOOKUP(J12,환산점수!$G$4:$H$43,2,0) -> 8.11
A13: 동수원 | B13: =VLOOKUP(A13,'2분기 과오평가'!$A$19:$M$58,11,0) -> 18748 | C13: =VLOOKUP(A13,'2분기 과오평가'!$A$19:$M$58,2,0) -> 4 | D13: =VLOOKUP(A13,'2분기 과오평가'!$A$19:$C$58,3,0) -> 7 | E13: =VLOOKUP(A13,'2분기 과오평가'!$A$19:$M$58,4,0) -> 3 | F13: =VLOOKUP(A13,'2분기 과오평가'!$A$19:$E$58,5,0) -> 1 | G13: =VLOOKUP(A13,'2분기 과오평가'!$A$19:$G$58,6,0) -> 0 | H13: =SUM(C13:G13) -> 15 | I13: =H13/B13% -> 0.080008534 | J13: =RANK(I13,$I$6:$I$45,1) -> 16 | K13: =VLOOKUP(J13,환산점수!$G$4:$H$43,2,0) -> 8.95
A14: 서수원 | B14: =VLOOKUP(A14,'2분기 과오평가'!$A$19:$M$58,11,0) -> 7198 | C14: =VLOOKUP(A14,'2분기 과오평가'!$A$19:$M$58,2,0) -> 3 | D14: =VLOOKUP(A14,'2분기 과오평가'!$A$19:$C$58,3,0) -> 7 | E14: =VLOOKUP(A14,'2분기 과오평가'!$A$19:$M$58,4,0) -> 0 | F14: =VLOOKUP(A14,'2분기 과오평가'!$A$19:$E$58,5,0) -> 3 | G14: =VLOOKUP(A14,'2분기 과오평가'!$A$19:$G$58,6,0) -> 0 | H14: =SUM(C14:G14) -> 13 | I14: =H14/B14% -> 0.18060572 | J14: =RANK(I14,$I$6:$I$45,1) -> 36 | K14: =VLOOKUP(J14,환산점수!$G$4:$H$43,2,0) -> 7.55
A15: 군포 | B15: =VLOOKUP(A15,'2분기 과오평가'!$A$19:$M$58,11,0) -> 20303 | C15: =VLOOKUP(A15,'2분기 과오평가'!$A$19:$M$58,2,0) -> 10 | D15: =VLOOKUP(A15,'2분기 과오평가'!$A$19:$C$58,3,0) -> 13 | E15: =VLOOKUP(A15,'2분기 과오평가'!$A$19:$M$58,4,0) -> 0 | F15: =VLOOKUP(A15,'2분기 과오평가'!$A$19:$E$58,5,0) -> 6 | G15: =VLOOKUP(A15,'2분기 과오평가'!$A$19:$G$58,6,0) -> 0 | H15: =SUM(C15:G15) -> 29 | I15: =H15/B15% -> 0.14283603 | J15: =RANK(I15,$I$6:$I$45,1) -> 31 | K15: =VLOOKUP(J15,환산점수!$G$4:$H$43,2,0) -> 7.9
A16: 안양 | B16: =VLOOKUP(A16,'2분기 과오평가'!$A$19:$M$58,11,0) -> 28101 | C16: =VLOOKUP(A16,'2분기 과오평가'!$A$19:$M$58,2,0) -> 4 | D16: =VLOOKUP(A16,'2분기 과오평가'!$A$19:$C$58,3,0) -> 16 | E16: =VLOOKUP(A16,'2분기 과오평가'!$A$19:$M$58,4,0) -> 3 | F16: =VLOOKUP(A16,'2분기 과오평가'!$A$19:$E$58,5,0) -> 4 | G16: =VLOOKUP(A16,'2분기 과오평가'!$A$19:$G$58,6,0) -> 0 | H16: =SUM(C16:G16) -> 27 | I16: =H16/B16% -> 0.09608199 | J16: =RANK(I16,$I$6:$I$45,1) -> 23 | K16: =VLOOKUP(J16,환산점수!$G$4:$H$43,2,0) -> 8.46
A17: 성남 | B17: =VLOOKUP(A17,'2분기 과오평가'!$A$19:$M$58,11,0) -> 21787 | C17: =VLOOKUP(A17,'2분기 과오평가'!$A$19:$M$58,2,0) -> 4 | D17: =VLOOKUP(A17,'2분기 과오평가'!$A$19:$C$58,3,0) -> 13 | E17: =VLOOKUP(A17,'2분기 과오평가'!$A$19:$M$58,4,0) -> 0 | F17: =VLOOKUP(A17,'2분기 과오평가'!$A$19:$E$58,5,0) -> 1 | G17: =VLOOKUP(A17,'2분기 과오평가'!$A$19:$G$58,6,0) -> 0 | H17: =SUM(C17:G17) -> 18 | I17: =H17/B17% -> 0.082618075 | J17: =RANK(I17,$I$6:$I$45,1) -> 19 | K17: =VLOOKUP(J17,환산점수!$G$4:$H$43,2,0) -> 8.74
... A45: 구리 | B45: =VLOOKUP(A45,'2분기 과오평가'!$A$19:$M$58,11,0) -> 5868 | C45: =VLOOKUP(A45,'2분기 과오평가'!$A$19:$M$58,2,0) -> 0 | D45: =VLOOKUP(A45,'2분기 과오평가'!$A$19:$C$58,3,0) -> 1 | E45: =VLOOKUP(A45,'2분기 과오평가'!$A$19:$M$58,4,0) -> 0 | F45: =VLOOKUP(A45,'2분기 과오평가'!$A$19:$E$58,5,0) -> 1 | G45: =VLOOKUP(A45,'2분기 과오평가'!$A$19:$G$58,6,0) -> 0 | H45: =SUM(C45:G45) -> 2 | I45: =H45/B45% -> 0.034083163 | J45: =RANK(I45,$I$6:$I$45,1) -> 4 | K45: =VLOOKUP(J45,환산점수!$G$4:$H$43,2,0) -> 9.79

Sheet 환산점수
A3: 점유, 성장률(35) | D3: 달성율(20) | G3: 접수위반(10) | J3: 가중치 1 | M3: 가중매출액 점유비 구간
A4: 1 | B4: 35 | D4: 1 | E4: 20 | G4: 1 | H4: 10 | J4: 1 | K4: 1.5 | M4: 1 | N4: 10%이상국
A5: 2 | B5: 34.74 | D5: 2 | E5: 19.85 | G5: 2 | H5: 9.93 | J5: 2 | K5: 1.5 | M5: 2 | N5: 8%이상~10%미만
A6: 3 | B6: 34.78 | D6: 3 | E6: 19.7 | G6: 3 | H6: 9.86 | J6: 3 | K6: 1.5 | M6: 3 | N6: 7%이상~8%미만
A7: 4 | B7: 34.22 | D7: 4 | E7: 19.55 | G7: 4 | H7: 9.79 | J7: 4 | K7: 1.5 | M7: 4 | N7: 6%이상~7%미만
A8: 5 | B8: 33.96 | D8: 5 | E8: 19.4 | G8: 5 | H8: 9.72 | J8: 5 | K8: 1.5 | M8: 5 | N8: 5%이상~6%미만
A9: 6 | B9: 33.7 | D9: 6 | E9: 19.25 | G9: 6 | H9: 9.65 | J9: 6 | K9: 1.5 | M9: 6 | N9: 4%이상~5%미만
A10: 7 | B10: 33.44 | D10: 7 | E10: 19.1 | G10: 7 | H10: 9.58 | J10: 7 | K10: 1.5 | M10: 7 | N10: 3%이상~4%미만
A11: 8 | B11: 33.18 | D11: 8 | E11: 18.95 | G11: 8 | H11: 9.51 | J11: 8 | K11: 1.4 | M11: 8 | N11: 2%이상~3%미만
A12: 9 | B12: 32.92 | D12: 9 | E12: 18.8 | G12: 9 | H12: 9.44 | J12: 9 | K12: 1.4 | M12: 9 | N12: 1%이상~2%미만
A13: 10 | B13: 32.66 | D13: 10 | E13: 18.65 | G13: 10 | H13: 9.37 | J13: 10 | K13: 1.4
A14: 11 | B14: 32.4 | D14: 11 | E14: 18.5 | G14: 11 | H14: 9.3 | J14: 11 | K14: 1.4
A15: 12 | B15: 32.14 | D15: 12 | E15: 18.35 | G15: 12 | H15: 9.23 | J15: 12 | K15: 1.4
A16: 13 | B16: 31.88 | D16: 13 | E16: 18.2 | G16: 13 | H16: 9.16 | J16: 13 | K16: 1.4
A17: 14 | B17: 31.62 | D17: 14 | E17: 18.05 | G17: 14 | H17: 9.09 | J17: 14 | K17: 1.4
A18: 15 | B18: 31.36 | D18: 15 | E18: 17.9 | G18: 15 | H18: 9.02 | J18: 15 | K18: 1.3
A19: 16 | B19: 31.1 | D19: 16 | E19: 17.75 | G19: 16 | H19: 8.95 | J19: 16 | K19: 1.3
A20: 17 | B20: 30.84 | D20: 17 | E20: 17.6 | G20: 17 | H20: 8.88 | J20: 17 | K20: 1.3
A21: 18 | B21: 30.58 | D21: 18 | E21: 17.45 | G21: 18 | H21: 8.81 | J21: 18 | K21: 1.3
A22: 19 | B22: 30.32 | D22: 19 | E22: 17.3 | G22: 19 | H22: 8.74 | J22: 19 | K22: 1.3
A23: 20 | B23: 30.06 | D23: 20 | E23: 17.15 | G23: 20 | H23: 8.67 | J23: 20 | K23: 1.3
A24: 21 | B24: 29.8 | D24: 21 | E24: 17 | G24: 21 | H24: 8.6 | J24: 21 | K24: 1.3
... A43: 40 | B43: 24.86 | D43: 40 | E43: 14.15 | G43: 40 | H43: 7.27 | J43: 40 | K43: 1

Sheet 2015년도 실적
A1: 2015년도 국제우편사업실적
A2: (단위 : 원)
A3: 구분 | B3: 계 | D3: 1분기 | F3: 2분기 | H3: 3분기 | J3: 4분기
B4: 물수 | C4: 매출액 | D4: 물수 | E4: 매출액 | F4: 물수 | G4: 매출액 | H4: 물수 | I4: 매출액 | J4: 물수 | K4: 매출액
A5: 인천 | B5: =D5+F5+H5+J5 -> 387589 | C5: =E5+G5+I5+K5 -> 10191712960 | D5: 195301 | E5: 5294047080 | F5: 192288 | G5: 4897665880
A6: 서인천 | B6: =D6+F6+H6+J6 -> 72411 | C6: =E6+G6+I6+K6 -> 1437363460 | D6: 37110 | E6: 726939230 | F6: 35301 | G6: 710424230
A7: 남인천 | B7: =D7+F7+H7+J7 -> 150643 | C7: =E7+G7+I7+K7 -> 2323013260 | D7: 76890 | E7: 1390718720 | F7: 73753 | G7: 932294540
A8: 인천계양 | B8: =D8+F8+H8+J8 -> 127476 | C8: =E8+G8+I8+K8 -> 2132196470 | D8: 62708 | E8: 1126732110 | F8: 64768 | G8: 1005464360
A9: 고양일산 | B9: =D9+F9+H9+J9 -> 279714 | C9: =E9+G9+I9+K9 -> 3383829010 | D9: 137880 | E9: 1718815410 | F9: 141834 | G9: 1665013600
A10: 고양덕양 | B10: =D10+F10+H10+J10 -> 280385 | C10: =E10+G10+I10+K10 -> 2413875930 | D10: 124989 | E10: 1140637220 | F10: 155396 | G10: 1273238710
A11: 부천 | B11: =D11+F11+H11+J11 -> 145981 | C11: =E11+G11+I11+K11 -> 3326284860 | D11: 76713 | E11: 1755535410 | F11: 69268 | G11: 1570749450
A12: 부천우편집중국 | B12: =D12+F12+H12+J12 -> 2093 | C12: =E12+G12+I12+K12 -> 4667850 | D12: 1071 | E12: 2521650 | F12: 1022 | G12: 2146200
A13: 안산 | B13: =D13+F13+H13+J13 -> 98483 | C13: =E13+G13+I13+K13 -> 3266483170 | D13: 51318 | E13: 1719619320 | F13: 47165 | G13: 1546863850
A14: 시흥 | B14: =D14+F14+H14+J14 -> 57619 | C14: =E14+G14+I14+K14 -> 1820005870 | D14: 28797 | E14: 928921380 | F14: 28822 | G14: 891084490
A15: 안양 | B15: =D15+F15+H15+J15 -> 72545 | C15: =E15+G15+I15+K15 -> 2195873860 | D15: 37430 | E15: 1150507510 | F15: 35115 | G15: 1045366350
A16: 군포 | B16: =D16+F16+H16+J16 -> 58478 | C16: =E16+G16+I16+K16 -> 1296923870 | D16: 32988 | E16: 664199240 | F16: 25490 | G16: 632724630
... A45: 서수원 | B45: =D45+F45+H45+J45 -> 17654 | C45: =E45+G45+I45+K45 -> 616146870 | D45: 9330 | E45: 327393620 | F45: 8324 | G45: 288753250
A46: 계 | B46: =SUM(B5:B45) -> 3152952 | C46: =SUM(C5:C45) -> 68103417350 | D46: =SUM(D5:D45) -> 1574105 | E46: =SUM(E5:E45) -> 34866756910 | F46: =SUM(F5:F45) -> 1578847 | G46: =SUM(G5:G45) -> 33236660440 | H46: =SUM(H5:H45) -> 0 | I46: =SUM(I5:I45) -> 0 | ... K46: =SUM(K5:K45) -> 0

Sheet 2014년도 실적
A1: 2014년도 국제우편사업실적
A2: (단위 : 원)
A3: 구분 | B3: 계 | D3: 1분기 | F3: 2분기 | H3: 3분기 | J3: 4분기
B4: 물수 | C4: 매출액 | D4: 물수 | E4: 매출액 | F4: 물수 | G4: 매출액 | H4: 물수 | I4: 매출액 | J4: 물수 | K4: 매출액
A5: 인천 | B5: =D5+F5+H5+J5 -> 324001 | C5: =E5+G5+I5+K5 -> 5521065130 | D5: 60793 | E5: 1209847830 | F5: 71012 | G5: 1142832870 | H5: 89849 | I5: 1344149520 | J5: 102347 | K5: 1824234910
A6: 서인천 | B6: =D6+F6+H6+J6 -> 153544 | C6: =E6+G6+I6+K6 -> 3051705490 | D6: 39234 | E6: 791506880 | F6: 34540 | G6: 723519730 | H6: 34351 | I6: 705296550 | J6: 45419 | K6: 831382330
A7: 남인천 | B7: =D7+F7+H7+J7 -> 331023 | C7: =E7+G7+I7+K7 -> 5964625710 | D7: 89013 | E7: 1507047560 | F7: 86722 | G7: 1481170470 | H7: 74152 | I7: 1387882810 | J7: 81136 | K7: 1588524870
A8: 인천계양 | B8: =D8+F8+H8+J8 -> 232157 | C8: =E8+G8+I8+K8 -> 4529619790 | D8: 54489 | E8: 1112894600 | F8: 50665 | G8: 973606250 | H8: 58183 | I8: 1037713110 | J8: 68820 | K8: 1405405830
A9: 고양일산 | B9: =D9+F9+H9+J9 -> 659659 | C9: =E9+G9+I9+K9 -> 7676101560 | D9: 163519 | E9: 1894305460 | F9: 157208 | G9: 1736290680 | H9: 162863 | I9: 1919890750 | J9: 176069 | K9: 2125614670
A10: 고양덕양 | B10: =D10+F10+H10+J10 -> 453210 | C10: =E10+G10+I10+K10 -> 4277334730 | D10: 109841 | E10: 1026724310 | F10: 102491 | G10: 906630930 | H10: 112513 | I10: 1022427660 | J10: 128365 | K10: 1321551830
A11: 부천 | B11: =D11+F11+H11+J11 -> 329276 | C11: =E11+G11+I11+K11 -> 6606649040 | D11: 88114 | E11: 1707971670 | F11: 77341 | G11: 1508232950 | H11: 71481 | I11: 1482347570 | J11: 92340 | K11: 1908096850
A12: 부천우편집중국 | B12: =D12+F12+H12+J12 -> 1721 | C12: =E12+G12+I12+K12 -> 3614100 | D12: 0 | E12: 0 | F12: 0 | G12: 0 | H12: 692 | I12: 1453200 | J12: 1029 | K12: 2160900
A13: 안산 | B13: =D13+F13+H13+J13 -> 179790 | C13: =E13+G13+I13+K13 -> 5898366060 | D13: 40782 | E13: 1301209750 | F13: 41545 | G13: 1348084860 | H13: 41505 | I13: 1450237210 | J13: 55958 | K13: 1798834240
A14: 시흥 | B14: =D14+F14+H14+J14 -> 97057 | C14: =E14+G14+I14+K14 -> 3340610500 | D14: 21450 | E14: 699483330 | F14: 21271 | G14: 760957280 | H14: 21853 | I14: 786912330 | J14: 32483 | K14: 1093257560
A15: 안양 | B15: =D15+F15+H15+J15 -> 165556 | C15: =E15+G15+I15+K15 -> 4681179850 | D15: 41453 | E15: 1161646260 | F15: 39576 | G15: 1049809080 | H15: 32890 | I15: 1026548130 | J15: 51637 | K15: 1443176380
A16: 군포 | B16: =D16+F16+H16+J16 -> 134748 | C16: =E16+G16+I16+K16 -> 2839921520 | D16: 30091 | E16: 732830420 | F16: 31666 | G16: 672474180 | H16: 33346 | I16: 643686040 | J16: 39645 | K16: 790930880
... A46: 서수원 | B46: =D46+F46+H46+J46 -> 26704 | C46: =E46+G46+I46+K46 -> 921448190 | D46: 5530 | E46: 196610760 | F46: 5761 | G46: 182370280 | H46: 5775 | I46: 189212200 | J46: 9638 | K46: 353254950
A47: 계 | B47: =SUM(B5:B46) -> 6246636 | C47: =SUM(C5:C46) -> 129267815540 | D47: =SUM(D5:D46) -> 1535875 | E47: =SUM(E5:E46) -> 30803240140 | F47: =SUM(F5:F46) -> 1468407 | G47: =SUM(G5:G46) -> 29298786570 | H47: =SUM(H5:H46) -> 1459995 | I47: =SUM(I5:I46) -> 29904060750 | ... K47: =SUM(K5:K46) -> 39261728080

Sheet 2분기 과오평가
A1: 국제우편 과오취급 평가내역
A2: 기간 : 2015년 2분기 | M2: (단위 : 건, %)
A3: 청명 | B3: 접수위반(과오발생) 내역 | H3: 국제우편 접수물량 | L3: 과오율 | M3: 순위
B4: 번호오입력 | C4: 약호오입력 | D4: 접수누락 | E4: 중량상이 | F4: 취급불가 | G4: 총합계 | H4: 국제등기 | I4: EMS | J4: 국제소포 | K4: 접수물량계
A5: 합계 | B5: =SUM(B6:B14) -> 492 | C5: =SUM(C6:C14) -> 1494 | D5: =SUM(D6:D14) -> 434 | E5: =SUM(E6:E14) -> 488 | F5: =SUM(F6:F14) -> 6 | G5: =SUM(B5:F5) -> 2914 | H5: =SUM(H6:H14) -> 733862 | I5: =SUM(I6:I14) -> 2583664 | J5: =SUM(J6:J14) -> 137133 | K5: =SUM(H5:J5) -> 3454659 | L5: =G5/K5*100 -> 0.084349859
A6: 서울 | B6: 91 | C6: 429 | D6: 222 | E6: 122 | F6: 2 | G6: =SUM(B6:F6) -> 866 | H6: =VLOOKUP(A6,[1]접수물량2분기!$A$53:$G$61,2,0) -> 331424 | I6: =VLOOKUP(A6,[1]접수물량2분기!$A$53:$G$61,4,0) -> 1207874 | J6: =VLOOKUP(A6,[1]접수물량2분기!$A$53:$G$61,6,0) -> 52578 | K6: =SUM(H6:J6) -> 1591876 | L6: =G6/K6*100 -> 0.054401222 | M6: =RANK(L6,$L$6:$L$14,1) -> 2
A7: 경인 | B7: 140 | C7: 494 | D7: 94 | E7: 136 | F7: 3 | G7: =SUM(B7:F7) -> 867 | H7: =VLOOKUP(A7,[1]접수물량2분기!$A$53:$G$61,2,0) -> 256546 | I7: =VLOOKUP(A7,[1]접수물량2분기!$A$53:$G$61,4,0) -> 737352 | J7: =VLOOKUP(A7,[1]접수물량2분기!$A$53:$G$61,6,0) -> 44025 | K7: =SUM(H7:J7) -> 1037923 | L7: =G7/K7*100 -> 0.083532208 | M7: =RANK(L7,$L$6:$L$14,1) -> 3
A8: 부산 | B8: 87 | C8: 259 | D8: 38 | E8: 101 | F8: 0 | G8: =SUM(B8:F8) -> 485 | H8: =VLOOKUP(A8,[1]접수물량2분기!$A$53:$G$61,2,0) -> 74241 | I8: =VLOOKUP(A8,[1]접수물량2분기!$A$53:$G$61,4,0) -> 214584 | J8: =VLOOKUP(A8,[1]접수물량2분기!$A$53:$G$61,6,0) -> 14412 | K8: =SUM(H8:J8) -> 303237 | L8: =G8/K8*100 -> 0.1599409 | M8: =RANK(L8,$L$6:$L$14,1) -> 9
A9: 충청 | B9: 69 | C9: 96 | D9: 26 | E9: 46 | F9: 1 | G9: =SUM(B9:F9) -> 238 | H9: =VLOOKUP(A9,[1]접수물량2분기!$A$53:$G$61,2,0) -> 19933 | I9: =VLOOKUP(A9,[1]접수물량2분기!$A$53:$G$61,4,0) -> 153843 | J9: =VLOOKUP(A9,[1]접수물량2분기!$A$53:$G$61,6,0) -> 8573 | K9: =SUM(H9:J9) -> 182349 | L9: =G9/K9*100 -> 0.13051895 | M9: =RANK(L9,$L$6:$L$14,1) -> 6
A10: 전남 | B10: 28 | C10: 55 | D10: 12 | E10: 22 | F10: 0 | G10: =SUM(B10:F10) -> 117 | H10: =VLOOKUP(A10,[1]접수물량2분기!$A$53:$G$61,2,0) -> 4900 | I10: =VLOOKUP(A10,[1]접수물량2분기!$A$53:$G$61,4,0) -> 64493 | J10: =VLOOKUP(A10,[1]접수물량2분기!$A$53:$G$61,6,0) -> 3844 | K10: =SUM(H10:J10) -> 73237 | L10: =G10/K10*100 -> 0.15975531 | M10: =RANK(L10,$L$6:$L$14,1) -> 8
A11: 경북 | B11: 47 | C11: 132 | D11: 33 | E11: 47 | F11: 0 | G11: =SUM(B11:F11) -> 259 | H11: =VLOOKUP(A11,[1]접수물량2분기!$A$53:$G$61,2,0) -> 39727 | I11: =VLOOKUP(A11,[1]접수물량2분기!$A$53:$G$61,4,0) -> 116422 | J11: =VLOOKUP(A11,[1]접수물량2분기!$A$53:$G$61,6,0) -> 8536 | K11: =SUM(H11:J11) -> 164685 | L11: =G11/K11*100 -> 0.15726994 | M11: =RANK(L11,$L$6:$L$14,1) -> 7
A12: 전북 | B12: 23 | C12: 16 | D12: 3 | E12: 8 | F12: 0 | G12: =SUM(B12:F12) -> 50 | H12: =VLOOKUP(A12,[1]접수물량2분기!$A$53:$G$61,2,0) -> 2675 | I12: =VLOOKUP(A12,[1]접수물량2분기!$A$53:$G$61,4,0) -> 46009 | J12: =VLOOKUP(A12,[1]접수물량2분기!$A$53:$G$61,6,0) -> 1882 | K12: =SUM(H12:J12) -> 50566 | L12: =G12/K12*100 -> 0.098880671 | M12: =RANK(L12,$L$6:$L$14,1) -> 5
A13: 강원 | B13: 3 | C13: 4 | D13: 5 | E13: 0 | F13: 0 | G13: =SUM(B13:F13) -> 12 | H13: =VLOOKUP(A13,[1]접수물량2분기!$A$53:$G$61,2,0) -> 3037 | I13: =VLOOKUP(A13,[1]접수물량2분기!$A$53:$G$61,4,0) -> 23739 | J13: =VLOOKUP(A13,[1]접수물량2분기!$A$53:$G$61,6,0) -> 1992 | K13: =SUM(H13:J13) -> 28768 | L13: =G13/K13*100 -> 0.041713014 | M13: =RANK(L13,$L$6:$L$14,1) -> 1
A14: 제주 | B14: 4 | C14: 9 | D14: 1 | E14: 6 | F14: 0 | G14: =SUM(B14:F14) -> 20 | H14: =VLOOKUP(A14,[1]접수물량2분기!$A$53:$G$61,2,0) -> 1379 | I14: =VLOOKUP(A14,[1]접수물량2분기!$A$53:$G$61,4,0) -> 19348 | J14: =VLOOKUP(A14,[1]접수물량2분기!$A$53:$G$61,6,0) -> 1291 | K14: =SUM(H14:J14) -> 22018 | L14: =G14/K14*100 -> 0.090834772 | M14: =RANK(L14,$L$6:$L$14,1) -> 4
A16: 총괄국명 | B16: 접수위반(과오발생) 내역 | H16: 국제우편 접수물량 | L16: 과오율 | M16: 순위
B17: 번호오입력 | C17: 약호오입력 | D17: 접수누락 | E17: 중량상이 | F17: 취급불가 | G17: 총합계 | H17: 국제등기 | I17: EMS | J17: 국제소포 | K17: 접수물량계
A18: 합계 | B18: =SUM(B19:B58) -> 140 | C18: =SUM(C19:C58) -> 494 | D18: =SUM(D19:D58) -> 94 | E18: =SUM(E19:E58) -> 136 | F18: =SUM(F19:F58) -> 3 | G18: =SUM(G19:G58) -> 867 | H18: =SUM(H19:H58) -> 256546 | I18: =SUM(I19:I58) -> 737352 | ... K18: =SUM(K19:K58) -> 1037923 | L18: =G18/K18*100 -> 0.083532208 | M18: -
A19: 가평 | B19: 1 | C19: 4 | G19: =SUM(B19:F19) -> 5 | H19: =VLOOKUP(A19,[1]접수물량2분기!$A$3:$H$50,2,0) -> 194 | I19: =VLOOKUP(A19,[1]접수물량2분기!$A$3:$G$49,4,0) -> 1269 | J19: =VLOOKUP(A19,[1]접수물량2분기!$A$3:$H$50,6,0) -> 196 | K19: =SUM(H19:J19) -> 1659 | L19: =G19/K19*100 -> 0.30138638 | M19: =RANK(L19,$L$19:$L$58,1) -> 40
A20: 연천 | B20: 2 | G20: =SUM(B20:F20) -> 2 | H20: =VLOOKUP(A20,[1]접수물량2분기!$A$3:$H$50,2,0) -> 11 | I20: =VLOOKUP(A20,[1]접수물량2분기!$A$3:$G$49,4,0) -> 583 | J20: =VLOOKUP(A20,[1]접수물량2분기!$A$3:$H$50,6,0) -> 72 | K20: =SUM(H20:J20) -> 666 | L20: =G20/K20*100 -> 0.3003003 | M20: =RANK(L20,$L$19:$L$58,1) -> 39
A21: 여주 | B21: 3 | C21: 2 | D21: 1 | G21: =SUM(B21:F21) -> 6 | H21: =VLOOKUP(A21,[1]접수물량2분기!$A$3:$H$50,2,0) -> 34 | I21: =VLOOKUP(A21,[1]접수물량2분기!$A$3:$G$49,4,0) -> 1848 | J21: =VLOOKUP(A21,[1]접수물량2분기!$A$3:$H$50,6,0) -> 148 | K21: =SUM(H21:J21) -> 2030 | L21: =G21/K21*100 -> 0.2955665 | M21: =RANK(L21,$L$19:$L$58,1) -> 38
A22: 의정부 | B22: 11 | C22: 16 | D22: 2 | E22: 1 | G22: =SUM(B22:F22) -> 30 | H22: =VLOOKUP(A22,[1]접수물량2분기!$A$3:$H$50,2,0) -> 3509 | I22: =VLOOKUP(A22,[1]접수물량2분기!$A$3:$G$49,4,0) -> 11848 | J22: =VLOOKUP(A22,[1]접수물량2분기!$A$3:$H$50,6,0) -> 1216 | K22: =SUM(H22:J22) -> 16573 | L22: =G22/K22*100 -> 0.18101732 | M22: =RANK(L22,$L$19:$L$58,1) -> 37
A23: 서수원 | B23: 3 | C23: 7 | E23: 3 | G23: =SUM(B23:F23) -> 13 | H23: =VLOOKUP(A23,[1]접수물량2분기!$A$3:$H$50,2,0) -> 357 | I23: =VLOOKUP(A23,[1]접수물량2분기!$A$3:$G$49,4,0) -> 6495 | J23: =VLOOKUP(A23,[1]접수물량2분기!$A$3:$H$50,6,0) -> 346 | K23: =SUM(H23:J23) -> 7198 | L23: =G23/K23*100 -> 0.18060572 | M23: =RANK(L23,$L$19:$L$58,1) -> 36
A24: 화성 | B24: 12 | C24: 17 | D24: 8 | E24: 6 | G24: =SUM(B24:F24) -> 43 | H24: =VLOOKUP(A24,[1]접수물량2분기!$A$3:$H$50,2,0) -> 1736 | I24: =VLOOKUP(A24,[1]접수물량2분기!$A$3:$G$49,4,0) -> 21519 | J24: =VLOOKUP(A24,[1]접수물량2분기!$A$3:$H$50,6,0) -> 1194 | K24: =SUM(H24:J24) -> 24449 | L24: =G24/K24*100 -> 0.17587631 | M24: =RANK(L24,$L$19:$L$58,1) -> 35
A25: 안산 | B25: 6 | C25: 16 | D25: 33 | E25: 13 | G25: =SUM(B25:F25) -> 68 | H25: =VLOOKUP(A25,[1]접수물량2분기!$A$3:$H$50,2,0) -> 4123 | I25: =VLOOKUP(A25,[1]접수물량2분기!$A$3:$G$49,4,0) -> 39212 | J25: =VLOOKUP(A25,[1]접수물량2분기!$A$3:$H$50,6,0) -> 1429 | K25: =SUM(H25:J25) -> 44764 | L25: =G25/K25*100 -> 0.15190778 | M25: =RANK(L25,$L$19:$L$58,1) -> 34
A26: 포천 | B26: 3 | C26: 6 | G26: =SUM(B26:F26) -> 9 | H26: =VLOOKUP(A26,[1]접수물량2분기!$A$3:$H$50,2,0) -> 41 | I26: =VLOOKUP(A26,[1]접수물량2분기!$A$3:$G$49,4,0) -> 5751 | J26: =VLOOKUP(A26,[1]접수물량2분기!$A$3:$H$50,6,0) -> 362 | K26: =SUM(H26:J26) -> 6154 | L26: =G26/K26*100 -> 0.14624634 | M26: =RANK(L26,$L$19:$L$58,1) -> 33
A27: 남양주 | B27: 4 | C27: 17 | D27: 1 | E27: 3 | G27: =SUM(B27:F27) -> 25 | H27: =VLOOKUP(A27,[1]접수물량2분기!$A$3:$H$50,2,0) -> 4245 | I27: =VLOOKUP(A27,[1]접수물량2분기!$A$3:$G$49,4,0) -> 11849 | J27: =VLOOKUP(A27,[1]접수물량2분기!$A$3:$H$50,6,0) -> 1388 | K27: =SUM(H27:J27) -> 17482 | L27: =G27/K27*100 -> 0.14300423 | M27: =RANK(L27,$L$19:$L$58,1) -> 32
A28: 군포 | B28: 10 | C28: 13 | E28: 6 | G28: =SUM(B28:F28) -> 29 | H28: =VLOOKUP(A28,[1]접수물량2분기!$A$3:$H$50,2,0) -> 7134 | I28: =VLOOKUP(A28,[1]접수물량2분기!$A$3:$G$49,4,0) -> 11874 | J28: =VLOOKUP(A28,[1]접수물량2분기!$A$3:$H$50,6,0) -> 1295 | K28: =SUM(H28:J28) -> 20303 | L28: =G28/K28*100 -> 0.14283603 | M28: =RANK(L28,$L$19:$L$58,1) -> 31
A29: 오산 | B29: 5 | C29: 4 | E29: 2 | G29: =SUM(B29:F29) -> 11 | H29: =VLOOKUP(A29,[1]접수물량2분기!$A$3:$H$50,2,0) -> 345 | I29: =VLOOKUP(A29,[1]접수물량2분기!$A$3:$G$49,4,0) -> 7375 | J29: =VLOOKUP(A29,[1]접수물량2분기!$A$3:$H$50,6,0) -> 243 | K29: =SUM(H29:J29) -> 7963 | L29: =G29/K29*100 -> 0.13813889 | M29: =RANK(L29,$L$19:$L$58,1) -> 30
A30: 안성 | B30: 2 | C30: 5 | E30: 2 | G30: =SUM(B30:F30) -> 9 | H30: =VLOOKUP(A30,[1]접수물량2분기!$A$3:$H$50,2,0) -> 308 | I30: =VLOOKUP(A30,[1]접수물량2분기!$A$3:$G$49,4,0) -> 6827 | J30: =VLOOKUP(A30,[1]접수물량2분기!$A$3:$H$50,6,0) -> 311 | K30: =SUM(H30:J30) -> 7446 | L30: =G30/K30*100 -> 0.12087027 | M30: =RANK(L30,$L$19:$L$58,1) -> 29
A31: 수원 | B31: 5 | C31: 13 | E31: 5 | G31: =SUM(B31:F31) -> 23 | H31: =VLOOKUP(A31,[1]접수물량2분기!$A$3:$H$50,2,0) -> 1883 | I31: =VLOOKUP(A31,[1]접수물량2분기!$A$3:$G$49,4,0) -> 16564 | J31: =VLOOKUP(A31,[1]접수물량2분기!$A$3:$H$50,6,0) -> 948 | K31: =SUM(H31:J31) -> 19395 | L31: =G31/K31*100 -> 0.11858726 | M31: =RANK(L31,$L$19:$L$58,1) -> 28
A32: 부천 | B32: 13 | C32: 28 | D32: 3 | E32: 11 | G32: =SUM(B32:F32) -> 55 | H32: =VLOOKUP(A32,[1]접수물량2분기!$A$3:$H$50,2,0) -> 13025 | I32: =VLOOKUP(A32,[1]접수물량2분기!$A$3:$G$49,4,0) -> 32209 | J32: =VLOOKUP(A32,[1]접수물량2분기!$A$3:$H$50,6,0) -> 2168 | K32: =SUM(H32:J32) -> 47402 | L32: =G32/K32*100 -> 0.11602886 | M32: =RANK(L32,$L$19:$L$58,1) -> 27
A33: 남인천 | B33: 10 | C33: 17 | D33: 4 | E33: 11 | G33: =SUM(B33:F33) -> 42 | H33: =VLOOKUP(A33,[1]접수물량2분기!$A$3:$H$50,2,0) -> 11671 | I33: =VLOOKUP(A33,[1]접수물량2분기!$A$3:$G$49,4,0) -> 25183 | J33: =VLOOKUP(A33,[1]접수물량2분기!$A$3:$H$50,6,0) -> 1533 | K33: =SUM(H33:J33) -> 38387 | L33: =G33/K33*100 -> 0.10941204 | M33: =RANK(L33,$L$19:$L$58,1) -> 26
A34: 파주 | B34: 4 | C34: 18 | D34: 1 | E34: 8 | F34: 1 | G34: =SUM(B34:F34) -> 32 | H34: =VLOOKUP(A34,[1]접수물량2분기!$A$3:$H$50,2,0) -> 6541 | I34: =VLOOKUP(A34,[1]접수물량2분기!$A$3:$G$49,4,0) -> 20816 | J34: =VLOOKUP(A34,[1]접수물량2분기!$A$3:$H$50,6,0) -> 2301 | K34: =SUM(H34:J34) -> 29658 | L34: =G34/K34*100 -> 0.10789669 | M34: =RANK(L34,$L$19:$L$58,1) -> 25
A35: 고양덕양 | B35: 3 | C35: 39 | D35: 5 | E35: 2 | G35: =SUM(B35:F35) -> 49 | H35: =VLOOKUP(A35,[1]접수물량2분기!$A$3:$H$50,2,0) -> 34864 | I35: =VLOOKUP(A35,[1]접수물량2분기!$A$3:$G$49,4,0) -> 9993 | J35: =VLOOKUP(A35,[1]접수물량2분기!$A$3:$H$50,6,0) -> 3551 | K35: =SUM(H35:J35) -> 48408 | L35: =G35/K35*100 -> 0.10122294 | M35: =RANK(L35,$L$19:$L$58,1) -> 24
A36: 안양 | B36: 4 | C36: 16 | D36: 3 | E36: 4 | G36: =SUM(B36:F36) -> 27 | H36: =VLOOKUP(A36,[1]접수물량2분기!$A$3:$H$50,2,0) -> 4617 | I36: =VLOOKUP(A36,[1]접수물량2분기!$A$3:$G$49,4,0) -> 21657 | J36: =VLOOKUP(A36,[1]접수물량2분기!$A$3:$H$50,6,0) -> 1827 | K36: =SUM(H36:J36) -> 28101 | L36: =G36/K36*100 -> 0.09608199 | M36: =RANK(L36,$L$19:$L$58,1) -> 23
A37: 광명 | B37: 2 | C37: 18 | D37: 6 | E37: 9 | G37: =SUM(B37:F37) -> 35 | H37: =VLOOKUP(A37,[1]접수물량2분기!$A$3:$H$50,2,0) -> 4113 | I37: =VLOOKUP(A37,[1]접수물량2분기!$A$3:$G$49,4,0) -> 32554 | J37: =VLOOKUP(A37,[1]접수물량2분기!$A$3:$H$50,6,0) -> 905 | K37: =SUM(H37:J37) -> 37572 | L37: =G37/K37*100 -> 0.093154477 | M37: =RANK(L37,$L$19:$L$58,1) -> 22
A38: 동두천 | B38: 2 | C38: 4 | G38: =SUM(B38:F38) -> 6 | H38: =VLOOKUP(A38,[1]접수물량2분기!$A$3:$H$50,2,0) -> 2155 | I38: =VLOOKUP(A38,[1]접수물량2분기!$A$3:$G$49,4,0) -> 4068 | J38: =VLOOKUP(A38,[1]접수물량2분기!$A$3:$H$50,6,0) -> 458 | K38: =SUM(H38:J38) -> 6681 | L38: =G38/K38*100 -> 0.089806915 | M38: =RANK(L38,$L$19:$L$58,1) -> 21
A39: 성남분당 | B39: 1 | C39: 32 | D39: 1 | F39: 1 | G39: =SUM(B39:F39) -> 35 | H39: =VLOOKUP(A39,[1]접수물량2분기!$A$3:$H$50,2,0) -> 15810 | I39: =VLOOKUP(A39,[1]접수물량2분기!$A$3:$G$49,4,0) -> 22179 | J39: =VLOOKUP(A39,[1]접수물량2분기!$A$3:$H$50,6,0) -> 3097 | K39: =SUM(H39:J39) -> 41086 | L39: =G39/K39*100 -> 0.085187168 | M39: =RANK(L39,$L$19:$L$58,1) -> 20
A40: 성남 | B40: 4 | C40: 13 | E40: 1 | G40: =SUM(B40:F40) -> 18 | H40: =VLOOKUP(A40,[1]접수물량2분기!$A$3:$H$50,2,0) -> 3774 | I40: =VLOOKUP(A40,[1]접수물량2분기!$A$3:$G$49,4,0) -> 17026 | J40: =VLOOKUP(A40,[1]접수물량2분기!$A$3:$H$50,6,0) -> 987 | K40: =SUM(H40:J40) -> 21787 | L40: =G40/K40*100 -> 0.082618075 | M40: =RANK(L40,$L$19:$L$58,1) -> 19
A41: 용인수지 | B41: 4 | C41: 22 | D41: 8 | E41: 1 | G41: =SUM(B41:F41) -> 35 | H41: =VLOOKUP(A41,[1]접수물량2분기!$A$3:$H$50,2,0) -> 21914 | I41: =VLOOKUP(A41,[1]접수물량2분기!$A$3:$G$49,4,0) -> 16964 | J41: =VLOOKUP(A41,[1]접수물량2분기!$A$3:$H$50,6,0) -> 3697 | K41: =SUM(H41:J41) -> 42575 | L41: =G41/K41*100 -> 0.082207868 | M41: =RANK(L41,$L$19:$L$58,1) -> 18
A42: 부평 | B42: 4 | C42: 8 | D42: 1 | E42: 4 | F42: 1 | G42: =SUM(B42:F42) -> 18 | H42: =VLOOKUP(A42,[1]접수물량2분기!$A$3:$H$50,2,0) -> 4889 | I42: =VLOOKUP(A42,[1]접수물량2분기!$A$3:$G$49,4,0) -> 16505 | J42: =VLOOKUP(A42,[1]접수물량2분기!$A$3:$H$50,6,0) -> 945 | K42: =SUM(H42:J42) -> 22339 | L42: =G42/K42*100 -> 0.08057657 | M42: =RANK(L42,$L$19:$L$58,1) -> 17
A43: 동수원 | B43: 4 | C43: 7 | D43: 3 | E43: 1 | G43: =SUM(B43:F43) -> 15 | H43: =VLOOKUP(A43,[1]접수물량2분기!$A$3:$H$50,2,0) -> 3638 | I43: =VLOOKUP(A43,[1]접수물량2분기!$A$3:$G$49,4,0) -> 13865 | J43: =VLOOKUP(A43,[1]접수물량2분기!$A$3:$H$50,6,0) -> 1245 | K43: =SUM(H43:J43) -> 18748 | L43: =G43/K43*100 -> 0.080008534 | M43: =RANK(L43,$L$19:$L$58,1) -> 16
A44: 양평 | B44: 1 | C44: 3 | G44: =SUM(B44:F44) -> 4 | H44: =VLOOKUP(A44,[1]접수물량2분기!$A$3:$H$50,2,0) -> 2798 | I44: =VLOOKUP(A44,[1]접수물량2분기!$A$3:$G$49,4,0) -> 2005 | J44: =VLOOKUP(A44,[1]접수물량2분기!$A$3:$H$50,6,0) -> 235 | K44: =SUM(H44:J44) -> 5038 | L44: =G44/K44*100 -> 0.079396586 | M44: =RANK(L44,$L$19:$L$58,1) -> 15
A45: 시흥 | B45: 3 | C45: 8 | D45: 3 | E45: 5 | G45: =SUM(B45:F45) -> 19 | H45: =VLOOKUP(A45,[1]접수물량2분기!$A$3:$H$50,2,0) -> 2656 | I45: =VLOOKUP(A45,[1]접수물량2분기!$A$3:$G$49,4,0) -> 21422 | J45: =VLOOKUP(A45,[1]접수물량2분기!$A$3:$H$50,6,0) -> 570 | K45: =SUM(H45:J45) -> 24648 | L45: =G45/K45*100 -> 0.077085362 | M45: =RANK(L45,$L$19:$L$58,1) -> 14
A46: 이천 | C46: 4 | G46: =SUM(B46:F46) -> 4 | H46: =VLOOKUP(A46,[1]접수물량2분기!$A$3:$H$50,2,0) -> 20 | I46: =VLOOKUP(A46,[1]접수물량2분기!$A$3:$G$49,4,0) -> 5098 | J46: =VLOOKUP(A46,[1]접수물량2분기!$A$3:$H$50,6,0) -> 245 | K46: =SUM(H46:J46) -> 5363 | L46: =G46/K46*100 -> 0.07458512 | M46: =RANK(L46,$L$19:$L$58,1) -> 13
A47: 강화 | C47: 1 | G47: =SUM(B47:F47) -> 1 | H47: =VLOOKUP(A47,[1]접수물량2분기!$A$3:$H$50,2,0) -> 63 | I47: =VLOOKUP(A47,[1]접수물량2분기!$A$3:$G$49,4,0) -> 1207 | J47: =VLOOKUP(A47,[1]접수물량2분기!$A$3:$H$50,6,0) -> 129 | K47: =SUM(H47:J47) -> 1399 | L47: =G47/K47*100 -> 0.071479628 | M47: =RANK(L47,$L$19:$L$58,1) -> 12
A48: 경기광주 | C48: 3 | D48: 1 | E48: 4 | G48: =SUM(B48:F48) -> 8 | H48: =VLOOKUP(A48,[1]접수물량2분기!$A$3:$H$50,2,0) -> 1357 | I48: =VLOOKUP(A48,[1]접수물량2분기!$A$3:$G$49,4,0) -> 9346 | J48: =VLOOKUP(A48,[1]접수물량2분기!$A$3:$H$50,6,0) -> 547 | K48: =SUM(H48:J48) -> 11250 | L48: =G48/K48*100 -> 0.071111111 | M48: =RANK(L48,$L$19:$L$58,1) -> 11
A49: 하남 | B49: 2 | C49: 18 | D49: 3 | E49: 7 | G49: =SUM(B49:F49) -> 30 | H49: =VLOOKUP(A49,[1]접수물량2분기!$A$3:$H$50,2,0) -> 41094 | I49: =VLOOKUP(A49,[1]접수물량2분기!$A$3:$G$49,4,0) -> 9475 | J49: =VLOOKUP(A49,[1]접수물량2분기!$A$3:$H$50,6,0) -> 1208 | K49: =SUM(H49:J49) -> 51777 | L49: =G49/K49*100 -> 0.057940785 | M49: =RANK(L49,$L$19:$L$58,1) -> 10
A50: 평택 | B50: 1 | C50: 8 | G50: =SUM(B50:F50) -> 9 | H50: =VLOOKUP(A50,[1]접수물량2분기!$A$3:$H$50,2,0) -> 1547 | I50: =VLOOKUP(A50,[1]접수물량2분기!$A$3:$G$49,4,0) -> 13129 | J50: =VLOOKUP(A50,[1]접수물량2분기!$A$3:$H$50,6,0) -> 889 | K50: =SUM(H50:J50) -> 15565 | L50: =G50/K50*100 -> 0.057822037 | M50: =RANK(L50,$L$19:$L$58,1) -> 9
A51: 서인천 | C51: 6 | D51: 1 | E51: 3 | G51: =SUM(B51:F51) -> 10 | H51: =VLOOKUP(A51,[1]접수물량2분기!$A$3:$H$50,2,0) -> 3215 | I51: =VLOOKUP(A51,[1]접수물량2분기!$A$3:$G$49,4,0) -> 13610 | J51: =VLOOKUP(A51,[1]접수물량2분기!$A$3:$H$50,6,0) -> 874 | K51: =SUM(H51:J51) -> 17699 | L51: =G51/K51*100 -> 0.056500367 | M51: =RANK(L51,$L$19:$L$58,1) -> 8
A52: 고양일산 | C52: 21 | D52: 1 | E52: 2 | G52: =SUM(B52:F52) -> 24 | H52: =VLOOKUP(A52,[1]접수물량2분기!$A$3:$H$50,2,0) -> 17570 | I52: =VLOOKUP(A52,[1]접수물량2분기!$A$3:$G$49,4,0) -> 22783 | J52: =VLOOKUP(A52,[1]접수물량2분기!$A$3:$H$50,6,0) -> 2725 | K52: =SUM(H52:J52) -> 43078 | L52: =G52/K52*100 -> 0.055712893 | M52: =RANK(L52,$L$19:$L$58,1) -> 7
A53: 인천계양 | B53: 1 | C53: 20 | D53: 3 | E53: 2 | G53: =SUM(B53:F53) -> 26 | H53: =VLOOKUP(A53,[1]접수물량2분기!$A$3:$H$50,2,0) -> 7158 | I53: =VLOOKUP(A53,[1]접수물량2분기!$A$3:$G$49,4,0) -> 39688 | J53: =VLOOKUP(A53,[1]접수물량2분기!$A$3:$H$50,6,0) -> 503 | K53: =SUM(H53:J53) -> 47349 | L53: =G53/K53*100 -> 0.054911403 | M53: =RANK(L53,$L$19:$L$58,1) -> 6
A54: 인천 | B54: 7 | C54: 42 | D54: 2 | E54: 19 | G54: =SUM(B54:F54) -> 70 | H54: =VLOOKUP(A54,[1]접수물량2분기!$A$3:$H$50,2,0) -> 3603 | I54: =VLOOKUP(A54,[1]접수물량2분기!$A$3:$G$49,4,0) -> 154054 | J54: =VLOOKUP(A54,[1]접수물량2분기!$A$3:$H$50,6,0) -> 1694 | K54: =SUM(H54:J54) -> 159351 | L54: =G54/K54*100 -> 0.043928184 | M54: =RANK(L54,$L$19:$L$58,1) -> 5
A55: 구리 | C55: 1 | E55: 1 | G55: =SUM(B55:F55) -> 2 | H55: =VLOOKUP(A55,[1]접수물량2분기!$A$3:$H$50,2,0) -> 1436 | I55: =VLOOKUP(A55,[1]접수물량2분기!$A$3:$G$49,4,0) -> 3982 | J55: =VLOOKUP(A55,[1]접수물량2분기!$A$3:$H$50,6,0) -> 450 | K55: =SUM(H55:J55) -> 5868 | L55: =G55/K55*100 -> 0.034083163 | M55: =RANK(L55,$L$19:$L$58,1) -> 4
A56: 김포 | B56: 1 | C56: 16 | G56: =SUM(B56:F56) -> 17 | H56: =VLOOKUP(A56,[1]접수물량2분기!$A$3:$H$50,2,0) -> 18447 | I56: =VLOOKUP(A56,[1]접수물량2분기!$A$3:$G$49,4,0) -> 54452 | J56: =VLOOKUP(A56,[1]접수물량2분기!$A$3:$H$50,6,0) -> 1048 | K56: =SUM(H56:J56) -> 73947 | L56: =G56/K56*100 -> 0.022989438 | M56: =RANK(L56,$L$19:$L$58,1) -> 3
A57: 용인 | B57: 2 | C57: 1 | G57: =SUM(B57:F57) -> 3 | H57: =VLOOKUP(A57,[1]접수물량2분기!$A$3:$H$50,2,0) -> 4648 | I57: =VLOOKUP(A57,[1]접수물량2분기!$A$3:$G$49,4,0) -> 11057 | J57: =VLOOKUP(A57,[1]접수물량2분기!$A$3:$H$50,6,0) -> 1044 | K57: =SUM(H57:J57) -> 16749 | L57: =G57/K57*100 -> 0.017911517 | M57: =RANK(L57,$L$19:$L$58,1) -> 2
A58: 백령 | G58: =SUM(B58:F58) -> 0 | H58: =VLOOKUP(A58,[1]접수물량2분기!$A$3:$H$50,2,0) -> 3 | I58: =VLOOKUP(A58,[1]접수물량2분기!$A$3:$G$49,4,0) -> 11 | J58: =VLOOKUP(A58,[1]접수물량2분기!$A$3:$H$50,6,0) -> 2 | K58: =SUM(H58:J58) -> 16 | L58: =G58/K58*100 -> 0 | M58: =RANK(L58,$L$19:$L$58,1) -> 1

Sheet 2015년도 목표
A1: 2015년도 국제우편사업 목표
C3: (단위 : 백만원)
A4: 총괄국 | B4: 2015년도 목표 | C4: 비고
A6: 합 계 | B6: =SUM(B7:B46) -> 141578000
A7: 인천 | B7: =[2]국제사업!E7 -> 19429000
A8: 서인천 | B8: =[2]국제사업!E8 -> 3330000
A9: 인천계양 | B9: =[2]국제사업!E9 -> 5130000
A10: 남인천 | B10: =[2]국제사업!E10 -> 6502000
A11: 부평 | B11: =[2]국제사업!E11 -> 3207000
A12: 의정부 | B12: =[2]국제사업!E12 -> 2743000
A13: 수원 | B13: =[2]국제사업!E13 -> 3064000
A14: 동수원 | B14: =[2]국제사업!E14 -> 2862000
A15: 서수원 | B15: =[2]국제사업!E15 -> 1299000
A16: 군포 | B16: =[2]국제사업!E16 -> 2994000
A17: 안양 | B17: =[2]국제사업!E17 -> 4821000
A18: 성남 | B18: =[2]국제사업!E18 -> 3667000
... A46: 구리 | B46: =[2]국제사업!E46 -> 1124000

Sheet Sheet4
