Workbook

Sheet 예상배정내역(총괄)
A1: 예산배정배역(총괄)
E2: (단위 : 천원)
A3: 구 분 | B3: 총괄국 | C3: 수 용 비 5231-362-210-01 | D3: 포 상 금 5231-362-310-03 | E3: 포상액 합계
A4: 1 | B4: 서울중앙 | C4: =VLOOKUP(B4,마케팅경비!$A$7:$J$28,10,FALSE) -> 5180 | D4: 0 | E4: =SUM(C4,D4) -> 5180
A5: 2 | B5: 광화문 | C5: =VLOOKUP(B5,마케팅경비!$A$7:$J$28,10,FALSE) -> 5210 | D5: 0 | E5: =SUM(C5,D5) -> 5210
A6: 3 | B6: 서대문 | C6: =VLOOKUP(B6,마케팅경비!$A$7:$J$28,10,FALSE) -> 3630 | D6: 0 | E6: =SUM(C6,D6) -> 3630
A7: 4 | B7: 동대문 | C7: =VLOOKUP(B7,마케팅경비!$A$7:$J$28,10,FALSE) -> 4640 | D7: 0 | E7: =SUM(C7,D7) -> 4640
A8: 5 | B8: 서울광진 | C8: =VLOOKUP(B8,마케팅경비!$A$7:$J$28,10,FALSE) -> 5810 | D8: 0 | E8: =SUM(C8,D8) -> 5810
A9: 6 | B9: 서울도봉 | C9: =VLOOKUP(B9,마케팅경비!$A$7:$J$28,10,FALSE) -> 5140 | D9: 0 | E9: =SUM(C9,D9) -> 5140
A10: 7 | B10: 서울마포 | C10: =VLOOKUP(B10,마케팅경비!$A$7:$J$28,10,FALSE) -> 4150 | D10: 0 | E10: =SUM(C10,D10) -> 4150
A11: 8 | B11: 서울관악 | C11: =VLOOKUP(B11,마케팅경비!$A$7:$J$28,10,FALSE) -> 3770 | D11: 0 | E11: =SUM(C11,D11) -> 3770
A12: 9 | B12: 서울은평 | C12: =VLOOKUP(B12,마케팅경비!$A$7:$J$28,10,FALSE) -> 3730 | D12: 0 | E12: =SUM(C12,D12) -> 3730
A13: 10 | B13: 여의도 | C13: =VLOOKUP(B13,마케팅경비!$A$7:$J$28,10,FALSE) -> 5270 | D13: 0 | E13: =SUM(C13,D13) -> 5270
A14: 11 | B14: 서울강남 | C14: =VLOOKUP(B14,마케팅경비!$A$7:$J$28,10,FALSE) -> 5600 | D14: 0 | E14: =SUM(C14,D14) -> 5600
A15: 12 | B15: 서울금천 | C15: =VLOOKUP(B15,마케팅경비!$A$7:$J$28,10,FALSE) -> 4730 | D15: 0 | E15: =SUM(C15,D15) -> 4730
... A25: 22 | B25: 서울중랑 | C25: =VLOOKUP(B25,마케팅경비!$A$7:$J$28,10,FALSE) -> 3740 | D25: 0 | E25: =SUM(C25,D25) -> 3740
A26: 23 | B26: 국제물류센터 | C26: 5000 | D26: 1000 | E26: =SUM(C26,D26) -> 6000
A27: 합 계 | C27: =SUM(C4:C26) -> 105000 | D27: =SUM(D4:D26) -> 1000 | E27: =SUM(E4:E26) -> 106000

Sheet 마케팅경비
A1: 예금마케팅 예산 배정내역
A3: 국 명 | B3: 선장용품 구입 비용(5231-362-210-01) | J3: 합 계 (천원)
B4: 기본경비 (천원) | C4: 목표 점유비 기준 배정
C5: 조달마진액 | F5: 체크카드 | I5: 소 계 (천원)
C6: 연도목표 (백만원) | D6: 점유율 (%) | E6: 배정액 (천원) | F6: 증강목표 (천원) | G6: 점유율 (%) | H6: 배정액 (천원)
A7: 서울중앙 | B7: 2000 | C7: 3208 | D7: =C7/$C$29*100 -> 6.9587852 | E7: =ROUNDUP(D7*28000/100,-1) -> 1950 | F7: 36800 | G7: =F7/$F$29*100 -> 4.3809524 | H7: =ROUNDUP(G7*28000/100,-1) -> 1230 | I7: =SUM(E7,H7) -> 3180 | J7: =SUM(B7,I7) -> 5180
A8: 광화문 | B8: 2000 | C8: 2764 | D8: =C8/$C$29*100 -> 5.9956616 | E8: =ROUNDUP(D8*28000/100,-1) -> 1680 | F8: 45800 | G8: =F8/$F$29*100 -> 5.452381 | H8: =ROUNDUP(G8*28000/100,-1) -> 1530 | I8: =SUM(E8,H8) -> 3210 | J8: =SUM(B8,I8) -> 5210
A9: 서대문 | B9: 2000 | C9: 1298 | D9: =C9/$C$29*100 -> 2.8156182 | E9: =ROUNDUP(D9*28000/100,-1) -> 790 | F9: 25000 | G9: =F9/$F$29*100 -> 2.9761905 | H9: =ROUNDUP(G9*28000/100,-1) -> 840 | I9: =SUM(E9,H9) -> 1630 | J9: =SUM(B9,I9) -> 3630
A10: 동대문 | B10: 2000 | C10: 2183 | D10: =C10/$C$29*100 -> 4.7353579 | E10: =ROUNDUP(D10*28000/100,-1) -> 1330 | F10: 39200 | G10: =F10/$F$29*100 -> 4.6666667 | H10: =ROUNDUP(G10*28000/100,-1) -> 1310 | I10: =SUM(E10,H10) -> 2640 | J10: =SUM(B10,I10) -> 4640
A11: 서울광진 | B11: 2000 | C11: 3232 | D11: =C11/$C$29*100 -> 7.010846 | E11: 1960 | F11: 55400 | G11: =F11/$F$29*100 -> 6.5952381 | H11: =ROUNDUP(G11*28000/100,-1) -> 1850 | I11: =SUM(E11,H11) -> 3810 | J11: =SUM(B11,I11) -> 5810
A12: 서울마포 | B12: 2000 | C12: 1901 | D12: =C12/$C$29*100 -> 4.1236443 | E12: =ROUNDUP(D12*28000/100,-1) -> 1160 | F12: 29800 | G12: =F12/$F$29*100 -> 3.547619 | H12: 990 | I12: =SUM(E12,H12) -> 2150 | J12: =SUM(B12,I12) -> 4150
A13: 서울관악 | B13: 2000 | C13: 1352 | D13: =C13/$C$29*100 -> 2.9327549 | E13: 820 | F13: 28500 | G13: =F13/$F$29*100 -> 3.3928571 | H13: =ROUNDUP(G13*28000/100,-1) -> 950 | I13: =SUM(E13,H13) -> 1770 | J13: =SUM(B13,I13) -> 3770
A14: 서울은평 | B14: 2000 | C14: 1350 | D14: =C14/$C$29*100 -> 2.9284165 | E14: =ROUNDUP(D14*28000/100,-1) -> 820 | F14: 27200 | G14: =F14/$F$29*100 -> 3.2380952 | H14: =ROUNDUP(G14*28000/100,-1) -> 910 | I14: =SUM(E14,H14) -> 1730 | J14: =SUM(B14,I14) -> 3730
A15: 여의도 | B15: 2000 | C15: 2715 | D15: =C15/$C$29*100 -> 5.8893709 | E15: =ROUNDUP(D15*28000/100,-1) -> 1650 | F15: 48600 | G15: =F15/$F$29*100 -> 5.7857143 | H15: =ROUNDUP(G15*28000/100,-1) -> 1620 | I15: =SUM(E15,H15) -> 3270 | J15: =SUM(B15,I15) -> 5270
A16: 서울강남 | B16: 2000 | C16: 2954 | D16: =C16/$C$29*100 -> 6.4078091 | E16: 1790 | F16: 54400 | G16: =F16/$F$29*100 -> 6.4761905 | H16: 1810 | I16: =SUM(E16,H16) -> 3600 | J16: =SUM(B16,I16) -> 5600
A17: 서울금천 | B17: 2000 | C17: 2031 | D17: =C17/$C$29*100 -> 4.4056399 | E17: 1230 | F17: 45000 | G17: =F17/$F$29*100 -> 5.3571429 | H17: =ROUNDUP(G17*28000/100,-1) -> 1500 | I17: =SUM(E17,H17) -> 2730 | J17: =SUM(B17,I17) -> 4730
A18: 서울성북 | B18: 2000 | C18: 1733 | D18: =C18/$C$29*100 -> 3.7592191 | E18: 1050 | F18: 28000 | G18: =F18/$F$29*100 -> 3.3333333 | H18: 930 | I18: =SUM(E18,H18) -> 1980 | J18: =SUM(B18,I18) -> 3980
A19: 서울강동 | B19: 2000 | C19: 1617 | D19: =C19/$C$29*100 -> 3.5075922 | E19: 980 | F19: 37000 | G19: =F19/$F$29*100 -> 4.4047619 | H19: 1230 | I19: =SUM(E19,H19) -> 2210 | J19: =SUM(B19,I19) -> 4210
A20: 서울송파 | B20: 2000 | C20: 2849 | D20: =C20/$C$29*100 -> 6.1800434 | E20: 1730 | F20: 48800 | G20: =F20/$F$29*100 -> 5.8095238 | H20: =ROUNDUP(G20*28000/100,-1) -> 1630 | I20: =SUM(E20,H20) -> 3360 | J20: =SUM(B20,I20) -> 5360
A21: 서울양천 | B21: 2000 | C21: 1515 | D21: =C21/$C$29*100 -> 3.2863341 | E21: 920 | F21: 35500 | G21: =F21/$F$29*100 -> 4.2261905 | H21: 1180 | I21: =SUM(E21,H21) -> 2100 | J21: =SUM(B21,I21) -> 4100
A22: 서울강서 | B22: 2000 | C22: 1694 | D22: =C22/$C$29*100 -> 3.6746204 | E22: =ROUNDUP(D22*28000/100,-1) -> 1030 | F22: 34800 | G22: =F22/$F$29*100 -> 4.1428571 | H22: =ROUNDUP(G22*28000/100,-1) -> 1160 | I22: =SUM(E22,H22) -> 2190 | J22: =SUM(B22,I22) -> 4190
A23: 서울동작 | B23: 2000 | C23: 1304 | D23: =C23/$C$29*100 -> 2.8286334 | E23: 790 | F23: 22700 | G23: =F23/$F$29*100 -> 2.702381 | H23: =ROUNDUP(G23*28000/100,-1) -> 760 | I23: =SUM(E23,H23) -> 1550 | J23: =SUM(B23,I23) -> 3550
A24: 서울서초 | B24: 2000 | C24: 1804 | D24: =C24/$C$29*100 -> 3.9132321 | E24: =ROUNDUP(D24*28000/100,-1) -> 1100 | F24: 33000 | G24: =F24/$F$29*100 -> 3.9285714 | H24: =ROUNDUP(G24*28000/100,-1) -> 1100 | I24: =SUM(E24,H24) -> 2200 | J24: =SUM(B24,I24) -> 4200
A25: 서울용산 | B25: 2000 | C25: 2242 | D25: =C25/$C$29*100 -> 4.8633406 | E25: 1360 | F25: 40000 | G25: =F25/$F$29*100 -> 4.7619048 | H25: 1330 | I25: =SUM(E25,H25) -> 2690 | J25: =SUM(B25,I25) -> 4690
A26: 서울노원 | B26: 2000 | C26: 2394 | D26: =C26/$C$29*100 -> 5.1930586 | E26: 1450 | F26: 50200 | G26: =F26/$F$29*100 -> 5.9761905 | H26: 1670 | I26: =SUM(E26,H26) -> 3120 | J26: =SUM(B26,I26) -> 5120
A27: 서울중랑 | B27: 2000 | C27: 1384 | D27: =C27/$C$29*100 -> 3.0021692 | E27: 840 | F27: 27100 | G27: =F27/$F$29*100 -> 3.2261905 | H27: 900 | I27: =SUM(E27,H27) -> 1740 | J27: =SUM(B27,I27) -> 3740
A28: 서울도봉 | B28: 2000 | C28: 2576 | D28: =C28/$C$29*100 -> 5.5878525 | E28: =ROUNDUP(D28*28000/100,-1) -> 1570 | F28: 47200 | G28: =F28/$F$29*100 -> 5.6190476 | H28: 1570 | I28: =SUM(E28,H28) -> 3140 | J28: =SUM(B28,I28) -> 5140
A29: 계 | B29: =SUM(B7:B28) -> 44000 | C29: =SUM(C7:C28) -> 46100 | D29: =SUM(D7:D28) -> 100 | E29: =ROUNDUP(D29*28000/100,-1) -> 28000 | F29: =SUM(F7:F28) -> 840000 | G29: =SUM(G7:G28) -> 100 | H29: =ROUNDUP(G29*28000/100,-1) -> 28000 | I29: =SUM(I7:I28) -> 56000 | J29: =SUM(B29,I29) -> 100000

Sheet Sheet2

Sheet Sheet3
