Workbook

Sheet Sheet1
B2: 우체국예금 마케팅 활동 예산배정 내역
F3: (단위: 천 원)
B4: 구 분 | C4: 관서수 | D4: 요구불예금 수신고 ('14.11월말) | E4: 배정액 | F4: 비 고
B5: 인천 | C5: 19 | D5: 65160965 | E5: 1600
B6: 서인천 | C6: 8 | D6: 79844065 | E6: 1200
B7: 인천계양 | C7: 5 | D7: 34134726 | E7: 600
B8: 남인천 | C8: 16 | D8: 1.2651443e+08 | E8: 1600
B9: 부평 | C9: 11 | D9: 73868936 | E9: 1300
B10: 의정부 | C10: 12 | D10: 56865347 | E10: 1200
B11: 수원 | C11: 10 | D11: 94870194 | E11: 1300
B12: 동수원 | C12: 9 | D12: 49403854 | E12: 1000
B13: 서수원 | C13: 5 | E13: 1500
B14: 군포 | C14: 8 | D14: 39369777 | E14: 800
B15: 안양 | C15: 11 | D15: 79587458 | E15: 1300
B16: 성남 | C16: 10 | D16: 78738588 | E16: 1300
B17: 성남분당 | C17: 9 | D17: 66275287 | E17: 1140
B18: 부천 | C18: 16 | D18: 90927759 | E18: 1600
B19: 안산 | C19: 14 | D19: 77915437 | E19: 1300
B20: 고양일산 | C20: 9 | D20: 46237038 | E20: 900
B21: 고양덕양 | C21: 10 | D21: 45899019 | E21: 1000
B22: 시흥 | C22: 6 | D22: 44919107 | E22: 750
B23: 광명 | C23: 7 | D23: 40327100 | E23: 800
B24: 용인수지 | C24: 6 | D24: 32065046 | E24: 650
B25: 남양주 | C25: 11 | D25: 32689330 | E25: 1000
... B44: 구리 | C44: 5 | D44: 23651958 | E44: 600
B45: 합 계 | C45: =SUM(C5:C44) -> 392 | D45: =SUM(D5:D44) -> 1.787653e+09 | E45: =SUM(E5:E44) -> 39939
C46: 23963 | D46: 15976
C47: =C46/C45 -> 61.130102 | D47: 39939

Sheet Sheet1 (3)
A2: 구 분 | B2: 총수신고(15점, 단위: 백만원, %) | J2: 요구불 수신고(15점, 단위: 백만원, %) | R2: 조달금리(20점) | U2: 스마트뱅킹(15점, 단위: 건, %) | AC2: 체크카드(15점, 단위: 건, %) | AK2: 수수료(10점, 단위: 천원, %) | AS2: 우수고객(10점) | AV2: 총점 | AW2: 순위 | AX2: 관내국수 | AY2: 5231-361 | BD2: 5231-362 | BF2: 합 계
B3: 목표 | C3: 실적 | D3: 달성률 | E3: 달성률 순위 | F3: 달성률 점수 | G3: 점유율 순위 | H3: 점유율 점수 | I3: 환산점수 | J3: 목표 | K3: 실적 | L3: 달성률 | M3: 달성률 순위 | N3: 달성률 점수 | O3: 점유율 순위 | P3: 점유율 점수 | Q3: 환산점수 | R3: 평가점수 | S3: 순위 | T3: 환산점수 | U3: 목표 | V3: 실적 | W3: 달성률 | X3: 달성률 순위 | Y3: 달성률 점수 | Z3: 점유율 순위 | AA3: 점유율 점수 | AB3: 환산점수 | AC3: 목표 | AD3: 실적 | AE3: 달성률 | AF3: 달성률 순위 | AG3: 달성률 점수 | AH3: 점유율 순위 | AI3: 점유율 점수 | AJ3: 환산점수 | AK3: 목표 | AL3: 실적 | AM3: 달성률 | AN3: 달성률 순위 | AO3: 달성률 점수 | AP3: 점유율 순위 | AQ3: 점유율 점수 | AR3: 환산점수 | AS3: 평가점수 | AT3: 순위 | AU3: 환산점수 | AY3: 210-01 (일반수용비) | AZ3: 210-02 (공공요금) | BA3: 210-09 (시설장비유지비) | BB3: 220-01 (국내여비) | BC3: 240-01 (업무추진비) | BD3: 210-01 (일반수용비) | BE3: 310-03 (포상금)
A4: 인천 | B4: 299995 | C4: 323347.68 | D4: 107.78436 | E4: 13 | F4: 13.2 | G4: 10 | H4: 13.65 | I4: 13.425 | J4: 61649 | K4: 64908.881 | L4: 105.28781 | M4: 9 | N4: 13.8 | O4: 10 | P4: 13.65 | Q4: 13.725 | R4: 19.9829 | S4: 6 | T4: 19 | U4: 9804 | V4: 9003 | W4: 91.829865 | X4: 21 | Y4: 12 | Z4: 7 | AA4: 14.1 | AB4: 13.05 | AC4: 5846 | AD4: 4769 | AE4: 81.577147 | AF4: 17 | AG4: 12.6 | AH4: 10 | AI4: 13.65 | AJ4: 13.125 | AK4: 29619.755 | AL4: 20050.06 | AM4: 67.691513 | AN4: 8 | AO4: 9.3 | AP4: 13 | AQ4: 8.8 | AR4: 9.05 | AS4: 7.053419 | AT4: 15 | AU4: 8.6 | AV4: =I4+Q4+T4+AB4+AJ4+AR4+AU4 -> 89.975 | AW4: =RANK(AV4,$AV$4:$AV$29) -> 10 | AX4: 19 | AY4: 27000 | AZ4: 3300 | BA4: 3200 | BB4: 900 | BC4: 600 | BD4: 10000 | BE4: 5000 | BF4: 50250
A5: 서인천 | B5: 224643 | C5: 265705.89 | D5: 118.27917 | E5: 1 | F5: 15 | G5: 15 | H5: 12.9 | I5: 13.95 | J5: 54762 | K5: 80103.361 | L5: 146.27545 | M5: 1 | N5: 15 | O5: 4 | P5: 14.55 | Q5: 14.775 | R5: 19.985 | S5: 5 | T5: 19.2 | U5: 6756 | V5: 6468 | W5: 95.737123 | X5: 12 | Y5: 13.35 | Z5: 16 | AA5: 12.75 | AB5: 13.05 | AC5: 4154 | AD5: 3709 | AE5: 89.287434 | AF5: 6 | AG5: 14.25 | AH5: 13 | AI5: 13.2 | AJ5: 13.725 | AK5: 19391.732 | AL5: 13799.48 | AM5: 71.161667 | AN5: 4 | AO5: 9.7 | AP5: 22 | AQ5: 7.9 | AR5: 8.8 | AS5: 7.0654023 | AT5: 14 | AU5: 8.7 | AV5: =I5+Q5+T5+AB5+AJ5+AR5+AU5 -> 92.2 | AW5: =RANK(AV5,$AV$4:$AV$29) -> 3 | AX5: 8 | AY5: 33000 | AZ5: 1800 | BA5: 1800 | BB5: 500 | BC5: 900 | BD5: 16000 | BE5: 8000 | BF5: 61900
A6: 인천계양 | B6: 151364 | C6: 167687.4 | D6: 110.7842 | E6: 7 | F6: 14.1 | G6: 22 | H6: 11.85 | I6: 12.975 | J6: 32926 | K6: 34130.886 | L6: 103.65938 | M6: 10 | N6: 13.65 | O6: 22 | P6: 11.85 | Q6: 12.75 | R6: 19.9544 | S6: 18 | T6: 16.6 | U6: 5402 | V6: 5207 | W6: 96.390226 | X6: 8 | Y6: 13.95 | Z6: 24 | AA6: 11.55 | AB6: 12.75 | AC6: 3152 | AD6: 2246 | AE6: 71.256345 | AF6: 22 | AG6: 11.85 | AH6: 24 | AI6: 11.55 | AJ6: 11.7 | AK6: 12023.776 | AL6: 7854.42 | AM6: 65.324069 | AN6: 18 | AO6: 8.3 | AP6: 24 | AQ6: 7.7 | AR6: 8 | AS6: 7.2162227 | AT6: 7 | AU6: 9.4 | AV6: =I6+Q6+T6+AB6+AJ6+AR6+AU6 -> 84.175 | AW6: =RANK(AV6,$AV$4:$AV$29) -> 23 | AX6: 5 | AY6: 23000 | AZ6: 1500 | BA6: 1500 | BB6: 400 | BC6: 500 | BD6: 7000 | BE6: 4000 | BF6: 37400
A7: 남인천 | B7: 421947 | C7: 481259.07 | D7: 114.05676 | E7: 4 | F7: 14.55 | G7: 3 | H7: 14.7 | I7: 14.625 | J7: 98615 | K7: 129374.31 | L7: 131.1913 | M7: 2 | N7: 14.85 | O7: 1 | P7: 15 | Q7: 14.925 | R7: 19.95 | S7: 20 | T7: 16.2 | U7: 15565 | V7: 14827 | W7: 95.258593 | X7: 16 | Y7: 12.75 | Z7: 1 | AA7: 15 | AB7: 13.875 | AC7: 8681 | AD7: 7576 | AE7: 87.271052 | AF7: 12 | AG7: 13.35 | AH7: 1 | AI7: 15 | AJ7: 14.175 | AK7: 48503.051 | AL7: 30774.83 | AM7: 63.449266 | AN7: 23 | AO7: 7.8 | AP7: 4 | AQ7: 9.7 | AR7: 8.75 | AS7: 6.9398332 | AT7: 17 | AU7: 8.4 | AV7: =I7+Q7+T7+AB7+AJ7+AR7+AU7 -> 90.95 | AW7: =RANK(AV7,$AV$4:$AV$29) -> 7 | AX7: 16 | AY7: 33000 | AZ7: 3000 | BA7: 4000 | BB7: 850 | BC7: 800 | BD7: 15000 | BE7: 6000 | BF7: 62650
A8: 부평 | B8: 315529 | C8: 344504.01 | D8: 109.18299 | E8: 11 | F8: 13.5 | G8: 8 | H8: 13.95 | I8: 13.725 | J8: 72656 | K8: 73623.766 | L8: 101.33198 | M8: 18 | N8: 12.45 | O8: 9 | P8: 13.8 | Q8: 13.125 | R8: 19.97 | S8: 10 | T8: 18.2 | U8: 9432 | V8: 9275 | W8: 98.335454 | X8: 3 | Y8: 14.7 | Z8: 5 | AA8: 14.4 | AB8: 14.55 | AC8: 5856 | AD8: 5688 | AE8: 97.131148 | AF8: 3 | AG8: 14.7 | AH8: 3 | AI8: 14.7 | AJ8: 14.7 | AK8: 27864.373 | AL8: 18443.9 | AM8: 66.191693 | AN8: 14 | AO8: 8.7 | AP8: 15 | AQ8: 8.6 | AR8: 8.65 | AS8: 7.2419778 | AT8: 5 | AU8: 9.6 | AV8: =I8+Q8+T8+AB8+AJ8+AR8+AU8 -> 92.55 | AW8: =RANK(AV8,$AV$4:$AV$29) -> 2 | AX8: 11 | AY8: 33000 | AZ8: 2000 | BA8: 2700 | BB8: 600 | BC8: 1000 | BD8: 17000 | BE8: 9000 | BF8: 65300
A9: 의정부 | B9: 263868 | C9: 275841.53 | D9: 104.5377 | E9: 19 | F9: 12.3 | G9: 14 | H9: 13.05 | I9: 12.675 | J9: 55706 | K9: 56791.186 | L9: 101.94806 | M9: 16 | N9: 12.75 | O9: 12 | P9: 13.35 | Q9: 13.05 | R9: 19.995 | S9: 2 | T9: 19.8 | U9: 8847 | V9: 7860 | W9: 88.843676 | X9: 24 | Y9: 11.55 | Z9: 11 | AA9: 13.5 | AB9: 12.525 | AC9: 5227 | AD9: 3003 | AE9: 57.451693 | AF9: 25 | AG9: 11.4 | AH9: 21 | AI9: 12 | AJ9: 11.7 | AK9: 33634.971 | AL9: 22267.74 | AM9: 66.20413 | AN9: 13 | AO9: 8.8 | AP9: 11 | AQ9: 9 | AR9: 8.9 | AS9: 6.9359441 | AT9: 18 | AU9: 8.3 | AV9: =I9+Q9+T9+AB9+AJ9+AR9+AU9 -> 86.95 | AW9: =RANK(AV9,$AV$4:$AV$29) -> 17 | AX9: 12 | AY9: 25000 | AZ9: 2000 | BA9: 2800 | BB9: 600 | BC9: 550 | BD9: 8000 | BE9: 4500 | BF9: 43950
A10: 수원 | B10: 464377 | C10: 485367.95 | D10: 104.52024 | E10: 20 | F10: 12.15 | G10: 2 | H10: 14.85 | I10: 13.5 | J10: 92948 | K10: 95193.145 | L10: 102.41548 | M10: 14 | N10: 13.05 | O10: 2 | P10: 14.85 | Q10: 13.95 | R10: 19.9829 | S10: 6 | T10: 19 | U10: 12188 | V10: 11475 | W10: 94.149984 | X10: 19 | Y10: 12.3 | Z10: 4 | AA10: 14.55 | AB10: 13.425 | AC10: 7283 | AD10: 6475 | AE10: =AD10/AC10% -> 88.905671 | AF10: 8 | AG10: 13.95 | AH10: 8 | AI10: 13.95 | AJ10: 13.95 | AK10: 49017 | AL10: 34682.04 | AM10: 70.755126 | AN10: 5 | AO10: 9.6 | AP10: 3 | AQ10: 9.8 | AR10: 9.7 | AS10: 6.8976547 | AT10: 20 | AU10: 8.1 | AV10: =I10+Q10+T10+AB10+AJ10+AR10+AU10 -> 91.625 | AW10: =RANK(AV10,$AV$4:$AV$29) -> 4 | AX10: 10 | AY10: 30000 | AZ10: 1900 | BA10: 2300 | BB10: 600 | BC10: 850 | BD10: 12000 | BE10: 6000 | BF10: 53400
A11: 동수원 | B11: 285275 | C11: 291092.82 | D11: 102.03937 | E11: 23 | F11: 11.7 | G11: 13 | H11: 13.2 | I11: 12.45 | J11: 45192 | K11: 48712.389 | L11: 107.78985 | M11: 7 | N11: 14.1 | O11: 13 | P11: 13.2 | Q11: 13.65 | R11: 20 | S11: 1 | T11: 20 | U11: 8180 | V11: 7863 | W11: 96.124694 | X11: 10 | Y11: 13.65 | Z11: 10 | AA11: 13.65 | AB11: 13.65 | AC11: 3989 | AD11: 3483 | AE11: =AD11/AC11% -> 87.315117 | AF11: 11 | AG11: 13.5 | AH11: 7 | AI11: 14.1 | AJ11: 13.8 | AK11: 28705 | AL11: 17961.22 | AM11: 62.571747 | AN11: 24 | AO11: 7.7 | AP11: 17 | AQ11: 8.4 | AR11: 8.05 | AS11: 6.9952675 | AT11: 16 | AU11: 8.5 | AV11: =I11+Q11+T11+AB11+AJ11+AR11+AU11 -> 90.1 | AW11: =RANK(AV11,$AV$4:$AV$29) -> 9 | AX11: 9 | AY11: 30000 | AZ11: 1800 | BA11: 2000 | BB11: 600 | BC11: 800 | BD11: 12000 | BE11: 6000 | BF11: 53200
A12: 서수원 | AJ12: 0 | AR12: 0 | AV12: =I12+Q12+T12+AB12+AJ12+AR12+AU12 -> 0 | AX12: 5 | AY12: 23000 | AZ12: 1500 | BA12: 1500 | BB12: 400 | BC12: 500 | BD12: 10000 | BE12: 4000 | BF12: 40400
A13: 군포 | B13: 233265 | C13: 258308.1 | D13: 110.7359 | E13: 8 | F13: 13.95 | G13: 16 | H13: 12.75 | I13: 13.35 | J13: 36687 | K13: 39291.491 | L13: 107.09922 | M13: 8 | N13: 13.95 | O13: 19 | P13: 12.3 | Q13: 13.125 | R13: 19.968 | S13: 11 | T13: 18 | U13: 5836 | V13: 5628 | W13: 96.435915 | X13: 7 | Y13: 14.1 | Z13: 21 | AA13: 12 | AB13: 13.05 | AC13: 3678 | AD13: 3064 | AE13: 83.306145 | AF13: 16 | AG13: 12.75 | AH13: 20 | AI13: 12.15 | AJ13: 12.45 | AK13: 27026.947 | AL13: 18180.14 | AM13: 67.266718 | AN13: 9 | AO13: 9.2 | AP13: 16 | AQ13: 8.5 | AR13: 8.85 | AS13: 7.4680157 | AT13: 1 | AU13: 10 | AV13: =I13+Q13+T13+AB13+AJ13+AR13+AU13 -> 88.825 | AW13: =RANK(AV13,$AV$4:$AV$29) -> 12 | AX13: 8 | AY13: 27000 | AZ13: 1800 | BA13: 1800 | BB13: 500 | BC13: 600 | BD13: 10000 | BE13: 5000 | BF13: 46650
A14: 안양 | B14: 434881 | C14: 461935.24 | D14: 106.22107 | E14: 16 | F14: 12.75 | G14: 4 | H14: 14.55 | I14: 13.65 | J14: 67063 | K14: 78374.327 | L14: 116.86672 | M14: 4 | N14: 14.55 | O14: 6 | P14: 14.25 | Q14: 14.4 | R14: 19.96 | S14: 17 | T14: 16.8 | U14: 8801 | V14: 8505 | W14: 96.636746 | X14: 5 | Y14: 14.4 | Z14: 9 | AA14: 13.8 | AB14: 14.1 | AC14: 5493 | AD14: 5529 | AE14: 100.65538 | AF14: 1 | AG14: 15 | AH14: 4 | AI14: 14.55 | AJ14: 14.775 | AK14: 46481.533 | AL14: 30419 | AM14: 65.443194 | AN14: 17 | AO14: 8.4 | AP14: 5 | AQ14: 9.6 | AR14: 9 | AS14: 6.6858769 | AT14: 24 | AU14: 7.7 | AV14: =I14+Q14+T14+AB14+AJ14+AR14+AU14 -> 90.425 | AW14: =RANK(AV14,$AV$4:$AV$29) -> 8 | AX14: 11 | AY14: 30000 | AZ14: 2000 | BA14: 2700 | BB14: 600 | BC14: 800 | BD14: 12000 | BE14: 6000 | BF14: 54100
A15: 성남 | B15: 331000 | C15: 362257.84 | D15: 109.44346 | E15: 9 | F15: 13.8 | G15: 7 | H15: 14.1 | I15: 13.95 | J15: 77732 | K15: 78424.7 | L15: 100.89114 | M15: 19 | N15: 12.3 | O15: 5 | P15: 14.4 | Q15: 13.35 | R15: 19.99 | S15: 4 | T15: 19.4 | U15: 9630 | V15: 9129 | W15: 94.797508 | X15: 17 | Y15: 12.6 | Z15: 6 | AA15: 14.25 | AB15: 13.425 | AC15: 6052 | AD15: 4901 | AE15: 80.981494 | AF15: 18 | AG15: 12.45 | AH15: 9 | AI15: 13.8 | AJ15: 13.125 | AK15: 25101.805 | AL15: 16341.58 | AM15: 65.101215 | AN15: 19 | AO15: 8.2 | AP15: 18 | AQ15: 8.3 | AR15: 8.25 | AS15: 7.2379672 | AT15: 6 | AU15: 9.5 | AV15: =I15+Q15+T15+AB15+AJ15+AR15+AU15 -> 91 | AW15: =RANK(AV15,$AV$4:$AV$29) -> 6 | AX15: 10 | AY15: 30000 | AZ15: 1900 | BA15: 2300 | BB15: 600 | BC15: 850 | BD15: 12000 | BE15: 6000 | BF15: 53500
A16: 성남분당 | B16: 659092 | C16: 652458.23 | D16: 98.993499 | E16: 24 | F16: 11.55 | G16: 1 | H16: 15 | I16: 13.275 | J16: 47438 | K16: 59868.504 | L16: 126.20369 | M16: 3 | N16: 14.7 | O16: 11 | P16: 13.5 | Q16: 14.1 | R16: 19.944 | S16: 22 | T16: 15.8 | U16: 6720 | V16: 6427 | W16: 95.639881 | X16: 13 | Y16: 13.2 | Z16: 17 | AA16: 12.6 | AB16: 12.9 | AC16: 4027 | AD16: 3570 | AE16: 88.651602 | AF16: 10 | AG16: 13.65 | AH16: 14 | AI16: 13.05 | AJ16: 13.35 | AK16: 62196.252 | AL16: 40343.37 | AM16: 64.864632 | AN16: 21 | AO16: 8 | AP16: 1 | AQ16: 10 | AR16: 9 | AS16: 7.0892026 | AT16: 13 | AU16: 8.8 | AV16: =I16+Q16+T16+AB16+AJ16+AR16+AU16 -> 87.225 | AW16: =RANK(AV16,$AV$4:$AV$29) -> 15 | AX16: 9 | AY16: 27000 | AZ16: 1800 | BA16: 2000 | BB16: 600 | BC16: 600 | BD16: 10000 | BE16: 5000 | BF16: 47000
A17: 부천 | B17: 417802 | C17: 445127.03 | D17: 106.54019 | E17: 14 | F17: 13.05 | G17: 5 | H17: 14.4 | I17: 13.725 | J17: 87804 | K17: 90489.225 | L17: 103.0582 | M17: 12 | N17: 13.35 | O17: 3 | P17: 14.7 | Q17: 14.025 | R17: 19.9943 | S17: 3 | T17: 19.6 | U17: 13663 | V17: 13459 | W17: 98.506916 | X17: 2 | Y17: 14.85 | Z17: 2 | AA17: 14.85 | AB17: 14.85 | AC17: 7927 | AD17: 7029 | AE17: 88.671629 | AF17: 9 | AG17: 13.8 | AH17: 2 | AI17: 14.85 | AJ17: 14.325 | AK17: 43573.168 | AL17: 28552.09 | AM17: 65.526771 | AN17: 16 | AO17: 8.5 | AP17: 7 | AQ17: 9.4 | AR17: 8.95 | AS17: 7.1950527 | AT17: 10 | AU17: 9.1 | AV17: =I17+Q17+T17+AB17+AJ17+AR17+AU17 -> 94.575 | AW17: =RANK(AV17,$AV$4:$AV$29) -> 1 | AX17: 16 | AY17: 33000 | AZ17: 3000 | BA17: 3200 | BB17: 850 | BC17: 1200 | BD17: 18000 | BE17: 10000 | BF17: 69200
A18: 안산 | B18: 313023 | C18: 324221.04 | D18: 103.57738 | E18: 21 | F18: 12 | G18: 9 | H18: 13.8 | I18: 12.9 | J18: 75810 | K18: 77571.461 | L18: 102.32352 | M18: 15 | N18: 12.9 | O18: 7 | P18: 14.1 | Q18: 13.5 | R18: 19.95 | S18: 19 | T18: 16.4 | U18: 13020 | V18: 12436 | W18: 95.514593 | X18: 15 | Y18: 12.9 | Z18: 3 | AA18: 14.7 | AB18: 13.8 | AC18: 6941 | AD18: 5475 | AE18: 78.879124 | AF18: 20 | AG18: 12.15 | AH18: 5 | AI18: 14.4 | AJ18: 13.275 | AK18: 30705.275 | AL18: 20427.48 | AM18: 66.527592 | AN18: 11 | AO18: 9 | AP18: 12 | AQ18: 8.9 | AR18: 8.95 | AS18: 7.3320809 | AT18: 2 | AU18: 9.9 | AV18: =I18+Q18+T18+AB18+AJ18+AR18+AU18 -> 88.725 | AW18: =RANK(AV18,$AV$4:$AV$29) -> 13 | AX18: 14 | AY18: 27000 | AZ18: 3000 | BA18: 2800 | BB18: 700 | BC18: 600 | BD18: 10000 | BE18: 5000 | BF18: 49100
A19: 고양일산 | B19: 283652 | C19: 300503.05 | D19: 105.94075 | E19: 17 | F19: 12.6 | G19: 11 | H19: 13.5 | I19: 13.05 | J19: 44632 | K19: 46036.288 | L19: 103.14637 | M19: 11 | N19: 13.5 | O19: 15 | P19: 12.9 | Q19: 13.2 | R19: 19.968 | S19: 12 | T19: 17.8 | U19: 8014 | V19: 7368 | W19: 91.939107 | X19: 20 | Y19: 12.15 | Z19: 13 | AA19: 13.2 | AB19: 12.675 | AC19: 4450 | AD19: 3117 | AE19: 70.044944 | AF19: 23 | AG19: 11.7 | AH19: 18 | AI19: 12.45 | AJ19: 12.075 | AK19: 41808.628 | AL19: 29795.9 | AM19: 71.267348 | AN19: 3 | AO19: 9.8 | AP19: 6 | AQ19: 9.5 | AR19: 9.65 | AS19: 6.7627551 | AT19: 22 | AU19: 7.9 | AV19: =I19+Q19+T19+AB19+AJ19+AR19+AU19 -> 86.35 | AW19: =RANK(AV19,$AV$4:$AV$29) -> 18 | AX19: 9 | AY19: 25000 | AZ19: 1800 | BA19: 2000 | BB19: 600 | BC19: 550 | BD19: 8000 | BE19: 4500 | BF19: 42400
A20: 고양덕양 | B20: 235233 | C20: 249995.12 | D20: 106.27553 | E20: 15 | F20: 12.9 | G20: 17 | H20: 12.6 | I20: 12.75 | J20: 45481 | K20: 45728.475 | L20: 100.54413 | M20: 21 | N20: 12 | O20: 16 | P20: 12.75 | Q20: 12.375 | R20: 19.9658 | S20: 13 | T20: 17.6 | U20: 6221 | V20: 5984 | W20: 96.190323 | X20: 9 | Y20: 13.8 | Z20: 19 | AA20: 12.3 | AB20: 13.05 | AC20: 3902 | AD20: 3378 | AE20: 86.570989 | AF20: 13 | AG20: 13.2 | AH20: 16 | AI20: 12.75 | AJ20: 12.975 | AK20: 24654.191 | AL20: 16020.38 | AM20: 64.980351 | AN20: 20 | AO20: 8.1 | AP20: 20 | AQ20: 8.1 | AR20: 8.1 | AS20: 6.7462828 | AT20: 23 | AU20: 7.8 | AV20: =I20+Q20+T20+AB20+AJ20+AR20+AU20 -> 84.65 | AW20: =RANK(AV20,$AV$4:$AV$29) -> 21 | AX20: 10 | AY20: 23000 | AZ20: 1900 | BA20: 2200 | BB20: 600 | BC20: 550 | BD20: 7000 | BE20: 4000 | BF20: 39100
A21: 시흥 | B21: 136542 | C21: 151738.45 | D21: 111.1295 | E21: 6 | F21: 14.25 | G21: 23 | H21: 11.7 | I21: 12.975 | J21: 45129 | K21: 44943.262 | L21: 99.588429 | M21: 24 | N21: 11.55 | O21: 17 | P21: 12.6 | Q21: 12.075 | R21: 19.9658 | S21: 13 | T21: 17.6 | U21: 7807 | V21: 7086 | W21: 90.764698 | X21: 22 | Y21: 11.85 | Z21: 14 | AA21: 13.05 | AB21: 12.45 | AC21: 3938 | AD21: 2715 | AE21: 68.943626 | AF21: 24 | AG21: 11.55 | AH21: 23 | AI21: 11.7 | AJ21: 11.625 | AK21: 14227.956 | AL21: 9450.38 | AM21: 66.421206 | AN21: 12 | AO21: 8.9 | AP21: 23 | AQ21: 7.8 | AR21: 8.35 | AS21: 6.9059876 | AT21: 19 | AU21: 8.2 | AV21: =I21+Q21+T21+AB21+AJ21+AR21+AU21 -> 83.275 | AW21: =RANK(AV21,$AV$4:$AV$29) -> 24 | AX21: 6 | AY21: 23000 | AZ21: 1500 | BA21: 1500 | BB21: 500 | BC21: 500 | BD21: 7000 | BE21: 4000 | BF21: 37600
A22: 광명 | B22: 214468 | C22: 224448.35 | D22: 104.65354 | E22: 18 | F22: 12.45 | G22: 18 | H22: 12.45 | I22: 12.45 | J22: 40058 | K22: 39932.868 | L22: 99.687623 | M22: 22 | N22: 11.85 | O22: 18 | P22: 12.45 | Q22: 12.15 | R22: 19.9658 | S22: 13 | T22: 17.6 | U22: 5848 | V22: 5642 | W22: 96.477428 | X22: 6 | Y22: 14.25 | Z22: 20 | AA22: 12.15 | AB22: 13.2 | AC22: 3449 | AD22: 3072 | AE22: 89.069295 | AF22: 7 | AG22: 14.1 | AH22: 19 | AI22: 12.3 | AJ22: 13.2 | AK22: 21063.265 | AL22: 15050.44 | AM22: 71.453498 | AN22: 2 | AO22: 9.9 | AP22: 21 | AQ22: 8 | AR22: 8.95 | AS22: 6.853824 | AT22: 21 | AU22: 8 | AV22: =I22+Q22+T22+AB22+AJ22+AR22+AU22 -> 85.55 | AW22: =RANK(AV22,$AV$4:$AV$29) -> 19 | AX22: 7 | AY22: 25000 | AZ22: 1566 | BA22: 1500 | BB22: 500 | BC22: 550 | BD22: 8000 | BE22: 4500 | BF22: 41550
A23: 용인수지 | B23: 290939 | C23: 297828.35 | D23: 102.36797 | E23: 22 | F23: 11.85 | G23: 12 | H23: 13.35 | I23: 12.6 | J23: 27673 | K23: 32018.716 | L23: 115.70381 | M23: 5 | N23: 14.4 | O23: 24 | P23: 11.55 | Q23: 12.975 | R23: 19.936 | S23: 23 | T23: 15.6 | U23: 6358 | V23: 6316 | W23: 99.339415 | X23: 1 | Y23: 15 | Z23: 18 | AA23: 12.45 | AB23: 13.725 | AC23: 3390 | AD23: 3191 | AE23: 94.129794 | AF23: 4 | AG23: 14.55 | AH23: 17 | AI23: 12.6 | AJ23: 13.575 | AK23: 53514.333 | AL23: 35104.26 | AM23: 65.597866 | AN23: 15 | AO23: 8.6 | AP23: 2 | AQ23: 9.9 | AR23: 9.25 | AS23: 7.2095132 | AT23: 8 | AU23: 9.3 | AV23: =I23+Q23+T23+AB23+AJ23+AR23+AU23 -> 87.025 | AW23: =RANK(AV23,$AV$4:$AV$29) -> 16 | AX23: 6 | AY23: 25000 | AZ23: 1500 | BA23: 1500 | BB23: 500 | BC23: 550 | BD23: 8000 | BE23: 4500 | BF23: 41150
A24: 남양주 | B24: 131656 | C24: 143413.31 | D24: 108.93033 | E24: 12 | F24: 13.35 | G24: 24 | H24: 11.55 | I24: 12.45 | J24: 31530 | K24: 32493.932 | L24: 103.05719 | M24: 13 | N24: 13.2 | O24: 23 | P24: 11.7 | Q24: 12.45 | R24: 19.9829 | S24: 6 | T24: 19 | U24: 6012 | V24: 5453 | W24: 90.701929 | X24: 23 | Y24: 11.7 | Z24: 23 | AA24: 11.7 | AB24: 11.7 | AC24: 4055 | AD24: 2917 | AE24: 71.935882 | AF24: 21 | AG24: 12 | AH24: 22 | AI24: 11.85 | AJ24: 11.925 | AK24: 24521.123 | AL24: 16320.4 | AM24: 66.556495 | AN24: 10 | AO24: 9.1 | AP24: 19 | AQ24: 8.2 | AR24: 8.65 | AS24: 7.092625 | AT24: 12 | AU24: 8.9 | AV24: =I24+Q24+T24+AB24+AJ24+AR24+AU24 -> 85.075 | AW24: =RANK(AV24,$AV$4:$AV$29) -> 20 | AX24: 11 | AY24: 25000 | AZ24: 2000 | BA24: 2500 | BB24: 600 | BC24: 550 | BD24: 8000 | BE24: 4500 | BF24: 43150
... A29: 김포 | B29: 143277 | C29: 154356.02 | D29: 107.73259 | E29: 14 | F29: 13.05 | G29: 23 | H29: 11.7 | I29: 12.375 | J29: 34208 | K29: 34325.872 | L29: 100.34458 | M29: 22 | N29: 11.85 | O29: 22 | P29: 11.85 | Q29: 11.85 | R29: 19.943 | S29: 23 | T29: 15.6 | U29: 4825 | V29: 4646 | W29: 96.290155 | X29: 9 | Y29: 13.8 | Z29: 25 | AA29: 11.4 | AB29: 12.6 | AC29: 3164 | AD29: 2952 | AE29: 93.299621 | AF29: 5 | AG29: 14.4 | AH29: 22 | AI29: 11.85 | AJ29: 13.125 | AK29: 34030.553 | AL29: 20380.02 | AM29: 59.88742 | AN29: 25 | AO29: 7.6 | AP29: 13 | AQ29: 8.8 | AR29: 8.2 | AS29: 6.926453 | AT29: 19 | AU29: 8.2 | AV29: =I29+Q29+T29+AB29+AJ29+AR29+AU29 -> 81.95 | AW29: =RANK(AV29,$AV$4:$AV$29) -> 25 | AX29: 8 | AY29: 23000 | AZ29: 1800 | BA29: 1800 | BB29: 500 | BC29: 500 | BD29: 7000 | BE29: 4000 | BF29: 38500
A30: 포천 | B30: 105053 | C30: 118123.93 | D30: 112.44222 | E30: 5 | F30: 14.4 | G30: 3 | H30: 14.7 | I30: 14.55 | J30: 32398 | K30: 31358.895 | L30: 96.792689 | M30: 13 | N30: 13.2 | O30: 1 | P30: 15 | Q30: 14.1 | R30: 19.9943 | S30: 1 | T30: 20 | U30: 3899 | V30: 3756 | W30: 96.332393 | X30: 4 | Y30: 14.55 | Z30: 3 | AA30: 14.7 | AB30: 14.625 | AC30: 2704 | AD30: 2143 | AE30: 79.252959 | AF30: 10 | AG30: 13.65 | AH30: 3 | AI30: 14.7 | AJ30: 14.175 | AK30: 18542.68 | AL30: 14658.54 | AM30: 79.052974 | AN30: 5 | AO30: 9.6 | AP30: 4 | AQ30: 9.7 | AR30: 9.65 | AS30: 7.388597 | AT30: 2 | AU30: 9.9 | AV30: =I30+Q30+T30+AB30+AJ30+AR30+AU30 -> 97 | AW30: =RANK(AV30,$AV$30:$AV$43) -> 1 | AX30: 12 | AY30: 25000 | AZ30: 1800 | BA30: 1700 | BB30: 500 | BC30: 800 | BD30: 12000 | BE30: 6000 | BF30: 48400
A31: 강화 | B31: 98907 | C31: 106269.01 | D31: 107.44336 | E31: 13 | F31: 13.2 | G31: 6 | H31: 14.25 | I31: 13.725 | J31: 20922 | K31: 21808.129 | L31: 104.23539 | M31: 5 | N31: 14.4 | O31: 6 | P31: 14.25 | Q31: 14.325 | R31: 19.9715 | S31: 3 | T31: 19.6 | U31: 2589 | V31: 2223 | W31: 85.863268 | X31: 14 | Y31: 13.05 | Z31: 12 | AA31: 13.35 | AB31: 13.2 | AC31: 1769 | AD31: 1153 | AE31: 65.178067 | AF31: 13 | AG31: 13.2 | AH31: 11 | AI31: 13.5 | AJ31: 13.35 | AK31: 7421.7053 | AL31: 4912.06 | AM31: 66.185058 | AN31: 13 | AO31: 8.8 | AP31: 13 | AQ31: 8.8 | AR31: 8.8 | AS31: 6.3601789 | AT31: 14 | AU31: 8.7 | AV31: =I31+Q31+T31+AB31+AJ31+AR31+AU31 -> 91.7 | AW31: =RANK(AV31,$AV$30:$AV$43) -> 12 | AX31: 13 | AY31: 18000 | AZ31: 1800 | BA31: 1700 | BB31: 500 | BC31: 400 | BD31: 7000 | BE31: 3500 | BF31: 33500
A32: 양평 | B32: 106201 | C32: 123988.44 | D32: 116.74885 | E32: 2 | F32: 14.85 | G32: 2 | H32: 14.85 | I32: 14.85 | J32: 22310 | K32: 23300.287 | L32: 104.43876 | M32: 4 | N32: 14.55 | O32: 5 | P32: 14.4 | Q32: 14.475 | R32: 19.9886 | S32: 2 | T32: 19.8 | U32: 3189 | V32: 2977 | W32: 93.352148 | X32: 11 | Y32: 13.5 | Z32: 7 | AA32: 14.1 | AB32: 13.8 | AC32: 2028 | AD32: 1585 | AE32: 78.155819 | AF32: 11 | AG32: 13.5 | AH32: 7 | AI32: 14.1 | AJ32: 13.8 | AK32: 18925.257 | AL32: 12668.23 | AM32: 66.93822 | AN32: 11 | AO32: 9 | AP32: 6 | AQ32: 9.5 | AR32: 9.25 | AS32: 6.4502838 | AT32: 13 | AU32: 8.8 | AV32: =I32+Q32+T32+AB32+AJ32+AR32+AU32 -> 94.775 | AW32: =RANK(AV32,$AV$30:$AV$43) -> 5 | AX32: 12 | AY32: 22000 | AZ32: 1800 | BA32: 1700 | BB32: 500 | BC32: 600 | BD32: 10000 | BE32: 4500 | BF32: 41700
A33: 가평 | B33: 55482 | C33: 65175.445 | D33: 117.47133 | E33: 1 | F33: 15 | G33: 12 | H33: 13.35 | I33: 14.175 | J33: 16099 | K33: 18684.369 | L33: 116.05919 | M33: 1 | N33: 15 | O33: 12 | P33: 13.35 | Q33: 14.175 | R33: 19.9658 | S33: 4 | T33: 19.4 | U33: 2292 | V33: 2244 | W33: 97.905759 | X33: 2 | Y33: 14.85 | Z33: 11 | AA33: 13.5 | AB33: 14.175 | AC33: 1418 | AD33: 1349 | AE33: 95.133992 | AF33: 3 | AG33: 14.7 | AH33: 10 | AI33: 13.65 | AJ33: 14.175 | AK33: 9639.4573 | AL33: 7537.19 | AM33: 78.191021 | AN33: 6 | AO33: 9.5 | AP33: 9 | AQ33: 9.2 | AR33: 9.35 | AS33: 7.1583151 | AT33: 5 | AU33: 9.6 | AV33: =I33+Q33+T33+AB33+AJ33+AR33+AU33 -> 95.05 | AW33: =RANK(AV33,$AV$30:$AV$43) -> 3 | AX33: 6 | AY33: 25000 | AZ33: 1300 | BA33: 1200 | BB33: 350 | BC33: 700 | BD33: 12000 | BE33: 4500 | BF33: 44850
A34: 경기광주 | B34: 101037 | C34: 113473.93 | D34: 112.30929 | E34: 6 | F34: 14.25 | G34: 4 | H34: 14.55 | I34: 14.4 | J34: 25643 | K34: 25801.344 | L34: 100.61749 | M34: 9 | N34: 13.8 | O34: 3 | P34: 14.7 | Q34: 14.25 | R34: 19.943 | S34: 9 | T34: 18.4 | U34: 3698 | V34: 3487 | W34: 94.294213 | X34: 8 | Y34: 13.95 | Z34: 4 | AA34: 14.55 | AB34: 14.25 | AC34: 2340 | AD34: 2082 | AE34: 88.974359 | AF34: 6 | AG34: 14.25 | AH34: 4 | AI34: 14.55 | AJ34: 14.4 | AK34: 18349.316 | AL34: 13322.88 | AM34: 72.606956 | AN34: 7 | AO34: 9.4 | AP34: 5 | AQ34: 9.6 | AR34: 9.5 | AS34: 7.2623566 | AT34: 4 | AU34: 9.7 | AV34: =I34+Q34+T34+AB34+AJ34+AR34+AU34 -> 94.9 | AW34: =RANK(AV34,$AV$30:$AV$43) -> 4 | AX34: 7 | AY34: 22000 | AZ34: 1500 | BA34: 1200 | BB34: 350 | BC34: 600 | BD34: 10000 | BE34: 4500 | BF34: 40150
A35: 이천 | B35: 92073 | C35: 102733.08 | D35: 111.57786 | E35: 7 | F35: 14.1 | G35: 9 | H35: 13.8 | I35: 13.95 | J35: 21117 | K35: 20862.02 | L35: 98.792539 | M35: 11 | N35: 13.5 | O35: 7 | P35: 14.1 | Q35: 13.8 | R35: 19.9487 | S35: 7 | T35: 18.8 | U35: 3408 | V35: 3183 | W35: 93.397887 | X35: 10 | Y35: 13.65 | Z35: 6 | AA35: 14.25 | AB35: 13.95 | AC35: 2331 | AD35: 2053 | AE35: 88.073788 | AF35: 7 | AG35: 14.1 | AH35: 5 | AI35: 14.4 | AJ35: 14.25 | AK35: 28320.005 | AL35: 24245.5 | AM35: 85.612625 | AN35: 2 | AO35: 9.9 | AP35: 1 | AQ35: 10 | AR35: 9.95 | AS35: 6.8998026 | AT35: 8 | AU35: 9.3 | AV35: =I35+Q35+T35+AB35+AJ35+AR35+AU35 -> 94 | AW35: =RANK(AV35,$AV$30:$AV$43) -> 7 | AX35: 11 | AY35: 20000 | AZ35: 1800 | BA35: 1700 | BB35: 500 | BC35: 500 | BD35: 8000 | BE35: 4000 | BF35: 36600
A36: 여주 | B36: 93377 | C36: 101218.22 | D36: 108.39738 | E36: 12 | F36: 13.35 | G36: 10 | H36: 13.65 | I36: 13.5 | J36: 19993 | K36: 19071.486 | L36: 95.390819 | M36: 14 | N36: 13.05 | O36: 10 | P36: 13.65 | Q36: 13.35 | R36: 19.9487 | S36: 7 | T36: 18.8 | U36: 2702 | V36: 2628 | W36: 97.261288 | X36: 3 | Y36: 14.7 | Z36: 9 | AA36: 13.8 | AB36: 14.25 | AC36: 1715 | AD36: 1624 | AE36: 94.693878 | AF36: 4 | AG36: 14.55 | AH36: 6 | AI36: 14.25 | AJ36: 14.4 | AK36: 18039.227 | AL36: 15441.72 | AM36: 85.600786 | AN36: 3 | AO36: 9.8 | AP36: 3 | AQ36: 9.8 | AR36: 9.8 | AS36: 6.8197524 | AT36: 9 | AU36: 9.2 | AV36: =I36+Q36+T36+AB36+AJ36+AR36+AU36 -> 93.3 | AW36: =RANK(AV36,$AV$30:$AV$43) -> 8 | AX36: 9 | AY36: 20000 | AZ36: 1750 | BA36: 1500 | BB36: 400 | BC36: 500 | BD36: 8000 | BE36: 4000 | BF36: 36200
A37: 안성 | B37: 102113 | C37: 112475.84 | D37: 110.1484 | E37: 10 | F37: 13.65 | G37: 5 | H37: 14.4 | I37: 14.025 | J37: 31480 | K37: 31086.323 | L37: 98.749439 | M37: 12 | N37: 13.35 | O37: 2 | P37: 14.85 | Q37: 14.1 | R37: 19.9658 | S37: 4 | T37: 19.4 | U37: 3963 | V37: 3765 | W37: 95.003785 | X37: 7 | Y37: 14.1 | Z37: 2 | AA37: 14.85 | AB37: 14.475 | AC37: 2750 | AD37: 2187 | AE37: 79.527273 | AF37: 9 | AG37: 13.8 | AH37: 1 | AI37: 15 | AJ37: 14.4 | AK37: 28776.305 | AL37: 19012.82 | AM37: 66.071095 | AN37: 14 | AO37: 8.7 | AP37: 2 | AQ37: 9.9 | AR37: 9.3 | AS37: 7.4303198 | AT37: 1 | AU37: 10 | AV37: =I37+Q37+T37+AB37+AJ37+AR37+AU37 -> 95.7 | AW37: =RANK(AV37,$AV$30:$AV$43) -> 2 | AX37: 14 | AY37: 25000 | AZ37: 1800 | BA37: 1700 | BB37: 500 | BC37: 750 | BD37: 12000 | BE37: 5000 | BF37: 47550
A38: 동두천 | B38: 67234 | C38: 74152.093 | D38: 110.28957 | E38: 9 | F38: 13.8 | G38: 11 | H38: 13.5 | I38: 13.65 | J38: 18793 | K38: 19243.412 | L38: 102.3967 | M38: 7 | N38: 14.1 | O38: 8 | P38: 13.95 | Q38: 14.025 | R38: 19.9658 | S38: 4 | T38: 19.4 | U38: 2935 | V38: 2673 | W38: 91.073254 | X38: 12 | Y38: 13.35 | Z38: 8 | AA38: 13.95 | AB38: 13.65 | AC38: 1708 | AD38: 1484 | AE38: 86.885246 | AF38: 8 | AG38: 13.95 | AH38: 9 | AI38: 13.8 | AJ38: 13.875 | AK38: 10894.732 | AL38: 7350.14 | AM38: 67.465085 | AN38: 10 | AO38: 9.1 | AP38: 10 | AQ38: 9.1 | AR38: 9.1 | AS38: 6.4654758 | AT38: 12 | AU38: 8.9 | AV38: =I38+Q38+T38+AB38+AJ38+AR38+AU38 -> 92.6 | AW38: =RANK(AV38,$AV$30:$AV$43) -> 10 | AX38: 6 | AY38: 18000 | AZ38: 1300 | BA38: 1200 | BB38: 400 | BC38: 400 | BD38: 7000 | BE38: 3500 | BF38: 31550
A39: 연천 | B39: 59700 | C39: 65017.281 | D39: 108.90667 | E39: 11 | F39: 13.5 | G39: 13 | H39: 13.2 | I39: 13.35 | J39: 15342 | K39: 16289.041 | L39: 106.17286 | M39: 3 | N39: 14.7 | O39: 13 | P39: 13.2 | Q39: 13.95 | R39: 19.9202 | S39: 14 | T39: 17.4 | U39: 1712 | V39: 1511 | W39: 88.259346 | X39: 13 | Y39: 13.2 | Z39: 13 | AA39: 13.2 | AB39: 13.2 | AC39: 1267 | AD39: 697 | AE39: 55.011839 | AF39: 14 | AG39: 13.05 | AH39: 13 | AI39: 13.2 | AJ39: 13.125 | AK39: 6386.1869 | AL39: 5086.84 | AM39: 79.653792 | AN39: 4 | AO39: 9.7 | AP39: 12 | AQ39: 8.9 | AR39: 9.3 | AS39: 6.4696805 | AT39: 11 | AU39: 9 | AV39: =I39+Q39+T39+AB39+AJ39+AR39+AU39 -> 89.325 | AW39: =RANK(AV39,$AV$30:$AV$43) -> 14 | AX39: 7 | AY39: 16000 | AZ39: 1500 | BA39: 1200 | BB39: 350 | BC39: 400 | BD39: 6500 | BE39: 3500 | BF39: 29400
A40: 오산 | B40: 91765 | C40: 105628.24 | D40: 115.10733 | E40: 3 | F40: 14.7 | G40: 7 | H40: 14.1 | I40: 14.4 | J40: 18472 | K40: 18816.442 | L40: 101.86467 | M40: 8 | N40: 13.95 | O40: 11 | P40: 13.5 | Q40: 13.725 | R40: 19.9259 | S40: 13 | T40: 17.6 | U40: 3358 | V40: 3218 | W40: 95.830852 | X40: 6 | Y40: 14.25 | Z40: 5 | AA40: 14.4 | AB40: 14.325 | AC40: 1764 | AD40: 1580 | AE40: 89.569161 | AF40: 5 | AG40: 14.4 | AH40: 8 | AI40: 13.95 | AJ40: 14.175 | AK40: 9351.7825 | AL40: 6429.24 | AM40: 68.748819 | AN40: 9 | AO40: 9.2 | AP40: 11 | AQ40: 9 | AR40: 9.1 | AS40: 7.2746417 | AT40: 3 | AU40: 9.8 | AV40: =I40+Q40+T40+AB40+AJ40+AR40+AU40 -> 93.125 | AW40: =RANK(AV40,$AV$30:$AV$43) -> 9 | AX40: 3 | AY40: 20000 | AZ40: 1000 | BA40: 1000 | BB40: 300 | BC40: 500 | BD40: 8000 | BE40: 4000 | BF40: 34600
A41: 백령 | B41: 29234 | C41: 33305.44 | D41: 113.92707 | E41: 4 | F41: 14.55 | G41: 14 | H41: 13.05 | I41: 13.8 | J41: 6062 | K41: 6464.0756 | L41: 106.63272 | M41: 2 | N41: 14.85 | O41: 14 | P41: 13.05 | Q41: 13.95 | R41: 19.943 | S41: 10 | T41: 18.2 | U41: 922 | V41: 885 | W41: 95.986985 | X41: 5 | Y41: 14.4 | Z41: 14 | AA41: 13.05 | AB41: 13.725 | AC41: 545 | AD41: 547 | AE41: 100.36697 | AF41: 2 | AG41: 14.85 | AH41: 14 | AI41: 13.05 | AJ41: 13.95 | AK41: 620.66477 | AL41: 658.88 | AM41: 106.15715 | AN41: 1 | AO41: 10 | AP41: 14 | AQ41: 8.7 | AR41: 9.35 | AS41: 6.4990321 | AT41: 10 | AU41: 9.1 | AV41: =I41+Q41+T41+AB41+AJ41+AR41+AU41 -> 92.075 | AW41: =RANK(AV41,$AV$30:$AV$43) -> 11 | AX41: 4 | AY41: 18000 | AZ41: 800 | BA41: 800 | BB41: 300 | BC41: 400 | BD41: 7000 | BE41: 3500 | BF41: 30766
... A43: 구리 | B43: 136792 | C43: 146198.67 | D43: 106.87662 | E43: 14 | F43: 13.05 | G43: 1 | H43: 15 | I43: 14.025 | J43: 22641 | K43: 23558.025 | L43: 104.05029 | M43: 6 | N43: 14.25 | O43: 4 | P43: 14.55 | Q43: 14.4 | R43: 19.9316 | S43: 12 | T43: 17.8 | U43: 3910 | V43: 3837 | W43: 98.132992 | X43: 1 | Y43: 15 | Z43: 1 | AA43: 15 | AB43: 15 | AC43: 2081 | AD43: 2175 | AE43: 104.51706 | AF43: 1 | AG43: 15 | AH43: 2 | AI43: 14.85 | AJ43: 14.925 | AK43: 15428.44 | AL43: 10249.88 | AM43: 66.434972 | AN43: 12 | AO43: 8.9 | AP43: 7 | AQ43: 9.4 | AR43: 9.15 | AS43: 6.9891086 | AT43: 7 | AU43: 9.4 | AV43: =I43+Q43+T43+AB43+AJ43+AR43+AU43 -> 94.7 | AW43: =RANK(AV43,$AV$30:$AV$43) -> 6 | AX43: 5 | AY43: 22000 | AZ43: 1300 | BA43: 1200 | BB43: 400 | BC43: 600 | BD43: 10000 | BE43: 4500 | BF43: 39650
A44: 합 계 | B44: 8321000 | C44: 8978492.4 | D44: =C44/B44% -> 107.9016 | J44: 1661000 | K44: 1777687 | L44: =K44/J44% -> 107.02511 | U44: 250000 | V44: 237619 | W44: =V44/U44% -> 95.0476 | AC44: 149449 | AD44: 125899 | AE44: =AD44/AC44% -> 84.242116 | AK44: 1044000.3 | AL44: 711668.65 | AM44: =AL44/AK44% -> 68.167475 | AY44: =SUM(AY4:AY43) -> 1000000 | AZ44: =SUM(AZ4:AZ43) -> 75916 | BA44: =SUM(BA4:BA43) -> 80000 | BB44: =SUM(BB4:BB43) -> 22000 | BC44: =SUM(BC4:BC43) -> 25000 | BD44: =SUM(BD4:BD43) -> 400000 | BE44: =SUM(BE4:BE43) -> 200000 | BF44: =SUM(BF4:BF43) -> 1802916

Sheet Sheet1 (2)
A2: 구 분 | B2: 총수신고(15점, 단위: 백만원, %)) | J2: 요구불 수신고(15점, 단위: 백만원, %) | R2: 조달금리(20점) | U2: 스마트뱅킹(15점, 단위: 건, %) | AC2: 체크카드(15점, 단위: 건, %) | AK2: 수수료(10점, 단위: 천원, %) | AS2: 우수고객(10점) | AV2: 총점 | AW2: 순위 | AX2: 관내국수 | AY2: 5231-361 | BD2: 5231-362 | BF2: 합 계
A3: 구분 | B3: 목표 | C3: 실적 | D3: 달성률 | E3: 달성률 순위 | F3: 달성률 점수 | G3: 점유율 순위 | H3: 점유율 점수 | I3: 환산점수 | J3: 목표 | K3: 실적 | L3: 달성률 | M3: 달성률 순위 | N3: 달성률 점수 | O3: 점유율 순위 | P3: 점유율 점수 | Q3: 환산점수 | R3: 평가점수 | S3: 순위 | T3: 환산점수 | U3: 목표 | V3: 실적 | W3: 달성률 | X3: 달성률 순위 | Y3: 달성률 점수 | Z3: 점유율 순위 | AA3: 점유율 점수 | AB3: 환산점수 | AC3: 목표 | AD3: 실적 | AE3: 달성률 | AF3: 달성률 순위 | AG3: 달성률 점수 | AH3: 점유율 순위 | AI3: 점유율 점수 | AJ3: 환산점수 | AK3: 목표 | AL3: 실적 | AM3: 달성률 | AN3: 달성률 순위 | AO3: 달성률 점수 | AP3: 점유율 순위 | AQ3: 점유율 점수 | AR3: 환산점수 | AS3: 평가점수 | AT3: 순위 | AU3: 환산점수 | AV3: 총점 | AW3: 순위 | AX3: 관내국수 | AY3: 210-01 (일반수용비) | AZ3: 210-02 (공공요금) | BA3: 210-09 (시설장비유지비) | BB3: 220-01 (국내여비) | BC3: 240-01 (업무추진비) | BD3: 210-01 (일반수용비) | BE3: 310-03 (포상금) | BF3: 합계
A4: 인천 | B4: 299995 | C4: 323347.68 | D4: 107.78436 | E4: 13 | F4: 13.2 | G4: 10 | H4: 13.65 | I4: 13.425 | J4: 61649 | K4: 64908.881 | L4: 105.28781 | M4: 9 | N4: 13.8 | O4: 10 | P4: 13.65 | Q4: 13.725 | R4: 19.9829 | S4: 6 | T4: 19 | U4: 9804 | V4: 9003 | W4: 91.829865 | X4: 21 | Y4: 12 | Z4: 7 | AA4: 14.1 | AB4: 13.05 | AC4: 5846 | AD4: 4769 | AE4: 81.577147 | AF4: 15 | AG4: 12.9 | AH4: 10 | AI4: 13.65 | AJ4: 13.275 | AK4: 29619.755 | AL4: 20050.06 | AM4: 67.691513 | AN4: 8 | AO4: 9.3 | AP4: 13 | AQ4: 8.8 | AR4: 9.05 | AS4: 7.053419 | AT4: 15 | AU4: 8.6 | AV4: 90.125 | AW4: 10 | AX4: 19 | AY4: 27000 | AZ4: 3300 | BA4: 3200 | BB4: 900 | BC4: 600 | BD4: 10000 | BE4: 5000 | BF4: 50250
A5: 서인천 | B5: 224643 | C5: 265705.89 | D5: 118.27917 | E5: 1 | F5: 15 | G5: 15 | H5: 12.9 | I5: 13.95 | J5: 54762 | K5: 80103.361 | L5: 146.27545 | M5: 1 | N5: 15 | O5: 4 | P5: 14.55 | Q5: 14.775 | R5: 19.985 | S5: 5 | T5: 19.2 | U5: 6756 | V5: 6468 | W5: 95.737123 | X5: 12 | Y5: 13.35 | Z5: 16 | AA5: 12.75 | AB5: 13.05 | AC5: 4154 | AD5: 3709 | AE5: 89.287434 | AF5: 6 | AG5: 14.25 | AH5: 13 | AI5: 13.2 | AJ5: 13.725 | AK5: 19391.732 | AL5: 13799.48 | AM5: 71.161667 | AN5: 4 | AO5: 9.7 | AP5: 22 | AQ5: 7.9 | AR5: 8.8 | AS5: 7.0654023 | AT5: 14 | AU5: 8.7 | AV5: 92.2 | AW5: 3 | AX5: 8 | AY5: 33000 | AZ5: 1800 | BA5: 1800 | BB5: 500 | BC5: 900 | BD5: 16000 | BE5: 8000 | BF5: 61900
A6: 인천계양 | B6: 151364 | C6: 167687.4 | D6: 110.7842 | E6: 7 | F6: 14.1 | G6: 22 | H6: 11.85 | I6: 12.975 | J6: 32926 | K6: 34130.886 | L6: 103.65938 | M6: 10 | N6: 13.65 | O6: 22 | P6: 11.85 | Q6: 12.75 | R6: 19.9544 | S6: 18 | T6: 16.6 | U6: 5402 | V6: 5207 | W6: 96.390226 | X6: 8 | Y6: 13.95 | Z6: 24 | AA6: 11.55 | AB6: 12.75 | AC6: 3152 | AD6: 2246 | AE6: 71.256345 | AF6: 20 | AG6: 12.15 | AH6: 24 | AI6: 11.55 | AJ6: 11.85 | AK6: 12023.776 | AL6: 7854.42 | AM6: 65.324069 | AN6: 18 | AO6: 8.3 | AP6: 24 | AQ6: 7.7 | AR6: 8 | AS6: 7.2162227 | AT6: 7 | AU6: 9.4 | AV6: 84.325 | AW6: 23 | AX6: 5 | AY6: 23000 | AZ6: 1566 | BA6: 1500 | BB6: 400 | BC6: 500 | BD6: 7000 | BE6: 4000 | BF6: 37400
A7: 남인천 | B7: 421947 | C7: 481259.07 | D7: 114.05676 | E7: 4 | F7: 14.55 | G7: 3 | H7: 14.7 | I7: 14.625 | J7: 98615 | K7: 129374.31 | L7: 131.1913 | M7: 2 | N7: 14.85 | O7: 1 | P7: 15 | Q7: 14.925 | R7: 19.95 | S7: 20 | T7: 16.2 | U7: 15565 | V7: 14827 | W7: 95.258593 | X7: 16 | Y7: 12.75 | Z7: 1 | AA7: 15 | AB7: 13.875 | AC7: 8681 | AD7: 7576 | AE7: 87.271052 | AF7: 10 | AG7: 13.65 | AH7: 1 | AI7: 15 | AJ7: 14.325 | AK7: 48503.051 | AL7: 30774.83 | AM7: 63.449266 | AN7: 23 | AO7: 7.8 | AP7: 4 | AQ7: 9.7 | AR7: 8.75 | AS7: 6.9398332 | AT7: 17 | AU7: 8.4 | AV7: 91.1 | AW7: 6 | AX7: 16 | AY7: 33000 | AZ7: 3000 | BA7: 4000 | BB7: 850 | BC7: 850 | BD7: 15000 | BE7: 6000 | BF7: 62650
A8: 부평 | B8: 315529 | C8: 344504.01 | D8: 109.18299 | E8: 11 | F8: 13.5 | G8: 8 | H8: 13.95 | I8: 13.725 | J8: 72656 | K8: 73623.766 | L8: 101.33198 | M8: 18 | N8: 12.45 | O8: 9 | P8: 13.8 | Q8: 13.125 | R8: 19.97 | S8: 10 | T8: 18.2 | U8: 9432 | V8: 9275 | W8: 98.335454 | X8: 3 | Y8: 14.7 | Z8: 5 | AA8: 14.4 | AB8: 14.55 | AC8: 5856 | AD8: 5688 | AE8: 97.131148 | AF8: 4 | AG8: 14.55 | AH8: 3 | AI8: 14.7 | AJ8: 14.625 | AK8: 27864.373 | AL8: 18443.9 | AM8: 66.191693 | AN8: 14 | AO8: 8.7 | AP8: 15 | AQ8: 8.6 | AR8: 8.65 | AS8: 7.2419778 | AT8: 5 | AU8: 9.6 | AV8: 92.475 | AW8: 2 | AX8: 11 | AY8: 33000 | AZ8: 2000 | BA8: 2700 | BB8: 600 | BC8: 1000 | BD8: 17000 | BE8: 9000 | BF8: 65300
A9: 의정부 | B9: 263868 | C9: 275841.53 | D9: 104.5377 | E9: 19 | F9: 12.3 | G9: 14 | H9: 13.05 | I9: 12.675 | J9: 55706 | K9: 56791.186 | L9: 101.94806 | M9: 16 | N9: 12.75 | O9: 12 | P9: 13.35 | Q9: 13.05 | R9: 19.995 | S9: 2 | T9: 19.8 | U9: 8847 | V9: 7860 | W9: 88.843676 | X9: 24 | Y9: 11.55 | Z9: 11 | AA9: 13.5 | AB9: 12.525 | AC9: 5227 | AD9: 3003 | AE9: 57.451693 | AF9: 24 | AG9: 11.55 | AH9: 21 | AI9: 12 | AJ9: 11.775 | AK9: 33634.971 | AL9: 22267.74 | AM9: 66.20413 | AN9: 13 | AO9: 8.8 | AP9: 11 | AQ9: 9 | AR9: 8.9 | AS9: 6.9359441 | AT9: 18 | AU9: 8.3 | AV9: 87.025 | AW9: 16 | AX9: 12 | AY9: 25000 | AZ9: 2000 | BA9: 2800 | BB9: 600 | BC9: 550 | BD9: 8000 | BE9: 4500 | BF9: 43950
A10: 수원 | B10: 464377 | C10: 485367.95 | D10: 104.52024 | E10: 20 | F10: 12.15 | G10: 2 | H10: 14.85 | I10: 13.5 | J10: 92948 | K10: 95193.145 | L10: 102.41548 | M10: 14 | N10: 13.05 | O10: 2 | P10: 14.85 | Q10: 13.95 | R10: 19.9829 | S10: 6 | T10: 19 | U10: 12188 | V10: 11475 | W10: 94.149984 | X10: 19 | Y10: 12.3 | Z10: 4 | AA10: 14.55 | AB10: 13.425 | AC10: 7283 | AD10: 4976 | AE10: 68.323493 | AF10: 23 | AG10: 11.7 | AH10: 8 | AI10: 13.95 | AJ10: 12.825 | AK10: 49017 | AL10: 34682.04 | AM10: 70.755126 | AN10: 5 | AO10: 9.6 | AP10: 3 | AQ10: 9.8 | AR10: 9.7 | AS10: 6.8976547 | AT10: 20 | AU10: 8.1 | AV10: 90.5 | AW10: 8 | AX10: 10 | AY10: 30000 | AZ10: 1900 | BA10: 2200 | BB10: 600 | BC10: 800 | BD10: 12000 | BE10: 6000 | BF10: 53400
A11: 동수원 | B11: 285275 | C11: 291092.82 | D11: 102.03937 | E11: 23 | F11: 11.7 | G11: 13 | H11: 13.2 | I11: 12.45 | J11: 45192 | K11: 48712.389 | L11: 107.78985 | M11: 7 | N11: 14.1 | O11: 13 | P11: 13.2 | Q11: 13.65 | R11: 20 | S11: 1 | T11: 20 | U11: 8180 | V11: 7863 | W11: 96.124694 | X11: 10 | Y11: 13.65 | Z11: 10 | AA11: 13.65 | AB11: 13.65 | AC11: 3989 | AD11: 4982 | AE11: 124.89346 | AF11: 1 | AG11: 15 | AH11: 7 | AI11: 14.1 | AJ11: 14.55 | AK11: 28705 | AL11: 17961.22 | AM11: 62.571747 | AN11: 24 | AO11: 7.7 | AP11: 17 | AQ11: 8.4 | AR11: 8.05 | AS11: 6.9952675 | AT11: 16 | AU11: 8.5 | AV11: 90.85 | AW11: 7 | AX11: 9 | AY11: 30000 | AZ11: 1800 | BA11: 2000 | BB11: 600 | BC11: 800 | BD11: 12000 | BE11: 6000 | BF11: 53200
A12: 서수원 | AX12: 5 | AY12: 23000 | AZ12: 1500 | BA12: 1500 | BB12: 400 | BC12: 500 | BD12: 10000 | BE12: 4000 | BF12: 40400
A13: 군포 | B13: 233265 | C13: 258308.1 | D13: 110.7359 | E13: 8 | F13: 13.95 | G13: 16 | H13: 12.75 | I13: 13.35 | J13: 36687 | K13: 39291.491 | L13: 107.09922 | M13: 8 | N13: 13.95 | O13: 19 | P13: 12.3 | Q13: 13.125 | R13: 19.968 | S13: 11 | T13: 18 | U13: 5836 | V13: 5628 | W13: 96.435915 | X13: 7 | Y13: 14.1 | Z13: 21 | AA13: 12 | AB13: 13.05 | AC13: 3678 | AD13: 3064 | AE13: 83.306145 | AF13: 14 | AG13: 13.05 | AH13: 20 | AI13: 12.15 | AJ13: 12.6 | AK13: 27026.947 | AL13: 18180.14 | AM13: 67.266718 | AN13: 9 | AO13: 9.2 | AP13: 16 | AQ13: 8.5 | AR13: 8.85 | AS13: 7.4680157 | AT13: 1 | AU13: 10 | AV13: 88.975 | AW13: 12 | AX13: 8 | AY13: 27000 | AZ13: 1800 | BA13: 1800 | BB13: 500 | BC13: 600 | BD13: 10000 | BE13: 5000 | BF13: 46650
A14: 안양 | B14: 434881 | C14: 461935.24 | D14: 106.22107 | E14: 16 | F14: 12.75 | G14: 4 | H14: 14.55 | I14: 13.65 | J14: 67063 | K14: 78374.327 | L14: 116.86672 | M14: 4 | N14: 14.55 | O14: 6 | P14: 14.25 | Q14: 14.4 | R14: 19.96 | S14: 17 | T14: 16.8 | U14: 8801 | V14: 8505 | W14: 96.636746 | X14: 5 | Y14: 14.4 | Z14: 9 | AA14: 13.8 | AB14: 14.1 | AC14: 5493 | AD14: 5529 | AE14: 100.65538 | AF14: 2 | AG14: 14.85 | AH14: 4 | AI14: 14.55 | AJ14: 14.7 | AK14: 46481.533 | AL14: 30419 | AM14: 65.443194 | AN14: 17 | AO14: 8.4 | AP14: 5 | AQ14: 9.6 | AR14: 9 | AS14: 6.6858769 | AT14: 24 | AU14: 7.7 | AV14: 90.35 | AW14: 9 | AX14: 11 | AY14: 30000 | AZ14: 2000 | BA14: 2700 | BB14: 600 | BC14: 800 | BD14: 12000 | BE14: 6000 | BF14: 54100
A15: 성남 | B15: 331000 | C15: 362257.84 | D15: 109.44346 | E15: 9 | F15: 13.8 | G15: 7 | H15: 14.1 | I15: 13.95 | J15: 77732 | K15: 78424.7 | L15: 100.89114 | M15: 19 | N15: 12.3 | O15: 5 | P15: 14.4 | Q15: 13.35 | R15: 19.99 | S15: 4 | T15: 19.4 | U15: 9630 | V15: 9129 | W15: 94.797508 | X15: 17 | Y15: 12.6 | Z15: 6 | AA15: 14.25 | AB15: 13.425 | AC15: 6052 | AD15: 4901 | AE15: 80.981494 | AF15: 16 | AG15: 12.75 | AH15: 9 | AI15: 13.8 | AJ15: 13.275 | AK15: 25101.805 | AL15: 16341.58 | AM15: 65.101215 | AN15: 19 | AO15: 8.2 | AP15: 18 | AQ15: 8.3 | AR15: 8.25 | AS15: 7.2379672 | AT15: 6 | AU15: 9.5 | AV15: 91.15 | AW15: 5 | AX15: 10 | AY15: 30000 | AZ15: 1900 | BA15: 2300 | BB15: 600 | BC15: 800 | BD15: 12000 | BE15: 6000 | BF15: 53500
A16: 성남분당 | B16: 659092 | C16: 652458.23 | D16: 98.993499 | E16: 24 | F16: 11.55 | G16: 1 | H16: 15 | I16: 13.275 | J16: 47438 | K16: 59868.504 | L16: 126.20369 | M16: 3 | N16: 14.7 | O16: 11 | P16: 13.5 | Q16: 14.1 | R16: 19.944 | S16: 22 | T16: 15.8 | U16: 6720 | V16: 6427 | W16: 95.639881 | X16: 13 | Y16: 13.2 | Z16: 17 | AA16: 12.6 | AB16: 12.9 | AC16: 4027 | AD16: 3570 | AE16: 88.651602 | AF16: 9 | AG16: 13.8 | AH16: 14 | AI16: 13.05 | AJ16: 13.425 | AK16: 62196.252 | AL16: 40343.37 | AM16: 64.864632 | AN16: 21 | AO16: 8 | AP16: 1 | AQ16: 10 | AR16: 9 | AS16: 7.0892026 | AT16: 13 | AU16: 8.8 | AV16: 87.3 | AW16: 15 | AX16: 9 | AY16: 27000 | AZ16: 1800 | BA16: 2000 | BB16: 600 | BC16: 600 | BD16: 10000 | BE16: 5000 | BF16: 47000
A17: 부천 | B17: 417802 | C17: 445127.03 | D17: 106.54019 | E17: 14 | F17: 13.05 | G17: 5 | H17: 14.4 | I17: 13.725 | J17: 87804 | K17: 90489.225 | L17: 103.0582 | M17: 12 | N17: 13.35 | O17: 3 | P17: 14.7 | Q17: 14.025 | R17: 19.9943 | S17: 3 | T17: 19.6 | U17: 13663 | V17: 13459 | W17: 98.506916 | X17: 2 | Y17: 14.85 | Z17: 2 | AA17: 14.85 | AB17: 14.85 | AC17: 7927 | AD17: 7029 | AE17: 88.671629 | AF17: 8 | AG17: 13.95 | AH17: 2 | AI17: 14.85 | AJ17: 14.4 | AK17: 43573.168 | AL17: 28552.09 | AM17: 65.526771 | AN17: 16 | AO17: 8.5 | AP17: 7 | AQ17: 9.4 | AR17: 8.95 | AS17: 7.1950527 | AT17: 10 | AU17: 9.1 | AV17: 94.65 | AW17: 1 | AX17: 16 | AY17: 33000 | AZ17: 3000 | BA17: 3200 | BB17: 850 | BC17: 1200 | BD17: 18000 | BE17: 10000 | BF17: 69200
A18: 안산 | B18: 313023 | C18: 324221.04 | D18: 103.57738 | E18: 21 | F18: 12 | G18: 9 | H18: 13.8 | I18: 12.9 | J18: 75810 | K18: 77571.461 | L18: 102.32352 | M18: 15 | N18: 12.9 | O18: 7 | P18: 14.1 | Q18: 13.5 | R18: 19.95 | S18: 19 | T18: 16.4 | U18: 13020 | V18: 12436 | W18: 95.514593 | X18: 15 | Y18: 12.9 | Z18: 3 | AA18: 14.7 | AB18: 13.8 | AC18: 6941 | AD18: 5475 | AE18: 78.879124 | AF18: 18 | AG18: 12.45 | AH18: 5 | AI18: 14.4 | AJ18: 13.425 | AK18: 30705.275 | AL18: 20427.48 | AM18: 66.527592 | AN18: 11 | AO18: 9 | AP18: 12 | AQ18: 8.9 | AR18: 8.95 | AS18: 7.3320809 | AT18: 2 | AU18: 9.9 | AV18: 88.875 | AW18: 13 | AX18: 14 | AY18: 27000 | AZ18: 3000 | BA18: 2800 | BB18: 700 | BC18: 600 | BD18: 10000 | BE18: 5000 | BF18: 49100
A19: 고양일산 | B19: 283652 | C19: 300503.05 | D19: 105.94075 | E19: 17 | F19: 12.6 | G19: 11 | H19: 13.5 | I19: 13.05 | J19: 44632 | K19: 46036.288 | L19: 103.14637 | M19: 11 | N19: 13.5 | O19: 15 | P19: 12.9 | Q19: 13.2 | R19: 19.968 | S19: 12 | T19: 17.8 | U19: 8014 | V19: 7368 | W19: 91.939107 | X19: 20 | Y19: 12.15 | Z19: 13 | AA19: 13.2 | AB19: 12.675 | AC19: 4450 | AD19: 3117 | AE19: 70.044944 | AF19: 21 | AG19: 12 | AH19: 18 | AI19: 12.45 | AJ19: 12.225 | AK19: 41808.628 | AL19: 29795.9 | AM19: 71.267348 | AN19: 3 | AO19: 9.8 | AP19: 6 | AQ19: 9.5 | AR19: 9.65 | AS19: 6.7627551 | AT19: 22 | AU19: 7.9 | AV19: 86.5 | AW19: 18 | AX19: 9 | AY19: 25000 | AZ19: 1800 | BA19: 2000 | BB19: 600 | BC19: 550 | BD19: 8000 | BE19: 4500 | BF19: 42400
A20: 고양덕양 | B20: 235233 | C20: 249995.12 | D20: 106.27553 | E20: 15 | F20: 12.9 | G20: 17 | H20: 12.6 | I20: 12.75 | J20: 45481 | K20: 45728.475 | L20: 100.54413 | M20: 21 | N20: 12 | O20: 16 | P20: 12.75 | Q20: 12.375 | R20: 19.9658 | S20: 13 | T20: 17.6 | U20: 6221 | V20: 5984 | W20: 96.190323 | X20: 9 | Y20: 13.8 | Z20: 19 | AA20: 12.3 | AB20: 13.05 | AC20: 3902 | AD20: 3378 | AE20: 86.570989 | AF20: 11 | AG20: 13.5 | AH20: 16 | AI20: 12.75 | AJ20: 13.125 | AK20: 24654.191 | AL20: 16020.38 | AM20: 64.980351 | AN20: 20 | AO20: 8.1 | AP20: 20 | AQ20: 8.1 | AR20: 8.1 | AS20: 6.7462828 | AT20: 23 | AU20: 7.8 | AV20: 84.8 | AW20: 21 | AX20: 10 | AY20: 23000 | AZ20: 1900 | BA20: 2200 | BB20: 600 | BC20: 500 | BD20: 7000 | BE20: 4000 | BF20: 39100
A21: 시흥 | B21: 136542 | C21: 151738.45 | D21: 111.1295 | E21: 6 | F21: 14.25 | G21: 23 | H21: 11.7 | I21: 12.975 | J21: 45129 | K21: 44943.262 | L21: 99.588429 | M21: 24 | N21: 11.55 | O21: 17 | P21: 12.6 | Q21: 12.075 | R21: 19.9658 | S21: 13 | T21: 17.6 | U21: 7807 | V21: 7086 | W21: 90.764698 | X21: 22 | Y21: 11.85 | Z21: 14 | AA21: 13.05 | AB21: 12.45 | AC21: 3938 | AD21: 2715 | AE21: 68.943626 | AF21: 22 | AG21: 11.85 | AH21: 23 | AI21: 11.7 | AJ21: 11.775 | AK21: 14227.956 | AL21: 9450.38 | AM21: 66.421206 | AN21: 12 | AO21: 8.9 | AP21: 23 | AQ21: 7.8 | AR21: 8.35 | AS21: 6.9059876 | AT21: 19 | AU21: 8.2 | AV21: 83.425 | AW21: 24 | AX21: 6 | AY21: 23000 | AZ21: 1500 | BA21: 1500 | BB21: 500 | BC21: 500 | BD21: 7000 | BE21: 4000 | BF21: 37600
A22: 광명 | B22: 214468 | C22: 224448.35 | D22: 104.65354 | E22: 18 | F22: 12.45 | G22: 18 | H22: 12.45 | I22: 12.45 | J22: 40058 | K22: 39932.868 | L22: 99.687623 | M22: 22 | N22: 11.85 | O22: 18 | P22: 12.45 | Q22: 12.15 | R22: 19.9658 | S22: 13 | T22: 17.6 | U22: 5848 | V22: 5642 | W22: 96.477428 | X22: 6 | Y22: 14.25 | Z22: 20 | AA22: 12.15 | AB22: 13.2 | AC22: 3449 | AD22: 3072 | AE22: 89.069295 | AF22: 7 | AG22: 14.1 | AH22: 19 | AI22: 12.3 | AJ22: 13.2 | AK22: 21063.265 | AL22: 15050.44 | AM22: 71.453498 | AN22: 2 | AO22: 9.9 | AP22: 21 | AQ22: 8 | AR22: 8.95 | AS22: 6.853824 | AT22: 21 | AU22: 8 | AV22: 85.55 | AW22: 19 | AX22: 7 | AY22: 25000 | AZ22: 1500 | BA22: 1500 | BB22: 500 | BC22: 550 | BD22: 8000 | BE22: 4500 | BF22: 41550
A23: 용인수지 | B23: 290939 | C23: 297828.35 | D23: 102.36797 | E23: 22 | F23: 11.85 | G23: 12 | H23: 13.35 | I23: 12.6 | J23: 27673 | K23: 32018.716 | L23: 115.70381 | M23: 5 | N23: 14.4 | O23: 24 | P23: 11.55 | Q23: 12.975 | R23: 19.936 | S23: 23 | T23: 15.6 | U23: 6358 | V23: 6316 | W23: 99.339415 | X23: 1 | Y23: 15 | Z23: 18 | AA23: 12.45 | AB23: 13.725 | AC23: 3390 | AD23: 3191 | AE23: 94.129794 | AF23: 5 | AG23: 14.4 | AH23: 17 | AI23: 12.6 | AJ23: 13.5 | AK23: 53514.333 | AL23: 35104.26 | AM23: 65.597866 | AN23: 15 | AO23: 8.6 | AP23: 2 | AQ23: 9.9 | AR23: 9.25 | AS23: 7.2095132 | AT23: 8 | AU23: 9.3 | AV23: 86.95 | AW23: 17 | AX23: 6 | AY23: 25000 | AZ23: 1500 | BA23: 1500 | BB23: 500 | BC23: 550 | BD23: 8000 | BE23: 4500 | BF23: 41150
A24: 남양주 | B24: 131656 | C24: 143413.31 | D24: 108.93033 | E24: 12 | F24: 13.35 | G24: 24 | H24: 11.55 | I24: 12.45 | J24: 31530 | K24: 32493.932 | L24: 103.05719 | M24: 13 | N24: 13.2 | O24: 23 | P24: 11.7 | Q24: 12.45 | R24: 19.9829 | S24: 6 | T24: 19 | U24: 6012 | V24: 5453 | W24: 90.701929 | X24: 23 | Y24: 11.7 | Z24: 23 | AA24: 11.7 | AB24: 11.7 | AC24: 4055 | AD24: 2917 | AE24: 71.935882 | AF24: 19 | AG24: 12.3 | AH24: 22 | AI24: 11.85 | AJ24: 12.075 | AK24: 24521.123 | AL24: 16320.4 | AM24: 66.556495 | AN24: 10 | AO24: 9.1 | AP24: 19 | AQ24: 8.2 | AR24: 8.65 | AS24: 7.092625 | AT24: 12 | AU24: 8.9 | AV24: 85.225 | AW24: 20 | AX24: 11 | AY24: 25000 | AZ24: 2000 | BA24: 2500 | BB24: 600 | BC24: 550 | BD24: 8000 | BE24: 4500 | BF24: 43150
... A43: 구리 | B43: 136792 | C43: 146198.67 | D43: 106.87662 | E43: 14 | F43: 13.05 | G43: 1 | H43: 15 | I43: 14.025 | J43: 22641 | K43: 23558.025 | L43: 104.05029 | M43: 6 | N43: 14.25 | O43: 4 | P43: 14.55 | Q43: 14.4 | R43: 19.9316 | S43: 12 | T43: 17.8 | U43: 3910 | V43: 3837 | W43: 98.132992 | X43: 1 | Y43: 15 | Z43: 1 | AA43: 15 | AB43: 15 | AC43: 2081 | AD43: 2175 | AE43: 104.51706 | AF43: 1 | AG43: 15 | AH43: 2 | AI43: 14.85 | AJ43: 14.925 | AK43: 15428.44 | AL43: 10249.88 | AM43: 66.434972 | AN43: 12 | AO43: 8.9 | AP43: 7 | AQ43: 9.4 | AR43: 9.15 | AS43: 6.9891086 | AT43: 7 | AU43: 9.4 | AV43: 94.7 | AW43: 6 | AX43: 5 | AY43: 22000 | AZ43: 1300 | BA43: 1200 | BB43: 400 | BC43: 600 | BD43: 10000 | BE43: 4500 | BF43: 39650
A44: 합 계 | B44: 8321000 | C44: 8978492.4 | D44: 4270.0915 | E44: 419 | F44: 528 | G44: 428 | H44: 526.65 | J44: 1661000 | K44: 1777687 | L44: 4124.4714 | M44: 427 | N44: 526.8 | O44: 427 | P44: 526.8 | R44: 778.5197 | S44: 414 | U44: 250000 | V44: 237619 | W44: 3696.7168 | X44: 414 | Y44: 528.75 | Z44: 430 | AA44: 526.35 | AC44: 149449 | AD44: 125899 | AE44: 3297.4764 | AF44: 411 | AG44: 529.2 | AH44: 427 | AI44: 526.8 | AJ44: 528 | AK44: 1044000.3 | AL44: 711668.65 | AM44: 2728.6475 | AN44: 430 | AO44: 350.9 | AP44: 418 | AQ44: 352.1 | AR44: 351.5 | AS44: 273.16989 | AT44: 424 | AU44: 351.5 | AV44: 3517.675 | AY44: =SUM(AY4:AY43) -> 1000000 | AZ44: =SUM(AZ4:AZ43) -> 75916 | BA44: =SUM(BA4:BA43) -> 80000 | BB44: =SUM(BB4:BB43) -> 22000 | BC44: =SUM(BC4:BC43) -> 25000 | BD44: 400000 | BE44: 200000 | BF44: 1802916

Sheet Sheet3

Sheet 예산 배정
B2: 우체국예금 하반기 마케팅 활성화 예산 배정내역
F3: (단위 : 천 원)
B4: 구 분 | C4: 5231-362(예금영업지원) | F4: 비 고
C5: 210-01 (일반수용비) | D5: 310-03 (포상금) | E5: 소 계
B6: 인천 | C6: =VLOOKUP(B6,'평가 내역'!$A$5:$AA$45,26,FALSE) -> 11000 | D6: =VLOOKUP(B6,'평가 내역'!$A$5:$AA$45,27,FALSE) -> 7000 | E6: =SUM(C6:D6) -> 18000
B7: 서인천 | C7: =VLOOKUP(B7,'평가 내역'!$A$5:$AA$45,26,FALSE) -> 9200 | D7: =VLOOKUP(B7,'평가 내역'!$A$5:$AA$45,27,FALSE) -> 5500 | E7: =SUM(C7:D7) -> 14700
B8: 인천계양 | C8: =VLOOKUP(B8,'평가 내역'!$A$5:$AA$45,26,FALSE) -> 8600 | D8: =VLOOKUP(B8,'평가 내역'!$A$5:$AA$45,27,FALSE) -> 5000 | E8: =SUM(C8:D8) -> 13600
B9: 남인천 | C9: =VLOOKUP(B9,'평가 내역'!$A$5:$AA$45,26,FALSE) -> 11000 | D9: =VLOOKUP(B9,'평가 내역'!$A$5:$AA$45,27,FALSE) -> 7000 | E9: =SUM(C9:D9) -> 18000
B10: 인천남동 | C10: =VLOOKUP(B10,'평가 내역'!$A$5:$AA$45,26,FALSE) -> 11000 | D10: =VLOOKUP(B10,'평가 내역'!$A$5:$AA$45,27,FALSE) -> 7000 | E10: =SUM(C10:D10) -> 18000
B11: 의정부 | C11: =VLOOKUP(B11,'평가 내역'!$A$5:$AA$45,26,FALSE) -> 9800 | D11: =VLOOKUP(B11,'평가 내역'!$A$5:$AA$45,27,FALSE) -> 6000 | E11: =SUM(C11:D11) -> 15800
B12: 부평 | C12: =VLOOKUP(B12,'평가 내역'!$A$5:$AA$45,26,FALSE) -> 10400 | D12: =VLOOKUP(B12,'평가 내역'!$A$5:$AA$45,27,FALSE) -> 6500 | E12: =SUM(C12:D12) -> 16900
B13: 수원 | C13: =VLOOKUP(B13,'평가 내역'!$A$5:$AA$45,26,FALSE) -> 10400 | D13: =VLOOKUP(B13,'평가 내역'!$A$5:$AA$45,27,FALSE) -> 6500 | E13: =SUM(C13:D13) -> 16900
B14: 동수원 | C14: =VLOOKUP(B14,'평가 내역'!$A$5:$AA$45,26,FALSE) -> 9800 | D14: =VLOOKUP(B14,'평가 내역'!$A$5:$AA$45,27,FALSE) -> 6000 | E14: =SUM(C14:D14) -> 15800
B15: 서수원 | C15: =VLOOKUP(B15,'평가 내역'!$A$5:$AA$45,26,FALSE) -> 8000 | D15: =VLOOKUP(B15,'평가 내역'!$A$5:$AA$45,27,FALSE) -> 4500 | E15: =SUM(C15:D15) -> 12500
B16: 군포 | C16: =VLOOKUP(B16,'평가 내역'!$A$5:$AA$45,26,FALSE) -> 8600 | D16: =VLOOKUP(B16,'평가 내역'!$A$5:$AA$45,27,FALSE) -> 5000 | E16: =SUM(C16:D16) -> 13600
B17: 안양 | C17: =VLOOKUP(B17,'평가 내역'!$A$5:$AA$45,26,FALSE) -> 10400 | D17: =VLOOKUP(B17,'평가 내역'!$A$5:$AA$45,27,FALSE) -> 6500 | E17: =SUM(C17:D17) -> 16900
... B46: 하남 | C46: =VLOOKUP(B46,'평가 내역'!$A$5:$AA$45,26,FALSE) -> 6000 | D46: =VLOOKUP(B46,'평가 내역'!$A$5:$AA$45,27,FALSE) -> 3500 | E46: =SUM(C46:D46) -> 9500
B47: 합 계 | C47: =SUM(C6:C46) -> 361000 | D47: =SUM(D6:D46) -> 217000 | E47: =SUM(E6:E46) -> 578000

Sheet 평가 내역
A1: 총괄국별 예산 배정 내역
AA2: (단위 : 백만원, %, 점)
A3: 국 명 | B3: 예금총수신고(10) | F3: 요구불예금수신고(40) | L3: 체크카드(30) | R3: 스마트금융(20) | X3: 합계 (A+B+C+D) | Y3: 순위 | Z3: 5231-362-210-01 수용비 (천원) | AA3: 5231-362-310-03 포상금 (천원)
B4: 목표 | C4: 실적 | D4: 달성율 | E4: 점수 A | F4: 목표 | G4: 실적 | H4: 달성율 | I4: 실적 점유비 (20) | J4: 달성율(%) (20) | K4: 소계 (40) B | L4: 목표 | M4: 실적 | N4: 달성율 | O4: 실적 점유비 (15) | P4: 달성율(%) (15) | Q4: 소계 (30) C | R4: 목표 | S4: 실적 | T4: 달성율 | U4: 실적 점유비 (10) | V4: 달성율(%) (10) | W4: 소계 (20) D
A5: 남인천 | B5: =VLOOKUP(A5,총수신고!$C$6:$I$45,2,FALSE) -> 451356 | C5: =VLOOKUP(A5,총수신고!$C$6:$I$45,4,FALSE) -> 473815.46 | D5: =(C5/B5)*100 -> 104.976 | E5: =D5*10/MAX($D$5:$D$45) -> 8.8318635 | F5: =VLOOKUP(A5,총수신고!$M$6:$U$45,2,FALSE) -> 119184 | G5: =VLOOKUP(A5,총수신고!$M$6:$U$45,4,FALSE) -> 127936.35 | H5: =(G5/F5)*100 -> 107.34356 | I5: =G5*20/MAX($G$5:$G$45) -> 20 | J5: =H5*20/MAX($H$5:$H$45) -> 19.161543 | K5: =SUM(I5:J5) -> 39.161543 | L5: =VLOOKUP(A5,체크카드!$A$5:$D$44,2,FALSE) -> 471032 | M5: =VLOOKUP(A5,체크카드!$A$5:$D$44,3,FALSE) -> 237153.94 | N5: =(M5/L5)*100 -> 50.347735 | O5: =M5*15/MAX($M$5:$M$45) -> 12.488143 | P5: =N5*15/MAX($N$5:$N$45) -> 10.147782 | Q5: =SUM(O5:P5) -> 22.635925 | R5: =VLOOKUP(A5,스마트금융!$A$5:$D$45,2,FALSE) -> 17231 | S5: =VLOOKUP(A5,스마트금융!$A$5:$D$45,3,FALSE) -> 16819 | T5: =(S5/R5)*100 -> 97.608961 | U5: =S5*10/MAX($S$5:$S$45) -> 10 | V5: =T5*10/MAX($T$5:$T$45) -> 9.5905697 | W5: =SUM(U5:V5) -> 19.59057 | X5: =SUM(E5,K5,Q5,W5) -> 90.219901 | Y5: =RANK(X5,$X$5:$X$45) -> 1 | Z5: 11000 | AA5: 7000
A6: 안산 | B6: =VLOOKUP(A6,총수신고!$C$6:$I$45,2,FALSE) -> 311482 | C6: =VLOOKUP(A6,총수신고!$C$6:$I$45,4,FALSE) -> 330344.59 | D6: =(C6/B6)*100 -> 106.05576 | E6: =D6*10/MAX($D$5:$D$45) -> 8.9227061 | F6: =VLOOKUP(A6,총수신고!$M$6:$U$45,2,FALSE) -> 88189 | G6: =VLOOKUP(A6,총수신고!$M$6:$U$45,4,FALSE) -> 87545.718 | H6: =(G6/F6)*100 -> 99.270565 | I6: =G6*20/MAX($G$5:$G$45) -> 13.685824 | J6: =H6*20/MAX($H$5:$H$45) -> 17.720459 | K6: =SUM(I6:J6) -> 31.406283 | L6: =VLOOKUP(A6,체크카드!$A$5:$D$44,2,FALSE) -> 492000 | M6: =VLOOKUP(A6,체크카드!$A$5:$D$44,3,FALSE) -> 284854.93 | N6: =(M6/L6)*100 -> 57.897343 | O6: =M6*15/MAX($M$5:$M$45) -> 15 | P6: =N6*15/MAX($N$5:$N$45) -> 11.669435 | Q6: =SUM(O6:P6) -> 26.669435 | R6: =VLOOKUP(A6,스마트금융!$A$5:$D$45,2,FALSE) -> 14498 | S6: =VLOOKUP(A6,스마트금융!$A$5:$D$45,3,FALSE) -> 13966 | T6: =(S6/R6)*100 -> 96.330528 | U6: =S6*10/MAX($S$5:$S$45) -> 8.3037041 | V6: =T6*10/MAX($T$5:$T$45) -> 9.4649573 | W6: =SUM(U6:V6) -> 17.768661 | X6: =SUM(E6,K6,Q6,W6) -> 84.767086 | Y6: =RANK(X6,$X$5:$X$45) -> 2 | Z6: 11000 | AA6: 7000
A7: 부천 | B7: =VLOOKUP(A7,총수신고!$C$6:$I$45,2,FALSE) -> 434890 | C7: =VLOOKUP(A7,총수신고!$C$6:$I$45,4,FALSE) -> 461871.72 | D7: =(C7/B7)*100 -> 106.20426 | E7: =D7*10/MAX($D$5:$D$45) -> 8.9352003 | F7: =VLOOKUP(A7,총수신고!$M$6:$U$45,2,FALSE) -> 103016 | G7: =VLOOKUP(A7,총수신고!$M$6:$U$45,4,FALSE) -> 105215.5 | H7: =(G7/F7)*100 -> 102.13511 | I7: =G7*20/MAX($G$5:$G$45) -> 16.448101 | J7: =H7*20/MAX($H$5:$H$45) -> 18.231799 | K7: =SUM(I7:J7) -> 34.6799 | L7: =VLOOKUP(A7,체크카드!$A$5:$D$44,2,FALSE) -> 375649 | M7: =VLOOKUP(A7,체크카드!$A$5:$D$44,3,FALSE) -> 187597.43 | N7: =(M7/L7)*100 -> 49.939553 | O7: =M7*15/MAX($M$5:$M$45) -> 9.8785775 | P7: =N7*15/MAX($N$5:$N$45) -> 10.065511 | Q7: =SUM(O7:P7) -> 19.944088 | R7: =VLOOKUP(A7,스마트금융!$A$5:$D$45,2,FALSE) -> 15679 | S7: =VLOOKUP(A7,스마트금융!$A$5:$D$45,3,FALSE) -> 15720 | T7: =(S7/R7)*100 -> 100.2615 | U7: =S7*10/MAX($S$5:$S$45) -> 9.3465723 | V7: =T7*10/MAX($T$5:$T$45) -> 9.8511946 | W7: =SUM(U7:V7) -> 19.197767 | X7: =SUM(E7,K7,Q7,W7) -> 82.756956 | Y7: =RANK(X7,$X$5:$X$45) -> 3 | Z7: 11000 | AA7: 7000
A8: 인천 | B8: =VLOOKUP(A8,총수신고!$C$6:$I$45,2,FALSE) -> 317089 | C8: =VLOOKUP(A8,총수신고!$C$6:$I$45,4,FALSE) -> 331940.04 | D8: =(C8/B8)*100 -> 104.68355 | E8: =D8*10/MAX($D$5:$D$45) -> 8.8072598 | F8: =VLOOKUP(A8,총수신고!$M$6:$U$45,2,FALSE) -> 73235 | G8: =VLOOKUP(A8,총수신고!$M$6:$U$45,4,FALSE) -> 68177.165 | H8: =(G8/F8)*100 -> 93.093692 | I8: =G8*20/MAX($G$5:$G$45) -> 10.657982 | J8: =H8*20/MAX($H$5:$H$45) -> 16.617846 | K8: =SUM(I8:J8) -> 27.275828 | L8: =VLOOKUP(A8,체크카드!$A$5:$D$44,2,FALSE) -> 302599 | M8: =VLOOKUP(A8,체크카드!$A$5:$D$44,3,FALSE) -> 225199.58 | N8: =(M8/L8)*100 -> 74.421785 | O8: =M8*15/MAX($M$5:$M$45) -> 11.858646 | P8: =N8*15/MAX($N$5:$N$45) -> 15 | Q8: =SUM(O8:P8) -> 26.858646 | R8: =VLOOKUP(A8,스마트금융!$A$5:$D$45,2,FALSE) -> 10583 | S8: =VLOOKUP(A8,스마트금융!$A$5:$D$45,3,FALSE) -> 10145 | T8: =(S8/R8)*100 -> 95.861287 | U8: =S8*10/MAX($S$5:$S$45) -> 6.0318687 | V8: =T8*10/MAX($T$5:$T$45) -> 9.418852 | W8: =SUM(U8:V8) -> 15.450721 | X8: =SUM(E8,K8,Q8,W8) -> 78.392454 | Y8: =RANK(X8,$X$5:$X$45) -> 4 | Z8: 11000 | AA8: 7000
A9: 평택 | B9: =VLOOKUP(A9,총수신고!$C$6:$I$45,2,FALSE) -> 364169 | C9: =VLOOKUP(A9,총수신고!$C$6:$I$45,4,FALSE) -> 385837.58 | D9: =(C9/B9)*100 -> 105.95014 | E9: =D9*10/MAX($D$5:$D$45) -> 8.9138207 | F9: =VLOOKUP(A9,총수신고!$M$6:$U$45,2,FALSE) -> 85242 | G9: =VLOOKUP(A9,총수신고!$M$6:$U$45,4,FALSE) -> 85783.333 | H9: =(G9/F9)*100 -> 100.63505 | I9: =G9*20/MAX($G$5:$G$45) -> 13.410314 | J9: =H9*20/MAX($H$5:$H$45) -> 17.96403 | K9: =SUM(I9:J9) -> 31.374344 | L9: =VLOOKUP(A9,체크카드!$A$5:$D$44,2,FALSE) -> 370979 | M9: =VLOOKUP(A9,체크카드!$A$5:$D$44,3,FALSE) -> 188527.19 | N9: =(M9/L9)*100 -> 50.81883 | O9: =M9*15/MAX($M$5:$M$45) -> 9.9275369 | P9: =N9*15/MAX($N$5:$N$45) -> 10.242733 | Q9: =SUM(O9:P9) -> 20.17027 | R9: =VLOOKUP(A9,스마트금융!$A$5:$D$45,2,FALSE) -> 10119 | S9: =VLOOKUP(A9,스마트금융!$A$5:$D$45,3,FALSE) -> 9936 | T9: =(S9/R9)*100 -> 98.191521 | U9: =S9*10/MAX($S$5:$S$45) -> 5.9076045 | V9: =T9*10/MAX($T$5:$T$45) -> 9.6478092 | W9: =SUM(U9:V9) -> 15.555414 | X9: =SUM(E9,K9,Q9,W9) -> 76.013848 | Y9: =RANK(X9,$X$5:$X$45) -> 5 | Z9: 11000 | AA9: 7000
A10: 성남 | B10: =VLOOKUP(A10,총수신고!$C$6:$I$45,2,FALSE) -> 354661 | C10: =VLOOKUP(A10,총수신고!$C$6:$I$45,4,FALSE) -> 378428.32 | D10: =(C10/B10)*100 -> 106.70142 | E10: =D10*10/MAX($D$5:$D$45) -> 8.9770271 | F10: =VLOOKUP(A10,총수신고!$M$6:$U$45,2,FALSE) -> 88844 | G10: =VLOOKUP(A10,총수신고!$M$6:$U$45,4,FALSE) -> 89468.127 | H10: =(G10/F10)*100 -> 100.7025 | I10: =G10*20/MAX($G$5:$G$45) -> 13.98635 | J10: =H10*20/MAX($H$5:$H$45) -> 17.976069 | K10: =SUM(I10:J10) -> 31.962419 | L10: =VLOOKUP(A10,체크카드!$A$5:$D$44,2,FALSE) -> 319800 | M10: =VLOOKUP(A10,체크카드!$A$5:$D$44,3,FALSE) -> 155942.8 | N10: =(M10/L10)*100 -> 48.762601 | O10: =M10*15/MAX($M$5:$M$45) -> 8.2116956 | P10: =N10*15/MAX($N$5:$N$45) -> 9.8282917 | Q10: =SUM(O10:P10) -> 18.039987 | R10: =VLOOKUP(A10,스마트금융!$A$5:$D$45,2,FALSE) -> 10603 | S10: =VLOOKUP(A10,스마트금융!$A$5:$D$45,3,FALSE) -> 10492 | T10: =(S10/R10)*100 -> 98.953126 | U10: =S10*10/MAX($S$5:$S$45) -> 6.238183 | V10: =T10*10/MAX($T$5:$T$45) -> 9.7226407 | W10: =SUM(U10:V10) -> 15.960824 | X10: =SUM(E10,K10,Q10,W10) -> 74.940257 | Y10: =RANK(X10,$X$5:$X$45) -> 6 | Z10: 10400 | AA10: 6500
A11: 부평 | B11: =VLOOKUP(A11,총수신고!$C$6:$I$45,2,FALSE) -> 335902 | C11: =VLOOKUP(A11,총수신고!$C$6:$I$45,4,FALSE) -> 352795.66 | D11: =(C11/B11)*100 -> 105.02934 | E11: =D11*10/MAX($D$5:$D$45) -> 8.8363516 | F11: =VLOOKUP(A11,총수신고!$M$6:$U$45,2,FALSE) -> 82878 | G11: =VLOOKUP(A11,총수신고!$M$6:$U$45,4,FALSE) -> 82572.821 | H11: =(G11/F11)*100 -> 99.631773 | I11: =G11*20/MAX($G$5:$G$45) -> 12.908422 | J11: =H11*20/MAX($H$5:$H$45) -> 17.784937 | K11: =SUM(I11:J11) -> 30.69336 | L11: =VLOOKUP(A11,체크카드!$A$5:$D$44,2,FALSE) -> 290833 | M11: =VLOOKUP(A11,체크카드!$A$5:$D$44,3,FALSE) -> 146866.1 | N11: =(M11/L11)*100 -> 50.498429 | O11: =M11*15/MAX($M$5:$M$45) -> 7.7337312 | P11: =N11*15/MAX($N$5:$N$45) -> 10.178155 | Q11: =SUM(O11:P11) -> 17.911886 | R11: =VLOOKUP(A11,스마트금융!$A$5:$D$45,2,FALSE) -> 10878 | S11: =VLOOKUP(A11,스마트금융!$A$5:$D$45,3,FALSE) -> 10632 | T11: =(S11/R11)*100 -> 97.738555 | U11: =S11*10/MAX($S$5:$S$45) -> 6.3214222 | V11: =T11*10/MAX($T$5:$T$45) -> 9.603303 | W11: =SUM(U11:V11) -> 15.924725 | X11: =SUM(E11,K11,Q11,W11) -> 73.366322 | Y11: =RANK(X11,$X$5:$X$45) -> 7 | Z11: 10400 | AA11: 6500
A12: 성남분당 | B12: =VLOOKUP(A12,총수신고!$C$6:$I$45,2,FALSE) -> 676977 | C12: =VLOOKUP(A12,총수신고!$C$6:$I$45,4,FALSE) -> 804658.43 | D12: =(C12/B12)*100 -> 118.86053 | E12: =D12*10/MAX($D$5:$D$45) -> 10 | F12: =VLOOKUP(A12,총수신고!$M$6:$U$45,2,FALSE) -> 70406 | G12: =VLOOKUP(A12,총수신고!$M$6:$U$45,4,FALSE) -> 78883.321 | H12: =(G12/F12)*100 -> 112.04062 | I12: =G12*20/MAX($G$5:$G$45) -> 12.331651 | J12: =H12*20/MAX($H$5:$H$45) -> 20 | K12: =SUM(I12:J12) -> 32.331651 | L12: =VLOOKUP(A12,체크카드!$A$5:$D$44,2,FALSE) -> 169310 | M12: =VLOOKUP(A12,체크카드!$A$5:$D$44,3,FALSE) -> 92933.097 | N12: =(M12/L12)*100 -> 54.889314 | O12: =M12*15/MAX($M$5:$M$45) -> 4.8937067 | P12: =N12*15/MAX($N$5:$N$45) -> 11.063155 | Q12: =SUM(O12:P12) -> 15.956861 | R12: =VLOOKUP(A12,스마트금융!$A$5:$D$45,2,FALSE) -> 7629 | S12: =VLOOKUP(A12,스마트금융!$A$5:$D$45,3,FALSE) -> 7392 | T12: =(S12/R12)*100 -> 96.893433 | U12: =S12*10/MAX($S$5:$S$45) -> 4.3950294 | V12: =T12*10/MAX($T$5:$T$45) -> 9.5202655 | W12: =SUM(U12:V12) -> 13.915295 | X12: =SUM(E12,K12,Q12,W12) -> 72.203807 | Y12: =RANK(X12,$X$5:$X$45) -> 8 | Z12: 10400 | AA12: 6500
A13: 수원 | B13: =VLOOKUP(A13,총수신고!$C$6:$I$45,2,FALSE) -> 352943 | C13: =VLOOKUP(A13,총수신고!$C$6:$I$45,4,FALSE) -> 369263.32 | D13: =(C13/B13)*100 -> 104.62407 | E13: =D13*10/MAX($D$5:$D$45) -> 8.8022549 | F13: =VLOOKUP(A13,총수신고!$M$6:$U$45,2,FALSE) -> 68028 | G13: =VLOOKUP(A13,총수신고!$M$6:$U$45,4,FALSE) -> 71589.543 | H13: =(G13/F13)*100 -> 105.23541 | I13: =G13*20/MAX($G$5:$G$45) -> 11.191431 | J13: =H13*20/MAX($H$5:$H$45) -> 18.785224 | K13: =SUM(I13:J13) -> 29.976655 | L13: =VLOOKUP(A13,체크카드!$A$5:$D$44,2,FALSE) -> 243728 | M13: =VLOOKUP(A13,체크카드!$A$5:$D$44,3,FALSE) -> 126301.71 | N13: =(M13/L13)*100 -> 51.820765 | O13: =M13*15/MAX($M$5:$M$45) -> 6.6508442 | P13: =N13*15/MAX($N$5:$N$45) -> 10.444677 | Q13: =SUM(O13:P13) -> 17.095521 | R13: =VLOOKUP(A13,스마트금융!$A$5:$D$45,2,FALSE) -> 10330 | S13: =VLOOKUP(A13,스마트금융!$A$5:$D$45,3,FALSE) -> 10222 | T13: =(S13/R13)*100 -> 98.954501 | U13: =S13*10/MAX($S$5:$S$45) -> 6.0776503 | V13: =T13*10/MAX($T$5:$T$45) -> 9.7227758 | W13: =SUM(U13:V13) -> 15.800426 | X13: =SUM(E13,K13,Q13,W13) -> 71.674857 | Y13: =RANK(X13,$X$5:$X$45) -> 9 | Z13: 10400 | AA13: 6500
A14: 안양 | B14: =VLOOKUP(A14,총수신고!$C$6:$I$45,2,FALSE) -> 440866 | C14: =VLOOKUP(A14,총수신고!$C$6:$I$45,4,FALSE) -> 452393.21 | D14: =(C14/B14)*100 -> 102.61467 | E14: =D14*10/MAX($D$5:$D$45) -> 8.6332003 | F14: =VLOOKUP(A14,총수신고!$M$6:$U$45,2,FALSE) -> 81033 | G14: =VLOOKUP(A14,총수신고!$M$6:$U$45,4,FALSE) -> 78125.133 | H14: =(G14/F14)*100 -> 96.411502 | I14: =G14*20/MAX($G$5:$G$45) -> 12.213125 | J14: =H14*20/MAX($H$5:$H$45) -> 17.210098 | K14: =SUM(I14:J14) -> 29.423223 | L14: =VLOOKUP(A14,체크카드!$A$5:$D$44,2,FALSE) -> 200655 | M14: =VLOOKUP(A14,체크카드!$A$5:$D$44,3,FALSE) -> 105648.7 | N14: =(M14/L14)*100 -> 52.651912 | O14: =M14*15/MAX($M$5:$M$45) -> 5.5632895 | P14: =N14*15/MAX($N$5:$N$45) -> 10.612198 | Q14: =SUM(O14:P14) -> 16.175487 | R14: =VLOOKUP(A14,스마트금융!$A$5:$D$45,2,FALSE) -> 9960 | S14: =VLOOKUP(A14,스마트금융!$A$5:$D$45,3,FALSE) -> 9763 | T14: =(S14/R14)*100 -> 98.022088 | U14: =S14*10/MAX($S$5:$S$45) -> 5.8047446 | V14: =T14*10/MAX($T$5:$T$45) -> 9.6311616 | W14: =SUM(U14:V14) -> 15.435906 | X14: =SUM(E14,K14,Q14,W14) -> 69.667817 | Y14: =RANK(X14,$X$5:$X$45) -> 10 | Z14: 10400 | AA14: 6500
A15: 동수원 | B15: =VLOOKUP(A15,총수신고!$C$6:$I$45,2,FALSE) -> 281761 | C15: =VLOOKUP(A15,총수신고!$C$6:$I$45,4,FALSE) -> 303655.9 | D15: =(C15/B15)*100 -> 107.77074 | E15: =D15*10/MAX($D$5:$D$45) -> 9.0669911 | F15: =VLOOKUP(A15,총수신고!$M$6:$U$45,2,FALSE) -> 56604 | G15: =VLOOKUP(A15,총수신고!$M$6:$U$45,4,FALSE) -> 57791.652 | H15: =(G15/F15)*100 -> 102.09818 | I15: =G15*20/MAX($G$5:$G$45) -> 9.0344383 | J15: =H15*20/MAX($H$5:$H$45) -> 18.225207 | K15: =SUM(I15:J15) -> 27.259645 | L15: =VLOOKUP(A15,체크카드!$A$5:$D$44,2,FALSE) -> 190112 | M15: =VLOOKUP(A15,체크카드!$A$5:$D$44,3,FALSE) -> 102677.7 | N15: =(M15/L15)*100 -> 54.009058 | O15: =M15*15/MAX($M$5:$M$45) -> 5.4068417 | P15: =N15*15/MAX($N$5:$N$45) -> 10.885736 | Q15: =SUM(O15:P15) -> 16.292577 | R15: =VLOOKUP(A15,스마트금융!$A$5:$D$45,2,FALSE) -> 9146 | S15: =VLOOKUP(A15,스마트금융!$A$5:$D$45,3,FALSE) -> 9010 | T15: =(S15/R15)*100 -> 98.513011 | U15: =S15*10/MAX($S$5:$S$45) -> 5.3570367 | V15: =T15*10/MAX($T$5:$T$45) -> 9.6793972 | W15: =SUM(U15:V15) -> 15.036434 | X15: =SUM(E15,K15,Q15,W15) -> 67.655648 | Y15: =RANK(X15,$X$5:$X$45) -> 11 | Z15: 9800 | AA15: 6000
A16: 의정부 | B16: =VLOOKUP(A16,총수신고!$C$6:$I$45,2,FALSE) -> 265241 | C16: =VLOOKUP(A16,총수신고!$C$6:$I$45,4,FALSE) -> 278237.21 | D16: =(C16/B16)*100 -> 104.89977 | E16: =D16*10/MAX($D$5:$D$45) -> 8.8254509 | F16: =VLOOKUP(A16,총수신고!$M$6:$U$45,2,FALSE) -> 62839 | G16: =VLOOKUP(A16,총수신고!$M$6:$U$45,4,FALSE) -> 61894.69 | H16: =(G16/F16)*100 -> 98.497255 | I16: =G16*20/MAX($G$5:$G$45) -> 9.6758569 | J16: =H16*20/MAX($H$5:$H$45) -> 17.582418 | K16: =SUM(I16:J16) -> 27.258275 | L16: =VLOOKUP(A16,체크카드!$A$5:$D$44,2,FALSE) -> 253357 | M16: =VLOOKUP(A16,체크카드!$A$5:$D$44,3,FALSE) -> 123961.9 | N16: =(M16/L16)*100 -> 48.92776 | O16: =M16*15/MAX($M$5:$M$45) -> 6.5276335 | P16: =N16*15/MAX($N$5:$N$45) -> 9.8615802 | Q16: =SUM(O16:P16) -> 16.389214 | R16: =VLOOKUP(A16,스마트금융!$A$5:$D$45,2,FALSE) -> 9262 | S16: =VLOOKUP(A16,스마트금융!$A$5:$D$45,3,FALSE) -> 8995 | T16: =(S16/R16)*100 -> 97.117253 | U16: =S16*10/MAX($S$5:$S$45) -> 5.3481182 | V16: =T16*10/MAX($T$5:$T$45) -> 9.542257 | W16: =SUM(U16:V16) -> 14.890375 | X16: =SUM(E16,K16,Q16,W16) -> 67.363315 | Y16: =RANK(X16,$X$5:$X$45) -> 12 | Z16: 9800 | AA16: 6000
... A44: 백령 | B44: =VLOOKUP(A44,총수신고!$C$6:$I$45,2,FALSE) -> 33147 | C44: =VLOOKUP(A44,총수신고!$C$6:$I$45,4,FALSE) -> 36338.038 | D44: =(C44/B44)*100 -> 109.62693 | E44: =D44*10/MAX($D$5:$D$45) -> 9.2231569 | F44: =VLOOKUP(A44,총수신고!$M$6:$U$45,2,FALSE) -> 7812 | G44: =VLOOKUP(A44,총수신고!$M$6:$U$45,4,FALSE) -> 7582.5078 | H44: =(G44/F44)*100 -> 97.062312 | I44: =G44*20/MAX($G$5:$G$45) -> 1.1853563 | J44: =H44*20/MAX($H$5:$H$45) -> 17.326271 | K44: =SUM(I44:J44) -> 18.511628 | L44: =VLOOKUP(A44,체크카드!$A$5:$D$44,2,FALSE) -> 36364 | M44: =VLOOKUP(A44,체크카드!$A$5:$D$44,3,FALSE) -> 21143.591 | N44: =(M44/L44)*100 -> 58.144294 | O44: =M44*15/MAX($M$5:$M$45) -> 1.1133873 | P44: =N44*15/MAX($N$5:$N$45) -> 11.719208 | Q44: =SUM(O44:P44) -> 12.832596 | R44: =VLOOKUP(A44,스마트금융!$A$5:$D$45,2,FALSE) -> 1064 | S44: =VLOOKUP(A44,스마트금융!$A$5:$D$45,3,FALSE) -> 1025 | T44: =(S44/R44)*100 -> 96.334586 | U44: =S44*10/MAX($S$5:$S$45) -> 0.60942981 | V44: =T44*10/MAX($T$5:$T$45) -> 9.465356 | W44: =SUM(U44:V44) -> 10.074786 | X44: =SUM(E44,K44,Q44,W44) -> 50.642166 | Y44: =RANK(X44,$X$5:$X$45) -> 40 | Z44: 6000 | AA44: 3500
A45: 인천남동 | E45: =D45*10/MAX($D$5:$D$45) -> 0 | I45: =G45*20/MAX($G$5:$G$45) -> 0 | J45: =H45*20/MAX($H$5:$H$45) -> 0 | K45: =SUM(I45:J45) -> 0 | O45: =M45*15/MAX($M$5:$M$45) -> 0 | P45: =N45*15/MAX($N$5:$N$45) -> 0 | Q45: =SUM(O45:P45) -> 0 | U45: =S45*10/MAX($S$5:$S$45) -> 0 | V45: =T45*10/MAX($T$5:$T$45) -> 0 | W45: =SUM(U45:V45) -> 0 | X45: =SUM(E45,K45,Q45,W45) -> 0 | Y45: =RANK(X45,$X$5:$X$45) -> 41 | Z45: 11000 | AA45: 7000
A46: 합계 | Z46: =SUM(Z5:Z45) -> 361000 | AA46: =SUM(AA5:AA45) -> 217000

Sheet 예산 배정 5050
A2: 국 명 | B2: 예금총수신고(10) | E2: 점수 | F2: 요구불예금수신고(40) | L2: 체크카드(30) | R2: 스마트금융(20) | Z2: 5231-362-210-01 (수용비) | AA2: 5231-362-310-03 (포상금
B3: 목표 | C3: 실적 | D3: 달성율 | F3: 목표 | G3: 실적 | H3: 달성율 | I3: 실적 점유비 (20) | J3: 점수 (20) | K3: 합계 (40) | L3: 목표 | M3: 실적 | N3: 달성율 | O3: 실적 점유비 (15) | P3: 점수 (15) | Q3: 합계 (30) | R3: 목표 | S3: 실적 | T3: 달성율 | U3: 실적 점유비 (10) | V3: 점수 (10) | W3: 합계 (20)
A4: 인천 | B4: =VLOOKUP(A4,총수신고!$C$6:$I$45,2,FALSE) -> 317089 | C4: =VLOOKUP(A4,총수신고!$C$6:$I$45,4,FALSE) -> 331940.04 | D4: =(C4/B4)*100 -> 104.68355 | E4: =D4*10/MAX($D$4:$D$44) -> 8.8072598 | F4: =VLOOKUP(A4,총수신고!$M$6:$U$45,2,FALSE) -> 73235 | G4: =VLOOKUP(A4,총수신고!$M$6:$U$45,4,FALSE) -> 68177.165 | H4: =(G4/F4)*100 -> 93.093692 | I4: =G4*20/MAX($G$4:$G$44) -> 10.657982 | J4: =H4*20/MAX($H$4:$H$44) -> 16.617846 | K4: =SUM(I4:J4) -> 27.275828 | L4: =VLOOKUP(A4,체크카드!$A$5:$D$44,2,FALSE) -> 302599 | M4: =VLOOKUP(A4,체크카드!$A$5:$D$44,3,FALSE) -> 225199.58 | N4: =(M4/L4)*100 -> 74.421785 | O4: =M4*15/MAX($M$4:$M$44) -> 11.858646 | P4: =N4*15/MAX($N$4:$N$44) -> 15 | Q4: =SUM(O4:P4) -> 26.858646 | R4: =VLOOKUP(A4,스마트금융!$A$5:$D$45,2,FALSE) -> 10583 | S4: =VLOOKUP(A4,스마트금융!$A$5:$D$45,3,FALSE) -> 10145 | T4: =(S4/R4)*100 -> 95.861287 | U4: =S4*10/MAX($S$4:$S$44) -> 6.0318687 | V4: =T4*10/MAX($T$4:$T$44) -> 9.418852 | W4: =SUM(U4:V4) -> 15.450721 | X4: =SUM(E4,K4,Q4,W4) -> 78.392454 | Y4: =RANK(X4,$X$4:$X$44) -> 4
A5: 서인천 | B5: =VLOOKUP(A5,총수신고!$C$6:$I$45,2,FALSE) -> 255500 | C5: =VLOOKUP(A5,총수신고!$C$6:$I$45,4,FALSE) -> 241537.96 | D5: =(C5/B5)*100 -> 94.535404 | E5: =D5*10/MAX($D$4:$D$44) -> 7.9534734 | F5: =VLOOKUP(A5,총수신고!$M$6:$U$45,2,FALSE) -> 68038 | G5: =VLOOKUP(A5,총수신고!$M$6:$U$45,4,FALSE) -> 56736.576 | H5: =(G5/F5)*100 -> 83.389541 | I5: =G5*20/MAX($G$4:$G$44) -> 8.8695006 | J5: =H5*20/MAX($H$4:$H$44) -> 14.885591 | K5: =SUM(I5:J5) -> 23.755091 | L5: =VLOOKUP(A5,체크카드!$A$5:$D$44,2,FALSE) -> 238942 | M5: =VLOOKUP(A5,체크카드!$A$5:$D$44,3,FALSE) -> 124139.98 | N5: =(M5/L5)*100 -> 51.954024 | O5: =M5*15/MAX($M$4:$M$44) -> 6.5370108 | P5: =N5*15/MAX($N$4:$N$44) -> 10.471535 | Q5: =SUM(O5:P5) -> 17.008546 | R5: =VLOOKUP(A5,스마트금융!$A$5:$D$45,2,FALSE) -> 7626 | S5: =VLOOKUP(A5,스마트금융!$A$5:$D$45,3,FALSE) -> 7349 | T5: =(S5/R5)*100 -> 96.367689 | U5: =S5*10/MAX($S$4:$S$44) -> 4.3694631 | V5: =T5*10/MAX($T$4:$T$44) -> 9.4686086 | W5: =SUM(U5:V5) -> 13.838072 | X5: =SUM(E5,K5,Q5,W5) -> 62.555182 | Y5: =RANK(X5,$X$4:$X$44) -> 20
A6: 인천계양 | B6: =VLOOKUP(A6,총수신고!$C$6:$I$45,2,FALSE) -> 161565 | C6: =VLOOKUP(A6,총수신고!$C$6:$I$45,4,FALSE) -> 173115.56 | D6: =(C6/B6)*100 -> 107.14917 | E6: =D6*10/MAX($D$4:$D$44) -> 9.0146977 | F6: =VLOOKUP(A6,총수신고!$M$6:$U$45,2,FALSE) -> 37301 | G6: =VLOOKUP(A6,총수신고!$M$6:$U$45,4,FALSE) -> 38179.761 | H6: =(G6/F6)*100 -> 102.35586 | I6: =G6*20/MAX($G$4:$G$44) -> 5.9685557 | J6: =H6*20/MAX($H$4:$H$44) -> 18.271206 | K6: =SUM(I6:J6) -> 24.239762 | L6: =VLOOKUP(A6,체크카드!$A$5:$D$44,2,FALSE) -> 166288 | M6: =VLOOKUP(A6,체크카드!$A$5:$D$44,3,FALSE) -> 82829.685 | N6: =(M6/L6)*100 -> 49.810982 | O6: =M6*15/MAX($M$4:$M$44) -> 4.3616773 | P6: =N6*15/MAX($N$4:$N$44) -> 10.039597 | Q6: =SUM(O6:P6) -> 14.401274 | R6: =VLOOKUP(A6,스마트금융!$A$5:$D$45,2,FALSE) -> 6068 | S6: =VLOOKUP(A6,스마트금융!$A$5:$D$45,3,FALSE) -> 5864 | T6: =(S6/R6)*100 -> 96.638102 | U6: =S6*10/MAX($S$4:$S$44) -> 3.4865331 | V6: =T6*10/MAX($T$4:$T$44) -> 9.4951779 | W6: =SUM(U6:V6) -> 12.981711 | X6: =SUM(E6,K6,Q6,W6) -> 60.637445 | Y6: =RANK(X6,$X$4:$X$44) -> 24
A7: 남인천 | B7: =VLOOKUP(A7,총수신고!$C$6:$I$45,2,FALSE) -> 451356 | C7: =VLOOKUP(A7,총수신고!$C$6:$I$45,4,FALSE) -> 473815.46 | D7: =(C7/B7)*100 -> 104.976 | E7: =D7*10/MAX($D$4:$D$44) -> 8.8318635 | F7: =VLOOKUP(A7,총수신고!$M$6:$U$45,2,FALSE) -> 119184 | G7: =VLOOKUP(A7,총수신고!$M$6:$U$45,4,FALSE) -> 127936.35 | H7: =(G7/F7)*100 -> 107.34356 | I7: =G7*20/MAX($G$4:$G$44) -> 20 | J7: =H7*20/MAX($H$4:$H$44) -> 19.161543 | K7: =SUM(I7:J7) -> 39.161543 | L7: =VLOOKUP(A7,체크카드!$A$5:$D$44,2,FALSE) -> 471032 | M7: =VLOOKUP(A7,체크카드!$A$5:$D$44,3,FALSE) -> 237153.94 | N7: =(M7/L7)*100 -> 50.347735 | O7: =M7*15/MAX($M$4:$M$44) -> 12.488143 | P7: =N7*15/MAX($N$4:$N$44) -> 10.147782 | Q7: =SUM(O7:P7) -> 22.635925 | R7: =VLOOKUP(A7,스마트금융!$A$5:$D$45,2,FALSE) -> 17231 | S7: =VLOOKUP(A7,스마트금융!$A$5:$D$45,3,FALSE) -> 16819 | T7: =(S7/R7)*100 -> 97.608961 | U7: =S7*10/MAX($S$4:$S$44) -> 10 | V7: =T7*10/MAX($T$4:$T$44) -> 9.5905697 | W7: =SUM(U7:V7) -> 19.59057 | X7: =SUM(E7,K7,Q7,W7) -> 90.219901 | Y7: =RANK(X7,$X$4:$X$44) -> 1
A8: 인천남동 | E8: =D8*10/MAX($D$4:$D$44) -> 0 | I8: =G8*20/MAX($G$4:$G$44) -> 0 | J8: =H8*20/MAX($H$4:$H$44) -> 0 | K8: =SUM(I8:J8) -> 0 | O8: =M8*15/MAX($M$4:$M$44) -> 0 | P8: =N8*15/MAX($N$4:$N$44) -> 0 | Q8: =SUM(O8:P8) -> 0 | U8: =S8*10/MAX($S$4:$S$44) -> 0 | V8: =T8*10/MAX($T$4:$T$44) -> 0 | W8: =SUM(U8:V8) -> 0 | X8: =SUM(E8,K8,Q8,W8) -> 0 | Y8: =RANK(X8,$X$4:$X$44) -> 41
A9: 의정부 | B9: =VLOOKUP(A9,총수신고!$C$6:$I$45,2,FALSE) -> 265241 | C9: =VLOOKUP(A9,총수신고!$C$6:$I$45,4,FALSE) -> 278237.21 | D9: =(C9/B9)*100 -> 104.89977 | E9: =D9*10/MAX($D$4:$D$44) -> 8.8254509 | F9: =VLOOKUP(A9,총수신고!$M$6:$U$45,2,FALSE) -> 62839 | G9: =VLOOKUP(A9,총수신고!$M$6:$U$45,4,FALSE) -> 61894.69 | H9: =(G9/F9)*100 -> 98.497255 | I9: =G9*20/MAX($G$4:$G$44) -> 9.6758569 | J9: =H9*20/MAX($H$4:$H$44) -> 17.582418 | K9: =SUM(I9:J9) -> 27.258275 | L9: =VLOOKUP(A9,체크카드!$A$5:$D$44,2,FALSE) -> 253357 | M9: =VLOOKUP(A9,체크카드!$A$5:$D$44,3,FALSE) -> 123961.9 | N9: =(M9/L9)*100 -> 48.92776 | O9: =M9*15/MAX($M$4:$M$44) -> 6.5276335 | P9: =N9*15/MAX($N$4:$N$44) -> 9.8615802 | Q9: =SUM(O9:P9) -> 16.389214 | R9: =VLOOKUP(A9,스마트금융!$A$5:$D$45,2,FALSE) -> 9262 | S9: =VLOOKUP(A9,스마트금융!$A$5:$D$45,3,FALSE) -> 8995 | T9: =(S9/R9)*100 -> 97.117253 | U9: =S9*10/MAX($S$4:$S$44) -> 5.3481182 | V9: =T9*10/MAX($T$4:$T$44) -> 9.542257 | W9: =SUM(U9:V9) -> 14.890375 | X9: =SUM(E9,K9,Q9,W9) -> 67.363315 | Y9: =RANK(X9,$X$4:$X$44) -> 12
A10: 부평 | B10: =VLOOKUP(A10,총수신고!$C$6:$I$45,2,FALSE) -> 335902 | C10: =VLOOKUP(A10,총수신고!$C$6:$I$45,4,FALSE) -> 352795.66 | D10: =(C10/B10)*100 -> 105.02934 | E10: =D10*10/MAX($D$4:$D$44) -> 8.8363516 | F10: =VLOOKUP(A10,총수신고!$M$6:$U$45,2,FALSE) -> 82878 | G10: =VLOOKUP(A10,총수신고!$M$6:$U$45,4,FALSE) -> 82572.821 | H10: =(G10/F10)*100 -> 99.631773 | I10: =G10*20/MAX($G$4:$G$44) -> 12.908422 | J10: =H10*20/MAX($H$4:$H$44) -> 17.784937 | K10: =SUM(I10:J10) -> 30.69336 | L10: =VLOOKUP(A10,체크카드!$A$5:$D$44,2,FALSE) -> 290833 | M10: =VLOOKUP(A10,체크카드!$A$5:$D$44,3,FALSE) -> 146866.1 | N10: =(M10/L10)*100 -> 50.498429 | O10: =M10*15/MAX($M$4:$M$44) -> 7.7337312 | P10: =N10*15/MAX($N$4:$N$44) -> 10.178155 | Q10: =SUM(O10:P10) -> 17.911886 | R10: =VLOOKUP(A10,스마트금융!$A$5:$D$45,2,FALSE) -> 10878 | S10: =VLOOKUP(A10,스마트금융!$A$5:$D$45,3,FALSE) -> 10632 | T10: =(S10/R10)*100 -> 97.738555 | U10: =S10*10/MAX($S$4:$S$44) -> 6.3214222 | V10: =T10*10/MAX($T$4:$T$44) -> 9.603303 | W10: =SUM(U10:V10) -> 15.924725 | X10: =SUM(E10,K10,Q10,W10) -> 73.366322 | Y10: =RANK(X10,$X$4:$X$44) -> 7
A11: 수원 | B11: =VLOOKUP(A11,총수신고!$C$6:$I$45,2,FALSE) -> 352943 | C11: =VLOOKUP(A11,총수신고!$C$6:$I$45,4,FALSE) -> 369263.32 | D11: =(C11/B11)*100 -> 104.62407 | E11: =D11*10/MAX($D$4:$D$44) -> 8.8022549 | F11: =VLOOKUP(A11,총수신고!$M$6:$U$45,2,FALSE) -> 68028 | G11: =VLOOKUP(A11,총수신고!$M$6:$U$45,4,FALSE) -> 71589.543 | H11: =(G11/F11)*100 -> 105.23541 | I11: =G11*20/MAX($G$4:$G$44) -> 11.191431 | J11: =H11*20/MAX($H$4:$H$44) -> 18.785224 | K11: =SUM(I11:J11) -> 29.976655 | L11: =VLOOKUP(A11,체크카드!$A$5:$D$44,2,FALSE) -> 243728 | M11: =VLOOKUP(A11,체크카드!$A$5:$D$44,3,FALSE) -> 126301.71 | N11: =(M11/L11)*100 -> 51.820765 | O11: =M11*15/MAX($M$4:$M$44) -> 6.6508442 | P11: =N11*15/MAX($N$4:$N$44) -> 10.444677 | Q11: =SUM(O11:P11) -> 17.095521 | R11: =VLOOKUP(A11,스마트금융!$A$5:$D$45,2,FALSE) -> 10330 | S11: =VLOOKUP(A11,스마트금융!$A$5:$D$45,3,FALSE) -> 10222 | T11: =(S11/R11)*100 -> 98.954501 | U11: =S11*10/MAX($S$4:$S$44) -> 6.0776503 | V11: =T11*10/MAX($T$4:$T$44) -> 9.7227758 | W11: =SUM(U11:V11) -> 15.800426 | X11: =SUM(E11,K11,Q11,W11) -> 71.674857 | Y11: =RANK(X11,$X$4:$X$44) -> 9
A12: 동수원 | B12: =VLOOKUP(A12,총수신고!$C$6:$I$45,2,FALSE) -> 281761 | C12: =VLOOKUP(A12,총수신고!$C$6:$I$45,4,FALSE) -> 303655.9 | D12: =(C12/B12)*100 -> 107.77074 | E12: =D12*10/MAX($D$4:$D$44) -> 9.0669911 | F12: =VLOOKUP(A12,총수신고!$M$6:$U$45,2,FALSE) -> 56604 | G12: =VLOOKUP(A12,총수신고!$M$6:$U$45,4,FALSE) -> 57791.652 | H12: =(G12/F12)*100 -> 102.09818 | I12: =G12*20/MAX($G$4:$G$44) -> 9.0344383 | J12: =H12*20/MAX($H$4:$H$44) -> 18.225207 | K12: =SUM(I12:J12) -> 27.259645 | L12: =VLOOKUP(A12,체크카드!$A$5:$D$44,2,FALSE) -> 190112 | M12: =VLOOKUP(A12,체크카드!$A$5:$D$44,3,FALSE) -> 102677.7 | N12: =(M12/L12)*100 -> 54.009058 | O12: =M12*15/MAX($M$4:$M$44) -> 5.4068417 | P12: =N12*15/MAX($N$4:$N$44) -> 10.885736 | Q12: =SUM(O12:P12) -> 16.292577 | R12: =VLOOKUP(A12,스마트금융!$A$5:$D$45,2,FALSE) -> 9146 | S12: =VLOOKUP(A12,스마트금융!$A$5:$D$45,3,FALSE) -> 9010 | T12: =(S12/R12)*100 -> 98.513011 | U12: =S12*10/MAX($S$4:$S$44) -> 5.3570367 | V12: =T12*10/MAX($T$4:$T$44) -> 9.6793972 | W12: =SUM(U12:V12) -> 15.036434 | X12: =SUM(E12,K12,Q12,W12) -> 67.655648 | Y12: =RANK(X12,$X$4:$X$44) -> 11
A13: 서수원 | B13: =VLOOKUP(A13,총수신고!$C$6:$I$45,2,FALSE) -> 114428 | C13: =VLOOKUP(A13,총수신고!$C$6:$I$45,4,FALSE) -> 134420.76 | D13: =(C13/B13)*100 -> 117.47191 | E13: =D13*10/MAX($D$4:$D$44) -> 9.8831725 | F13: =VLOOKUP(A13,총수신고!$M$6:$U$45,2,FALSE) -> 32723 | G13: =VLOOKUP(A13,총수신고!$M$6:$U$45,4,FALSE) -> 33797.533 | H13: =(G13/F13)*100 -> 103.28372 | I13: =G13*20/MAX($G$4:$G$44) -> 5.2834919 | J13: =H13*20/MAX($H$4:$H$44) -> 18.436835 | K13: =SUM(I13:J13) -> 23.720327 | L13: =VLOOKUP(A13,체크카드!$A$5:$D$44,2,FALSE) -> 116544 | M13: =VLOOKUP(A13,체크카드!$A$5:$D$44,3,FALSE) -> 58357.309 | N13: =(M13/L13)*100 -> 50.073199 | O13: =M13*15/MAX($M$4:$M$44) -> 3.0730016 | P13: =N13*15/MAX($N$4:$N$44) -> 10.092448 | Q13: =SUM(O13:P13) -> 13.165449 | R13: =VLOOKUP(A13,스마트금융!$A$5:$D$45,2,FALSE) -> 3319 | S13: =VLOOKUP(A13,스마트금융!$A$5:$D$45,3,FALSE) -> 3226 | T13: =(S13/R13)*100 -> 97.197951 | U13: =S13*10/MAX($S$4:$S$44) -> 1.9180689 | V13: =T13*10/MAX($T$4:$T$44) -> 9.550186 | W13: =SUM(U13:V13) -> 11.468255 | X13: =SUM(E13,K13,Q13,W13) -> 58.237204 | Y13: =RANK(X13,$X$4:$X$44) -> 28
A14: 군포 | B14: =VLOOKUP(A14,총수신고!$C$6:$I$45,2,FALSE) -> 247075 | C14: =VLOOKUP(A14,총수신고!$C$6:$I$45,4,FALSE) -> 268272.19 | D14: =(C14/B14)*100 -> 108.57925 | E14: =D14*10/MAX($D$4:$D$44) -> 9.1350136 | F14: =VLOOKUP(A14,총수신고!$M$6:$U$45,2,FALSE) -> 43423 | G14: =VLOOKUP(A14,총수신고!$M$6:$U$45,4,FALSE) -> 43087.853 | H14: =(G14/F14)*100 -> 99.228181 | I14: =G14*20/MAX($G$4:$G$44) -> 6.7358266 | J14: =H14*20/MAX($H$4:$H$44) -> 17.712894 | K14: =SUM(I14:J14) -> 24.44872 | L14: =VLOOKUP(A14,체크카드!$A$5:$D$44,2,FALSE) -> 147071 | M14: =VLOOKUP(A14,체크카드!$A$5:$D$44,3,FALSE) -> 73619.759 | N14: =(M14/L14)*100 -> 50.057291 | O14: =M14*15/MAX($M$4:$M$44) -> 3.8766975 | P14: =N14*15/MAX($N$4:$N$44) -> 10.089242 | Q14: =SUM(O14:P14) -> 13.965939 | R14: =VLOOKUP(A14,스마트금융!$A$5:$D$45,2,FALSE) -> 6589 | S14: =VLOOKUP(A14,스마트금융!$A$5:$D$45,3,FALSE) -> 6402 | T14: =(S14/R14)*100 -> 97.161937 | U14: =S14*10/MAX($S$4:$S$44) -> 3.8064094 | V14: =T14*10/MAX($T$4:$T$44) -> 9.5466473 | W14: =SUM(U14:V14) -> 13.353057 | X14: =SUM(E14,K14,Q14,W14) -> 60.90273 | Y14: =RANK(X14,$X$4:$X$44) -> 23
A15: 안양 | B15: =VLOOKUP(A15,총수신고!$C$6:$I$45,2,FALSE) -> 440866 | C15: =VLOOKUP(A15,총수신고!$C$6:$I$45,4,FALSE) -> 452393.21 | D15: =(C15/B15)*100 -> 102.61467 | E15: =D15*10/MAX($D$4:$D$44) -> 8.6332003 | F15: =VLOOKUP(A15,총수신고!$M$6:$U$45,2,FALSE) -> 81033 | G15: =VLOOKUP(A15,총수신고!$M$6:$U$45,4,FALSE) -> 78125.133 | H15: =(G15/F15)*100 -> 96.411502 | I15: =G15*20/MAX($G$4:$G$44) -> 12.213125 | J15: =H15*20/MAX($H$4:$H$44) -> 17.210098 | K15: =SUM(I15:J15) -> 29.423223 | L15: =VLOOKUP(A15,체크카드!$A$5:$D$44,2,FALSE) -> 200655 | M15: =VLOOKUP(A15,체크카드!$A$5:$D$44,3,FALSE) -> 105648.7 | N15: =(M15/L15)*100 -> 52.651912 | O15: =M15*15/MAX($M$4:$M$44) -> 5.5632895 | P15: =N15*15/MAX($N$4:$N$44) -> 10.612198 | Q15: =SUM(O15:P15) -> 16.175487 | R15: =VLOOKUP(A15,스마트금융!$A$5:$D$45,2,FALSE) -> 9960 | S15: =VLOOKUP(A15,스마트금융!$A$5:$D$45,3,FALSE) -> 9763 | T15: =(S15/R15)*100 -> 98.022088 | U15: =S15*10/MAX($S$4:$S$44) -> 5.8047446 | V15: =T15*10/MAX($T$4:$T$44) -> 9.6311616 | W15: =SUM(U15:V15) -> 15.435906 | X15: =SUM(E15,K15,Q15,W15) -> 69.667817 | Y15: =RANK(X15,$X$4:$X$44) -> 10
A16: 성남 | B16: =VLOOKUP(A16,총수신고!$C$6:$I$45,2,FALSE) -> 354661 | C16: =VLOOKUP(A16,총수신고!$C$6:$I$45,4,FALSE) -> 378428.32 | D16: =(C16/B16)*100 -> 106.70142 | E16: =D16*10/MAX($D$4:$D$44) -> 8.9770271 | F16: =VLOOKUP(A16,총수신고!$M$6:$U$45,2,FALSE) -> 88844 | G16: =VLOOKUP(A16,총수신고!$M$6:$U$45,4,FALSE) -> 89468.127 | H16: =(G16/F16)*100 -> 100.7025 | I16: =G16*20/MAX($G$4:$G$44) -> 13.98635 | J16: =H16*20/MAX($H$4:$H$44) -> 17.976069 | K16: =SUM(I16:J16) -> 31.962419 | L16: =VLOOKUP(A16,체크카드!$A$5:$D$44,2,FALSE) -> 319800 | M16: =VLOOKUP(A16,체크카드!$A$5:$D$44,3,FALSE) -> 155942.8 | N16: =(M16/L16)*100 -> 48.762601 | O16: =M16*15/MAX($M$4:$M$44) -> 8.2116956 | P16: =N16*15/MAX($N$4:$N$44) -> 9.8282917 | Q16: =SUM(O16:P16) -> 18.039987 | R16: =VLOOKUP(A16,스마트금융!$A$5:$D$45,2,FALSE) -> 10603 | S16: =VLOOKUP(A16,스마트금융!$A$5:$D$45,3,FALSE) -> 10492 | T16: =(S16/R16)*100 -> 98.953126 | U16: =S16*10/MAX($S$4:$S$44) -> 6.238183 | V16: =T16*10/MAX($T$4:$T$44) -> 9.7226407 | W16: =SUM(U16:V16) -> 15.960824 | X16: =SUM(E16,K16,Q16,W16) -> 74.940257 | Y16: =RANK(X16,$X$4:$X$44) -> 6
A17: 성남분당 | B17: =VLOOKUP(A17,총수신고!$C$6:$I$45,2,FALSE) -> 676977 | C17: =VLOOKUP(A17,총수신고!$C$6:$I$45,4,FALSE) -> 804658.43 | D17: =(C17/B17)*100 -> 118.86053 | E17: =D17*10/MAX($D$4:$D$44) -> 10 | F17: =VLOOKUP(A17,총수신고!$M$6:$U$45,2,FALSE) -> 70406 | G17: =VLOOKUP(A17,총수신고!$M$6:$U$45,4,FALSE) -> 78883.321 | H17: =(G17/F17)*100 -> 112.04062 | I17: =G17*20/MAX($G$4:$G$44) -> 12.331651 | J17: =H17*20/MAX($H$4:$H$44) -> 20 | K17: =SUM(I17:J17) -> 32.331651 | L17: =VLOOKUP(A17,체크카드!$A$5:$D$44,2,FALSE) -> 169310 | M17: =VLOOKUP(A17,체크카드!$A$5:$D$44,3,FALSE) -> 92933.097 | N17: =(M17/L17)*100 -> 54.889314 | O17: =M17*15/MAX($M$4:$M$44) -> 4.8937067 | P17: =N17*15/MAX($N$4:$N$44) -> 11.063155 | Q17: =SUM(O17:P17) -> 15.956861 | R17: =VLOOKUP(A17,스마트금융!$A$5:$D$45,2,FALSE) -> 7629 | S17: =VLOOKUP(A17,스마트금융!$A$5:$D$45,3,FALSE) -> 7392 | T17: =(S17/R17)*100 -> 96.893433 | U17: =S17*10/MAX($S$4:$S$44) -> 4.3950294 | V17: =T17*10/MAX($T$4:$T$44) -> 9.5202655 | W17: =SUM(U17:V17) -> 13.915295 | X17: =SUM(E17,K17,Q17,W17) -> 72.203807 | Y17: =RANK(X17,$X$4:$X$44) -> 8
A18: 부천 | B18: =VLOOKUP(A18,총수신고!$C$6:$I$45,2,FALSE) -> 434890 | C18: =VLOOKUP(A18,총수신고!$C$6:$I$45,4,FALSE) -> 461871.72 | D18: =(C18/B18)*100 -> 106.20426 | E18: =D18*10/MAX($D$4:$D$44) -> 8.9352003 | F18: =VLOOKUP(A18,총수신고!$M$6:$U$45,2,FALSE) -> 103016 | G18: =VLOOKUP(A18,총수신고!$M$6:$U$45,4,FALSE) -> 105215.5 | H18: =(G18/F18)*100 -> 102.13511 | I18: =G18*20/MAX($G$4:$G$44) -> 16.448101 | J18: =H18*20/MAX($H$4:$H$44) -> 18.231799 | K18: =SUM(I18:J18) -> 34.6799 | L18: =VLOOKUP(A18,체크카드!$A$5:$D$44,2,FALSE) -> 375649 | M18: =VLOOKUP(A18,체크카드!$A$5:$D$44,3,FALSE) -> 187597.43 | N18: =(M18/L18)*100 -> 49.939553 | O18: =M18*15/MAX($M$4:$M$44) -> 9.8785775 | P18: =N18*15/MAX($N$4:$N$44) -> 10.065511 | Q18: =SUM(O18:P18) -> 19.944088 | R18: =VLOOKUP(A18,스마트금융!$A$5:$D$45,2,FALSE) -> 15679 | S18: =VLOOKUP(A18,스마트금융!$A$5:$D$45,3,FALSE) -> 15720 | T18: =(S18/R18)*100 -> 100.2615 | U18: =S18*10/MAX($S$4:$S$44) -> 9.3465723 | V18: =T18*10/MAX($T$4:$T$44) -> 9.8511946 | W18: =SUM(U18:V18) -> 19.197767 | X18: =SUM(E18,K18,Q18,W18) -> 82.756956 | Y18: =RANK(X18,$X$4:$X$44) -> 3
A19: 안산 | B19: =VLOOKUP(A19,총수신고!$C$6:$I$45,2,FALSE) -> 311482 | C19: =VLOOKUP(A19,총수신고!$C$6:$I$45,4,FALSE) -> 330344.59 | D19: =(C19/B19)*100 -> 106.05576 | E19: =D19*10/MAX($D$4:$D$44) -> 8.9227061 | F19: =VLOOKUP(A19,총수신고!$M$6:$U$45,2,FALSE) -> 88189 | G19: =VLOOKUP(A19,총수신고!$M$6:$U$45,4,FALSE) -> 87545.718 | H19: =(G19/F19)*100 -> 99.270565 | I19: =G19*20/MAX($G$4:$G$44) -> 13.685824 | J19: =H19*20/MAX($H$4:$H$44) -> 17.720459 | K19: =SUM(I19:J19) -> 31.406283 | L19: =VLOOKUP(A19,체크카드!$A$5:$D$44,2,FALSE) -> 492000 | M19: =VLOOKUP(A19,체크카드!$A$5:$D$44,3,FALSE) -> 284854.93 | N19: =(M19/L19)*100 -> 57.897343 | O19: =M19*15/MAX($M$4:$M$44) -> 15 | P19: =N19*15/MAX($N$4:$N$44) -> 11.669435 | Q19: =SUM(O19:P19) -> 26.669435 | R19: =VLOOKUP(A19,스마트금융!$A$5:$D$45,2,FALSE) -> 14498 | S19: =VLOOKUP(A19,스마트금융!$A$5:$D$45,3,FALSE) -> 13966 | T19: =(S19/R19)*100 -> 96.330528 | U19: =S19*10/MAX($S$4:$S$44) -> 8.3037041 | V19: =T19*10/MAX($T$4:$T$44) -> 9.4649573 | W19: =SUM(U19:V19) -> 17.768661 | X19: =SUM(E19,K19,Q19,W19) -> 84.767086 | Y19: =RANK(X19,$X$4:$X$44) -> 2
A20: 고양일산 | B20: =VLOOKUP(A20,총수신고!$C$6:$I$45,2,FALSE) -> 294194 | C20: =VLOOKUP(A20,총수신고!$C$6:$I$45,4,FALSE) -> 318628.69 | D20: =(C20/B20)*100 -> 108.30564 | E20: =D20*10/MAX($D$4:$D$44) -> 9.1119938 | F20: =VLOOKUP(A20,총수신고!$M$6:$U$45,2,FALSE) -> 50574 | G20: =VLOOKUP(A20,총수신고!$M$6:$U$45,4,FALSE) -> 54749.74 | H20: =(G20/F20)*100 -> 108.25669 | I20: =G20*20/MAX($G$4:$G$44) -> 8.5589031 | J20: =H20*20/MAX($H$4:$H$44) -> 19.324543 | K20: =SUM(I20:J20) -> 27.883447 | L20: =VLOOKUP(A20,체크카드!$A$5:$D$44,2,FALSE) -> 210662 | M20: =VLOOKUP(A20,체크카드!$A$5:$D$44,3,FALSE) -> 103312.95 | N20: =(M20/L20)*100 -> 49.042045 | O20: =M20*15/MAX($M$4:$M$44) -> 5.4402931 | P20: =N20*15/MAX($N$4:$N$44) -> 9.8846148 | Q20: =SUM(O20:P20) -> 15.324908 | R20: =VLOOKUP(A20,스마트금융!$A$5:$D$45,2,FALSE) -> 8647 | S20: =VLOOKUP(A20,스마트금융!$A$5:$D$45,3,FALSE) -> 8421 | T20: =(S20/R20)*100 -> 97.386377 | U20: =S20*10/MAX($S$4:$S$44) -> 5.0068375 | V20: =T20*10/MAX($T$4:$T$44) -> 9.5686997 | W20: =SUM(U20:V20) -> 14.575537 | X20: =SUM(E20,K20,Q20,W20) -> 66.895885 | Y20: =RANK(X20,$X$4:$X$44) -> 13
... A44: 하남 | B44: =VLOOKUP(A44,총수신고!$C$6:$I$45,2,FALSE) -> 98016 | C44: =VLOOKUP(A44,총수신고!$C$6:$I$45,4,FALSE) -> 101580.36 | D44: =(C44/B44)*100 -> 103.63651 | E44: =D44*10/MAX($D$4:$D$44) -> 8.7191697 | F44: =VLOOKUP(A44,총수신고!$M$6:$U$45,2,FALSE) -> 20444 | G44: =VLOOKUP(A44,총수신고!$M$6:$U$45,4,FALSE) -> 20040.048 | H44: =(G44/F44)*100 -> 98.024106 | I44: =G44*20/MAX($G$4:$G$44) -> 3.1328154 | J44: =H44*20/MAX($H$4:$H$44) -> 17.497958 | K44: =SUM(I44:J44) -> 20.630774 | L44: =VLOOKUP(A44,체크카드!$A$5:$D$44,2,FALSE) -> 75365 | M44: =VLOOKUP(A44,체크카드!$A$5:$D$44,3,FALSE) -> 37605.264 | N44: =(M44/L44)*100 -> 49.897517 | O44: =M44*15/MAX($M$4:$M$44) -> 1.9802324 | P44: =N44*15/MAX($N$4:$N$44) -> 10.057039 | Q44: =SUM(O44:P44) -> 12.037271 | R44: =VLOOKUP(A44,스마트금융!$A$5:$D$45,2,FALSE) -> 2681 | S44: =VLOOKUP(A44,스마트금융!$A$5:$D$45,3,FALSE) -> 2652 | T44: =(S44/R44)*100 -> 98.918314 | U44: =S44*10/MAX($S$4:$S$44) -> 1.5767882 | V44: =T44*10/MAX($T$4:$T$44) -> 9.7192202 | W44: =SUM(U44:V44) -> 11.296008 | X44: =SUM(E44,K44,Q44,W44) -> 52.683223 | Y44: =RANK(X44,$X$4:$X$44) -> 39
A45: 합계 | Z45: 361078 | AA45: 222000 | AB45: =SUM(Z45:AA45) -> 583078
Z47: =SUM(Z4:Z44) -> 0

Sheet 평가 내역 세부자료
A1: 총괄국별 예산 배정 내역
Z2: (단위 : 백만원, 명, 점, %)
A3: 국 명 | B3: 예금총수신고(10) | F3: 요구불예금수신고(40) | L3: 체크카드(30) | R3: 스마트금융(20) | X3: 합계 (A+B+C+D) | Y3: 순위 | Z3: 5231-362-210-01 수용비 (천원) | AA3: 5231-362-310-03 포상금 (천원)
B4: 목표 | C4: 실적 | D4: 달성율 | E4: 가중치 (10) A | F4: 목표 | G4: 실적 | H4: 달성율 | I4: 실적 점유비 (20) | J4: 달성율 (20) | K4: 가중치 (40) B | L4: 목표 (천원) | M4: 실적 (천원) | N4: 달성율 | O4: 실적 점유비 (15) | P4: 달성율(15) | Q4: 가중치소계 (30) C | R4: 목표 | S4: 실적 | T4: 달성율 | U4: 실적 점유비 (10) | V4: 달성율 (10) | W4: 가중치소계(20) D
A5: 남인천 | B5: =VLOOKUP(A5,총수신고!$C$6:$I$45,2,FALSE) -> 451356 | C5: =VLOOKUP(A5,총수신고!$C$6:$I$45,4,FALSE) -> 473815.46 | D5: =(C5/B5)*100 -> 104.976 | E5: =D5*10/MAX($D$5:$D$45) -> 8.8318635 | F5: =VLOOKUP(A5,총수신고!$M$6:$U$45,2,FALSE) -> 119184 | G5: =VLOOKUP(A5,총수신고!$M$6:$U$45,4,FALSE) -> 127936.35 | H5: =(G5/F5)*100 -> 107.34356 | I5: =G5*20/MAX($G$5:$G$45) -> 20 | J5: =H5*20/MAX($H$5:$H$45) -> 19.161543 | K5: =SUM(I5:J5) -> 39.161543 | L5: =VLOOKUP(A5,체크카드!$A$5:$D$44,2,FALSE) -> 471032 | M5: =VLOOKUP(A5,체크카드!$A$5:$D$44,3,FALSE) -> 237153.94 | N5: =(M5/L5)*100 -> 50.347735 | O5: =M5*15/MAX($M$5:$M$45) -> 12.488143 | P5: =N5*15/MAX($N$5:$N$45) -> 10.147782 | Q5: =SUM(O5:P5) -> 22.635925 | R5: =VLOOKUP(A5,스마트금융!$A$5:$D$45,2,FALSE) -> 17231 | S5: =VLOOKUP(A5,스마트금융!$A$5:$D$45,3,FALSE) -> 16819 | T5: =(S5/R5)*100 -> 97.608961 | U5: =S5*10/MAX($S$5:$S$45) -> 10 | V5: =T5*10/MAX($T$5:$T$45) -> 9.5905697 | W5: =SUM(U5:V5) -> 19.59057 | X5: =SUM(E5,K5,Q5,W5) -> 90.219901 | Y5: =RANK(X5,$X$5:$X$45) -> 1 | Z5: 11000 | AA5: 7000
A6: 안산 | B6: =VLOOKUP(A6,총수신고!$C$6:$I$45,2,FALSE) -> 311482 | C6: =VLOOKUP(A6,총수신고!$C$6:$I$45,4,FALSE) -> 330344.59 | D6: =(C6/B6)*100 -> 106.05576 | E6: =D6*10/MAX($D$5:$D$45) -> 8.9227061 | F6: =VLOOKUP(A6,총수신고!$M$6:$U$45,2,FALSE) -> 88189 | G6: =VLOOKUP(A6,총수신고!$M$6:$U$45,4,FALSE) -> 87545.718 | H6: =(G6/F6)*100 -> 99.270565 | I6: =G6*20/MAX($G$5:$G$45) -> 13.685824 | J6: =H6*20/MAX($H$5:$H$45) -> 17.720459 | K6: =SUM(I6:J6) -> 31.406283 | L6: =VLOOKUP(A6,체크카드!$A$5:$D$44,2,FALSE) -> 492000 | M6: =VLOOKUP(A6,체크카드!$A$5:$D$44,3,FALSE) -> 284854.93 | N6: =(M6/L6)*100 -> 57.897343 | O6: =M6*15/MAX($M$5:$M$45) -> 15 | P6: =N6*15/MAX($N$5:$N$45) -> 11.669435 | Q6: =SUM(O6:P6) -> 26.669435 | R6: =VLOOKUP(A6,스마트금융!$A$5:$D$45,2,FALSE) -> 14498 | S6: =VLOOKUP(A6,스마트금융!$A$5:$D$45,3,FALSE) -> 13966 | T6: =(S6/R6)*100 -> 96.330528 | U6: =S6*10/MAX($S$5:$S$45) -> 8.3037041 | V6: =T6*10/MAX($T$5:$T$45) -> 9.4649573 | W6: =SUM(U6:V6) -> 17.768661 | X6: =SUM(E6,K6,Q6,W6) -> 84.767086 | Y6: =RANK(X6,$X$5:$X$45) -> 2 | Z6: 11000 | AA6: 7000
A7: 부천 | B7: =VLOOKUP(A7,총수신고!$C$6:$I$45,2,FALSE) -> 434890 | C7: =VLOOKUP(A7,총수신고!$C$6:$I$45,4,FALSE) -> 461871.72 | D7: =(C7/B7)*100 -> 106.20426 | E7: =D7*10/MAX($D$5:$D$45) -> 8.9352003 | F7: =VLOOKUP(A7,총수신고!$M$6:$U$45,2,FALSE) -> 103016 | G7: =VLOOKUP(A7,총수신고!$M$6:$U$45,4,FALSE) -> 105215.5 | H7: =(G7/F7)*100 -> 102.13511 | I7: =G7*20/MAX($G$5:$G$45) -> 16.448101 | J7: =H7*20/MAX($H$5:$H$45) -> 18.231799 | K7: =SUM(I7:J7) -> 34.6799 | L7: =VLOOKUP(A7,체크카드!$A$5:$D$44,2,FALSE) -> 375649 | M7: =VLOOKUP(A7,체크카드!$A$5:$D$44,3,FALSE) -> 187597.43 | N7: =(M7/L7)*100 -> 49.939553 | O7: =M7*15/MAX($M$5:$M$45) -> 9.8785775 | P7: =N7*15/MAX($N$5:$N$45) -> 10.065511 | Q7: =SUM(O7:P7) -> 19.944088 | R7: =VLOOKUP(A7,스마트금융!$A$5:$D$45,2,FALSE) -> 15679 | S7: =VLOOKUP(A7,스마트금융!$A$5:$D$45,3,FALSE) -> 15720 | T7: =(S7/R7)*100 -> 100.2615 | U7: =S7*10/MAX($S$5:$S$45) -> 9.3465723 | V7: =T7*10/MAX($T$5:$T$45) -> 9.8511946 | W7: =SUM(U7:V7) -> 19.197767 | X7: =SUM(E7,K7,Q7,W7) -> 82.756956 | Y7: =RANK(X7,$X$5:$X$45) -> 3 | Z7: 11000 | AA7: 7000
A8: 인천 | B8: =VLOOKUP(A8,총수신고!$C$6:$I$45,2,FALSE) -> 317089 | C8: =VLOOKUP(A8,총수신고!$C$6:$I$45,4,FALSE) -> 331940.04 | D8: =(C8/B8)*100 -> 104.68355 | E8: =D8*10/MAX($D$5:$D$45) -> 8.8072598 | F8: =VLOOKUP(A8,총수신고!$M$6:$U$45,2,FALSE) -> 73235 | G8: =VLOOKUP(A8,총수신고!$M$6:$U$45,4,FALSE) -> 68177.165 | H8: =(G8/F8)*100 -> 93.093692 | I8: =G8*20/MAX($G$5:$G$45) -> 10.657982 | J8: =H8*20/MAX($H$5:$H$45) -> 16.617846 | K8: =SUM(I8:J8) -> 27.275828 | L8: =VLOOKUP(A8,체크카드!$A$5:$D$44,2,FALSE) -> 302599 | M8: =VLOOKUP(A8,체크카드!$A$5:$D$44,3,FALSE) -> 225199.58 | N8: =(M8/L8)*100 -> 74.421785 | O8: =M8*15/MAX($M$5:$M$45) -> 11.858646 | P8: =N8*15/MAX($N$5:$N$45) -> 15 | Q8: =SUM(O8:P8) -> 26.858646 | R8: =VLOOKUP(A8,스마트금융!$A$5:$D$45,2,FALSE) -> 10583 | S8: =VLOOKUP(A8,스마트금융!$A$5:$D$45,3,FALSE) -> 10145 | T8: =(S8/R8)*100 -> 95.861287 | U8: =S8*10/MAX($S$5:$S$45) -> 6.0318687 | V8: =T8*10/MAX($T$5:$T$45) -> 9.418852 | W8: =SUM(U8:V8) -> 15.450721 | X8: =SUM(E8,K8,Q8,W8) -> 78.392454 | Y8: =RANK(X8,$X$5:$X$45) -> 4 | Z8: 11000 | AA8: 7000
A9: 평택 | B9: =VLOOKUP(A9,총수신고!$C$6:$I$45,2,FALSE) -> 364169 | C9: =VLOOKUP(A9,총수신고!$C$6:$I$45,4,FALSE) -> 385837.58 | D9: =(C9/B9)*100 -> 105.95014 | E9: =D9*10/MAX($D$5:$D$45) -> 8.9138207 | F9: =VLOOKUP(A9,총수신고!$M$6:$U$45,2,FALSE) -> 85242 | G9: =VLOOKUP(A9,총수신고!$M$6:$U$45,4,FALSE) -> 85783.333 | H9: =(G9/F9)*100 -> 100.63505 | I9: =G9*20/MAX($G$5:$G$45) -> 13.410314 | J9: =H9*20/MAX($H$5:$H$45) -> 17.96403 | K9: =SUM(I9:J9) -> 31.374344 | L9: =VLOOKUP(A9,체크카드!$A$5:$D$44,2,FALSE) -> 370979 | M9: =VLOOKUP(A9,체크카드!$A$5:$D$44,3,FALSE) -> 188527.19 | N9: =(M9/L9)*100 -> 50.81883 | O9: =M9*15/MAX($M$5:$M$45) -> 9.9275369 | P9: =N9*15/MAX($N$5:$N$45) -> 10.242733 | Q9: =SUM(O9:P9) -> 20.17027 | R9: =VLOOKUP(A9,스마트금융!$A$5:$D$45,2,FALSE) -> 10119 | S9: =VLOOKUP(A9,스마트금융!$A$5:$D$45,3,FALSE) -> 9936 | T9: =(S9/R9)*100 -> 98.191521 | U9: =S9*10/MAX($S$5:$S$45) -> 5.9076045 | V9: =T9*10/MAX($T$5:$T$45) -> 9.6478092 | W9: =SUM(U9:V9) -> 15.555414 | X9: =SUM(E9,K9,Q9,W9) -> 76.013848 | Y9: =RANK(X9,$X$5:$X$45) -> 5 | Z9: 11000 | AA9: 7000
A10: 성남 | B10: =VLOOKUP(A10,총수신고!$C$6:$I$45,2,FALSE) -> 354661 | C10: =VLOOKUP(A10,총수신고!$C$6:$I$45,4,FALSE) -> 378428.32 | D10: =(C10/B10)*100 -> 106.70142 | E10: =D10*10/MAX($D$5:$D$45) -> 8.9770271 | F10: =VLOOKUP(A10,총수신고!$M$6:$U$45,2,FALSE) -> 88844 | G10: =VLOOKUP(A10,총수신고!$M$6:$U$45,4,FALSE) -> 89468.127 | H10: =(G10/F10)*100 -> 100.7025 | I10: =G10*20/MAX($G$5:$G$45) -> 13.98635 | J10: =H10*20/MAX($H$5:$H$45) -> 17.976069 | K10: =SUM(I10:J10) -> 31.962419 | L10: =VLOOKUP(A10,체크카드!$A$5:$D$44,2,FALSE) -> 319800 | M10: =VLOOKUP(A10,체크카드!$A$5:$D$44,3,FALSE) -> 155942.8 | N10: =(M10/L10)*100 -> 48.762601 | O10: =M10*15/MAX($M$5:$M$45) -> 8.2116956 | P10: =N10*15/MAX($N$5:$N$45) -> 9.8282917 | Q10: =SUM(O10:P10) -> 18.039987 | R10: =VLOOKUP(A10,스마트금융!$A$5:$D$45,2,FALSE) -> 10603 | S10: =VLOOKUP(A10,스마트금융!$A$5:$D$45,3,FALSE) -> 10492 | T10: =(S10/R10)*100 -> 98.953126 | U10: =S10*10/MAX($S$5:$S$45) -> 6.238183 | V10: =T10*10/MAX($T$5:$T$45) -> 9.7226407 | W10: =SUM(U10:V10) -> 15.960824 | X10: =SUM(E10,K10,Q10,W10) -> 74.940257 | Y10: =RANK(X10,$X$5:$X$45) -> 6 | Z10: 10400 | AA10: 6500
A11: 부평 | B11: =VLOOKUP(A11,총수신고!$C$6:$I$45,2,FALSE) -> 335902 | C11: =VLOOKUP(A11,총수신고!$C$6:$I$45,4,FALSE) -> 352795.66 | D11: =(C11/B11)*100 -> 105.02934 | E11: =D11*10/MAX($D$5:$D$45) -> 8.8363516 | F11: =VLOOKUP(A11,총수신고!$M$6:$U$45,2,FALSE) -> 82878 | G11: =VLOOKUP(A11,총수신고!$M$6:$U$45,4,FALSE) -> 82572.821 | H11: =(G11/F11)*100 -> 99.631773 | I11: =G11*20/MAX($G$5:$G$45) -> 12.908422 | J11: =H11*20/MAX($H$5:$H$45) -> 17.784937 | K11: =SUM(I11:J11) -> 30.69336 | L11: =VLOOKUP(A11,체크카드!$A$5:$D$44,2,FALSE) -> 290833 | M11: =VLOOKUP(A11,체크카드!$A$5:$D$44,3,FALSE) -> 146866.1 | N11: =(M11/L11)*100 -> 50.498429 | O11: =M11*15/MAX($M$5:$M$45) -> 7.7337312 | P11: =N11*15/MAX($N$5:$N$45) -> 10.178155 | Q11: =SUM(O11:P11) -> 17.911886 | R11: =VLOOKUP(A11,스마트금융!$A$5:$D$45,2,FALSE) -> 10878 | S11: =VLOOKUP(A11,스마트금융!$A$5:$D$45,3,FALSE) -> 10632 | T11: =(S11/R11)*100 -> 97.738555 | U11: =S11*10/MAX($S$5:$S$45) -> 6.3214222 | V11: =T11*10/MAX($T$5:$T$45) -> 9.603303 | W11: =SUM(U11:V11) -> 15.924725 | X11: =SUM(E11,K11,Q11,W11) -> 73.366322 | Y11: =RANK(X11,$X$5:$X$45) -> 7 | Z11: 10400 | AA11: 6500
A12: 성남분당 | B12: =VLOOKUP(A12,총수신고!$C$6:$I$45,2,FALSE) -> 676977 | C12: =VLOOKUP(A12,총수신고!$C$6:$I$45,4,FALSE) -> 804658.43 | D12: =(C12/B12)*100 -> 118.86053 | E12: =D12*10/MAX($D$5:$D$45) -> 10 | F12: =VLOOKUP(A12,총수신고!$M$6:$U$45,2,FALSE) -> 70406 | G12: =VLOOKUP(A12,총수신고!$M$6:$U$45,4,FALSE) -> 78883.321 | H12: =(G12/F12)*100 -> 112.04062 | I12: =G12*20/MAX($G$5:$G$45) -> 12.331651 | J12: =H12*20/MAX($H$5:$H$45) -> 20 | K12: =SUM(I12:J12) -> 32.331651 | L12: =VLOOKUP(A12,체크카드!$A$5:$D$44,2,FALSE) -> 169310 | M12: =VLOOKUP(A12,체크카드!$A$5:$D$44,3,FALSE) -> 92933.097 | N12: =(M12/L12)*100 -> 54.889314 | O12: =M12*15/MAX($M$5:$M$45) -> 4.8937067 | P12: =N12*15/MAX($N$5:$N$45) -> 11.063155 | Q12: =SUM(O12:P12) -> 15.956861 | R12: =VLOOKUP(A12,스마트금융!$A$5:$D$45,2,FALSE) -> 7629 | S12: =VLOOKUP(A12,스마트금융!$A$5:$D$45,3,FALSE) -> 7392 | T12: =(S12/R12)*100 -> 96.893433 | U12: =S12*10/MAX($S$5:$S$45) -> 4.3950294 | V12: =T12*10/MAX($T$5:$T$45) -> 9.5202655 | W12: =SUM(U12:V12) -> 13.915295 | X12: =SUM(E12,K12,Q12,W12) -> 72.203807 | Y12: =RANK(X12,$X$5:$X$45) -> 8 | Z12: 10400 | AA12: 6500
A13: 수원 | B13: =VLOOKUP(A13,총수신고!$C$6:$I$45,2,FALSE) -> 352943 | C13: =VLOOKUP(A13,총수신고!$C$6:$I$45,4,FALSE) -> 369263.32 | D13: =(C13/B13)*100 -> 104.62407 | E13: =D13*10/MAX($D$5:$D$45) -> 8.8022549 | F13: =VLOOKUP(A13,총수신고!$M$6:$U$45,2,FALSE) -> 68028 | G13: =VLOOKUP(A13,총수신고!$M$6:$U$45,4,FALSE) -> 71589.543 | H13: =(G13/F13)*100 -> 105.23541 | I13: =G13*20/MAX($G$5:$G$45) -> 11.191431 | J13: =H13*20/MAX($H$5:$H$45) -> 18.785224 | K13: =SUM(I13:J13) -> 29.976655 | L13: =VLOOKUP(A13,체크카드!$A$5:$D$44,2,FALSE) -> 243728 | M13: =VLOOKUP(A13,체크카드!$A$5:$D$44,3,FALSE) -> 126301.71 | N13: =(M13/L13)*100 -> 51.820765 | O13: =M13*15/MAX($M$5:$M$45) -> 6.6508442 | P13: =N13*15/MAX($N$5:$N$45) -> 10.444677 | Q13: =SUM(O13:P13) -> 17.095521 | R13: =VLOOKUP(A13,스마트금융!$A$5:$D$45,2,FALSE) -> 10330 | S13: =VLOOKUP(A13,스마트금융!$A$5:$D$45,3,FALSE) -> 10222 | T13: =(S13/R13)*100 -> 98.954501 | U13: =S13*10/MAX($S$5:$S$45) -> 6.0776503 | V13: =T13*10/MAX($T$5:$T$45) -> 9.7227758 | W13: =SUM(U13:V13) -> 15.800426 | X13: =SUM(E13,K13,Q13,W13) -> 71.674857 | Y13: =RANK(X13,$X$5:$X$45) -> 9 | Z13: 10400 | AA13: 6500
A14: 안양 | B14: =VLOOKUP(A14,총수신고!$C$6:$I$45,2,FALSE) -> 440866 | C14: =VLOOKUP(A14,총수신고!$C$6:$I$45,4,FALSE) -> 452393.21 | D14: =(C14/B14)*100 -> 102.61467 | E14: =D14*10/MAX($D$5:$D$45) -> 8.6332003 | F14: =VLOOKUP(A14,총수신고!$M$6:$U$45,2,FALSE) -> 81033 | G14: =VLOOKUP(A14,총수신고!$M$6:$U$45,4,FALSE) -> 78125.133 | H14: =(G14/F14)*100 -> 96.411502 | I14: =G14*20/MAX($G$5:$G$45) -> 12.213125 | J14: =H14*20/MAX($H$5:$H$45) -> 17.210098 | K14: =SUM(I14:J14) -> 29.423223 | L14: =VLOOKUP(A14,체크카드!$A$5:$D$44,2,FALSE) -> 200655 | M14: =VLOOKUP(A14,체크카드!$A$5:$D$44,3,FALSE) -> 105648.7 | N14: =(M14/L14)*100 -> 52.651912 | O14: =M14*15/MAX($M$5:$M$45) -> 5.5632895 | P14: =N14*15/MAX($N$5:$N$45) -> 10.612198 | Q14: =SUM(O14:P14) -> 16.175487 | R14: =VLOOKUP(A14,스마트금융!$A$5:$D$45,2,FALSE) -> 9960 | S14: =VLOOKUP(A14,스마트금융!$A$5:$D$45,3,FALSE) -> 9763 | T14: =(S14/R14)*100 -> 98.022088 | U14: =S14*10/MAX($S$5:$S$45) -> 5.8047446 | V14: =T14*10/MAX($T$5:$T$45) -> 9.6311616 | W14: =SUM(U14:V14) -> 15.435906 | X14: =SUM(E14,K14,Q14,W14) -> 69.667817 | Y14: =RANK(X14,$X$5:$X$45) -> 10 | Z14: 10400 | AA14: 6500
A15: 동수원 | B15: =VLOOKUP(A15,총수신고!$C$6:$I$45,2,FALSE) -> 281761 | C15: =VLOOKUP(A15,총수신고!$C$6:$I$45,4,FALSE) -> 303655.9 | D15: =(C15/B15)*100 -> 107.77074 | E15: =D15*10/MAX($D$5:$D$45) -> 9.0669911 | F15: =VLOOKUP(A15,총수신고!$M$6:$U$45,2,FALSE) -> 56604 | G15: =VLOOKUP(A15,총수신고!$M$6:$U$45,4,FALSE) -> 57791.652 | H15: =(G15/F15)*100 -> 102.09818 | I15: =G15*20/MAX($G$5:$G$45) -> 9.0344383 | J15: =H15*20/MAX($H$5:$H$45) -> 18.225207 | K15: =SUM(I15:J15) -> 27.259645 | L15: =VLOOKUP(A15,체크카드!$A$5:$D$44,2,FALSE) -> 190112 | M15: =VLOOKUP(A15,체크카드!$A$5:$D$44,3,FALSE) -> 102677.7 | N15: =(M15/L15)*100 -> 54.009058 | O15: =M15*15/MAX($M$5:$M$45) -> 5.4068417 | P15: =N15*15/MAX($N$5:$N$45) -> 10.885736 | Q15: =SUM(O15:P15) -> 16.292577 | R15: =VLOOKUP(A15,스마트금융!$A$5:$D$45,2,FALSE) -> 9146 | S15: =VLOOKUP(A15,스마트금융!$A$5:$D$45,3,FALSE) -> 9010 | T15: =(S15/R15)*100 -> 98.513011 | U15: =S15*10/MAX($S$5:$S$45) -> 5.3570367 | V15: =T15*10/MAX($T$5:$T$45) -> 9.6793972 | W15: =SUM(U15:V15) -> 15.036434 | X15: =SUM(E15,K15,Q15,W15) -> 67.655648 | Y15: =RANK(X15,$X$5:$X$45) -> 11 | Z15: 9800 | AA15: 6000
A16: 의정부 | B16: =VLOOKUP(A16,총수신고!$C$6:$I$45,2,FALSE) -> 265241 | C16: =VLOOKUP(A16,총수신고!$C$6:$I$45,4,FALSE) -> 278237.21 | D16: =(C16/B16)*100 -> 104.89977 | E16: =D16*10/MAX($D$5:$D$45) -> 8.8254509 | F16: =VLOOKUP(A16,총수신고!$M$6:$U$45,2,FALSE) -> 62839 | G16: =VLOOKUP(A16,총수신고!$M$6:$U$45,4,FALSE) -> 61894.69 | H16: =(G16/F16)*100 -> 98.497255 | I16: =G16*20/MAX($G$5:$G$45) -> 9.6758569 | J16: =H16*20/MAX($H$5:$H$45) -> 17.582418 | K16: =SUM(I16:J16) -> 27.258275 | L16: =VLOOKUP(A16,체크카드!$A$5:$D$44,2,FALSE) -> 253357 | M16: =VLOOKUP(A16,체크카드!$A$5:$D$44,3,FALSE) -> 123961.9 | N16: =(M16/L16)*100 -> 48.92776 | O16: =M16*15/MAX($M$5:$M$45) -> 6.5276335 | P16: =N16*15/MAX($N$5:$N$45) -> 9.8615802 | Q16: =SUM(O16:P16) -> 16.389214 | R16: =VLOOKUP(A16,스마트금융!$A$5:$D$45,2,FALSE) -> 9262 | S16: =VLOOKUP(A16,스마트금융!$A$5:$D$45,3,FALSE) -> 8995 | T16: =(S16/R16)*100 -> 97.117253 | U16: =S16*10/MAX($S$5:$S$45) -> 5.3481182 | V16: =T16*10/MAX($T$5:$T$45) -> 9.542257 | W16: =SUM(U16:V16) -> 14.890375 | X16: =SUM(E16,K16,Q16,W16) -> 67.363315 | Y16: =RANK(X16,$X$5:$X$45) -> 12 | Z16: 9800 | AA16: 6000
... A44: 백령 | B44: =VLOOKUP(A44,총수신고!$C$6:$I$45,2,FALSE) -> 33147 | C44: =VLOOKUP(A44,총수신고!$C$6:$I$45,4,FALSE) -> 36338.038 | D44: =(C44/B44)*100 -> 109.62693 | E44: =D44*10/MAX($D$5:$D$45) -> 9.2231569 | F44: =VLOOKUP(A44,총수신고!$M$6:$U$45,2,FALSE) -> 7812 | G44: =VLOOKUP(A44,총수신고!$M$6:$U$45,4,FALSE) -> 7582.5078 | H44: =(G44/F44)*100 -> 97.062312 | I44: =G44*20/MAX($G$5:$G$45) -> 1.1853563 | J44: =H44*20/MAX($H$5:$H$45) -> 17.326271 | K44: =SUM(I44:J44) -> 18.511628 | L44: =VLOOKUP(A44,체크카드!$A$5:$D$44,2,FALSE) -> 36364 | M44: =VLOOKUP(A44,체크카드!$A$5:$D$44,3,FALSE) -> 21143.591 | N44: =(M44/L44)*100 -> 58.144294 | O44: =M44*15/MAX($M$5:$M$45) -> 1.1133873 | P44: =N44*15/MAX($N$5:$N$45) -> 11.719208 | Q44: =SUM(O44:P44) -> 12.832596 | R44: =VLOOKUP(A44,스마트금융!$A$5:$D$45,2,FALSE) -> 1064 | S44: =VLOOKUP(A44,스마트금융!$A$5:$D$45,3,FALSE) -> 1025 | T44: =(S44/R44)*100 -> 96.334586 | U44: =S44*10/MAX($S$5:$S$45) -> 0.60942981 | V44: =T44*10/MAX($T$5:$T$45) -> 9.465356 | W44: =SUM(U44:V44) -> 10.074786 | X44: =SUM(E44,K44,Q44,W44) -> 50.642166 | Y44: =RANK(X44,$X$5:$X$45) -> 40 | Z44: 6000 | AA44: 3500
A45: 인천남동 | E45: =D45*10/MAX($D$5:$D$45) -> 0 | I45: =G45*20/MAX($G$5:$G$45) -> 0 | J45: =H45*20/MAX($H$5:$H$45) -> 0 | K45: =SUM(I45:J45) -> 0 | O45: =M45*15/MAX($M$5:$M$45) -> 0 | P45: =N45*15/MAX($N$5:$N$45) -> 0 | Q45: =SUM(O45:P45) -> 0 | U45: =S45*10/MAX($S$5:$S$45) -> 0 | V45: =T45*10/MAX($T$5:$T$45) -> 0 | W45: =SUM(U45:V45) -> 0 | X45: =SUM(E45,K45,Q45,W45) -> 0 | Y45: =RANK(X45,$X$5:$X$45) -> 41 | Z45: 11000 | AA45: 7000
A46: 합계 | B46: =SUM(B5:B45) -> 8705900 | C46: =SUM(C5:C45) -> 9305653.3 | D46: =(C46/B46)*100 -> 106.88904 | F46: =SUM(F5:F45) -> 1943900 | G46: =SUM(G5:G45) -> 1941254.1 | H46: =(G46/F46)*100 -> 99.863888 | L46: =SUM(L5:L45) -> 7775000 | M46: =SUM(M5:M45) -> 4063122.7 | N46: =(M46/L46)*100 -> 52.258813 | R46: =SUM(R5:R45) -> 278450 | S46: =SUM(S5:S45) -> 273527 | T46: =(S46/R46)*100 -> 98.231999 | Z46: =SUM(Z5:Z45) -> 361000 | AA46: =SUM(AA5:AA45) -> 217000

Sheet 총수신고
C1: 2015년도 예금사업 실적 현황(수신고)
A3: =[1]종합점수!A2 -> 42216 | V3: (단위 : 백만원, %, 점)
A4: 구분 | C4: 국명 | D4: 예금총수신고 | M4: 국 명 | N4: 요구불예금수신고 | AC4: 당일실적
D5: 목표 | E5: 전년도 | F5: 연평잔고 | G5: 전년대비 | H5: 당일실적 | I5: 달성률 | J5: 경평득점 | K5: 예사평득점 | N5: 목표 | O5: 전년도 | P5: 연평잔고 | Q5: 1분기평잔 | R5: 전년대비 | S5: 분기대비 | T5: 당일실적 | U5: 달성률 | V5: 예사평계산 | W5: 만점여부 | X5: 예사평가점 | Y5: 경평득점 | Z5: 예사평득점 | AC5: 1 | AD5: 2 | AE5: 3 | AF5: 4 | AG5: 5 | AH5: 6 | AI5: 7 | AJ5: 8 | AK5: 9 | AL5: 10 | AM5: 11
A6: 가그룹 | B6: 1 | C6: 성남 | D6: 354661 | E6: 363231.62 | F6: =VLOOKUP(C6,$AC$8:$AO$49,11,FALSE)/1000000 -> 378428.32 | G6: =F6/E6% -> 104.18375 | I6: =F6/D6% -> 106.70142 | J6: =IF(I6>=100,4,I6*0.04) -> 4 | K6: =IF(I6>=100,10,I6*0.1) -> 10 | L6: 1 | M6: 남인천 | N6: 119184 | O6: 124149.97 | P6: =VLOOKUP(M6,$AC$33:$AQ$33,14,FALSE)/1000000 -> 127936.35 | R6: =P6/O6% -> 103.04984 | T6: =(VLOOKUP(M6,$AC$33:$AQ$33,15,FALSE)-VLOOKUP(M6,$AC$80:$AQ$80,15,FALSE))/1000000 -> 992.46885 | U6: =P6/N6% -> 107.34356 | V6: =IF(U6>=100,30,U6*0.3) -> 30 | W6: =IF(U6>100,"0","") -> 0 | X6: =COUNTIF(W6:W13,"0")*0.01 -> 0.04 | Y6: =VLOOKUP(M6,$M$50:$T$89,8,FALSE) -> 6.0297 | Z6: =V6+X6 -> 30.04 | AD6: 유지잔액 | AI6: 일연평잔고 | AN6: 12 | AO6: 13 | AP6: 14 | AQ6: 15
B7: 1 | C7: 부천 | D7: 434890 | E7: 446263.32 | F7: =VLOOKUP(C7,$AC$8:$AO$49,11,FALSE)/1000000 -> 461871.72 | G7: =F7/E7% -> 103.49758 | I7: =F7/D7% -> 106.20426 | J7: =IF(I7>=100,4,I7*0.04) -> 4 | K7: =IF(I7>=100,10,I7*0.1) -> 10 | L7: 1 | M7: 부천 | N7: 103016 | O7: 91128.542 | P7: =VLOOKUP(M7,$AC$8:$AO$49,12,FALSE)/1000000 -> 105215.5 | R7: =P7/O7% -> 115.45834 | T7: =(VLOOKUP(M7,$AC$8:$AO$49,13,FALSE)-VLOOKUP(M7,$AC$55:$AO$96,13,FALSE))/1000000 -> 74.84268 | U7: =P7/N7% -> 102.13511 | V7: =IF(U7>=100,30,U7*0.3) -> 30 | W7: =IF(U7>100,"0","") -> 0 | X7: =IF(X6-0.01<0,"0",X6-0.01) -> 0.03 | Y7: =VLOOKUP(M7,$M$50:$T$89,8,FALSE) -> 6.0165 | Z7: =V7+X7 -> 30.03 | AD7: 일반예금 | AE7: 요구불예금 | AF7: 타부처국고예금 | AG7: 실적우편대체 | AH7: Total | AI7: 일반예금 | AJ7: 요구불예금 | AK7: 타부처국고예금 | AL7: 실적우편대체 | AM7: Total | AN7: 요구불연평 | AO7: 요구불유지잔액
B8: 1 | C8: 평택 | D8: 364169 | E8: 377371.73 | F8: =VLOOKUP(C8,$AC$8:$AO$49,11,FALSE)/1000000 -> 385837.58 | G8: =F8/E8% -> 102.24337 | I8: =F8/D8% -> 105.95014 | J8: =IF(I8>=100,4,I8*0.04) -> 4 | K8: =IF(I8>=100,10,I8*0.1) -> 10 | L8: 1 | M8: 성남 | N8: 88844 | O8: 78965.083 | P8: =VLOOKUP(M8,$AC$8:$AO$49,12,FALSE)/1000000 -> 89468.127 | R8: =P8/O8% -> 113.30087 | T8: =(VLOOKUP(M8,$AC$8:$AO$49,13,FALSE)-VLOOKUP(M8,$AC$55:$AO$96,13,FALSE))/1000000 -> 163.4153 | U8: =P8/N8% -> 100.7025 | V8: =IF(U8>=100,30,U8*0.3) -> 30 | W8: =IF(U8>100,"0","") -> 0 | X8: =IF(X7-0.01<0,"0",X7-0.01) -> 0.02 | Y8: =VLOOKUP(M8,$M$50:$T$89,8,FALSE) -> 6.0099 | Z8: =V8+X8 -> 30.02 | AC8: 평택 | AD8: 299033883976 | AE8: 92155733812 | AF8: 0 | AG8: 0 | AH8: 391189617788 | AI8: 300054245950 | AJ8: 85783332935 | AK8: 0 | AL8: 0 | AM8: 385837578885 | AN8: =AJ8+AK8+AL8 -> 85783332935 | AO8: =AE8+AF8+AG8 -> 92155733812
B9: 1 | C9: 안산 | D9: 311482 | E9: 323667.76 | F9: =VLOOKUP(C9,$AC$8:$AO$49,11,FALSE)/1000000 -> 330344.59 | G9: =F9/E9% -> 102.06287 | I9: =F9/D9% -> 106.05576 | J9: =IF(I9>=100,4,I9*0.04) -> 4 | K9: =IF(I9>=100,10,I9*0.1) -> 10 | L9: 1 | M9: 평택 | N9: 85242 | O9: 77223.769 | P9: =VLOOKUP(M9,$AC$8:$AO$49,12,FALSE)/1000000 -> 85783.333 | R9: =P9/O9% -> 111.08411 | T9: =(VLOOKUP(M9,$AC$8:$AO$49,13,FALSE)-VLOOKUP(M9,$AC$55:$AO$96,13,FALSE))/1000000 -> 1078.6926 | U9: =P9/N9% -> 100.63505 | V9: =IF(U9>=100,30,U9*0.3) -> 30 | W9: =IF(U9>100,"0","") -> 0 | X9: =IF(X8-0.01<0,"0",X8-0.01) -> 0.01 | Y9: =VLOOKUP(M9,$M$50:$T$89,8,FALSE) -> 6.0066 | Z9: =V9+X9 -> 30.01 | AC9: 인천 | AD9: 263462954420 | AE9: 69071854289 | AF9: 0 | AG9: 0 | AH9: 332534808709 | AI9: 263762870837 | AJ9: 68177165402 | AK9: 0 | AL9: 0 | AM9: 331940036239 | AN9: =AJ9+AK9+AL9 -> 68177165402 | AO9: =AE9+AF9+AG9 -> 69071854289
B10: 1 | C10: 남인천 | D10: 451356 | E10: 475112.23 | F10: =VLOOKUP(C10,$AC$33:$AR$33,16,FALSE)/1000000 -> 473815.46 | G10: =F10/E10% -> 99.727058 | I10: =F10/D10% -> 104.976 | J10: =IF(I10>=100,4,I10*0.04) -> 4 | K10: =IF(I10>=100,10,I10*0.1) -> 10 | L10: 1 | M10: 부평 | N10: 82878 | O10: 74106.856 | P10: =VLOOKUP(M10,$AC$8:$AO$49,12,FALSE)/1000000 -> 82572.821 | R10: =P10/O10% -> 111.424 | T10: =(VLOOKUP(M10,$AC$8:$AO$49,13,FALSE)-VLOOKUP(M10,$AC$55:$AO$96,13,FALSE))/1000000 -> -118.26458 | U10: =P10/N10% -> 99.631773 | V10: =IF(U10>=100,30,U10*0.3) -> 29.889532 | W10: =IF(U10>100,"0","") | X10: =IF(X9-0.01<0,"0",X9-0.01) -> 0 | Y10: =VLOOKUP(M10,$M$50:$T$89,8,FALSE) -> 5.9779064 | Z10: =V10+X10 -> 29.889532 | AC10: 부평 | AD10: 268082329836 | AE10: 89179898747 | AF10: 46413610 | AG10: 0 | AH10: 357308642193 | AI10: 270222837701 | AJ10: 82539560504 | AK10: 33260496 | AL10: 0 | AM10: 352795658701 | AN10: =AJ10+AK10+AL10 -> 82572821000 | AO10: =AE10+AF10+AG10 -> 89226312357
B11: 1 | C11: 부평 | D11: 335902 | E11: 345360.04 | F11: =VLOOKUP(C11,$AC$8:$AO$49,11,FALSE)/1000000 -> 352795.66 | G11: =F11/E11% -> 102.15301 | I11: =F11/D11% -> 105.02934 | J11: =IF(I11>=100,4,I11*0.04) -> 4 | K11: =IF(I11>=100,10,I11*0.1) -> 10 | L11: 1 | M11: 안산 | N11: 88189 | O11: 78241.007 | P11: =VLOOKUP(M11,$AC$8:$AO$49,12,FALSE)/1000000 -> 87545.718 | R11: =P11/O11% -> 111.89237 | T11: =(VLOOKUP(M11,$AC$8:$AO$49,13,FALSE)-VLOOKUP(M11,$AC$55:$AO$96,13,FALSE))/1000000 -> 481.50333 | U11: =P11/N11% -> 99.270565 | V11: =IF(U11>=100,30,U11*0.3) -> 29.781169 | W11: =IF(U11>100,"0","") | X11: =IF(X10-0.01<0,"0",X10-0.01) -> 0 | Y11: =VLOOKUP(M11,$M$50:$T$89,8,FALSE) -> 5.9562339 | Z11: =V11+X11 -> 29.781169 | AC11: 오산 | AD11: 88664566423 | AE11: 23205705954 | AF11: 0 | AG11: 0 | AH11: 111870272377 | AI11: 88456881312 | AJ11: 21252886485 | AK11: 0 | AL11: 0 | AM11: 109709767797 | AN11: =AJ11+AK11+AL11 -> 21252886485 | AO11: =AE11+AF11+AG11 -> 23205705954
B12: 1 | C12: 인천 | D12: 317089 | E12: 324474.69 | F12: =VLOOKUP(C12,$AC$8:$AO$49,11,FALSE)/1000000 -> 331940.04 | G12: =F12/E12% -> 102.30075 | I12: =F12/D12% -> 104.68355 | J12: =IF(I12>=100,4,I12*0.04) -> 4 | K12: =IF(I12>=100,10,I12*0.1) -> 10 | L12: 1 | M12: 안양 | N12: 81033 | O12: 79414.29 | P12: =VLOOKUP(M12,$AC$8:$AO$49,12,FALSE)/1000000 -> 78125.133 | R12: =P12/O12% -> 98.376668 | T12: =(VLOOKUP(M12,$AC$8:$AO$49,13,FALSE)-VLOOKUP(M12,$AC$55:$AO$96,13,FALSE))/1000000 -> 265.27062 | U12: =P12/N12% -> 96.411502 | V12: =IF(U12>=100,30,U12*0.3) -> 28.923451 | W12: =IF(U12>100,"0","") | X12: =IF(X11-0.01<0,"0",X11-0.01) -> 0 | Y12: =VLOOKUP(M12,$M$50:$T$89,8,FALSE) -> 5.7846901 | Z12: =V12+X12 -> 28.923451 | AC12: 안성 | AD12: 86036152642 | AE12: 35820626055 | AF12: 0 | AG12: 0 | AH12: 121856778697 | AI12: 84784296037 | AJ12: 35527276075 | AK12: 0 | AL12: 0 | AM12: 120311572112 | AN12: =AJ12+AK12+AL12 -> 35527276075 | AO12: =AE12+AF12+AG12 -> 35820626055
B13: 1 | C13: 안양 | D13: 440866 | E13: 460340.07 | F13: =VLOOKUP(C13,$AC$8:$AO$49,11,FALSE)/1000000 -> 452393.21 | G13: =F13/E13% -> 98.273699 | I13: =F13/D13% -> 102.61467 | J13: =IF(I13>=100,4,I13*0.04) -> 4 | K13: =IF(I13>=100,10,I13*0.1) -> 10 | L13: 1 | M13: 인천 | N13: 73235 | O13: 65395.216 | P13: =VLOOKUP(M13,$AC$8:$AO$49,12,FALSE)/1000000 -> 68177.165 | R13: =P13/O13% -> 104.25406 | T13: =(VLOOKUP(M13,$AC$8:$AO$49,13,FALSE)-VLOOKUP(M13,$AC$55:$AO$96,13,FALSE))/1000000 -> 120.01624 | U13: =P13/N13% -> 93.093692 | V13: =IF(U13>=100,30,U13*0.3) -> 27.928108 | W13: =IF(U13>100,"0","") | X13: =IF(X12-0.01<0,"0",X12-0.01) -> 0 | Y13: =VLOOKUP(M13,$M$50:$T$89,8,FALSE) -> 5.5856215 | Z13: =V13+X13 -> 27.928108 | AC13: 가평 | AD13: 45798438250 | AE13: 20593436368 | AF13: 0 | AG13: 0 | AH13: 66391874618 | AI13: 45575736274 | AJ13: 20216477986 | AK13: 0 | AL13: 0 | AM13: 65792214260 | AN13: =AJ13+AK13+AL13 -> 20216477986 | AO13: =AE13+AF13+AG13 -> 20593436368
A14: 나그룹 | B14: 2 | C14: 성남분당 | D14: 676977 | E14: 660243.03 | F14: =VLOOKUP(C14,$AC$8:$AO$49,11,FALSE)/1000000 -> 804658.43 | G14: =F14/E14% -> 121.87307 | I14: =F14/D14% -> 118.86053 | J14: =IF(I14>=100,4,I14*0.04) -> 4 | K14: =IF(I14>=100,10,I14*0.1) -> 10 | L14: 2 | M14: 성남분당 | N14: 70406 | O14: 72016.072 | P14: =VLOOKUP(M14,$AC$8:$AO$49,12,FALSE)/1000000 -> 78883.321 | R14: =P14/O14% -> 109.53572 | T14: =(VLOOKUP(M14,$AC$8:$AO$49,13,FALSE)-VLOOKUP(M14,$AC$55:$AO$96,13,FALSE))/1000000 -> 907.15915 | U14: =P14/N14% -> 112.04062 | V14: =IF(U14>=100,30,U14*0.3) -> 30 | W14: =IF(U14>100,"0","") -> 0 | X14: =COUNTIF(W14:W23,"0")*0.01 -> 0.04 | Y14: =VLOOKUP(M14,$M$50:$T$89,8,FALSE) -> 6.0396 | Z14: =V14+X14 -> 30.04 | AC14: 파주 | AD14: 141863411593 | AE14: 45885950663 | AF14: 33529069 | AG14: 0 | AH14: 187782891325 | AI14: 137586648290 | AJ14: 43852760384 | AK14: 35013846 | AL14: 0 | AM14: 181474422520 | AN14: =AJ14+AK14+AL14 -> 43887774230 | AO14: =AE14+AF14+AG14 -> 45919479732
B15: 2 | C15: 화성 | D15: 195824 | E15: 201238.68 | F15: =VLOOKUP(C15,$AC$8:$AO$49,11,FALSE)/1000000 -> 218197.14 | G15: =F15/E15% -> 108.42704 | I15: =F15/D15% -> 111.42513 | J15: =IF(I15>=100,4,I15*0.04) -> 4 | K15: =IF(I15>=100,10,I15*0.1) -> 10 | L15: 2 | M15: 고양일산 | N15: 50574 | O15: 46305.954 | P15: =VLOOKUP(M15,$AC$8:$AO$49,12,FALSE)/1000000 -> 54749.74 | R15: =P15/O15% -> 118.23477 | T15: =(VLOOKUP(M15,$AC$8:$AO$49,13,FALSE)-VLOOKUP(M15,$AC$55:$AO$96,13,FALSE))/1000000 -> -377.96579 | U15: =P15/N15% -> 108.25669 | V15: =IF(U15>=100,30,U15*0.3) -> 30 | W15: =IF(U15>100,"0","") -> 0 | X15: =IF(X14-0.01<0,"0",X14-0.01) -> 0.03 | Y15: =VLOOKUP(M15,$M$50:$T$89,8,FALSE) -> 6.033 | Z15: =V15+X15 -> 30.03 | AC15: 강화 | AD15: 80358448332 | AE15: 23408478774 | AF15: 0 | AG15: 0 | AH15: 103766927106 | AI15: 80544344787 | AJ15: 23268551044 | AK15: 0 | AL15: 0 | AM15: 103812895831 | AN15: =AJ15+AK15+AL15 -> 23268551044 | AO15: =AE15+AF15+AG15 -> 23408478774
B16: 2 | C16: 동수원 | D16: 281761 | E16: 290849.66 | F16: =VLOOKUP(C16,$AC$8:$AO$49,11,FALSE)/1000000 -> 303655.9 | G16: =F16/E16% -> 104.40305 | I16: =F16/D16% -> 107.77074 | J16: =IF(I16>=100,4,I16*0.04) -> 4 | K16: =IF(I16>=100,10,I16*0.1) -> 10 | L16: 2 | M16: 수원 | N16: 68028 | O16: 64637.75 | P16: =VLOOKUP(M16,$AC$8:$AO$49,12,FALSE)/1000000 -> 71589.543 | R16: =P16/O16% -> 110.75501 | T16: =(VLOOKUP(M16,$AC$8:$AO$49,13,FALSE)-VLOOKUP(M16,$AC$55:$AO$96,13,FALSE))/1000000 -> 155.40133 | U16: =P16/N16% -> 105.23541 | V16: =IF(U16>=100,30,U16*0.3) -> 30 | W16: =IF(U16>100,"0","") -> 0 | X16: =IF(X15-0.01<0,"0",X15-0.01) -> 0.02 | Y16: =VLOOKUP(M16,$M$50:$T$89,8,FALSE) -> 6.0264 | Z16: =V16+X16 -> 30.02 | AC16: 양평 | AD16: 97976092096 | AE16: 29461239771 | AF16: 0 | AG16: 0 | AH16: 127437331867 | AI16: 100073170744 | AJ16: 26469439880 | AK16: 0 | AL16: 0 | AM16: 126542610624 | AN16: =AJ16+AK16+AL16 -> 26469439880 | AO16: =AE16+AF16+AG16 -> 29461239771
B17: 2 | C17: 고양일산 | D17: 294194 | E17: 301156.89 | F17: =VLOOKUP(C17,$AC$8:$AO$49,11,FALSE)/1000000 -> 318628.69 | G17: =F17/E17% -> 105.80156 | I17: =F17/D17% -> 108.30564 | J17: =IF(I17>=100,4,I17*0.04) -> 4 | K17: =IF(I17>=100,10,I17*0.1) -> 10 | L17: 2 | M17: 동수원 | N17: 56604 | O17: 49492.477 | P17: =VLOOKUP(M17,$AC$8:$AO$49,12,FALSE)/1000000 -> 57791.652 | R17: =P17/O17% -> 116.76856 | T17: =(VLOOKUP(M17,$AC$8:$AO$49,13,FALSE)-VLOOKUP(M17,$AC$55:$AO$96,13,FALSE))/1000000 -> -2283.7416 | U17: =P17/N17% -> 102.09818 | V17: =IF(U17>=100,30,U17*0.3) -> 30 | W17: =IF(U17>100,"0","") -> 0 | X17: =IF(X16-0.01<0,"0",X16-0.01) -> 0.01 | Y17: =VLOOKUP(M17,$M$50:$T$89,8,FALSE) -> 6.0132 | Z17: =V17+X17 -> 30.01 | AC17: 경기광주 | AD17: 91278152143 | AE17: 32801333150 | AF17: 161037495 | AG17: 0 | AH17: 124240522788 | AI17: 90225115389 | AJ17: 31168283662 | AK17: 124155371 | AL17: 0 | AM17: 121517554422 | AN17: =AJ17+AK17+AL17 -> 31292439033 | AO17: =AE17+AF17+AG17 -> 32962370645
B18: 2 | C18: 고양덕양 | D18: 245473 | E18: 250687.65 | F18: =VLOOKUP(C18,$AC$8:$AO$49,11,FALSE)/1000000 -> 261445.68 | G18: =F18/E18% -> 104.29141 | I18: =F18/D18% -> 106.5069 | J18: =IF(I18>=100,4,I18*0.04) -> 4 | K18: =IF(I18>=100,10,I18*0.1) -> 10 | L18: 2 | M18: 의정부 | N18: 62839 | O18: 56962.748 | P18: =VLOOKUP(M18,$AC$8:$AO$49,12,FALSE)/1000000 -> 61894.69 | R18: =P18/O18% -> 108.65819 | T18: =(VLOOKUP(M18,$AC$8:$AO$49,13,FALSE)-VLOOKUP(M18,$AC$55:$AO$96,13,FALSE))/1000000 -> 56.279373 | U18: =P18/N18% -> 98.497255 | V18: =IF(U18>=100,30,U18*0.3) -> 29.549176 | W18: =IF(U18>100,"0","") | X18: =IF(X17-0.01<0,"0",X17-0.01) -> 0 | Y18: =VLOOKUP(M18,$M$50:$T$89,8,FALSE) -> 5.9098353 | Z18: =V18+X18 -> 29.549176 | AC18: 여주 | AD18: 74620306484 | AE18: 22714751104 | AF18: 0 | AG18: 0 | AH18: 97335057588 | AI18: 75129309073 | AJ18: 21572060155 | AK18: 0 | AL18: 0 | AM18: 96701369228 | AN18: =AJ18+AK18+AL18 -> 21572060155 | AO18: =AE18+AF18+AG18 -> 22714751104
B19: 2 | C19: 시흥 | D19: 147268 | E19: 151992.59 | F19: =VLOOKUP(C19,$AC$8:$AO$49,11,FALSE)/1000000 -> 154069.28 | G19: =F19/E19% -> 101.36631 | I19: =F19/D19% -> 104.6183 | J19: =IF(I19>=100,4,I19*0.04) -> 4 | K19: =IF(I19>=100,10,I19*0.1) -> 10 | L19: 2 | M19: 용인 | N19: 39956 | O19: 37768.931 | P19: =VLOOKUP(M19,$AC$8:$AO$49,12,FALSE)/1000000 -> 39064.391 | R19: =P19/O19% -> 103.42996 | T19: =(VLOOKUP(M19,$AC$8:$AO$49,13,FALSE)-VLOOKUP(M19,$AC$55:$AO$96,13,FALSE))/1000000 -> 334.9778 | U19: =P19/N19% -> 97.768522 | V19: =IF(U19>=100,30,U19*0.3) -> 29.330557 | W19: =IF(U19>100,"0","") | X19: =IF(X18-0.01<0,"0",X18-0.01) -> 0 | Y19: =VLOOKUP(M19,$M$50:$T$89,8,FALSE) -> 5.8661113 | Z19: =V19+X19 -> 29.330557 | AC19: 김포 | AD19: 117115538224 | AE19: 38941227897 | AF19: 26978756 | AG19: 0 | AH19: 156083744877 | AI19: 136036831761 | AJ19: 37149239653 | AK19: 25732086 | AL19: 0 | AM19: 173211803500 | AN19: =AJ19+AK19+AL19 -> 37174971739 | AO19: =AE19+AF19+AG19 -> 38968206653
B20: 2 | C20: 의정부 | D20: 265241 | E20: 275323.46 | F20: =VLOOKUP(C20,$AC$8:$AO$49,11,FALSE)/1000000 -> 278237.21 | G20: =F20/E20% -> 101.0583 | I20: =F20/D20% -> 104.89977 | J20: =IF(I20>=100,4,I20*0.04) -> 4 | K20: =IF(I20>=100,10,I20*0.1) -> 10 | L20: 2 | M20: 시흥 | N20: 48945 | O20: 44861.422 | P20: =VLOOKUP(M20,$AC$8:$AO$49,12,FALSE)/1000000 -> 47470.035 | R20: =P20/O20% -> 105.81483 | T20: =(VLOOKUP(M20,$AC$8:$AO$49,13,FALSE)-VLOOKUP(M20,$AC$55:$AO$96,13,FALSE))/1000000 -> 435.91241 | U20: =P20/N20% -> 96.986485 | V20: =IF(U20>=100,30,U20*0.3) -> 29.095945 | W20: =IF(U20>100,"0","") | X20: =IF(X19-0.01<0,"0",X19-0.01) -> 0 | Y20: =VLOOKUP(M20,$M$50:$T$89,8,FALSE) -> 5.8191891 | Z20: =V20+X20 -> 29.095945 | AC20: 포천 | AD20: 79489573114 | AE20: 37849955788 | AF20: 23814060 | AG20: 0 | AH20: 117363342962 | AI20: 79126032855 | AJ20: 35957911086 | AK20: 23318742 | AL20: 0 | AM20: 115107262683 | AN20: =AJ20+AK20+AL20 -> 35981229828 | AO20: =AE20+AF20+AG20 -> 37873769848
B21: 2 | C21: 수원 | D21: 352943 | E21: 369288.89 | F21: =VLOOKUP(C21,$AC$8:$AO$49,11,FALSE)/1000000 -> 369263.32 | G21: =F21/E21% -> 99.993074 | I21: =F21/D21% -> 104.62407 | J21: =IF(I21>=100,4,I21*0.04) -> 4 | K21: =IF(I21>=100,10,I21*0.1) -> 10 | L21: 2 | M21: 화성 | N21: 53537 | O21: 48063.012 | P21: =VLOOKUP(M21,$AC$8:$AO$49,12,FALSE)/1000000 -> 51192.369 | R21: =P21/O21% -> 106.51095 | T21: =(VLOOKUP(M21,$AC$8:$AO$49,13,FALSE)-VLOOKUP(M21,$AC$55:$AO$96,13,FALSE))/1000000 -> 242.57959 | U21: =P21/N21% -> 95.62054 | V21: =IF(U21>=100,30,U21*0.3) -> 28.686162 | W21: =IF(U21>100,"0","") | X21: =IF(X20-0.01<0,"0",X20-0.01) -> 0 | Y21: =VLOOKUP(M21,$M$50:$T$89,8,FALSE) -> 5.7372324 | Z21: =V21+X21 -> 28.686162 | AC21: 이천 | AD21: 79693527462 | AE21: 24811323467 | AF21: 123204068 | AG21: 0 | AH21: 104628054997 | AI21: 80488694339 | AJ21: 24315082101 | AK21: 107798900 | AL21: 0 | AM21: 104911575340 | AN21: =AJ21+AK21+AL21 -> 24422881001 | AO21: =AE21+AF21+AG21 -> 24934527535
B22: 2 | C22: 용인 | D22: 173602 | E22: 194236.93 | F22: =VLOOKUP(C22,$AC$8:$AO$49,11,FALSE)/1000000 -> 180191.38 | G22: =F22/E22% -> 92.768855 | I22: =F22/D22% -> 103.79568 | J22: =IF(I22>=100,4,I22*0.04) -> 4 | K22: =IF(I22>=100,10,I22*0.1) -> 10 | L22: 2 | M22: 고양덕양 | N22: 51645 | O22: 45982.541 | P22: =VLOOKUP(M22,$AC$8:$AO$49,12,FALSE)/1000000 -> 48725.054 | R22: =P22/O22% -> 105.96425 | T22: =(VLOOKUP(M22,$AC$8:$AO$49,13,FALSE)-VLOOKUP(M22,$AC$55:$AO$96,13,FALSE))/1000000 -> -79.097692 | U22: =P22/N22% -> 94.346121 | V22: =IF(U22>=100,30,U22*0.3) -> 28.303836 | W22: =IF(U22>100,"0","") | X22: =IF(X21-0.01<0,"0",X21-0.01) -> 0 | Y22: =VLOOKUP(M22,$M$50:$T$89,8,FALSE) -> 5.6607672 | Z22: =V22+X22 -> 28.303836 | AC22: 의정부 | AD22: 218323992974 | AE22: 65294455751 | AF22: 139023660 | AG22: 0 | AH22: 283757472385 | AI22: 216342521543 | AJ22: 61763198870 | AK22: 131490977 | AL22: 0 | AM22: 278237211390 | AN22: =AJ22+AK22+AL22 -> 61894689847 | AO22: =AE22+AF22+AG22 -> 65433479411
B23: 2 | C23: 서인천 | D23: 255500 | E23: 265164.79 | F23: =VLOOKUP(C23,$AC$8:$AO$49,11,FALSE)/1000000 -> 241537.96 | G23: =F23/E23% -> 91.089755 | I23: =F23/D23% -> 94.535404 | J23: =IF(I23>=100,4,I23*0.04) -> 3.7814162 | K23: =IF(I23>=100,10,I23*0.1) -> 9.4535404 | L23: 2 | M23: 서인천 | N23: 68038 | O23: 78276.518 | P23: =VLOOKUP(M23,$AC$8:$AO$49,12,FALSE)/1000000 -> 56736.576 | R23: =P23/O23% -> 72.482243 | T23: =(VLOOKUP(M23,$AC$8:$AO$49,13,FALSE)-VLOOKUP(M23,$AC$55:$AO$96,13,FALSE))/1000000 -> -413.39373 | U23: =P23/N23% -> 83.389541 | V23: =IF(U23>=100,30,U23*0.3) -> 25.016862 | W23: =IF(U23>100,"0","") | X23: =IF(X22-0.01<0,"0",X22-0.01) -> 0 | Y23: =VLOOKUP(M23,$M$50:$T$89,8,FALSE) -> 5.0033725 | Z23: =V23+X23 -> 25.016862 | AC23: 용인 | AD23: 144407344539 | AE23: 42014328714 | AF23: 158943476 | AG23: 0 | AH23: 186580616729 | AI23: 141126985419 | AJ23: 38932498836 | AK23: 131891969 | AL23: 0 | AM23: 180191376224 | AN23: =AJ23+AK23+AL23 -> 39064390805 | AO23: =AE23+AF23+AG23 -> 42173272190
A24: 다그룹 | B24: 3 | C24: 김포 | D24: 146079 | E24: 153802.95 | F24: =VLOOKUP(C24,$AC$8:$AO$49,11,FALSE)/1000000 -> 173211.8 | G24: =F24/E24% -> 112.6193 | I24: =F24/D24% -> 118.57406 | J24: =IF(I24>=100,4,I24*0.04) -> 4 | K24: =IF(I24>=100,10,I24*0.1) -> 10 | L24: 3 | M24: 용인수지 | N24: 35050 | O24: 32048.632 | P24: =VLOOKUP(M24,$AC$8:$AO$49,12,FALSE)/1000000 -> 38254.644 | R24: =P24/O24% -> 119.36436 | T24: =(VLOOKUP(M24,$AC$8:$AO$49,13,FALSE)-VLOOKUP(M24,$AC$55:$AO$96,13,FALSE))/1000000 -> -757.87044 | U24: =P24/N24% -> 109.14306 | V24: =IF(U24>=100,30,U24*0.3) -> 30 | W24: =IF(U24>100,"0","") -> 0 | X24: =COUNTIF(W24:W33,"0")*0.01 -> 0.04 | Y24: =VLOOKUP(M24,$M$50:$T$89,8,FALSE) -> 6.0363 | Z24: =V24+X24 -> 30.04 | AC24: 동두천 | AD24: 61932177270 | AE24: 22035716865 | AF24: 26258490 | AG24: 0 | AH24: 83994152625 | AI24: 59622477215 | AJ24: 20281056778 | AK24: 22567615 | AL24: 0 | AM24: 79926101608 | AN24: =AJ24+AK24+AL24 -> 20303624393 | AO24: =AE24+AF24+AG24 -> 22061975355
B25: 3 | C25: 서수원 | D25: 114428 | E25: 115577.49 | F25: =VLOOKUP(C25,$AC$8:$AO$49,11,FALSE)/1000000 -> 134420.76 | G25: =F25/E25% -> 116.30358 | I25: =F25/D25% -> 117.47191 | J25: =IF(I25>=100,4,I25*0.04) -> 4 | K25: =IF(I25>=100,10,I25*0.1) -> 10 | L25: 3 | M25: 서수원 | N25: 32723 | O25: 30069.663 | P25: =VLOOKUP(M25,$AC$8:$AO$49,12,FALSE)/1000000 -> 33797.533 | R25: =P25/O25% -> 112.39745 | T25: =(VLOOKUP(M25,$AC$8:$AO$49,13,FALSE)-VLOOKUP(M25,$AC$55:$AO$96,13,FALSE))/1000000 -> 237.03877 | U25: =P25/N25% -> 103.28372 | V25: =IF(U25>=100,30,U25*0.3) -> 30 | W25: =IF(U25>100,"0","") -> 0 | X25: =IF(X24-0.01<0,"0",X24-0.01) -> 0.03 | Y25: =VLOOKUP(M25,$M$50:$T$89,8,FALSE) -> 6.0231 | Z25: =V25+X25 -> 30.03 | AC25: 수원 | AD25: 302217227455 | AE25: 72192504658 | AF25: 0 | AG25: 0 | AH25: 374409732113 | AI25: 297673773614 | AJ25: 71589543223 | AK25: 0 | AL25: 0 | AM25: 369263316837 | AN25: =AJ25+AK25+AL25 -> 71589543223 | AO25: =AE25+AF25+AG25 -> 72192504658
B26: 3 | C26: 남양주 | D26: 140465 | E26: 143950.55 | F26: =VLOOKUP(C26,$AC$8:$AO$49,11,FALSE)/1000000 -> 152820.09 | G26: =F26/E26% -> 106.16152 | I26: =F26/D26% -> 108.79585 | J26: =IF(I26>=100,4,I26*0.04) -> 4 | K26: =IF(I26>=100,10,I26*0.1) -> 10 | L26: 3 | M26: 인천계양 | N26: 37301 | O26: 34175.038 | P26: =VLOOKUP(M26,$AC$8:$AO$49,12,FALSE)/1000000 -> 38179.761 | R26: =P26/O26% -> 111.71827 | T26: =(VLOOKUP(M26,$AC$8:$AO$49,13,FALSE)-VLOOKUP(M26,$AC$55:$AO$96,13,FALSE))/1000000 -> 414.76741 | U26: =P26/N26% -> 102.35586 | V26: =IF(U26>=100,30,U26*0.3) -> 30 | W26: =IF(U26>100,"0","") -> 0 | X26: =IF(X25-0.01<0,"0",X25-0.01) -> 0.02 | Y26: =VLOOKUP(M26,$M$50:$T$89,8,FALSE) -> 6.0198 | Z26: =V26+X26 -> 30.02 | AC26: 하남 | AD26: 80681019947 | AE26: 21092369857 | AF26: 0 | AG26: 0 | AH26: 101773389804 | AI26: 81540314769 | AJ26: 20040048232 | AK26: 0 | AL26: 0 | AM26: 101580363001 | AN26: =AJ26+AK26+AL26 -> 20040048232 | AO26: =AE26+AF26+AG26 -> 21092369857
B27: 3 | C27: 군포 | D27: 247075 | E27: 258498.33 | F27: =VLOOKUP(C27,$AC$8:$AO$49,11,FALSE)/1000000 -> 268272.19 | G27: =F27/E27% -> 103.78101 | I27: =F27/D27% -> 108.57925 | J27: =IF(I27>=100,4,I27*0.04) -> 4 | K27: =IF(I27>=100,10,I27*0.1) -> 10 | L27: 3 | M27: 이천 | N27: 24369 | O27: 21140.229 | P27: =VLOOKUP(M27,$AC$8:$AO$49,12,FALSE)/1000000 -> 24422.881 | R27: =P27/O27% -> 115.52799 | T27: =(VLOOKUP(M27,$AC$8:$AO$49,13,FALSE)-VLOOKUP(M27,$AC$55:$AO$96,13,FALSE))/1000000 -> 113.18893 | U27: =P27/N27% -> 100.2211 | V27: =IF(U27>=100,30,U27*0.3) -> 30 | W27: =IF(U27>100,"0","") -> 0 | X27: =IF(X26-0.01<0,"0",X26-0.01) -> 0.01 | Y27: =VLOOKUP(M27,$M$50:$T$89,8,FALSE) -> 6.0033 | Z27: =V27+X27 -> 30.01 | AC27: 연천 | AD27: 49388489671 | AE27: 19625332303 | AF27: 0 | AG27: 0 | AH27: 69013821974 | AI27: 49641701885 | AJ27: 18511132746 | AK27: 0 | AL27: 0 | AM27: 68152834631 | AN27: =AJ27+AK27+AL27 -> 18511132746 | AO27: =AE27+AF27+AG27 -> 19625332303
B28: 3 | C28: 안성 | D28: 111060 | E28: 113168.49 | F28: =VLOOKUP(C28,$AC$8:$AO$49,11,FALSE)/1000000 -> 120311.57 | G28: =F28/E28% -> 106.3119 | I28: =F28/D28% -> 108.33025 | J28: =IF(I28>=100,4,I28*0.04) -> 4 | K28: =IF(I28>=100,10,I28*0.1) -> 10 | L28: 3 | M28: 파주 | N28: 44175 | O28: 38659.812 | P28: =VLOOKUP(M28,$AC$8:$AO$49,12,FALSE)/1000000 -> 43887.774 | R28: =P28/O28% -> 113.52299 | T28: =(VLOOKUP(M28,$AC$8:$AO$49,13,FALSE)-VLOOKUP(M28,$AC$55:$AO$96,13,FALSE))/1000000 -> 114.18228 | U28: =P28/N28% -> 99.3498 | V28: =IF(U28>=100,30,U28*0.3) -> 29.80494 | W28: =IF(U28>100,"0","") | X28: =IF(X27-0.01<0,"0",X27-0.01) -> 0 | Y28: =VLOOKUP(M28,$M$50:$T$89,8,FALSE) -> 5.960988 | Z28: =V28+X28 -> 29.80494 | AC28: 백령 | AD28: 29008507120 | AE28: 7322525058 | AF28: 352000 | AG28: 0 | AH28: 36331384178 | AI28: 28755530626 | AJ28: 7579926976 | AK28: 2580818 | AL28: 0 | AM28: 36338038420 | AN28: =AJ28+AK28+AL28 -> 7582507794 | AO28: =AE28+AF28+AG28 -> 7322877058
B29: 3 | C29: 파주 | D29: 168242 | E29: 173959.69 | F29: =VLOOKUP(C29,$AC$8:$AO$49,11,FALSE)/1000000 -> 181474.42 | G29: =F29/E29% -> 104.31981 | I29: =F29/D29% -> 107.86511 | J29: =IF(I29>=100,4,I29*0.04) -> 4 | K29: =IF(I29>=100,10,I29*0.1) -> 10 | L29: 3 | M29: 군포 | N29: 43423 | O29: 39525.569 | P29: =VLOOKUP(M29,$AC$8:$AO$49,12,FALSE)/1000000 -> 43087.853 | R29: =P29/O29% -> 109.01261 | T29: =(VLOOKUP(M29,$AC$8:$AO$49,13,FALSE)-VLOOKUP(M29,$AC$55:$AO$96,13,FALSE))/1000000 -> 162.12641 | U29: =P29/N29% -> 99.228181 | V29: =IF(U29>=100,30,U29*0.3) -> 29.768454 | W29: =IF(U29>100,"0","") | X29: =IF(X28-0.01<0,"0",X28-0.01) -> 0 | Y29: =VLOOKUP(M29,$M$50:$T$89,8,FALSE) -> 5.9536909 | Z29: =V29+X29 -> 29.768454 | AC29: 시흥 | AD29: 101399812469 | AE29: 49315181556 | AF29: 0 | AG29: 0 | AH29: 150714994025 | AI29: 106599244927 | AJ29: 47470035056 | AK29: 0 | AL29: 0 | AM29: 154069279983 | AN29: =AJ29+AK29+AL29 -> 47470035056 | AO29: =AE29+AF29+AG29 -> 49315181556
B30: 3 | C30: 인천계양 | D30: 161565 | E30: 167727.92 | F30: =VLOOKUP(C30,$AC$8:$AO$49,11,FALSE)/1000000 -> 173115.56 | G30: =F30/E30% -> 103.21213 | I30: =F30/D30% -> 107.14917 | J30: =IF(I30>=100,4,I30*0.04) -> 4 | K30: =IF(I30>=100,10,I30*0.1) -> 10 | L30: 3 | M30: 김포 | N30: 37777 | O30: 34427.359 | P30: =VLOOKUP(M30,$AC$8:$AO$49,12,FALSE)/1000000 -> 37174.972 | R30: =P30/O30% -> 107.9809 | T30: =(VLOOKUP(M30,$AC$8:$AO$49,13,FALSE)-VLOOKUP(M30,$AC$55:$AO$96,13,FALSE))/1000000 -> -14.739801 | U30: =P30/N30% -> 98.406363 | V30: =IF(U30>=100,30,U30*0.3) -> 29.521909 | W30: =IF(U30>100,"0","") | X30: =IF(X29-0.01<0,"0",X29-0.01) -> 0 | Y30: =VLOOKUP(M30,$M$50:$T$89,8,FALSE) -> 5.9043818 | Z30: =V30+X30 -> 29.521909 | AC30: 구리 | AD30: 123447373705 | AE30: 26903893171 | AF30: 0 | AG30: 286 | AH30: 150351267162 | AI30: 117519489519 | AJ30: 26679172136 | AK30: 0 | AL30: 286 | AM30: 144198661941 | AN30: =AJ30+AK30+AL30 -> 26679172422 | AO30: =AE30+AF30+AG30 -> 26903893457
B31: 3 | C31: 용인수지 | D31: 288449 | E31: 297196.94 | F31: =VLOOKUP(C31,$AC$8:$AO$49,11,FALSE)/1000000 -> 304217.32 | G31: =F31/E31% -> 102.3622 | I31: =F31/D31% -> 105.46659 | J31: =IF(I31>=100,4,I31*0.04) -> 4 | K31: =IF(I31>=100,10,I31*0.1) -> 10 | L31: 3 | M31: 안성 | N31: 36775 | O31: 31572.257 | P31: =VLOOKUP(M31,$AC$8:$AO$49,12,FALSE)/1000000 -> 35527.276 | R31: =P31/O31% -> 112.52688 | T31: =(VLOOKUP(M31,$AC$8:$AO$49,13,FALSE)-VLOOKUP(M31,$AC$55:$AO$96,13,FALSE))/1000000 -> 222.38747 | U31: =P31/N31% -> 96.607141 | V31: =IF(U31>=100,30,U31*0.3) -> 28.982142 | W31: =IF(U31>100,"0","") | X31: =IF(X30-0.01<0,"0",X30-0.01) -> 0 | Y31: =VLOOKUP(M31,$M$50:$T$89,8,FALSE) -> 5.7964285 | Z31: =V31+X31 -> 28.982142 | AC31: 성남 | AD31: 288035384218 | AE31: 96063291579 | AF31: 0 | AG31: 0 | AH31: 384098675797 | AI31: 288960190096 | AJ31: 89468126505 | AK31: 0 | AL31: 0 | AM31: 378428316601 | AN31: =AJ31+AK31+AL31 -> 89468126505 | AO31: =AE31+AF31+AG31 -> 96063291579
B32: 3 | C32: 광명 | D32: 215956 | E32: 224108.17 | F32: =VLOOKUP(C32,$AC$8:$AO$49,11,FALSE)/1000000 -> 226206.78 | G32: =F32/E32% -> 100.93643 | I32: =F32/D32% -> 104.7467 | J32: =IF(I32>=100,4,I32*0.04) -> 4 | K32: =IF(I32>=100,10,I32*0.1) -> 10 | L32: 3 | M32: 남양주 | N32: 37380 | O32: 32854.045 | P32: =VLOOKUP(M32,$AC$8:$AO$49,12,FALSE)/1000000 -> 35712.41 | R32: =P32/O32% -> 108.70019 | T32: =(VLOOKUP(M32,$AC$8:$AO$49,13,FALSE)-VLOOKUP(M32,$AC$55:$AO$96,13,FALSE))/1000000 -> 169.85602 | U32: =P32/N32% -> 95.538817 | V32: =IF(U32>=100,30,U32*0.3) -> 28.661645 | W32: =IF(U32>100,"0","") | X32: =IF(X31-0.01<0,"0",X31-0.01) -> 0 | Y32: =VLOOKUP(M32,$M$50:$T$89,8,FALSE) -> 5.732329 | Z32: =V32+X32 -> 28.661645 | AC32: 광명 | AD32: 179927374911 | AE32: 49013731637 | AF32: 0 | AG32: 256315 | AH32: 228941362863 | AI32: 181088867048 | AJ32: 45117002458 | AK32: 0 | AL32: 915404 | AM32: 226206784910 | AN32: =AJ32+AK32+AL32 -> 45117917862 | AO32: =AE32+AF32+AG32 -> 49013987952 | AP32: 요구불연평 | AQ32: 요구불유지잔액 | AR32: 수신고
B33: 3 | C33: 이천 | D33: 101621 | E33: 103357.19 | F33: =VLOOKUP(C33,$AC$8:$AO$49,11,FALSE)/1000000 -> 104911.58 | G33: =F33/E33% -> 101.50389 | I33: =F33/D33% -> 103.23809 | J33: =IF(I33>=100,4,I33*0.04) -> 4 | K33: =IF(I33>=100,10,I33*0.1) -> 10 | L33: 3 | M33: 광명 | N33: 47487 | O33: 40664.921 | P33: =VLOOKUP(M33,$AC$8:$AO$49,12,FALSE)/1000000 -> 45117.918 | R33: =P33/O33% -> 110.95046 | T33: =(VLOOKUP(M33,$AC$8:$AO$49,13,FALSE)-VLOOKUP(M33,$AC$55:$AO$96,13,FALSE))/1000000 -> 54.869701 | U33: =P33/N33% -> 95.011093 | V33: =IF(U33>=100,30,U33*0.3) -> 28.503328 | W33: =IF(U33>100,"0","") | X33: =IF(X32-0.01<0,"0",X32-0.01) -> 0 | Y33: =VLOOKUP(M33,$M$50:$T$89,8,FALSE) -> 5.7006656 | Z33: =V33+X33 -> 28.503328 | AC33: 남인천 | AD33: 186389522025 | AE33: 62494454171 | AF33: 0 | AG33: 0 | AH33: 248883976196 | AI33: 197927811597 | AJ33: 77359502050 | AK33: 21436899 | AL33: 0 | AM33: 275308750546 | AN33: =AJ33+AK33+AL33 -> 77380938949 | AO33: =AE33+AF33+AG33 -> 62494454171 | AP33: =AN33+AN37 -> 127936348378 | AQ33: =AO33+AO37 -> 122327969828 | AR33: =AM33+AM37 -> 473815455448
A34: 라그룹 | B34: 4 | C34: 동두천 | D34: 72426 | E34: 74430.713 | F34: =VLOOKUP(C34,$AC$8:$AO$49,11,FALSE)/1000000 -> 79926.102 | G34: =F34/E34% -> 107.38323 | I34: =F34/D34% -> 110.35554 | J34: =IF(I34>=100,4,I34*0.04) -> 4 | K34: =IF(I34>=100,10,I34*0.1) -> 10 | L34: 4 | M34: 경기광주 | N34: 30447 | O34: 26272.659 | P34: =VLOOKUP(M34,$AC$8:$AO$49,12,FALSE)/1000000 -> 31292.439 | R34: =P34/O34% -> 119.10648 | T34: =(VLOOKUP(M34,$AC$8:$AO$49,13,FALSE)-VLOOKUP(M34,$AC$55:$AO$96,13,FALSE))/1000000 -> -25.770592 | U34: =P34/N34% -> 102.77676 | V34: =IF(U34>=100,30,U34*0.3) -> 30 | W34: =IF(U34>100,"0","") -> 0 | X34: =COUNTIF(W34:W39,"0")*0.01 -> 0.02 | Y34: =VLOOKUP(M34,$M$50:$T$89,8,FALSE) -> 6.0099 | Z34: =V34+X34 -> 30.02 | AC34: 안산 | AD34: 247230541644 | AE34: 93100034840 | AF34: 0 | AG34: 0 | AH34: 340330576484 | AI34: 242798871155 | AJ34: 87545718449 | AK34: 0 | AL34: 0 | AM34: 330344589604 | AN34: =AJ34+AK34+AL34 -> 87545718449 | AO34: =AE34+AF34+AG34 -> 93100034840 | AQ34: =AQ33/1000000 -> 122327.97
B35: 4 | C35: 경기광주 | D35: 111388 | E35: 114118.16 | F35: =VLOOKUP(C35,$AC$8:$AO$49,11,FALSE)/1000000 -> 121517.55 | G35: =F35/E35% -> 106.48397 | I35: =F35/D35% -> 109.09394 | J35: =IF(I35>=100,4,I35*0.04) -> 4 | K35: =IF(I35>=100,10,I35*0.1) -> 10 | L35: 4 | M35: 포천 | N35: 35182 | O35: 31631.939 | P35: =VLOOKUP(M35,$AC$8:$AO$49,12,FALSE)/1000000 -> 35981.23 | R35: =P35/O35% -> 113.74968 | T35: =(VLOOKUP(M35,$AC$8:$AO$49,13,FALSE)-VLOOKUP(M35,$AC$55:$AO$96,13,FALSE))/1000000 -> 910.52867 | U35: =P35/N35% -> 102.2717 | V35: =IF(U35>=100,30,U35*0.3) -> 30 | W35: =IF(U35>100,"0","") -> 0 | X35: =IF(X34-0.01<0,"0",X34-0.01) -> 0.01 | Y35: =VLOOKUP(M35,$M$50:$T$89,8,FALSE) -> 6.0066 | Z35: =V35+X35 -> 30.01 | AC35: 서수원 | AD35: 104540727753 | AE35: 31923098243 | AF35: 0 | AG35: 0 | AH35: 136463825996 | AI35: 100623223564 | AJ35: 33797532978 | AK35: 0 | AL35: 0 | AM35: 134420756542 | AN35: =AJ35+AK35+AL35 -> 33797532978 | AO35: =AE35+AF35+AG35 -> 31923098243
B36: 4 | C36: 오산 | D36: 102733 | E36: 106105.11 | F36: =VLOOKUP(C36,$AC$8:$AO$49,11,FALSE)/1000000 -> 109709.77 | G36: =F36/E36% -> 103.39725 | I36: =F36/D36% -> 106.79117 | J36: =IF(I36>=100,4,I36*0.04) -> 4 | K36: =IF(I36>=100,10,I36*0.1) -> 10 | L36: 4 | M36: 구리 | N36: 26692 | O36: 23724.785 | P36: =VLOOKUP(M36,$AC$8:$AO$49,12,FALSE)/1000000 -> 26679.172 | R36: =P36/O36% -> 112.45275 | T36: =(VLOOKUP(M36,$AC$8:$AO$49,13,FALSE)-VLOOKUP(M36,$AC$55:$AO$96,13,FALSE))/1000000 -> 124.11091 | U36: =P36/N36% -> 99.951942 | V36: =IF(U36>=100,30,U36*0.3) -> 29.985583 | W36: =IF(U36>100,"0","") | X36: =IF(X35-0.01<0,"0",X35-0.01) -> 0 | Y36: =VLOOKUP(M36,$M$50:$T$89,8,FALSE) -> 5.9971165 | Z36: =V36+X36 -> 29.985583 | AC36: 동수원 | AD36: 238739103429 | AE36: 59711114610 | AF36: 83848904 | AG36: 0 | AH36: 298534066943 | AI36: 245864248835 | AJ36: 57722661632 | AK36: 68990747 | AL36: 0 | AM36: 303655901214 | AN36: =AJ36+AK36+AL36 -> 57791652379 | AO36: =AE36+AF36+AG36 -> 59794963514
B37: 4 | C37: 양평 | D37: 120659 | E37: 124561.56 | F37: =VLOOKUP(C37,$AC$8:$AO$49,11,FALSE)/1000000 -> 126542.61 | G37: =F37/E37% -> 101.59041 | I37: =F37/D37% -> 104.87623 | J37: =IF(I37>=100,4,I37*0.04) -> 4 | K37: =IF(I37>=100,10,I37*0.1) -> 10 | L37: 4 | M37: 양평 | N37: 26497 | O37: 23468.71 | P37: =VLOOKUP(M37,$AC$8:$AO$49,12,FALSE)/1000000 -> 26469.44 | R37: =P37/O37% -> 112.78609 | T37: =(VLOOKUP(M37,$AC$8:$AO$49,13,FALSE)-VLOOKUP(M37,$AC$55:$AO$96,13,FALSE))/1000000 -> -231.37847 | U37: =P37/N37% -> 99.895988 | V37: =IF(U37>=100,30,U37*0.3) -> 29.968796 | W37: =IF(U37>100,"0","") | X37: =IF(X36-0.01<0,"0",X36-0.01) -> 0 | Y37: =VLOOKUP(M37,$M$50:$T$89,8,FALSE) -> 5.9937593 | Z37: =V37+X37 -> 29.968796 | AC37: 인천남동 | AD37: 163342617963 | AE37: 59807215067 | AF37: 26300590 | AG37: 0 | AH37: 223176133620 | AI37: 147951295473 | AJ37: 50554189313 | AK37: 1220116 | AL37: 0 | AM37: 198506704902 | AN37: =AJ37+AK37+AL37 -> 50555409429 | AO37: =AE37+AF37+AG37 -> 59833515657
B38: 4 | C38: 포천 | D38: 110239 | E38: 117489.62 | F38: =VLOOKUP(C38,$AC$8:$AO$49,11,FALSE)/1000000 -> 115107.26 | G38: =F38/E38% -> 97.972283 | I38: =F38/D38% -> 104.4161 | J38: =IF(I38>=100,4,I38*0.04) -> 4 | K38: =IF(I38>=100,10,I38*0.1) -> 10 | L38: 4 | M38: 오산 | N38: 21628 | O38: 19022.278 | P38: =VLOOKUP(M38,$AC$8:$AO$49,12,FALSE)/1000000 -> 21252.886 | R38: =P38/O38% -> 111.72629 | T38: =(VLOOKUP(M38,$AC$8:$AO$49,13,FALSE)-VLOOKUP(M38,$AC$55:$AO$96,13,FALSE))/1000000 -> 209.75916 | U38: =P38/N38% -> 98.265612 | V38: =IF(U38>=100,30,U38*0.3) -> 29.479683 | W38: =IF(U38>100,"0","") | X38: =IF(X37-0.01<0,"0",X37-0.01) -> 0 | Y38: =VLOOKUP(M38,$M$50:$T$89,8,FALSE) -> 5.8959367 | Z38: =V38+X38 -> 29.479683 | AC38: 군포 | AD38: 224147889214 | AE38: 45160422034 | AF38: 59949750 | AG38: 0 | AH38: 269368260998 | AI38: 225184337831 | AJ38: 43041349343 | AK38: 46503719 | AL38: 0 | AM38: 268272190893 | AN38: =AJ38+AK38+AL38 -> 43087853062 | AO38: =AE38+AF38+AG38 -> 45220371784
B39: 4 | C39: 구리 | D39: 138961 | E39: 145495.32 | F39: =VLOOKUP(C39,$AC$8:$AO$49,11,FALSE)/1000000 -> 144198.66 | G39: =F39/E39% -> 99.108801 | I39: =F39/D39% -> 103.76916 | J39: =IF(I39>=100,4,I39*0.04) -> 4 | K39: =IF(I39>=100,10,I39*0.1) -> 10 | L39: 4 | M39: 동두천 | N39: 20863 | O39: 19195.939 | P39: =VLOOKUP(M39,$AC$8:$AO$49,12,FALSE)/1000000 -> 20303.624 | R39: =P39/O39% -> 105.77042 | T39: =(VLOOKUP(M39,$AC$8:$AO$49,13,FALSE)-VLOOKUP(M39,$AC$55:$AO$96,13,FALSE))/1000000 -> 68.924365 | U39: =P39/N39% -> 97.318815 | V39: =IF(U39>=100,30,U39*0.3) -> 29.195645 | W39: =IF(U39>100,"0","") | X39: =IF(X38-0.01<0,"0",X38-0.01) -> 0 | Y39: =VLOOKUP(M39,$M$50:$T$89,8,FALSE) -> 5.8391289 | Z39: =V39+X39 -> 29.195645 | AC39: 안양 | AD39: 378511348636 | AE39: 79729267587 | AF39: 4065366042 | AG39: 0 | AH39: 462305982265 | AI39: 374268079971 | AJ39: 73344909207 | AK39: 4780223544 | AL39: 0 | AM39: 452393212722 | AN39: =AJ39+AK39+AL39 -> 78125132751 | AO39: =AE39+AF39+AG39 -> 83794633629
A40: 마그룹 | B40: 5 | C40: 백령 | D40: 33147 | E40: 33637.786 | F40: =VLOOKUP(C40,$AC$8:$AO$49,11,FALSE)/1000000 -> 36338.038 | G40: =F40/E40% -> 108.02744 | I40: =F40/D40% -> 109.62693 | J40: =IF(I40>=100,4,I40*0.04) -> 4 | K40: =IF(I40>=100,10,I40*0.1) -> 10 | L40: 5 | M40: 여주 | N40: 21185 | O40: 19127.39 | P40: =VLOOKUP(M40,$AC$8:$AO$49,12,FALSE)/1000000 -> 21572.06 | R40: =P40/O40% -> 112.78099 | T40: =(VLOOKUP(M40,$AC$8:$AO$49,13,FALSE)-VLOOKUP(M40,$AC$55:$AO$96,13,FALSE))/1000000 -> -131.90756 | U40: =P40/N40% -> 101.82705 | V40: =IF(U40>=100,30,U40*0.3) -> 30 | W40: =IF(U40>100,"0","") -> 0 | X40: =COUNTIF(W40:W45,"0")*0.01 -> 0.01 | Y40: =VLOOKUP(M40,$M$50:$T$89,8,FALSE) -> 6.0033 | Z40: =V40+X40 -> 30.01 | AC40: 성남분당 | AD40: 802148888664 | AE40: 82261787642 | AF40: 0 | AG40: 0 | AH40: 884410676306 | AI40: 725775114058 | AJ40: 78883320809 | AK40: 0 | AL40: 0 | AM40: 804658434867 | AN40: =AJ40+AK40+AL40 -> 78883320809 | AO40: =AE40+AF40+AG40 -> 82261787642
B41: 5 | C41: 연천 | D41: 64326 | E41: 65387.163 | F41: =VLOOKUP(C41,$AC$8:$AO$49,11,FALSE)/1000000 -> 68152.835 | G41: =F41/E41% -> 104.22969 | I41: =F41/D41% -> 105.94913 | J41: =IF(I41>=100,4,I41*0.04) -> 4 | K41: =IF(I41>=100,10,I41*0.1) -> 10 | L41: 5 | M41: 연천 | N41: 18598 | O41: 16437.426 | P41: =VLOOKUP(M41,$AC$8:$AO$49,12,FALSE)/1000000 -> 18511.133 | R41: =P41/O41% -> 112.61576 | T41: =(VLOOKUP(M41,$AC$8:$AO$49,13,FALSE)-VLOOKUP(M41,$AC$55:$AO$96,13,FALSE))/1000000 -> 20.288619 | U41: =P41/N41% -> 99.532922 | V41: =IF(U41>=100,30,U41*0.3) -> 29.859876 | W41: =IF(U41>100,"0","") | X41: =IF(X40-0.01<0,"0",X40-0.01) -> 0 | Y41: =VLOOKUP(M41,$M$50:$T$89,8,FALSE) -> 5.9719753 | Z41: =V41+X41 -> 29.859876 | AC41: 고양일산 | AD41: 270527485376 | AE41: 57906552166 | AF41: 0 | AG41: 0 | AH41: 328434037542 | AI41: 263878952471 | AJ41: 54749740363 | AK41: 0 | AL41: 0 | AM41: 318628692834 | AN41: =AJ41+AK41+AL41 -> 54749740363 | AO41: =AE41+AF41+AG41 -> 57906552166
B42: 5 | C42: 하남 | D42: 98016 | E42: 103299.93 | F42: =VLOOKUP(C42,$AC$8:$AO$49,11,FALSE)/1000000 -> 101580.36 | G42: =F42/E42% -> 98.335361 | I42: =F42/D42% -> 103.63651 | J42: =IF(I42>=100,4,I42*0.04) -> 4 | K42: =IF(I42>=100,10,I42*0.1) -> 10 | L42: 5 | M42: 하남 | N42: 20444 | O42: 19163.534 | P42: =VLOOKUP(M42,$AC$8:$AO$49,12,FALSE)/1000000 -> 20040.048 | R42: =P42/O42% -> 104.57386 | T42: =(VLOOKUP(M42,$AC$8:$AO$49,13,FALSE)-VLOOKUP(M42,$AC$55:$AO$96,13,FALSE))/1000000 -> -129.92248 | U42: =P42/N42% -> 98.024106 | V42: =IF(U42>=100,30,U42*0.3) -> 29.407232 | W42: =IF(U42>100,"0","") | X42: =IF(X41-0.01<0,"0",X41-0.01) -> 0 | Y42: =VLOOKUP(M42,$M$50:$T$89,8,FALSE) -> 5.8814464 | Z42: =V42+X42 -> 29.407232 | AC42: 서인천 | AD42: 183670519650 | AE42: 56625335655 | AF42: 61358239 | AG42: 0 | AH42: 240357213544 | AI42: 184801381626 | AJ42: 56694874260 | AK42: 41701961 | AL42: 0 | AM42: 241537957847 | AN42: =AJ42+AK42+AL42 -> 56736576221 | AO42: =AE42+AF42+AG42 -> 56686693894
B43: 5 | C43: 가평 | D43: 63569 | E43: 65381.802 | F43: =VLOOKUP(C43,$AC$8:$AO$49,11,FALSE)/1000000 -> 65792.214 | G43: =F43/E43% -> 100.62772 | I43: =F43/D43% -> 103.49732 | J43: =IF(I43>=100,4,I43*0.04) -> 4 | K43: =IF(I43>=100,10,I43*0.1) -> 10 | L43: 5 | M43: 가평 | N43: 20737 | O43: 18986.131 | P43: =VLOOKUP(M43,$AC$8:$AO$49,12,FALSE)/1000000 -> 20216.478 | R43: =P43/O43% -> 106.48024 | T43: =(VLOOKUP(M43,$AC$8:$AO$49,13,FALSE)-VLOOKUP(M43,$AC$55:$AO$96,13,FALSE))/1000000 -> -564.93254 | U43: =P43/N43% -> 97.489888 | V43: =IF(U43>=100,30,U43*0.3) -> 29.246966 | W43: =IF(U43>100,"0","") | X43: =IF(X42-0.01<0,"0",X42-0.01) -> 0 | Y43: =VLOOKUP(M43,$M$50:$T$89,8,FALSE) -> 5.8493933 | Z43: =V43+X43 -> 29.246966 | AC43: 부천 | AD43: 360705636130 | AE43: 111509921000 | AF43: 0 | AG43: 557755 | AH43: 472216114885 | AI43: 356656216606 | AJ43: 105214968077 | AK43: 0 | AL43: 532558 | AM43: 461871717241 | AN43: =AJ43+AK43+AL43 -> 105215500635 | AO43: =AE43+AF43+AG43 -> 111510478755
B44: 5 | C44: 강화 | D44: 101589 | E44: 106020.89 | F44: =VLOOKUP(C44,$AC$8:$AO$49,11,FALSE)/1000000 -> 103812.9 | G44: =F44/E44% -> 97.917393 | I44: =F44/D44% -> 102.18911 | J44: =IF(I44>=100,4,I44*0.04) -> 4 | K44: =IF(I44>=100,10,I44*0.1) -> 10 | L44: 5 | M44: 백령 | N44: 7812 | O44: 6616.9259 | P44: =VLOOKUP(M44,$AC$8:$AO$49,12,FALSE)/1000000 -> 7582.5078 | R44: =P44/O44% -> 114.59261 | T44: =(VLOOKUP(M44,$AC$8:$AO$49,13,FALSE)-VLOOKUP(M44,$AC$55:$AO$96,13,FALSE))/1000000 -> -64.96146 | U44: =P44/N44% -> 97.062312 | V44: =IF(U44>=100,30,U44*0.3) -> 29.118694 | W44: =IF(U44>100,"0","") | X44: =IF(X43-0.01<0,"0",X43-0.01) -> 0 | Y44: =VLOOKUP(M44,$M$50:$T$89,8,FALSE) -> 5.8237387 | Z44: =V44+X44 -> 29.118694 | AC44: 고양덕양 | AD44: 214994379020 | AE44: 51283068929 | AF44: 0 | AG44: 0 | AH44: 266277447949 | AI44: 212720630338 | AJ44: 48725054068 | AK44: 0 | AL44: 0 | AM44: 261445684406 | AN44: =AJ44+AK44+AL44 -> 48725054068 | AO44: =AE44+AF44+AG44 -> 51283068929
B45: 5 | C45: 여주 | D45: 94709 | E45: 101132.92 | F45: =VLOOKUP(C45,$AC$8:$AO$49,11,FALSE)/1000000 -> 96701.369 | G45: =F45/E45% -> 95.618097 | I45: =F45/D45% -> 102.10367 | J45: =IF(I45>=100,4,I45*0.04) -> 4 | K45: =IF(I45>=100,10,I45*0.1) -> 10 | L45: 5 | M45: 강화 | N45: 25162 | O45: 22220.115 | P45: =VLOOKUP(M45,$AC$8:$AO$49,12,FALSE)/1000000 -> 23268.551 | R45: =P45/O45% -> 104.71841 | T45: =(VLOOKUP(M45,$AC$8:$AO$49,13,FALSE)-VLOOKUP(M45,$AC$55:$AO$96,13,FALSE))/1000000 -> 42.869034 | U45: =P45/N45% -> 92.474966 | V45: =IF(U45>=100,30,U45*0.3) -> 27.74249 | W45: =IF(U45>100,"0","") | X45: =IF(X44-0.01<0,"0",X44-0.01) -> 0 | Y45: =VLOOKUP(M45,$M$50:$T$89,8,FALSE) -> 5.548498 | Z45: =V45+X45 -> 27.74249 | AC45: 인천계양 | AD45: 137323918301 | AE45: 40082178735 | AF45: 71773062 | AG45: 0 | AH45: 177477870098 | AI45: 134935799364 | AJ45: 38130570341 | AK45: 49190746 | AL45: 0 | AM45: 173115560451 | AN45: =AJ45+AK45+AL45 -> 38179761087 | AO45: =AE45+AF45+AG45 -> 40153951797
C46: total | D46: =SUM(D6:D45) -> 8705900 | E46: =SUM(E6:E45) -> 8984412.7 | F46: =SUM(F6:F45) -> 9305653.3 | G46: =F46/E46% -> 103.57553 | I46: =F46/D46% -> 106.88904 | M46: total | N46: =SUM(N6:N45) -> 1943900 | O46: =SUM(O6:O45) -> 1793997.5 | P46: 1944954 | R46: =P46/O46% -> 108.41453 | T46: =(VLOOKUP(M46,$AC$8:$AO$49,13,FALSE)-VLOOKUP(M46,$AC$55:$AO$96,13,FALSE))/1000000 -> 2979.4703 | U46: =P46/N46% -> 100.05422 | AC46: 용인수지 | AD46: 268715174330 | AE46: 44113425349 | AF46: 50909830 | AG46: 0 | AH46: 312879509509 | AI46: 265962671691 | AJ46: 38214206808 | AK46: 40437455 | AL46: 0 | AM46: 304217315954 | AN46: =AJ46+AK46+AL46 -> 38254644263 | AO46: =AE46+AF46+AG46 -> 44164335179
AC47: 남양주 | AD47: 116762674024 | AE47: 37020511179 | AF47: 0 | AG47: 0 | AH47: 153783185203 | AI47: 117107683647 | AJ47: 35712409794 | AK47: 0 | AL47: 0 | AM47: 152820093441 | AN47: =AJ47+AK47+AL47 -> 35712409794 | AO47: =AE47+AF47+AG47 -> 37020511179
M48: 국 명 | N48: 요구불예금수신고 | AC48: 화성 | AD48: 171814314818 | AE48: 53595291459 | AF48: 0 | AG48: 0 | AH48: 225409606277 | AI48: 167004775559 | AJ48: 51192368635 | AK48: 0 | AL48: 0 | AM48: 218197144194 | AN48: =AJ48+AK48+AL48 -> 51192368635 | AO48: =AE48+AF48+AG48 -> 53595291459
N49: 목표 | O49: 연평잔고 | P49: 달성률 | Q49: 경평계산득점 | R49: 만점여부 | S49: 가점 | T49: 경평득점 | AC49: total | AD49: 7461806820251 | AE49: 2023098525654 | AF49: 5159061101 | AG49: 814356 | AH49: 9490065221362 | AI49: 7364399205796 | AJ49: 1935565145295 | AK49: 5687516007 | AL49: 1448248 | AM49: 9305653315346 | AN49: =AJ49+AK49+AL49 -> 1941254109550 | AO49: =AE49+AF49+AG49 -> 2028258401111
L50: 1 | M50: 성남분당 | N50: 70406 | O50: =VLOOKUP(M50,$AC$8:$AO$49,12,FALSE)/1000000 -> 78883.321 | P50: =O50/N50% -> 112.04062 | Q50: =IF(P50>=100,6,P50*0.06) -> 6 | R50: =IF(P50>100,"0","") -> 0 | S50: =COUNTIF(R50:R77,"0")*0.0033 -> 0.0396 | T50: =Q50+S50 -> 6.0396 | AD50: 7461806820251 | AE50: 2023098525654 | AF50: 5159061101 | AG50: 814356 | AH50: 9490065221362 | AI50: 7364399205796 | AJ50: 1935565145295 | AK50: 5687516007 | AL50: 1448248 | AM50: 9305653315346
L51: 1 | M51: 용인수지 | N51: 35050 | O51: =VLOOKUP(M51,$AC$8:$AO$49,12,FALSE)/1000000 -> 38254.644 | P51: =O51/N51% -> 109.14306 | Q51: =IF(P51>=100,6,P51*0.06) -> 6 | R51: =IF(P51>100,"0","") -> 0 | S51: =IF(S50-0.0033<0,"0",S50-0.0033) -> 0.0363 | T51: =Q51+S51 -> 6.0363
L52: 1 | M52: 고양일산 | N52: 50574 | O52: =VLOOKUP(M52,$AC$8:$AO$49,12,FALSE)/1000000 -> 54749.74 | P52: =O52/N52% -> 108.25669 | Q52: =IF(P52>=100,6,P52*0.06) -> 6 | R52: =IF(P52>100,"0","") -> 0 | S52: =IF(S51-0.0033<0,"0",S51-0.0033) -> 0.033 | T52: =Q52+S52 -> 6.033 | AC52: 전일실적
L53: 1 | M53: 남인천 | N53: 119184 | O53: =VLOOKUP(M53,$M$6:$Z$45,4,FALSE) -> 127936.35 | P53: =O53/N53% -> 107.34356 | Q53: =IF(P53>=100,6,P53*0.06) -> 6 | R53: =IF(P53>100,"0","") -> 0 | S53: =IF(S52-0.0033<0,"0",S52-0.0033) -> 0.0297 | T53: =Q53+S53 -> 6.0297 | AD53: 유지잔액 | AI53: 일연평잔고
L54: 1 | M54: 수원 | N54: 68028 | O54: =VLOOKUP(M54,$AC$8:$AO$49,12,FALSE)/1000000 -> 71589.543 | P54: =O54/N54% -> 105.23541 | Q54: =IF(P54>=100,6,P54*0.06) -> 6 | R54: =IF(P54>100,"0","") -> 0 | S54: =IF(S53-0.0033<0,"0",S53-0.0033) -> 0.0264 | T54: =Q54+S54 -> 6.0264 | AD54: 일반예금 | AE54: 요구불예금 | AF54: 타부처국고예금 | AG54: 실적우편대체 | AH54: Total | AI54: 일반예금 | AJ54: 요구불예금 | AK54: 타부처국고예금 | AL54: 실적우편대체 | AM54: Total | AN54: 요구불연평 | AO54: 요구불유지잔액
L55: 1 | M55: 서수원 | N55: 32723 | O55: =VLOOKUP(M55,$AC$8:$AO$49,12,FALSE)/1000000 -> 33797.533 | P55: =O55/N55% -> 103.28372 | Q55: =IF(P55>=100,6,P55*0.06) -> 6 | R55: =IF(P55>100,"0","") -> 0 | S55: =IF(S54-0.0033<0,"0",S54-0.0033) -> 0.0231 | T55: =Q55+S55 -> 6.0231 | AC55: 평택 | AD55: 299017309296 | AE55: 91077041238 | AF55: 0 | AG55: 0 | AH55: 390094350534 | AI55: 300059081792 | AJ55: 85753131983 | AK55: 0 | AL55: 0 | AM55: 385812213775 | AN55: =AJ55+AK55+AL55 -> 85753131983 | AO55: =AE55+AF55+AG55 -> 91077041238
L56: 1 | M56: 인천계양 | N56: 37301 | O56: =VLOOKUP(M56,$AC$8:$AO$49,12,FALSE)/1000000 -> 38179.761 | P56: =O56/N56% -> 102.35586 | Q56: =IF(P56>=100,6,P56*0.06) -> 6 | R56: =IF(P56>100,"0","") -> 0 | S56: =IF(S55-0.0033<0,"0",S55-0.0033) -> 0.0198 | T56: =Q56+S56 -> 6.0198 | AC56: 인천 | AD56: 263262277814 | AE56: 68951838046 | AF56: 0 | AG56: 0 | AH56: 332214115860 | AI56: 263764292242 | AJ56: 68172925173 | AK56: 0 | AL56: 0 | AM56: 331937217415 | AN56: =AJ56+AK56+AL56 -> 68172925173 | AO56: =AE56+AF56+AG56 -> 68951838046
L57: 1 | M57: 부천 | N57: 103016 | O57: =VLOOKUP(M57,$AC$8:$AO$49,12,FALSE)/1000000 -> 105215.5 | P57: =O57/N57% -> 102.13511 | Q57: =IF(P57>=100,6,P57*0.06) -> 6 | R57: =IF(P57>100,"0","") -> 0 | S57: =IF(S56-0.0033<0,"0",S56-0.0033) -> 0.0165 | T57: =Q57+S57 -> 6.0165 | AC57: 부평 | AD57: 268050805512 | AE57: 89298121523 | AF57: 46455410 | AG57: 0 | AH57: 357395382445 | AI57: 270232982288 | AJ57: 82508089705 | AK57: 33198158 | AL57: 0 | AM57: 352774270151 | AN57: =AJ57+AK57+AL57 -> 82541287863 | AO57: =AE57+AF57+AG57 -> 89344576933
L58: 1 | M58: 동수원 | N58: 56604 | O58: =VLOOKUP(M58,$AC$8:$AO$49,12,FALSE)/1000000 -> 57791.652 | P58: =O58/N58% -> 102.09818 | Q58: =IF(P58>=100,6,P58*0.06) -> 6 | R58: =IF(P58>100,"0","") -> 0 | S58: =IF(S57-0.0033<0,"0",S57-0.0033) -> 0.0132 | T58: =Q58+S58 -> 6.0132 | AC58: 오산 | AD58: 88421209711 | AE58: 22995946793 | AF58: 0 | AG58: 0 | AH58: 111417156504 | AI58: 88455897022 | AJ58: 21243631416 | AK58: 0 | AL58: 0 | AM58: 109699528438 | AN58: =AJ58+AK58+AL58 -> 21243631416 | AO58: =AE58+AF58+AG58 -> 22995946793
L59: 1 | M59: 성남 | N59: 88844 | O59: =VLOOKUP(M59,$AC$8:$AO$49,12,FALSE)/1000000 -> 89468.127 | P59: =O59/N59% -> 100.7025 | Q59: =IF(P59>=100,6,P59*0.06) -> 6 | R59: =IF(P59>100,"0","") -> 0 | S59: =IF(S58-0.0033<0,"0",S58-0.0033) -> 0.0099 | T59: =Q59+S59 -> 6.0099 | AC59: 안성 | AD59: 86008643642 | AE59: 35598238586 | AF59: 0 | AG59: 0 | AH59: 121606882228 | AI59: 84778363067 | AJ59: 35525885793 | AK59: 0 | AL59: 0 | AM59: 120304248860 | AN59: =AJ59+AK59+AL59 -> 35525885793 | AO59: =AE59+AF59+AG59 -> 35598238586
L60: 1 | M60: 평택 | N60: 85242 | O60: =VLOOKUP(M60,$AC$8:$AO$49,12,FALSE)/1000000 -> 85783.333 | P60: =O60/N60% -> 100.63505 | Q60: =IF(P60>=100,6,P60*0.06) -> 6 | R60: =IF(P60>100,"0","") -> 0 | S60: =IF(S59-0.0033<0,"0",S59-0.0033) -> 0.0066 | T60: =Q60+S60 -> 6.0066 | AC60: 가평 | AD60: 45828605860 | AE60: 21158368903 | AF60: 0 | AG60: 0 | AH60: 66986974763 | AI60: 45574680815 | AJ60: 20214691454 | AK60: 0 | AL60: 0 | AM60: 65789372269 | AN60: =AJ60+AK60+AL60 -> 20214691454 | AO60: =AE60+AF60+AG60 -> 21158368903
L61: 1 | M61: 이천 | N61: 24369 | O61: =VLOOKUP(M61,$AC$8:$AO$49,12,FALSE)/1000000 -> 24422.881 | P61: =O61/N61% -> 100.2211 | Q61: =IF(P61>=100,6,P61*0.06) -> 6 | R61: =IF(P61>100,"0","") -> 0 | S61: =IF(S60-0.0033<0,"0",S60-0.0033) -> 0.0033 | T61: =Q61+S61 -> 6.0033 | AC61: 파주 | AD61: 141848980483 | AE61: 45769524808 | AF61: 35772649 | AG61: 0 | AH61: 187654277940 | AI61: 137566379273 | AJ61: 43843124412 | AK61: 35020883 | AL61: 0 | AM61: 181444524568 | AN61: =AJ61+AK61+AL61 -> 43878145295 | AO61: =AE61+AF61+AG61 -> 45805297457
L62: 1 | M62: 부평 | N62: 82878 | O62: =VLOOKUP(M62,$AC$8:$AO$49,12,FALSE)/1000000 -> 82572.821 | P62: =O62/N62% -> 99.631773 | Q62: =IF(P62>=100,6,P62*0.06) -> 5.9779064 | R62: =IF(P62>100,"0","") | S62: =IF(S61-0.0033<0,"0",S61-0.0033) -> 0 | T62: =Q62+S62 -> 5.9779064 | AC62: 강화 | AD62: 80358873472 | AE62: 23365609740 | AF62: 0 | AG62: 0 | AH62: 103724483212 | AI62: 80545225814 | AJ62: 23267887879 | AK62: 0 | AL62: 0 | AM62: 103813113693 | AN62: =AJ62+AK62+AL62 -> 23267887879 | AO62: =AE62+AF62+AG62 -> 23365609740
L63: 1 | M63: 파주 | N63: 44175 | O63: =VLOOKUP(M63,$AC$8:$AO$49,12,FALSE)/1000000 -> 43887.774 | P63: =O63/N63% -> 99.3498 | Q63: =IF(P63>=100,6,P63*0.06) -> 5.960988 | R63: =IF(P63>100,"0","") | S63: =IF(S62-0.0033<0,"0",S62-0.0033) -> 0 | T63: =Q63+S63 -> 5.960988 | AC63: 양평 | AD63: 98424572926 | AE63: 29692618243 | AF63: 0 | AG63: 0 | AH63: 128117191169 | AI63: 100083109504 | AJ63: 26455260734 | AK63: 0 | AL63: 0 | AM63: 126538370238 | AN63: =AJ63+AK63+AL63 -> 26455260734 | AO63: =AE63+AF63+AG63 -> 29692618243
L64: 1 | M64: 안산 | N64: 88189 | O64: =VLOOKUP(M64,$AC$8:$AO$49,12,FALSE)/1000000 -> 87545.718 | P64: =O64/N64% -> 99.270565 | Q64: =IF(P64>=100,6,P64*0.06) -> 5.9562339 | R64: =IF(P64>100,"0","") | S64: =IF(S63-0.0033<0,"0",S63-0.0033) -> 0 | T64: =Q64+S64 -> 5.9562339 | AC64: 경기광주 | AD64: 91268287166 | AE64: 32875323262 | AF64: 112817975 | AG64: 0 | AH64: 124256428403 | AI64: 90220124693 | AJ64: 31160544091 | AK64: 123980574 | AL64: 0 | AM64: 121504649358 | AN64: =AJ64+AK64+AL64 -> 31284524665 | AO64: =AE64+AF64+AG64 -> 32988141237
L65: 1 | M65: 군포 | N65: 43423 | O65: =VLOOKUP(M65,$AC$8:$AO$49,12,FALSE)/1000000 -> 43087.853 | P65: =O65/N65% -> 99.228181 | Q65: =IF(P65>=100,6,P65*0.06) -> 5.9536909 | R65: =IF(P65>100,"0","") | S65: =IF(S64-0.0033<0,"0",S64-0.0033) -> 0 | T65: =Q65+S65 -> 5.9536909 | AC65: 여주 | AD65: 74425369104 | AE65: 22846658668 | AF65: 0 | AG65: 0 | AH65: 97272027772 | AI65: 75131721409 | AJ65: 21566644558 | AK65: 0 | AL65: 0 | AM65: 96698365967 | AN65: =AJ65+AK65+AL65 -> 21566644558 | AO65: =AE65+AF65+AG65 -> 22846658668
L66: 1 | M66: 의정부 | N66: 62839 | O66: =VLOOKUP(M66,$AC$8:$AO$49,12,FALSE)/1000000 -> 61894.69 | P66: =O66/N66% -> 98.497255 | Q66: =IF(P66>=100,6,P66*0.06) -> 5.9098353 | R66: =IF(P66>100,"0","") | S66: =IF(S65-0.0033<0,"0",S65-0.0033) -> 0 | T66: =Q66+S66 -> 5.9098353 | AC66: 김포 | AD66: 117012539714 | AE66: 38954790798 | AF66: 28155656 | AG66: 0 | AH66: 155995486168 | AI66: 136126506140 | AJ66: 37140746817 | AK66: 25726178 | AL66: 0 | AM66: 173292979135 | AN66: =AJ66+AK66+AL66 -> 37166472995 | AO66: =AE66+AF66+AG66 -> 38982946454
... L77: 1 | M77: 서인천 | N77: 68038 | O77: =VLOOKUP(M77,$AC$8:$AO$49,12,FALSE)/1000000 -> 56736.576 | P77: =O77/N77% -> 83.389541 | Q77: =IF(P77>=100,6,P77*0.06) -> 5.0033725 | R77: =IF(P77>100,"0","") | S77: =IF(S76-0.0033<0,"0",S76-0.0033) -> 0 | T77: =Q77+S77 -> 5.0033725 | AC77: 구리 | AD77: 123388796925 | AE77: 26779782263 | AF77: 0 | AG77: 286 | AH77: 150168579474 | AI77: 117491395279 | AJ77: 26678107107 | AK77: 0 | AL77: 286 | AM77: 144169502672 | AN77: =AJ77+AK77+AL77 -> 26678107393 | AO77: =AE77+AF77+AG77 -> 26779782549
L78: 2 | M78: 경기광주 | N78: 30447 | O78: =VLOOKUP(M78,$AC$8:$AO$49,12,FALSE)/1000000 -> 31292.439 | P78: =O78/N78% -> 102.77676 | Q78: =IF(P78>=100,6,P78*0.06) -> 6 | R78: =IF(P78>100,"0","") -> 0 | S78: =COUNTIF(R78:R89,"0")*0.0033 -> 0.0099 | T78: =Q78+S78 -> 6.0099 | AC78: 성남 | AD78: 288206723898 | AE78: 95899876281 | AF78: 0 | AG78: 0 | AH78: 384106600179 | AI78: 288964573063 | AJ78: 89436869798 | AK78: 0 | AL78: 0 | AM78: 378401442861 | AN78: =AJ78+AK78+AL78 -> 89436869798 | AO78: =AE78+AF78+AG78 -> 95899876281
L79: 2 | M79: 포천 | N79: 35182 | O79: =VLOOKUP(M79,$AC$8:$AO$49,12,FALSE)/1000000 -> 35981.23 | P79: =O79/N79% -> 102.2717 | Q79: =IF(P79>=100,6,P79*0.06) -> 6 | R79: =IF(P79>100,"0","") -> 0 | S79: =IF(S78-0.0033<0,"0",S78-0.0033) -> 0.0066 | T79: =Q79+S79 -> 6.0066 | AC79: 광명 | AD79: 180143566410 | AE79: 48958861936 | AF79: 0 | AG79: 256315 | AH79: 229102684661 | AI79: 181094371748 | AJ79: 45098534549 | AK79: 0 | AL79: 918527 | AM79: 226193824824 | AN79: =AJ79+AK79+AL79 -> 45099453076 | AO79: =AE79+AF79+AG79 -> 48959118251 | AP79: 연평 | AQ79: 유지잔액
L80: 2 | M80: 여주 | N80: 21185 | O80: =VLOOKUP(M80,$AC$8:$AO$49,12,FALSE)/1000000 -> 21572.06 | P80: =O80/N80% -> 101.82705 | Q80: =IF(P80>=100,6,P80*0.06) -> 6 | R80: =IF(P80>100,"0","") -> 0 | S80: =IF(S79-0.0033<0,"0",S79-0.0033) -> 0.0033 | T80: =Q80+S80 -> 6.0033 | AC80: 남인천 | AD80: 186440685205 | AE80: 61848543621 | AF80: 0 | AG80: 0 | AH80: 248289228826 | AI80: 197982495434 | AJ80: 77429952514 | AK80: 21538496 | AL80: 0 | AM80: 275433986444 | AN80: =AJ80+AK80+AL80 -> 77451491010 | AO80: =AE80+AF80+AG80 -> 61848543621 | AP80: =AN80+AN84 -> 127962928373 | AQ80: =AO80+AO84 -> 121335500980
L81: 2 | M81: 구리 | N81: 26692 | O81: =VLOOKUP(M81,$AC$8:$AO$49,12,FALSE)/1000000 -> 26679.172 | P81: =O81/N81% -> 99.951942 | Q81: =IF(P81>=100,6,P81*0.06) -> 5.9971165 | R81: =IF(P81>100,"0","") | S81: =IF(S80-0.0033<0,"0",S80-0.0033) -> 0 | T81: =Q81+S81 -> 5.9971165 | AC81: 안산 | AD81: 247000279266 | AE81: 92618531514 | AF81: 0 | AG81: 0 | AH81: 339618810780 | AI81: 242777867980 | AJ81: 87519394674 | AK81: 0 | AL81: 0 | AM81: 330297262654 | AN81: =AJ81+AK81+AL81 -> 87519394674 | AO81: =AE81+AF81+AG81 -> 92618531514 | AQ81: =AQ80/1000000 -> 121335.5
L82: 2 | M82: 양평 | N82: 26497 | O82: =VLOOKUP(M82,$AC$8:$AO$49,12,FALSE)/1000000 -> 26469.44 | P82: =O82/N82% -> 99.895988 | Q82: =IF(P82>=100,6,P82*0.06) -> 5.9937593 | R82: =IF(P82>100,"0","") | S82: =IF(S81-0.0033<0,"0",S81-0.0033) -> 0 | T82: =Q82+S82 -> 5.9937593 | AC82: 서수원 | AD82: 104692885343 | AE82: 31686059475 | AF82: 0 | AG82: 0 | AH82: 136378944818 | AI82: 100604657193 | AJ82: 33806416556 | AK82: 0 | AL82: 0 | AM82: 134411073749 | AN82: =AJ82+AK82+AL82 -> 33806416556 | AO82: =AE82+AF82+AG82 -> 31686059475
L83: 2 | M83: 연천 | N83: 18598 | O83: =VLOOKUP(M83,$AC$8:$AO$49,12,FALSE)/1000000 -> 18511.133 | P83: =O83/N83% -> 99.532922 | Q83: =IF(P83>=100,6,P83*0.06) -> 5.9719753 | R83: =IF(P83>100,"0","") | S83: =IF(S82-0.0033<0,"0",S82-0.0033) -> 0 | T83: =Q83+S83 -> 5.9719753 | AC83: 동수원 | AD83: 238327172151 | AE83: 61994856182 | AF83: 83848904 | AG83: 0 | AH83: 300405877237 | AI83: 245898017297 | AJ83: 57713237687 | AK83: 68920329 | AL83: 0 | AM83: 303680175313 | AN83: =AJ83+AK83+AL83 -> 57782158016 | AO83: =AE83+AF83+AG83 -> 62078705086
L84: 2 | M84: 오산 | N84: 21628 | O84: =VLOOKUP(M84,$AC$8:$AO$49,12,FALSE)/1000000 -> 21252.886 | P84: =O84/N84% -> 98.265612 | Q84: =IF(P84>=100,6,P84*0.06) -> 5.8959367 | R84: =IF(P84>100,"0","") | S84: =IF(S83-0.0033<0,"0",S83-0.0033) -> 0 | T84: =Q84+S84 -> 5.8959367 | AC84: 인천남동 | AD84: 163072821673 | AE84: 59458782239 | AF84: 28175120 | AG84: 0 | AH84: 222559779032 | AI84: 147878350817 | AJ84: 50510336112 | AK84: 1101251 | AL84: 0 | AM84: 198389788180 | AN84: =AJ84+AK84+AL84 -> 50511437363 | AO84: =AE84+AF84+AG84 -> 59486957359
L85: 2 | M85: 하남 | N85: 20444 | O85: =VLOOKUP(M85,$AC$8:$AO$49,12,FALSE)/1000000 -> 20040.048 | P85: =O85/N85% -> 98.024106 | Q85: =IF(P85>=100,6,P85*0.06) -> 5.8814464 | R85: =IF(P85>100,"0","") | S85: =IF(S84-0.0033<0,"0",S84-0.0033) -> 0 | T85: =Q85+S85 -> 5.8814464 | AC85: 군포 | AD85: 224066137744 | AE85: 44996658732 | AF85: 61586640 | AG85: 0 | AH85: 269124383116 | AI85: 225189249911 | AJ85: 43031306343 | AK85: 46439994 | AL85: 0 | AM85: 268266996248 | AN85: =AJ85+AK85+AL85 -> 43077746337 | AO85: =AE85+AF85+AG85 -> 45058245372
L86: 2 | M86: 가평 | N86: 20737 | O86: =VLOOKUP(M86,$AC$8:$AO$49,12,FALSE)/1000000 -> 20216.478 | P86: =O86/N86% -> 97.489888 | Q86: =IF(P86>=100,6,P86*0.06) -> 5.8493933 | R86: =IF(P86>100,"0","") | S86: =IF(S85-0.0033<0,"0",S85-0.0033) -> 0 | T86: =Q86+S86 -> 5.8493933 | AC86: 안양 | AD86: 378317243383 | AE86: 79379488484 | AF86: 4149874522 | AG86: 0 | AH86: 461846606389 | AI86: 374247969695 | AJ86: 73314651583 | AK86: 4783611495 | AL86: 0 | AM86: 452346232773 | AN86: =AJ86+AK86+AL86 -> 78098263078 | AO86: =AE86+AF86+AG86 -> 83529363006
L87: 2 | M87: 동두천 | N87: 20863 | O87: =VLOOKUP(M87,$AC$8:$AO$49,12,FALSE)/1000000 -> 20303.624 | P87: =O87/N87% -> 97.318815 | Q87: =IF(P87>=100,6,P87*0.06) -> 5.8391289 | R87: =IF(P87>100,"0","") | S87: =IF(S86-0.0033<0,"0",S86-0.0033) -> 0 | T87: =Q87+S87 -> 5.8391289 | AC87: 성남분당 | AD87: 801853269633 | AE87: 81354628491 | AF87: 0 | AG87: 0 | AH87: 883207898124 | AI87: 725413153041 | AJ87: 78867309118 | AK87: 0 | AL87: 0 | AM87: 804280462159 | AN87: =AJ87+AK87+AL87 -> 78867309118 | AO87: =AE87+AF87+AG87 -> 81354628491
L88: 2 | M88: 백령 | N88: 7812 | O88: =VLOOKUP(M88,$AC$8:$AO$49,12,FALSE)/1000000 -> 7582.5078 | P88: =O88/N88% -> 97.062312 | Q88: =IF(P88>=100,6,P88*0.06) -> 5.8237387 | R88: =IF(P88>100,"0","") | S88: =IF(S87-0.0033<0,"0",S87-0.0033) -> 0 | T88: =Q88+S88 -> 5.8237387 | AC88: 고양일산 | AD88: 270621492537 | AE88: 58284517959 | AF88: 0 | AG88: 0 | AH88: 328906010496 | AI88: 263847442837 | AJ88: 54734779171 | AK88: 0 | AL88: 0 | AM88: 318582222008 | AN88: =AJ88+AK88+AL88 -> 54734779171 | AO88: =AE88+AF88+AG88 -> 58284517959
L89: 2 | M89: 강화 | N89: 25162 | O89: =VLOOKUP(M89,$AC$8:$AO$49,12,FALSE)/1000000 -> 23268.551 | P89: =O89/N89% -> 92.474966 | Q89: =IF(P89>=100,6,P89*0.06) -> 5.548498 | R89: =IF(P89>100,"0","") | S89: =IF(S88-0.0033<0,"0",S88-0.0033) -> 0 | T89: =Q89+S89 -> 5.548498 | AC89: 서인천 | AD89: 184308915152 | AE89: 57038729383 | AF89: 61358239 | AG89: 0 | AH89: 241409002774 | AI89: 184806741162 | AJ89: 56695203828 | AK89: 41608804 | AL89: 0 | AM89: 241543553794 | AN89: =AJ89+AK89+AL89 -> 56736812632 | AO89: =AE89+AF89+AG89 -> 57100087622
M90: total | N90: 1943900 | AC90: 부천 | AD90: 360325327578 | AE90: 111435078320 | AF90: 0 | AG90: 557755 | AH90: 471760963653 | AI90: 356637025043 | AJ90: 105185134178 | AK90: 0 | AL90: 532439 | AM90: 461822691660 | AN90: =AJ90+AK90+AL90 -> 105185666617 | AO90: =AE90+AF90+AG90 -> 111435636075
AC91: 고양덕양 | AD91: 214828966212 | AE91: 51362166621 | AF91: 0 | AG91: 0 | AH91: 266191132833 | AI91: 212709854277 | AJ91: 48712930776 | AK91: 0 | AL91: 0 | AM91: 261422785053 | AN91: =AJ91+AK91+AL91 -> 48712930776 | AO91: =AE91+AF91+AG91 -> 51362166621
AC92: 인천계양 | AD92: 137211687321 | AE92: 39667411329 | AF92: 71773062 | AG92: 0 | AH92: 176950871712 | AI92: 134924481265 | AJ92: 38121321012 | AK92: 49083721 | AL92: 0 | AM92: 173094885998 | AN92: =AJ92+AK92+AL92 -> 38170404733 | AO92: =AE92+AF92+AG92 -> 39739184391
AC93: 용인수지 | AD93: 268609189303 | AE93: 44869320465 | AF93: 52885150 | AG93: 0 | AH93: 313531394918 | AI93: 265949626656 | AJ93: 38186248425 | AK93: 40387822 | AL93: 0 | AM93: 304176262903 | AN93: =AJ93+AK93+AL93 -> 38226636247 | AO93: =AE93+AF93+AG93 -> 44922205615
AC94: 남양주 | AD94: 116932477664 | AE94: 36850655162 | AF94: 0 | AG94: 0 | AH94: 153783132826 | AI94: 117109318762 | AJ94: 35706210261 | AK94: 0 | AL94: 0 | AM94: 152815529023 | AN94: =AJ94+AK94+AL94 -> 35706210261 | AO94: =AE94+AF94+AG94 -> 36850655162
AC95: 화성 | AD95: 171490155037 | AE95: 53352711866 | AF95: 0 | AG95: 0 | AH95: 224842866903 | AI95: 166981981536 | AJ95: 51180980374 | AK95: 0 | AL95: 0 | AM95: 218162961910 | AN95: =AJ95+AK95+AL95 -> 51180980374 | AO95: =AE95+AF95+AG95 -> 53352711866
AC96: total | AD96: 7459877846866 | AE96: 2020062775116 | AF96: 5215341351 | AG96: 814356 | AH96: 9485156777689 | AI96: 7363937558347 | AJ96: 1935150295165 | AK96: 5690020532 | AL96: 1451252 | AM96: 9304779325296 | AN96: =AJ96+AK96+AL96 -> 1940841766949 | AO96: =AE96+AF96+AG96 -> 2025278930823
AD97: 7459877846866 | AE97: 2020062775116 | AF97: 5215341351 | AG97: 814356 | AH97: 9485156777689 | AI97: 7363937558347 | AJ97: 1935150295165 | AK97: 5690020532 | AL97: 1451252 | AM97: 9304779325296

Sheet 체크카드
A1: 2015년도 예금사업 실적 현황(체크카드)
A2: =[1]종합점수!A2 -> 42216 | L2: (단위 : 천원,%,점) | O2: 당일 | S2: 당일
A3: 국명 | B3: 가맹점 수수료 세입 | F3: 신규카드세입 | K3: 경영평가(4) | L3: 예사평(30) | M3: 순위 | O3: 전체 | S3: 신규세입
B4: 목표 | C4: 실적 | D4: 달성률 | E4: 당일실적 | F4: 신규카드세입 | G4: 신규카드세입비중 | H4: 당일실적 | I4: 경평감점 | J4: 예사평 감점 | P4: 메트릭 | Q4: 가맹점수수료 | T4: 메트릭 | U4: 가맹점수수료(신규카드,일)
A5: 인천 | B5: 302599 | C5: =VLOOKUP(A5,$O$5:$Q$45,3,FALSE)/1000 -> 225199.58 | D5: =C5/B5% -> 74.421785 | E5: =(VLOOKUP(A5,$O$5:$Q$45,3,FALSE)-VLOOKUP(A5,$O$51:$Q$91,3,FALSE))/1000 -> 1345.293 | F5: =VLOOKUP(A5,$S$5:$U$45,3,FALSE)/1000 -> 7718.753 | G5: =F5/C5% -> 3.4275167 | H5: =(VLOOKUP(A5,$S$5:$U$45,3,FALSE)-VLOOKUP(A5,$S$51:$U$91,3,FALSE))/1000 -> 57.735 | I5: =IF(G5>6,0,0.0013) -> 0.0013 | J5: =IF(G5>6,0,0.03) -> 0.03 | K5: =IF(D5>=100,4,D5*0.04)-I5 -> 2.9755714 | L5: =IF(D5>=100,30,D5*0.3)-J5 -> 22.296535 | M5: =RANK(L5,$L$5:$L$44) -> 1 | O5: 평택 | Q5: 188527186 | S5: 평택 | U5: 9183348
A6: 서인천 | B6: 238942 | C6: =VLOOKUP(A6,$O$5:$Q$45,3,FALSE)/1000 -> 124139.98 | D6: =C6/B6% -> 51.954024 | E6: =(VLOOKUP(A6,$O$5:$Q$45,3,FALSE)-VLOOKUP(A6,$O$51:$Q$91,3,FALSE))/1000 -> 596.422 | F6: =VLOOKUP(A6,$S$5:$U$45,3,FALSE)/1000 -> 6538.645 | G6: =F6/C6% -> 5.2671547 | H6: =(VLOOKUP(A6,$S$5:$U$45,3,FALSE)-VLOOKUP(A6,$S$51:$U$91,3,FALSE))/1000 -> 74.101 | I6: =IF(G6>6,0,0.0013) -> 0.0013 | J6: =IF(G6>6,0,0.03) -> 0.03 | K6: =IF(D6>=100,4,D6*0.04)-I6 -> 2.0768609 | L6: =IF(D6>=100,30,D6*0.3)-J6 -> 15.556207 | M6: =RANK(L6,$L$5:$L$44) -> 13 | O6: 인천 | Q6: 225199576 | S6: 인천 | U6: 7718753
A7: 인천계양 | B7: 166288 | C7: =VLOOKUP(A7,$O$5:$Q$45,3,FALSE)/1000 -> 82829.685 | D7: =C7/B7% -> 49.810982 | E7: =(VLOOKUP(A7,$O$5:$Q$45,3,FALSE)-VLOOKUP(A7,$O$51:$Q$91,3,FALSE))/1000 -> 443.766 | F7: =VLOOKUP(A7,$S$5:$U$45,3,FALSE)/1000 -> 4453.047 | G7: =F7/C7% -> 5.3761487 | H7: =(VLOOKUP(A7,$S$5:$U$45,3,FALSE)-VLOOKUP(A7,$S$51:$U$91,3,FALSE))/1000 -> 31.626 | I7: =IF(G7>6,0,0.0013) -> 0.0013 | J7: =IF(G7>6,0,0.03) -> 0.03 | K7: =IF(D7>=100,4,D7*0.04)-I7 -> 1.9911393 | L7: =IF(D7>=100,30,D7*0.3)-J7 -> 14.913294 | M7: =RANK(L7,$L$5:$L$44) -> 32 | O7: 부평 | Q7: 146866096 | S7: 부평 | U7: 9152993
A8: 남인천 | B8: 471032 | C8: =VLOOKUP(A8,$O$30:$R$30,4,FALSE)/1000 -> 237153.94 | D8: =C8/B8% -> 50.347735 | E8: =((VLOOKUP(A8,$O$30:$R$30,4,FALSE)-VLOOKUP(A8,$O$76:$R$76,4,FALSE)))/1000 -> 1340.35 | F8: =VLOOKUP(A8,$S$30:$V$30,4,FALSE)/1000 -> 14054.757 | G8: =F8/C8% -> 5.9264277 | H8: =(VLOOKUP(A8,$S$30:$V$30,4,FALSE)-VLOOKUP(A8,$S$76:$V$76,4,FALSE))/1000 -> 197.736 | I8: =IF(G8>6,0,0.0013) -> 0.0013 | J8: =IF(G8>6,0,0.03) -> 0.03 | K8: =IF(D8>=100,4,D8*0.04)-I8 -> 2.0126094 | L8: =IF(D8>=100,30,D8*0.3)-J8 -> 15.074321 | M8: =RANK(L8,$L$5:$L$44) -> 24 | O8: 오산 | Q8: 51777803 | S8: 오산 | U8: 2958707
A9: 부평 | B9: 290833 | C9: =VLOOKUP(A9,$O$5:$Q$45,3,FALSE)/1000 -> 146866.1 | D9: =C9/B9% -> 50.498429 | E9: =(VLOOKUP(A9,$O$5:$Q$45,3,FALSE)-VLOOKUP(A9,$O$51:$Q$91,3,FALSE))/1000 -> 751.52 | F9: =VLOOKUP(A9,$S$5:$U$45,3,FALSE)/1000 -> 9152.993 | G9: =F9/C9% -> 6.2322028 | H9: =(VLOOKUP(A9,$S$5:$U$45,3,FALSE)-VLOOKUP(A9,$S$51:$U$91,3,FALSE))/1000 -> 86.011 | I9: =IF(G9>6,0,0.0013) -> 0 | J9: =IF(G9>6,0,0.03) -> 0 | K9: =IF(D9>=100,4,D9*0.04)-I9 -> 2.0199372 | L9: =IF(D9>=100,30,D9*0.3)-J9 -> 15.149529 | M9: =RANK(L9,$L$5:$L$44) -> 21 | O9: 안성 | Q9: 65067981 | S9: 안성 | U9: 4205331
A10: 의정부 | B10: 253357 | C10: =VLOOKUP(A10,$O$5:$Q$45,3,FALSE)/1000 -> 123961.9 | D10: =C10/B10% -> 48.92776 | E10: =(VLOOKUP(A10,$O$5:$Q$45,3,FALSE)-VLOOKUP(A10,$O$51:$Q$91,3,FALSE))/1000 -> 606.703 | F10: =VLOOKUP(A10,$S$5:$U$45,3,FALSE)/1000 -> 6035.205 | G10: =F10/C10% -> 4.8685965 | H10: =(VLOOKUP(A10,$S$5:$U$45,3,FALSE)-VLOOKUP(A10,$S$51:$U$91,3,FALSE))/1000 -> 43.35 | I10: =IF(G10>6,0,0.0013) -> 0.0013 | J10: =IF(G10>6,0,0.03) -> 0.03 | K10: =IF(D10>=100,4,D10*0.04)-I10 -> 1.9558104 | L10: =IF(D10>=100,30,D10*0.3)-J10 -> 14.648328 | M10: =RANK(L10,$L$5:$L$44) -> 37 | O10: 가평 | Q10: 45584496 | S10: 가평 | U10: 2116497
A11: 수원 | B11: 243728 | C11: =VLOOKUP(A11,$O$5:$Q$45,3,FALSE)/1000 -> 126301.71 | D11: =C11/B11% -> 51.820765 | E11: =(VLOOKUP(A11,$O$5:$Q$45,3,FALSE)-VLOOKUP(A11,$O$51:$Q$91,3,FALSE))/1000 -> 677.718 | F11: =VLOOKUP(A11,$S$5:$U$45,3,FALSE)/1000 -> 6641.755 | G11: =F11/C11% -> 5.258642 | H11: =(VLOOKUP(A11,$S$5:$U$45,3,FALSE)-VLOOKUP(A11,$S$51:$U$91,3,FALSE))/1000 -> 55.825 | I11: =IF(G11>6,0,0.0013) -> 0.0013 | J11: =IF(G11>6,0,0.03) -> 0.03 | K11: =IF(D11>=100,4,D11*0.04)-I11 -> 2.0715306 | L11: =IF(D11>=100,30,D11*0.3)-J11 -> 15.51623 | M11: =RANK(L11,$L$5:$L$44) -> 14 | O11: 파주 | Q11: 107865370 | S11: 파주 | U11: 5764119
A12: 동수원 | B12: 190112 | C12: =VLOOKUP(A12,$O$5:$Q$45,3,FALSE)/1000 -> 102677.7 | D12: =C12/B12% -> 54.009058 | E12: =(VLOOKUP(A12,$O$5:$Q$45,3,FALSE)-VLOOKUP(A12,$O$51:$Q$91,3,FALSE))/1000 -> 639.084 | F12: =VLOOKUP(A12,$S$5:$U$45,3,FALSE)/1000 -> 6039.152 | G12: =F12/C12% -> 5.8816588 | H12: =(VLOOKUP(A12,$S$5:$U$45,3,FALSE)-VLOOKUP(A12,$S$51:$U$91,3,FALSE))/1000 -> 56.639 | I12: =IF(G12>6,0,0.0013) -> 0.0013 | J12: =IF(G12>6,0,0.03) -> 0.03 | K12: =IF(D12>=100,4,D12*0.04)-I12 -> 2.1590623 | L12: =IF(D12>=100,30,D12*0.3)-J12 -> 16.172717 | M12: =RANK(L12,$L$5:$L$44) -> 7 | O12: 강화 | Q12: 34605104 | S12: 강화 | U12: 1191908
A13: 서수원 | B13: 116544 | C13: =VLOOKUP(A13,$O$5:$Q$45,3,FALSE)/1000 -> 58357.309 | D13: =C13/B13% -> 50.073199 | E13: =(VLOOKUP(A13,$O$5:$Q$45,3,FALSE)-VLOOKUP(A13,$O$51:$Q$91,3,FALSE))/1000 -> 262.811 | F13: =VLOOKUP(A13,$S$5:$U$45,3,FALSE)/1000 -> 3249.745 | G13: =F13/C13% -> 5.5687026 | H13: =(VLOOKUP(A13,$S$5:$U$45,3,FALSE)-VLOOKUP(A13,$S$51:$U$91,3,FALSE))/1000 -> 31.703 | I13: =IF(G13>6,0,0.0013) -> 0.0013 | J13: =IF(G13>6,0,0.03) -> 0.03 | K13: =IF(D13>=100,4,D13*0.04)-I13 -> 2.001628 | L13: =IF(D13>=100,30,D13*0.3)-J13 -> 14.99196 | M13: =RANK(L13,$L$5:$L$44) -> 28 | O13: 양평 | Q13: 54237674 | S13: 양평 | U13: 2521448
A14: 군포 | B14: 147071 | C14: =VLOOKUP(A14,$O$5:$Q$45,3,FALSE)/1000 -> 73619.759 | D14: =C14/B14% -> 50.057291 | E14: =(VLOOKUP(A14,$O$5:$Q$45,3,FALSE)-VLOOKUP(A14,$O$51:$Q$91,3,FALSE))/1000 -> 392.407 | F14: =VLOOKUP(A14,$S$5:$U$45,3,FALSE)/1000 -> 4841.055 | G14: =F14/C14% -> 6.575755 | H14: =(VLOOKUP(A14,$S$5:$U$45,3,FALSE)-VLOOKUP(A14,$S$51:$U$91,3,FALSE))/1000 -> 58.95 | I14: =IF(G14>6,0,0.0013) -> 0 | J14: =IF(G14>6,0,0.03) -> 0 | K14: =IF(D14>=100,4,D14*0.04)-I14 -> 2.0022917 | L14: =IF(D14>=100,30,D14*0.3)-J14 -> 15.017187 | M14: =RANK(L14,$L$5:$L$44) -> 26 | O14: 경기광주 | Q14: 67315866 | S14: 경기광주 | U14: 3372108
A15: 안양 | B15: 200655 | C15: =VLOOKUP(A15,$O$5:$Q$45,3,FALSE)/1000 -> 105648.7 | D15: =C15/B15% -> 52.651912 | E15: =(VLOOKUP(A15,$O$5:$Q$45,3,FALSE)-VLOOKUP(A15,$O$51:$Q$91,3,FALSE))/1000 -> 545.32 | F15: =VLOOKUP(A15,$S$5:$U$45,3,FALSE)/1000 -> 4974.091 | G15: =F15/C15% -> 4.7081424 | H15: =(VLOOKUP(A15,$S$5:$U$45,3,FALSE)-VLOOKUP(A15,$S$51:$U$91,3,FALSE))/1000 -> 46.504 | I15: =IF(G15>6,0,0.0013) -> 0.0013 | J15: =IF(G15>6,0,0.03) -> 0.03 | K15: =IF(D15>=100,4,D15*0.04)-I15 -> 2.1047765 | L15: =IF(D15>=100,30,D15*0.3)-J15 -> 15.765574 | M15: =RANK(L15,$L$5:$L$44) -> 9 | O15: 여주 | Q15: 43486516 | S15: 여주 | U15: 1482703
A16: 성남 | B16: 319800 | C16: =VLOOKUP(A16,$O$5:$Q$45,3,FALSE)/1000 -> 155942.8 | D16: =C16/B16% -> 48.762601 | E16: =(VLOOKUP(A16,$O$5:$Q$45,3,FALSE)-VLOOKUP(A16,$O$51:$Q$91,3,FALSE))/1000 -> 781.499 | F16: =VLOOKUP(A16,$S$5:$U$45,3,FALSE)/1000 -> 6776.23 | G16: =F16/C16% -> 4.3453306 | H16: =(VLOOKUP(A16,$S$5:$U$45,3,FALSE)-VLOOKUP(A16,$S$51:$U$91,3,FALSE))/1000 -> 62.172 | I16: =IF(G16>6,0,0.0013) -> 0.0013 | J16: =IF(G16>6,0,0.03) -> 0.03 | K16: =IF(D16>=100,4,D16*0.04)-I16 -> 1.949204 | L16: =IF(D16>=100,30,D16*0.3)-J16 -> 14.59878 | M16: =RANK(L16,$L$5:$L$44) -> 38 | O16: 김포 | Q16: 94438850 | S16: 김포 | U16: 4685473
A17: 성남분당 | B17: 169310 | C17: =VLOOKUP(A17,$O$5:$Q$45,3,FALSE)/1000 -> 92933.097 | D17: =C17/B17% -> 54.889314 | E17: =(VLOOKUP(A17,$O$5:$Q$45,3,FALSE)-VLOOKUP(A17,$O$51:$Q$91,3,FALSE))/1000 -> 463.737 | F17: =VLOOKUP(A17,$S$5:$U$45,3,FALSE)/1000 -> 4937.199 | G17: =F17/C17% -> 5.312638 | H17: =(VLOOKUP(A17,$S$5:$U$45,3,FALSE)-VLOOKUP(A17,$S$51:$U$91,3,FALSE))/1000 -> 57.105 | I17: =IF(G17>6,0,0.0013) -> 0.0013 | J17: =IF(G17>6,0,0.03) -> 0.03 | K17: =IF(D17>=100,4,D17*0.04)-I17 -> 2.1942725 | L17: =IF(D17>=100,30,D17*0.3)-J17 -> 16.436794 | M17: =RANK(L17,$L$5:$L$44) -> 5 | O17: 포천 | Q17: 80639234 | S17: 포천 | U17: 5871919
A18: 부천 | B18: 375649 | C18: =VLOOKUP(A18,$O$5:$Q$45,3,FALSE)/1000 -> 187597.43 | D18: =C18/B18% -> 49.939553 | E18: =(VLOOKUP(A18,$O$5:$Q$45,3,FALSE)-VLOOKUP(A18,$O$51:$Q$91,3,FALSE))/1000 -> 975.903 | F18: =VLOOKUP(A18,$S$5:$U$45,3,FALSE)/1000 -> 9565.486 | G18: =F18/C18% -> 5.098943 | H18: =(VLOOKUP(A18,$S$5:$U$45,3,FALSE)-VLOOKUP(A18,$S$51:$U$91,3,FALSE))/1000 -> 91.548 | I18: =IF(G18>6,0,0.0013) -> 0.0013 | J18: =IF(G18>6,0,0.03) -> 0.03 | K18: =IF(D18>=100,4,D18*0.04)-I18 -> 1.9962821 | L18: =IF(D18>=100,30,D18*0.3)-J18 -> 14.951866 | M18: =RANK(L18,$L$5:$L$44) -> 30 | O18: 이천 | Q18: 64331937 | S18: 이천 | U18: 3478777
A19: 안산 | B19: 492000 | C19: =VLOOKUP(A19,$O$5:$Q$45,3,FALSE)/1000 -> 284854.93 | D19: =C19/B19% -> 57.897343 | E19: =(VLOOKUP(A19,$O$5:$Q$45,3,FALSE)-VLOOKUP(A19,$O$51:$Q$91,3,FALSE))/1000 -> 1700.016 | F19: =VLOOKUP(A19,$S$5:$U$45,3,FALSE)/1000 -> 9483.756 | G19: =F19/C19% -> 3.3293284 | H19: =(VLOOKUP(A19,$S$5:$U$45,3,FALSE)-VLOOKUP(A19,$S$51:$U$91,3,FALSE))/1000 -> 78.318 | I19: =IF(G19>6,0,0.0013) -> 0.0013 | J19: =IF(G19>6,0,0.03) -> 0.03 | K19: =IF(D19>=100,4,D19*0.04)-I19 -> 2.3145937 | L19: =IF(D19>=100,30,D19*0.3)-J19 -> 17.339203 | M19: =RANK(L19,$L$5:$L$44) -> 4 | O19: 의정부 | Q19: 123961905 | S19: 의정부 | U19: 6035205
A20: 고양일산 | B20: 210662 | C20: =VLOOKUP(A20,$O$5:$Q$45,3,FALSE)/1000 -> 103312.95 | D20: =C20/B20% -> 49.042045 | E20: =(VLOOKUP(A20,$O$5:$Q$45,3,FALSE)-VLOOKUP(A20,$O$51:$Q$91,3,FALSE))/1000 -> 515.589 | F20: =VLOOKUP(A20,$S$5:$U$45,3,FALSE)/1000 -> 5197.802 | G20: =F20/C20% -> 5.0311233 | H20: =(VLOOKUP(A20,$S$5:$U$45,3,FALSE)-VLOOKUP(A20,$S$51:$U$91,3,FALSE))/1000 -> 61.163 | I20: =IF(G20>6,0,0.0013) -> 0.0013 | J20: =IF(G20>6,0,0.03) -> 0.03 | K20: =IF(D20>=100,4,D20*0.04)-I20 -> 1.9603818 | L20: =IF(D20>=100,30,D20*0.3)-J20 -> 14.682614 | M20: =RANK(L20,$L$5:$L$44) -> 36 | O20: 용인 | Q20: 109722075 | S20: 용인 | U20: 6792629
... A29: 파주 | B29: 211366 | C29: =VLOOKUP(A29,$O$5:$Q$45,3,FALSE)/1000 -> 107865.37 | D29: =C29/B29% -> 51.032508 | E29: =(VLOOKUP(A29,$O$5:$Q$45,3,FALSE)-VLOOKUP(A29,$O$51:$Q$91,3,FALSE))/1000 -> 548.684 | F29: =VLOOKUP(A29,$S$5:$U$45,3,FALSE)/1000 -> 5764.119 | G29: =F29/C29% -> 5.3438087 | H29: =(VLOOKUP(A29,$S$5:$U$45,3,FALSE)-VLOOKUP(A29,$S$51:$U$91,3,FALSE))/1000 -> 62.671 | I29: =IF(G29>6,0,0.0013) -> 0.0013 | J29: =IF(G29>6,0,0.03) -> 0.03 | K29: =IF(D29>=100,4,D29*0.04)-I29 -> 2.0400003 | L29: =IF(D29>=100,30,D29*0.3)-J29 -> 15.279752 | M29: =RANK(L29,$L$5:$L$44) -> 17 | O29: 광명 | Q29: 88721325 | S29: 광명 | U29: 3320789
A30: 김포 | B30: 183175 | C30: =VLOOKUP(A30,$O$5:$Q$45,3,FALSE)/1000 -> 94438.85 | D30: =C30/B30% -> 51.556626 | E30: =(VLOOKUP(A30,$O$5:$Q$45,3,FALSE)-VLOOKUP(A30,$O$51:$Q$91,3,FALSE))/1000 -> 476.901 | F30: =VLOOKUP(A30,$S$5:$U$45,3,FALSE)/1000 -> 4685.473 | G30: =F30/C30% -> 4.9613829 | H30: =(VLOOKUP(A30,$S$5:$U$45,3,FALSE)-VLOOKUP(A30,$S$51:$U$91,3,FALSE))/1000 -> 29.665 | I30: =IF(G30>6,0,0.0013) -> 0.0013 | J30: =IF(G30>6,0,0.03) -> 0.03 | K30: =IF(D30>=100,4,D30*0.04)-I30 -> 2.060965 | L30: =IF(D30>=100,30,D30*0.3)-J30 -> 15.436988 | M30: =RANK(L30,$L$5:$L$44) -> 15 | O30: 남인천 | Q30: 133466489 | R30: =Q30+Q34 -> 237153944 | S30: 남인천 | U30: 7490703 | V30: =U30+U34 -> 14054757
A31: 이천 | B31: 123179 | C31: =VLOOKUP(A31,$O$5:$Q$45,3,FALSE)/1000 -> 64331.937 | D31: =C31/B31% -> 52.226384 | E31: =(VLOOKUP(A31,$O$5:$Q$45,3,FALSE)-VLOOKUP(A31,$O$51:$Q$91,3,FALSE))/1000 -> 339.391 | F31: =VLOOKUP(A31,$S$5:$U$45,3,FALSE)/1000 -> 3478.777 | G31: =F31/C31% -> 5.4075428 | H31: =(VLOOKUP(A31,$S$5:$U$45,3,FALSE)-VLOOKUP(A31,$S$51:$U$91,3,FALSE))/1000 -> 22.864 | I31: =IF(G31>6,0,0.0013) -> 0.0013 | J31: =IF(G31>6,0,0.03) -> 0.03 | K31: =IF(D31>=100,4,D31*0.04)-I31 -> 2.0877553 | L31: =IF(D31>=100,30,D31*0.3)-J31 -> 15.637915 | M31: =RANK(L31,$L$5:$L$44) -> 12 | O31: 안산 | Q31: 284854927 | S31: 안산 | U31: 9483756
A32: 안성 | B32: 129433 | C32: =VLOOKUP(A32,$O$5:$Q$45,3,FALSE)/1000 -> 65067.981 | D32: =C32/B32% -> 50.271554 | E32: =(VLOOKUP(A32,$O$5:$Q$45,3,FALSE)-VLOOKUP(A32,$O$51:$Q$91,3,FALSE))/1000 -> 306.025 | F32: =VLOOKUP(A32,$S$5:$U$45,3,FALSE)/1000 -> 4205.331 | G32: =F32/C32% -> 6.4629806 | H32: =(VLOOKUP(A32,$S$5:$U$45,3,FALSE)-VLOOKUP(A32,$S$51:$U$91,3,FALSE))/1000 -> 31.118 | I32: =IF(G32>6,0,0.0013) -> 0 | J32: =IF(G32>6,0,0.03) -> 0 | K32: =IF(D32>=100,4,D32*0.04)-I32 -> 2.0108622 | L32: =IF(D32>=100,30,D32*0.3)-J32 -> 15.081466 | M32: =RANK(L32,$L$5:$L$44) -> 22 | O32: 서수원 | Q32: 58357309 | S32: 서수원 | U32: 3249745
A33: 포천 | B33: 161446 | C33: =VLOOKUP(A33,$O$5:$Q$45,3,FALSE)/1000 -> 80639.234 | D33: =C33/B33% -> 49.948115 | E33: =(VLOOKUP(A33,$O$5:$Q$45,3,FALSE)-VLOOKUP(A33,$O$51:$Q$91,3,FALSE))/1000 -> 399.212 | F33: =VLOOKUP(A33,$S$5:$U$45,3,FALSE)/1000 -> 5871.919 | G33: =F33/C33% -> 7.2817148 | H33: =(VLOOKUP(A33,$S$5:$U$45,3,FALSE)-VLOOKUP(A33,$S$51:$U$91,3,FALSE))/1000 -> 43.366 | I33: =IF(G33>6,0,0.0013) -> 0 | J33: =IF(G33>6,0,0.03) -> 0 | K33: =IF(D33>=100,4,D33*0.04)-I33 -> 1.9979246 | L33: =IF(D33>=100,30,D33*0.3)-J33 -> 14.984435 | M33: =RANK(L33,$L$5:$L$44) -> 29 | O33: 동수원 | Q33: 102677700 | S33: 동수원 | U33: 6039152
A34: 강화 | B34: 63300 | C34: =VLOOKUP(A34,$O$5:$Q$45,3,FALSE)/1000 -> 34605.104 | D34: =C34/B34% -> 54.668411 | E34: =(VLOOKUP(A34,$O$5:$Q$45,3,FALSE)-VLOOKUP(A34,$O$51:$Q$91,3,FALSE))/1000 -> 188.496 | F34: =VLOOKUP(A34,$S$5:$U$45,3,FALSE)/1000 -> 1191.908 | G34: =F34/C34% -> 3.4443127 | H34: =(VLOOKUP(A34,$S$5:$U$45,3,FALSE)-VLOOKUP(A34,$S$51:$U$91,3,FALSE))/1000 -> 13.485 | I34: =IF(G34>6,0,0.0013) -> 0.0013 | J34: =IF(G34>6,0,0.03) -> 0.03 | K34: =IF(D34>=100,4,D34*0.04)-I34 -> 2.1854364 | L34: =IF(D34>=100,30,D34*0.3)-J34 -> 16.370523 | M34: =RANK(L34,$L$5:$L$44) -> 6 | O34: 인천남동 | Q34: 103687455 | S34: 인천남동 | U34: 6564054
A35: 가평 | B35: 90004 | C35: =VLOOKUP(A35,$O$5:$Q$45,3,FALSE)/1000 -> 45584.496 | D35: =C35/B35% -> 50.647189 | E35: =(VLOOKUP(A35,$O$5:$Q$45,3,FALSE)-VLOOKUP(A35,$O$51:$Q$91,3,FALSE))/1000 -> 223.843 | F35: =VLOOKUP(A35,$S$5:$U$45,3,FALSE)/1000 -> 2116.497 | G35: =F35/C35% -> 4.6430194 | H35: =(VLOOKUP(A35,$S$5:$U$45,3,FALSE)-VLOOKUP(A35,$S$51:$U$91,3,FALSE))/1000 -> 9.631 | I35: =IF(G35>6,0,0.0013) -> 0.0013 | J35: =IF(G35>6,0,0.03) -> 0.03 | K35: =IF(D35>=100,4,D35*0.04)-I35 -> 2.0245876 | L35: =IF(D35>=100,30,D35*0.3)-J35 -> 15.164157 | M35: =RANK(L35,$L$5:$L$44) -> 20 | O35: 군포 | Q35: 73619759 | S35: 군포 | U35: 4841055
A36: 양평 | B36: 101103 | C36: =VLOOKUP(A36,$O$5:$Q$45,3,FALSE)/1000 -> 54237.674 | D36: =C36/B36% -> 53.645959 | E36: =(VLOOKUP(A36,$O$5:$Q$45,3,FALSE)-VLOOKUP(A36,$O$51:$Q$91,3,FALSE))/1000 -> 286.292 | F36: =VLOOKUP(A36,$S$5:$U$45,3,FALSE)/1000 -> 2521.448 | G36: =F36/C36% -> 4.6488867 | H36: =(VLOOKUP(A36,$S$5:$U$45,3,FALSE)-VLOOKUP(A36,$S$51:$U$91,3,FALSE))/1000 -> 28.095 | I36: =IF(G36>6,0,0.0013) -> 0.0013 | J36: =IF(G36>6,0,0.03) -> 0.03 | K36: =IF(D36>=100,4,D36*0.04)-I36 -> 2.1445384 | L36: =IF(D36>=100,30,D36*0.3)-J36 -> 16.063788 | M36: =RANK(L36,$L$5:$L$44) -> 8 | O36: 안양 | Q36: 105648695 | S36: 안양 | U36: 4974091
A37: 경기광주 | B37: 128698 | C37: =VLOOKUP(A37,$O$5:$Q$45,3,FALSE)/1000 -> 67315.866 | D37: =C37/B37% -> 52.305293 | E37: =(VLOOKUP(A37,$O$5:$Q$45,3,FALSE)-VLOOKUP(A37,$O$51:$Q$91,3,FALSE))/1000 -> 355.572 | F37: =VLOOKUP(A37,$S$5:$U$45,3,FALSE)/1000 -> 3372.108 | G37: =F37/C37% -> 5.0093807 | H37: =(VLOOKUP(A37,$S$5:$U$45,3,FALSE)-VLOOKUP(A37,$S$51:$U$91,3,FALSE))/1000 -> 18.365 | I37: =IF(G37>6,0,0.0013) -> 0.0013 | J37: =IF(G37>6,0,0.03) -> 0.03 | K37: =IF(D37>=100,4,D37*0.04)-I37 -> 2.0909117 | L37: =IF(D37>=100,30,D37*0.3)-J37 -> 15.661588 | M37: =RANK(L37,$L$5:$L$44) -> 10 | O37: 성남분당 | Q37: 92933097 | S37: 성남분당 | U37: 4937199
A38: 여주 | B38: 89892 | C38: =VLOOKUP(A38,$O$5:$Q$45,3,FALSE)/1000 -> 43486.516 | D38: =C38/B38% -> 48.376403 | E38: =(VLOOKUP(A38,$O$5:$Q$45,3,FALSE)-VLOOKUP(A38,$O$51:$Q$91,3,FALSE))/1000 -> 184.182 | F38: =VLOOKUP(A38,$S$5:$U$45,3,FALSE)/1000 -> 1482.703 | G38: =F38/C38% -> 3.4095695 | H38: =(VLOOKUP(A38,$S$5:$U$45,3,FALSE)-VLOOKUP(A38,$S$51:$U$91,3,FALSE))/1000 -> 5.396 | I38: =IF(G38>6,0,0.0013) -> 0.0013 | J38: =IF(G38>6,0,0.03) -> 0.03 | K38: =IF(D38>=100,4,D38*0.04)-I38 -> 1.9337561 | L38: =IF(D38>=100,30,D38*0.3)-J38 -> 14.482921 | M38: =RANK(L38,$L$5:$L$44) -> 40 | O38: 고양일산 | Q38: 103312953 | S38: 고양일산 | U38: 5197802
A39: 동두천 | B39: 107227 | C39: =VLOOKUP(A39,$O$5:$Q$45,3,FALSE)/1000 -> 53094.129 | D39: =C39/B39% -> 49.515634 | E39: =(VLOOKUP(A39,$O$5:$Q$45,3,FALSE)-VLOOKUP(A39,$O$51:$Q$91,3,FALSE))/1000 -> 301.161 | F39: =VLOOKUP(A39,$S$5:$U$45,3,FALSE)/1000 -> 2785.282 | G39: =F39/C39% -> 5.2459322 | H39: =(VLOOKUP(A39,$S$5:$U$45,3,FALSE)-VLOOKUP(A39,$S$51:$U$91,3,FALSE))/1000 -> 22.717 | I39: =IF(G39>6,0,0.0013) -> 0.0013 | J39: =IF(G39>6,0,0.03) -> 0.03 | K39: =IF(D39>=100,4,D39*0.04)-I39 -> 1.9793254 | L39: =IF(D39>=100,30,D39*0.3)-J39 -> 14.82469 | M39: =RANK(L39,$L$5:$L$44) -> 34 | O39: 서인천 | Q39: 124139983 | S39: 서인천 | U39: 6538645
A40: 연천 | B40: 67040 | C40: =VLOOKUP(A40,$O$5:$Q$45,3,FALSE)/1000 -> 35047.117 | D40: =C40/B40% -> 52.277919 | E40: =(VLOOKUP(A40,$O$5:$Q$45,3,FALSE)-VLOOKUP(A40,$O$51:$Q$91,3,FALSE))/1000 -> 141.425 | F40: =VLOOKUP(A40,$S$5:$U$45,3,FALSE)/1000 -> 1564.886 | G40: =F40/C40% -> 4.465092 | H40: =(VLOOKUP(A40,$S$5:$U$45,3,FALSE)-VLOOKUP(A40,$S$51:$U$91,3,FALSE))/1000 -> 11.234 | I40: =IF(G40>6,0,0.0013) -> 0.0013 | J40: =IF(G40>6,0,0.03) -> 0.03 | K40: =IF(D40>=100,4,D40*0.04)-I40 -> 2.0898168 | L40: =IF(D40>=100,30,D40*0.3)-J40 -> 15.653376 | M40: =RANK(L40,$L$5:$L$44) -> 11 | O40: 부천 | Q40: 187597431 | S40: 부천 | U40: 9565486
A41: 백령 | B41: 36364 | C41: =VLOOKUP(A41,$O$5:$Q$45,3,FALSE)/1000 -> 21143.591 | D41: =C41/B41% -> 58.144294 | E41: =(VLOOKUP(A41,$O$5:$Q$45,3,FALSE)-VLOOKUP(A41,$O$51:$Q$91,3,FALSE))/1000 -> 104.717 | F41: =VLOOKUP(A41,$S$5:$U$45,3,FALSE)/1000 -> 1093.918 | G41: =F41/C41% -> 5.1737569 | H41: =(VLOOKUP(A41,$S$5:$U$45,3,FALSE)-VLOOKUP(A41,$S$51:$U$91,3,FALSE))/1000 -> 10.867 | I41: =IF(G41>6,0,0.0013) -> 0.0013 | J41: =IF(G41>6,0,0.03) -> 0.03 | K41: =IF(D41>=100,4,D41*0.04)-I41 -> 2.3244718 | L41: =IF(D41>=100,30,D41*0.3)-J41 -> 17.413288 | M41: =RANK(L41,$L$5:$L$44) -> 3 | O41: 고양덕양 | Q41: 97037941 | S41: 고양덕양 | U41: 5575967
A42: 오산 | B42: 103189 | C42: =VLOOKUP(A42,$O$5:$Q$45,3,FALSE)/1000 -> 51777.803 | D42: =C42/B42% -> 50.177638 | E42: =(VLOOKUP(A42,$O$5:$Q$45,3,FALSE)-VLOOKUP(A42,$O$51:$Q$91,3,FALSE))/1000 -> 303.226 | F42: =VLOOKUP(A42,$S$5:$U$45,3,FALSE)/1000 -> 2958.707 | G42: =F42/C42% -> 5.7142382 | H42: =(VLOOKUP(A42,$S$5:$U$45,3,FALSE)-VLOOKUP(A42,$S$51:$U$91,3,FALSE))/1000 -> 21.281 | I42: =IF(G42>6,0,0.0013) -> 0.0013 | J42: =IF(G42>6,0,0.03) -> 0.03 | K42: =IF(D42>=100,4,D42*0.04)-I42 -> 2.0058055 | L42: =IF(D42>=100,30,D42*0.3)-J42 -> 15.023291 | M42: =RANK(L42,$L$5:$L$44) -> 25 | O42: 인천계양 | Q42: 82829685 | S42: 인천계양 | U42: 4453047
... A44: 구리 | B44: 99260 | C44: =VLOOKUP(A44,$O$5:$Q$45,3,FALSE)/1000 -> 49983.45 | D44: =C44/B44% -> 50.356085 | E44: =(VLOOKUP(A44,$O$5:$Q$45,3,FALSE)-VLOOKUP(A44,$O$51:$Q$91,3,FALSE))/1000 -> 305.803 | F44: =VLOOKUP(A44,$S$5:$U$45,3,FALSE)/1000 -> 2791.38 | G44: =F44/C44% -> 5.5846085 | H44: =(VLOOKUP(A44,$S$5:$U$45,3,FALSE)-VLOOKUP(A44,$S$51:$U$91,3,FALSE))/1000 -> 24.938 | I44: =IF(G44>6,0,0.0013) -> 0.0013 | J44: =IF(G44>6,0,0.03) -> 0.03 | K44: =IF(D44>=100,4,D44*0.04)-I44 -> 2.0129434 | L44: =IF(D44>=100,30,D44*0.3)-J44 -> 15.076826 | M44: =RANK(L44,$L$5:$L$44) -> 23 | O44: 남양주 | Q44: 95123116 | S44: 남양주 | U44: 4058969
A45: total | B45: =SUM(B5:B44) -> 7775000 | C45: =SUM(C5:C44) -> 4063122.7 | D45: =C45/B45% -> 52.258813 | E45: =SUM(E5:E44) -> 21464.181 | F45: =SUM(F5:F44) -> 203630.45 | G45: =F45/C45% -> 5.0116736 | H45: =SUM(H5:H44) -> 1938.587 | O45: 화성 | Q45: 144771528 | S45: 화성 | U45: 7458947
Q46: 4063122737 | U46: 203630450
Q47: 4063122737 | U47: 203630450
O48: 전일 | S48: 전일
O49: 전체 | S49: 신규세입
P50: 메트릭 | Q50: 가맹점수수료 | T50: 메트릭 | U50: 가맹점수수료(신규카드,일)
O51: 평택 | Q51: 187601530 | S51: 평택 | U51: 9103549
O52: 인천 | Q52: 223854283 | S52: 인천 | U52: 7661018
O53: 부평 | Q53: 146114576 | S53: 부평 | U53: 9066982
O54: 오산 | Q54: 51474577 | S54: 오산 | U54: 2937426
O55: 안성 | Q55: 64761956 | S55: 안성 | U55: 4174213
O56: 가평 | Q56: 45360653 | S56: 가평 | U56: 2106866
O57: 파주 | Q57: 107316686 | S57: 파주 | U57: 5701448
O58: 강화 | Q58: 34416608 | S58: 강화 | U58: 1178423
O59: 양평 | Q59: 53951382 | S59: 양평 | U59: 2493353
O60: 경기광주 | Q60: 66960294 | S60: 경기광주 | U60: 3353743
O61: 여주 | Q61: 43302334 | S61: 여주 | U61: 1477307
O62: 김포 | Q62: 93961949 | S62: 김포 | U62: 4655808
... O75: 광명 | Q75: 88273845 | S75: 광명 | U75: 3296462
O76: 남인천 | Q76: 132806095 | R76: =Q76+Q80 -> 235813594 | S76: 남인천 | U76: 7411104 | V76: =U76+U80 -> 13857021
O77: 안산 | Q77: 283154911 | S77: 안산 | U77: 9405438
O78: 서수원 | Q78: 58094498 | S78: 서수원 | U78: 3218042
O79: 동수원 | Q79: 102038616 | S79: 동수원 | U79: 5982513
O80: 인천남동 | Q80: 103007499 | S80: 인천남동 | U80: 6445917
O81: 군포 | Q81: 73227352 | S81: 군포 | U81: 4782105
O82: 안양 | Q82: 105103375 | S82: 안양 | U82: 4927587
O83: 성남분당 | Q83: 92469360 | S83: 성남분당 | U83: 4880094
O84: 고양일산 | Q84: 102797364 | S84: 고양일산 | U84: 5136639
O85: 서인천 | Q85: 123543561 | S85: 서인천 | U85: 6464544
O86: 부천 | Q86: 186621528 | S86: 부천 | U86: 9473938
O87: 고양덕양 | Q87: 96494603 | S87: 고양덕양 | U87: 5492331
O88: 인천계양 | Q88: 82385919 | S88: 인천계양 | U88: 4421421
... O91: 화성 | Q91: 144064958 | S91: 화성 | U91: 7371409
Q92: 4041658556 | U92: 201691863
Q93: 4041658556

Sheet 스마트금융
A1: 2015년도 예금사업 실적 현황(스마트금융)
A2: =[1]종합점수!A2 -> 42216 | L2: (단위: 명, %, 점)
A3: 국명 | B3: 가입자수 | F3: 우량가입자 | I3: 감점 | K3: 경영평가(4) | L3: 예사평(30) | M3: 순위 | O3: 1 | P3: 2 | Q3: 3 | R3: 4 | S3: 5 | T3: 6 | U3: 7 | V3: 8 | W3: 9 | X3: 10
B4: 목표 | C4: 실적 | D4: 달성률 | E4: 당일실적 | F4: 우량가입자 | G4: 우량이용자 | H4: 비율(%) | I4: 경영평가 | J4: 예사평 | O4: 당일
A5: 인천 | B5: 10583 | C5: =VLOOKUP(A5,$O$6:$T$48,3,FALSE) -> 10145 | D5: =C5/B5% -> 95.861287 | E5: =VLOOKUP(A5,$O$6:$T$47,3,FALSE)-VLOOKUP(A5,$O$53:$T$95,3,FALSE) -> 3 | F5: =VLOOKUP(A5,$O$6:$T$48,5,FALSE) -> 1998 | G5: =VLOOKUP(A5,$O$6:$T$48,6,FALSE) -> 1494 | H5: =G5/F5% -> 74.774775 | I5: =IF(H5>=40,0,IF(H5>=37,0.0003,IF(H5>=33,0.0006,IF(H5>=30,0.001,0.0013)))) -> 0 | J5: =IF(H5>=40,0,IF(H5>=37,0.01,IF(H5>=33,0.02,IF(H5>=30,0.03,0.04)))) -> 0 | K5: =IF(D5>=100,4,D5*0.04)-I5 -> 3.8344515 | L5: =IF(D5>=100,30,D5*0.3)-J5 -> 28.758386 | M5: =RANK(L5,$L$5:$L$44) -> 39 | P5: 총가입자수 | Q5: 총약정자수(MAC중복건수제외) | R5: 최근3개월내 실제이용자수 | S5: 우량가입자수 | T5: 우량이용자수
A6: 서인천 | B6: 7626 | C6: =VLOOKUP(A6,$O$6:$T$48,3,FALSE) -> 7349 | D6: =C6/B6% -> 96.367689 | E6: =VLOOKUP(A6,$O$6:$T$47,3,FALSE)-VLOOKUP(A6,$O$53:$T$95,3,FALSE) -> 5 | F6: =VLOOKUP(A6,$O$6:$T$48,5,FALSE) -> 1777 | G6: =VLOOKUP(A6,$O$6:$T$48,6,FALSE) -> 1328 | H6: =G6/F6% -> 74.732696 | I6: =IF(H6>=40,0,IF(H6>=37,0.0003,IF(H6>=33,0.0006,IF(H6>=30,0.001,0.0013)))) -> 0 | J6: =IF(H6>=40,0,IF(H6>=37,0.01,IF(H6>=33,0.02,IF(H6>=30,0.03,0.04)))) -> 0 | K6: =IF(D6>=100,4,D6*0.04)-I6 -> 3.8547076 | L6: =IF(D6>=100,30,D6*0.3)-J6 -> 28.910307 | M6: =RANK(L6,$L$5:$L$44) -> 36 | O6: 평택 | P6: 10356 | Q6: 9936 | R6: 3660 | S6: 2286 | T6: 1718 | U6: 0.75153106
A7: 인천계양 | B7: 6068 | C7: =VLOOKUP(A7,$O$6:$T$48,3,FALSE) -> 5864 | D7: =C7/B7% -> 96.638102 | E7: =VLOOKUP(A7,$O$6:$T$47,3,FALSE)-VLOOKUP(A7,$O$53:$T$95,3,FALSE) -> 3 | F7: =VLOOKUP(A7,$O$6:$T$48,5,FALSE) -> 1186 | G7: =VLOOKUP(A7,$O$6:$T$48,6,FALSE) -> 850 | H7: =G7/F7% -> 71.669477 | I7: =IF(H7>=40,0,IF(H7>=37,0.0003,IF(H7>=33,0.0006,IF(H7>=30,0.001,0.0013)))) -> 0 | J7: =IF(H7>=40,0,IF(H7>=37,0.01,IF(H7>=33,0.02,IF(H7>=30,0.03,0.04)))) -> 0 | K7: =IF(D7>=100,4,D7*0.04)-I7 -> 3.8655241 | L7: =IF(D7>=100,30,D7*0.3)-J7 -> 28.99143 | M7: =RANK(L7,$L$5:$L$44) -> 34 | O7: 인천 | P7: 10524 | Q7: 10145 | R7: 3406 | S7: 1998 | T7: 1494 | U7: 0.74774775
A8: 남인천 | B8: 17231 | C8: =VLOOKUP(A8,$O$31:$X$31,8,FALSE) -> 16819 | D8: =C8/B8% -> 97.608961 | E8: =VLOOKUP(A8,$O$31:$X$31,8,FALSE)-VLOOKUP(A8,$O$78:$X$78,8,FALSE) -> 5 | F8: =VLOOKUP(A8,$O$31:$X$31,9,FALSE) -> 3504 | G8: =VLOOKUP(A8,$O$31:$X$31,10,FALSE) -> 2297 | H8: =G8/F8% -> 65.553653 | I8: =IF(H8>=40,0,IF(H8>=37,0.0003,IF(H8>=33,0.0006,IF(H8>=30,0.001,0.0013)))) -> 0 | J8: =IF(H8>=40,0,IF(H8>=37,0.01,IF(H8>=33,0.02,IF(H8>=30,0.03,0.04)))) -> 0 | K8: =IF(D8>=100,4,D8*0.04)-I8 -> 3.9043584 | L8: =IF(D8>=100,30,D8*0.3)-J8 -> 29.282688 | M8: =RANK(L8,$L$5:$L$44) -> 26 | O8: 부평 | P8: 11066 | Q8: 10632 | R8: 3744 | S8: 2637 | T8: 1895 | U8: 0.71861964
A9: 부평 | B9: 10878 | C9: =VLOOKUP(A9,$O$6:$T$48,3,FALSE) -> 10632 | D9: =C9/B9% -> 97.738555 | E9: =VLOOKUP(A9,$O$6:$T$47,3,FALSE)-VLOOKUP(A9,$O$53:$T$95,3,FALSE) -> 3 | F9: =VLOOKUP(A9,$O$6:$T$48,5,FALSE) -> 2637 | G9: =VLOOKUP(A9,$O$6:$T$48,6,FALSE) -> 1895 | H9: =G9/F9% -> 71.861964 | I9: =IF(H9>=40,0,IF(H9>=37,0.0003,IF(H9>=33,0.0006,IF(H9>=30,0.001,0.0013)))) -> 0 | J9: =IF(H9>=40,0,IF(H9>=37,0.01,IF(H9>=33,0.02,IF(H9>=30,0.03,0.04)))) -> 0 | K9: =IF(D9>=100,4,D9*0.04)-I9 -> 3.9095422 | L9: =IF(D9>=100,30,D9*0.3)-J9 -> 29.321566 | M9: =RANK(L9,$L$5:$L$44) -> 25 | O9: 오산 | P9: 3833 | Q9: 3665 | R9: 1145 | S9: 717 | T9: 535 | U9: 0.74616457
A10: 의정부 | B10: 9262 | C10: =VLOOKUP(A10,$O$6:$T$48,3,FALSE) -> 8995 | D10: =C10/B10% -> 97.117253 | E10: =VLOOKUP(A10,$O$6:$T$47,3,FALSE)-VLOOKUP(A10,$O$53:$T$95,3,FALSE) -> 5 | F10: =VLOOKUP(A10,$O$6:$T$48,5,FALSE) -> 1752 | G10: =VLOOKUP(A10,$O$6:$T$48,6,FALSE) -> 1165 | H10: =G10/F10% -> 66.495434 | I10: =IF(H10>=40,0,IF(H10>=37,0.0003,IF(H10>=33,0.0006,IF(H10>=30,0.001,0.0013)))) -> 0 | J10: =IF(H10>=40,0,IF(H10>=37,0.01,IF(H10>=33,0.02,IF(H10>=30,0.03,0.04)))) -> 0 | K10: =IF(D10>=100,4,D10*0.04)-I10 -> 3.8846901 | L10: =IF(D10>=100,30,D10*0.3)-J10 -> 29.135176 | M10: =RANK(L10,$L$5:$L$44) -> 31 | O10: 안성 | P10: 4653 | Q10: 4476 | R10: 1477 | S10: 1135 | T10: 790 | U10: 0.69603524
A11: 수원 | B11: 10330 | C11: =VLOOKUP(A11,$O$6:$T$48,3,FALSE) -> 10222 | D11: =C11/B11% -> 98.954501 | E11: =VLOOKUP(A11,$O$6:$T$47,3,FALSE)-VLOOKUP(A11,$O$53:$T$95,3,FALSE) -> 0 | F11: =VLOOKUP(A11,$O$6:$T$48,5,FALSE) -> 2264 | G11: =VLOOKUP(A11,$O$6:$T$48,6,FALSE) -> 1404 | H11: =G11/F11% -> 62.014134 | I11: =IF(H11>=40,0,IF(H11>=37,0.0003,IF(H11>=33,0.0006,IF(H11>=30,0.001,0.0013)))) -> 0 | J11: =IF(H11>=40,0,IF(H11>=37,0.01,IF(H11>=33,0.02,IF(H11>=30,0.03,0.04)))) -> 0 | K11: =IF(D11>=100,4,D11*0.04)-I11 -> 3.9581801 | L11: =IF(D11>=100,30,D11*0.3)-J11 -> 29.68635 | M11: =RANK(L11,$L$5:$L$44) -> 12 | O11: 가평 | P11: 2627 | Q11: 2538 | R11: 770 | S11: 565 | T11: 362 | U11: 0.64070796
A12: 동수원 | B12: 9146 | C12: =VLOOKUP(A12,$O$6:$T$48,3,FALSE) -> 9010 | D12: =C12/B12% -> 98.513011 | E12: =VLOOKUP(A12,$O$6:$T$47,3,FALSE)-VLOOKUP(A12,$O$53:$T$95,3,FALSE) -> 8 | F12: =VLOOKUP(A12,$O$6:$T$48,5,FALSE) -> 2042 | G12: =VLOOKUP(A12,$O$6:$T$48,6,FALSE) -> 1391 | H12: =G12/F12% -> 68.119491 | I12: =IF(H12>=40,0,IF(H12>=37,0.0003,IF(H12>=33,0.0006,IF(H12>=30,0.001,0.0013)))) -> 0 | J12: =IF(H12>=40,0,IF(H12>=37,0.01,IF(H12>=33,0.02,IF(H12>=30,0.03,0.04)))) -> 0 | K12: =IF(D12>=100,4,D12*0.04)-I12 -> 3.9405204 | L12: =IF(D12>=100,30,D12*0.3)-J12 -> 29.553903 | M12: =RANK(L12,$L$5:$L$44) -> 17 | O12: 파주 | P12: 6833 | Q12: 6549 | R12: 2299 | S12: 1639 | T12: 1198 | U12: 0.7309335
A13: 서수원 | B13: 3319 | C13: =VLOOKUP(A13,$O$6:$T$48,3,FALSE) -> 3226 | D13: =C13/B13% -> 97.197951 | E13: =VLOOKUP(A13,$O$6:$T$47,3,FALSE)-VLOOKUP(A13,$O$53:$T$95,3,FALSE) -> 2 | F13: =VLOOKUP(A13,$O$6:$T$48,5,FALSE) -> 958 | G13: =VLOOKUP(A13,$O$6:$T$48,6,FALSE) -> 664 | H13: =G13/F13% -> 69.311065 | I13: =IF(H13>=40,0,IF(H13>=37,0.0003,IF(H13>=33,0.0006,IF(H13>=30,0.001,0.0013)))) -> 0 | J13: =IF(H13>=40,0,IF(H13>=37,0.01,IF(H13>=33,0.02,IF(H13>=30,0.03,0.04)))) -> 0 | K13: =IF(D13>=100,4,D13*0.04)-I13 -> 3.887918 | L13: =IF(D13>=100,30,D13*0.3)-J13 -> 29.159385 | M13: =RANK(L13,$L$5:$L$44) -> 29 | O13: 강화 | P13: 2672 | Q13: 2601 | R13: 661 | S13: 491 | T13: 311 | U13: 0.63340122
A14: 군포 | B14: 6589 | C14: =VLOOKUP(A14,$O$6:$T$48,3,FALSE) -> 6402 | D14: =C14/B14% -> 97.161937 | E14: =VLOOKUP(A14,$O$6:$T$47,3,FALSE)-VLOOKUP(A14,$O$53:$T$95,3,FALSE) -> 3 | F14: =VLOOKUP(A14,$O$6:$T$48,5,FALSE) -> 1407 | G14: =VLOOKUP(A14,$O$6:$T$48,6,FALSE) -> 1022 | H14: =G14/F14% -> 72.636816 | I14: =IF(H14>=40,0,IF(H14>=37,0.0003,IF(H14>=33,0.0006,IF(H14>=30,0.001,0.0013)))) -> 0 | J14: =IF(H14>=40,0,IF(H14>=37,0.01,IF(H14>=33,0.02,IF(H14>=30,0.03,0.04)))) -> 0 | K14: =IF(D14>=100,4,D14*0.04)-I14 -> 3.8864775 | L14: =IF(D14>=100,30,D14*0.3)-J14 -> 29.148581 | M14: =RANK(L14,$L$5:$L$44) -> 30 | O14: 양평 | P14: 3597 | Q14: 3460 | R14: 1080 | S14: 811 | T14: 514 | U14: 0.63378545
A15: 안양 | B15: 9960 | C15: =VLOOKUP(A15,$O$6:$T$48,3,FALSE) -> 9763 | D15: =C15/B15% -> 98.022088 | E15: =VLOOKUP(A15,$O$6:$T$47,3,FALSE)-VLOOKUP(A15,$O$53:$T$95,3,FALSE) -> 3 | F15: =VLOOKUP(A15,$O$6:$T$48,5,FALSE) -> 2257 | G15: =VLOOKUP(A15,$O$6:$T$48,6,FALSE) -> 1541 | H15: =G15/F15% -> 68.276473 | I15: =IF(H15>=40,0,IF(H15>=37,0.0003,IF(H15>=33,0.0006,IF(H15>=30,0.001,0.0013)))) -> 0 | J15: =IF(H15>=40,0,IF(H15>=37,0.01,IF(H15>=33,0.02,IF(H15>=30,0.03,0.04)))) -> 0 | K15: =IF(D15>=100,4,D15*0.04)-I15 -> 3.9208835 | L15: =IF(D15>=100,30,D15*0.3)-J15 -> 29.406627 | M15: =RANK(L15,$L$5:$L$44) -> 23 | O15: 경기광주 | P15: 4121 | Q15: 3980 | R15: 1310 | S15: 882 | T15: 583 | U15: 0.66099773
A16: 성남 | B16: 10603 | C16: =VLOOKUP(A16,$O$6:$T$48,3,FALSE) -> 10492 | D16: =C16/B16% -> 98.953126 | E16: =VLOOKUP(A16,$O$6:$T$47,3,FALSE)-VLOOKUP(A16,$O$53:$T$95,3,FALSE) -> 2 | F16: =VLOOKUP(A16,$O$6:$T$48,5,FALSE) -> 2313 | G16: =VLOOKUP(A16,$O$6:$T$48,6,FALSE) -> 1376 | H16: =G16/F16% -> 59.48984 | I16: =IF(H16>=40,0,IF(H16>=37,0.0003,IF(H16>=33,0.0006,IF(H16>=30,0.001,0.0013)))) -> 0 | J16: =IF(H16>=40,0,IF(H16>=37,0.01,IF(H16>=33,0.02,IF(H16>=30,0.03,0.04)))) -> 0 | K16: =IF(D16>=100,4,D16*0.04)-I16 -> 3.9581251 | L16: =IF(D16>=100,30,D16*0.3)-J16 -> 29.685938 | M16: =RANK(L16,$L$5:$L$44) -> 13 | O16: 여주 | P16: 3184 | Q16: 3074 | R16: 913 | S16: 746 | T16: 436 | U16: 0.5844504
A17: 성남분당 | B17: 7629 | C17: =VLOOKUP(A17,$O$6:$T$48,3,FALSE) -> 7392 | D17: =C17/B17% -> 96.893433 | E17: =VLOOKUP(A17,$O$6:$T$47,3,FALSE)-VLOOKUP(A17,$O$53:$T$95,3,FALSE) -> 4 | F17: =VLOOKUP(A17,$O$6:$T$48,5,FALSE) -> 1769 | G17: =VLOOKUP(A17,$O$6:$T$48,6,FALSE) -> 1202 | H17: =G17/F17% -> 67.947993 | I17: =IF(H17>=40,0,IF(H17>=37,0.0003,IF(H17>=33,0.0006,IF(H17>=30,0.001,0.0013)))) -> 0 | J17: =IF(H17>=40,0,IF(H17>=37,0.01,IF(H17>=33,0.02,IF(H17>=30,0.03,0.04)))) -> 0 | K17: =IF(D17>=100,4,D17*0.04)-I17 -> 3.8757373 | L17: =IF(D17>=100,30,D17*0.3)-J17 -> 29.06803 | M17: =RANK(L17,$L$5:$L$44) -> 33 | O17: 김포 | P17: 5718 | Q17: 5543 | R17: 1942 | S17: 1433 | T17: 947 | U17: 0.66085136
A18: 부천 | B18: 15679 | C18: =VLOOKUP(A18,$O$6:$T$48,3,FALSE) -> 15720 | D18: =C18/B18% -> 100.2615 | E18: =VLOOKUP(A18,$O$6:$T$47,3,FALSE)-VLOOKUP(A18,$O$53:$T$95,3,FALSE) -> 9 | F18: =VLOOKUP(A18,$O$6:$T$48,5,FALSE) -> 3586 | G18: =VLOOKUP(A18,$O$6:$T$48,6,FALSE) -> 2597 | H18: =G18/F18% -> 72.420524 | I18: =IF(H18>=40,0,IF(H18>=37,0.0003,IF(H18>=33,0.0006,IF(H18>=30,0.001,0.0013)))) -> 0 | J18: =IF(H18>=40,0,IF(H18>=37,0.01,IF(H18>=33,0.02,IF(H18>=30,0.03,0.04)))) -> 0 | K18: =IF(D18>=100,4,D18*0.04)-I18 -> 4 | L18: =IF(D18>=100,30,D18*0.3)-J18 -> 30 | M18: =RANK(L18,$L$5:$L$44) -> 1 | O18: 포천 | P18: 4499 | Q18: 4348 | R18: 1368 | S18: 938 | T18: 593 | U18: 0.63219616
A19: 안산 | B19: 14498 | C19: =VLOOKUP(A19,$O$6:$T$48,3,FALSE) -> 13966 | D19: =C19/B19% -> 96.330528 | E19: =VLOOKUP(A19,$O$6:$T$47,3,FALSE)-VLOOKUP(A19,$O$53:$T$95,3,FALSE) -> 14 | F19: =VLOOKUP(A19,$O$6:$T$48,5,FALSE) -> 2801 | G19: =VLOOKUP(A19,$O$6:$T$48,6,FALSE) -> 2011 | H19: =G19/F19% -> 71.795787 | I19: =IF(H19>=40,0,IF(H19>=37,0.0003,IF(H19>=33,0.0006,IF(H19>=30,0.001,0.0013)))) -> 0 | J19: =IF(H19>=40,0,IF(H19>=37,0.01,IF(H19>=33,0.02,IF(H19>=30,0.03,0.04)))) -> 0 | K19: =IF(D19>=100,4,D19*0.04)-I19 -> 3.8532211 | L19: =IF(D19>=100,30,D19*0.3)-J19 -> 28.899159 | M19: =RANK(L19,$L$5:$L$44) -> 38 | O19: 이천 | P19: 3940 | Q19: 3806 | R19: 1122 | S19: 758 | T19: 507 | U19: 0.66886544
A20: 고양일산 | B20: 8647 | C20: =VLOOKUP(A20,$O$6:$T$48,3,FALSE) -> 8421 | D20: =C20/B20% -> 97.386377 | E20: =VLOOKUP(A20,$O$6:$T$47,3,FALSE)-VLOOKUP(A20,$O$53:$T$95,3,FALSE) -> 15 | F20: =VLOOKUP(A20,$O$6:$T$48,5,FALSE) -> 1666 | G20: =VLOOKUP(A20,$O$6:$T$48,6,FALSE) -> 1303 | H20: =G20/F20% -> 78.211285 | I20: =IF(H20>=40,0,IF(H20>=37,0.0003,IF(H20>=33,0.0006,IF(H20>=30,0.001,0.0013)))) -> 0 | J20: =IF(H20>=40,0,IF(H20>=37,0.01,IF(H20>=33,0.02,IF(H20>=30,0.03,0.04)))) -> 0 | K20: =IF(D20>=100,4,D20*0.04)-I20 -> 3.8954551 | L20: =IF(D20>=100,30,D20*0.3)-J20 -> 29.215913 | M20: =RANK(L20,$L$5:$L$44) -> 27 | O20: 의정부 | P20: 9323 | Q20: 8995 | R20: 2815 | S20: 1752 | T20: 1165 | U20: 0.66495434
... A29: 파주 | B29: 6592 | C29: =VLOOKUP(A29,$O$6:$T$48,3,FALSE) -> 6549 | D29: =C29/B29% -> 99.347694 | E29: =VLOOKUP(A29,$O$6:$T$47,3,FALSE)-VLOOKUP(A29,$O$53:$T$95,3,FALSE) -> 5 | F29: =VLOOKUP(A29,$O$6:$T$48,5,FALSE) -> 1639 | G29: =VLOOKUP(A29,$O$6:$T$48,6,FALSE) -> 1198 | H29: =G29/F29% -> 73.09335 | I29: =IF(H29>=40,0,IF(H29>=37,0.0003,IF(H29>=33,0.0006,IF(H29>=30,0.001,0.0013)))) -> 0 | J29: =IF(H29>=40,0,IF(H29>=37,0.01,IF(H29>=33,0.02,IF(H29>=30,0.03,0.04)))) -> 0 | K29: =IF(D29>=100,4,D29*0.04)-I29 -> 3.9739078 | L29: =IF(D29>=100,30,D29*0.3)-J29 -> 29.804308 | M29: =RANK(L29,$L$5:$L$44) -> 10 | O29: 성남 | P29: 10979 | Q29: 10492 | R29: 3167 | S29: 2313 | T29: 1376 | U29: 0.5948984
A30: 김포 | B30: 5494 | C30: =VLOOKUP(A30,$O$6:$T$48,3,FALSE) -> 5543 | D30: =C30/B30% -> 100.89188 | E30: =VLOOKUP(A30,$O$6:$T$47,3,FALSE)-VLOOKUP(A30,$O$53:$T$95,3,FALSE) -> 2 | F30: =VLOOKUP(A30,$O$6:$T$48,5,FALSE) -> 1433 | G30: =VLOOKUP(A30,$O$6:$T$48,6,FALSE) -> 947 | H30: =G30/F30% -> 66.085136 | I30: =IF(H30>=40,0,IF(H30>=37,0.0003,IF(H30>=33,0.0006,IF(H30>=30,0.001,0.0013)))) -> 0 | J30: =IF(H30>=40,0,IF(H30>=37,0.01,IF(H30>=33,0.02,IF(H30>=30,0.03,0.04)))) -> 0 | K30: =IF(D30>=100,4,D30*0.04)-I30 -> 4 | L30: =IF(D30>=100,30,D30*0.3)-J30 -> 30 | M30: =RANK(L30,$L$5:$L$44) -> 1 | O30: 광명 | P30: 6888 | Q30: 6570 | R30: 1904 | S30: 1517 | T30: 1050 | U30: 0.69215557 | V30: 총약정자 | W30: 우량가입자 | X30: 우량이용자
A31: 이천 | B31: 3779 | C31: =VLOOKUP(A31,$O$6:$T$48,3,FALSE) -> 3806 | D31: =C31/B31% -> 100.71447 | E31: =VLOOKUP(A31,$O$6:$T$47,3,FALSE)-VLOOKUP(A31,$O$53:$T$95,3,FALSE) -> 0 | F31: =VLOOKUP(A31,$O$6:$T$48,5,FALSE) -> 758 | G31: =VLOOKUP(A31,$O$6:$T$48,6,FALSE) -> 507 | H31: =G31/F31% -> 66.886544 | I31: =IF(H31>=40,0,IF(H31>=37,0.0003,IF(H31>=33,0.0006,IF(H31>=30,0.001,0.0013)))) -> 0 | J31: =IF(H31>=40,0,IF(H31>=37,0.01,IF(H31>=33,0.02,IF(H31>=30,0.03,0.04)))) -> 0 | K31: =IF(D31>=100,4,D31*0.04)-I31 -> 4 | L31: =IF(D31>=100,30,D31*0.3)-J31 -> 30 | M31: =RANK(L31,$L$5:$L$44) -> 1 | O31: 남인천 | P31: 10840 | Q31: 10424 | R31: 2738 | S31: 1831 | T31: 1178 | U31: 0.64336428 | V31: =Q31+Q35 -> 16819 | W31: =S31+S35 -> 3504 | X31: =T31+T35 -> 2297
A32: 안성 | B32: 4429 | C32: =VLOOKUP(A32,$O$6:$T$48,3,FALSE) -> 4476 | D32: =C32/B32% -> 101.06119 | E32: =VLOOKUP(A32,$O$6:$T$47,3,FALSE)-VLOOKUP(A32,$O$53:$T$95,3,FALSE) -> 0 | F32: =VLOOKUP(A32,$O$6:$T$48,5,FALSE) -> 1135 | G32: =VLOOKUP(A32,$O$6:$T$48,6,FALSE) -> 790 | H32: =G32/F32% -> 69.603524 | I32: =IF(H32>=40,0,IF(H32>=37,0.0003,IF(H32>=33,0.0006,IF(H32>=30,0.001,0.0013)))) -> 0 | J32: =IF(H32>=40,0,IF(H32>=37,0.01,IF(H32>=33,0.02,IF(H32>=30,0.03,0.04)))) -> 0 | K32: =IF(D32>=100,4,D32*0.04)-I32 -> 4 | L32: =IF(D32>=100,30,D32*0.3)-J32 -> 30 | M32: =RANK(L32,$L$5:$L$44) -> 1 | O32: 안산 | P32: 14559 | Q32: 13966 | R32: 4503 | S32: 2801 | T32: 2011 | U32: 0.71795787
A33: 포천 | B33: 4406 | C33: =VLOOKUP(A33,$O$6:$T$48,3,FALSE) -> 4348 | D33: =C33/B33% -> 98.683613 | E33: =VLOOKUP(A33,$O$6:$T$47,3,FALSE)-VLOOKUP(A33,$O$53:$T$95,3,FALSE) -> 3 | F33: =VLOOKUP(A33,$O$6:$T$48,5,FALSE) -> 938 | G33: =VLOOKUP(A33,$O$6:$T$48,6,FALSE) -> 593 | H33: =G33/F33% -> 63.219616 | I33: =IF(H33>=40,0,IF(H33>=37,0.0003,IF(H33>=33,0.0006,IF(H33>=30,0.001,0.0013)))) -> 0 | J33: =IF(H33>=40,0,IF(H33>=37,0.01,IF(H33>=33,0.02,IF(H33>=30,0.03,0.04)))) -> 0 | K33: =IF(D33>=100,4,D33*0.04)-I33 -> 3.9473445 | L33: =IF(D33>=100,30,D33*0.3)-J33 -> 29.605084 | M33: =RANK(L33,$L$5:$L$44) -> 15 | O33: 서수원 | P33: 3398 | Q33: 3226 | R33: 1257 | S33: 958 | T33: 664 | U33: 0.69311065
A34: 강화 | B34: 2673 | C34: =VLOOKUP(A34,$O$6:$T$48,3,FALSE) -> 2601 | D34: =C34/B34% -> 97.306397 | E34: =VLOOKUP(A34,$O$6:$T$47,3,FALSE)-VLOOKUP(A34,$O$53:$T$95,3,FALSE) -> 0 | F34: =VLOOKUP(A34,$O$6:$T$48,5,FALSE) -> 491 | G34: =VLOOKUP(A34,$O$6:$T$48,6,FALSE) -> 311 | H34: =G34/F34% -> 63.340122 | I34: =IF(H34>=40,0,IF(H34>=37,0.0003,IF(H34>=33,0.0006,IF(H34>=30,0.001,0.0013)))) -> 0 | J34: =IF(H34>=40,0,IF(H34>=37,0.01,IF(H34>=33,0.02,IF(H34>=30,0.03,0.04)))) -> 0 | K34: =IF(D34>=100,4,D34*0.04)-I34 -> 3.8922559 | L34: =IF(D34>=100,30,D34*0.3)-J34 -> 29.191919 | M34: =RANK(L34,$L$5:$L$44) -> 28 | O34: 동수원 | P34: 9371 | Q34: 9010 | R34: 2827 | S34: 2042 | T34: 1391 | U34: 0.68119491
A35: 가평 | B35: 2657 | C35: =VLOOKUP(A35,$O$6:$T$48,3,FALSE) -> 2538 | D35: =C35/B35% -> 95.521265 | E35: =VLOOKUP(A35,$O$6:$T$47,3,FALSE)-VLOOKUP(A35,$O$53:$T$95,3,FALSE) -> 3 | F35: =VLOOKUP(A35,$O$6:$T$48,5,FALSE) -> 565 | G35: =VLOOKUP(A35,$O$6:$T$48,6,FALSE) -> 362 | H35: =G35/F35% -> 64.070796 | I35: =IF(H35>=40,0,IF(H35>=37,0.0003,IF(H35>=33,0.0006,IF(H35>=30,0.001,0.0013)))) -> 0 | J35: =IF(H35>=40,0,IF(H35>=37,0.01,IF(H35>=33,0.02,IF(H35>=30,0.03,0.04)))) -> 0 | K35: =IF(D35>=100,4,D35*0.04)-I35 -> 3.8208506 | L35: =IF(D35>=100,30,D35*0.3)-J35 -> 28.656379 | M35: =RANK(L35,$L$5:$L$44) -> 40 | O35: 인천남동 | P35: 6681 | Q35: 6395 | R35: 2349 | S35: 1673 | T35: 1119 | U35: 0.66885834
A36: 양평 | B36: 3526 | C36: =VLOOKUP(A36,$O$6:$T$48,3,FALSE) -> 3460 | D36: =C36/B36% -> 98.128191 | E36: =VLOOKUP(A36,$O$6:$T$47,3,FALSE)-VLOOKUP(A36,$O$53:$T$95,3,FALSE) -> 1 | F36: =VLOOKUP(A36,$O$6:$T$48,5,FALSE) -> 811 | G36: =VLOOKUP(A36,$O$6:$T$48,6,FALSE) -> 514 | H36: =G36/F36% -> 63.378545 | I36: =IF(H36>=40,0,IF(H36>=37,0.0003,IF(H36>=33,0.0006,IF(H36>=30,0.001,0.0013)))) -> 0 | J36: =IF(H36>=40,0,IF(H36>=37,0.01,IF(H36>=33,0.02,IF(H36>=30,0.03,0.04)))) -> 0 | K36: =IF(D36>=100,4,D36*0.04)-I36 -> 3.9251276 | L36: =IF(D36>=100,30,D36*0.3)-J36 -> 29.438457 | M36: =RANK(L36,$L$5:$L$44) -> 22 | O36: 군포 | P36: 6665 | Q36: 6402 | R36: 2030 | S36: 1407 | T36: 1022 | U36: 0.72636816
A37: 경기광주 | B37: 4102 | C37: =VLOOKUP(A37,$O$6:$T$48,3,FALSE) -> 3980 | D37: =C37/B37% -> 97.025841 | E37: =VLOOKUP(A37,$O$6:$T$47,3,FALSE)-VLOOKUP(A37,$O$53:$T$95,3,FALSE) -> 1 | F37: =VLOOKUP(A37,$O$6:$T$48,5,FALSE) -> 882 | G37: =VLOOKUP(A37,$O$6:$T$48,6,FALSE) -> 583 | H37: =G37/F37% -> 66.099773 | I37: =IF(H37>=40,0,IF(H37>=37,0.0003,IF(H37>=33,0.0006,IF(H37>=30,0.001,0.0013)))) -> 0 | J37: =IF(H37>=40,0,IF(H37>=37,0.01,IF(H37>=33,0.02,IF(H37>=30,0.03,0.04)))) -> 0 | K37: =IF(D37>=100,4,D37*0.04)-I37 -> 3.8810336 | L37: =IF(D37>=100,30,D37*0.3)-J37 -> 29.107752 | M37: =RANK(L37,$L$5:$L$44) -> 32 | O37: 안양 | P37: 10169 | Q37: 9763 | R37: 3099 | S37: 2257 | T37: 1541 | U37: 0.68276473
A38: 여주 | B38: 3096 | C38: =VLOOKUP(A38,$O$6:$T$48,3,FALSE) -> 3074 | D38: =C38/B38% -> 99.289406 | E38: =VLOOKUP(A38,$O$6:$T$47,3,FALSE)-VLOOKUP(A38,$O$53:$T$95,3,FALSE) -> 1 | F38: =VLOOKUP(A38,$O$6:$T$48,5,FALSE) -> 746 | G38: =VLOOKUP(A38,$O$6:$T$48,6,FALSE) -> 436 | H38: =G38/F38% -> 58.44504 | I38: =IF(H38>=40,0,IF(H38>=37,0.0003,IF(H38>=33,0.0006,IF(H38>=30,0.001,0.0013)))) -> 0 | J38: =IF(H38>=40,0,IF(H38>=37,0.01,IF(H38>=33,0.02,IF(H38>=30,0.03,0.04)))) -> 0 | K38: =IF(D38>=100,4,D38*0.04)-I38 -> 3.9715762 | L38: =IF(D38>=100,30,D38*0.3)-J38 -> 29.786822 | M38: =RANK(L38,$L$5:$L$44) -> 11 | O38: 성남분당 | P38: 7694 | Q38: 7392 | R38: 2424 | S38: 1769 | T38: 1202 | U38: 0.67947993
A39: 동두천 | B39: 3148 | C39: =VLOOKUP(A39,$O$6:$T$48,3,FALSE) -> 3042 | D39: =C39/B39% -> 96.632783 | E39: =VLOOKUP(A39,$O$6:$T$47,3,FALSE)-VLOOKUP(A39,$O$53:$T$95,3,FALSE) -> 2 | F39: =VLOOKUP(A39,$O$6:$T$48,5,FALSE) -> 543 | G39: =VLOOKUP(A39,$O$6:$T$48,6,FALSE) -> 412 | H39: =G39/F39% -> 75.87477 | I39: =IF(H39>=40,0,IF(H39>=37,0.0003,IF(H39>=33,0.0006,IF(H39>=30,0.001,0.0013)))) -> 0 | J39: =IF(H39>=40,0,IF(H39>=37,0.01,IF(H39>=33,0.02,IF(H39>=30,0.03,0.04)))) -> 0 | K39: =IF(D39>=100,4,D39*0.04)-I39 -> 3.8653113 | L39: =IF(D39>=100,30,D39*0.3)-J39 -> 28.989835 | M39: =RANK(L39,$L$5:$L$44) -> 35 | O39: 고양일산 | P39: 8708 | Q39: 8421 | R39: 2693 | S39: 1666 | T39: 1303 | U39: 0.78211285
A40: 연천 | B40: 1815 | C40: =VLOOKUP(A40,$O$6:$T$48,3,FALSE) -> 1804 | D40: =C40/B40% -> 99.393939 | E40: =VLOOKUP(A40,$O$6:$T$47,3,FALSE)-VLOOKUP(A40,$O$53:$T$95,3,FALSE) -> 7 | F40: =VLOOKUP(A40,$O$6:$T$48,5,FALSE) -> 432 | G40: =VLOOKUP(A40,$O$6:$T$48,6,FALSE) -> 310 | H40: =G40/F40% -> 71.759259 | I40: =IF(H40>=40,0,IF(H40>=37,0.0003,IF(H40>=33,0.0006,IF(H40>=30,0.001,0.0013)))) -> 0 | J40: =IF(H40>=40,0,IF(H40>=37,0.01,IF(H40>=33,0.02,IF(H40>=30,0.03,0.04)))) -> 0 | K40: =IF(D40>=100,4,D40*0.04)-I40 -> 3.9757576 | L40: =IF(D40>=100,30,D40*0.3)-J40 -> 29.818182 | M40: =RANK(L40,$L$5:$L$44) -> 9 | O40: 서인천 | P40: 7658 | Q40: 7349 | R40: 2749 | S40: 1777 | T40: 1328 | U40: 0.74732696
A41: 백령 | B41: 1064 | C41: =VLOOKUP(A41,$O$6:$T$48,3,FALSE) -> 1025 | D41: =C41/B41% -> 96.334586 | E41: =VLOOKUP(A41,$O$6:$T$47,3,FALSE)-VLOOKUP(A41,$O$53:$T$95,3,FALSE) -> 0 | F41: =VLOOKUP(A41,$O$6:$T$48,5,FALSE) -> 245 | G41: =VLOOKUP(A41,$O$6:$T$48,6,FALSE) -> 155 | H41: =G41/F41% -> 63.265306 | I41: =IF(H41>=40,0,IF(H41>=37,0.0003,IF(H41>=33,0.0006,IF(H41>=30,0.001,0.0013)))) -> 0 | J41: =IF(H41>=40,0,IF(H41>=37,0.01,IF(H41>=33,0.02,IF(H41>=30,0.03,0.04)))) -> 0 | K41: =IF(D41>=100,4,D41*0.04)-I41 -> 3.8533835 | L41: =IF(D41>=100,30,D41*0.3)-J41 -> 28.900376 | M41: =RANK(L41,$L$5:$L$44) -> 37 | O41: 부천 | P41: 16322 | Q41: 15720 | R41: 4946 | S41: 3586 | T41: 2597 | U41: 0.72420524
A42: 오산 | B42: 3723 | C42: =VLOOKUP(A42,$O$6:$T$48,3,FALSE) -> 3665 | D42: =C42/B42% -> 98.442117 | E42: =VLOOKUP(A42,$O$6:$T$47,3,FALSE)-VLOOKUP(A42,$O$53:$T$95,3,FALSE) -> 1 | F42: =VLOOKUP(A42,$O$6:$T$48,5,FALSE) -> 717 | G42: =VLOOKUP(A42,$O$6:$T$48,6,FALSE) -> 535 | H42: =G42/F42% -> 74.616457 | I42: =IF(H42>=40,0,IF(H42>=37,0.0003,IF(H42>=33,0.0006,IF(H42>=30,0.001,0.0013)))) -> 0 | J42: =IF(H42>=40,0,IF(H42>=37,0.01,IF(H42>=33,0.02,IF(H42>=30,0.03,0.04)))) -> 0 | K42: =IF(D42>=100,4,D42*0.04)-I42 -> 3.9376847 | L42: =IF(D42>=100,30,D42*0.3)-J42 -> 29.532635 | M42: =RANK(L42,$L$5:$L$44) -> 18 | O42: 고양덕양 | P42: 7207 | Q42: 6859 | R42: 2073 | S42: 1537 | T42: 1012 | U42: 0.6584255
