Workbook

Sheet Sheet1
B2: 우체국예금 마케팅 활동 예산배정 내역
F3: (단위: 천 원)
B4: 구 분 | C4: 관서수 | D4: 요구불예금 수신고 ('14.11월말) | E4: 배정액 | F4: 비 고
B5: 인천 | C5: 19 | D5: 65160965 | E5: 1600
B6: 서인천 | C6: 8 | D6: 79844065 | E6: 1200
B7: 인천계양 | C7: 5 | D7: 34134726 | E7: 600
B8: 남인천 | C8: 16 | D8: 1.2651443e+08 | E8: 1600
B9: 부평 | C9: 11 | D9: 73868936 | E9: 1300
B10: 의정부 | C10: 12 | D10: 56865347 | E10: 1200
B11: 수원 | C11: 10 | D11: 94870194 | E11: 1300
B12: 동수원 | C12: 9 | D12: 49403854 | E12: 1000
B13: 서수원 | C13: 5 | E13: 1500
B14: 군포 | C14: 8 | D14: 39369777 | E14: 800
B15: 안양 | C15: 11 | D15: 79587458 | E15: 1300
B16: 성남 | C16: 10 | D16: 78738588 | E16: 1300
B17: 성남분당 | C17: 9 | D17: 66275287 | E17: 1140
B18: 부천 | C18: 16 | D18: 90927759 | E18: 1600
B19: 안산 | C19: 14 | D19: 77915437 | E19: 1300
B20: 고양일산 | C20: 9 | D20: 46237038 | E20: 900
B21: 고양덕양 | C21: 10 | D21: 45899019 | E21: 1000
B22: 시흥 | C22: 6 | D22: 44919107 | E22: 750
B23: 광명 | C23: 7 | D23: 40327100 | E23: 800
B24: 용인수지 | C24: 6 | D24: 32065046 | E24: 650
B25: 남양주 | C25: 11 | D25: 32689330 | E25: 1000
... B44: 구리 | C44: 5 | D44: 23651958 | E44: 600
B45: 합 계 | C45: =SUM(C5:C44) -> 392 | D45: =SUM(D5:D44) -> 1.787653e+09 | E45: =SUM(E5:E44) -> 39939
C46: 23963 | D46: 15976
C47: =C46/C45 -> 61.130102 | D47: 39939

Sheet Sheet1 (3)
A2: 구 분 | B2: 총수신고(15점, 단위: 백만원, %) | J2: 요구불 수신고(15점, 단위: 백만원, %) | R2: 조달금리(20점) | U2: 스마트뱅킹(15점, 단위: 건, %) | AC2: 체크카드(15점, 단위: 건, %) | AK2: 수수료(10점, 단위: 천원, %) | AS2: 우수고객(10점) | AV2: 총점 | AW2: 순위 | AX2: 관내국수 | AY2: 5231-361 | BD2: 5231-362 | BF2: 합 계
B3: 목표 | C3: 실적 | D3: 달성률 | E3: 달성률 순위 | F3: 달성률 점수 | G3: 점유율 순위 | H3: 점유율 점수 | I3: 환산점수 | J3: 목표 | K3: 실적 | L3: 달성률 | M3: 달성률 순위 | N3: 달성률 점수 | O3: 점유율 순위 | P3: 점유율 점수 | Q3: 환산점수 | R3: 평가점수 | S3: 순위 | T3: 환산점수 | U3: 목표 | V3: 실적 | W3: 달성률 | X3: 달성률 순위 | Y3: 달성률 점수 | Z3: 점유율 순위 | AA3: 점유율 점수 | AB3: 환산점수 | AC3: 목표 | AD3: 실적 | AE3: 달성률 | AF3: 달성률 순위 | AG3: 달성률 점수 | AH3: 점유율 순위 | AI3: 점유율 점수 | AJ3: 환산점수 | AK3: 목표 | AL3: 실적 | AM3: 달성률 | AN3: 달성률 순위 | AO3: 달성률 점수 | AP3: 점유율 순위 | AQ3: 점유율 점수 | AR3: 환산점수 | AS3: 평가점수 | AT3: 순위 | AU3: 환산점수 | AY3: 210-01 (일반수용비) | AZ3: 210-02 (공공요금) | BA3: 210-09 (시설장비유지비) | BB3: 220-01 (국내여비) | BC3: 240-01 (업무추진비) | BD3: 210-01 (일반수용비) | BE3: 310-03 (포상금)
A4: 인천 | B4: 299995 | C4: 323347.68 | D4: 107.78436 | E4: 13 | F4: 13.2 | G4: 10 | H4: 13.65 | I4: 13.425 | J4: 61649 | K4: 64908.881 | L4: 105.28781 | M4: 9 | N4: 13.8 | O4: 10 | P4: 13.65 | Q4: 13.725 | R4: 19.9829 | S4: 6 | T4: 19 | U4: 9804 | V4: 9003 | W4: 91.829865 | X4: 21 | Y4: 12 | Z4: 7 | AA4: 14.1 | AB4: 13.05 | AC4: 5846 | AD4: 4769 | AE4: 81.577147 | AF4: 17 | AG4: 12.6 | AH4: 10 | AI4: 13.65 | AJ4: 13.125 | AK4: 29619.755 | AL4: 20050.06 | AM4: 67.691513 | AN4: 8 | AO4: 9.3 | AP4: 13 | AQ4: 8.8 | AR4: 9.05 | AS4: 7.053419 | AT4: 15 | AU4: 8.6 | AV4: =I4+Q4+T4+AB4+AJ4+AR4+AU4 -> 89.975 | AW4: =RANK(AV4,$AV$4:$AV$29) -> 10 | AX4: 19 | AY4: 27000 | AZ4: 3300 | BA4: 3200 | BB4: 900 | BC4: 600 | BD4: 10000 | BE4: 5000 | BF4: 50250
A5: 서인천 | B5: 224643 | C5: 265705.89 | D5: 118.27917 | E5: 1 | F5: 15 | G5: 15 | H5: 12.9 | I5: 13.95 | J5: 54762 | K5: 80103.361 | L5: 146.27545 | M5: 1 | N5: 15 | O5: 4 | P5: 14.55 | Q5: 14.775 | R5: 19.985 | S5: 5 | T5: 19.2 | U5: 6756 | V5: 6468 | W5: 95.737123 | X5: 12 | Y5: 13.35 | Z5: 16 | AA5: 12.75 | AB5: 13.05 | AC5: 4154 | AD5: 3709 | AE5: 89.287434 | AF5: 6 | AG5: 14.25 | AH5: 13 | AI5: 13.2 | AJ5: 13.725 | AK5: 19391.732 | AL5: 13799.48 | AM5: 71.161667 | AN5: 4 | AO5: 9.7 | AP5: 22 | AQ5: 7.9 | AR5: 8.8 | AS5: 7.0654023 | AT5: 14 | AU5: 8.7 | AV5: =I5+Q5+T5+AB5+AJ5+AR5+AU5 -> 92.2 | AW5: =RANK(AV5,$AV$4:$AV$29) -> 3 | AX5: 8 | AY5: 33000 | AZ5: 1800 | BA5: 1800 | BB5: 500 | BC5: 900 | BD5: 16000 | BE5: 8000 | BF5: 61900
A6: 인천계양 | B6: 151364 | C6: 167687.4 | D6: 110.7842 | E6: 7 | F6: 14.1 | G6: 22 | H6: 11.85 | I6: 12.975 | J6: 32926 | K6: 34130.886 | L6: 103.65938 | M6: 10 | N6: 13.65 | O6: 22 | P6: 11.85 | Q6: 12.75 | R6: 19.9544 | S6: 18 | T6: 16.6 | U6: 5402 | V6: 5207 | W6: 96.390226 | X6: 8 | Y6: 13.95 | Z6: 24 | AA6: 11.55 | AB6: 12.75 | AC6: 3152 | AD6: 2246 | AE6: 71.256345 | AF6: 22 | AG6: 11.85 | AH6: 24 | AI6: 11.55 | AJ6: 11.7 | AK6: 12023.776 | AL6: 7854.42 | AM6: 65.324069 | AN6: 18 | AO6: 8.3 | AP6: 24 | AQ6: 7.7 | AR6: 8 | AS6: 7.2162227 | AT6: 7 | AU6: 9.4 | AV6: =I6+Q6+T6+AB6+AJ6+AR6+AU6 -> 84.175 | AW6: =RANK(AV6,$AV$4:$AV$29) -> 23 | AX6: 5 | AY6: 23000 | AZ6: 1500 | BA6: 1500 | BB6: 400 | BC6: 500 | BD6: 7000 | BE6: 4000 | BF6: 37400
A7: 남인천 | B7: 421947 | C7: 481259.07 | D7: 114.05676 | E7: 4 | F7: 14.55 | G7: 3 | H7: 14.7 | I7: 14.625 | J7: 98615 | K7: 129374.31 | L7: 131.1913 | M7: 2 | N7: 14.85 | O7: 1 | P7: 15 | Q7: 14.925 | R7: 19.95 | S7: 20 | T7: 16.2 | U7: 15565 | V7: 14827 | W7: 95.258593 | X7: 16 | Y7: 12.75 | Z7: 1 | AA7: 15 | AB7: 13.875 | AC7: 8681 | AD7: 7576 | AE7: 87.271052 | AF7: 12 | AG7: 13.35 | AH7: 1 | AI7: 15 | AJ7: 14.175 | AK7: 48503.051 | AL7: 30774.83 | AM7: 63.449266 | AN7: 23 | AO7: 7.8 | AP7: 4 | AQ7: 9.7 | AR7: 8.75 | AS7: 6.9398332 | AT7: 17 | AU7: 8.4 | AV7: =I7+Q7+T7+AB7+AJ7+AR7+AU7 -> 90.95 | AW7: =RANK(AV7,$AV$4:$AV$29) -> 7 | AX7: 16 | AY7: 33000 | AZ7: 3000 | BA7: 4000 | BB7: 850 | BC7: 800 | BD7: 15000 | BE7: 6000 | BF7: 62650
A8: 부평 | B8: 315529 | C8: 344504.01 | D8: 109.18299 | E8: 11 | F8: 13.5 | G8: 8 | H8: 13.95 | I8: 13.725 | J8: 72656 | K8: 73623.766 | L8: 101.33198 | M8: 18 | N8: 12.45 | O8: 9 | P8: 13.8 | Q8: 13.125 | R8: 19.97 | S8: 10 | T8: 18.2 | U8: 9432 | V8: 9275 | W8: 98.335454 | X8: 3 | Y8: 14.7 | Z8: 5 | AA8: 14.4 | AB8: 14.55 | AC8: 5856 | AD8: 5688 | AE8: 97.131148 | AF8: 3 | AG8: 14.7 | AH8: 3 | AI8: 14.7 | AJ8: 14.7 | AK8: 27864.373 | AL8: 18443.9 | AM8: 66.191693 | AN8: 14 | AO8: 8.7 | AP8: 15 | AQ8: 8.6 | AR8: 8.65 | AS8: 7.2419778 | AT8: 5 | AU8: 9.6 | AV8: =I8+Q8+T8+AB8+AJ8+AR8+AU8 -> 92.55 | AW8: =RANK(AV8,$AV$4:$AV$29) -> 2 | AX8: 11 | AY8: 33000 | AZ8: 2000 | BA8: 2700 | BB8: 600 | BC8: 1000 | BD8: 17000 | BE8: 9000 | BF8: 65300
A9: 의정부 | B9: 263868 | C9: 275841.53 | D9: 104.5377 | E9: 19 | F9: 12.3 | G9: 14 | H9: 13.05 | I9: 12.675 | J9: 55706 | K9: 56791.186 | L9: 101.94806 | M9: 16 | N9: 12.75 | O9: 12 | P9: 13.35 | Q9: 13.05 | R9: 19.995 | S9: 2 | T9: 19.8 | U9: 8847 | V9: 7860 | W9: 88.843676 | X9: 24 | Y9: 11.55 | Z9: 11 | AA9: 13.5 | AB9: 12.525 | AC9: 5227 | AD9: 3003 | AE9: 57.451693 | AF9: 25 | AG9: 11.4 | AH9: 21 | AI9: 12 | AJ9: 11.7 | AK9: 33634.971 | AL9: 22267.74 | AM9: 66.20413 | AN9: 13 | AO9: 8.8 | AP9: 11 | AQ9: 9 | AR9: 8.9 | AS9: 6.9359441 | AT9: 18 | AU9: 8.3 | AV9: =I9+Q9+T9+AB9+AJ9+AR9+AU9 -> 86.95 | AW9: =RANK(AV9,$AV$4:$AV$29) -> 17 | AX9: 12 | AY9: 25000 | AZ9: 2000 | BA9: 2800 | BB9: 600 | BC9: 550 | BD9: 8000 | BE9: 4500 | BF9: 43950
A10: 수원 | B10: 464377 | C10: 485367.95 | D10: 104.52024 | E10: 20 | F10: 12.15 | G10: 2 | H10: 14.85 | I10: 13.5 | J10: 92948 | K10: 95193.145 | L10: 102.41548 | M10: 14 | N10: 13.05 | O10: 2 | P10: 14.85 | Q10: 13.95 | R10: 19.9829 | S10: 6 | T10: 19 | U10: 12188 | V10: 11475 | W10: 94.149984 | X10: 19 | Y10: 12.3 | Z10: 4 | AA10: 14.55 | AB10: 13.425 | AC10: 7283 | AD10: 6475 | AE10: =AD10/AC10% -> 88.905671 | AF10: 8 | AG10: 13.95 | AH10: 8 | AI10: 13.95 | AJ10: 13.95 | AK10: 49017 | AL10: 34682.04 | AM10: 70.755126 | AN10: 5 | AO10: 9.6 | AP10: 3 | AQ10: 9.8 | AR10: 9.7 | AS10: 6.8976547 | AT10: 20 | AU10: 8.1 | AV10: =I10+Q10+T10+AB10+AJ10+AR10+AU10 -> 91.625 | AW10: =RANK(AV10,$AV$4:$AV$29) -> 4 | AX10: 10 | AY10: 30000 | AZ10: 1900 | BA10: 2300 | BB10: 600 | BC10: 850 | BD10: 12000 | BE10: 6000 | BF10: 53400
A11: 동수원 | B11: 285275 | C11: 291092.82 | D11: 102.03937 | E11: 23 | F11: 11.7 | G11: 13 | H11: 13.2 | I11: 12.45 | J11: 45192 | K11: 48712.389 | L11: 107.78985 | M11: 7 | N11: 14.1 | O11: 13 | P11: 13.2 | Q11: 13.65 | R11: 20 | S11: 1 | T11: 20 | U11: 8180 | V11: 7863 | W11: 96.124694 | X11: 10 | Y11: 13.65 | Z11: 10 | AA11: 13.65 | AB11: 13.65 | AC11: 3989 | AD11: 3483 | AE11: =AD11/AC11% -> 87.315117 | AF11: 11 | AG11: 13.5 | AH11: 7 | AI11: 14.1 | AJ11: 13.8 | AK11: 28705 | AL11: 17961.22 | AM11: 62.571747 | AN11: 24 | AO11: 7.7 | AP11: 17 | AQ11: 8.4 | AR11: 8.05 | AS11: 6.9952675 | AT11: 16 | AU11: 8.5 | AV11: =I11+Q11+T11+AB11+AJ11+AR11+AU11 -> 90.1 | AW11: =RANK(AV11,$AV$4:$AV$29) -> 9 | AX11: 9 | AY11: 30000 | AZ11: 1800 | BA11: 2000 | BB11: 600 | BC11: 800 | BD11: 12000 | BE11: 6000 | BF11: 53200
A12: 서수원 | AJ12: 0 | AR12: 0 | AV12: =I12+Q12+T12+AB12+AJ12+AR12+AU12 -> 0 | AX12: 5 | AY12: 23000 | AZ12: 1500 | BA12: 1500 | BB12: 400 | BC12: 500 | BD12: 10000 | BE12: 4000 | BF12: 40400
A13: 군포 | B13: 233265 | C13: 258308.1 | D13: 110.7359 | E13: 8 | F13: 13.95 | G13: 16 | H13: 12.75 | I13: 13.35 | J13: 36687 | K13: 39291.491 | L13: 107.09922 | M13: 8 | N13: 13.95 | O13: 19 | P13: 12.3 | Q13: 13.125 | R13: 19.968 | S13: 11 | T13: 18 | U13: 5836 | V13: 5628 | W13: 96.435915 | X13: 7 | Y13: 14.1 | Z13: 21 | AA13: 12 | AB13: 13.05 | AC13: 3678 | AD13: 3064 | AE13: 83.306145 | AF13: 16 | AG13: 12.75 | AH13: 20 | AI13: 12.15 | AJ13: 12.45 | AK13: 27026.947 | AL13: 18180.14 | AM13: 67.266718 | AN13: 9 | AO13: 9.2 | AP13: 16 | AQ13: 8.5 | AR13: 8.85 | AS13: 7.4680157 | AT13: 1 | AU13: 10 | AV13: =I13+Q13+T13+AB13+AJ13+AR13+AU13 -> 88.825 | AW13: =RANK(AV13,$AV$4:$AV$29) -> 12 | AX13: 8 | AY13: 27000 | AZ13: 1800 | BA13: 1800 | BB13: 500 | BC13: 600 | BD13: 10000 | BE13: 5000 | BF13: 46650
A14: 안양 | B14: 434881 | C14: 461935.24 | D14: 106.22107 | E14: 16 | F14: 12.75 | G14: 4 | H14: 14.55 | I14: 13.65 | J14: 67063 | K14: 78374.327 | L14: 116.86672 | M14: 4 | N14: 14.55 | O14: 6 | P14: 14.25 | Q14: 14.4 | R14: 19.96 | S14: 17 | T14: 16.8 | U14: 8801 | V14: 8505 | W14: 96.636746 | X14: 5 | Y14: 14.4 | Z14: 9 | AA14: 13.8 | AB14: 14.1 | AC14: 5493 | AD14: 5529 | AE14: 100.65538 | AF14: 1 | AG14: 15 | AH14: 4 | AI14: 14.55 | AJ14: 14.775 | AK14: 46481.533 | AL14: 30419 | AM14: 65.443194 | AN14: 17 | AO14: 8.4 | AP14: 5 | AQ14: 9.6 | AR14: 9 | AS14: 6.6858769 | AT14: 24 | AU14: 7.7 | AV14: =I14+Q14+T14+AB14+AJ14+AR14+AU14 -> 90.425 | AW14: =RANK(AV14,$AV$4:$AV$29) -> 8 | AX14: 11 | AY14: 30000 | AZ14: 2000 | BA14: 2700 | BB14: 600 | BC14: 800 | BD14: 12000 | BE14: 6000 | BF14: 54100
A15: 성남 | B15: 331000 | C15: 362257.84 | D15: 109.44346 | E15: 9 | F15: 13.8 | G15: 7 | H15: 14.1 | I15: 13.95 | J15: 77732 | K15: 78424.7 | L15: 100.89114 | M15: 19 | N15: 12.3 | O15: 5 | P15: 14.4 | Q15: 13.35 | R15: 19.99 | S15: 4 | T15: 19.4 | U15: 9630 | V15: 9129 | W15: 94.797508 | X15: 17 | Y15: 12.6 | Z15: 6 | AA15: 14.25 | AB15: 13.425 | AC15: 6052 | AD15: 4901 | AE15: 80.981494 | AF15: 18 | AG15: 12.45 | AH15: 9 | AI15: 13.8 | AJ15: 13.125 | AK15: 25101.805 | AL15: 16341.58 | AM15: 65.101215 | AN15: 19 | AO15: 8.2 | AP15: 18 | AQ15: 8.3 | AR15: 8.25 | AS15: 7.2379672 | AT15: 6 | AU15: 9.5 | AV15: =I15+Q15+T15+AB15+AJ15+AR15+AU15 -> 91 | AW15: =RANK(AV15,$AV$4:$AV$29) -> 6 | AX15: 10 | AY15: 30000 | AZ15: 1900 | BA15: 2300 | BB15: 600 | BC15: 850 | BD15: 12000 | BE15: 6000 | BF15: 53500
A16: 성남분당 | B16: 659092 | C16: 652458.23 | D16: 98.993499 | E16: 24 | F16: 11.55 | G16: 1 | H16: 15 | I16: 13.275 | J16: 47438 | K16: 59868.504 | L16: 126.20369 | M16: 3 | N16: 14.7 | O16: 11 | P16: 13.5 | Q16: 14.1 | R16: 19.944 | S16: 22 | T16: 15.8 | U16: 6720 | V16: 6427 | W16: 95.639881 | X16: 13 | Y16: 13.2 | Z16: 17 | AA16: 12.6 | AB16: 12.9 | AC16: 4027 | AD16: 3570 | AE16: 88.651602 | AF16: 10 | AG16: 13.65 | AH16: 14 | AI16: 13.05 | AJ16: 13.35 | AK16: 62196.252 | AL16: 40343.37 | AM16: 64.864632 | AN16: 21 | AO16: 8 | AP16: 1 | AQ16: 10 | AR16: 9 | AS16: 7.0892026 | AT16: 13 | AU16: 8.8 | AV16: =I16+Q16+T16+AB16+AJ16+AR16+AU16 -> 87.225 | AW16: =RANK(AV16,$AV$4:$AV$29) -> 15 | AX16: 9 | AY16: 27000 | AZ16: 1800 | BA16: 2000 | BB16: 600 | BC16: 600 | BD16: 10000 | BE16: 5000 | BF16: 47000
A17: 부천 | B17: 417802 | C17: 445127.03 | D17: 106.54019 | E17: 14 | F17: 13.05 | G17: 5 | H17: 14.4 | I17: 13.725 | J17: 87804 | K17: 90489.225 | L17: 103.0582 | M17: 12 | N17: 13.35 | O17: 3 | P17: 14.7 | Q17: 14.025 | R17: 19.9943 | S17: 3 | T17: 19.6 | U17: 13663 | V17: 13459 | W17: 98.506916 | X17: 2 | Y17: 14.85 | Z17: 2 | AA17: 14.85 | AB17: 14.85 | AC17: 7927 | AD17: 7029 | AE17: 88.671629 | AF17: 9 | AG17: 13.8 | AH17: 2 | AI17: 14.85 | AJ17: 14.325 | AK17: 43573.168 | AL17: 28552.09 | AM17: 65.526771 | AN17: 16 | AO17: 8.5 | AP17: 7 | AQ17: 9.4 | AR17: 8.95 | AS17: 7.1950527 | AT17: 10 | AU17: 9.1 | AV17: =I17+Q17+T17+AB17+AJ17+AR17+AU17 -> 94.575 | AW17: =RANK(AV17,$AV$4:$AV$29) -> 1 | AX17: 16 | AY17: 33000 | AZ17: 3000 | BA17: 3200 | BB17: 850 | BC17: 1200 | BD17: 18000 | BE17: 10000 | BF17: 69200
A18: 안산 | B18: 313023 | C18: 324221.04 | D18: 103.57738 | E18: 21 | F18: 12 | G18: 9 | H18: 13.8 | I18: 12.9 | J18: 75810 | K18: 77571.461 | L18: 102.32352 | M18: 15 | N18: 12.9 | O18: 7 | P18: 14.1 | Q18: 13.5 | R18: 19.95 | S18: 19 | T18: 16.4 | U18: 13020 | V18: 12436 | W18: 95.514593 | X18: 15 | Y18: 12.9 | Z18: 3 | AA18: 14.7 | AB18: 13.8 | AC18: 6941 | AD18: 5475 | AE18: 78.879124 | AF18: 20 | AG18: 12.15 | AH18: 5 | AI18: 14.4 | AJ18: 13.275 | AK18: 30705.275 | AL18: 20427.48 | AM18: 66.527592 | AN18: 11 | AO18: 9 | AP18: 12 | AQ18: 8.9 | AR18: 8.95 | AS18: 7.3320809 | AT18: 2 | AU18: 9.9 | AV18: =I18+Q18+T18+AB18+AJ18+AR18+AU18 -> 88.725 | AW18: =RANK(AV18,$AV$4:$AV$29) -> 13 | AX18: 14 | AY18: 27000 | AZ18: 3000 | BA18: 2800 | BB18: 700 | BC18: 600 | BD18: 10000 | BE18: 5000 | BF18: 49100
A19: 고양일산 | B19: 283652 | C19: 300503.05 | D19: 105.94075 | E19: 17 | F19: 12.6 | G19: 11 | H19: 13.5 | I19: 13.05 | J19: 44632 | K19: 46036.288 | L19: 103.14637 | M19: 11 | N19: 13.5 | O19: 15 | P19: 12.9 | Q19: 13.2 | R19: 19.968 | S19: 12 | T19: 17.8 | U19: 8014 | V19: 7368 | W19: 91.939107 | X19: 20 | Y19: 12.15 | Z19: 13 | AA19: 13.2 | AB19: 12.675 | AC19: 4450 | AD19: 3117 | AE19: 70.044944 | AF19: 23 | AG19: 11.7 | AH19: 18 | AI19: 12.45 | AJ19: 12.075 | AK19: 41808.628 | AL19: 29795.9 | AM19: 71.267348 | AN19: 3 | AO19: 9.8 | AP19: 6 | AQ19: 9.5 | AR19: 9.65 | AS19: 6.7627551 | AT19: 22 | AU19: 7.9 | AV19: =I19+Q19+T19+AB19+AJ19+AR19+AU19 -> 86.35 | AW19: =RANK(AV19,$AV$4:$AV$29) -> 18 | AX19: 9 | AY19: 25000 | AZ19: 1800 | BA19: 2000 | BB19: 600 | BC19: 550 | BD19: 8000 | BE19: 4500 | BF19: 42400
A20: 고양덕양 | B20: 235233 | C20: 249995.12 | D20: 106.27553 | E20: 15 | F20: 12.9 | G20: 17 | H20: 12.6 | I20: 12.75 | J20: 45481 | K20: 45728.475 | L20: 100.54413 | M20: 21 | N20: 12 | O20: 16 | P20: 12.75 | Q20: 12.375 | R20: 19.9658 | S20: 13 | T20: 17.6 | U20: 6221 | V20: 5984 | W20: 96.190323 | X20: 9 | Y20: 13.8 | Z20: 19 | AA20: 12.3 | AB20: 13.05 | AC20: 3902 | AD20: 3378 | AE20: 86.570989 | AF20: 13 | AG20: 13.2 | AH20: 16 | AI20: 12.75 | AJ20: 12.975 | AK20: 24654.191 | AL20: 16020.38 | AM20: 64.980351 | AN20: 20 | AO20: 8.1 | AP20: 20 | AQ20: 8.1 | AR20: 8.1 | AS20: 6.7462828 | AT20: 23 | AU20: 7.8 | AV20: =I20+Q20+T20+AB20+AJ20+AR20+AU20 -> 84.65 | AW20: =RANK(AV20,$AV$4:$AV$29) -> 21 | AX20: 10 | AY20: 23000 | AZ20: 1900 | BA20: 2200 | BB20: 600 | BC20: 550 | BD20: 7000 | BE20: 4000 | BF20: 39100
A21: 시흥 | B21: 136542 | C21: 151738.45 | D21: 111.1295 | E21: 6 | F21: 14.25 | G21: 23 | H21: 11.7 | I21: 12.975 | J21: 45129 | K21: 44943.262 | L21: 99.588429 | M21: 24 | N21: 11.55 | O21: 17 | P21: 12.6 | Q21: 12.075 | R21: 19.9658 | S21: 13 | T21: 17.6 | U21: 7807 | V21: 7086 | W21: 90.764698 | X21: 22 | Y21: 11.85 | Z21: 14 | AA21: 13.05 | AB21: 12.45 | AC21: 3938 | AD21: 2715 | AE21: 68.943626 | AF21: 24 | AG21: 11.55 | AH21: 23 | AI21: 11.7 | AJ21: 11.625 | AK21: 14227.956 | AL21: 9450.38 | AM21: 66.421206 | AN21: 12 | AO21: 8.9 | AP21: 23 | AQ21: 7.8 | AR21: 8.35 | AS21: 6.9059876 | AT21: 19 | AU21: 8.2 | AV21: =I21+Q21+T21+AB21+AJ21+AR21+AU21 -> 83.275 | AW21: =RANK(AV21,$AV$4:$AV$29) -> 24 | AX21: 6 | AY21: 23000 | AZ21: 1500 | BA21: 1500 | BB21: 500 | BC21: 500 | BD21: 7000 | BE21: 4000 | BF21: 37600
A22: 광명 | B22: 214468 | C22: 224448.35 | D22: 104.65354 | E22: 18 | F22: 12.45 | G22: 18 | H22: 12.45 | I22: 12.45 | J22: 40058 | K22: 39932.868 | L22: 99.687623 | M22: 22 | N22: 11.85 | O22: 18 | P22: 12.45 | Q22: 12.15 | R22: 19.9658 | S22: 13 | T22: 17.6 | U22: 5848 | V22: 5642 | W22: 96.477428 | X22: 6 | Y22: 14.25 | Z22: 20 | AA22: 12.15 | AB22: 13.2 | AC22: 3449 | AD22: 3072 | AE22: 89.069295 | AF22: 7 | AG22: 14.1 | AH22: 19 | AI22: 12.3 | AJ22: 13.2 | AK22: 21063.265 | AL22: 15050.44 | AM22: 71.453498 | AN22: 2 | AO22: 9.9 | AP22: 21 | AQ22: 8 | AR22: 8.95 | AS22: 6.853824 | AT22: 21 | AU22: 8 | AV22: =I22+Q22+T22+AB22+AJ22+AR22+AU22 -> 85.55 | AW22: =RANK(AV22,$AV$4:$AV$29) -> 19 | AX22: 7 | AY22: 25000 | AZ22: 1566 | BA22: 1500 | BB22: 500 | BC22: 550 | BD22: 8000 | BE22: 4500 | BF22: 41550
A23: 용인수지 | B23: 290939 | C23: 297828.35 | D23: 102.36797 | E23: 22 | F23: 11.85 | G23: 12 | H23: 13.35 | I23: 12.6 | J23: 27673 | K23: 32018.716 | L23: 115.70381 | M23: 5 | N23: 14.4 | O23: 24 | P23: 11.55 | Q23: 12.975 | R23: 19.936 | S23: 23 | T23: 15.6 | U23: 6358 | V23: 6316 | W23: 99.339415 | X23: 1 | Y23: 15 | Z23: 18 | AA23: 12.45 | AB23: 13.725 | AC23: 3390 | AD23: 3191 | AE23: 94.129794 | AF23: 4 | AG23: 14.55 | AH23: 17 | AI23: 12.6 | AJ23: 13.575 | AK23: 53514.333 | AL23: 35104.26 | AM23: 65.597866 | AN23: 15 | AO23: 8.6 | AP23: 2 | AQ23: 9.9 | AR23: 9.25 | AS23: 7.2095132 | AT23: 8 | AU23: 9.3 | AV23: =I23+Q23+T23+AB23+AJ23+AR23+AU23 -> 87.025 | AW23: =RANK(AV23,$AV$4:$AV$29) -> 16 | AX23: 6 | AY23: 25000 | AZ23: 1500 | BA23: 1500 | BB23: 500 | BC23: 550 | BD23: 8000 | BE23: 4500 | BF23: 41150
A24: 남양주 | B24: 131656 | C24: 143413.31 | D24: 108.93033 | E24: 12 | F24: 13.35 | G24: 24 | H24: 11.55 | I24: 12.45 | J24: 31530 | K24: 32493.932 | L24: 103.05719 | M24: 13 | N24: 13.2 | O24: 23 | P24: 11.7 | Q24: 12.45 | R24: 19.9829 | S24: 6 | T24: 19 | U24: 6012 | V24: 5453 | W24: 90.701929 | X24: 23 | Y24: 11.7 | Z24: 23 | AA24: 11.7 | AB24: 11.7 | AC24: 4055 | AD24: 2917 | AE24: 71.935882 | AF24: 21 | AG24: 12 | AH24: 22 | AI24: 11.85 | AJ24: 11.925 | AK24: 24521.123 | AL24: 16320.4 | AM24: 66.556495 | AN24: 10 | AO24: 9.1 | AP24: 19 | AQ24: 8.2 | AR24: 8.65 | AS24: 7.092625 | AT24: 12 | AU24: 8.9 | AV24: =I24+Q24+T24+AB24+AJ24+AR24+AU24 -> 85.075 | AW24: =RANK(AV24,$AV$4:$AV$29) -> 20 | AX24: 11 | AY24: 25000 | AZ24: 2000 | BA24: 2500 | BB24: 600 | BC24: 550 | BD24: 8000 | BE24: 4500 | BF24: 43150
... A29: 김포 | B29: 143277 | C29: 154356.02 | D29: 107.73259 | E29: 14 | F29: 13.05 | G29: 23 | H29: 11.7 | I29: 12.375 | J29: 34208 | K29: 34325.872 | L29: 100.34458 | M29: 22 | N29: 11.85 | O29: 22 | P29: 11.85 | Q29: 11.85 | R29: 19.943 | S29: 23 | T29: 15.6 | U29: 4825 | V29: 4646 | W29: 96.290155 | X29: 9 | Y29: 13.8 | Z29: 25 | AA29: 11.4 | AB29: 12.6 | AC29: 3164 | AD29: 2952 | AE29: 93.299621 | AF29: 5 | AG29: 14.4 | AH29: 22 | AI29: 11.85 | AJ29: 13.125 | AK29: 34030.553 | AL29: 20380.02 | AM29: 59.88742 | AN29: 25 | AO29: 7.6 | AP29: 13 | AQ29: 8.8 | AR29: 8.2 | AS29: 6.926453 | AT29: 19 | AU29: 8.2 | AV29: =I29+Q29+T29+AB29+AJ29+AR29+AU29 -> 81.95 | AW29: =RANK(AV29,$AV$4:$AV$29) -> 25 | AX29: 8 | AY29: 23000 | AZ29: 1800 | BA29: 1800 | BB29: 500 | BC29: 500 | BD29: 7000 | BE29: 4000 | BF29: 38500
A30: 포천 | B30: 105053 | C30: 118123.93 | D30: 112.44222 | E30: 5 | F30: 14.4 | G30: 3 | H30: 14.7 | I30: 14.55 | J30: 32398 | K30: 31358.895 | L30: 96.792689 | M30: 13 | N30: 13.2 | O30: 1 | P30: 15 | Q30: 14.1 | R30: 19.9943 | S30: 1 | T30: 20 | U30: 3899 | V30: 3756 | W30: 96.332393 | X30: 4 | Y30: 14.55 | Z30: 3 | AA30: 14.7 | AB30: 14.625 | AC30: 2704 | AD30: 2143 | AE30: 79.252959 | AF30: 10 | AG30: 13.65 | AH30: 3 | AI30: 14.7 | AJ30: 14.175 | AK30: 18542.68 | AL30: 14658.54 | AM30: 79.052974 | AN30: 5 | AO30: 9.6 | AP30: 4 | AQ30: 9.7 | AR30: 9.65 | AS30: 7.388597 | AT30: 2 | AU30: 9.9 | AV30: =I30+Q30+T30+AB30+AJ30+AR30+AU30 -> 97 | AW30: =RANK(AV30,$AV$30:$AV$43) -> 1 | AX30: 12 | AY30: 25000 | AZ30: 1800 | BA30: 1700 | BB30: 500 | BC30: 800 | BD30: 12000 | BE30: 6000 | BF30: 48400
A31: 강화 | B31: 98907 | C31: 106269.01 | D31: 107.44336 | E31: 13 | F31: 13.2 | G31: 6 | H31: 14.25 | I31: 13.725 | J31: 20922 | K31: 21808.129 | L31: 104.23539 | M31: 5 | N31: 14.4 | O31: 6 | P31: 14.25 | Q31: 14.325 | R31: 19.9715 | S31: 3 | T31: 19.6 | U31: 2589 | V31: 2223 | W31: 85.863268 | X31: 14 | Y31: 13.05 | Z31: 12 | AA31: 13.35 | AB31: 13.2 | AC31: 1769 | AD31: 1153 | AE31: 65.178067 | AF31: 13 | AG31: 13.2 | AH31: 11 | AI31: 13.5 | AJ31: 13.35 | AK31: 7421.7053 | AL31: 4912.06 | AM31: 66.185058 | AN31: 13 | AO31: 8.8 | AP31: 13 | AQ31: 8.8 | AR31: 8.8 | AS31: 6.3601789 | AT31: 14 | AU31: 8.7 | AV31: =I31+Q31+T31+AB31+AJ31+AR31+AU31 -> 91.7 | AW31: =RANK(AV31,$AV$30:$AV$43) -> 12 | AX31: 13 | AY31: 18000 | AZ31: 1800 | BA31: 1700 | BB31: 500 | BC31: 400 | BD31: 7000 | BE31: 3500 | BF31: 33500
A32: 양평 | B32: 106201 | C32: 123988.44 | D32: 116.74885 | E32: 2 | F32: 14.85 | G32: 2 | H32: 14.85 | I32: 14.85 | J32: 22310 | K32: 23300.287 | L32: 104.43876 | M32: 4 | N32: 14.55 | O32: 5 | P32: 14.4 | Q32: 14.475 | R32: 19.9886 | S32: 2 | T32: 19.8 | U32: 3189 | V32: 2977 | W32: 93.352148 | X32: 11 | Y32: 13.5 | Z32: 7 | AA32: 14.1 | AB32: 13.8 | AC32: 2028 | AD32: 1585 | AE32: 78.155819 | AF32: 11 | AG32: 13.5 | AH32: 7 | AI32: 14.1 | AJ32: 13.8 | AK32: 18925.257 | AL32: 12668.23 | AM32: 66.93822 | AN32: 11 | AO32: 9 | AP32: 6 | AQ32: 9.5 | AR32: 9.25 | AS32: 6.4502838 | AT32: 13 | AU32: 8.8 | AV32: =I32+Q32+T32+AB32+AJ32+AR32+AU32 -> 94.775 | AW32: =RANK(AV32,$AV$30:$AV$43) -> 5 | AX32: 12 | AY32: 22000 | AZ32: 1800 | BA32: 1700 | BB32: 500 | BC32: 600 | BD32: 10000 | BE32: 4500 | BF32: 41700
A33: 가평 | B33: 55482 | C33: 65175.445 | D33: 117.47133 | E33: 1 | F33: 15 | G33: 12 | H33: 13.35 | I33: 14.175 | J33: 16099 | K33: 18684.369 | L33: 116.05919 | M33: 1 | N33: 15 | O33: 12 | P33: 13.35 | Q33: 14.175 | R33: 19.9658 | S33: 4 | T33: 19.4 | U33: 2292 | V33: 2244 | W33: 97.905759 | X33: 2 | Y33: 14.85 | Z33: 11 | AA33: 13.5 | AB33: 14.175 | AC33: 1418 | AD33: 1349 | AE33: 95.133992 | AF33: 3 | AG33: 14.7 | AH33: 10 | AI33: 13.65 | AJ33: 14.175 | AK33: 9639.4573 | AL33: 7537.19 | AM33: 78.191021 | AN33: 6 | AO33: 9.5 | AP33: 9 | AQ33: 9.2 | AR33: 9.35 | AS33: 7.1583151 | AT33: 5 | AU33: 9.6 | AV33: =I33+Q33+T33+AB33+AJ33+AR33+AU33 -> 95.05 | AW33: =RANK(AV33,$AV$30:$AV$43) -> 3 | AX33: 6 | AY33: 25000 | AZ33: 1300 | BA33: 1200 | BB33: 350 | BC33: 700 | BD33: 12000 | BE33: 4500 | BF33: 44850
A34: 경기광주 | B34: 101037 | C34: 113473.93 | D34: 112.30929 | E34: 6 | F34: 14.25 | G34: 4 | H34: 14.55 | I34: 14.4 | J34: 25643 | K34: 25801.344 | L34: 100.61749 | M34: 9 | N34: 13.8 | O34: 3 | P34: 14.7 | Q34: 14.25 | R34: 19.943 | S34: 9 | T34: 18.4 | U34: 3698 | V34: 3487 | W34: 94.294213 | X34: 8 | Y34: 13.95 | Z34: 4 | AA34: 14.55 | AB34: 14.25 | AC34: 2340 | AD34: 2082 | AE34: 88.974359 | AF34: 6 | AG34: 14.25 | AH34: 4 | AI34: 14.55 | AJ34: 14.4 | AK34: 18349.316 | AL34: 13322.88 | AM34: 72.606956 | AN34: 7 | AO34: 9.4 | AP34: 5 | AQ34: 9.6 | AR34: 9.5 | AS34: 7.2623566 | AT34: 4 | AU34: 9.7 | AV34: =I34+Q34+T34+AB34+AJ34+AR34+AU34 -> 94.9 | AW34: =RANK(AV34,$AV$30:$AV$43) -> 4 | AX34: 7 | AY34: 22000 | AZ34: 1500 | BA34: 1200 | BB34: 350 | BC34: 600 | BD34: 10000 | BE34: 4500 | BF34: 40150
A35: 이천 | B35: 92073 | C35: 102733.08 | D35: 111.57786 | E35: 7 | F35: 14.1 | G35: 9 | H35: 13.8 | I35: 13.95 | J35: 21117 | K35: 20862.02 | L35: 98.792539 | M35: 11 | N35: 13.5 | O35: 7 | P35: 14.1 | Q35: 13.8 | R35: 19.9487 | S35: 7 | T35: 18.8 | U35: 3408 | V35: 3183 | W35: 93.397887 | X35: 10 | Y35: 13.65 | Z35: 6 | AA35: 14.25 | AB35: 13.95 | AC35: 2331 | AD35: 2053 | AE35: 88.073788 | AF35: 7 | AG35: 14.1 | AH35: 5 | AI35: 14.4 | AJ35: 14.25 | AK35: 28320.005 | AL35: 24245.5 | AM35: 85.612625 | AN35: 2 | AO35: 9.9 | AP35: 1 | AQ35: 10 | AR35: 9.95 | AS35: 6.8998026 | AT35: 8 | AU35: 9.3 | AV35: =I35+Q35+T35+AB35+AJ35+AR35+AU35 -> 94 | AW35: =RANK(AV35,$AV$30:$AV$43) -> 7 | AX35: 11 | AY35: 20000 | AZ35: 1800 | BA35: 1700 | BB35: 500 | BC35: 500 | BD35: 8000 | BE35: 4000 | BF35: 36600
A36: 여주 | B36: 93377 | C36: 101218.22 | D36: 108.39738 | E36: 12 | F36: 13.35 | G36: 10 | H36: 13.65 | I36: 13.5 | J36: 19993 | K36: 19071.486 | L36: 95.390819 | M36: 14 | N36: 13.05 | O36: 10 | P36: 13.65 | Q36: 13.35 | R36: 19.9487 | S36: 7 | T36: 18.8 | U36: 2702 | V36: 2628 | W36: 97.261288 | X36: 3 | Y36: 14.7 | Z36: 9 | AA36: 13.8 | AB36: 14.25 | AC36: 1715 | AD36: 1624 | AE36: 94.693878 | AF36: 4 | AG36: 14.55 | AH36: 6 | AI36: 14.25 | AJ36: 14.4 | AK36: 18039.227 | AL36: 15441.72 | AM36: 85.600786 | AN36: 3 | AO36: 9.8 | AP36: 3 | AQ36: 9.8 | AR36: 9.8 | AS36: 6.8197524 | AT36: 9 | AU36: 9.2 | AV36: =I36+Q36+T36+AB36+AJ36+AR36+AU36 -> 93.3 | AW36: =RANK(AV36,$AV$30:$AV$43) -> 8 | AX36: 9 | AY36: 20000 | AZ36: 1750 | BA36: 1500 | BB36: 400 | BC36: 500 | BD36: 8000 | BE36: 4000 | BF36: 36200
A37: 안성 | B37: 102113 | C37: 112475.84 | D37: 110.1484 | E37: 10 | F37: 13.65 | G37: 5 | H37: 14.4 | I37: 14.025 | J37: 31480 | K37: 31086.323 | L37: 98.749439 | M37: 12 | N37: 13.35 | O37: 2 | P37: 14.85 | Q37: 14.1 | R37: 19.9658 | S37: 4 | T37: 19.4 | U37: 3963 | V37: 3765 | W37: 95.003785 | X37: 7 | Y37: 14.1 | Z37: 2 | AA37: 14.85 | AB37: 14.475 | AC37: 2750 | AD37: 2187 | AE37: 79.527273 | AF37: 9 | AG37: 13.8 | AH37: 1 | AI37: 15 | AJ37: 14.4 | AK37: 28776.305 | AL37: 19012.82 | AM37: 66.071095 | AN37: 14 | AO37: 8.7 | AP37: 2 | AQ37: 9.9 | AR37: 9.3 | AS37: 7.4303198 | AT37: 1 | AU37: 10 | AV37: =I37+Q37+T37+AB37+AJ37+AR37+AU37 -> 95.7 | AW37: =RANK(AV37,$AV$30:$AV$43) -> 2 | AX37: 14 | AY37: 25000 | AZ37: 1800 | BA37: 1700 | BB37: 500 | BC37: 750 | BD37: 12000 | BE37: 5000 | BF37: 47550
A38: 동두천 | B38: 67234 | C38: 74152.093 | D38: 110.28957 | E38: 9 | F38: 13.8 | G38: 11 | H38: 13.5 | I38: 13.65 | J38: 18793 | K38: 19243.412 | L38: 102.3967 | M38: 7 | N38: 14.1 | O38: 8 | P38: 13.95 | Q38: 14.025 | R38: 19.9658 | S38: 4 | T38: 19.4 | U38: 2935 | V38: 2673 | W38: 91.073254 | X38: 12 | Y38: 13.35 | Z38: 8 | AA38: 13.95 | AB38: 13.65 | AC38: 1708 | AD38: 1484 | AE38: 86.885246 | AF38: 8 | AG38: 13.95 | AH38: 9 | AI38: 13.8 | AJ38: 13.875 | AK38: 10894.732 | AL38: 7350.14 | AM38: 67.465085 | AN38: 10 | AO38: 9.1 | AP38: 10 | AQ38: 9.1 | AR38: 9.1 | AS38: 6.4654758 | AT38: 12 | AU38: 8.9 | AV38: =I38+Q38+T38+AB38+AJ38+AR38+AU38 -> 92.6 | AW38: =RANK(AV38,$AV$30:$AV$43) -> 10 | AX38: 6 | AY38: 18000 | AZ38: 1300 | BA38: 1200 | BB38: 400 | BC38: 400 | BD38: 7000 | BE38: 3500 | BF38: 31550
A39: 연천 | B39: 59700 | C39: 65017.281 | D39: 108.90667 | E39: 11 | F39: 13.5 | G39: 13 | H39: 13.2 | I39: 13.35 | J39: 15342 | K39: 16289.041 | L39: 106.17286 | M39: 3 | N39: 14.7 | O39: 13 | P39: 13.2 | Q39: 13.95 | R39: 19.9202 | S39: 14 | T39: 17.4 | U39: 1712 | V39: 1511 | W39: 88.259346 | X39: 13 | Y39: 13.2 | Z39: 13 | AA39: 13.2 | AB39: 13.2 | AC39: 1267 | AD39: 697 | AE39: 55.011839 | AF39: 14 | AG39: 13.05 | AH39: 13 | AI39: 13.2 | AJ39: 13.125 | AK39: 6386.1869 | AL39: 5086.84 | AM39: 79.653792 | AN39: 4 | AO39: 9.7 | AP39: 12 | AQ39: 8.9 | AR39: 9.3 | AS39: 6.4696805 | AT39: 11 | AU39: 9 | AV39: =I39+Q39+T39+AB39+AJ39+AR39+AU39 -> 89.325 | AW39: =RANK(AV39,$AV$30:$AV$43) -> 14 | AX39: 7 | AY39: 16000 | AZ39: 1500 | BA39: 1200 | BB39: 350 | BC39: 400 | BD39: 6500 | BE39: 3500 | BF39: 29400
A40: 오산 | B40: 91765 | C40: 105628.24 | D40: 115.10733 | E40: 3 | F40: 14.7 | G40: 7 | H40: 14.1 | I40: 14.4 | J40: 18472 | K40: 18816.442 | L40: 101.86467 | M40: 8 | N40: 13.95 | O40: 11 | P40: 13.5 | Q40: 13.725 | R40: 19.9259 | S40: 13 | T40: 17.6 | U40: 3358 | V40: 3218 | W40: 95.830852 | X40: 6 | Y40: 14.25 | Z40: 5 | AA40: 14.4 | AB40: 14.325 | AC40: 1764 | AD40: 1580 | AE40: 89.569161 | AF40: 5 | AG40: 14.4 | AH40: 8 | AI40: 13.95 | AJ40: 14.175 | AK40: 9351.7825 | AL40: 6429.24 | AM40: 68.748819 | AN40: 9 | AO40: 9.2 | AP40: 11 | AQ40: 9 | AR40: 9.1 | AS40: 7.2746417 | AT40: 3 | AU40: 9.8 | AV40: =I40+Q40+T40+AB40+AJ40+AR40+AU40 -> 93.125 | AW40: =RANK(AV40,$AV$30:$AV$43) -> 9 | AX40: 3 | AY40: 20000 | AZ40: 1000 | BA40: 1000 | BB40: 300 | BC40: 500 | BD40: 8000 | BE40: 4000 | BF40: 34600
A41: 백령 | B41: 29234 | C41: 33305.44 | D41: 113.92707 | E41: 4 | F41: 14.55 | G41: 14 | H41: 13.05 | I41: 13.8 | J41: 6062 | K41: 6464.0756 | L41: 106.63272 | M41: 2 | N41: 14.85 | O41: 14 | P41: 13.05 | Q41: 13.95 | R41: 19.943 | S41: 10 | T41: 18.2 | U41: 922 | V41: 885 | W41: 95.986985 | X41: 5 | Y41: 14.4 | Z41: 14 | AA41: 13.05 | AB41: 13.725 | AC41: 545 | AD41: 547 | AE41: 100.36697 | AF41: 2 | AG41: 14.85 | AH41: 14 | AI41: 13.05 | AJ41: 13.95 | AK41: 620.66477 | AL41: 658.88 | AM41: 106.15715 | AN41: 1 | AO41: 10 | AP41: 14 | AQ41: 8.7 | AR41: 9.35 | AS41: 6.4990321 | AT41: 10 | AU41: 9.1 | AV41: =I41+Q41+T41+AB41+AJ41+AR41+AU41 -> 92.075 | AW41: =RANK(AV41,$AV$30:$AV$43) -> 11 | AX41: 4 | AY41: 18000 | AZ41: 800 | BA41: 800 | BB41: 300 | BC41: 400 | BD41: 7000 | BE41: 3500 | BF41: 30766
... A43: 구리 | B43: 136792 | C43: 146198.67 | D43: 106.87662 | E43: 14 | F43: 13.05 | G43: 1 | H43: 15 | I43: 14.025 | J43: 22641 | K43: 23558.025 | L43: 104.05029 | M43: 6 | N43: 14.25 | O43: 4 | P43: 14.55 | Q43: 14.4 | R43: 19.9316 | S43: 12 | T43: 17.8 | U43: 3910 | V43: 3837 | W43: 98.132992 | X43: 1 | Y43: 15 | Z43: 1 | AA43: 15 | AB43: 15 | AC43: 2081 | AD43: 2175 | AE43: 104.51706 | AF43: 1 | AG43: 15 | AH43: 2 | AI43: 14.85 | AJ43: 14.925 | AK43: 15428.44 | AL43: 10249.88 | AM43: 66.434972 | AN43: 12 | AO43: 8.9 | AP43: 7 | AQ43: 9.4 | AR43: 9.15 | AS43: 6.9891086 | AT43: 7 | AU43: 9.4 | AV43: =I43+Q43+T43+AB43+AJ43+AR43+AU43 -> 94.7 | AW43: =RANK(AV43,$AV$30:$AV$43) -> 6 | AX43: 5 | AY43: 22000 | AZ43: 1300 | BA43: 1200 | BB43: 400 | BC43: 600 | BD43: 10000 | BE43: 4500 | BF43: 39650
A44: 합 계 | B44: 8321000 | C44: 8978492.4 | D44: =C44/B44% -> 107.9016 | J44: 1661000 | K44: 1777687 | L44: =K44/J44% -> 107.02511 | U44: 250000 | V44: 237619 | W44: =V44/U44% -> 95.0476 | AC44: 149449 | AD44: 125899 | AE44: =AD44/AC44% -> 84.242116 | AK44: 1044000.3 | AL44: 711668.65 | AM44: =AL44/AK44% -> 68.167475 | AY44: =SUM(AY4:AY43) -> 1000000 | AZ44: =SUM(AZ4:AZ43) -> 75916 | BA44: =SUM(BA4:BA43) -> 80000 | BB44: =SUM(BB4:BB43) -> 22000 | BC44: =SUM(BC4:BC43) -> 25000 | BD44: =SUM(BD4:BD43) -> 400000 | BE44: =SUM(BE4:BE43) -> 200000 | BF44: =SUM(BF4:BF43) -> 1802916

Sheet Sheet1 (2)
A2: 구 분 | B2: 총수신고(15점, 단위: 백만원, %)) | J2: 요구불 수신고(15점, 단위: 백만원, %) | R2: 조달금리(20점) | U2: 스마트뱅킹(15점, 단위: 건, %) | AC2: 체크카드(15점, 단위: 건, %) | AK2: 수수료(10점, 단위: 천원, %) | AS2: 우수고객(10점) | AV2: 총점 | AW2: 순위 | AX2: 관내국수 | AY2: 5231-361 | BD2: 5231-362 | BF2: 합 계
A3: 구분 | B3: 목표 | C3: 실적 | D3: 달성률 | E3: 달성률 순위 | F3: 달성률 점수 | G3: 점유율 순위 | H3: 점유율 점수 | I3: 환산점수 | J3: 목표 | K3: 실적 | L3: 달성률 | M3: 달성률 순위 | N3: 달성률 점수 | O3: 점유율 순위 | P3: 점유율 점수 | Q3: 환산점수 | R3: 평가점수 | S3: 순위 | T3: 환산점수 | U3: 목표 | V3: 실적 | W3: 달성률 | X3: 달성률 순위 | Y3: 달성률 점수 | Z3: 점유율 순위 | AA3: 점유율 점수 | AB3: 환산점수 | AC3: 목표 | AD3: 실적 | AE3: 달성률 | AF3: 달성률 순위 | AG3: 달성률 점수 | AH3: 점유율 순위 | AI3: 점유율 점수 | AJ3: 환산점수 | AK3: 목표 | AL3: 실적 | AM3: 달성률 | AN3: 달성률 순위 | AO3: 달성률 점수 | AP3: 점유율 순위 | AQ3: 점유율 점수 | AR3: 환산점수 | AS3: 평가점수 | AT3: 순위 | AU3: 환산점수 | AV3: 총점 | AW3: 순위 | AX3: 관내국수 | AY3: 210-01 (일반수용비) | AZ3: 210-02 (공공요금) | BA3: 210-09 (시설장비유지비) | BB3: 220-01 (국내여비) | BC3: 240-01 (업무추진비) | BD3: 210-01 (일반수용비) | BE3: 310-03 (포상금) | BF3: 합계
A4: 인천 | B4: 299995 | C4: 323347.68 | D4: 107.78436 | E4: 13 | F4: 13.2 | G4: 10 | H4: 13.65 | I4: 13.425 | J4: 61649 | K4: 64908.881 | L4: 105.28781 | M4: 9 | N4: 13.8 | O4: 10 | P4: 13.65 | Q4: 13.725 | R4: 19.9829 | S4: 6 | T4: 19 | U4: 9804 | V4: 9003 | W4: 91.829865 | X4: 21 | Y4: 12 | Z4: 7 | AA4: 14.1 | AB4: 13.05 | AC4: 5846 | AD4: 4769 | AE4: 81.577147 | AF4: 15 | AG4: 12.9 | AH4: 10 | AI4: 13.65 | AJ4: 13.275 | AK4: 29619.755 | AL4: 20050.06 | AM4: 67.691513 | AN4: 8 | AO4: 9.3 | AP4: 13 | AQ4: 8.8 | AR4: 9.05 | AS4: 7.053419 | AT4: 15 | AU4: 8.6 | AV4: 90.125 | AW4: 10 | AX4: 19 | AY4: 27000 | AZ4: 3300 | BA4: 3200 | BB4: 900 | BC4: 600 | BD4: 10000 | BE4: 5000 | BF4: 50250
A5: 서인천 | B5: 224643 | C5: 265705.89 | D5: 118.27917 | E5: 1 | F5: 15 | G5: 15 | H5: 12.9 | I5: 13.95 | J5: 54762 | K5: 80103.361 | L5: 146.27545 | M5: 1 | N5: 15 | O5: 4 | P5: 14.55 | Q5: 14.775 | R5: 19.985 | S5: 5 | T5: 19.2 | U5: 6756 | V5: 6468 | W5: 95.737123 | X5: 12 | Y5: 13.35 | Z5: 16 | AA5: 12.75 | AB5: 13.05 | AC5: 4154 | AD5: 3709 | AE5: 89.287434 | AF5: 6 | AG5: 14.25 | AH5: 13 | AI5: 13.2 | AJ5: 13.725 | AK5: 19391.732 | AL5: 13799.48 | AM5: 71.161667 | AN5: 4 | AO5: 9.7 | AP5: 22 | AQ5: 7.9 | AR5: 8.8 | AS5: 7.0654023 | AT5: 14 | AU5: 8.7 | AV5: 92.2 | AW5: 3 | AX5: 8 | AY5: 33000 | AZ5: 1800 | BA5: 1800 | BB5: 500 | BC5: 900 | BD5: 16000 | BE5: 8000 | BF5: 61900
A6: 인천계양 | B6: 151364 | C6: 167687.4 | D6: 110.7842 | E6: 7 | F6: 14.1 | G6: 22 | H6: 11.85 | I6: 12.975 | J6: 32926 | K6: 34130.886 | L6: 103.65938 | M6: 10 | N6: 13.65 | O6: 22 | P6: 11.85 | Q6: 12.75 | R6: 19.9544 | S6: 18 | T6: 16.6 | U6: 5402 | V6: 5207 | W6: 96.390226 | X6: 8 | Y6: 13.95 | Z6: 24 | AA6: 11.55 | AB6: 12.75 | AC6: 3152 | AD6: 2246 | AE6: 71.256345 | AF6: 20 | AG6: 12.15 | AH6: 24 | AI6: 11.55 | AJ6: 11.85 | AK6: 12023.776 | AL6: 7854.42 | AM6: 65.324069 | AN6: 18 | AO6: 8.3 | AP6: 24 | AQ6: 7.7 | AR6: 8 | AS6: 7.2162227 | AT6: 7 | AU6: 9.4 | AV6: 84.325 | AW6: 23 | AX6: 5 | AY6: 23000 | AZ6: 1566 | BA6: 1500 | BB6: 400 | BC6: 500 | BD6: 7000 | BE6: 4000 | BF6: 37400
A7: 남인천 | B7: 421947 | C7: 481259.07 | D7: 114.05676 | E7: 4 | F7: 14.55 | G7: 3 | H7: 14.7 | I7: 14.625 | J7: 98615 | K7: 129374.31 | L7: 131.1913 | M7: 2 | N7: 14.85 | O7: 1 | P7: 15 | Q7: 14.925 | R7: 19.95 | S7: 20 | T7: 16.2 | U7: 15565 | V7: 14827 | W7: 95.258593 | X7: 16 | Y7: 12.75 | Z7: 1 | AA7: 15 | AB7: 13.875 | AC7: 8681 | AD7: 7576 | AE7: 87.271052 | AF7: 10 | AG7: 13.65 | AH7: 1 | AI7: 15 | AJ7: 14.325 | AK7: 48503.051 | AL7: 30774.83 | AM7: 63.449266 | AN7: 23 | AO7: 7.8 | AP7: 4 | AQ7: 9.7 | AR7: 8.75 | AS7: 6.9398332 | AT7: 17 | AU7: 8.4 | AV7: 91.1 | AW7: 6 | AX7: 16 | AY7: 33000 | AZ7: 3000 | BA7: 4000 | BB7: 850 | BC7: 850 | BD7: 15000 | BE7: 6000 | BF7: 62650
A8: 부평 | B8: 315529 | C8: 344504.01 | D8: 109.18299 | E8: 11 | F8: 13.5 | G8: 8 | H8: 13.95 | I8: 13.725 | J8: 72656 | K8: 73623.766 | L8: 101.33198 | M8: 18 | N8: 12.45 | O8: 9 | P8: 13.8 | Q8: 13.125 | R8: 19.97 | S8: 10 | T8: 18.2 | U8: 9432 | V8: 9275 | W8: 98.335454 | X8: 3 | Y8: 14.7 | Z8: 5 | AA8: 14.4 | AB8: 14.55 | AC8: 5856 | AD8: 5688 | AE8: 97.131148 | AF8: 4 | AG8: 14.55 | AH8: 3 | AI8: 14.7 | AJ8: 14.625 | AK8: 27864.373 | AL8: 18443.9 | AM8: 66.191693 | AN8: 14 | AO8: 8.7 | AP8: 15 | AQ8: 8.6 | AR8: 8.65 | AS8: 7.2419778 | AT8: 5 | AU8: 9.6 | AV8: 92.475 | AW8: 2 | AX8: 11 | AY8: 33000 | AZ8: 2000 | BA8: 2700 | BB8: 600 | BC8: 1000 | BD8: 17000 | BE8: 9000 | BF8: 65300
A9: 의정부 | B9: 263868 | C9: 275841.53 | D9: 104.5377 | E9: 19 | F9: 12.3 | G9: 14 | H9: 13.05 | I9: 12.675 | J9: 55706 | K9: 56791.186 | L9: 101.94806 | M9: 16 | N9: 12.75 | O9: 12 | P9: 13.35 | Q9: 13.05 | R9: 19.995 | S9: 2 | T9: 19.8 | U9: 8847 | V9: 7860 | W9: 88.843676 | X9: 24 | Y9: 11.55 | Z9: 11 | AA9: 13.5 | AB9: 12.525 | AC9: 5227 | AD9: 3003 | AE9: 57.451693 | AF9: 24 | AG9: 11.55 | AH9: 21 | AI9: 12 | AJ9: 11.775 | AK9: 33634.971 | AL9: 22267.74 | AM9: 66.20413 | AN9: 13 | AO9: 8.8 | AP9: 11 | AQ9: 9 | AR9: 8.9 | AS9: 6.9359441 | AT9: 18 | AU9: 8.3 | AV9: 87.025 | AW9: 16 | AX9: 12 | AY9: 25000 | AZ9: 2000 | BA9: 2800 | BB9: 600 | BC9: 550 | BD9: 8000 | BE9: 4500 | BF9: 43950
A10: 수원 | B10: 464377 | C10: 485367.95 | D10: 104.52024 | E10: 20 | F10: 12.15 | G10: 2 | H10: 14.85 | I10: 13.5 | J10: 92948 | K10: 95193.145 | L10: 102.41548 | M10: 14 | N10: 13.05 | O10: 2 | P10: 14.85 | Q10: 13.95 | R10: 19.9829 | S10: 6 | T10: 19 | U10: 12188 | V10: 11475 | W10: 94.149984 | X10: 19 | Y10: 12.3 | Z10: 4 | AA10: 14.55 | AB10: 13.425 | AC10: 7283 | AD10: 4976 | AE10: 68.323493 | AF10: 23 | AG10: 11.7 | AH10: 8 | AI10: 13.95 | AJ10: 12.825 | AK10: 49017 | AL10: 34682.04 | AM10: 70.755126 | AN10: 5 | AO10: 9.6 | AP10: 3 | AQ10: 9.8 | AR10: 9.7 | AS10: 6.8976547 | AT10: 20 | AU10: 8.1 | AV10: 90.5 | AW10: 8 | AX10: 10 | AY10: 30000 | AZ10: 1900 | BA10: 2200 | BB10: 600 | BC10: 800 | BD10: 12000 | BE10: 6000 | BF10: 53400
A11: 동수원 | B11: 285275 | C11: 291092.82 | D11: 102.03937 | E11: 23 | F11: 11.7 | G11: 13 | H11: 13.2 | I11: 12.45 | J11: 45192 | K11: 48712.389 | L11: 107.78985 | M11: 7 | N11: 14.1 | O11: 13 | P11: 13.2 | Q11: 13.65 | R11: 20 | S11: 1 | T11: 20 | U11: 8180 | V11: 7863 | W11: 96.124694 | X11: 10 | Y11: 13.65 | Z11: 10 | AA11: 13.65 | AB11: 13.65 | AC11: 3989 | AD11: 4982 | AE11: 124.89346 | AF11: 1 | AG11: 15 | AH11: 7 | AI11: 14.1 | AJ11: 14.55 | AK11: 28705 | AL11: 17961.22 | AM11: 62.571747 | AN11: 24 | AO11: 7.7 | AP11: 17 | AQ11: 8.4 | AR11: 8.05 | AS11: 6.9952675 | AT11: 16 | AU11: 8.5 | AV11: 90.85 | AW11: 7 | AX11: 9 | AY11: 30000 | AZ11: 1800 | BA11: 2000 | BB11: 600 | BC11: 800 | BD11: 12000 | BE11: 6000 | BF11: 53200
A12: 서수원 | AX12: 5 | AY12: 23000 | AZ12: 1500 | BA12: 1500 | BB12: 400 | BC12: 500 | BD12: 10000 | BE12: 4000 | BF12: 40400
A13: 군포 | B13: 233265 | C13: 258308.1 | D13: 110.7359 | E13: 8 | F13: 13.95 | G13: 16 | H13: 12.75 | I13: 13.35 | J13: 36687 | K13: 39291.491 | L13: 107.09922 | M13: 8 | N13: 13.95 | O13: 19 | P13: 12.3 | Q13: 13.125 | R13: 19.968 | S13: 11 | T13: 18 | U13: 5836 | V13: 5628 | W13: 96.435915 | X13: 7 | Y13: 14.1 | Z13: 21 | AA13: 12 | AB13: 13.05 | AC13: 3678 | AD13: 3064 | AE13: 83.306145 | AF13: 14 | AG13: 13.05 | AH13: 20 | AI13: 12.15 | AJ13: 12.6 | AK13: 27026.947 | AL13: 18180.14 | AM13: 67.266718 | AN13: 9 | AO13: 9.2 | AP13: 16 | AQ13: 8.5 | AR13: 8.85 | AS13: 7.4680157 | AT13: 1 | AU13: 10 | AV13: 88.975 | AW13: 12 | AX13: 8 | AY13: 27000 | AZ13: 1800 | BA13: 1800 | BB13: 500 | BC13: 600 | BD13: 10000 | BE13: 5000 | BF13: 46650
A14: 안양 | B14: 434881 | C14: 461935.24 | D14: 106.22107 | E14: 16 | F14: 12.75 | G14: 4 | H14: 14.55 | I14: 13.65 | J14: 67063 | K14: 78374.327 | L14: 116.86672 | M14: 4 | N14: 14.55 | O14: 6 | P14: 14.25 | Q14: 14.4 | R14: 19.96 | S14: 17 | T14: 16.8 | U14: 8801 | V14: 8505 | W14: 96.636746 | X14: 5 | Y14: 14.4 | Z14: 9 | AA14: 13.8 | AB14: 14.1 | AC14: 5493 | AD14: 5529 | AE14: 100.65538 | AF14: 2 | AG14: 14.85 | AH14: 4 | AI14: 14.55 | AJ14: 14.7 | AK14: 46481.533 | AL14: 30419 | AM14: 65.443194 | AN14: 17 | AO14: 8.4 | AP14: 5 | AQ14: 9.6 | AR14: 9 | AS14: 6.6858769 | AT14: 24 | AU14: 7.7 | AV14: 90.35 | AW14: 9 | AX14: 11 | AY14: 30000 | AZ14: 2000 | BA14: 2700 | BB14: 600 | BC14: 800 | BD14: 12000 | BE14: 6000 | BF14: 54100
A15: 성남 | B15: 331000 | C15: 362257.84 | D15: 109.44346 | E15: 9 | F15: 13.8 | G15: 7 | H15: 14.1 | I15: 13.95 | J15: 77732 | K15: 78424.7 | L15: 100.89114 | M15: 19 | N15: 12.3 | O15: 5 | P15: 14.4 | Q15: 13.35 | R15: 19.99 | S15: 4 | T15: 19.4 | U15: 9630 | V15: 9129 | W15: 94.797508 | X15: 17 | Y15: 12.6 | Z15: 6 | AA15: 14.25 | AB15: 13.425 | AC15: 6052 | AD15: 4901 | AE15: 80.981494 | AF15: 16 | AG15: 12.75 | AH15: 9 | AI15: 13.8 | AJ15: 13.275 | AK15: 25101.805 | AL15: 16341.58 | AM15: 65.101215 | AN15: 19 | AO15: 8.2 | AP15: 18 | AQ15: 8.3 | AR15: 8.25 | AS15: 7.2379672 | AT15: 6 | AU15: 9.5 | AV15: 91.15 | AW15: 5 | AX15: 10 | AY15: 30000 | AZ15: 1900 | BA15: 2300 | BB15: 600 | BC15: 800 | BD15: 12000 | BE15: 6000 | BF15: 53500
A16: 성남분당 | B16: 659092 | C16: 652458.23 | D16: 98.993499 | E16: 24 | F16: 11.55 | G16: 1 | H16: 15 | I16: 13.275 | J16: 47438 | K16: 59868.504 | L16: 126.20369 | M16: 3 | N16: 14.7 | O16: 11 | P16: 13.5 | Q16: 14.1 | R16: 19.944 | S16: 22 | T16: 15.8 | U16: 6720 | V16: 6427 | W16: 95.639881 | X16: 13 | Y16: 13.2 | Z16: 17 | AA16: 12.6 | AB16: 12.9 | AC16: 4027 | AD16: 3570 | AE16: 88.651602 | AF16: 9 | AG16: 13.8 | AH16: 14 | AI16: 13.05 | AJ16: 13.425 | AK16: 62196.252 | AL16: 40343.37 | AM16: 64.864632 | AN16: 21 | AO16: 8 | AP16: 1 | AQ16: 10 | AR16: 9 | AS16: 7.0892026 | AT16: 13 | AU16: 8.8 | AV16: 87.3 | AW16: 15 | AX16: 9 | AY16: 27000 | AZ16: 1800 | BA16: 2000 | BB16: 600 | BC16: 600 | BD16: 10000 | BE16: 5000 | BF16: 47000
A17: 부천 | B17: 417802 | C17: 445127.03 | D17: 106.54019 | E17: 14 | F17: 13.05 | G17: 5 | H17: 14.4 | I17: 13.725 | J17: 87804 | K17: 90489.225 | L17: 103.0582 | M17: 12 | N17: 13.35 | O17: 3 | P17: 14.7 | Q17: 14.025 | R17: 19.9943 | S17: 3 | T17: 19.6 | U17: 13663 | V17: 13459 | W17: 98.506916 | X17: 2 | Y17: 14.85 | Z17: 2 | AA17: 14.85 | AB17: 14.85 | AC17: 7927 | AD17: 7029 | AE17: 88.671629 | AF17: 8 | AG17: 13.95 | AH17: 2 | AI17: 14.85 | AJ17: 14.4 | AK17: 43573.168 | AL17: 28552.09 | AM17: 65.526771 | AN17: 16 | AO17: 8.5 | AP17: 7 | AQ17: 9.4 | AR17: 8.95 | AS17: 7.1950527 | AT17: 10 | AU17: 9.1 | AV17: 94.65 | AW17: 1 | AX17: 16 | AY17: 33000 | AZ17: 3000 | BA17: 3200 | BB17: 850 | BC17: 1200 | BD17: 18000 | BE17: 10000 | BF17: 69200
A18: 안산 | B18: 313023 | C18: 324221.04 | D18: 103.57738 | E18: 21 | F18: 12 | G18: 9 | H18: 13.8 | I18: 12.9 | J18: 75810 | K18: 77571.461 | L18: 102.32352 | M18: 15 | N18: 12.9 | O18: 7 | P18: 14.1 | Q18: 13.5 | R18: 19.95 | S18: 19 | T18: 16.4 | U18: 13020 | V18: 12436 | W18: 95.514593 | X18: 15 | Y18: 12.9 | Z18: 3 | AA18: 14.7 | AB18: 13.8 | AC18: 6941 | AD18: 5475 | AE18: 78.879124 | AF18: 18 | AG18: 12.45 | AH18: 5 | AI18: 14.4 | AJ18: 13.425 | AK18: 30705.275 | AL18: 20427.48 | AM18: 66.527592 | AN18: 11 | AO18: 9 | AP18: 12 | AQ18: 8.9 | AR18: 8.95 | AS18: 7.3320809 | AT18: 2 | AU18: 9.9 | AV18: 88.875 | AW18: 13 | AX18: 14 | AY18: 27000 | AZ18: 3000 | BA18: 2800 | BB18: 700 | BC18: 600 | BD18: 10000 | BE18: 5000 | BF18: 49100
A19: 고양일산 | B19: 283652 | C19: 300503.05 | D19: 105.94075 | E19: 17 | F19: 12.6 | G19: 11 | H19: 13.5 | I19: 13.05 | J19: 44632 | K19: 46036.288 | L19: 103.14637 | M19: 11 | N19: 13.5 | O19: 15 | P19: 12.9 | Q19: 13.2 | R19: 19.968 | S19: 12 | T19: 17.8 | U19: 8014 | V19: 7368 | W19: 91.939107 | X19: 20 | Y19: 12.15 | Z19: 13 | AA19: 13.2 | AB19: 12.675 | AC19: 4450 | AD19: 3117 | AE19: 70.044944 | AF19: 21 | AG19: 12 | AH19: 18 | AI19: 12.45 | AJ19: 12.225 | AK19: 41808.628 | AL19: 29795.9 | AM19: 71.267348 | AN19: 3 | AO19: 9.8 | AP19: 6 | AQ19: 9.5 | AR19: 9.65 | AS19: 6.7627551 | AT19: 22 | AU19: 7.9 | AV19: 86.5 | AW19: 18 | AX19: 9 | AY19: 25000 | AZ19: 1800 | BA19: 2000 | BB19: 600 | BC19: 550 | BD19: 8000 | BE19: 4500 | BF19: 42400
A20: 고양덕양 | B20: 235233 | C20: 249995.12 | D20: 106.27553 | E20: 15 | F20: 12.9 | G20: 17 | H20: 12.6 | I20: 12.75 | J20: 45481 | K20: 45728.475 | L20: 100.54413 | M20: 21 | N20: 12 | O20: 16 | P20: 12.75 | Q20: 12.375 | R20: 19.9658 | S20: 13 | T20: 17.6 | U20: 6221 | V20: 5984 | W20: 96.190323 | X20: 9 | Y20: 13.8 | Z20: 19 | AA20: 12.3 | AB20: 13.05 | AC20: 3902 | AD20: 3378 | AE20: 86.570989 | AF20: 11 | AG20: 13.5 | AH20: 16 | AI20: 12.75 | AJ20: 13.125 | AK20: 24654.191 | AL20: 16020.38 | AM20: 64.980351 | AN20: 20 | AO20: 8.1 | AP20: 20 | AQ20: 8.1 | AR20: 8.1 | AS20: 6.7462828 | AT20: 23 | AU20: 7.8 | AV20: 84.8 | AW20: 21 | AX20: 10 | AY20: 23000 | AZ20: 1900 | BA20: 2200 | BB20: 600 | BC20: 500 | BD20: 7000 | BE20: 4000 | BF20: 39100
A21: 시흥 | B21: 136542 | C21: 151738.45 | D21: 111.1295 | E21: 6 | F21: 14.25 | G21: 23 | H21: 11.7 | I21: 12.975 | J21: 45129 | K21: 44943.262 | L21: 99.588429 | M21: 24 | N21: 11.55 | O21: 17 | P21: 12.6 | Q21: 12.075 | R21: 19.9658 | S21: 13 | T21: 17.6 | U21: 7807 | V21: 7086 | W21: 90.764698 | X21: 22 | Y21: 11.85 | Z21: 14 | AA21: 13.05 | AB21: 12.45 | AC21: 3938 | AD21: 2715 | AE21: 68.943626 | AF21: 22 | AG21: 11.85 | AH21: 23 | AI21: 11.7 | AJ21: 11.775 | AK21: 14227.956 | AL21: 9450.38 | AM21: 66.421206 | AN21: 12 | AO21: 8.9 | AP21: 23 | AQ21: 7.8 | AR21: 8.35 | AS21: 6.9059876 | AT21: 19 | AU21: 8.2 | AV21: 83.425 | AW21: 24 | AX21: 6 | AY21: 23000 | AZ21: 1500 | BA21: 1500 | BB21: 500 | BC21: 500 | BD21: 7000 | BE21: 4000 | BF21: 37600
A22: 광명 | B22: 214468 | C22: 224448.35 | D22: 104.65354 | E22: 18 | F22: 12.45 | G22: 18 | H22: 12.45 | I22: 12.45 | J22: 40058 | K22: 39932.868 | L22: 99.687623 | M22: 22 | N22: 11.85 | O22: 18 | P22: 12.45 | Q22: 12.15 | R22: 19.9658 | S22: 13 | T22: 17.6 | U22: 5848 | V22: 5642 | W22: 96.477428 | X22: 6 | Y22: 14.25 | Z22: 20 | AA22: 12.15 | AB22: 13.2 | AC22: 3449 | AD22: 3072 | AE22: 89.069295 | AF22: 7 | AG22: 14.1 | AH22: 19 | AI22: 12.3 | AJ22: 13.2 | AK22: 21063.265 | AL22: 15050.44 | AM22: 71.453498 | AN22: 2 | AO22: 9.9 | AP22: 21 | AQ22: 8 | AR22: 8.95 | AS22: 6.853824 | AT22: 21 | AU22: 8 | AV22: 85.55 | AW22: 19 | AX22: 7 | AY22: 25000 | AZ22: 1500 | BA22: 1500 | BB22: 500 | BC22: 550 | BD22: 8000 | BE22: 4500 | BF22: 41550
A23: 용인수지 | B23: 290939 | C23: 297828.35 | D23: 102.36797 | E23: 22 | F23: 11.85 | G23: 12 | H23: 13.35 | I23: 12.6 | J23: 27673 | K23: 32018.716 | L23: 115.70381 | M23: 5 | N23: 14.4 | O23: 24 | P23: 11.55 | Q23: 12.975 | R23: 19.936 | S23: 23 | T23: 15.6 | U23: 6358 | V23: 6316 | W23: 99.339415 | X23: 1 | Y23: 15 | Z23: 18 | AA23: 12.45 | AB23: 13.725 | AC23: 3390 | AD23: 3191 | AE23: 94.129794 | AF23: 5 | AG23: 14.4 | AH23: 17 | AI23: 12.6 | AJ23: 13.5 | AK23: 53514.333 | AL23: 35104.26 | AM23: 65.597866 | AN23: 15 | AO23: 8.6 | AP23: 2 | AQ23: 9.9 | AR23: 9.25 | AS23: 7.2095132 | AT23: 8 | AU23: 9.3 | AV23: 86.95 | AW23: 17 | AX23: 6 | AY23: 25000 | AZ23: 1500 | BA23: 1500 | BB23: 500 | BC23: 550 | BD23: 8000 | BE23: 4500 | BF23: 41150
A24: 남양주 | B24: 131656 | C24: 143413.31 | D24: 108.93033 | E24: 12 | F24: 13.35 | G24: 24 | H24: 11.55 | I24: 12.45 | J24: 31530 | K24: 32493.932 | L24: 103.05719 | M24: 13 | N24: 13.2 | O24: 23 | P24: 11.7 | Q24: 12.45 | R24: 19.9829 | S24: 6 | T24: 19 | U24: 6012 | V24: 5453 | W24: 90.701929 | X24: 23 | Y24: 11.7 | Z24: 23 | AA24: 11.7 | AB24: 11.7 | AC24: 4055 | AD24: 2917 | AE24: 71.935882 | AF24: 19 | AG24: 12.3 | AH24: 22 | AI24: 11.85 | AJ24: 12.075 | AK24: 24521.123 | AL24: 16320.4 | AM24: 66.556495 | AN24: 10 | AO24: 9.1 | AP24: 19 | AQ24: 8.2 | AR24: 8.65 | AS24: 7.092625 | AT24: 12 | AU24: 8.9 | AV24: 85.225 | AW24: 20 | AX24: 11 | AY24: 25000 | AZ24: 2000 | BA24: 2500 | BB24: 600 | BC24: 550 | BD24: 8000 | BE24: 4500 | BF24: 43150
... A43: 구리 | B43: 136792 | C43: 146198.67 | D43: 106.87662 | E43: 14 | F43: 13.05 | G43: 1 | H43: 15 | I43: 14.025 | J43: 22641 | K43: 23558.025 | L43: 104.05029 | M43: 6 | N43: 14.25 | O43: 4 | P43: 14.55 | Q43: 14.4 | R43: 19.9316 | S43: 12 | T43: 17.8 | U43: 3910 | V43: 3837 | W43: 98.132992 | X43: 1 | Y43: 15 | Z43: 1 | AA43: 15 | AB43: 15 | AC43: 2081 | AD43: 2175 | AE43: 104.51706 | AF43: 1 | AG43: 15 | AH43: 2 | AI43: 14.85 | AJ43: 14.925 | AK43: 15428.44 | AL43: 10249.88 | AM43: 66.434972 | AN43: 12 | AO43: 8.9 | AP43: 7 | AQ43: 9.4 | AR43: 9.15 | AS43: 6.9891086 | AT43: 7 | AU43: 9.4 | AV43: 94.7 | AW43: 6 | AX43: 5 | AY43: 22000 | AZ43: 1300 | BA43: 1200 | BB43: 400 | BC43: 600 | BD43: 10000 | BE43: 4500 | BF43: 39650
A44: 합 계 | B44: 8321000 | C44: 8978492.4 | D44: 4270.0915 | E44: 419 | F44: 528 | G44: 428 | H44: 526.65 | J44: 1661000 | K44: 1777687 | L44: 4124.4714 | M44: 427 | N44: 526.8 | O44: 427 | P44: 526.8 | R44: 778.5197 | S44: 414 | U44: 250000 | V44: 237619 | W44: 3696.7168 | X44: 414 | Y44: 528.75 | Z44: 430 | AA44: 526.35 | AC44: 149449 | AD44: 125899 | AE44: 3297.4764 | AF44: 411 | AG44: 529.2 | AH44: 427 | AI44: 526.8 | AJ44: 528 | AK44: 1044000.3 | AL44: 711668.65 | AM44: 2728.6475 | AN44: 430 | AO44: 350.9 | AP44: 418 | AQ44: 352.1 | AR44: 351.5 | AS44: 273.16989 | AT44: 424 | AU44: 351.5 | AV44: 3517.675 | AY44: =SUM(AY4:AY43) -> 1000000 | AZ44: =SUM(AZ4:AZ43) -> 75916 | BA44: =SUM(BA4:BA43) -> 80000 | BB44: =SUM(BB4:BB43) -> 22000 | BC44: =SUM(BC4:BC43) -> 25000 | BD44: 400000 | BE44: 200000 | BF44: 1802916

Sheet Sheet3

Sheet 예산 배정
B2: 우체국예금 하반기 마케팅 활성화 예산 배정내역
F3: (단위 : 천 원)
B4: 구 분 | C4: 5231-362(예금영업지원) | F4: 비 고
C5: 210-01 (일반수용비) | D5: 310-03 (포상금) | E5: 소 계
B6: 인천 | C6: =VLOOKUP(B6,'평가 내역'!$A$5:$AA$45,26,FALSE) -> 11000 | D6: =VLOOKUP(B6,'평가 내역'!$A$5:$AA$45,27,FALSE) -> 7000 | E6: =SUM(C6:D6) -> 18000
B7: 서인천 | C7: =VLOOKUP(B7,'평가 내역'!$A$5:$AA$45,26,FALSE) -> 9200 | D7: =VLOOKUP(B7,'평가 내역'!$A$5:$AA$45,27,FALSE) -> 5500 | E7: =SUM(C7:D7) -> 14700
B8: 인천계양 | C8: =VLOOKUP(B8,'평가 내역'!$A$5:$AA$45,26,FALSE) -> 8600 | D8: =VLOOKUP(B8,'평가 내역'!$A$5:$AA$45,27,FALSE) -> 5000 | E8: =SUM(C8:D8) -> 13600
B9: 남인천 | C9: =VLOOKUP(B9,'평가 내역'!$A$5:$AA$45,26,FALSE) -> 11000 | D9: =VLOOKUP(B9,'평가 내역'!$A$5:$AA$45,27,FALSE) -> 7000 | E9: =SUM(C9:D9) -> 18000
B10: 인천남동 | C10: =VLOOKUP(B10,'평가 내역'!$A$5:$AA$45,26,FALSE) -> 11000 | D10: =VLOOKUP(B10,'평가 내역'!$A$5:$AA$45,27,FALSE) -> 7000 | E10: =SUM(C10:D10) -> 18000
B11: 의정부 | C11: =VLOOKUP(B11,'평가 내역'!$A$5:$AA$45,26,FALSE) -> 9800 | D11: =VLOOKUP(B11,'평가 내역'!$A$5:$AA$45,27,FALSE) -> 6000 | E11: =SUM(C11:D11) -> 15800
B12: 부평 | C12: =VLOOKUP(B12,'평가 내역'!$A$5:$AA$45,26,FALSE) -> 10400 | D12: =VLOOKUP(B12,'평가 내역'!$A$5:$AA$45,27,FALSE) -> 6500 | E12: =SUM(C12:D12) -> 16900
B13: 수원 | C13: =VLOOKUP(B13,'평가 내역'!$A$5:$AA$45,26,FALSE) -> 10400 | D13: =VLOOKUP(B13,'평가 내역'!$A$5:$AA$45,27,FALSE) -> 6500 | E13: =SUM(C13:D13) -> 16900
B14: 동수원 | C14: =VLOOKUP(B14,'평가 내역'!$A$5:$AA$45,26,FALSE) -> 9800 | D14: =VLOOKUP(B14,'평가 내역'!$A$5:$AA$45,27,FALSE) -> 6000 | E14: =SUM(C14:D14) -> 15800
B15: 서수원 | C15: =VLOOKUP(B15,'평가 내역'!$A$5:$AA$45,26,FALSE) -> 8000 | D15: =VLOOKUP(B15,'평가 내역'!$A$5:$AA$45,27,FALSE) -> 4500 | E15: =SUM(C15:D15) -> 12500
B16: 군포 | C16: =VLOOKUP(B16,'평가 내역'!$A$5:$AA$45,26,FALSE) -> 8600 | D16: =VLOOKUP(B16,'평가 내역'!$A$5:$AA$45,27,FALSE) -> 5000 | E16: =SUM(C16:D16) -> 13600
B17: 안양 | C17: =VLOOKUP(B17,'평가 내역'!$A$5:$AA$45,26,FALSE) -> 10400 | D17: =VLOOKUP(B17,'평가 내역'!$A$5:$AA$45,27,FALSE) -> 6500 | E17: =SUM(C17:D17) -> 16900
... B46: 하남 | C46: =VLOOKUP(B46,'평가 내역'!$A$5:$AA$45,26,FALSE) -> 6000 | D46: =VLOOKUP(B46,'평가 내역'!$A$5:$AA$45,27,FALSE) -> 3500 | E46: =SUM(C46:D46) -> 9500
B47: 합 계 | C47: =SUM(C6:C46) -> 361000 | D47: =SUM(D6:D46) -> 217000 | E47: =SUM(E6:E46) -> 578000

Sheet 평가 내역
A1: 총괄국별 예산 배정 내역
AA2: (단위 : 백만원, %, 점)
A3: 국 명 | B3: 예금총수신고(10) | F3: 요구불예금수신고(40) | L3: 체크카드(30) | R3: 스마트금융(20) | X3: 합계 (A+B+C+D) | Y3: 순위 | Z3: 5231-362-210-01 수용비 (천원) | AA3: 5231-362-310-03 포상금 (천원)
B4: 목표 | C4: 실적 | D4: 달성율 | E4: 점수 A | F4: 목표 | G4: 실적 | H4: 달성율 | I4: 실적 점유비 (20) | J4: 달성율(%) (20) | K4: 소계 (40) B | L4: 목표 | M4: 실적 | N4: 달성율 | O4: 실적 점유비 (15) | P4: 달성율(%) (15) | Q4: 소계 (30) C | R4: 목표 | S4: 실적 | T4: 달성율 | U4: 실적 점유비 (10) | V4: 달성율(%) (10) | W4: 소계 (20) D
A5: 남인천 | B5: =VLOOKUP(A5,총수신고!$C$6:$I$45,2,FALSE) -> 451356 | C5: =VLOOKUP(A5,총수신고!$C$6:$I$45,4,FALSE) -> 473815.46 | D5: =(C5/B5)*100 -> 104.976 | E5: =D5*10/MAX($D$5:$D$45) -> 8.8318635 | F5: =VLOOKUP(A5,총수신고!$M$6:$U$45,2,FALSE) -> 119184 | G5: =VLOOKUP(A5,총수신고!$M$6:$U$45,4,FALSE) -> 127936.35 | H5: =(G5/F5)*100 -> 107.34356 | I5: =G5*20/MAX($G$5:$G$45) -> 20 | J5: =H5*20/MAX($H$5:$H$45) -> 19.161543 | K5: =SUM(I5:J5) -> 39.161543 | L5: =VLOOKUP(A5,체크카드!$A$5:$D$44,2,FALSE) -> 471032 | M5: =VLOOKUP(A5,체크카드!$A$5:$D$44,3,FALSE) -> 237153.94 | N5: =(M5/L5)*100 -> 50.347735 | O5: =M5*15/MAX($M$5:$M$45) -> 12.488143 | P5: =N5*15/MAX($N$5:$N$45) -> 10.147782 | Q5: =SUM(O5:P5) -> 22.635925 | R5: =VLOOKUP(A5,스마트금융!$A$5:$D$45,2,FALSE) -> 17231 | S5: =VLOOKUP(A5,스마트금융!$A$5:$D$45,3,FALSE) -> 16819 | T5: =(S5/R5)*100 -> 97.608961 | U5: =S5*10/MAX($S$5:$S$45) -> 10 | V5: =T5*10/MAX($T$5:$T$45) -> 9.5905697 | W5: =SUM(U5:V5) -> 19.59057 | X5: =SUM(E5,K5,Q5,W5) -> 90.219901 | Y5: =RANK(X5,$X$5:$X$45) -> 1 | Z5: 11000 | AA5: 7000
A6: 안산 | B6: =VLOOKUP(A6,총수신고!$C$6:$I$45,2,FALSE) -> 311482 | C6: =VLOOKUP(A6,총수신고!$C$6:$I$45,4,FALSE) -> 330344.59 | D6: =(C6/B6)*100 -> 106.05576 | E6: =D6*10/MAX($D$5:$D$45) -> 8.9227061 | F6: =VLOOKUP(A6,총수신고!$M$6:$U$45,2,FALSE) -> 88189 | G6: =VLOOKUP(A6,총수신고!$M$6:$U$45,4,FALSE) -> 87545.718 | H6: =(G6/F6)*100 -> 99.270565 | I6: =G6*20/MAX($G$5:$G$45) -> 13.685824 | J6: =H6*20/MAX($H$5:$H$45) -> 17.720459 | K6: =SUM(I6:J6) -> 31.406283 | L6: =VLOOKUP(A6,체크카드!$A$5:$D$44,2,FALSE) -> 492000 | M6: =VLOOKUP(A6,체크카드!$A$5:$D$44,3,FALSE) -> 284854.93 | N6: =(M6/L6)*100 -> 57.897343 | O6: =M6*15/MAX($M$5:$M$45) -> 15 | P6: =N6*15/MAX($N$5:$N$45) -> 11.669435 | Q6: =SUM(O6:P6) -> 26.669435 | R6: =VLOOKUP(A6,스마트금융!$A$5:$D$45,2,FALSE) -> 14498 | S6: =VLOOKUP(A6,스마트금융!$A$5:$D$45,3,FALSE) -> 13966 | T6: =(S6/R6)*100 -> 96.330528 | U6: =S6*10/MAX($S$5:$S$45) -> 8.3037041 | V6: =T6*10/MAX($T$5:$T$45) -> 9.4649573 | W6: =SUM(U6:V6) -> 17.768661 | X6: =SUM(E6,K6,Q6,W6) -> 84.767086 | Y6: =RANK(X6,$X$5:$X$45) -> 2 | Z6: 11000 | AA6: 7000
A7: 부천 | B7: =VLOOKUP(A7,총수신고!$C$6:$I$45,2,FALSE) -> 434890 | C7: =VLOOKUP(A7,총수신고!$C$6:$I$45,4,FALSE) -> 461871.72 | D7: =(C7/B7)*100 -> 106.20426 | E7: =D7*10/MAX($D$5:$D$45) -> 8.9352003 | F7: =VLOOKUP(A7,총수신고!$M$6:$U$45,2,FALSE) -> 103016 | G7: =VLOOKUP(A7,총수신고!$M$6:$U$45,4,FALSE) -> 105215.5 | H7: =(G7/F7)*100 -> 102.13511 | I7: =G7*20/MAX($G$5:$G$45) -> 16.448101 | J7: =H7*20/MAX($H$5:$H$45) -> 18.231799 | K7: =SUM(I7:J7) -> 34.6799 | L7: =VLOOKUP(A7,체크카드!$A$5:$D$44,2,FALSE) -> 375649 | M7: =VLOOKUP(A7,체크카드!$A$5:$D$44,3,FALSE) -> 187597.43 | N7: =(M7/L7)*100 -> 49.939553 | O7: =M7*15/MAX($M$5:$M$45) -> 9.8785775 | P7: =N7*15/MAX($N$5:$N$45) -> 10.065511 | Q7: =SUM(O7:P7) -> 19.944088 | R7: =VLOOKUP(A7,스마트금융!$A$5:$D$45,2,FALSE) -> 15679 | S7: =VLOOKUP(A7,스마트금융!$A$5:$D$45,3,FALSE) -> 15720 | T7: =(S7/R7)*100 -> 100.2615 | U7: =S7*10/MAX($S$5:$S$45) -> 9.3465723 | V7: =T7*10/MAX($T$5:$T$45) -> 9.8511946 | W7: =SUM(U7:V7) -> 19.197767 | X7: =SUM(E7,K7,Q7,W7) -> 82.756956 | Y7: =RANK(X7,$X$5:$X$45) -> 3 | Z7: 11000 | AA7: 7000
A8: 인천 | B8: =VLOOKUP(A8,총수신고!$C$6:$I$45,2,FALSE) -> 317089 | C8: =VLOOKUP(A8,총수신고!$C$6:$I$45,4,FALSE) -> 331940.04 | D8: =(C8/B8)*100 -> 104.68355 | E8: =D8*10/MAX($D$5:$D$45) -> 8.8072598 | F8: =VLOOKUP(A8,총수신고!$M$6:$U$45,2,FALSE) -> 73235 | G8: =VLOOKUP(A8,총수신고!$M$6:$U$45,4,FALSE) -> 68177.165 | H8: =(G8/F8)*100 -> 93.093692 | I8: =G8*20/MAX($G$5:$G$45) -> 10.657982 | J8: =H8*20/MAX($H$5:$H$45) -> 16.617846 | K8: =SUM(I8:J8) -> 27.275828 | L8: =VLOOKUP(A8,체크카드!$A$5:$D$44,2,FALSE) -> 302599 | M8: =VLOOKUP(A8,체크카드!$A$5:$D$44,3,FALSE) -> 225199.58 | N8: =(M8/L8)*100 -> 74.421785 | O8: =M8*15/MAX($M$5:$M$45) -> 11.858646 | P8: =N8*15/MAX($N$5:$N$45) -> 15 | Q8: =SUM(O8:P8) -> 26.858646 | R8: =VLOOKUP(A8,스마트금융!$A$5:$D$45,2,FALSE) -> 10583 | S8: =VLOOKUP(A8,스마트금융!$A$5:$D$45,3,FALSE) -> 10145 | T8: =(S8/R8)*100 -> 95.861287 | U8: =S8*10/MAX($S$5:$S$45) -> 6.0318687 | V8: =T8*10/MAX($T$5:$T$45) -> 9.418852 | W8: =SUM(U8:V8) -> 15.450721 | X8: =SUM(E8,K8,Q8,W8) -> 78.392454 | Y8: =RANK(X8,$X$5:$X$45) -> 4 | Z8: 11000 | AA8: 7000
A9: 평택 | B9: =VLOOKUP(A9,총수신고!$C$6:$I$45,2,FALSE) -> 364169 | C9: =VLOOKUP(A9,총수신고!$C$6:$I$45,4,FALSE) -> 385837.58 | D9: =(C9/B9)*100 -> 105.95014 | E9: =D9*10/MAX($D$5:$D$45) -> 8.9138207 | F9: =VLOOKUP(A9,총수신고!$M$6:$U$45,2,FALSE) -> 85242 | G9: =VLOOKUP(A9,총수신고!$M$6:$U$45,4,FALSE) -> 85783.333 | H9: =(G9/F9)*100 -> 100.63505 | I9: =G9*20/MAX($G$5:$G$45) -> 13.410314 | J9: =H9*20/MAX($H$5:$H$45) -> 17.96403 | K9: =SUM(I9:J9) -> 31.374344 | L9: =VLOOKUP(A9,체크카드!$A$5:$D$44,2,FALSE) -> 370979 | M9: =VLOOKUP(A9,체크카드!$A$5:$D$44,3,FALSE) -> 188527.19 | N9: =(M9/L9)*100 -> 50.81883 | O9: =M9*15/MAX($M$5:$M$45) -> 9.9275369 | P9: =N9*15/MAX($N$5:$N$45) -> 10.242733 | Q9: =SUM(O9:P9) -> 20.17027 | R9: =VLOOKUP(A9,스마트금융!$A$5:$D$45,2,FALSE) -> 10119 | S9: =VLOOKUP(A9,스마트금융!$A$5:$D$45,3,FALSE) -> 9936 | T9: =(S9/R9)*100 -> 98.191521 | U9: =S9*10/MAX($S$5:$S$45) -> 5.9076045 | V9: =T9*10/MAX($T$5:$T$45) -> 9.6478092 | W9: =SUM(U9:V9) -> 15.555414 | X9: =SUM(E9,K9,Q9,W9) -> 76.013848 | Y9: =RANK(X9,$X$5:$X$45) -> 5 | Z9: 11000 | AA9: 7000
A10: 성남 | B10: =VLOOKUP(A10,총수신고!$C$6:$I$45,2,FALSE) -> 354661 | C10: =VLOOKUP(A10,총수신고!$C$6:$I$45,4,FALSE) -> 378428.32 | D10: =(C10/B10)*100 -> 106.70142 | E10: =D10*10/MAX($D$5:$D$45) -> 8.9770271 | F10: =VLOOKUP(A10,총수신고!$M$6:$U$45,2,FALSE) -> 88844 | G10: =VLOOKUP(A10,총수신고!$M$6:$U$45,4,FALSE) -> 89468.127 | H10: =(G10/F10)*100 -> 100.7025 | I10: =G10*20/MAX($G$5:$G$45) -> 13.98635 | J10: =H10*20/MAX($H$5:$H$45) -> 17.976069 | K10: =SUM(I10:J10) -> 31.962419 | L10: =VLOOKUP(A10,체크카드!$A$5:$D$44,2,FALSE) -> 319800 | M10: =VLOOKUP(A10,체크카드!$A$5:$D$44,3,FALSE) -> 155942.8 | N10: =(M10/L10)*100 -> 48.762601 | O10: =M10*15/MAX($M$5:$M$45) -> 8.2116956 | P10: =N10*15/MAX($N$5:$N$45) -> 9.8282917 | Q10: =SUM(O10:P10) -> 18.039987 | R10: =VLOOKUP(A10,스마트금융!$A$5:$D$45,2,FALSE) -> 10603 | S10: =VLOOKUP(A10,스마트금융!$A$5:$D$45,3,FALSE) -> 10492 | T10: =(S10/R10)*100 -> 98.953126 | U10: =S10*10/MAX($S$5:$S$45) -> 6.238183 | V10: =T10*10/MAX($T$5:$T$45) -> 9.7226407 | W10: =SUM(U10:V10) -> 15.960824 | X10: =SUM(E10,K10,Q10,W10) -> 74.940257 | Y10: =RANK(X10,$X$5:$X$45) -> 6 | Z10: 10400 | AA10: 6500
A11: 부평 | B11: =VLOOKUP(A11,총수신고!$C$6:$I$45,2,FALSE) -> 335902 | C11: =VLOOKUP(A11,총수신고!$C$6:$I$45,4,FALSE) -> 352795.66 | D11: =(C11/B11)*100 -> 105.02934 | E11: =D11*10/MAX($D$5:$D$45) -> 8.8363516 | F11: =VLOOKUP(A11,총수신고!$M$6:$U$45,2,FALSE) -> 82878 | G11: =VLOOKUP(A11,총수신고!$M$6:$U$45,4,FALSE) -> 82572.821 | H11: =(G11/F11)*100 -> 99.631773 | I11: =G11*20/MAX($G$5:$G$45) -> 12.908422 | J11: =H11*20/MAX($H$5:$H$45) -> 17.784937 | K11: =SUM(I11:J11) -> 30.69336 | L11: =VLOOKUP(A11,체크카드!$A$5:$D$44,2,FALSE) -> 290833 | M11: =VLOOKUP(A11,체크카드!$A$5:$D$44,3,FALSE) -> 146866.1 | N11: =(M11/L11)*100 -> 50.498429 | O11: =M11*15/MAX($M$5:$M$45) -> 7.7337312 | P11: =N11*15/MAX($N$5:$N$45) -> 10.178155 | Q11: =SUM(O11:P11) -> 17.911886 | R11: =VLOOKUP(A11,스마트금융!$A$5:$D$45,2,FALSE) -> 10878 | S11: =VLOOKUP(A11,스마트금융!$A$5:$D$45,3,FALSE) -> 10632 | T11: =(S11/R11)*100 -> 97.738555 | U11: =S11*10/MAX($S$5:$S$45) -> 6.3214222 | V11: =T11*10/MAX($T$5:$T$45) -> 9.603303 | W11: =SUM(U11:V11) -> 15.924725 | X11: =SUM(E11,K11,Q11,W11) -> 73.366322 | Y11: =RANK(X11,$X$5:$X$45) -> 7 | Z11: 10400 | AA11: 6500
A12: 성남분당 | B12: =VLOOKUP(A12,총수신고!$C$6:$I$45,2,FALSE) -> 676977 | C12: =VLOOKUP(A12,총수신고!$C$6:$I$45,4,FALSE) -> 804658.43 | D12: =(C12/B12)*100 -> 118.86053 | E12: =D12*10/MAX($D$5:$D$45) -> 10 | F12: =VLOOKUP(A12,총수신고!$M$6:$U$45,2,FALSE) -> 70406 | G12: =VLOOKUP(A12,총수신고!$M$6:$U$45,4,FALSE) -> 78883.321 | H12: =(G12/F12)*100 -> 112.04062 | I12: =G12*20/MAX($G$5:$G$45) -> 12.331651 | J12: =H12*20/MAX($H$5:$H$45) -> 20 | K12: =SUM(I12:J12) -> 32.331651 | L12: =VLOOKUP(A12,체크카드!$A$5:$D$44,2,FALSE) -> 169310 | M12: =VLOOKUP(A12,체크카드!$A$5:$D$44,3,FALSE) -> 92933.097 | N12: =(M12/L12)*100 -> 54.889314 | O12: =M12*15/MAX($M$5:$M$45) -> 4.8937067 | P12: =N12*15/MAX($N$5:$N$45) -> 11.063155 | Q12: =SUM(O12:P12) -> 15.956861 | R12: =VLOOKUP(A12,스마트금융!$A$5:$D$45,2,FALSE) -> 7629 | S12: =VLOOKUP(A12,스마트금융!$A$5:$D$45,3,FALSE) -> 7392 | T12: =(S12/R12)*100 -> 96.893433 | U12: =S12*10/MAX($S$5:$S$45) -> 4.3950294 | V12: =T12*10/MAX($T$5:$T$45) -> 9.5202655 | W12: =SUM(U12:V12) -> 13.915295 | X12: =SUM(E12,K12,Q12,W12) -> 72.203807 | Y12: =RANK(X12,$X$5:$X$45) -> 8 | Z12: 10400 | AA12: 6500
A13: 수원 | B13: =VLOOKUP(A13,총수신고!$C$6:$I$45,2,FALSE) -> 352943 | C13: =VLOOKUP(A13,총수신고!$C$6:$I$45,4,FALSE) -> 369263.32 | D13: =(C13/B13)*100 -> 104.62407 | E13: =D13*10/MAX($D$5:$D$45) -> 8.8022549 | F13: =VLOOKUP(A13,총수신고!$M$6:$U$45,2,FALSE) -> 68028 | G13: =VLOOKUP(A13,총수신고!$M$6:$U$45,4,FALSE) -> 71589.543 | H13: =(G13/F13)*100 -> 105.23541 | I13: =G13*20/MAX($G$5:$G$45) -> 11.191431 | J13: =H13*20/MAX($H$5:$H$45) -> 18.785224 | K13: =SUM(I13:J13) -> 29.976655 | L13: =VLOOKUP(A13,체크카드!$A$5:$D$44,2,FALSE) -> 243728 | M13: =VLOOKUP(A13,체크카드!$A$5:$D$44,3,FALSE) -> 126301.71 | N13: =(M13/L13)*100 -> 51.820765 | O13: =M13*15/MAX($M$5:$M$45) -> 6.6508442 | P13: =N13*15/MAX($N$5:$N$45) -> 10.444677 | Q13: =SUM(O13:P13) -> 17.095521 | R13: =VLOOKUP(A13,스마트금융!$A$5:$D$45,2,FALSE) -> 10330 | S13: =VLOOKUP(A13,스마트금융!$A$5:$D$45,3,FALSE) -> 10222 | T13: =(S13/R13)*100 -> 98.954501 | U13: =S13*10/MAX($S$5:$S$45) -> 6.0776503 | V13: =T13*10/MAX($T$5:$T$45) -> 9.7227758 | W13: =SUM(U13:V13) -> 15.800426 | X13: =SUM(E13,K13,Q13,W13) -> 71.674857 | Y13: =RANK(X13,$X$5:$X$45) -> 9 | Z13: 10400 | AA13: 6500
